Workbook

Sheet Saturs
A1: Nr. | B1: Nosaukums | C1: Skaits*** | D1: Vērtējamā summa (A), maksimālais punktu skaits | E1: Jānorāda Preces ražotāja noteiktais preces paredamais lietošanas ilgums (gados) (B), maksimālais punktu skaits | F1: Preces/ iekārtas elektroenerģijas patēriņš vai Preces/Iekārtas energoefektivitāte (C), maksimālais punktu skaits | G1: Kopā
A2: 1. | B2: Jaundzimušo sildītājs ar ūdens matraci | C2: 5 | D2: 80 | E2: 10 | F2: 10 | G2: =SUM(D2:F2) -> 100
A3: 2. | B3: Transkutāns CO2 monitors | C3: 1 | D3: 80 | E3: 10 | F3: 10 | G3: =SUM(D3:F3) -> 100
A4: 3. | B4: Fototerapijas lampa jaundzimušajiem | C4: 2 | D4: 80 | E4: 10 | F4: 10 | G4: =SUM(D4:F4) -> 100
A5: 4. | B5: Jaundzimušo apsildāmā lampa | C5: 2 | D5: 80 | E5: 10 | F5: 10 | G5: =SUM(D5:F5) -> 100
A6: 5. | B6: Infūzijas sūkņu un perfuzoru stacija magnētiskās rezonanses kabinetam | C6: 1 | D6: 80 | E6: 10 | F6: 10 | G6: =SUM(D6:F6) -> 100
A7: 6. | B7: Transkutānais CO2 monitorēšanas modulis | C7: 1 | D7: 100 | E7: 0 | F7: 0 | G7: =SUM(D7:F7) -> 100
A8: 7. | B8: Skābekļa blenderis augstas plūsmas | C8: 2 | D8: 100 | E8: 0 | F8: 0 | G8: =SUM(D8:F8) -> 100
A9: 8. | B9: Fibrooptiskais laringoskops | C9: 10 | D9: 100 | E9: 0 | F9: 0 | G9: =SUM(D9:F9) -> 100
A10: 9. | B10: Transporta kapnogrāfs | C10: 1 | D10: 100 | E10: 0 | F10: 0 | G10: =SUM(D10:F10) -> 100

Sheet Obl.pras.
A1: nr. | B1: Obligātās prsības iekārtām un iesniegtajam piedāvājumam | C1: Pretendenta piedāvājums, atsauce uz informatīvo materiālu (Informatīvā materiāla nosaukums, lpp.)
C3: 1. pozīcija - Jaundzimušo sildītājs ar ūdens matraci | D3: 2.pozīcija - Transkutāns CO2 monitors | E3: 3. pozīcija - Fototerapijas lampa jaundzimušajiem | F3: 4. pozīcija - Jaundzimušo apsildāmā lampa | G3: 5.pozīcija - Infūzijas sūkņu un perfuzoru stacija magnētiskās rezonanses kabinetam | H3: 6. pozīcija - Transkutānais CO2 monitorēšanas modulis | I3: 7. pozīcija - Skābekļa blenderis augstas plūsmas | J3: 9. pozīcija - Fibrooptiskais laringoskops | K3: 8. pozīcija - Transporta kapnogrāfs
A4: Piemērs | B4: Piemērs | C4: Ražotāja apliecinājums 1, 1.lpp | D4: Ražotāja apliecinājums 1, 1.lpp | E4: Ražotāja apliecinājums 1, 1.lpp | F4: Ražotāja apliecinājums 1, 1.lpp | G4: Ražotāja apliecinājums 1, 1.lpp | H4: Ražotāja apliecinājums 1, 1.lpp | I4: Ražotāja apliecinājums 1, 1.lpp | J4: Ražotāja apliecinājums 1, 1.lpp | K4: Informatīvais materiāls 2, 4.lpp
A5: Piedāvājumam jāpievieno:
A6: 1 | B6: Preces ražotāja izsniegta autorizācijas vēstule, kas apliecina, ka pretendents ir tiesīgs izplatīt un nodrošināt tehnisko apkalpošanu* (ja attiecināms) piedāvātai Precei Latvijas Republikā. Vai arī ražotāja apliecinājums, ka autorizācija nav nepieciešama.
A7: 2 | B7: Piedāvātas Preces atbilstības deklarācijas kopija. (Ja piedāvātās sistēmas komplektācija sastāv no vairākām iekārtām nepieciešams iesniegt atbilstības deklarācijas kopiju par katru iekārtu)
A8: 3 | B8: Piedāvātas Preces CE sertifikāta kopija, ja attiecināms. (Ja piedāvātās sistēmas komplektācija sastāv no vairākām iekārtām nepieciešams iesniegt CE sertifikāta kopiju par katru iekārtu, ja attiecināms)
A9: 4 | B9: Ja ražotājs ir paredzējis, ka periodiski veicamos darbus** un/vai remontu var veikt tikai sertificēts inženieris, piesakoties uz atbilstošo pozīciju, jāiesniedz atbilstošs inženiera sertifikāts par apmācībām, kurās norādīta atbilstība veikt konkrētā modeļa ierīču periodiskos darbus un/vai remontu vai iesniegt ražotāja apliecinājumu par Preces garantijas remonta un tehniskās apkalpošanas pasākumu, ja tādi ir nepieciešami, nodrošināšanas iespējām. (Ja piedāvātās sistēmas komplektācija sastāv no vairākām iekārtām nepieciešams iesniegt inženiera sertifikātu par katru iekārtu, ja attiecināms)
A10: 5 | B10: Ražotāja apstiprinātu periodiski veicamo darbu sarakstu, kā arī šo darbu periodiskumu (servisa rokasgrāmatas attiecīgās sadaļas ar ietvertu informāciju par veicamajām darbībām, to periodiskumu, mērāmajiem parametriem, to robežvērtībām, regulāri maināmajām rezerves daļām), ja ražotājs tādus ir paredzējis. Ja ražotājs nav paredzējis periodiski veicamos darbus, par to jāiesniedz ražotāja apliecinājums. Servisa rokasgrāmatas sadaļas var aizstāt ar ražotāja apstiprinātu dokumentu, kas ietver šajā punktā aprakstīto informāciju. (Ja piedāvātās sistēmas komplektācija sastāv no vairākām iekārtām nepieciešams iesniegt periodiski veicamo darbu sarakstu par katru iekārtu, ja attiecināms)
A11: 6 | B11: Piedāvājumā iesniegt iespējamās remontstundas un periodiski veicamo darbu izmaksas pēc garantijas periodā, ja ražotājs tādas ir paredzējis. (Ja piedāvātās sistēmas komplektācija sastāv no vairākām iekārtām nepieciešams iesniegt remontstundas un periodiski veicamo darbu izmaksas par katru iekārtu, ja attiecināms)
A12: 7 | B12: Nepieciešamības gadījumā nodrošināt ierīču aprobāciju un/vai paraugu demonstrāciju
A13: Prasības precei:
A14: 8 | B14: Piedāvātā Prece ir jauna, iepriekš nelietota un nav izmantota prezentācijās; tā nesatur iepriekš lietotas vai atjaunotas sastāvdaļas vai komponentes. Tā ir ražota ne agrāk kā 12 mēnešus pirms piegādes. | C14: Piedāvājot savu preci, pretendents apstiprina preces nosacījumu izpildi.
A15: 9 | B15: Piedāvātajām Precēm garantijas termiņš ir vismaz 24 mēneši no pieņemšanas – nodošanas akta abpusējas parakstīšanas brīža.
A16: 10 | B16: Garantijas laikā Piegādātājs bez papildus samaksas nodrošina ierīces remontu un periodiskos darbus atbilstoši ražotāja noteiktajām prasībām, ja ražotājs tādu ir paredzējis.
A17: 11 | B17: Garantijas laikā Piegādātājs bez papildus samaksas nodrošina konsultācijas un atkārtotas apmācības par Preci, kuras vada apmācīts speciālists, ja tādas ir nepieciešamas lietotājam.
A18: 12 | B18: Piedāvātā prece nedrīkst būt ražota Krievijā vai Baltkrievijā.
A19: 13 | B19: Prece tiek piegādāta ne ilgāk kā 60 dienu laikā, lūdzam norādīt iekārtas piegādes laiku. | C19: Norādīt piegādes laiku: | D19: Norādīt piegādes laiku: | E19: Norādīt piegādes laiku: | F19: Norādīt piegādes laiku: | G19: Norādīt piegādes laiku: | H19: Norādīt piegādes laiku: | I19: Norādīt piegādes laiku: | J19: Norādīt piegādes laiku: | K19: Norādīt piegādes laiku:
A20: Preces piegādes nosacījumi:
A21: 14 | B21: Piegādājot Preci, Piegādātājs nodod sekojošu dokumentāciju: medicīniskās ierīces lietošanas instrukcijas un citas dokumentācijas oriģinālvalodā un valsts valodā nodošanu (gan papīra, gan digitālā formātā) un vigilances sistēmas darbības izskaidrošanu lietotājam attiecībā uz konkrēto medicīnisko ierīci | C21: Piedāvājot savu preci, pretendents apstiprina preces piegādes nosacījumu izpildi.
A22: 15 | B22: Nododot Preci ekspluatācijā, piegādātājs nodrošina Preces uzstādīšanu, ierīces funkcionālo un elektrodrošības pārbaudi, kā arī funkciju testēšanu un ierīces kalibrēšanu(ja, uzsākot tās ekspluatāciju, tādas prasības paredzētas ierīces tehniskajā dokumentācijā), iesniedz domenentāciju par šo darbu izpildi.
A23: 16 | B23: Piegādājot preci piegādātās veic medicīniskās ierīces lietotāja apmācību un izsniedzot apliecinošu dokumentu, kurā norāda apmācīto personu, personu, kura veikusi apmācību, un apmācības veikšanas datumu; Piegādājot preci piegādātās veic medicīniskās ierīces tehniskajā dokumentācijā pieprasīto ierīces lietošanas vides raksturlielumu un garantētā elektroapgādes režīma pārbaudi un šo pierakstu nodošanu medicīniskās ierīces īpašniekam vai turētājam.
A24: 17 | B24: Piegādājot Preci, Piegādātājs nodrošina medicīniskās ierīces tehniskajā dokumentācijā pieprasīto ierīces lietošanas vides raksturlielumu un garantētā elektroapgādes režīma pārbaudi un šo pierakstu nodošanu pasūtītājam (Attiecināms uz Aktīvām IIa, aktīvām IIb un aktīvām III klases medicīnas ierīcēm ierīcēm, kurām ražotājs šādu pārbaudi ir noteicis)
A25: Tehniskās apkalpošanas nodrošināšanas nosacījumi
A26: 16 | B26: Visu veidu tehniskā apkalpošana tiek veikta tikai pēc Pasūtītāja pieprasījuma. | C26: Piedāvājot savu preci, pretendents apstiprina tehniskās apkalpošanas nodrošināšanas nosacījumu izpildi.
A27: 17 | B27: Visu veidu tehniskā apkalpošana tikai izņēmuma gadījumos notiek ārpus Slimnīcas teritorijas, iepriekš to saskaņojot ar Pasūtītāju. Ja autorizētais pārstāvis iekārtas tehnisko apkalpošanu nenodrošina uz vietas, bet ierīce tiek sūtīta ražotājam, tad to norādīt piedāvājumā.
A28: 18 | B28: Tehniskā uzraudzība jādokumentē atbilstoši ražotāja un 2023.gada 15.augusta Ministru kabineta noteikumu nr. 461 "Medicīnisko ierīču noteikumi" punktiem 45., 56., 59., norādot visas izmantotās mēriekārtas un mērīto lielumu robežvērtības, ja attiecināms.
A29: 19 | B29: Visu veidu tehniskā apkalpošana jādokumentē un jānoslēdz ar abpusēji parakstītu pieņemšanas/nodošanas vai servisa aktu.
A30: 20 | B30: Ierīces defektācija tiek veikta trīs darba dienu laikā no pieprasījuma saņemšanas, iesniedzot rakstisku atzinumu par ierīces tehnisko stāvokli. Darbības traucējumi tiek novērsti 5 darba dienu laikā no pieprasījuma saņemšanas vai defektācijas akta apstiprināšanas brīža. Par ilgāku bojājuma novēršanas izpildes laiku jāvienojas atsevišķi.
A31: 21 | B31: Ja iekārtas darbības atjaunošanai nepieciešama rezerves daļu nomaiņa, tad tiek sastādīts defektācijas akts un rezerves daļu nomaiņa tiek veikta tikai pēc defekta akta saskaņošanas ar Pasūtītāju.
A32: 22 | B32: Garantēt veikto darbu atbilstību ierīces ražotāja noteiktajiem standartiem un Latvijas Republikā spēkā esošajiem normatīvajiem aktiem, paredzot ne mazāk kā trīs mēnešu garantiju nomainītajām rezerves daļām, materiāliem un ar to nomaiņu saistītiem remontdarbiem.
A33: 23 | B33: Garantēt, ka tehnisko apkalpošanu veic ražotājs vai ražotāja atbilstoši apmācīts un sertificēts speciālists, ja ražotājs tā paredzējis.
A34: 24 | B34: Informēt Pasūtītāju gadījumos, ja ražotājs plāno pārtraukt tehnisko pavadību un tiklīdz ražotājs ir pārtraucis iekārtas tehnisko pavadību.
A35: 25 | B35: Servisa stundas likme ietver visas izmaksas (administratīvās, transporta, inženiera stundas likmi, servisam nepieciešamo instrumentu un materiālu (salvetes, skrūvju līme u.tml.) u.c.), izņemot rezerves daļu izmaksas, kas nepieciešamas, lai nodrošinātu vienu ierīces remonta/tehniskās apkalpošanas stundu. Laika uzskaites vienības - pusstunda vai stunda.
A36: 26 | B36: Periodiski veicamo darbu cenā ir ietvertas visas elektrodrošības un funkcionālās pārbaudes izmaksas, ja ražotājs tādas pārbaudes ir paredzējis.
A37: 27 | B37: Periodisko veicamo darbu veikšanai nepieciešamo piederumu (vienreizlietojamās sistēmas, kontūri u.tml.) izmaksas jāiekļauj pakalpojuma cenā.
A38: 28 | B38: Jānorāda paredzamais periodiski veicamo darbu ilgums, kas ir nepieciešams, lai varētu plānot ierīces pieejamību. Apmaksa par darba ilgumu tiks veikta pēc pieņemšanas/nodošanas vai servisa aktā minētā laika
... A40: 30 | B40: Ja iekārtai periodiski veicamo darbu saturs mainās, tad iekārtu tehniskās apkalpošanas piedāvājumā katru periodiski veicamā darba veidu norādīt atsevišķi, veidojot papildus rindas pēc nepieciešamības
A41: Papildus informācija par iepirkumu un piedāvājuma aizpildīšanas prasībām:
A42: 31 | B42: Pretendents tehniskajā piedāvājumā norāda Preces ražotāju, modeli un atbilstošos parametrus.
A43: 32 | B43: Parametru atbilstību pamatot ar norādi uz tehniskajām datu lapām vai informatīviem materiāliem, norādot atsauci tehniskajā piedāvājumā uz konkrēto lapaspusi un punktu. Informatīvajā materiālā norādīt tehniskās specifikācijas punktu, uz kuru attiecināms.
A44: 33 | B44: Iepirkums sadalīts 9 pozīcijās, līgums tiks slēgts par katru pozīciju atsevišķi, parakstot vispārīgo vienošanos.
A45: 34 | B45: Pozīcijās 1. -3., 6.-8. tiks vērtēta iekārtas, piederumu un uzturēšanas cenu summa, 4., 5., 9. pozīcijā tiks vērtēta iekārtas un uzturēšanas cenu summa. Līguma slēgšanas tiesības saimnieciski izdevīgākajam piedāvājumam.
B47: Izmantotās definīcijas:
B48: *Tehniskā apkalpošana - ražotāja noteiktie periodiski veicamie darbi un remonts
B49: **Periodiskie veicamie darbi - ražotāja noteiktā apkope (ražotāja noteikts pasākumu kopums attiecībā uz konkrētajai medicīniskajai ierīcei tās ekspluatācijas laikā veicamo apkopes procedūru, ievērojot visas ražotāja noteiktās prasības, iekļaujot regulāri maināmo rezerves daļu klāstu, iestatīšanas vai kalibrēšanas procesus, atbilstoši ražotāja noteiktajiem termiņiem) un tehniskā uzraudzība
B50: ***Vienību skaits ir aptuvens un paredzēts konkursa uzvarētāja noteikšanai; līgumu paredzēts noslēgt par vienības cenu, norādot maksimālo summu, kuru var izmantot līguma darbības laikā.

Sheet 1
A1: 1. pozīcija - Jaundzimušo sildītājs ar ūdens matraci | D1: Pretendenta piedāvājums, atsauce uz informatīvo materiālu (Informatīvā materiāla nosaukums, lpp.)
A2: Nr. | B2: Preces nosaukums, veicamās funkcijas, tehniskās prasības un komplektācija | C2: Skaits, gab.***
A3: Piemērs | B3: Piemērs | C3: Piemērs | D3: Informatīvais materiāls 2, 4.lpp
A4: 1. | B4: Nosaukums: Jaundzimušo sildītājs ar ūdens matraci | C4: 5
A5: 1.1. | B5: Veicamās funkcijas:
A6: 1.1.1. | B6: Jaundzimušo sildīšana
A7: 1.2. | B7: Tehniskās prasības:
A8: 1.2.1. | B8: Ūdens matracis ar sildelementu:
A9: 1.2.1.1. | B9: Ūdens ietilpība: līdz 9 l
A10: 1.2.1.2. | B10: Zema sprieguma apsildāmais elements Izmēri: ne lielāks par 600 x 280 mm
A11: 1.2.1.3. | B11: Matrača garums: vismaz 60 cm
A12: 1.2.1.4. | B12: Matrača platums: vismaz 60 cm
A13: 1.2.1.5. | B13: Matracis piepildāms ar ūdeni
A14: 1.2.2. | B14: Virspusējais matracis:
A15: 1.2.2.1. | B15: „Ligzdiņas” formas matracis
A16: 1.2.2.2. | B16: Materiāls: kokvilna
... A32: 1.3. | B32: Komplektācija (iekļauta iekārtas cenā, tiek piegādāta kopā ar katru iekārtu):
A33: 1.3.1. | B33: Sildītāja vadības bloks | C33: 1
A34: 1.3.2. | B34: Ūdens iepildīšanas caurule, ja attiecināms | C34: 1
A35: 1.3.3. | B35: Sildošais elements (virsma) | C35: 1
A36: 1.3.4. | B36: Jaundzimušo ligzdiņa, vienvietīga - krāsa saskaņojama pie pasūtījuma (piedāvājuma iesniegt iespējamās krāsas) | C36: 1
A37: 1.3.5. | B37: Ūdens matracis, vienvietīgais | C37: 1
A38: 1.3.6. | B38: Ūdens matrača attīrīšanas ķīmijas komplekts | C38: 1
A39: 1.3.7. | B39: Barošanas vads vadības blokam | C39: 1
A40: 1.3.8. | B40: Iekārta tiek piegādāta pilnā komplektācijā pirmreizējai lietošanai | C40: 1
A41: 1.4. | B41: Piederumi, saderīgi ar piedāvāto iekārtu (tiek norādīta cena par katru piederumu atsevišķi, tiks pasūtīti pēc nepieciešamības, papildus norādīto piederumu cena netiek iekļauta vērtējamajā cenā):
A42: 1.4.1. | B42: Sildošais elements (virsma) | C42: 5
A43: 1.4.2. | B43: Ūdens iepildīšanas caurule, ja attiecināms | C43: 1
A44: 1.4.3. | B44: Jaundzimušo ligzdiņa, vienvietīga - krāsa saskaņojama (piedāvājuma iesniegt iespējamās krāsas) | C44: 1
A45: 1.4.4. | B45: Jaundzimušo ligzdiņa, dvīņu - krāsa saskaņojama (piedāvājuma iesniegt iespējamās krāsas) | C45: 1
A46: 1.4.5. | B46: Ūdens matracis, vienvietīgais | C46: 5
A47: 1.4.6. | B47: Ūdens matracis, dvīņu | C47: 1
A48: 1.4.7. | B48: Ūdens matrača attīrīšanas ķīmijas komplekts | C48: 5
A49: 1.4.8. | B49: Citi piederumi, kas nepieciešamas piedāvātajai iekārtai, lai nodrošinātu tehniskajā aprakstā norādīto funkcionalitāti un/vai pieejamie papildinājumi. (rindiņas atļauts papildināt zemāk pēc nepieciešamības, vienā rindinā ierakstīt ne vairāk kā vienu piederumu) | C49: 1
A54: Saimnieciski visizdevīgākā piedāvājuma vērtēšanai norādāmā papildus informācija | D54: Saimnieciski visizdevīgākā piedāvājuma vērtēšanai norādāmā papildus informācija Pretendenta piedāvājums, atsauce uz informatīvo materiālu vai ražotāja apliecinājumu
A55: B | B55: Jānorāda Preces ražotāja noteiktais preces paredzamais lietošanas ilgums (paredzamais lietošanas ilgums) (gados)
A56: C | B56: Jānorāda Preces ražotāja noteiktais elektroenerģijas patēriņš darba režīmā (voltampēros (VA) vai vatos (W)) darba režīmā
A59: Daļa | B59: VĒRTĒŠANAS KRITĒRIJI | C59: ĪPATSVARS
A60: A | B60: Vērtējamā summa | C60: 80
A61: B | B61: Preces paredzamais lietošanas ilgums (gados) | C61: 10
A62: C | B62: Elektroenerģijas patēriņš darba režīmā | C62: 10
A63: ∑ | B63: Maksimālais īpatsvars (kopējais punktu skaits) ∑=A+B+C | C63: 100
A64: Komisija katrā daļā piešķir īpatsvaru (punktu skaitu), šādā kārtībā: 1) A (Preču kopējās izmaksas) un C (Elektroenerģijas patēriņš darba režīmā) daļai - viszemākajai vērtība tiek piešķirts maksimālais punktu skaits. Ja piedāvājumā nav norādīta informācija par elektroenerģijas patēriņu tiek piešķirti 0 punkti. Ja tiek norādīts elektroenerģijas patēriņa diapazons, puntku piešķiršanai tiek izmantota augstākā vērtība. 2) Nākamās vērtības A (Preču kopējās izmaksas) un C (Elektroenerģijas patēriņš) daļai tiek aprēķinātas proporcionāli 3) B (Preces ražotāja noteiktais preces paredzamais lietošanas ilgums) daļai - vislielākajai vērtības tiek piešķirts maksimālais punktu skaits. Ja piedāvājumā nav norādīta informācija par preces lietošanas ilgumu tiek pieņemts, ka lietošanas ilgums ir noteiktais garantijas laiks. Ja tiek norādīts paredzamā lietošanas ilguma diapazons, puntku piešķiršanai tiek izmantota zemākā vērtība. 4) Nākamās vērtības B (Preces ražotāja noteiktais preces paredzamais lietošanas ilgums) daļai tiek aprēķinātas proporcionāli

Sheet 2
A1: 2.pozīcija - Transkutāns CO2 monitors | D1: Pretendenta piedāvājums, atsauce uz informatīvo materiālu (Informatīvā materiāla nosaukums, lpp.)
A2: Nr. | B2: Preces nosaukums, veicamās funkcijas, tehniskās prasības un komplektācija | C2: Skaits, gab.***
A3: Piemērs | B3: Piemērs | C3: Piemērs | D3: Informatīvais materiāls 2, 4.lpp
A4: 2 | B4: Nosaukums: Transkutāns CO2 monitors | C4: 1
A5: 2.1. | B5: Veicamās funkcijas:
A6: 2.1.1. | B6: Transkutāna PCO2 un PO2, SPO2 un pulsa mērījumu veikšana
A7: 2.2. | B7: Tehniskās prasības:
A8: 2.2.1. | B8: Transkutāna PCO2 mērījumu parametri:
A9: 2.2.1.1. | B9: Mērījumu diapazons vismaz 0 – 200 mmHg
A10: 2.2.1.2. | B10: Mērījumu solis ne lielāks kā 0,1 mmHg līdz 100 mmHg un ne lielāks kā 1 mmHg virs 100 mmHg
A11: 2.2.2. | B11: SpO2 mērījumu parametri:
A12: 2.2.2.1. | B12: Mērījumu diapazons vismaz 1 – 100%
A13: 2.2.2.2. | B13: Mērījumu solis ne lielāks kā 1%
A14: 2.2.2.3. | B14: Precizitāte pie saturācijas 70 – 100% vismaz ± 3 %
A15: 2.2.3. | B15: Pulsa mērījumu parametri:
A16: 2.2.3.1. | B16: Mērījumu diapazons vismaz 30 – 240 sitieni/min
... A41: 2.3. | B41: Komplektācija (iekļauta iekārtas cenā, tiek piegādāta kopā ar iekārtu):
A42: 2.3.1. | B42: Sensors | C42: 1
A43: 2.3.2. | B43: Sensora un iekārtas savienojošais vads | C43: 1
A44: 2.3.3. | B44: Maiņstrāvas barošanas kabelis | C44: 1
A45: 2.3.4. | B45: Sensora stiprinājums:
A46: 2.3.4.1. | B46: Normālai ādai | C46: 50
A47: 2.3.4.2. | B47: Jutīgai ādai | C47: 25
A48: 2.3.4.3. | B48: Ausu klipsis | C48: 5
A49: 2.3.5. | B49: Membrāna un membrānas mainītājs, vienreizlietojams | C49: 5
A50: 2.3.6. | B50: Kalibrācijas gāze | C50: 2
A51: 2.3.7. | B51: Gēls kontakta, 5 ml | C51: 3
A52: 2.3.8. | B52: Gumijas gredzens | C52: 1
A53: 2.3.9. | B53: Iekārta tiek piegādāta pilnā komplektācijā pirmreizējai lietošanai | C53: 1
A54: 2.4. | B54: Piederumi, saderīgi ar piedāvāto iekārtu (tiek norādīta cena par katru piederumu atsevišķi, tiks pasūtīti pēc nepieciešamības, papildu norādīto piederumu cena netiek iekļauta vērtējamajā cenā):
A55: 2.4.1. | B55: Sensora stiprinājums:
A56: 2.4.1.1. | B56: Normālai ādai | C56: 150
A57: 2.4.1.2. | B57: Jutīgai ādai | C57: 100
A58: 2.4.1.3. | B58: Ausu klipsis | C58: 5
A59: 2.4.2. | B59: Membrāna un membrānas mainītājs, vienreizlietojams | C59: 5
A60: 2.4.3. | B60: Kalibrācijas gāze | C60: 2
A61: 2.4.4. | B61: Gumijas gredzens | C61: 1
A62: 2.4.5. | B62: Gēls kontakta, 5 ml | C62: 3
A63: 2.4.6. | B63: Citi piederumi, kas nepieciešamas piedāvātajai iekārtai, lai nodrošinātu tehniskajā aprakstā norādīto funkcionalitāti un/vai pieejamie papildinājumi. (rindiņas atļauts papildināt zemāk pēc nepieciešamības, vienā rindinā ierakstīt ne vairāk kā vienu piederumu) | C63: 1
A69: Saimnieciski visizdevīgākā piedāvājuma vērtēšanai norādāmā papildus informācija | D69: Saimnieciski visizdevīgākā piedāvājuma vērtēšanai norādāmā papildus informācija Pretendenta piedāvājums, atsauce uz informatīvo materiālu vai ražotāja apliecinājumu
A70: B | B70: Jānorāda Preces ražotāja noteiktais preces paredzamais lietošanas ilgums (paredzamais lietošanas ilgums) (gados)
A71: C | B71: Jānorāda Preces ražotāja noteiktais elektroenerģijas patēriņš darba režīmā (voltampēros (VA) vai vatos (W)) darba režīmā
A74: Daļa | B74: VĒRTĒŠANAS KRITĒRIJI | C74: ĪPATSVARS
A75: A | B75: Vērtējamā summa | C75: 80
A76: B | B76: Preces paredzamais lietošanas ilgums (gados) | C76: 10
A77: C | B77: Elektroenerģijas patēriņš darba režīmā | C77: 10
A78: ∑ | B78: Maksimālais īpatsvars (kopējais punktu skaits) ∑=A+B+C | C78: 100
A79: Komisija katrā daļā piešķir īpatsvaru (punktu skaitu), šādā kārtībā: 1) A (Preču kopējās izmaksas) un C (Elektroenerģijas patēriņš darba režīmā) daļai - viszemākajai vērtība tiek piešķirts maksimālais punktu skaits. Ja piedāvājumā nav norādīta informācija par elektroenerģijas patēriņu tiek piešķirti 0 punkti. Ja tiek norādīts elektroenerģijas patēriņa diapazons, puntku piešķiršanai tiek izmantota augstākā vērtība. 2) Nākamās vērtības A (Preču kopējās izmaksas) un C (Elektroenerģijas patēriņš) daļai tiek aprēķinātas proporcionāli 3) B (Preces ražotāja noteiktais preces paredzamais lietošanas ilgums) daļai - vislielākajai vērtības tiek piešķirts maksimālais punktu skaits. Ja piedāvājumā nav norādīta informācija par preces lietošanas ilgumu tiek pieņemts, ka lietošanas ilgums ir noteiktais garantijas laiks. Ja tiek norādīts paredzamā lietošanas ilguma diapazons, puntku piešķiršanai tiek izmantota zemākā vērtība. 4) Nākamās vērtības B (Preces ražotāja noteiktais preces paredzamais lietošanas ilgums) daļai tiek aprēķinātas proporcionāli

Sheet 3
A5: 3. pozīcija - Fototerapijas lampa jaundzimušajiem | D5: Pretendenta piedāvājums, atsauce uz informatīvo materiālu (Informatīvā materiāla nosaukums, lpp.)
A6: Nr. | B6: Preces nosaukums, veicamās funkcijas, tehniskās prasības un komplektācija | C6: Skaits, gab.***
A7: Piemērs | B7: Piemērs | C7: Piemērs | D7: Informatīvais materiāls 2, 4.lpp
A8: 3. | B8: Nosaukums: Fototerapijas lampa jaundzimušajiem | C8: 2
A9: 3.1. | B9: Veicamās funkcijas:
A10: 3.1.1. | B10: Jaundzimušo hiperbilirubinēmija ārstēšana
A11: 3.2. | B11: Tehniskās prasības
A12: 3.2.1. | B12: Divu krāsu LED gaisma:
A13: 3.2.1.1. | B13: Fototerapija tiek nodrošināta ar zilās gaismas diodēm
A14: 3.2.1.2. | B14: Iestrādātas baltās gaismas diodes izmeklējumiem
A15: 3.2.3. | B15: Vēsā (terapijas) gaisma bez papildus siltuma atdeves
A16: 3.2.4. | B16: Paredzēts nepārtrauktai darbībai
A17: 3.2.5. | B17: Zilās gaismas spektra viļņa garums robežās 460-490nm:
A18: 3.2.6. | B18: 40 cm attālumā >80 µW/cm²/nm
A19: 3.2.7. | B19: 50 cm attālumā >70 µW/cm²/nm
A20: 3.2.8. | B20: Gaismas spektrs neizdala nozīmīgu ultravioleto (UV) vai infrasarkano (IR) starojumu
... A35: 3.4. | B35: Piederumi, saderīgi ar piedāvāto iekārtu (tiek norādīta cena par katru piederumu atsevišķi, tiks pasūtīti pēc nepieciešamības, papildu norādīto piederumu cena netiek iekļauta vērtējamajā cenā):
A36: 3.4.1. | B36: Radiometrs | C36: 1
A37: 3.4.2. | B37: Citi piederumi, kas nepieciešamas piedāvātajai iekārtai, lai nodrošinātu tehniskajā aprakstā norādīto funkcionalitāti un/vai pieejamie papildinājumi. (rindiņas atļauts papildināt zemāk pēc nepieciešamības, vienā rindinā ierakstīt ne vairāk kā vienu piederumu) | C37: 1
A44: Saimnieciski visizdevīgākā piedāvājuma vērtēšanai norādāmā papildus informācija | D44: Saimnieciski visizdevīgākā piedāvājuma vērtēšanai norādāmā papildus informācija Pretendenta piedāvājums, atsauce uz informatīvo materiālu vai ražotāja apliecinājumu
A45: B | B45: Jānorāda Preces ražotāja noteiktais preces paredzamais lietošanas ilgums (paredzamais lietošanas ilgums) (gados)
A46: C | B46: Jānorāda Preces ražotāja noteiktais elektroenerģijas patēriņš darba režīmā (voltampēros (VA) vai vatos (W)) darba režīmā
A49: Daļa | B49: VĒRTĒŠANAS KRITĒRIJI | C49: ĪPATSVARS
A50: A | B50: Vērtējamā summa | C50: 80
A51: B | B51: Preces paredzamais lietošanas ilgums (gados) | C51: 10
A52: C | B52: Elektroenerģijas patēriņš darba režīmā | C52: 10
A53: ∑ | B53: Maksimālais īpatsvars (kopējais punktu skaits) ∑=A+B+C | C53: 100
A54: Komisija katrā daļā piešķir īpatsvaru (punktu skaitu), šādā kārtībā: 1) A (Preču kopējās izmaksas) un C (Elektroenerģijas patēriņš darba režīmā) daļai - viszemākajai vērtība tiek piešķirts maksimālais punktu skaits. Ja piedāvājumā nav norādīta informācija par elektroenerģijas patēriņu tiek piešķirti 0 punkti. Ja tiek norādīts elektroenerģijas patēriņa diapazons, puntku piešķiršanai tiek izmantota augstākā vērtība. 2) Nākamās vērtības A (Preču kopējās izmaksas) un C (Elektroenerģijas patēriņš) daļai tiek aprēķinātas proporcionāli 3) B (Preces ražotāja noteiktais preces paredzamais lietošanas ilgums) daļai - vislielākajai vērtības tiek piešķirts maksimālais punktu skaits. Ja piedāvājumā nav norādīta informācija par preces lietošanas ilgumu tiek pieņemts, ka lietošanas ilgums ir noteiktais garantijas laiks. Ja tiek norādīts paredzamā lietošanas ilguma diapazons, puntku piešķiršanai tiek izmantota zemākā vērtība. 4) Nākamās vērtības B (Preces ražotāja noteiktais preces paredzamais lietošanas ilgums) daļai tiek aprēķinātas proporcionāli

Sheet 4
A1: 4. pozīcija - Jaundzimušo apsildāmā lampa | D1: Pretendenta piedāvājums, atsauce uz informatīvo materiālu (Informatīvā materiāla nosaukums, lpp.)
A2: Nr. | B2: Preces nosaukums, veicamās funkcijas, tehniskās prasības un komplektācija | C2: Skaits, gab.***
A3: Piemērs | B3: Piemērs | C3: Piemērs | D3: Informatīvais materiāls 2, 4.lpp
A4: 4. | B4: Nosaukums: Jaundzimušo apsildāmā lampa | C4: 2
A5: 4.1. | B5: Veicamās funkcijas:
A6: 4.1.1. | B6: Izotermiskas vides nodrošinājums jaundzimušajam bērnam
A7: 4.2. | B7: Tehniskās prasības:
A8: 4.2.1. | B8: Radiācijas siltums 32 mW/cm2 ±2 65 cm ± 3 attālumā starp sildīšanas avotu un matraci
A9: 4.2.2. | B9: Sildīšanas jauda vismaz 475 W
A10: 4.2.3. | B10: Ir iespēja uzstādīt sildīšanas jaudu no 0% līdz 100%
A11: 4.2.4. | B11: Ir uzstādītas jaudas vizuālais indikators
A12: 4.2.5. | B12: Ir iespēja uzstādīt temperatūru diapazonā no 34ºC ±1ºC līdz 37ºC±1ºC ar soli 0,1 ºC
A13: 4.2.6. | B13: Temperatūras trauksmes paziņojums ±1ºC no uzstādītās temperatūras
A14: 4.2.7. | B14: Sildīšanas avota pagriešana vismaz ±180º no centra pozīcijas
A15: 4.2.8. | B15: Trauksmes paziņojumi:
A16: 4.2.8.1. | B16: Augsta temperatūra
... A31: 4.3. | B31: Komplektācija (iekļauta iekārtas cenā, tiek piegādāta kopā ar iekārtu):
A32: 4.3.1. | B32: Apsildāmā lampa | C32: 1
A33: 4.3.2. | B33: Vadības bloks | C33: 1
A34: 4.3.3. | B34: Statīvs uz riteņiem ar bremzēm | C34: 1
A35: 4.3.4. | B35: Daudzreizlietojams temperatūras sensors | C35: 1
A36: 4.3.5. | B36: Barošanas kabelis | C36: 1
A37: 4.3.6. | B37: Vadu turētājs, stiprināms pie statīva | C37: 1
A38: 4.3.7. | B38: Iekārta tiek piegādāta pilnā komplektācijā pirmreizējai lietošanai
A40: Saimnieciski visizdevīgākā piedāvājuma vērtēšanai norādāmā papildus informācija | D40: Saimnieciski visizdevīgākā piedāvājuma vērtēšanai norādāmā papildus informācija Pretendenta piedāvājums, atsauce uz informatīvo materiālu vai ražotāja apliecinājumu
A41: B | B41: Jānorāda Preces ražotāja noteiktais preces paredzamais lietošanas ilgums (paredzamais lietošanas ilgums) (gados)
A42: C | B42: Jānorāda Preces ražotāja noteiktais elektroenerģijas patēriņš darba režīmā (voltampēros (VA) vai vatos (W)) darba režīmā
A45: Daļa | B45: VĒRTĒŠANAS KRITĒRIJI | C45: ĪPATSVARS
A46: A | B46: Vērtējamā summa | C46: 80
A47: B | B47: Preces paredzamais lietošanas ilgums (gados) | C47: 10
A48: C | B48: Elektroenerģijas patēriņš darba režīmā | C48: 10
A49: ∑ | B49: Maksimālais īpatsvars (kopējais punktu skaits) ∑=A+B+C | C49: 100
A50: Komisija katrā daļā piešķir īpatsvaru (punktu skaitu), šādā kārtībā: 1) A (Preču kopējās izmaksas) un C (Elektroenerģijas patēriņš darba režīmā) daļai - viszemākajai vērtība tiek piešķirts maksimālais punktu skaits. Ja piedāvājumā nav norādīta informācija par elektroenerģijas patēriņu tiek piešķirti 0 punkti. Ja tiek norādīts elektroenerģijas patēriņa diapazons, puntku piešķiršanai tiek izmantota augstākā vērtība. 2) Nākamās vērtības A (Preču kopējās izmaksas) un C (Elektroenerģijas patēriņš) daļai tiek aprēķinātas proporcionāli 3) B (Preces ražotāja noteiktais preces paredzamais lietošanas ilgums) daļai - vislielākajai vērtības tiek piešķirts maksimālais punktu skaits. Ja piedāvājumā nav norādīta informācija par preces lietošanas ilgumu tiek pieņemts, ka lietošanas ilgums ir noteiktais garantijas laiks. Ja tiek norādīts paredzamā lietošanas ilguma diapazons, puntku piešķiršanai tiek izmantota zemākā vērtība. 4) Nākamās vērtības B (Preces ražotāja noteiktais preces paredzamais lietošanas ilgums) daļai tiek aprēķinātas proporcionāli

Sheet 5
A1: 5.pozīcija - Infūzijas sūkņu un perfuzoru stacija magnētiskās rezonanses kabinetam | D1: Pretendenta piedāvājums, atsauce uz informatīvo materiālu (Informatīvā materiāla nosaukums, lpp.)
A2: Nr. | B2: Preces nosaukums, veicamās funkcijas, tehniskās prasības un komplektācija | C2: Skaits, gab.***
A3: Piemērs | B3: Piemērs | C3: Piemērs | D3: Informatīvais materiāls 2, 4.lpp
A4: 5. | B4: Nosaukums: Infūzijas sūkņu un perfuzoru stacija magnētiskās rezonanses kabinetam | C4: 1
A5: 5.1. | B5: Veicamās funkcijas:
A6: 5.1.1. | B6: Nodrošina infūzijas sūkņu un perfuzoru lietošanu, aizsardzību un uzglabāšanu magnētiskās rezonanses izmeklējumu laikā.
A7: 5.2. | B7: Tehniskās prasības:
A8: 5.2.1. | B8: Stacija paredzēta darbībai ar dažādu ražotāju 1.5T un 3.0T magnētiskās rezonanses iekārtām
A9: 5.2.2. | B9: Staciju ir iespējams novietot līdz vismaz 20 mT
A10: 5.2.3. | B10: Stacijā iespēja ātri ievietot un izņemt ne mazāk kā 4 infūzijas sūkņus un/vai perfuzorus
A11: 5.2.4. | B11: Iespēja vizuāli kontrolēt infūzijas sūkņu un/vai perfuzoru stāvokli
A12: 5.2.5. | B12: Stacija aprīkota ar iespēju saņemt datus no ievietotajām iekārtām
A13: 5.2.6. | B13: Stacija aprīkota ar trauksmes signālu atskaņošanu
A14: 5.2.7. | B14: Stacija aprīkota ar magnētiskā lauka indikatoru, kas informē par drošu atrašanās attālumu no magnētiskās rezonanses iekārtas
A15: 5.2.8. | B15: Stacijā ir integrēta vieta infūzu līnijām un statīvs ir aprīkots ar infūzijas āķiem
A16: 5.2.9. | B16: Stacijas statīvs ir aprīkots ar atvilkni piederumiem
... A22: 5.4. | B22: Komplektācija (iekļauta iekārtas cenā, tiek piegādāta kopā ar iekārtu):
A23: 5.4.1. | B23: Infūzijas sūkņu un perfuzoru stacija magnētiskās rezonanses kabinetam | C23: 1
A24: 5.4.2. | B24: Barošanas kabelis | C24: 1
A25: 5.4.3. | B25: Iekārta tiek piegādāta pilnā komplektācijā pirmreizējai lietošanai
A27: Saimnieciski visizdevīgākā piedāvājuma vērtēšanai norādāmā papildus informācija | D27: Saimnieciski visizdevīgākā piedāvājuma vērtēšanai norādāmā papildus informācija Pretendenta piedāvājums, atsauce uz informatīvo materiālu vai ražotāja apliecinājumu
A28: B | B28: Jānorāda Preces ražotāja noteiktais preces paredzamais lietošanas ilgums (paredzamais lietošanas ilgums) (gados)
A29: C | B29: Jānorāda Preces ražotāja noteiktais elektroenerģijas patēriņš darba režīmā (voltampēros (VA) vai vatos (W)) darba režīmā
A32: Daļa | B32: VĒRTĒŠANAS KRITĒRIJI | C32: ĪPATSVARS
A33: A | B33: Vērtējamā summa | C33: 80
A34: B | B34: Preces paredzamais lietošanas ilgums (gados) | C34: 10
A35: C | B35: Elektroenerģijas patēriņš darba režīmā | C35: 10
A36: ∑ | B36: Maksimālais īpatsvars (kopējais punktu skaits) ∑=A+B+C | C36: 100
A37: Komisija katrā daļā piešķir īpatsvaru (punktu skaitu), šādā kārtībā: 1) A (Preču kopējās izmaksas) un C (Elektroenerģijas patēriņš darba režīmā) daļai - viszemākajai vērtība tiek piešķirts maksimālais punktu skaits. Ja piedāvājumā nav norādīta informācija par elektroenerģijas patēriņu tiek piešķirti 0 punkti. Ja tiek norādīts elektroenerģijas patēriņa diapazons, puntku piešķiršanai tiek izmantota augstākā vērtība. 2) Nākamās vērtības A (Preču kopējās izmaksas) un C (Elektroenerģijas patēriņš) daļai tiek aprēķinātas proporcionāli 3) B (Preces ražotāja noteiktais preces paredzamais lietošanas ilgums) daļai - vislielākajai vērtības tiek piešķirts maksimālais punktu skaits. Ja piedāvājumā nav norādīta informācija par preces lietošanas ilgumu tiek pieņemts, ka lietošanas ilgums ir noteiktais garantijas laiks. Ja tiek norādīts paredzamā lietošanas ilguma diapazons, puntku piešķiršanai tiek izmantota zemākā vērtība. 4) Nākamās vērtības B (Preces ražotāja noteiktais preces paredzamais lietošanas ilgums) daļai tiek aprēķinātas proporcionāli

Sheet 6
A1: 6. pozīcija - Transkutānais CO2 monitorēšanas modulis | D1: Pretendenta piedāvājums, atsauce uz informatīvo materiālu (Informatīvā materiāla nosaukums, lpp.)
A2: Nr. | B2: Preces nosaukums, veicamās funkcijas, tehniskās prasības un komplektācija | C2: Skaits, gab.***
A3: Piemērs | B3: Piemērs | C3: Piemērs | D3: Informatīvais materiāls 2, 4.lpp
A4: 6. | B4: Transkutānais CO2 monitorēšanas modulis | C4: 1
A5: 6.1. | B5: Tehniskās prasības:
A6: 6.1.1. | B6: Iekārta transkutānai neinvazīvai tcPCO2 noteikšanai jaundzimušajiem;
A7: 6.1.2. | B7: Modulārs;
A8: 6.1.3. | B8: Savietojams ar Philips Intellivue MX sērijas monitoriem;
A9: 6.1.4. | B9: Reāllaika nepārtraukti mērījumi;
A10: 6.1.5. | B10: Mērījumi tiek veikti neinvazīvi;
A11: 6.1.6. | B11: Iekārtai ir trauksmes zemiem un augstiem mērījumu rezultātiem, trauksmes vizuālas un audiālas;
A12: 6.1.7. | B12: Trauksmi iespējams atlikt vai izslēgt;
A13: 6.1.8. | B13: Mērījumu veikšanu nodrošina daudzreizlietojams sensors ar darbmūžu ne mazāk kā 24 mēneši;
A14: 6.1.9. | B14: Daudzreizlietojamais sensors nodrošina vismaz tcPCO2, paredzēts lietošanai intensīvajā terapijā
A15: 6.1.10. | B15: Daudzreizlietojamā sensora kabeļa garums ne mazāks par 80 cm;
A16: 6.1.11. | B16: Iekļauts daudzreizlietojamā sensora vads ar garumu ne mazāks par 150 m;
... A23: 6.2. | B23: Komplektācija (iekļauta iekārtas cenā, tiek piegādāta kopā ar iekārtu, ja piederums ir attiecināms):
A24: 6.2.1. | B24: Sensors | C24: 1
A25: 6.2.2. | B25: Sensora un iekārtas savienojošais vads | C25: 1
A26: 6.2.3. | B26: Maiņstrāvas barošanas kabelis | C26: 1
A27: 6.2.4. | B27: Sensora stiprinājums:
A28: 6.2.4.1. | B28: Normālai ādai | C28: 50
A29: 6.2.4.2. | B29: Jutīgai ādai | C29: 25
A30: 6.2.4.3. | B30: Ausu klipsis | C30: 5
A31: 6.2.5. | B31: Membrāna un membrānas mainītājs, vienreizlietojams | C31: 5
A32: 6.2.6. | B32: Kalibrators | C32: 1
A33: 6.2.7. | B33: Kalibrācijas gāze | C33: 2
A34: 6.2.8. | B34: Gēls kontakta, 5 ml | C34: 3
A35: 6.2.9. | B35: Gumijas gredzens | C35: 1
A36: 6.2.10. | B36: Iekārta tiek piegādāta pilnā komplektācijā pirmreizējai lietošanai | C36: 1
A37: 6.3. | B37: Piederumi, saderīgi ar piedāvāto iekārtu (tiek norādīta cena par katru piederumu atsevišķi, tiks pasūtīti pēc nepieciešamības, papildu norādīto piederumu cena netiek iekļauta vērtējamajā cenā):
A38: 6.3.1. | B38: Sensora stiprinājums:
A39: 6.3.1.1. | B39: Normālai ādai | C39: 50
A40: 6.3.1.2. | B40: Jutīgai ādai | C40: 25
A41: 6.3.1.3. | B41: Ausu klipsis | C41: 5
A42: 6.3.2. | B42: Membrāna un membrānas mainītājs, vienreizlietojams | C42: 5
A43: 6.3.3. | B43: Kalibrācijas gāze | C43: 2
A44: 6.3.4. | B44: Gumijas gredzens | C44: 1
A45: 6.3.5. | B45: Gēls kontakta, 5 ml | C45: 3
A46: 6.3.6. | B46: Citi piederumi, kas nepieciešamas piedāvātajai iekārtai, lai nodrošinātu tehniskajā aprakstā norādīto funkcionalitāti un/vai pieejamie papildinājumi. (rindiņas atļauts papildināt zemāk pēc nepieciešamības, vienā rindinā ierakstīt ne vairāk kā vienu piederumu) | C46: 1

Sheet 7
A1: 7. pozīcija - Skābekļa blenderis augstas plūsmas | D1: Pretendenta piedāvājums, atsauce uz informatīvo materiālu (Informatīvā materiāla nosaukums, lpp.)
A2: Nr. | B2: Preces nosaukums, veicamās funkcijas, tehniskās prasības un komplektācija | C2: Skaits, gab.***
A3: Piemērs | B3: Piemērs | C3: Piemērs | D3: Informatīvais materiāls 2, 4.lpp
A4: 7. | B4: Nosaukums: Skābekļa blenderis augstas plūsmas | C4: 2
A5: 7.1. | B5: Veicamās funkcijas:
A6: 7.1.1. | B6: Nodrošina precīzu medicīniskā gaisa un skābekļa sajaukšanu un nogādāšanu pacientam ar dažādu ierīču starpniecību
A7: 7.2. | B7: Tehniskās prasības:
A8: 7.2.1. | B8: Gaisa plūsma tiek nodrošināta diapazonā vismaz 0-60 l/min
A9: 7.2.2. | B9: Gāzu maisījumam var pievienot skābekli diapazonā vismaz 21 - 100 %
A10: 7.2.3. | B10: Skābekļa proporcijas precizitāte ir ne sliktāka kā 3%
A11: 7.2.4. | B11: Iekārtas svars nav lielāks par 2 kg
A12: 7.2.5. | B12: Blendera darbībai nav nepieciešama elektrības padeve
A13: 7.2.6. | B13: Gaisa un skābekļa padeve tiek nodrošināta no slimnīcā esošās centralizētās saspiestā gaisa un skābekļa padeves ar spiedienu: Gaiss ~5Bar; O2 ~5Bar.
A14: 7.2.7. | B14: Gāzes cauruļu spraudņi saderīgi ar slimnīcā esošajām DIN standarta gāzes ligzdām.
A15: 7.2.8. | B15: Ir saderīgs ar Fisher&Paykel mitrinātājiem
A16: 7.3. | B16: Tehniskās prasības statīvam:
... A24: 7.4. | B24: Komplektācija (iekļauta iekārtas cenā, tiek piegādāta kopā ar iekārtu):
A25: 7.4.1. | B25: Gāzes cauruļu komplekts (skābeklis, gaiss), saderīgs ar slimnīcā esošajām DIN standarta gāzes ligzdām (Greggersen gāzes ligzdas) | C25: 1
A26: 7.4.2. | B26: Statīvs | C26: 1
A27: 7.4.3. | B27: Blendera statīva stieņa stiprinājums | C27: 1
A28: 7.4.4. | B28: Mitrinātājs | C28: 1
A29: 7.4.5. | B29: Mitrinātāja statīva stieņa stiprinājums | C29: 1
A30: 7.4.6. | B30: Iekārta tiek piegādāta pilnā komplektācijā pirmreizējai lietošanai | C30: 1
A31: 7.5. | B31: Piederumi, saderīgi ar piedāvāto iekārtu (tiek norādīta cena par katru piederumu atsevišķi, tiks pasūtīti pēc nepieciešamības, papildu norādīto piederumu cena netiek iekļauta vērtējamajā cenā):
A32: 7.5.1. | B32: Gāzes cauruļu komplekts (skābeklis, gaiss), saderīgs ar slimnīcā esošajām DIN standarta gāzes ligzdām | C32: 1
A33: 7.5.2. | B33: Statīvs | C33: 1
A34: 7.5.3. | B34: Blendera statīva stieņa stiprinājums | C34: 1
A35: 7.5.4. | B35: Mitrinātāja statīva stieņa stiprinājums | C35: 1
A36: 7.5.5. | B36: Citi piederumi, kas nepieciešamas piedāvātajai iekārtai, lai nodrošinātu tehniskajā aprakstā norādīto funkcionalitāti un/vai pieejamie papildinājumi. (rindiņas atļauts papildināt zemāk pēc nepieciešamības, vienā rindinā ierakstīt ne vairāk kā vienu piederumu) | C36: 1

Sheet 8
A1: 8. pozīcija - Fibrooptiskais laringoskops | D1: Pretendenta piedāvājums, atsauce uz informatīvo materiālu (Informatīvā materiāla nosaukums, lpp.)
A2: Nr. | B2: Preces nosaukums, veicamās funkcijas, tehniskās prasības un komplektācija | C2: Skaits, gab.***
A3: Piemērs | B3: Piemērs | C3: Piemērs | D3: Informatīvais materiāls 2, 4.lpp
A4: 8. | B4: Nosaukums: Fibrooptiskais laringoskops | C4: 10
A5: 8.1. | B5: Veicamās funkcijas:
A6: 8.1.1 | B6: Laringoskopisko manipulāciju (intubāciju) veikšana
A7: 8.2 | B7: Tehniskās prasības:
A8: 8.2.1 | B8: No nerūsējošā tērauda
A9: 8.2.2 | B9: Atbilst standartam ISO 7376, kas nodrošina saderību ar citiem šim standartam atbilstošiem laringoskopu piederumiem
A10: 8.2.3 | B10: Autoklavējami līdz 134 grādi °C
A11: 8.3 | B11: Rokturu izmēri:
A12: 8.3.1 | B12: Heine F-008.22.860 vai analogs
A13: 8.3.2 | B13: Darbināms ar C tipa baterijām
A14: 8.4 | B14: Fibrooptiskie LED laringoskopu spoguļi:
A15: 8.4.1 | B15: Spilgtums >1000 luksu pie 2,5V sprieguma
A16: 8.4.2 | B16: Autoklavējami līdz 134 grādi °C
... A32: 8.7.1 | B32: Standarta Miller tipa autoklavējami spoguļi ar integrētu fibrooptisko LED sistēmu (00. izmērs)
A33: 8.7.1.1 | B33: Garums 51 mm, atvērums 10 mm (Heine atsauces nr. F-000.22.119 vai analogs) | C33: 6
A34: 8.7.1.2 | B34: Garums 80 mm, atvērums 11 mm (Heine atsauces nr. F-000.22.120 vai analogs) | C34: 4
A35: 8.7.1.3 | B35: Garums 100 mm, atvērums 12 mm (Heine atsauces nr. F-000.22.121 vai analogs) | C35: 4
A36: 8.7.1.4 | B36: Garums 152 mm, atvērums 13 mm (Heine atsauces nr. F-000.22.122 vai analogs) | C36: 1
A37: 8.7.1.5 | B37: Garums 192 mm, atvērums 13 mm (Heine atsauces nr. F-000.22.123 vai analogs) | C37: 1
A38: 8.7.1.6 | B38: Garums 207 mm, atvērums 16 mm (Heine atsauces nr. F-000.22.124 vai analogs) | C38: 1
A39: 8.7.2 | B39: Standarta Macintosh tipa autoklavējami spoguļi ar integrētu fibrooptisko LED sistēmu (0 līdz 4. izmērs)
A40: 8.7.2.1 | B40: Garums 82 mm, atvērums 9 mm (Heine atsauces nr. F-000.22.100 vai analogs) | C40: 1
A41: 8.7.2.2 | B41: Garums 94 mm, atvērums 10 mm (Heine atsauces nr. F-000.22.101 vai analogs) | C41: 1
A42: 8.7.2.3 | B42: Garums 114 mm, atvērums 14 mm (Heine atsauces nr. F-000.22.102 vai analogs) | C42: 1
A43: 8.7.2.4 | B43: Garums 134 mm, atvērums 14 mm (Heine atsauces nr. F-000.22.103 vai analogs) | C43: 1
A44: 8.7.2.5 | B44: Garums 155 mm, atvērums 15 mm (Heine atsauces nr. F-000.22.104 vai analogs) | C44: 1
A45: 8.7.3 | B45: Rokturi:
A46: 8.7.3.1 | B46: Heine F-008.22.860 vai analogs | C46: 1
A47: 8.7.3.1.1 | B47: Darbināms ar C tipa baterijām
A48: 8.7.3.2 | B48: Heine F-008.22.800 vai analogs | C48: 4
A49: 8.7.3.2.1 | B49: Darbināms ar AA tipa baterijām

Sheet 9
A5: 9. pozīcija - Transporta kapnogrāfs | D5: Pretendenta piedāvājums, atsauce uz informatīvo materiālu (Informatīvā materiāla nosaukums, lpp.)
A6: Nr. | B6: Preces nosaukums, veicamās funkcijas, tehniskās prasības un komplektācija | C6: Skaits, gab.***
A7: Piemērs | B7: Piemērs | C7: Piemērs | D7: Informatīvais materiāls 2, 4.lpp
A8: 9. | B8: Nosaukums: Transporta kapnogrāfs | C8: 1
A9: 9.1 | B9: Veicamās funkcijas:
A10: 9.1.1 | B10: CO2 koncentrācijas un elpošanas frekvences monitorēšana, zimantojot IS absorbcijas principuu elpošanas kontūrā.
A11: 9.2 | B11: Tehniskās prasības:
A12: 9.2.1 | B12: CO2 koncentrācija attēlota mmHg
A13: 9.2.2 | B13: Svars nepārsniedz 100g (ar baterijām)
A14: 9.2.3 | B14: Izmēri ne lielāki kā 60x40x40 mm
A15: 9.2.4 | B15: Iekārta aprīkota ar displeju, kas uzrāda CO2 koncentrāciju un elpošanas frekvenci, un kapnogrammu
A16: 9.2.5 | B16: EtCO2 diapazon vismaz no 0-99mmHg
A17: 9.2.6 | B17: CO2 precizitāte 0-40 mmHg +/- 2mmHg vai augstāka, 41-99 mmHg ne vairāk kā 6% no iekārtas rādījuma standartapsktākļos
A18: 9.2.7 | B18: Elpošanas frekvences diapazons vismaz 3-150 ieelpas/min
A19: 9.2.8 | B19: Elpošanas frekvences precizitāte +/- 1 ieelpa/min vai augstāka
A20: 9.2.9 | B20: Iekārtu iespējams izmantot ar dažādu diametru elpošanas kontūriem ar adapteru palīdzību.
... A26: 9.3 | B26: Komplektācija (iekļauta iekārtas cenā, tiek piegādāta kopā ar iekārtu):
A27: 9.3.1 | B27: Adapteris bērnu un pieaugušo elpošanas kontūriem | C27: 1
A28: 9.3.2 | B28: Adapteris zīdaiņu elpošanas kontūriem | C28: 1
A29: 9.3.4. | B29: Iekārta tiek piegādāta pilnā komplektācijā pirmreizējai lietošanai

Sheet Iekārtu tehniskā apkalpošana
A2: Ierīcēm, kurām pēcgarantijas periodā periodiski veicamo darbu saturs mainās, Pretendents aizpilda "Iekārtu tehniskā apkalpošana" tabulu, izveidojot papildus rindu/as zem ierīces, katrā jaunā rindā norādot periodiski veicamā darba veidu, pārliecinoties, ka kopumā ir uzskaitīti visi uz ierīci attiecināmie periodiski veicamie darbi pēcgarantijas periodā
A3: Kopējās izmaksas viena periodiski veicamā darba veida veikšanai pēcgarantijas periodā tiek aprēķinātas sekojoši: 13=3*(6*(7+(8*9)) kur norādītie skaitļi ir kolonnas kārtas numurs. 14. kolonnā jānorāda summa par visiem periodiski veicamajiem darbiem visām iekārtām
A4: Iekārtu tehniskā apkalpošana
A5: Iepirkuma pozīcijas numurs | B5: Iekārtas nosaukums | C5: Iekārtu skaits *** | D5: Pēcgarantijas periods, ņemot vērā, ka garantijas periods un pēcgarantijas periods veido piecus gadus | E5: Periodiski veicamā darba veids pēcgarantijas periodā | F5: Periodiski veicamā darba skaits vienai ierīcei pēcgarantijas periodā | G5: Viena periodiski veicamā darba maināmo rezerves daļu izmaksas, ja attiecināms, EUR bez PVN | H5: Viena periodiski veicamā darba paredzamais ilgums, stundas | I5: Periodiski veicamo darbu servisa stundas likme, EUR bez PVN | J5: Remonta servisa stundas likme, EUR bez PVN | K5: Vai ražotājs ir paredzējis elektrodrošības pārbaudes periodiski veicamo darbu ietvaros? (Jā/Nē) | L5: Vai ražotājs ir paredzējis funkcionālās pārbaudes periodiski veicamo darbu ietvaros? (Jā/Nē) | M5: Summa par viena periodiski veicamā darba veidu pēcgarantijas periodā visām iekārtām, EUR bez PVN | N5: Summa par visiem periodiski veicamajiem darbiem pēcgarantijas periodā visām iekārtām, EUR bez PVN | O5: Piezīmes
A6: 1 | B6: 2 | C6: 3 | D6: 4 | E6: 5 | F6: 6 | G6: 7 | H6: 8 | I6: 9 | J6: 10 | K6: 11 | L6: 12 | M6: 13 | N6: 14 | O6: 15
A7: 1. pozīcija | B7: Jaundzimušo sildītājs ar ūdens matraci | C7: 5 | M7: =C7*(F7*(G7+(H7*I7))) -> 0 | N7: =M7 -> 0
A8: 2. pozīcija | B8: Transkutāns CO2 monitors | C8: 1 | M8: =C8*(F8*(G8+(H8*I8))) -> 0 | N8: =M8 -> 0
A9: 3. pozīcija | B9: Fototerapijas lampa jaundzimušajiem | C9: 2 | M9: =C9*(F9*(G9+(H9*I9))) -> 0 | N9: =M9 -> 0
A10: 4. pozīcija | B10: Jaundzimušo apsildāmā lampa | C10: 2 | M10: =C10*(F10*(G10+(H10*I10))) -> 0 | N10: =M10 -> 0
A11: 5. pozīcija | B11: Infūzijas sūkņu un perfuzoru stacija magnētiskās rezonanses kabinetam | C11: 1 | M11: =C11*(F11*(G11+(H11*I11))) -> 0 | N11: =M11 -> 0
A12: 6. pozīcija | B12: Transkutānais CO2 monitorēšanas modulis | C12: 1 | M12: =C12*(F12*(G12+(H12*I12))) -> 0 | N12: =M12 -> 0
A13: 7. pozīcija | B13: Skābekļa blenderis augstas plūsmas | C13: 2 | M13: =C13*(F13*(G13+(H13*I13))) -> 0 | N13: =M13 -> 0
A14: 8. pozīcija | B14: Fibrooptiskais laringoskops | C14: 10 | M14: =C14*(F14*(G14+(H14*I14))) -> 0 | N14: =M14 -> 0
A15: 9. pozīcija | B15: Transporta kapnogrāfs | C15: 1 | M15: =C15*(F15*(G15+(H15*I15))) -> 0 | N15: =M15 -> 0
A17: Piemērs
A18: Iekārtu tehniskā apkalpošana
A19: Iepirkuma daļas numurs | B19: Iekārtas nosaukums | C19: Iekārtu skaits * | D19: Pēcgarantijas periods, ņemot vērā, ka garantijas periods un pēcgarantijas periods veido piecus gadus | E19: Periodiski veicamā darba veids pēcgarantijas periodā | F19: Periodiski veicamā darba skaits vienai ierīcei pēcgarantijas periodā | G19: Viena periodiski veicamā darba maināmo rezerves daļu izmaksas, ja attiecināms, EUR bez PVN | H19: Viena periodiski veicamā darba paredzamais ilgums, stundas | I19: Periodiski veicamo darbu servisa stundas likme, EUR bez PVN | J19: Remonta servisa stundas likme, EUR bez PVN | K19: Vai ražotājs ir paredzējis elektrodrošības pārbaudes periodiski veicamo darbu ietvaros? (Jā/Nē) | L19: Vai ražotājs ir paredzējis funkcionālās pārbaudes periodiski veicamo darbu ietvaros? (Jā/Nē) | M19: Summa par viena periodiski veicamā darba veidu pēcgarantijas periodā visām iekārtām, EUR bez PVN | N19: Summa par visiem periodiski veicamajiem darbiem pēcgarantijas periodā visām iekārtām, EUR bez PVN | O19: Piezīmes
A20: 1 | B20: 2 | C20: 3 | D20: 4 | E20: 5 | F20: 6 | G20: 7 | H20: 8 | I20: 9 | J20: 10 | K20: 11 | L20: 12 | M20: 13 | N20: 14 | O20: 15
A21: 1. daļa | B21: Mākslīgā plaušu ventilācijas ierīce | C21: 5 | D21: 3 | E21: 1000h apkope | F21: 2 | G21: 500 | H21: 3 | I21: 35 | J21: 35 | K21: JĀ | L21: JĀ | M21: =C21*(F21*(G21+(H21*I21))) -> 6050 | N21: =M21+M22 -> 6312.5
C22: 5 | D22: 3 | E22: 2 gadu pārbaude | F22: 1 | G22: 0 | H22: 1.5 | I22: 35 | J22: 35 | K22: JĀ | L22: JĀ | M22: =C22*(F22*(G22+(H22*I22))) -> 262.5

Sheet Finanšu piedāvājums
B1: Finanšu piedāvājums
B2: Iekārtu iegādes izmaksas
A3: Iepirkuma pozīcijas numurs | B3: Tehniskās specifikācijas punkta numurs | C3: Iekārtas nosaukums | D3: Iekārtu skaits * | E3: Vienas vienības cena, EUR bez PVN | F3: Summa, EUR bez PVN | G3: PVN likme, % | H3: Summa par iekārtu tehnisko apkalpošanu (ja ražotājs tādu ir paredzējis) | I3: Vērtējamā summa | J3: Komentārs
A4: 1. pozīcija | B4: 1. | C4: Jaundzimušo sildītājs ar ūdens matraci | D4: 5 | F4: =E4*D4 -> 0 | H4: ='Iekārtu tehniskā apkalpošana'!N7 -> 0 | I4: =H4+F4+SUM(F6:F12) -> 0
B5: 1.4. | C5: Piederumi, saderīgi ar piedāvāto iekārtu (tiek norādīta cena par katru piederumu atsevišķi, tiks pasūtīti pēc nepieciešamības, papildus norādīto piederumu cena netiek iekļauta vērtējamajā cenā): | H5: Nav attiecināms
B6: 1.4.1. | C6: Sildošais elements (virsma) | D6: 5 | F6: =E6*D6 -> 0
B7: 1.4.2. | C7: Ūdens iepildīšanas caurule, ja attiecināms | D7: 1 | F7: =E7*D7 -> 0
B8: 1.4.3. | C8: Jaundzimušo ligzdiņa, vienvietīga - krāsa saskaņojama (piedāvājuma iesniegt iespējamās krāsas) | D8: 1 | F8: =E8*D8 -> 0
B9: 1.4.4. | C9: Jaundzimušo ligzdiņa, dvīņu - krāsa saskaņojama (piedāvājuma iesniegt iespējamās krāsas) | D9: 1 | F9: =E9*D9 -> 0
B10: 1.4.5. | C10: Ūdens matracis, vienvietīgais | D10: 5 | F10: =E10*D10 -> 0
B11: 1.4.6. | C11: Ūdens matracis, dvīņu | D11: 1 | F11: =E11*D11 -> 0
B12: 1.4.7. | C12: Ūdens matrača attīrīšanas ķīmijas komplekts | D12: 5 | F12: =E12*D12 -> 0
B13: 1.4.8. | C13: Citi piederumi, kas nepieciešamas piedāvātajai iekārtai, lai nodrošinātu tehniskajā aprakstā norādīto funkcionalitāti un/vai pieejamie papildinājumi. (rindiņas atļauts papildināt zemāk pēc nepieciešamības, vienā rindinā ierakstīt ne vairāk kā vienu piederumu) | D13: 1 | F13: =E13*D13 -> 0
A16: 2. pozīcija | B16: 2. | C16: Transkutāns CO2 monitors | D16: 1 | F16: =E16*D16 -> 0 | H16: ='Iekārtu tehniskā apkalpošana'!N8 -> 0 | I16: =F16+H16+SUM(F19:F25) -> 0
B17: 2.4. | C17: Piederumi, saderīgi ar piedāvāto iekārtu (tiek norādīta cena par katru piederumu atsevišķi, tiks pasūtīti pēc nepieciešamības, papildus norādīto piederumu cena netiek iekļauta vērtējamajā cenā): | H17: Nav attiecināms
B18: 2.4.1. | C18: Sensora stiprinājums:
B19: 2.4.1.1. | C19: Normālai ādai | D19: 150 | F19: =E19*D19 -> 0
B20: 2.4.1.2. | C20: Jutīgai ādai | D20: 100 | F20: =E20*D20 -> 0
B21: 2.4.1.3. | C21: Ausu klipsis | D21: 5 | F21: =E21*D21 -> 0
B22: 2.4.2. | C22: Membrāna un membrānas mainītājs, vienreizlietojams | D22: 5 | F22: =E22*D22 -> 0
B23: 2.4.3. | C23: Kalibrācijas gāze | D23: 2 | F23: =E23*D23 -> 0
B24: 2.4.4. | C24: Gumijas gredzens | D24: 1 | F24: =E24*D24 -> 0
B25: 2.4.5. | C25: Gēls kontakta, 5 ml | D25: 3 | F25: =E25*D25 -> 0
B26: 2.4.6. | C26: Citi piederumi, kas nepieciešamas piedāvātajai iekārtai, lai nodrošinātu tehniskajā aprakstā norādīto funkcionalitāti un/vai pieejamie papildinājumi. (rindiņas atļauts papildināt zemāk pēc nepieciešamības, vienā rindinā ierakstīt ne vairāk kā vienu piederumu) | D26: 1 | F26: =E26*D26 -> 0
A29: 3. pozīcija | B29: 3. | C29: Fototerapijas lampa jaundzimušajiem | D29: 2 | F29: =E29*D29 -> 0 | H29: ='Iekārtu tehniskā apkalpošana'!N9 -> 0
B30: 3.4. | C30: Piederumi, saderīgi ar piedāvāto iekārtu (tiek norādīta cena par katru piederumu atsevišķi, tiks pasūtīti pēc nepieciešamības, papildus norādīto piederumu cena netiek iekļauta vērtējamajā cenā): | H30: Nav attiecināms | I30: =F29+H29+F31 -> 0
B31: 3.4.1. | C31: Radiometrs | D31: 1 | F31: =E31*D31 -> 0
B32: 3.4.2. | C32: Citi piederumi, kas nepieciešamas piedāvātajai iekārtai, lai nodrošinātu tehniskajā aprakstā norādīto funkcionalitāti un/vai pieejamie papildinājumi. (rindiņas atļauts papildināt zemāk pēc nepieciešamības, vienā rindinā ierakstīt ne vairāk kā vienu piederumu) | D32: 1 | F32: =E32*D32 -> 0
A35: 4. pozīcija | B35: 4. | C35: Jaundzimušo apsildāmā lampa | D35: 2 | F35: =E35*D35 -> 0 | H35: ='Iekārtu tehniskā apkalpošana'!N10 -> 0 | I35: =F35+H35 -> 0
A36: 5. pozīcija | B36: 5. | C36: Infūzijas sūkņu un perfuzoru stacija magnētiskās rezonanses kabinetam | D36: 1 | F36: =E36*D36 -> 0 | H36: ='Iekārtu tehniskā apkalpošana'!N11 -> 0 | I36: =F36+H36 -> 0
A37: 6. pozīcija | B37: 6. | C37: Transkutānais CO2 monitorēšanas modulis | D37: 1 | F37: =E37*D37 -> 0 | H37: ='Iekārtu tehniskā apkalpošana'!N12 -> 0 | I37: =F37+H37+SUM(F40:F46) -> 0
B38: 6.3. | C38: Piederumi, saderīgi ar piedāvāto iekārtu (tiek norādīta cena par katru piederumu atsevišķi, tiks pasūtīti pēc nepieciešamības, papildus norādīto piederumu cena netiek iekļauta vērtējamajā cenā): | H38: Nav attiecināms
B39: 6.3.1. | C39: Sensora stiprinājums:
B40: 6.3.1.1. | C40: Normālai ādai | D40: 50 | F40: =E40*D40 -> 0
B41: 6.3.1.2. | C41: Jutīgai ādai | D41: 25 | F41: =E41*D41 -> 0
B42: 6.3.1.3. | C42: Ausu klipsis | D42: 5 | F42: =E42*D42 -> 0
B43: 6.3.2. | C43: Membrāna un membrānas mainītājs, vienreizlietojams | D43: 5 | F43: =E43*D43 -> 0
B44: 6.3.3. | C44: Kalibrācijas gāze | D44: 2 | F44: =E44*D44 -> 0
B45: 6.3.4. | C45: Gumijas gredzens | D45: 1 | F45: =E45*D45 -> 0
B46: 6.3.5. | C46: Gēls kontakta, 5 ml | D46: 3 | F46: =E46*D46 -> 0
B47: 6.3.6. | C47: Citi piederumi, kas nepieciešamas piedāvātajai iekārtai, lai nodrošinātu tehniskajā aprakstā norādīto funkcionalitāti un/vai pieejamie papildinājumi. (rindiņas atļauts papildināt zemāk pēc nepieciešamības, vienā rindinā ierakstīt ne vairāk kā vienu piederumu) | D47: 1 | F47: =E47*D47 -> 0
A50: 7. pozīcija | B50: 7. | C50: Skābekļa blenderis augstas plūsmas | D50: 2 | F50: =E50*D50 -> 0 | H50: ='Iekārtu tehniskā apkalpošana'!N13 -> 0 | I50: =F50+H50+SUM(F52:F55) -> 0
B51: 7.5. | C51: Piederumi, saderīgi ar piedāvāto iekārtu (tiek norādīta cena par katru piederumu atsevišķi, tiks pasūtīti pēc nepieciešamības, papildus norādīto piederumu cena netiek iekļauta vērtējamajā cenā): | H51: Nav attiecināms
B52: 7.5.1. | C52: Gāzes cauruļu komplekts (skābeklis, gaiss), saderīgs ar slimnīcā esošajām DIN standarta gāzes ligzdām | D52: 1 | F52: =E52*D52 -> 0
B53: 7.5.2. | C53: Statīvs | D53: 1 | F53: =E53*D53 -> 0
B54: 7.5.3. | C54: Blendera statīva stieņa stiprinājums | D54: 1 | F54: =E54*D54 -> 0
B55: 7.5.4. | C55: Mitrinātāja statīva stieņa stiprinājums | D55: 1 | F55: =E55*D55 -> 0
B56: 7.5.5. | C56: Citi piederumi, kas nepieciešamas piedāvātajai iekārtai, lai nodrošinātu tehniskajā aprakstā norādīto funkcionalitāti un/vai pieejamie papildinājumi. (rindiņas atļauts papildināt zemāk pēc nepieciešamības, vienā rindinā ierakstīt ne vairāk kā vienu piederumu) | D56: 1 | F56: =E56*D56 -> 0
A59: 8.pozīcija | B59: 8. | C59: Fibrooptiskais laringoskops | D59: 10 | F59: =E59*D59 -> 0 | H59: ='Iekārtu tehniskā apkalpošana'!N14 -> 0 | I59: =F59+H59+SUM(F62:F67)+SUM(F69:F73)+SUM(F75:F77) -> 0
B60: 8.7. | C60: Piederumi, saderīgi ar piedāvāto iekārtu (tiek norādīta cena par katru piederumu atsevišķi, tiks pasūtīti pēc nepieciešamības, papildus norādīto piederumu cena netiek iekļauta vērtējamajā cenā): | H60: Nav attiecināms
B61: 8.7.1 | C61: Standarta Miller tipa autoklavējami spoguļi ar integrētu fibrooptisko LED sistēmu (00. izmērs)
B62: 8.7.1.1 | C62: Garums 51 mm, atvērums 10 mm (Heine atsauces nr. F-000.22.119 vai analogs) | D62: 6 | F62: =E62*D62 -> 0
B63: 8.7.1.2 | C63: Garums 80 mm, atvērums 11 mm (Heine atsauces nr. F-000.22.120 vai analogs) | D63: 4 | F63: =E63*D63 -> 0
B64: 8.7.1.3 | C64: Garums 100 mm, atvērums 12 mm (Heine atsauces nr. F-000.22.121 vai analogs) | D64: 4 | F64: =E64*D64 -> 0
B65: 8.7.1.4 | C65: Garums 152 mm, atvērums 13 mm (Heine atsauces nr. F-000.22.122 vai analogs) | D65: 1 | F65: =E65*D65 -> 0
B66: 8.7.1.5 | C66: Garums 192 mm, atvērums 13 mm (Heine atsauces nr. F-000.22.123 vai analogs) | D66: 1 | F66: =E66*D66 -> 0
B67: 8.7.1.6 | C67: Garums 207 mm, atvērums 16 mm (Heine atsauces nr. F-000.22.124 vai analogs) | D67: 1 | F67: =E67*D67 -> 0
B68: 8.7.2 | C68: Standarta Macintosh tipa autoklavējami spoguļi ar integrētu fibrooptisko LED sistēmu (0 līdz 4. izmērs)
B69: 8.7.2.1 | C69: Garums 82 mm, atvērums 9 mm (Heine atsauces nr. F-000.22.100 vai analogs) | D69: 1 | F69: =E69*D69 -> 0
B70: 8.7.2.2 | C70: Garums 94 mm, atvērums 10 mm (Heine atsauces nr. F-000.22.101 vai analogs) | D70: 1 | F70: =E70*D70 -> 0
B71: 8.7.2.3 | C71: Garums 114 mm, atvērums 14 mm (Heine atsauces nr. F-000.22.102 vai analogs) | D71: 1 | F71: =E71*D71 -> 0
B72: 8.7.2.4 | C72: Garums 134 mm, atvērums 14 mm (Heine atsauces nr. F-000.22.103 vai analogs) | D72: 1 | F72: =E72*D72 -> 0
B73: 8.7.2.5 | C73: Garums 155 mm, atvērums 15 mm (Heine atsauces nr. F-000.22.104 vai analogs) | D73: 1 | F73: =E73*D73 -> 0
B74: 8.7.3 | C74: Rokturi:
B75: 8.7.3.1 | C75: Heine F-008.22.860 vai analogs | D75: 1 | F75: =E75*D75 -> 0
B76: 8.7.3.2 | C76: Heine F-008.22.800 vai analogs | D76: 4 | F76: =E76*D76 -> 0
A77: 9.pozīcija | B77: 9. | C77: Transporta kapnogrāfs | D77: 1 | F77: =E77*D77 -> 0 | H77: ='Iekārtu tehniskā apkalpošana'!N15 -> 0 | I77: =H77+F77 -> 0
