Workbook
Name _Hlk157777632: 'Kopsavilkums pa gadiem'!$J$2
Name _Hlk198063307: 'Kopsavilkums pa gadiem'!$J$3

Sheet Kopsavilkums pa gadiem
J1: 1.pielikums
J2: Atklāta konkursa
J3: “Apkures sistēmas tehniskā audita veikšana Balvu novada pašvaldības ēkām,
J4: ERAF projekta Nr.5.1.1.4/1/24/I/007 “Ēkas siltumapgādes
J5: sistēmas viedā vadība” realizācijas ietvaros”
J6: ID.Nr.BNP 2026/…..../ERAF AK
J7: nolikumam
J9: Tehniskās specifikācijas sagatavošanas laiks:
J10: 18.09.2025.
A12: Siltumenerģijas patēriņš, MWh, 2022.-2024.gads
A14: Ēka/Gads | C14: Ēkas platība | D14: 2022 | E14: 2023 | F14: 2024 | G14: Vidējais patēriņš, MWh | H14: 10% ietaupījums no vidējā gada patēriņa, MWh | I14: Siltumenerģijas patēriņš (MWh) pēc viedā risinājuma ieviešanas 2029. gadā (10%) | J14: Energo dati
A15: Rugāju vidusskola- sporta centrs un internāts | B15: Kurmenes iela 87A, Rugāji | C15: 2391.8 | D15: ='2022'!O4 -> 136.62 | E15: ='2023'!O4 -> 155.59 | F15: ='2024'!O4 -> 121.42 | G15: =(SUM(D15:F15))/3 -> 137.87667 | H15: =G15*0.1 -> 13.787667 | I15: =G15-H15 -> 124.089 | J15: Individuālā apkure (malka)
A16: Balvu Profesionālās un vispārizglītojošās vidusskola - internāts | B16: Vidzemes ielā 28, Balvi | C16: 1025.8 | D16: ='2022'!O5 -> 82.4 | E16: ='2023'!O5 -> 82.4 | F16: ='2024'!O5 -> 81.36 | G16: =(SUM(D16:F16))/3 -> 82.053333 | H16: =G16*0.1 -> 8.2053333 | I16: =G16-H16 -> 73.848 | J16: Centralizētā siltumapgāde
A17: Balvu Profesionālās un vispārizglītojošās vidusskola - sporta zāle | B17: Vidzemes ielā 26, Balvi | C17: 1098.4 | D17: ='2022'!O6 -> 171.55 | E17: ='2023'!O6 -> 156.64 | F17: ='2024'!O6 -> 140.45 | G17: =(SUM(D17:F17))/3 -> 156.21333 | H17: =G17*0.1 -> 15.621333 | I17: =G17-H17 -> 140.592 | J17: Centralizētā siltumapgāde
A18: Rugāju vidusskola | B18: Kurmenes iela 87, Rugāji | C18: 1743.1 | D18: ='2022'!O7 -> 159.39 | E18: ='2023'!O7 -> 158.62 | F18: ='2024'!O7 -> 138.12 | G18: =(SUM(D18:F18))/3 -> 152.04333 | H18: =G18*0.1 -> 15.204333 | I18: =G18-H18 -> 136.839 | J18: Individuālā apkure (malka)
A19: Baltinavas vidusskola | B19: Kārsavas iela 22, Baltinava | C19: 2452.8 | D19: ='2022'!O8 -> 105.07 | E19: ='2023'!O8 -> 144.71 | F19: ='2024'!O8 -> 258.61 | G19: =(SUM(D19:F19))/3 -> 169.46333 | H19: =G19*0.1 -> 16.946333 | I19: =G19-H19 -> 152.517 | J19: Individuālā apkure (malka)
A20: Balvu Profesionālās un vispārizglītojošās vidusskola - skola (visa skolas ēka ar darbnīcām) | B20: Vidzemes ielā 26, Balvi | C20: 3802.7 | D20: ='2022'!O9 -> 318.75 | E20: ='2023'!O9 -> 257.1 | F20: ='2024'!O9 -> 258.61 | G20: =(SUM(D20:F20))/3 -> 278.15333 | H20: =G20*0.1 -> 27.815333 | I20: =G20-H20 -> 250.338 | J20: Centralizētā siltumapgāde
A21: Balvu sākumskola | B21: Partizānu iela 16, Balvi | C21: 4571.19 | D21: ='2022'!O10 -> 321.7 | E21: ='2023'!O10 -> 324.05 | F21: ='2024'!O10 -> 292.47 | G21: =(SUM(D21:F21))/3 -> 312.74 | H21: =G21*0.1 -> 31.274 | I21: =G21-H21 -> 281.466 | J21: Centralizētā siltumapgāde
A22: Viļakas vidusskola | B22: Pils iela 11 a, Viļaka | C22: 5526 | D22: ='2022'!O11 -> 264.4 | E22: ='2023'!O11 -> 335.79 | F22: ='2024'!O11 -> 273.91 | G22: =(SUM(D22:F22))/3 -> 291.36667 | H22: =G22*0.1 -> 29.136667 | I22: =G22-H22 -> 262.23 | J22: Individuālā apkure (malka)
B23: KOPĀ: | C23: =SUM(C15:C22) -> 22611.79 | D23: =SUM(D15:D22) -> 1559.88 | E23: =SUM(E15:E22) -> 1614.9 | F23: =SUM(F15:F22) -> 1564.95 | G23: =SUM(G15:G22) -> 1579.91 | H23: =SUM(H15:H22) -> 157.991 | I23: =SUM(I15:I22) -> 1421.919

Sheet 2022
A1: Siltumenerģijas patēriņš, MWh, 2022. gada mēneši
A3: Ēka/Mēnesis | C3: janvāris | D3: februāris | E3: marts | F3: aprīlis | G3: maijs | H3: jūnijs | I3: jūlijs | J3: augusts | K3: septembris | L3: oktobris | M3: novembris | N3: decembris | O3: KOPĀ
A4: Rugāju vidusskola- sporta centrs un internāts | B4: Kurmenes iela 87A, Rugāji | C4: 22.77 | D4: 22.77 | E4: 22.77 | F4: 22.77 | G4: 0 | H4: 0 | I4: 0 | J4: 0 | K4: 0 | M4: 22.77 | N4: 22.77 | O4: =SUM(C4:N4) -> 136.62
A5: Balvu Profesionālās un vispārizglītojošās vidusskola - internāts | B5: Vidzemes ielā 28, Balvi | C5: 11.4 | D5: 13.55 | E5: 10.7 | F5: 7.23 | G5: 3.34 | H5: 0.9 | I5: 0.71 | J5: 1 | K5: 1.06 | L5: 6.02 | M5: 12.77 | N5: 13.72 | O5: =SUM(C5:N5) -> 82.4
A6: Balvu Profesionālās un vispārizglītojošās vidusskola - sporta zāle | B6: Vidzemes ielā 26, Balvi | C6: 29.84 | D6: 24.57 | E6: 21.03 | F6: 18.96 | G6: 2.67 | H6: 3.15 | I6: 2.36 | J6: 2.43 | K6: 4.65 | L6: 12.17 | M6: 17.92 | N6: 31.8 | O6: =SUM(C6:N6) -> 171.55
A7: Rugāju vidusskola | B7: Kurmenes iela 87, Rugāji | C7: 22.77 | D7: 22.77 | E7: 22.77 | F7: 22.77 | G7: 0 | H7: 0 | I7: 0 | J7: 0 | K7: 0 | L7: 22.77 | M7: 22.77 | N7: 22.77 | O7: =SUM(C7:N7) -> 159.39
A8: Baltinavas vidusskola | B8: Kārsavas iela 22, Baltinava | C8: 17.09 | D8: 21.29 | E8: 11.25 | F8: 12.9 | G8: 0 | H8: 0 | I8: 0 | J8: 0 | K8: 0 | L8: 3.61 | M8: 19.35 | N8: 19.58 | O8: =SUM(C8:N8) -> 105.07
A9: Balvu Profesionālās un vispārizglītojošās vidusskola - skola | B9: Vidzemes ielā 26, Balvi | C9: 61.13 | D9: 52.18 | E9: 41.58 | F9: 33.77 | G9: 3.26 | H9: 2.48 | I9: 2.07 | J9: 1.94 | K9: 7.61 | L9: 23.36 | M9: 31.25 | N9: 58.12 | O9: =SUM(C9:N9) -> 318.75
A10: Balvu sākumskola | B10: Partizānu iela 16, Balvi | C10: 60.04 | D10: 49.67 | E10: 39.31 | F10: 27.72 | G10: 12.54 | H10: 2 | I10: 0.48 | J10: 1.25 | K10: 5.67 | L10: 18.05 | M10: 35.36 | N10: 69.61 | O10: =SUM(C10:N10) -> 321.7
A11: Viļakas vidusskola | B11: Pils iela 11 a, Viļaka | C11: 52.2 | D11: 38.7 | E11: 29.2 | F11: 21 | G11: 13.4 | H11: 2 | I11: 0 | J11: 0 | K11: 4.2 | L11: 13.4 | M11: 44.4 | N11: 45.9 | O11: =SUM(C11:N11) -> 264.4

Sheet 2023
A1: Siltumenerģijas patēriņš, MWh, 2023.gada mēneši
A3: Ēka/Mēnesis | C3: janvāris | D3: februāris | E3: marts | F3: aprīlis | G3: maijs | H3: jūnijs | I3: jūlijs | J3: augusts | K3: septembris | L3: oktobris | M3: novembris | N3: decembris | O3: KOPĀ
A4: Rugāju vidusskola- sporta centrs un internāts | B4: Kurmenes iela 87A, Rugāji | C4: 22.77 | D4: 22.77 | E4: 22.77 | F4: 18.97 | G4: 0 | H4: 0 | I4: 0 | J4: 0 | K4: 0 | L4: 22.77 | M4: 22.77 | N4: 22.77 | O4: =SUM(C4:N4) -> 155.59
A5: Balvu Profesionālās un vispārizglītojošās vidusskola - internāts | B5: Vidzemes ielā 28, Balvi | C5: 11.4 | D5: 13.55 | E5: 10.7 | F5: 7.23 | G5: 3.34 | H5: 0.9 | I5: 0.71 | J5: 1 | K5: 1.06 | L5: 6.02 | M5: 12.77 | N5: 13.72 | O5: =SUM(C5:N5) -> 82.4
A6: Balvu Profesionālās un vispārizglītojošās vidusskola - sporta zāle | B6: Vidzemes ielā 26, Balvi | C6: 22.47 | D6: 24.68 | E6: 21.26 | F6: 13.14 | G6: 7.12 | H6: 3.02 | I6: 2.47 | J6: 2.59 | K6: 2.71 | L6: 9.49 | M6: 22.24 | N6: 25.45 | O6: =SUM(C6:N6) -> 156.64
A7: Rugāju vidusskola | B7: Kurmenes iela 87, Rugāji | C7: 22.77 | D7: 22.77 | E7: 22.77 | F7: 22.77 | G7: 0 | H7: 0 | I7: 0 | J7: 0 | K7: 0 | L7: 22 | M7: 22.77 | N7: 22.77 | O7: =SUM(C7:N7) -> 158.62
A8: Baltinavas vidusskola | B8: Kārsavas iela 22, Baltinava | C8: 30.36 | D8: 29.6 | E8: 32.9 | F8: 6.37 | G8: 0 | H8: 0 | I8: 0 | J8: 0 | K8: 0 | L8: 3.55 | M8: 12.9 | N8: 29.03 | O8: =SUM(C8:N8) -> 144.71
A9: Balvu Profesionālās un vispārizglītojošās vidusskola - skola | B9: Vidzemes ielā 26, Balvi | C9: 35.72 | D9: 41.7 | E9: 36.23 | F9: 23.75 | G9: 9.89 | H9: 1.21 | I9: 0.89 | J9: 0.78 | K9: 1.54 | L9: 15.28 | M9: 43.95 | N9: 46.16 | O9: =SUM(C9:N9) -> 257.1
A10: Balvu sākumskola | B10: Partizānu iela 16, Balvi | C10: 46.75 | D10: 53.12 | E10: 41.91 | F10: 21.52 | G10: 3.02 | H10: 1.01 | I10: 1.11 | J10: 2.25 | K10: 17.75 | L10: 17.75 | M10: 52.41 | N10: 65.45 | O10: =SUM(C10:N10) -> 324.05
A11: Viļakas vidusskola | B11: Pils iela 11 a, Viļaka | C11: 53.88 | D11: 50.84 | E11: 58.43 | F11: 36.43 | G11: 14.04 | H11: 0 | I11: 0 | J11: 0 | K11: 0 | L11: 31.11 | M11: 44.77 | N11: 46.29 | O11: =SUM(C11:N11) -> 335.79

Sheet 2024
A1: Siltumenerģijas patēriņš, MWh, 2024.gada mēneši
A3: Ēka/Mēnesis | C3: janvāris | D3: februāris | E3: marts | F3: aprīlis | G3: maijs | H3: jūnijs | I3: jūlijs | J3: augusts | K3: septembris | L3: oktobris | M3: novembris | N3: decembris | O3: KOPĀ
A4: Rugāju vidusskola- sporta centrs un internāts | B4: Kurmenes iela 87A, Rugāji | C4: 15.18 | D4: 11.38 | E4: 22.77 | F4: 18.97 | G4: 0 | H4: 0 | I4: 0 | J4: 0 | K4: 0 | L4: 15.94 | M4: 17.45 | N4: 19.73 | O4: =SUM(C4:N4) -> 121.42
A5: Balvu Profesionālās un vispārizglītojošās vidusskola - internāts | B5: Vidzemes ielā 28, Balvi | C5: 14.61 | D5: 13.75 | E5: 10.04 | F5: 7.53 | G5: 2.07 | H5: 0.93 | I5: 0.58 | J5: 0.51 | K5: 1.02 | L5: 6.73 | M5: 9.76 | N5: 13.83 | O5: =SUM(C5:N5) -> 81.36
A6: Balvu Profesionālās un vispārizglītojošās vidusskola - sporta zāle | B6: Vidzemes ielā 26, Balvi | C6: 31.65 | D6: 25.99 | E6: 19.22 | F6: 9.93 | G6: 4 | H6: 2.65 | I6: 0.57 | J6: 0 | K6: 0.9 | L6: 9.38 | M6: 14.69 | N6: 21.47 | O6: =SUM(C6:N6) -> 140.45
A7: Rugāju vidusskola | B7: Kurmenes iela 87, Rugāji | C7: 22.77 | D7: 26.56 | E7: 15.18 | F7: 18.97 | G7: 0 | H7: 0 | I7: 0 | J7: 0 | K7: 0 | L7: 15.94 | M7: 20.49 | N7: 18.21 | O7: =SUM(C7:N7) -> 138.12
A8: Baltinavas vidusskola | B8: Kārsavas iela 22, Baltinava | C8: 44.77 | D8: 29.69 | E8: 20.95 | F8: 0 | G8: 5 | H8: 0 | I8: 0 | J8: 0 | K8: 0 | L8: 5.31 | M8: 22.77 | N8: 26.56 | O8: =SUM(C9:N9) -> 258.61
A9: Balvu Profesionālās un vispārizglītojošās vidusskola - skola | B9: Vidzemes ielā 26, Balvi | C9: 54.95 | D9: 45.84 | E9: 30.19 | F9: 19.99 | G9: 5.5 | H9: 2.6 | I9: 2.01 | J9: 2.18 | K9: 2.67 | L9: 19.88 | M9: 31.75 | N9: 41.05 | O9: =SUM(C9:N9) -> 258.61
A10: Balvu sākumskola | B10: Partizānu iela 16, Balvi | C10: 73.8 | D10: 59.83 | E10: 41.6 | F10: 22.02 | G10: 4.89 | H10: 1.63 | I10: 0.99 | J10: 1.12 | K10: 2.36 | L10: 11.19 | M10: 29.92 | N10: 43.12 | O10: =SUM(C10:N10) -> 292.47
A11: Viļakas vidusskola | B11: Pils iela 11 a, Viļaka | C11: 41.74 | D11: 37.94 | E11: 34.15 | F11: 27.32 | G11: 5.31 | H11: 0 | I11: 0 | J11: 0 | K11: 0 | L11: 33.27 | M11: 46.18 | N11: 48 | O11: =SUM(C11:N11) -> 273.91
