Workbook

Sheet KOP
B1: 7.pielikums
A2: iepirkumam ID Nr. IeM NVA 2026/70
A7: BŪVNIECĪBAS KOPTĀME/FINANŠU PIEDĀVĀJUMS
A9: Būves nosaukums: Katlu telpas pārbūve un gāzes apkures pieslēgšana Skolas ielā 17, Bauskā, Bauskas novadā
A10: Būves adrese: Skolas ielā 17, Bauskā
A14: Nr. p.k. | B14: Objekta nosaukums | C14: Objekta izmaksas (Eur)
A15: 1 | B15: 2 | C15: 3
A16: 1 | B16: Katlu telpas pārbūve un gāzes apkures pieslēgšana Skolas ielā 17, Bauskā, Bauskas novadā | C16: =BUV!D25 -> 0
A17: Kopā: | C17: =C16 -> 0
A18: PVN ( 21%): | C18: =C17*0.21 -> 0
A19: Pavisam būvniecības izmaksas: | C19: =SUM(C17:C18) -> 0
B23: (Pretendenta pārstāvja paraksts)

Sheet BUV
A4: Pasūtītājs: Nodrošinājuma valsts aģentūra, reģistrācijas numurs 90009112024
A7: Kopsavilkuma aprēķini pa darba veidiem vai konstruktīvo elementu veidiem
A9: Būves nosaukums: Katlu telpas pārbūve un gāzes apkures pieslēgšana Skolas ielā 17, Bauskā, Bauskas novadā
A10: Būves adrese: Skolas ielā 17, Bauskā
A11: Pasūtījums Nr:
D12: Par kopējo summu ,Eur | G12: =D25 -> 0
D13: Kopēja darbietilpība, c/st. | G13: =H21 -> 0
A15: Nr.p.k. | B15: Kods, tāmes Nr. | C15: Darba veids vai konstruktīvā elementa nosaukums | D15: Tāmes izmaksas (Eur) | E15: tai skaitā | H15: Darbietilpība (c/h)
E16: Darba alga (Eur) | F16: Materiāli (Eur) | G16: Mehānismi (Eur)
A17: 1 | B17: 2 | C17: 3 | D17: 4 | E17: 5 | F17: 6 | G17: 7 | H17: 8
A18: 2 | B18: 2 | C18: GA daļa | D18: =GA!Q59 -> 0 | E18: =GA!N59 -> 0 | F18: =GA!O59 -> 0 | G18: =GA!P59 -> 0 | H18: =GA!M59 -> 0
A19: 3 | B19: 3 | C19: AR daļa | D19: =AR!P79 -> 0 | E19: =AR!M79 -> 0 | F19: =AR!N79 -> 0 | G19: =AR!O79 -> 0 | H19: =AR!L79 -> 0
A20: 4 | B20: 4 | C20: SM daļa | D20: =SM!P71 -> 0 | E20: =SM!M71 -> 0 | F20: =SM!N71 -> 0 | G20: =SM!O71 -> 0 | H20: =SM!L71 -> 0
A21: Kopā: | D21: =SUM(D18:D20) -> 0 | E21: =SUM(E18:E20) -> 0 | F21: =SUM(F18:F20) -> 0 | G21: =SUM(G18:G20) -> 0 | H21: =SUM(H18:H20) -> 0
A22: Virsizdevumi _%:
A23: tai skaitā darba aizsardzība _ no virsizdevumi ):
A24: Peļņa _%:
A25: Pavisam kopā: | D25: =D21+D22+D24 -> 0
A28: Sastādīja:
A29: (paraksts un tā atšifrējums, datums)
A32: Saskaņots:
A33: (paraksts un tā atšifrējums, datums)

Sheet GA
A1: Pasūtītājs: Nodrošinājuma valsts aģentūra, reģistrācijas numurs 90009112024
D2: Lokālā tāme Nr. 1
D3: GA daļa
B5: Būves nosaukums: | D5: Katlu telpas pārbūve un gāzes apkures pieslēgšana Skolas ielā 17, Bauskā, Bauskas novadā
B6: Objekta nosaukums: | D6: Katlu telpas pārbūve un gāzes apkures pieslēgšana Skolas ielā 17, Bauskā, Bauskas novadā
B7: Objekta adrese: | D7: Skolas ielā 17, Bauskā
B8: Pasūtījums Nr:
B10: Tāme sastādīta 202_. gada tirgus cenās | E10: Tāmes izmaksas | H10: =Q59 -> 0 | I10: euro | L10: Tāme sastādīta
A11: Nr. p.k. | B11: Apzīmējumi | C11: Darba nosaukums | D11: Mērv. | E11: Daudz. | G11: Vienības izmaksas | M11: Kopā uz visu apjomu | Q11: Summa (EUR)
F12: Piezīmes | G12: laika norma (c/h) | H12: darba samaksas likme (EUR/h) | I12: darba alga (EUR) | J12: materi- āli (EUR) | K12: mehāni- smi (EUR) | L12: kopā (EUR) | M12: darb- ietilpība (c/h) | N12: darba alga (EUR) | O12: materi- āli (EUR) | P12: mehāni- smi (EUR)
A13: 1 | B13: 2 | C13: 3 | D13: 4 | E13: 5 | F13: 6 | G13: 7 | H13: 8 | I13: 9 | J13: 10 | K13: 11 | L13: 12 | M13: 13 | N13: 14 | O13: 15 | P13: 16 | Q13: 17
C14: Iekšējie tīkli
C15: Gāzesapgāde GA
A16: =A15+1 -> 1 | B16: BOSCH | C16: Kondensācijas gāzes apkures katls CERAPURMAXX ZBR 100-3 (vai ekvivalents) | D16: gab. | E16: 2 | F16: skat SM sadalas spec. | I16: =ROUND(G16*H16,2) -> 0 | L16: =SUM(I16:K16) -> 0 | M16: =ROUND(E16*G16,2) -> 0 | N16: =ROUND(E16*I16,2) -> 0 | O16: =ROUND(E16*J16,2) -> 0 | P16: =ROUND(E16*K16,2) -> 0 | Q16: =SUM(N16:P16) -> 0
A17: =A16+1 -> 2 | B17: BOSCH | C17: Sūkņa grupa WBC 70-100 kW V2. Katla pieslēguma ventilis DN25 (vai ekvivalents) | D17: gab. | E17: 2 | F17: skat SM sadalas spec. | I17: =ROUND(G17*H17,2) -> 0 | L17: =SUM(I17:K17) -> 0 | M17: =ROUND(E17*G17,2) -> 0 | N17: =ROUND(E17*I17,2) -> 0 | O17: =ROUND(E17*J17,2) -> 0 | P17: =ROUND(E17*K17,2) -> 0 | Q17: =SUM(N17:P17) -> 0
A18: =A17+1 -> 3 | B18: BOSCH | C18: Kaskādes slēguma montāžas rāmis TL2 (vai ekvivalents) | D18: gab. | E18: 1 | F18: skat SM sadalas spec. | I18: =ROUND(G18*H18,2) -> 0 | L18: =SUM(I18:K18) -> 0 | M18: =ROUND(E18*G18,2) -> 0 | N18: =ROUND(E18*I18,2) -> 0 | O18: =ROUND(E18*J18,2) -> 0 | P18: =ROUND(E18*K18,2) -> 0 | Q18: =SUM(N18:P18) -> 0
A19: =A18+1 -> 4 | C19: Tērauda elektromet. caurules DN 65 (76,1x3,6) | D19: m | E19: 9 | I19: =ROUND(G19*H19,2) -> 0 | L19: =SUM(I19:K19) -> 0 | M19: =ROUND(E19*G19,2) -> 0 | N19: =ROUND(E19*I19,2) -> 0 | O19: =ROUND(E19*J19,2) -> 0 | P19: =ROUND(E19*K19,2) -> 0 | Q19: =SUM(N19:P19) -> 0
A20: =A19+1 -> 5 | C20: Tērauda elektromet. caurules DN 50 (60,3x3,6) | D20: m | E20: 10 | I20: =ROUND(G20*H20,2) -> 0 | L20: =SUM(I20:K20) -> 0 | M20: =ROUND(E21*G20,2) -> 0 | N20: =ROUND(E21*I20,2) -> 0 | O20: =ROUND(E21*J20,2) -> 0 | P20: =ROUND(E21*K20,2) -> 0 | Q20: =SUM(N20:P20) -> 0
A21: =A20+1 -> 6 | C21: Tērauda elektromet. caurules DN 40 (48,4x3,6) | D21: m | E21: 3 | I21: =ROUND(G21*H21,2) -> 0 | L21: =SUM(I21:K21) -> 0 | M21: =ROUND(E22*G21,2) -> 0 | N21: =ROUND(E22*I21,2) -> 0 | O21: =ROUND(E22*J21,2) -> 0 | P21: =ROUND(E22*K21,2) -> 0 | Q21: =SUM(N21:P21) -> 0
A22: =A21+1 -> 7 | C22: Tērauda elektromet. caurules DN 20 (26,9x2,9) | D22: m | E22: 11 | I22: =ROUND(G22*H22,2) -> 0 | L22: =SUM(I22:K22) -> 0 | M22: =ROUND(E22*G22,2) -> 0 | N22: =ROUND(E22*I22,2) -> 0 | O22: =ROUND(E22*J22,2) -> 0 | P22: =ROUND(E22*K22,2) -> 0 | Q22: =SUM(N22:P22) -> 0
A23: =A22+1 -> 8 | C23: Tērauda elektromet. caurules DN 15 (21,3x2,6) | D23: m | E23: 1 | I23: =ROUND(G23*H23,2) -> 0 | L23: =SUM(I23:K23) -> 0 | M23: =ROUND(E23*G23,2) -> 0 | N23: =ROUND(E23*I23,2) -> 0 | O23: =ROUND(E23*J23,2) -> 0 | P23: =ROUND(E23*K23,2) -> 0 | Q23: =SUM(N23:P23) -> 0
A24: =A23+1 -> 9 | C24: Gāzes skaitītājs ar iebūvēto korektoru "picoElcor" G-16 (vai ekvivalents) | D24: gab. | E24: 1 | F24: vai ekvivalents | I24: =ROUND(G24*H24,2) -> 0 | L24: =SUM(I24:K24) -> 0 | M24: =ROUND(E24*G24,2) -> 0 | N24: =ROUND(E24*I24,2) -> 0 | O24: =ROUND(E24*J24,2) -> 0 | P24: =ROUND(E24*K24,2) -> 0 | Q24: =SUM(N24:P24) -> 0
A25: =A24+1 -> 10 | B25: MADAS | C25: El.mag.vārsts Dn50 | D25: gab. | E25: 1 | F25: =F24 -> vai ekvivalents | I25: =ROUND(G25*H25,2) -> 0 | L25: =SUM(I25:K25) -> 0 | M25: =ROUND(E25*G25,2) -> 0 | N25: =ROUND(E25*I25,2) -> 0 | O25: =ROUND(E25*J25,2) -> 0 | P25: =ROUND(E25*K25,2) -> 0 | Q25: =SUM(N25:P25) -> 0
A26: =A25+1 -> 11 | C26: Gāzes nopludes detektors Metano H-220 (vai ekvivalents) | D26: gab. | E26: 1 | I26: =ROUND(G26*H26,2) -> 0 | L26: =SUM(I26:K26) -> 0 | M26: =ROUND(E26*G26,2) -> 0 | N26: =ROUND(E26*I26,2) -> 0 | O26: =ROUND(E26*J26,2) -> 0 | P26: =ROUND(E26*K26,2) -> 0 | Q26: =SUM(N26:P26) -> 0
A27: =A26+1 -> 12 | C27: Gāzes filtrs Dn50 Pn6 ar vitni | D27: gab. | E27: 1 | I27: =ROUND(G27*H27,2) -> 0 | L27: =SUM(I27:K27) -> 0 | M27: =ROUND(E27*G27,2) -> 0 | N27: =ROUND(E27*I27,2) -> 0 | O27: =ROUND(E27*J27,2) -> 0 | P27: =ROUND(E27*K27,2) -> 0 | Q27: =SUM(N27:P27) -> 0
A28: =A27+1 -> 13 | B28: Giacomini | C28: Lodveida gāzes krāns Dn50, Pn4 | D28: gab. | E28: 2 | F28: =F25 -> vai ekvivalents | I28: =ROUND(G28*H28,2) -> 0 | L28: =SUM(I28:K28) -> 0 | M28: =ROUND(E28*G28,2) -> 0 | N28: =ROUND(E28*I28,2) -> 0 | O28: =ROUND(E28*J28,2) -> 0 | P28: =ROUND(E28*K28,2) -> 0 | Q28: =SUM(N28:P28) -> 0
A29: =A28+1 -> 14 | B29: Giacomini | C29: Lodveida gāzes krāns Dn20, Pn4 | D29: gab. | E29: 1 | F29: =F28 -> vai ekvivalents | I29: =ROUND(G29*H29,2) -> 0 | L29: =SUM(I29:K29) -> 0 | M29: =ROUND(E29*G29,2) -> 0 | N29: =ROUND(E29*I29,2) -> 0 | O29: =ROUND(E29*J29,2) -> 0 | P29: =ROUND(E29*K29,2) -> 0 | Q29: =SUM(N29:P29) -> 0
A30: =A29+1 -> 15 | C30: Manometrs 0 - 60 mbar | D30: gab. | E30: 1 | I30: =ROUND(G30*H30,2) -> 0 | L30: =SUM(I30:K30) -> 0 | M30: =ROUND(E30*G30,2) -> 0 | N30: =ROUND(E30*I30,2) -> 0 | O30: =ROUND(E30*J30,2) -> 0 | P30: =ROUND(E30*K30,2) -> 0 | Q30: =SUM(N30:P30) -> 0
A31: =A30+1 -> 16 | C31: Manometra spiedpogkrāns Pn5 | D31: gab. | E31: 1 | I31: =ROUND(G31*H31,2) -> 0 | L31: =SUM(I31:K31) -> 0 | M31: =ROUND(E31*G31,2) -> 0 | N31: =ROUND(E31*I31,2) -> 0 | O31: =ROUND(E31*J31,2) -> 0 | P31: =ROUND(E31*K31,2) -> 0 | Q31: =SUM(N31:P31) -> 0
A32: =A31+1 -> 17 | C32: Līkums 90o Dn65 | D32: gab. | E32: 9 | I32: =ROUND(G32*H32,2) -> 0 | L32: =SUM(I32:K32) -> 0 | M32: =ROUND(E32*G32,2) -> 0 | N32: =ROUND(E32*I32,2) -> 0 | O32: =ROUND(E32*J32,2) -> 0 | P32: =ROUND(E32*K32,2) -> 0 | Q32: =SUM(N32:P32) -> 0
A33: =A32+1 -> 18 | C33: Līkums 90o Dn50 | D33: gab. | E33: 7 | I33: =ROUND(G33*H33,2) -> 0 | L33: =SUM(I33:K33) -> 0 | M33: =ROUND(E33*G33,2) -> 0 | N33: =ROUND(E33*I33,2) -> 0 | O33: =ROUND(E33*J33,2) -> 0 | P33: =ROUND(E33*K33,2) -> 0 | Q33: =SUM(N33:P33) -> 0
A34: =A33+1 -> 19 | C34: Līkums 90o Dn40 | D34: gab. | E34: 4 | I34: =ROUND(G34*H34,2) -> 0 | L34: =SUM(I34:K34) -> 0 | M34: =ROUND(E34*G34,2) -> 0 | N34: =ROUND(E34*I34,2) -> 0 | O34: =ROUND(E34*J34,2) -> 0 | P34: =ROUND(E34*K34,2) -> 0 | Q34: =SUM(N34:P34) -> 0
A35: =A34+1 -> 20 | C35: Līkums 90o Dn20 | D35: gab. | E35: 8 | I35: =ROUND(G35*H35,2) -> 0 | L35: =SUM(I35:K35) -> 0 | M35: =ROUND(E35*G35,2) -> 0 | N35: =ROUND(E35*I35,2) -> 0 | O35: =ROUND(E35*J35,2) -> 0 | P35: =ROUND(E35*K35,2) -> 0 | Q35: =SUM(N35:P35) -> 0
A36: =A35+1 -> 21 | C36: Līkums 90o Dn15 | D36: gab. | E36: 3 | I36: =ROUND(G36*H36,2) -> 0 | L36: =SUM(I36:K36) -> 0 | M36: =ROUND(E36*G36,2) -> 0 | N36: =ROUND(E36*I36,2) -> 0 | O36: =ROUND(E36*J36,2) -> 0 | P36: =ROUND(E36*K36,2) -> 0 | Q36: =SUM(N36:P36) -> 0
A37: =A36+1 -> 22 | C37: Tērauda T-gabals Dn65 | D37: gab. | E37: 1 | I37: =ROUND(G37*H37,2) -> 0 | L37: =SUM(I37:K37) -> 0 | M37: =ROUND(E37*G37,2) -> 0 | N37: =ROUND(E37*I37,2) -> 0 | O37: =ROUND(E37*J37,2) -> 0 | P37: =ROUND(E37*K37,2) -> 0 | Q37: =SUM(N37:P37) -> 0
A38: =A37+1 -> 23 | C38: Tērauda T-gabals Dn50 | D38: gab. | E38: 2 | I38: =ROUND(G38*H38,2) -> 0 | L38: =SUM(I38:K38) -> 0 | M38: =ROUND(E38*G38,2) -> 0 | N38: =ROUND(E38*I38,2) -> 0 | O38: =ROUND(E38*J38,2) -> 0 | P38: =ROUND(E38*K38,2) -> 0 | Q38: =SUM(N38:P38) -> 0
A39: =A38+1 -> 24 | C39: Tērauda T-gabals Dn40 | D39: gab. | E39: 1 | I39: =ROUND(G39*H39,2) -> 0 | L39: =SUM(I39:K39) -> 0 | M39: =ROUND(E39*G39,2) -> 0 | N39: =ROUND(E39*I39,2) -> 0 | O39: =ROUND(E39*J39,2) -> 0 | P39: =ROUND(E39*K39,2) -> 0 | Q39: =SUM(N39:P39) -> 0
A40: =A39+1 -> 25 | C40: Tērauda T-gabals Dn15 | D40: gab. | E40: 1 | I40: =ROUND(G40*H40,2) -> 0 | L40: =SUM(I40:K40) -> 0 | M40: =ROUND(E40*G40,2) -> 0 | N40: =ROUND(E40*I40,2) -> 0 | O40: =ROUND(E40*J40,2) -> 0 | P40: =ROUND(E40*K40,2) -> 0 | Q40: =SUM(N40:P40) -> 0
A41: =A40+1 -> 26 | C41: Pāreja 65/40 | D41: gab. | E41: 2 | I41: =ROUND(G41*H41,2) -> 0 | L41: =SUM(I41:K41) -> 0 | M41: =ROUND(E41*G41,2) -> 0 | N41: =ROUND(E41*I41,2) -> 0 | O41: =ROUND(E41*J41,2) -> 0 | P41: =ROUND(E41*K41,2) -> 0 | Q41: =SUM(N41:P41) -> 0
... A47: =A46+1 -> 32 | C47: Izpūšanas sveces uzstādīšana | D47: gab. | E47: 1 | I47: =ROUND(G47*H47,2) -> 0 | L47: =SUM(I47:K47) -> 0 | M47: =ROUND(E47*G47,2) -> 0 | N47: =ROUND(E47*I47,2) -> 0 | O47: =ROUND(E47*J47,2) -> 0 | P47: =ROUND(E47*K47,2) -> 0 | Q47: =SUM(N47:P47) -> 0
...

Sheet AR
A1: Pasūtītājs: Nodrošinājuma valsts aģentūra, reģistrācijas numurs 90009112024
D2: Lokālā tāme Nr. 2
D3: AR daļa
B5: Būves nosaukums: | D5: Katlu telpas pārbūve un gāzes apkures pieslēgšana Skolas ielā 17, Bauskā, Bauskas novadā
B6: Objekta nosaukums: | D6: Katlu telpas pārbūve un gāzes apkures pieslēgšana Skolas ielā 17, Bauskā, Bauskas novadā
B7: Objekta adrese: | D7: Skolas ielā 17, Bauskā
B8: Pasūtījums Nr:
B10: Tāme sastādīta 202_. gada tirgus cenās | E10: Tāmes izmaksas | G10: =P79 -> 0 | H10: euro | K10: Tāme sastādīta
A11: Nr. p.k. | B11: Kods | C11: Darba nosaukums | D11: Mērv. | E11: Daudz. | F11: Vienības izmaksas | L11: Kopā uz visu apjomu | P11: Summa (EUR)
F12: laika norma (c/h) | G12: darba samaksas likme (EUR/h) | H12: darba alga (EUR) | I12: materi- āli (EUR) | J12: mehāni- smi (EUR) | K12: kopā (EUR) | L12: darb- ietilpība (c/h) | M12: darba alga (EUR) | N12: materi- āli (EUR) | O12: mehāni- smi (EUR)
A13: 1 | B13: 2 | C13: 3 | D13: 4 | E13: 5 | F13: 6 | G13: 7 | H13: 8 | I13: 9 | J13: 10 | K13: 11 | L13: 12 | M13: 13 | N13: 14 | O13: 15 | P13: 16
C14: Katlumāja
C15: Celtniecības darbi
A16: =A15+1 -> 1 | C16: Grīdas malu frezēšana ar betona zāģi | D16: m | E16: 5.6 | H16: =ROUND(F16*G16,2) -> 0 | K16: =SUM(H16:J16) -> 0 | L16: =ROUND(E16*F16,2) -> 0 | M16: =ROUND(E16*H16,2) -> 0 | N16: =ROUND(E16*I16,2) -> 0 | O16: =ROUND(E16*J16,2) -> 0 | P16: =SUM(M16:O16) -> 0
A17: =A16+1 -> 2 | C17: Grīdas seguma uzlaušana 0,5 m platumā atdalošās sienas pamata izbūvei | D17: m² | E17: 1.5 | H17: =ROUND(F17*G17,2) -> 0 | K17: =SUM(H17:J17) -> 0 | L17: =ROUND(E17*F17,2) -> 0 | M17: =ROUND(E17*H17,2) -> 0 | N17: =ROUND(E17*I17,2) -> 0 | O17: =ROUND(E17*J17,2) -> 0 | P17: =SUM(M17:O17) -> 0
A18: =A17+1 -> 3 | C18: Tranšejas rakšana pamatam h=0,50 m ar roku darbu | D18: m³ | E18: 0.8 | H18: =ROUND(F18*G18,2) -> 0 | K18: =SUM(H18:J18) -> 0 | L18: =ROUND(E18*F18,2) -> 0 | M18: =ROUND(E18*H18,2) -> 0 | N18: =ROUND(E18*I18,2) -> 0 | O18: =ROUND(E18*J18,2) -> 0 | P18: =SUM(M18:O18) -> 0
A19: =A18+1 -> 4 | C19: Blietētās šķembu pamatnes izbūve pamatam 100 mm biez. | D19: m² | E19: 1.4 | H19: =ROUND(F19*G19,2) -> 0 | K19: =SUM(H19:J19) -> 0 | L19: =ROUND(E19*F19,2) -> 0 | M19: =ROUND(E19*H19,2) -> 0 | N19: =ROUND(E19*I19,2) -> 0 | O19: =ROUND(E19*J19,2) -> 0 | P19: =SUM(M19:O19) -> 0
A20: =A19+1 -> 5 | C20: Dolomita šķembas k=1,25 | D20: m³ | E20: 0.2 | H20: =ROUND(F20*G20,2) -> 0 | K20: =SUM(H20:J20) -> 0 | L20: =ROUND(E20*F20,2) -> 0 | M20: =ROUND(E20*H20,2) -> 0 | N20: =ROUND(E20*I20,2) -> 0 | O20: =ROUND(E20*J20,2) -> 0 | P20: =SUM(M20:O20) -> 0
A21: =A20+1 -> 6 | C21: Lentveida pamata h=200 mm betonēšana sienai ar betonu C20/25 ar stiegrojuma ievietošanu | D21: m³ | E21: 2 | H21: =ROUND(F21*G21,2) -> 0 | K21: =SUM(H21:J21) -> 0 | L21: =ROUND(E21*F21,2) -> 0 | M21: =ROUND(E21*H21,2) -> 0 | N21: =ROUND(E21*I21,2) -> 0 | O21: =ROUND(E21*J21,2) -> 0 | P21: =SUM(M21:O21) -> 0
A22: =A21+1 -> 7 | C22: Monolītais betons markas C20/25 h=200 mm | D22: m³ | E22: 2.2 | H22: =ROUND(F22*G22,2) -> 0 | K22: =SUM(H22:J22) -> 0 | L22: =ROUND(E22*F22,2) -> 0 | M22: =ROUND(E22*H22,2) -> 0 | N22: =ROUND(E22*I22,2) -> 0 | O22: =ROUND(E22*J22,2) -> 0 | P22: =SUM(M22:O22) -> 0
A23: =A22+1 -> 8 | C23: OSB-3 plātne 15 mm | D23: m² | E23: 2.8 | H23: =ROUND(F23*G23,2) -> 0 | K23: =SUM(H23:J23) -> 0 | L23: =ROUND(E23*F23,2) -> 0 | M23: =ROUND(E23*H23,2) -> 0 | N23: =ROUND(E23*I23,2) -> 0 | O23: =ROUND(E23*J23,2) -> 0 | P23: =SUM(M23:O23) -> 0
A24: =A23+1 -> 9 | C24: Stiegra d10 mm B500B | D24: m | E24: 15 | H24: =ROUND(F24*G24,2) -> 0 | K24: =SUM(H24:J24) -> 0 | L24: =ROUND(E24*F24,2) -> 0 | M24: =ROUND(E24*H24,2) -> 0 | N24: =ROUND(E24*I24,2) -> 0 | O24: =ROUND(E24*J24,2) -> 0 | P24: =SUM(M24:O24) -> 0
A25: =A24+1 -> 10 | C25: Stiegras d8 mm B500B | D25: m | E25: 4 | H25: =ROUND(F25*G25,2) -> 0 | K25: =SUM(H25:J25) -> 0 | L25: =ROUND(E25*F25,2) -> 0 | M25: =ROUND(E25*H25,2) -> 0 | N25: =ROUND(E25*I25,2) -> 0 | O25: =ROUND(E25*J25,2) -> 0 | P25: =SUM(M25:O25) -> 0
A26: =A25+1 -> 11 | C26: Pamatu horizontālā hidroizolācija ar 2 kārtām ruberoida pa bituma mastiku | D26: m² | E26: 0.5 | H26: =ROUND(F26*G26,2) -> 0 | K26: =SUM(H26:J26) -> 0 | L26: =ROUND(E26*F26,2) -> 0 | M26: =ROUND(E26*H26,2) -> 0 | N26: =ROUND(E26*I26,2) -> 0 | O26: =ROUND(E26*J26,2) -> 0 | P26: =SUM(M26:O26) -> 0
A27: =A26+1 -> 12 | C27: Ruberoids | D27: m² | E27: 1.2 | H27: =ROUND(F27*G27,2) -> 0 | K27: =SUM(H27:J27) -> 0 | L27: =ROUND(E27*F27,2) -> 0 | M27: =ROUND(E27*H27,2) -> 0 | N27: =ROUND(E27*I27,2) -> 0 | O27: =ROUND(E27*J27,2) -> 0 | P27: =SUM(M27:O27) -> 0
... A47: =A46+1 -> 32 | C47: Apaļā atvēruma DN200 mm (d114,3 mm) ventilācijas kanālam izkalšana ķieģeļu sienā | D47: vieta | E47: 1 | H47: =ROUND(F47*G47,2) -> 0 | K47: =SUM(H47:J47) -> 0 | L47: =ROUND(E47*F47,2) -> 0 | M47: =ROUND(E47*H47,2) -> 0 | N47: =ROUND(E47*I47,2) -> 0 | O47: =ROUND(E47*J47,2) -> 0 | P47: =SUM(M47:O47) -> 0
A48: =A47+1 -> 33 | C48: Apaļa atvēruma d 42,4mm priekš gāzes svēces | D48: vieta | E48: 1 | K48: =SUM(H48:J48) -> 0 | L48: =ROUND(E48*F48,2) -> 0 | M48: =ROUND(E48*H48,2) -> 0 | N48: =ROUND(E48*I48,2) -> 0 | O48: =ROUND(E48*J48,2) -> 0 | P48: =SUM(M48:O48) -> 0
A49: =A48+1 -> 34 | C49: Apaļa atvēruma d 219,1 mm ventilācijas kanālam izkalšana ķieģelu sienā | D49: vieta | E49: 2 | K49: =SUM(H49:J49) -> 0 | L49: =ROUND(E49*F49,2) -> 0 | M49: =ROUND(E49*H49,2) -> 0 | N49: =ROUND(E49*I49,2) -> 0 | O49: =ROUND(E49*J49,2) -> 0 | P49: =SUM(M49:O49) -> 0
A50: =A49+1 -> 35 | C50: Ugunsdrošās uzmavas DN244,5 | D50: gab. | E50: 1 | H50: =ROUND(F50*G50,2) -> 0 | K50: =SUM(H50:J50) -> 0 | L50: =ROUND(E50*F50,2) -> 0 | M50: =ROUND(E50*H50,2) -> 0 | N50: =ROUND(E50*I50,2) -> 0 | O50: =ROUND(E50*J50,2) -> 0 | P50: =SUM(M50:O50) -> 0
A51: =A50+1 -> 36 | C51: Ugunsdrošā uzmava d114,3 | D51: gab. | E51: 1 | H51: =ROUND(F51*G51,2) -> 0 | K51: =SUM(H51:J51) -> 0 | L51: =ROUND(E51*F51,2) -> 0 | M51: =ROUND(E51*H51,2) -> 0 | N51: =ROUND(E51*I51,2) -> 0 | O51: =ROUND(E51*J51,2) -> 0 | P51: =SUM(M51:O51) -> 0
A52: =A51+1 -> 37 | C52: Ugunsdrošā uzmava d42,4 | D52: gab. | E52: 1 | K52: =SUM(H52:J52) -> 0 | L52: =ROUND(E52*F52,2) -> 0 | M52: =ROUND(E52*H52,2) -> 0 | N52: =ROUND(E52*I52,2) -> 0 | O52: =ROUND(E52*J52,2) -> 0 | P52: =SUM(M52:O52) -> 0
A53: =A52+1 -> 38 | C53: Ugunsdrošā uzmava d220 (d219,1) | D53: gab. | E53: 2 | K53: =SUM(H53:J53) -> 0 | L53: =ROUND(E53*F53,2) -> 0 | M53: =ROUND(E53*H53,2) -> 0 | N53: =ROUND(E53*I53,2) -> 0 | O53: =ROUND(E53*J53,2) -> 0 | P53: =SUM(M53:O53) -> 0
A54: =A53+1 -> 39 | C54: Iekšējo ugunsdrošo EI30 tērauda konstrukcijas durvju bloku 0,80x2,10 m , krāsotu ar pulverkrāsu RAL iebūve , ar rokturiem, slēdzeni, eņģēm montāža | D54: kmpl | E54: 1 | H54: =ROUND(F54*G54,2) -> 0 | K54: =SUM(H54:J54) -> 0 | L54: =ROUND(E54*F54,2) -> 0 | M54: =ROUND(E54*H54,2) -> 0 | N54: =ROUND(E54*I54,2) -> 0 | O54: =ROUND(E54*J54,2) -> 0 | P54: =SUM(M54:O54) -> 0
A55: =A54+1 -> 40 | C55: Papildmateriāli (ugunsdrošais blīvējums u.c.) | D55: kmpl | E55: 1 | H55: =ROUND(F55*G55,2) -> 0 | K55: =SUM(H55:J55) -> 0 | L55: =ROUND(E55*F55,2) -> 0 | M55: =ROUND(E55*H55,2) -> 0 | N55: =ROUND(E55*I55,2) -> 0 | O55: =ROUND(E55*J55,2) -> 0 | P55: =SUM(M55:O55) -> 0
A56: =A55+1 -> 41 | C56: Ārējo metāla konstrukcijas durvju bloku 0,90x2,10 m , krāsotu ar pulverkrāsu RAL iebūve , ar rokturiem, slēdzeni, eņģēm montāža | D56: kmpl | E56: 1 | H56: =ROUND(F56*G56,2) -> 0 | K56: =SUM(H56:J56) -> 0 | L56: =ROUND(E56*F56,2) -> 0 | M56: =ROUND(E56*H56,2) -> 0 | N56: =ROUND(E56*I56,2) -> 0 | O56: =ROUND(E56*J56,2) -> 0 | P56: =SUM(M56:O56) -> 0
A57: =A56+1 -> 42 | C57: Papildmateriāli (ugunsdrošais blīvējums u.c.) | D57: kmpl | E57: 1 | H57: =ROUND(F57*G57,2) -> 0 | K57: =SUM(H57:J57) -> 0 | L57: =ROUND(E57*F57,2) -> 0 | M57: =ROUND(E57*H57,2) -> 0 | N57: =ROUND(E57*I57,2) -> 0 | O57: =ROUND(E57*J57,2) -> 0 | P57: =SUM(M57:O57) -> 0
A58: =A57+1 -> 43 | C58: Regulējama metāliskā reste iebūvējamā metāla ārdurvis ar brīvo šķersgriezumu 1200 cm² | D58: gab. | E58: 1 | H58: =ROUND(F58*G58,2) -> 0 | K58: =SUM(H58:J58) -> 0 | L58: =ROUND(E58*F58,2) -> 0 | M58: =ROUND(E58*H58,2) -> 0 | N58: =ROUND(E58*I58,2) -> 0 | O58: =ROUND(E58*J58,2) -> 0 | P58: =SUM(M58:O58) -> 0
A59: =A58+1 -> 44 | C59: Durvju ailas malu apdare | D59: m | E59: 20.4 | H59: =ROUND(F59*G59,2) -> 0 | K59: =SUM(H59:J59) -> 0 | L59: =ROUND(E59*F59,2) -> 0 | M59: =ROUND(E59*H59,2) -> 0 | N59: =ROUND(E59*I59,2) -> 0 | O59: =ROUND(E59*J59,2) -> 0 | P59: =SUM(M59:O59) -> 0
A60: =A59+1 -> 45 | C60: Grunts | D60: kg | E60: 1.63 | H60: =ROUND(F60*G60,2) -> 0 | K60: =SUM(H60:J60) -> 0 | L60: =ROUND(E60*F60,2) -> 0 | M60: =ROUND(E60*H60,2) -> 0 | N60: =ROUND(E60*I60,2) -> 0 | O60: =ROUND(E60*J60,2) -> 0 | P60: =SUM(M60:O60) -> 0
A61: =A60+1 -> 46 | C61: Ģipša apmetums | D61: kg | E61: 91.8 | H61: =ROUND(F61*G61,2) -> 0 | K61: =SUM(H61:J61) -> 0 | L61: =ROUND(E61*F61,2) -> 0 | M61: =ROUND(E61*H61,2) -> 0 | N61: =ROUND(E61*I61,2) -> 0 | O61: =ROUND(E61*J61,2) -> 0 | P61: =SUM(M61:O61) -> 0
...

Sheet SM
A1: Pasūtītājs: Nodrošinājuma valsts aģentūra, reģistrācijas numurs 90009112024
D2: Lokālā tāme Nr. 3
D3: SM daļa
B5: Būves nosaukums: | D5: Katlu telpas pārbūve un gāzes apkures pieslēgšana Skolas ielā 17, Bauskā, Bauskas novadā
B6: Objekta nosaukums: | D6: Katlu telpas pārbūve un gāzes apkures pieslēgšana Skolas ielā 17, Bauskā, Bauskas novadā
B7: Objekta adrese: | D7: Skolas ielā 17, Bauskā
B8: Pasūtījums Nr:
B10: Tāme sastādīta 202_. gada tirgus cenās | E10: Tāmes izmaksas | G10: =P71 -> 0 | H10: euro | K10: Tāme sastādīta
A11: Nr. p.k. | B11: Kods | C11: Darba nosaukums | D11: Mērv. | E11: Daudz. | F11: Vienības izmaksas | L11: Kopā uz visu apjomu | P11: Summa (EUR)
F12: laika norma (c/h) | G12: darba samaksas likme (EUR/h) | H12: darba alga (EUR) | I12: materi- āli (EUR) | J12: mehāni- smi (EUR) | K12: kopā (EUR) | L12: darb- ietilpība (c/h) | M12: darba alga (EUR) | N12: materi- āli (EUR) | O12: mehāni- smi (EUR)
A13: 1 | B13: 2 | C13: 3 | D13: 4 | E13: 5 | F13: 6 | G13: 7 | H13: 8 | I13: 9 | J13: 10 | K13: 11 | L13: 12 | M13: 13 | N13: 14 | O13: 15 | P13: 16
C14: Katlumāja
C15: Gāzes katli ar galvenām iekārtam
A16: 1 | C16: Kondensācijas tipa gāzes apkures katls Cerapurmaxx ZBR 100-3 ; Art.nr.7736701010 (vai ekvivalents) | D16: gab. | E16: 2 | H16: =ROUND(F16*G16,2) -> 0 | K16: =SUM(H16:J16) -> 0 | L16: =ROUND(E16*F16,2) -> 0 | M16: =ROUND(E16*H16,2) -> 0 | N16: =ROUND(E16*I16,2) -> 0 | O16: =ROUND(E16*J16,2) -> 0 | P16: =SUM(M16:O16) -> 0
A17: =A16+1 -> 2 | C17: Sūkņa grupa WBC 70-100 kW: komplekts ar elektronisko sūkni, apkopes krāniem, gāzes krānu, iztukšošanas krānu, termometriem, manometru, drošibas vārstu 3 bar, kondensāta cauruļvadu, blīvēm un rūpniecisku izolāciju ; Art.nr.7736700103(vai ekvivalents) | D17: gab. | E17: 2 | H17: =ROUND(F17*G17,2) -> 0 | K17: =SUM(H17:J17) -> 0 | L17: =ROUND(E17*F17,2) -> 0 | M17: =ROUND(E17*H17,2) -> 0 | N17: =ROUND(E17*I17,2) -> 0 | O17: =ROUND(E17*J17,2) -> 0 | P17: =SUM(M17:O17) -> 0
A18: =A17+1 -> 3 | C18: Kaskādes slēguma montāžas rāmja komplekts TL2 ar balstiem, starpbalstu rāmjiem, piekarsliedēm, gāzes cauruļvadu, pretvārstiem 2 gab., maģistrālām turpgaitas/atgaitas caurulēm, hidraulisko atdalītāju un rūpniecisku izolāciju. ; Art.nr.7736700489(vai ekvivalents) | D18: gab. | E18: 1 | H18: =ROUND(F18*G18,2) -> 0 | K18: =SUM(H18:J18) -> 0 | L18: =ROUND(E18*F18,2) -> 0 | M18: =ROUND(E18*H18,2) -> 0 | N18: =ROUND(E18*I18,2) -> 0 | O18: =ROUND(E18*J18,2) -> 0 | P18: =SUM(M18:O18) -> 0
A19: =A18+1 -> 4 | C19: Kaskādes vadības modulis MC400 ; Art.nr.7738111003(vai ekvivalents) | D19: gab. | E19: 1 | H19: =ROUND(F19*G19,2) -> 0 | K19: =SUM(H19:J19) -> 0 | L19: =ROUND(E19*F19,2) -> 0 | M19: =ROUND(E19*H19,2) -> 0 | N19: =ROUND(E19*I19,2) -> 0 | O19: =ROUND(E19*J19,2) -> 0 | P19: =SUM(M19:O19) -> 0
A20: =A19+1 -> 5 | C20: Automātika CW400 kompl.ar āra temp.sensoru ; Art.nr.7738111082(vai ekvivalents) | D20: gab. | E20: 1 | H20: =ROUND(F20*G20,2) -> 0 | K20: =SUM(H20:J20) -> 0 | L20: =ROUND(E20*F20,2) -> 0 | M20: =ROUND(E20*H20,2) -> 0 | N20: =ROUND(E20*I20,2) -> 0 | O20: =ROUND(E20*J20,2) -> 0 | P20: =SUM(M20:O20) -> 0
A21: =A20+1 -> 6 | C21: Vadības modulis MM100 (kompl.ar turpgaitas sensoru)(vai ekvivalents) | D21: gab. | E21: 3 | H21: =ROUND(F21*G21,2) -> 0 | K21: =SUM(H21:J21) -> 0 | L21: =ROUND(E21*F21,2) -> 0 | M21: =ROUND(E21*H21,2) -> 0 | N21: =ROUND(E21*I21,2) -> 0 | O21: =ROUND(E21*J21,2) -> 0 | P21: =SUM(M21:O21) -> 0
A22: =A21+1 -> 7 | C22: Karstā ūdens tvertne 500 litri W500-5C(vai ekvivalents) | D22: gab. | E22: 1 | H22: =ROUND(F22*G22,2) -> 0 | K22: =SUM(H22:J22) -> 0 | L22: =ROUND(E22*F22,2) -> 0 | M22: =ROUND(E22*H22,2) -> 0 | N22: =ROUND(E22*I22,2) -> 0 | O22: =ROUND(E22*J22,2) -> 0 | P22: =SUM(M22:O22) -> 0
A23: =A22+1 -> 8 | C23: Temperatūras sensors NTC KPL ; Art.nr.7735502289(vai ekvivalents) | D23: gab. | E23: 2 | H23: =ROUND(F23*G23,2) -> 0 | K23: =SUM(H23:J23) -> 0 | L23: =ROUND(E24*F23,2) -> 0 | M23: =ROUND(E24*H23,2) -> 0 | N23: =ROUND(E24*I23,2) -> 0 | O23: =ROUND(E24*J23,2) -> 0 | P23: =SUM(M23:O23) -> 0
A24: =A23+1 -> 9 | C24: Kondensāta neitralizācijas iekārta NE0.1 Nr. 1605 ; (vai ekvivalents) | D24: gab. | E24: 1 | H24: =ROUND(F24*G24,2) -> 0 | K24: =SUM(H24:J24) -> 0 | L24: =ROUND(E25*F24,2) -> 0 | M24: =ROUND(E25*H24,2) -> 0 | N24: =ROUND(E25*I24,2) -> 0 | O24: =ROUND(E25*J24,2) -> 0 | P24: =SUM(M24:O24) -> 0
A25: =A24+1 -> 10 | C25: Izplešanās tvertne (apkurei) Reflex NG 25/6. P= 6 bar. Pieslēgums R ¾. (vai ekvivalents) | D25: gab. | E25: 2 | H25: =ROUND(F25*G25,2) -> 0 | K25: =SUM(H25:J25) -> 0 | L25: =ROUND(E25*F25,2) -> 0 | M25: =ROUND(E25*H25,2) -> 0 | N25: =ROUND(E25*I25,2) -> 0 | O25: =ROUND(E25*J25,2) -> 0 | P25: =SUM(M25:O25) -> 0
A26: =A25+1 -> 11 | C26: Izplešanās tvertne (apkurei) Reflex NG 100/6. P= 6 bar. Pieslēgums R 1. (vai ekvivalents) | D26: gab. | E26: 1 | H26: =ROUND(F26*G26,2) -> 0 | K26: =SUM(H26:J26) -> 0 | L26: =ROUND(E26*F26,2) -> 0 | M26: =ROUND(E26*H26,2) -> 0 | N26: =ROUND(E26*I26,2) -> 0 | O26: =ROUND(E26*J26,2) -> 0 | P26: =SUM(M26:O26) -> 0
A27: =A26+1 -> 12 | C27: Piesleguma vieta DN25 esošiem siltummezglam | D27: gab. | E27: 1 | H27: =ROUND(F27*G27,2) -> 0 | K27: =SUM(H27:J27) -> 0 | L27: =ROUND(E27*F27,2) -> 0 | M27: =ROUND(E27*H27,2) -> 0 | N27: =ROUND(E27*I27,2) -> 0 | O27: =ROUND(E27*J27,2) -> 0 | P27: =SUM(M27:O27) -> 0
A28: =A27+1 -> 13 | C28: Piesleguma vieta DN32 esošiem siltummezglam | D28: gab. | E28: 7 | H28: =ROUND(F28*G28,2) -> 0 | K28: =SUM(H28:J28) -> 0 | L28: =ROUND(E28*F28,2) -> 0 | M28: =ROUND(E28*H28,2) -> 0 | N28: =ROUND(E28*I28,2) -> 0 | O28: =ROUND(E28*J28,2) -> 0 | P28: =SUM(M28:O28) -> 0
A29: =A28+1 -> 14 | C29: Piesleguma vieta DN65 esošiem siltummezglam | D29: gab. | E29: 2 | H29: =ROUND(F29*G29,2) -> 0 | K29: =SUM(H29:J29) -> 0 | L29: =ROUND(E29*F29,2) -> 0 | M29: =ROUND(E29*H29,2) -> 0 | N29: =ROUND(E29*I29,2) -> 0 | O29: =ROUND(E29*J29,2) -> 0 | P29: =SUM(M29:O29) -> 0
A30: =A29+1 -> 15 | C30: Apgaismojuma ķermenis spradziendroša izpildījuma atbilstošī AR planam | D30: gab. | E30: 2 | H30: =ROUND(F30*G30,2) -> 0 | K30: =SUM(H30:J30) -> 0 | L30: =ROUND(E30*F30,2) -> 0 | M30: =ROUND(E30*H30,2) -> 0 | N30: =ROUND(E30*I30,2) -> 0 | O30: =ROUND(E30*J30,2) -> 0 | P30: =SUM(M30:O30) -> 0
A31: =A30+1 -> 16 | C31: Katlutelpas elektroinstalācijas komplekts (automāti (ZBR 100-3, CW 400, MM 100, MC 400, BC 15, W500-5C, sūkņu grupa WBC 70-100kW, demineralizācijas iekārta, neitralizācijas iekārta NE0.1, ārgaisa temperatūras sensors), kabeļi, penāli, slēdži, katlu telpas apgaismojuma kermeņi) | D31: kompl. | E31: 1 | H31: =ROUND(F31*G31,2) -> 0 | K31: =SUM(H31:J31) -> 0 | L31: =ROUND(E31*F31,2) -> 0 | M31: =ROUND(E31*H31,2) -> 0 | N31: =ROUND(E31*I31,2) -> 0 | O31: =ROUND(E31*J31,2) -> 0 | P31: =SUM(M31:O31) -> 0
C32: Caurules, stiprinājumi
A33: =A32+1 -> 1 | C33: Tērauda caurules Dn20 montāža | D33: m | E33: 6 | H33: =ROUND(F33*G33,2) -> 0 | K33: =SUM(H33:J33) -> 0 | L33: =ROUND(E33*F33,2) -> 0 | M33: =ROUND(E33*H33,2) -> 0 | N33: =ROUND(E33*I33,2) -> 0 | O33: =ROUND(E33*J33,2) -> 0 | P33: =SUM(M33:O33) -> 0
A34: =A33+1 -> 2 | C34: Tērauda caurules Dn25 montāža | D34: m | E34: 4 | H34: =ROUND(F34*G34,2) -> 0 | K34: =SUM(H34:J34) -> 0 | L34: =ROUND(E34*F34,2) -> 0 | M34: =ROUND(E34*H34,2) -> 0 | N34: =ROUND(E34*I34,2) -> 0 | O34: =ROUND(E34*J34,2) -> 0 | P34: =SUM(M34:O34) -> 0
A35: =A34+1 -> 3 | C35: Tērauda caurules Dn65 montāža | D35: m | E35: 5 | H35: =ROUND(F35*G35,2) -> 0 | K35: =SUM(H35:J35) -> 0 | L35: =ROUND(E35*F35,2) -> 0 | M35: =ROUND(E35*H35,2) -> 0 | N35: =ROUND(E35*I35,2) -> 0 | O35: =ROUND(E35*J35,2) -> 0 | P35: =SUM(M35:O35) -> 0
A36: =A35+1 -> 4 | C36: Kanalizācijas cietā PVC caurule d40 ar savienojumiem un veidgabaliem ar pieslēgumu esošajam kanalizācijas izvadam Dn50 | D36: kompl. | E36: 1 | H36: =ROUND(F36*G36,2) -> 0 | K36: =SUM(H36:J36) -> 0 | L36: =ROUND(E36*F36,2) -> 0 | M36: =ROUND(E36*H36,2) -> 0 | N36: =ROUND(E36*I36,2) -> 0 | O36: =ROUND(E36*J36,2) -> 0 | P36: =SUM(M36:O36) -> 0
A37: =A36+1 -> 5 | C37: Tērauda līkuma 90° Dn.20-32 montāža | D37: kompl. | E37: 1 | H37: =ROUND(F37*G37,2) -> 0 | K37: =SUM(H37:J37) -> 0 | L37: =ROUND(E37*F37,2) -> 0 | M37: =ROUND(E37*H37,2) -> 0 | N37: =ROUND(E37*I37,2) -> 0 | O37: =ROUND(E37*J37,2) -> 0 | P37: =SUM(M37:O37) -> 0
A38: =A37+1 -> 6 | C38: Tērauda līkuma 90° Dn.40-50 montāža | D38: kompl. | E38: 1 | H38: =ROUND(F38*G38,2) -> 0 | K38: =SUM(H38:J38) -> 0 | L38: =ROUND(E38*F38,2) -> 0 | M38: =ROUND(E38*H38,2) -> 0 | N38: =ROUND(E38*I38,2) -> 0 | O38: =ROUND(E38*J38,2) -> 0 | P38: =SUM(M38:O38) -> 0
A39: =A38+1 -> 7 | C39: Metināmo veidgabalu (vītnes, parējas un tt) montāža | D39: kompl. | E39: 1 | H39: =ROUND(F39*G39,2) -> 0 | K39: =SUM(H39:J39) -> 0 | L39: =ROUND(E39*F39,2) -> 0 | M39: =ROUND(E39*H39,2) -> 0 | N39: =ROUND(E39*I39,2) -> 0 | O39: =ROUND(E39*J39,2) -> 0 | P39: =SUM(M39:O39) -> 0
A40: =A39+1 -> 8 | C40: Konstrukciju apstrāde ar antikorozijas krāsu 2 kārtas | D40: kg | E40: 5 | H40: =ROUND(F40*G40,2) -> 0 | K40: =SUM(H40:J40) -> 0 | L40: =ROUND(E40*F40,2) -> 0 | M40: =ROUND(E40*H40,2) -> 0 | N40: =ROUND(E40*I40,2) -> 0 | O40: =ROUND(E40*J40,2) -> 0 | P40: =SUM(M40:O40) -> 0
A41: =A40+1 -> 9 | C41: Akmens vates izolācija "Paroc" PV-AE ∅22x30mm 30mm biezumā montāža(vai ekvivalents) | D41: m | E41: 6 | H41: =ROUND(F41*G41,2) -> 0 | K41: =SUM(H41:J41) -> 0 | L41: =ROUND(E41*F41,2) -> 0 | M41: =ROUND(E41*H41,2) -> 0 | N41: =ROUND(E41*I41,2) -> 0 | O41: =ROUND(E41*J41,2) -> 0 | P41: =SUM(M41:O41) -> 0
A42: =A41+1 -> 10 | C42: Akmens vates izolācija "Paroc" PV-AE ∅28x30mm 30mm biezumā montāža(vai ekvivalents) | D42: m | E42: 4 | H42: =ROUND(F42*G42,2) -> 0 | K42: =SUM(H42:J42) -> 0 | L42: =ROUND(E42*F42,2) -> 0 | M42: =ROUND(E42*H42,2) -> 0 | N42: =ROUND(E42*I42,2) -> 0 | O42: =ROUND(E42*J42,2) -> 0 | P42: =SUM(M42:O42) -> 0
...
