Workbook
Name datums: [1]KA!$K$45
Name likme: PKT!$E$30
Name likme: KT!$E$22
Name parb: [1]KA!$K$43
Name procenti: #REF!
Name sast: [1]KA!$K$42
Name sertif: [1]KA!$K$44

Sheet SA
A1: EKONOMISKĀ DAĻA SKAIDROJOŠS APRAKSTS
A2: Būvdarbu apjomi ir noteikti būvprojekta daļās grafiskajos risinājumos, aprakstošajā daļā un apkopoti ekonomiskajā daļā.
A3: Gadījumā, ja projekta daļās ir savstarpējas neprecizitātes , risināt autoruzraudzības kārtībā, katru gadījumu atsevišķi kopā ar būvprojekta autoru.
A5: 1. Būvdarbu izpildes un visu apstākļu (tai skaitā apgrūtinošo) raksturojums.
A6: Būvdarbu izpildes un apstākļu raksturojumus skatīt, katra būvprojekta sadaļās.
A8: 2. Būvdarbu organizācijas īss apraksts.
A9: Skatīt būvprojekta skaidrojošo aprakstu sadaļā "Darbu organizācijas apraksts". Kā arī katru būprojekta sadaļu aprakstus.
A11: 3. Būvdarbu darbietilpība.
A12: Kopumā, būvobjekta būvniecībai no būvlaukuma iekārtošanas līdz objekta nodošanai,
A13: būvniecības darbu darbietilpība ir | E13: c/h.
A14: Aprēķinātā darbietilpība sadalāma plānotajā būvniecības darbu laika grafikā .
A15: Laika grafiku saskaņot ar pasūtītāju.
A17: 4. Tāmes ekonomiskās bāzes nosacījumu norādes.
A18: Darba samaksas likme - | D18: EUR/h, tai skaitā Darba dēvēja sociālais nodoklis
A19: Virsizdevumi - | C19: ,tai skaitā objekta uzsākšanas, vadības un nodošanas izmaksas.
A22: =PKT!A31 -> Sastādīja: Mikus Laksbergs | G22: =G26 -> 2021. gada 5.novembrī
A23: =PKT!A32 -> (paraksts un tā atšifrējums, datums)
A24: =PKT!A33 -> Sertifikāta Nr.: 4-05310
A26: ES vadītājs Aleksejs Doroņins | G26: =PKT!C35 -> 2021. gada 5.novembrī
A27: =PKT!A36 -> (paraksts un tā atšifrējums, datums)
A28: Sertifikāta Nr.: 4-04384

Sheet PKT
C2: APSTIPRINU_________________________________
C3: (pasūtītāja paraksts un tā atšifrējums)
C4: Z.V.
C5: ___.gada ___.______________
A7: Paredzamās līgumcenas koptāme
A9: Objekta nosaukums: | B9: Šautuves sporta ēkas jaunbūve Stacijas ielā 129A, Daugavpilī un teritorijā esošo ēku demontāža
A10: Būves nosaukums: | B10: Šautuves sporta ēka
A11: Objekta adrese: | B11: Stacijas ielā 129A, Daugavpilī
A12: Pasūtījuma nr.: | B12: __
A14: Nr.p.k. | B14: Objekta nosaukums | C14: Objekta izmaksas (euro)
A15: 1 | B15: =KT!B15 -> Šautuves sporta ēkas jaunbūve Stacijas ielā 129A, Daugavpilī un teritorijā esošo ēku demontāža
B18: Kopā
A20: Finanšu rezerve neparedzētiem darbiem (5%)
A21: PVN (21%)
A22: Pavisam būvniecības izmaksas
A23: Ar būvniecību saistītie pārējie izdevumi:
A24: būvuzraudzība
A25: būvprojekta autoruzraudzība
A26: izpētes un projektēšanas darbi
A27: būvprojekta ekspertīze
A28: Kopā
A31: =KT!A23 -> Sastādīja: Mikus Laksbergs | C31: =C35 -> 2021. gada 5.novembrī
A32: =[2]KT!A24 -> (paraksts un tā atšifrējums, datums)
A33: =KT!A25 -> Sertifikāta Nr.: 4-05310
A35: =SA!A26 -> ES vadītājs Aleksejs Doroņins | C35: =KT!C27 -> 2021. gada 5.novembrī
A36: =[2]KT!A28 -> (paraksts un tā atšifrējums, datums)
A37: =SA!A28 -> Sertifikāta Nr.: 4-04384

Sheet KT
C2: APSTIPRINU_________________________________
C3: (pasūtītāja paraksts un tā atšifrējums)
C4: Z.V.
C5: ___.gada ___.______________
A7: Būvniecības koptāme
A9: Objekta nosaukums: | B9: Šautuves sporta ēkas jaunbūve Stacijas ielā 129A, Daugavpilī un teritorijā esošo ēku demontāža
A10: Būves nosaukums: | B10: Šautuves sporta ēka
A11: Objekta adrese: | B11: Stacijas ielā 129A, Daugavpilī
A12: Pasūtījuma nr.: | B12: __
A14: Nr.p.k. | B14: Objekta nosaukums | C14: Objekta izmaksas (euro)
A15: 1 | B15: =B9 -> Šautuves sporta ēkas jaunbūve Stacijas ielā 129A, Daugavpilī un teritorijā esošo ēku demontāža
B18: Kopā
A20: PVN (21%)
D22: Likme | E22: 14
A23: Sastādīja: Mikus Laksbergs | C23: =C27 -> 2021. gada 5.novembrī
A24: (paraksts un tā atšifrējums, datums)
A25: Sertifikāta Nr.: 4-05310
A27: =SA!A26 -> ES vadītājs Aleksejs Doroņins | C27: 2021. gada 5.novembrī
A28: (paraksts un tā atšifrējums, datums)
A29: =PKT!A37 -> Sertifikāta Nr.: 4-04384

Sheet KA
A2: Kopsavilkuma aprēķins nr.1
A3: =C6 -> Šautuves sporta ēkas jaunbūve Stacijas ielā 129A, Daugavpilī un teritorijā esošo ēku demontāža
A4: (būvdarbu veids vai konstruktīvā elementa nosaukums)
A6: Objekta nosaukums: | C6: =KT!B9 -> Šautuves sporta ēkas jaunbūve Stacijas ielā 129A, Daugavpilī un teritorijā esošo ēku demontāža
A7: Būves nosaukums: | C7: =KT!B10 -> Šautuves sporta ēka
A8: Objekta adrese: | C8: =KT!B11 -> Stacijas ielā 129A, Daugavpilī
A9: Pasūtījuma nr.: | C9: =KT!B12 -> __
C10: Par kopējo summu (euro) | E10: =E51 -> 0
C11: Kopējā darbietilpība (c/h) | E11: =SUM(I14:I46) -> 0
A12: Nr.p.k. | B12: kods, tāmes nr. | C12: Būvdarbu veids vai konstruktīvā elementa nosaukums | E12: Tāmes izmaksas | F12: Tai skaitā | I12: Darbietilpība (c/h)
F13: Darba alga | G13: Būvizstrādājumi | H13: Mehānismi
A14: 1 | C14: Vispārīgie būvdarbi
A15: 2 | B15: 1.1 | C15: Demontāžas darbi
A16: 3 | B16: 1.2 | C16: Zemes darbi
A17: 4 | B17: 1.3 | C17: Pamatu izbūve
A18: 5 | B18: 1.4 | C18: Nesošās konstrukcijas
A19: 6 | B19: 1.5 | C19: Jumts
A20: 7 | B20: 1.6 | C20: Sienas
A21: 8 | B21: 1.7 | C21: Grīdas
A22: 9 | B22: 1.8 | C22: Griesti
A23: 10 | B23: 1.9 | C23: Logi un durvis
A24: 11 | B24: 1.1 | C24: Ārējie apdares darbi
A25: 12 | B25: 1.11 | C25: Citi
A26: 13 | B26: 1.12 | C26: Mēbeles
A27: 14 | C27: Iekšējie tīkli, sistēmas
A28: 15 | B28: 2.1 | C28: Apkure
A29: 16 | B29: 2.2 | C29: Ventilācija
A30: 17 | B30: 2.3 | C30: Siltummezgls
A31: 18 | B31: 2.4 | C31: Ūdensapgāde un kanalizācija
A32: 19 | B32: 2.5 | C32: Elektroapgāde
A33: 20 | B33: 2.6 | C33: Ugunsgrēka atklāšanas un trauksmes signalizācijas sistēma
A34: 21 | B34: 2.7 | C34: Apsardzes signalizācija
A35: 22 | B35: 2.8 | C35: Interneta un videonovērošanas tīkli
A36: 23 | B36: 2.9 | C36: Dūmu aizsardzība
A37: 24 | B37: 2.1 | C37: Dūmu novadīšana
A38: 25 | C38: Ārējie tīkli, sistēmas
A39: 26 | B39: 3.1 | C39: Lietus kanalizācija
A40: 27 | B40: 3.2 | C40: Ūdensapgāde un kanalizācija
A41: 28 | B41: 3.3 | C41: Siltumapgādes ārējie tīkli
A42: 29 | B42: 3.4 | C42: Elektroapgāde
...

Sheet Koptāme
A2: Būvniecības koptāme
A4: Objekta nosaukums: | B4: Šautuves sporta ēkas jaunbūve Stacijas ielā 129A, Daugavpilī un teritorijā esošo ēku demontāža
A5: Būves nosaukums: | B5: Šautuves sporta ēka
A6: Objekta adrese: | B6: Stacijas iela 129A, Daugavpils
A7: Pasūtījuma Nr.:
A9: Nr. p.k. | B9: Objekta nosaukums | C9: Objekta izmaksas (euro)
A11: 1 | B11: =B4 -> Šautuves sporta ēkas jaunbūve Stacijas ielā 129A, Daugavpilī un teritorijā esošo ēku demontāža
B13: KOPĀ:
A14: PVN 21%:
A15: PAVISAM BŪVNIECĪBAS IZMAKSAS:
A18: Sastādīja ___________________________________________________________________
A19: (paraksts un tā atšifrējums,datums)
A20: Tāme sastādīta
A23: Pārbaudīja __________________________________________________________________
A24: (paraksts un tā atšifrējums,datums)

Sheet Kopsavilkums
A1: Kopsavilkuma aprēķins
A3: Vispārējie būvdarbi.
A4: (darba veids vai konstruktīvā elementa nosaukums)
A6: Objekta nosaukums: | C6: Šautuves sporta ēkas jaunbūve Stacijas ielā 129A, Daugavpilī un teritorijā esošo ēku demontāža
A7: Būves nosaukums: | C7: Šautuves sporta ēka
A8: Objekta adrese: | C8: Stacijas iela 129A, Daugavpils
C9: Pasūtījuma Nr. :
C10: Par kopējo summu, euro
C11: Kopējā darbietilpība, c/h
A13: Nr.p.k. | B13: Kods, tāmes Nr. | C13: Būvdarbu veids vai konstruktīvā elementa nosaukums | D13: Tāmes izmaksas (euro) | E13: Tai skaitā | H13: Darbietilpība (c/h)
E14: darba alga (euro) | F14: būvizstrādājumi (euro) | G14: mehānismi (euro)
C15: Demontāžas darbi
A16: 1 | B16: 1-1 | C16: {='1-1'!A2:D2} -> Demontāžas darbi | D16: 0 | E16: 0 | F16: 0
C17: Vispārējie būvdarbi
A18: 2 | B18: 1-2 | C18: {='1-2'!A2:D2} -> Zemes darbi | D18: 0 | E18: 0 | F18: 0
A19: 3 | B19: 1-3 | C19: {='1-3'!A2:D2} -> Pamatu izbūve | D19: 0 | E19: 0 | F19: 0
A20: 4 | B20: 1-4 | C20: {='1-4'!A2:D2} -> Nesošās konstrukcijas | D20: 0 | E20: 0 | F20: 0
A21: 5 | B21: 1-5 | C21: {='1-5'!A2:D2} -> Jumts | D21: 0 | E21: 0 | F21: 0
A22: 6 | B22: 1-6 | C22: {='1-6'!A2:D2} -> Sienas | D22: 0 | E22: 0 | F22: 0
A23: 7 | B23: 1-7 | C23: {='1-7'!A2:D2} -> Grīdas | D23: 0 | E23: 0 | F23: 0
A24: 8 | B24: 1-8 | C24: {='1-8'!A2:D2} -> Griesti | D24: 0 | E24: 0 | F24: 0
A25: 9 | B25: 1-9 | C25: {='1-9'!A2:D2} -> Logi un durvis | D25: 0 | E25: 0 | F25: 0
A26: 10 | B26: 1-10 | C26: {='1-10'!A2:D2} -> Ārējie apdares darbi | D26: 0 | E26: 0 | F26: 0
A27: 11 | B27: 1-11 | C27: {='1-11'!A2:D2} -> Citi | D27: 0 | E27: 0 | F27: 0
C28: Inženiertīkli
A29: 12 | B29: 2-1 | C29: {='2-1'!A2:D2} -> Apkure | D29: 0 | E29: 0 | F29: 0
A30: 13 | B30: 2-2 | C30: {='2-2'!A2:D2} -> Ventilācija | D30: 0 | E30: 0 | F30: 0
A31: 14 | B31: 2-3 | C31: {='2-3'!A2:D2} -> Siltummezgls | D31: 0 | E31: 0 | F31: 0
A32: 15 | B32: 2-4 | C32: {='2-4'!A2:D2} -> Ūdensapgāde un kanalizācija | D32: 0 | E32: 0 | F32: 0
A33: 16 | B33: 2-5 | C33: {='2-5'!A2:D2} -> Elektroapgāde | D33: 0 | E33: 0 | F33: 0
A34: 17 | B34: 2-6 | C34: {='2-6'!A2:D2} -> Ugunsgrēka atklāšanas un trauksmes signalizācijas sistēma | D34: 0 | E34: 0 | F34: 0
A35: 18 | B35: 2-7 | C35: {='2-7'!A2:D2} -> Apsardzes signalizācija | D35: 0 | E35: 0 | F35: 0
A36: 19 | B36: 2-8 | C36: {='2-8'!A2:D2} -> Interneta un videonovērošanas tīkli | D36: 0 | E36: 0 | F36: 0
A37: 20 | B37: 2-9 | C37: {='2-9'!A2:D2} -> Dūmu aizsardzība | D37: 0 | E37: 0 | F37: 0
A38: 21 | B38: 2-10 | C38: {='2-10'!A2:D2} -> Dūmu novadīšana | D38: 0 | E38: 0 | F38: 0
C39: Ārējie inženiertīkli
A40: 22 | B40: 3-1 | C40: {='3-1'!A2:D2} -> Lietus kanalizācija | D40: 0 | E40: 0 | F40: 0
A41: 23 | B41: 3-2 | C41: {='3-2'!A2:D2} -> Ūdensapgāde un kanalizācija | D41: 0 | E41: 0 | F41: 0
A42: 24 | B42: 3-3 | C42: {='3-3'!A2:D2} -> Siltumapgādes ārējie tīkli | D42: 0 | E42: 0 | F42: 0
A43: 25 | B43: 3-4 | C43: {='3-4'!A2:D2} -> Elektroapgāde | D43: 0 | E43: 0 | F43: 0
...

Sheet 1-1
A1: Būvdarbu apjomu saraksts Nr.1-1
A2: =KA!C15 -> Demontāžas darbi
A3: (būvdarbu veids vai konstruktīvā elementa nosaukums)
A5: Objekta nosaukums: Šautuves sporta ēkas jaunbūve Stacijas ielā 129A, Daugavpilī un teritorijā esošo ēku demontāža
A6: Būves nosaukums: Šautuves sporta ēka
A7: Objekta adrese: Stacijas ielā 129A, Daugavpilī
A9: Apjomi sastādīti, pamatojoties uz būvprojekta rasējumiem
A11: Nr. p.k. | B11: Būvdarbu nosaukums | C11: Mērvienība | D11: Daudzums
A13: 1 | B13: Demontēt ēkas un utilizēt. Kad.apz.05000100203002 Kad.apz.05000100203005 Kad.apz.05000100203006 Kad.apz.05000100203009 | C13: m2 | D13: 592.74
A14: 2 | B14: Demontēt esošu betona žogu H=2,5m un utilizēt | C14: m | D14: 190
A16: Piezīme: Būvuzņēmējam jāievērtē darbu daudzuma sarakstā minēto darbu veikšanai nepieciešamie materiāli un papildus darbi, kas nav minēti šajā sarakstā, bet bez kuriem nebūtu iespējama būvdarbu tehnoloģiski pareiza un spēkā esošajiem normatīviem atbilstoša veikšana pilnā apmērā. Darbu apjomu sarakstu skatīt kopā ar rasējumiem un specifikācijām. Sniegtās norādes uz izmantojamo būvmateriālu, iekārtu un ražotāju zīmoliem nes informatīvu raksturu un var būt aizvietoti ar materialiem un izstrādājumiem ar analoģiskiem tehniskiem raksturojumiem.

Sheet 1-2
A1: Būvdarbu apjomu saraksts Nr.1-2
A2: =KA!C16 -> Zemes darbi
A3: (būvdarbu veids vai konstruktīvā elementa nosaukums)
A5: Objekta nosaukums: Šautuves sporta ēkas jaunbūve Stacijas ielā 129A, Daugavpilī un teritorijā esošo ēku demontāža
A6: Būves nosaukums: Šautuves sporta ēka
A7: Objekta adrese: Stacijas ielā 129A, Daugavpilī
A9: Apjomi sastādīti, pamatojoties uz būvprojekta rasējumiem
A11: Nr. p.k. | B11: Būvdarbu nosaukums | C11: Mērvienība | D11: Daudzums
A13: 1 | B13: Rakt būvbedri un novietot grunti atbērtnē atpakaļatbēršanai | C13: m3 | D13: 2162.37
A14: 2 | B14: Aizbērt būvbedri ar esošo grunti | C14: m3 | D14: 1207.76
A15: 3 | B15: Izvest lieko grunti utilizācijai | C15: m3 | D15: 954.61
A17: Piezīme: Būvuzņēmējam jāievērtē darbu daudzuma sarakstā minēto darbu veikšanai nepieciešamie materiāli un papildus darbi, kas nav minēti šajā sarakstā, bet bez kuriem nebūtu iespējama būvdarbu tehnoloģiski pareiza un spēkā esošajiem normatīviem atbilstoša veikšana pilnā apmērā. Darbu apjomu sarakstu skatīt kopā ar rasējumiem un specifikācijām. Sniegtās norādes uz izmantojamo būvmateriālu, iekārtu un ražotāju zīmoliem nes informatīvu raksturu un var būt aizvietoti ar materialiem un izstrādājumiem ar analoģiskiem tehniskiem raksturojumiem.

Sheet 1-3
A1: Būvdarbu apjomu saraksts Nr.1-3
A2: =KA!C17 -> Pamatu izbūve
A3: (būvdarbu veids vai konstruktīvā elementa nosaukums)
A5: Objekta nosaukums: Šautuves sporta ēkas jaunbūve Stacijas ielā 129A, Daugavpilī un teritorijā esošo ēku demontāža
A6: Būves nosaukums: Šautuves sporta ēka
A7: Objekta adrese: Stacijas ielā 129A, Daugavpilī
A9: Apjomi sastādīti, pamatojoties uz būvprojekta rasējumiem
A11: Nr. p.k. | B11: Būvdarbu nosaukums | C11: Mērvienība | D11: Daudzums
B13: Pāļi
A14: 1 | B14: Urbt zemē pāļus FDP ar izmēriem d360mm, L=6000mm. Betons C30/37, W8, F50 Stiegrojums B500B. Ieskaitot visus stiprinājumus un palīgmateriālus. | C14: gb | D14: 174
A15: 2 | B15: Veikt pārbaudes proves pāļiem. Pārbaudes programmu saskaņot ar projekta autoriem. | C15: gb | D15: 5
A16: 3 | B16: Veikt pāļu galu nociršanu un hidroizolēšanu | C16: gb | D16: 174
B17: Režģogs MR1
A18: 4 | B18: Betonēt veidņos režģoga pamatojumu ar C8/10 klases betonu. Ieskaitot visus stiprinājumus un palīgmateriālus. | C18: m3 | D18: 3.9
A19: 5 | B19: Betonēt veidņos režģogu ar C30/37 XC2 W8 klases betonu un stiegrojot ar B500B terauda stiegrojumu (4914kg). Ieskaitot visus stiprinājumus un palīgmateriālus. | C19: m3 | D19: 35.1
B20: Režģogs MR2
A21: 5 | B21: Betonēt veidņos režģoga pamatojumu ar C8/10 klases betonu. Ieskaitot visus stiprinājumus un palīgmateriālus. | C21: m3 | D21: 2.34
A22: 7 | B22: Betonēt veidņos režģogu ar C30/37 XC2 W8 klases betonu un stiegrojot ar B500B terauda stiegrojumu (4356kg). Ieskaitot visus stiprinājumus un palīgmateriālus. | C22: m3 | D22: 30.6
B23: Režģogs LR1
A24: 8 | B24: Betonēt veidņos režģoga pamatojumu ar C8/10 klases betonu. Ieskaitot visus stiprinājumus un palīgmateriālus. | C24: m3 | D24: 12.3
A25: 9 | B25: Betonēt veidņos režģogu ar C30/37 XC2 W8 klases betonu un stiegrojot ar B500B terauda stiegrojumu (14,9t). Ieskaitot visus stiprinājumus un palīgmateriālus. | C25: m3 | D25: 128
B26: Režģogs LR2
A27: 10 | B27: Betonēt veidņos režģoga pamatojumu ar C8/10 klases betonu. Ieskaitot visus stiprinājumus un palīgmateriālus. | C27: m3 | D27: 2.75
A28: 11 | B28: Betonēt veidņos režģogu ar C30/37 XC2 W8 klases betonu un stiegrojot ar B500B terauda stiegrojumu (2,8t). Ieskaitot visus stiprinājumus un palīgmateriālus. | C28: m3 | D28: 28
B29: Grīda GP1 (1050m2)
A30: 12 | B30: Betonēt grīdu 150mm biezumā ar C30/37 klases betonu un stiegrojot ar 10x200x200 B500B terauda sietu (17t). Ieskaitot visus stiprinājumus un palīgmateriālus. | C30: m3 | D30: 580
A31: 13 | B31: Izveidot deformācijas šuves betona grīdai. Ieskaitot visus stiprinājumus un palīgmateriālus. | C31: m | D31: 395.2
B32: Grīda GP2 (560m2)
A33: 17 | B33: Betonēt grīdu 100mm biezumā ar C30/37 klases betonu un stiegrojot ar 10x200x200 B500B terauda sietu (5t). Ieskaitot visus stiprinājumus un palīgmateriālus. | C33: m3 | D33: 65
A34: 15 | B34: Izveidot deformācijas šuves betona grīdai. Ieskaitot visus stiprinājumus un palīgmateriālus. | C34: m | D34: 144.7
A36: Piezīme: Būvuzņēmējam jāievērtē darbu daudzuma sarakstā minēto darbu veikšanai nepieciešamie materiāli un papildus darbi, kas nav minēti šajā sarakstā, bet bez kuriem nebūtu iespējama būvdarbu tehnoloģiski pareiza un spēkā esošajiem normatīviem atbilstoša veikšana pilnā apmērā. Darbu apjomu sarakstu skatīt kopā ar rasējumiem un specifikācijām. Sniegtās norādes uz izmantojamo būvmateriālu, iekārtu un ražotāju zīmoliem nes informatīvu raksturu un var būt aizvietoti ar materialiem un izstrādājumiem ar analoģiskiem tehniskiem raksturojumiem.

Sheet 1-4
A1: Būvdarbu apjomu saraksts Nr.1-4
A2: =KA!C18 -> Nesošās konstrukcijas
A3: (būvdarbu veids vai konstruktīvā elementa nosaukums)
A5: Objekta nosaukums: Šautuves sporta ēkas jaunbūve Stacijas ielā 129A, Daugavpilī un teritorijā esošo ēku demontāža
A6: Būves nosaukums: Šautuves sporta ēka
A7: Objekta adrese: Stacijas ielā 129A, Daugavpilī
A9: Apjomi sastādīti, pamatojoties uz būvprojekta rasējumiem
A11: Nr. p.k. | B11: Būvdarbu nosaukums | C11: Mērvienība | D11: Daudzums
B13: Kolonna BK1.1
A14: 1 | B14: Betonēt veidņos kolonnu ar C40/50 klases betonu un stiegrojot ar B500B terauda stiegrojumu (3456kg). Ieskaitot visus stiprinājumus un palīgmateriālus. | C14: m3 | D14: 22.5
A15: 2 | B15: Uzstādīt ieliekamo detaļu MM1 | C15: gb | D15: 9
B16: Kolonna BK1.2
A17: 3 | B17: Betonēt veidņos kolonnu ar C40/50 klases betonu un stiegrojot ar B500B terauda stiegrojumu (2688kg). Ieskaitot visus stiprinājumus un palīgmateriālus. | C17: m3 | D17: 17.5
A18: 4 | B18: Uzstādīt ieliekamo detaļu MM1 | C18: gb | D18: 7
A19: 5 | B19: Uzstādīt ieliekamo detaļu WS200x300-280 vai ekvivalents | C19: gb | D19: 14
A20: 6 | B20: Uzstādīt ieliekamo detaļu 100x150-70 vai ekvivalents | C20: gb | D20: 14
B21: Kolonna BK1.2a
A22: 7 | B22: Betonēt veidņos kolonnu ar C40/50 klases betonu un stiegrojot ar B500B terauda stiegrojumu (768kg). Ieskaitot visus stiprinājumus un palīgmateriālus. | C22: m3 | D22: 5
A23: 8 | B23: Uzstādīt ieliekamo detaļu MM1 | C23: gb | D23: 2
A24: 9 | B24: Uzstādīt ieliekamo detaļu 100x150-70 vai ekvivalents | C24: gb | D24: 4
B25: Kolonna BK1.3
A26: 10 | B26: Betonēt veidņos kolonnu ar C30/37 klases betonu un stiegrojot ar B500B terauda stiegrojumu (200kg). Ieskaitot visus stiprinājumus un palīgmateriālus. | C26: m3 | D26: 2.2
B27: Kolonna BK1.4
A28: 11 | B28: Betonēt veidņos kolonnu ar C30/37 klases betonu un stiegrojot ar B500B terauda stiegrojumu (200kg). Ieskaitot visus stiprinājumus un palīgmateriālus. | C28: m3 | D28: 2.2
B29: Kolonna BK1.6
A30: 12 | B30: Betonēt veidņos kolonnu ar C30/37 klases betonu un stiegrojot ar B500B terauda stiegrojumu (200kg). Ieskaitot visus stiprinājumus un palīgmateriālus. | C30: m3 | D30: 2.2
B31: Kolonna BK1.5
A32: 13 | B32: Betonēt veidņos kolonnu ar C30/37 klases betonu un stiegrojot ar B500B terauda stiegrojumu (200kg). Ieskaitot visus stiprinājumus un palīgmateriālus. | C32: m3 | D32: 2.2
A33: 14 | B33: Uzstādīt ieliekamo detaļu WS200x300-280 vai ekvivalents | C33: gb | D33: 2
B34: Kolonna BK1.7
A35: 15 | B35: Betonēt veidņos kolonnu ar C30/37 klases betonu un stiegrojot ar B500B terauda stiegrojumu (200kg). Ieskaitot visus stiprinājumus un palīgmateriālus. | C35: m3 | D35: 2.2
A36: 16 | B36: Uzstādīt ieliekamo detaļu WS300x500-280 vai ekvivalents | C36: gb | D36: 1
B37: Kolonna BK1.8
A38: 17 | B38: Betonēt veidņos kolonnu ar C30/37 klases betonu un stiegrojot ar B500B terauda stiegrojumu (200kg). Ieskaitot visus stiprinājumus un palīgmateriālus. | C38: m3 | D38: 2.2
A39: 18 | B39: Uzstādīt ieliekamo detaļu 300x300-165 vai ekvivalents | C39: gb | D39: 3
B40: Kolonna BK1.9
A41: 19 | B41: Betonēt veidņos kolonnu ar C30/37 klases betonu un stiegrojot ar B500B terauda stiegrojumu (200kg). Ieskaitot visus stiprinājumus un palīgmateriālus. | C41: m3 | D41: 2.2
A42: 20 | B42: Uzstādīt ieliekamo detaļu 300x300-165 vai ekvivalents | C42: gb | D42: 2
B43: Kolonna BK1.10
A44: 21 | B44: Betonēt veidņos kolonnu ar C30/37 klases betonu un stiegrojot ar B500B terauda stiegrojumu (165kg). Ieskaitot visus stiprinājumus un palīgmateriālus. | C44: m3 | D44: 1.8
...

Sheet 1-5
A1: Būvdarbu apjomu saraksts Nr.1-5
A2: =KA!C19 -> Jumts
A3: (būvdarbu veids vai konstruktīvā elementa nosaukums)
A5: Objekta nosaukums: Šautuves sporta ēkas jaunbūve Stacijas ielā 129A, Daugavpilī un teritorijā esošo ēku demontāža
A6: Būves nosaukums: Šautuves sporta ēka
A7: Objekta adrese: Stacijas ielā 129A, Daugavpilī
A9: Apjomi sastādīti, pamatojoties uz būvprojekta rasējumiem
A11: Nr. p.k. | B11: Būvdarbu nosaukums | C11: Mērvienība | D11: Daudzums
B13: Jumts J-1
A14: 1 | B14: Izveidot keramzīta izlīdzinošu kārtu 10-295mm biezumā ar frakciju 10-20 | C14: m2 | D14: 556.5
A15: 2 | B15: Ieklāt tvaika barjeru 0,2mm | C15: m2 | D15: 556.5
A16: 3 | B16: Siltināt jumta konstrukciju ar akmens vati 300mm biezumā, ne vairāk kā λ= 0,036 W/mK | C16: m2 | D16: 556.5
A17: 4 | B17: Siltināt jumta konstrukciju ar akmens vati 30mm biezumā, ne vairāk kā λ=0,038 W/mK. Ieskaitot visus stiprinājumus un palīgmateriālus. | C17: m2 | D17: 556.5
A18: 5 | B18: Izveidot hidroizolācijas uzraudzības sistēmu ar ģeotekstilu 0.2mm. Ieskaitot visus stiprinājumus un palīgmateriālus. | C18: m2 | D18: 556.5
A19: 6 | B19: Ieklāt PVC hidroizolācijas membrānu 1.5mm, sd=37.5m (vai ekvivalents). Ieskaitot visus stiprinājumus un palīgmateriālus. | C19: m2 | D19: 556.5
B20: Jumts J-2
A21: 7 | B21: Ieklāt tvaika barjeru 0,2mm | C21: m2 | D21: 1168.8
A22: 8 | B22: Izveidot slīpumu veidojošo slāni, ne vairāk kā λ= 0,042W/mK, izlīdzinoša kārta 10-315mm biezumā. | C22: m2 | D22: 1168.8
A23: 9 | B23: Siltināt jumta konstrukciju ar akmens vati 300mm biezumā, ne vairāk kā λ= 0,036 W/mK | C23: m2 | D23: 1168.8
A24: 10 | B24: Siltināt jumta konstrukciju ar akmens vati 30mm biezumā, ne vairāk kā λ=0,038 W/mK. Ieskaitot visus stiprinājumus un palīgmateriālus. | C24: m2 | D24: 1168.8
A25: 11 | B25: Izveidot hidroizolācijas uzraudzības sistēmu ar ģeotekstilu 0.2mm. Ieskaitot visus stiprinājumus un palīgmateriālus. | C25: m2 | D25: 1168.8
A26: 12 | B26: Ieklāt PVC hidroizolācijas membrānu 1.5mm, sd=37.5m (vai ekvivalents). Ieskaitot visus stiprinājumus un palīgmateriālus. | C26: m2 | D26: 1168.8
B27: Jumts J-3
A28: 13 | B28: Stiprināt siltumizolāciju ar nedegošas akmens vates ugunsaizsardzības plāksnēm, ne vairāk kā λ=0,038 W/mK pie metāla loksnes ar pašgriezošām skrūvēm 4,8x70 ar metāla plāksnēm, 6gb/plāksne (vai ekvivalents). Ieskaitot visus stiprinājumus un palīgmateriālus. | C28: m2 | D28: 39.4
A29: 14 | B29: Izveidot keramzīta izlīdzinošu kārtu 10-190mm biezumā ar frakciju 10-20 | C29: m2 | D29: 39.4
A30: 15 | B30: Ieklāt tvaika barjeru 0,2mm | C30: m2 | D30: 39.4
A31: 16 | B31: Siltināt jumta konstrukciju ar akmens vati 300mm biezumā, ne vairāk kā λ= 0,036 W/mK | C31: m2 | D31: 39.4
A32: 17 | B32: Siltināt jumta konstrukciju ar akmens vati 30mm biezumā, ne vairāk kā λ=0,038 W/mK. Ieskaitot visus stiprinājumus un palīgmateriālus. | C32: m2 | D32: 39.4
A33: 18 | B33: Izveidot hidroizolācijas uzraudzības sistēmu ar ģeotekstilu 0.2mm. Ieskaitot visus stiprinājumus un palīgmateriālus. | C33: m2 | D33: 39.4
A34: 19 | B34: Ieklāt PVC hidroizolācijas membrānu 1.5mm, sd=37.5m (vai ekvivalents). Ieskaitot visus stiprinājumus un palīgmateriālus. | C34: m2 | D34: 39.4
B35: Mezgls 1
A36: 20 | B36: Ieklāt skārda profilu 50x50x1.4mm. Ieskaitot visus stiprinājumus un palīgmateriālus. | C36: m | D36: 132.36
A37: 21 | B37: Ieklāt Riņķa elektrodu pa jumta perimetru. Ieskaitot visus stiprinājumus un palīgmateriālus. | C37: m | D37: 132.36
A38: 22 | B38: Gruntēt virsmu ar virsmas saķeres kvarca grunti | C38: m2 | D38: 138.52
A39: 23 | B39: Siltināt virsmu ar fasādes akmens vati 180mm biezumā uz līmjavas, ne vairāk kā λ= 0,036 W/mK, stiprinot ar Termo dībeli 260mm U8, ar skrūvi TS U8/40 vai ekvivalents. Ieskaitot visus stiprinājumus un palīgmateriālus. | C39: m2 | D39: 90.67
A40: 24 | B40: Siltināt virsmu ar fasādes akmens vati 50mm biezumā uz līmjavas, ne vairāk kā λ= 0,036 W/mK, stiprinot ar Termo dībeli U8, ar skrūvi TS U8/40 vai ekvivalents. Ieskaitot visus stiprinājumus un palīgmateriālus. | C40: m2 | D40: 60.22
A41: 25 | B41: Ieklāt PVC hidroizolācijas membrānu 1.5mm, sd=37.5m (vai ekvivalents). Ieskaitot visus stiprinājumus un palīgmateriālus. | C41: m2 | D41: 150.23
A42: 26 | B42: Montēt koka latas 100x50mm stiprinot ar leņķiem. Ieskaitot visus stiprinājumus un palīgmateriālus. | C42: m3 | D42: 0.58
A43: 27 | B43: Montēt koka latas 100x20mm. Ieskaitot visus stiprinājumus un palīgmateriālus. | C43: m3 | D43: 0.13
A44: 28 | B44: Stiprināt mitrumizturīgu OSB plāksni uz koka latām ar izmēriem 450x18mm . Ieskaitot visus stiprinājumus un palīgmateriālus. | C44: m2 | D44: 35.08
...

Sheet 1-6
A1: Būvdarbu apjomu saraksts Nr.1-6
A2: =KA!C20 -> Sienas
A3: (būvdarbu veids vai konstruktīvā elementa nosaukums)
A5: Objekta nosaukums: Šautuves sporta ēkas jaunbūve Stacijas ielā 129A, Daugavpilī un teritorijā esošo ēku demontāža
A6: Būves nosaukums: Šautuves sporta ēka
A7: Objekta adrese: Stacijas ielā 129A, Daugavpilī
A9: Apjomi sastādīti, pamatojoties uz būvprojekta rasējumiem
A11: Nr. p.k. | B11: Būvdarbu nosaukums | C11: Mērvienība | D11: Daudzums
B13: Siena C-2
A14: 1 | B14: Mūrēt keramzītbetona bloku sienu 300mm biezumā uz mūrjavas. Stiegrot atbilstoši tehnoloģijai. Ieskaitot visus stiprinājumus un palīgmateriālus. | C14: m2 | D14: 107.6
B15: Siena Sa-1
A16: 2 | B16: Mūrēt keramzītbetona bloku sienu 300mm biezumā uz mūrjavas. Stiegrot atbilstoši tehnoloģijai. Ieskaitot visus stiprinājumus un palīgmateriālus. | C16: m2 | D16: 258.4
B17: Siena Sa-2
A18: 3 | B18: Uzstādīt balistiskās rikošetes metāla plāksnes AR500 9,5mm vai ekvivalents. Ieskaitot visus stiprinājumus un palīgmateriālus. | C18: m2 | D18: 288.9
A19: 4 | B19: Montēt vertikālas koka latas 25x50mm. Ieskaitot visus stiprinājumus un palīgmateriālus. | C19: m2 | D19: 288.9
A20: 5 | B20: Stiprināt saplāksni 22mm uz koka latām. Ieskaitot visus stiprinājumus un palīgmateriālus. | C20: m2 | D20: 288.9
B21: Siena Sa-3
A22: 6 | B22: Montēt vertikālas koka latas 30x30mm. Ieskaitot visus stiprinājumus un palīgmateriālus. | C22: m2 | D22: 156.3
B23: Siena Sa-5
A24: 7 | B24: Mūrēt keramzītbetona bloku sienu 300mm biezumā uz mūrjavas. Stiegrot atbilstoši tehnoloģijai. Ieskaitot visus stiprinājumus un palīgmateriālus. | C24: m2 | D24: 347.9
B25: Siena Sa-6
A26: 8 | B26: Uzstādīt balistiskās rikošetes metāla plāksnes AR500 9,5mm vai ekvivalents. Ieskaitot visus stiprinājumus un palīgmateriālus. | C26: m2 | D26: 519.8
A27: 9 | B27: Montēt vertikālas koka latas 25x50mm. Ieskaitot visus stiprinājumus un palīgmateriālus. | C27: m2 | D27: 519.8
A28: 10 | B28: Stiprināt saplāksni 22mm uz koka latām. Ieskaitot visus stiprinājumus un palīgmateriālus. | C28: m2 | D28: 519.8
B29: Siena Sa-7
A30: 11 | B30: Montēt vertikālas koka latas 30x30mm. Ieskaitot visus stiprinājumus un palīgmateriālus. | C30: m2 | D30: 35.3
B31: Starpsiena Si-1 (Metāla karkasa starpsiena sausām un mitrām sienām 150-400mm)
A32: 12 | B32: Montēt ģipškartona starpsienu uz 100mm metāla karkasa, apšujot no abām pusēm ar (GKB) 12,5mm ģipškatona plāksnēm divās kārtās. Karkasu pildīt ar akmens vati 100mm, ne vairāk kā λ= 0,035 W/mK. Ugunsdrošība ne mazāk kā EI‑30. Skaņas izolācijas indekss vismaz R'w=60dB. Veikt šuvju apdari. Ieskaitot visus stiprinājumus un palīgmateriālus. | C32: m2 | D32: 981
B33: Starpsiena Si-2 (Metāla karkasa starpsiena mitrām sienām 150-400mm)
A34: 13 | B34: Montēt ģipškartona starpsienu uz 100mm metāla karkasa, apšujot no abām pusēm ar (GKBI) 12,5mm ģipškatona plāksnēm divās kārtās. Karkasu pildīt ar akmens vati 100mm, ne vairāk kā λ= 0,035 W/mK. Ugunsdrošība ne mazāk kā EI‑30. Skaņas izolācijas indekss vismaz R'w=60dB. Veikt šuvju apdari. Ieskaitot visus stiprinājumus un palīgmateriālus. | C34: m2 | D34: 209.5
B35: Starpsiena Si-3 (Gāzbetona starpsiena 150mm)
A36: 14 | B36: Mūrēt gāzbetona sienu 150mm biezumā uz līmjavas, ne vairāk kā λ= 0,11 W/mK. Ugunsreakcijas klase ‑ ne mazāk kā A1. Skaņas izolācijas indekss vismaz RW (dB)= 41. Stiegrot atbilstoši tehnoloģijai. Ieskaitot visus stiprinājumus un palīgmateriālus. | C36: m2 | D36: 324
B37: Starpsiena Si-4 (Keramisko bloku siena 300 mm)
A38: 15 | B38: Mūrēt keramisko bloku sienu 300mm biezumā uz mūrjavas. Stiegrot atbilstoši tehnoloģijai. Ieskaitot visus stiprinājumus un palīgmateriālus. | C38: m2 | D38: 525.6
B39: Starpsiena Si-5 (Dzelzsbetona siena 300 mm) no abām pusēm
A40: 16 | B40: Montēt vertikālas koka latas 30x30mm. Ieskaitot visus stiprinājumus un palīgmateriālus. | C40: m2 | D40: =96.3*2 -> 192.6
B41: Starpsiena Si-6 (Dzelzsbetona siena 300 mm)
A42: 17 | B42: Montēt vertikālas koka latas 30x30mm. Ieskaitot visus stiprinājumus un palīgmateriālus. | C42: m2 | D42: 451.6
B43: Starpsiena Si-7 (Dzelzsbetona siena 300 mm)
A44: 18 | B44: Uzstādīt balistiskās rikošetes metāla plāksnes AR500 9,5mm vai ekvivalents. Ieskaitot visus stiprinājumus un palīgmateriālus. | C44: m2 | D44: 998.7
...

Sheet 1-7
A1: Būvdarbu apjomu saraksts Nr.1-7
A2: =KA!C21 -> Grīdas
A3: (būvdarbu veids vai konstruktīvā elementa nosaukums)
A5: Objekta nosaukums: Šautuves sporta ēkas jaunbūve Stacijas ielā 129A, Daugavpilī un teritorijā esošo ēku demontāža
A6: Būves nosaukums: Šautuves sporta ēka
A7: Objekta adrese: Stacijas ielā 129A, Daugavpilī
A9: Apjomi sastādīti, pamatojoties uz būvprojekta rasējumiem
A11: Nr. p.k. | B11: Būvdarbu nosaukums | C11: Mērvienība | D11: Daudzums
B13: Grīda G-1
A14: 1 | B14: Ieklāt blietētu šķembu kārtu 100mm biezumā ar 30-45mm frakcijas šķembām | C14: m3 | D14: 40.87
A15: 2 | B15: Siltināt grīdu ar siltumizolāciju 100mm biezumā, ne vairāk kā λ=0,037 W/mK | C15: m2 | D15: 408.7
A16: 3 | B16: Ieklāt Tvaika izolācijas plēvi, Sd, m: > 100 m, b=0,2mm (vai ekvivalents) | C16: m2 | D16: 408.7
A17: 4 | B17: Ieklāt betona izlīdzinošo slāni 80-92mm biezumā ar C25/30 klases betonu, padodot iestrādes vietā ar sūkni. Stiegrot grīdu ar B500B/10/10/150/150 tērauda sietu. Ieskaitot visus stiprinājumus un palīgmateriālus. | C17: m2 | D17: 408.7
B18: Grīda G-2
A19: 5 | B19: Ieklāt blietētu šķembu kārtu 100mm biezumā ar 30-45mm frakcijas šķembām | C19: m3 | D19: 109.73
A20: 6 | B20: Siltināt grīdu ar siltumizolāciju 100mm biezumā, ne vairāk kā λ=0,037 W/mK | C20: m2 | D20: 1097.3
A21: 7 | B21: Ieklāt Tvaika izolācijas plēvi Sd, m: > 100 m, b=0,2mm (vai ekvivalents) | C21: m2 | D21: 1097.3
A22: 8 | B22: Ieklāt betona izlīdzinošo slāni 92mm biezumā ar C25/30 klases betonu, padodot iestrādes vietā ar sūkni. Stiegrot grīdu ar B500B/10/10/150/150 tērauda sietu. Ieskaitot visus stiprinājumus un palīgmateriālus. | C22: m2 | D22: 1097.3
B23: Grīda P-1
A24: 9 | B24: Ieklāt skaņas izolāciju 30mm biezumā, ne vairāk kā λ=0.035 W/mK | C24: m2 | D24: 510.3
A25: 10 | B25: Ieklāt norobežojošu filtraudumu vai plēvi 0,2mm | C25: m2 | D25: 510.3
A26: 11 | B26: Ieklāt betona izlīdzinošo slāni 90-102mm biezumā ar C20/25 klases betonu, padodot iestrādes vietā ar sūkni. Stiegrot grīdu ar B500B/6/6/150/150 tērauda sietu. Ieskaitot visus stiprinājumus un palīgmateriālus. | C26: m2 | D26: 510.3
B27: Grīda P-2
A28: 12 | B28: Ieklāt skaņas izolāciju 30mm biezumā, ne vairāk kā λ=0.035 W/mK | C28: m2 | D28: 1057.5
A29: 13 | B29: Ieklāt norobežojošu filtraudumu vai plēvi 0,2mm | C29: m2 | D29: 1057.5
A30: 14 | B30: Ieklāt betona izlīdzinošo slāni ar betona virsmas cietinātāju 102mm biezumā ar C25/30 klases betonu, padodot iestrādes vietā ar sūkni. Stiegrot grīdu ar B500B/6/6/150/150 tērauda sietu. Ieskaitot visus stiprinājumus un palīgmateriālus. | C30: m2 | D30: 1057.5
B31: Grīda P-3
A32: 15 | B32: Ieklāt skaņas izolāciju 30mm biezumā, ne vairāk kā λ=0.035 W/mK | C32: m2 | D32: 135
A33: 16 | B33: Ieklāt norobežojošu filtraudumu vai plēvi 0,2mm | C33: m2 | D33: 135
A34: 17 | B34: Ieklāt betona izlīdzinošo slāni ar betona virsmas cietinātāju 102mm biezumā ar C25/30 klases betonu, padodot iestrādes vietā ar sūkni. Stiegrot grīdu ar B500B/6/6/150/150 tērauda sietu. Ieskaitot visus stiprinājumus un palīgmateriālus. | C34: m2 | D34: 135
B35: Grīda P-4
A36: 18 | B36: Ieklāt skaņas izolāciju 30mm biezumā, ne vairāk kā λ=0.035 W/mK | C36: m2 | D36: 70.2
A37: 19 | B37: Ieklāt norobežojošu filtraudumu vai plēvi 0,2mm | C37: m2 | D37: 70.2
A38: 20 | B38: Ieklāt betona izlīdzinošo slāni ar betona virsmas cietinātāju 90-102mm biezumā ar C25/30 klases betonu, padodot iestrādes vietā ar sūkni. Stiegrot grīdu ar B500B/6/6/150/150 tērauda sietu. Ieskaitot visus stiprinājumus un palīgmateriālus. | C38: m2 | D38: 70.2
B39: Kājslauķis
A40: 21 | B40: Uzstādīt kājslauķi KS-1 1000x1300mm. -Cinkots presēts metāla režģa kājslauķis; -PR ar acs izmēru 22x22mm; -Gružu savākšanas kaste 80 mm; - Lietus kanalizācijas izlaide vai ekvivalents | C40: gb | D40: 3
A41: 22 | B41: Uzstādīt kājslauķi KS-2 1000x1300mm. -Kājslauķi - tepiķis + birste; -Iebūves dziļums 17mm. | C41: gb | D41: 3
B42: Grīdas apdare
A43: 23 | B43: Ieklāt flīžu grīdas segumu uz līmes kārtas, ieskaitot visus stiprinājumus un palīgmateriālus. Akmens masas flīzes 300x300x9 mm, tonis - dark grey, Pretslīdes klase R10; | C43: m2 | D43: 70.9
A44: 24 | B44: Ieklāt grīdas linoleju uz līmes kārtas, ieskaitot visus stiprinājumus un palīgmateriālus. Pretslīdes vinila grīdas segums b=2mm, Nodilumslāņa biezums 0.7mm, krāsa oranža, Pretslīdes klase R10; 34.klase, ugunsdrošības klase ne mazāka ka Bfl-s1 vai ekvivalents | C44: m2 | D44: 28.8
...

Sheet 1-8
A1: Būvdarbu apjomu saraksts Nr.1-8
A2: =KA!C22 -> Griesti
A3: (būvdarbu veids vai konstruktīvā elementa nosaukums)
A5: Objekta nosaukums: Šautuves sporta ēkas jaunbūve Stacijas ielā 129A, Daugavpilī un teritorijā esošo ēku demontāža
A6: Būves nosaukums: Šautuves sporta ēka
A7: Objekta adrese: Stacijas ielā 129A, Daugavpilī
A9: Apjomi sastādīti, pamatojoties uz būvprojekta rasējumiem
A11: Nr. p.k. | B11: Būvdarbu nosaukums | C11: Mērvienība | D11: Daudzums
A14: 1 | B14: Uzstādīt piekārtos griestus, ieskaitot visus stiprinājumus un palīgmateriālus. Alumīnija režģveida piekaramie griesti vai ekvivalents; Krāsa melna, matēts; Profila platums- 10mm; Profila augstums- 40mm; Režģis 10x10 mm Ugunsreakcijas klase – vismaz A1 | C14: m2 | D14: 801.7
A15: 2 | B15: Uzstādīt piekārtos griestus, ieskaitot visus stiprinājumus un palīgmateriālus. Fibrolīta piekaramie griesti, 600x600mm; vai ekvivalents; Krāsa melna; Siltumvadītspēja ne vairāk kā λ = 0,069 W/m·K; Skaidas platums 1mm; Plātnes biezums 15mm; Ugunsreakcijas klase vismaz B-s1, d0; | C15: m2 | D15: 215.7
A16: 3 | B16: Uzstādīt piekārtos griestus, ieskaitot visus stiprinājumus un palīgmateriālus. Akustiskās griestu flīzes Action target ar augstu skaņu spalēšanu (vai ekvivalents) Krāsa balta; Flīzes biezums 15mm; | C16: m2 | D16: 597.4
A17: 4 | B17: Uzstādīt piekārtos griestus, ieskaitot visus stiprinājumus un palīgmateriālus. (GKBI) mitrumizturīgs reģipsis, Plātnes biezums 2x12,5mm; Ugunsreakcijas klase A2-s1,d0 | C17: m2 | D17: 68.6
A18: 5 | B18: Uzstādīt piekārtos griestus, ieskaitot visus stiprinājumus un palīgmateriālus. (GKB) reģipsis, Plātnes biezums 2x12,5mm; Ugunsreakcijas klase A2-s1,d0 | C18: m2 | D18: 95.3
A19: 6 | B19: Špaktelēt un krāsot ģipškartona griestus. Ūdens dispersijas akrila krāsa iekšdarbiem | C19: m2 | D19: 163.9
A20: 7 | B20: Špaktelēt un krāsot griestus. Ūdens dispersijas akrila krāsa iekšdarbiem pusmatēta, Tonis - melna, Blīvums ne mazāk kā 1,30-1,35 g/cm3 | C20: m2 | D20: 818.2
A24: Piezīme: Būvuzņēmējam jāievērtē darbu daudzuma sarakstā minēto darbu veikšanai nepieciešamie materiāli un papildus darbi, kas nav minēti šajā sarakstā, bet bez kuriem nebūtu iespējama būvdarbu tehnoloģiski pareiza un spēkā esošajiem normatīviem atbilstoša veikšana pilnā apmērā. Darbu apjomu sarakstu skatīt kopā ar rasējumiem un specifikācijām. Sniegtās norādes uz izmantojamo būvmateriālu, iekārtu un ražotāju zīmoliem nes informatīvu raksturu un var būt aizvietoti ar materialiem un izstrādājumiem ar analoģiskiem tehniskiem raksturojumiem.

Sheet 1-9
A1: Būvdarbu apjomu saraksts Nr.1-9
A2: =KA!C23 -> Logi un durvis
A3: (būvdarbu veids vai konstruktīvā elementa nosaukums)
A5: Objekta nosaukums: Šautuves sporta ēkas jaunbūve Stacijas ielā 129A, Daugavpilī un teritorijā esošo ēku demontāža
A6: Būves nosaukums: Šautuves sporta ēka
A7: Objekta adrese: Stacijas ielā 129A, Daugavpilī
A9: Apjomi sastādīti, pamatojoties uz būvprojekta rasējumiem
A11: Nr. p.k. | B11: Būvdarbu nosaukums | C11: Mērvienība | D11: Daudzums
B13: Ārdurvis
A14: 1 | B14: Uzstādīt metāla ārdurvis Da-1 1060x2100mm. -Siltumvad. k. durvju bloka kopējai konstrukcijai - 1.1W/(m²K); -Eņģes: regulējamas – 3 gab.; -Slieksnis: metāla, biezums <25 mm; -Blīvgumija: iestrādāta vērtnē; -Tonis - pelēka; -Furnitūra: atbilstoši prasībām; -Aprīkotas ar pašaizvēršanās mehānismu; -Durvīm jābūt aprīkotām ar durvju rokturi (matēts melns); -Brīvais atvērums >900mm. -Rokturi, eņģes - alumīnija drošības klase - RC3 (atbilstoši DIN V ENV 1627 vai ekvivalents); - Furnitūra atbilst EN 179 vai ekvivalents; evakuācijas virzienā atveramas bez atslēgas. Ieskaitot visus stiprinājumus un palīgmateriālus. | C14: gb | D14: 1
A15: 2 | B15: Uzstādīt metāla ārdurvis Da-2 1060x2100mm. -Vērtne sastāv no kombinētas konstrukcijas – režģis, tērauda loksne, atkal režģis. Akmensvates 3 cm biezās kārtas tērauda loksnēm no abām pusēm; -Siltumvad. k. durvju bloka kopējai konstrukcijai - 1.1W/(m²K); -Drošības līmenis - FB4; -Skaņas caurlaidības koeficents- 45dB; -Eņģes: regulējamas – 3 gab.; -Slieksnis: metāla, biezums <25 mm; -Blīvgumija: iestrādāta vērtnē; -Tonis - pelēka; -Furnitūra: atbilstoši prasībām; -Aprīkotas ar pašaizvēršanās mehānismu; -4. drošības klase (WK4) saskaņā ar ENV 1627 standartu vai ekvivalents; -7. klases drošības slēdzenes; -Brīvais atvērums >900mm. -Rokturis- antipanikas rokturis -Rokturi, eņģes - alumīnija drošības klase - RC3 (atbilstoši DIN V ENV 1627 vai ekvivalents); -Furnitūra atbilst EN 179 vai ekvivalents; evakuācijas virzienā atveramas bez atslēgas. Ieskaitot visus stiprinājumus un palīgmateriālus. | C15: gb | D15: 4
A16: 3 | B16: Uzstādīt alumīnija ārdurvis Da-3 1750x2100mm. -Trīs kameru durvju sistēma ar siltumizolāciju; -Siltumvad. k. durvju bloka kopējai konstrukcijai - 1.5W/(m²K); -Eņģes: regulējamas – 3 gab.; -Durvīm paredzams <25mm; -Aprīkotas ar secīgās aizvēršanās mehānismu; -Tonis - tumši pelēks; -Skaņas caurlaidības koeficents – 33 dB; -Stikoljumam augstumā 0.35m, 1.4m un 1.6m veikt matētas aizsargplēves uzklāšanu 10 cm platumā; -Durvīm jābūt aprīkotām ar durvju rokturi un slēdzeni . -Rokturi, eņģes - alumīnija drošības klase - RC3 (atbilstoši DIN V ENV 1627 vai ekvivalents); -Furnitūra atbilst EN 179 vai ekvivalents; evakuācijas virzienā atveramas bez atslēgas. Ieskaitot visus stiprinājumus un palīgmateriālus. | C16: gb | D16: 1
A17: 4 | B17: Uzstādīt tvaika izolācijas lenti ieskaitot visus stiprinājumus un palīgmateriālus. | C17: m | D17: 32.25
A18: 5 | B18: Uzstādīt hidroizolācijas lenti ieskaitot visus stiprinājumus un palīgmateriālus. | C18: m | D18: 32.25
A19: 6 | B19: Veikt durvju iekšējo aiļu apdari atbilstoši sienas apdares tipam ieskaitot visus stiprinājumus un palīgmateriālus. | C19: m | D19: 32.25
A20: 7 | B20: Veikt durvju ārējo aiļu apdari atbilstoši sienas apdares tipam ieskaitot visus stiprinājumus un palīgmateriālus. | C20: m | D20: 32.25
B21: Iekšdurvis
A22: 8 | B22: Uzstādīt iekšdurvis Di-1 1060x2100mm. Gludās iekšdurvis MDF; -Vērtne- gluda- 40mm bieza vērtne bez pārfalces, -Ailas apdare - krāsots MDF; -Eņģes: regulējamas – 2 gab.; -Slieksnis: MDF, biezums <25 mm; -Durvīm jābūt aprīkotām ar durvju rokturi, kas paredzēts intensīvai slodzei, nodilumizturīga metāla durvju rokturis uz pamatnes (nolikas) ar integrētu atgriezējmehānismu un slēptu caurejošo fiksāciju.; -Durvīm jābūt aprīkotām ar durvju slēdzeni, augstas drošības un pretuzlaušanas klases mehāniskais slēdzenes korpuss, kas saderīgs ar Eiropas (DIN) standarta cilindriem un sertificēts intensīvai ekspluatācijai; -Durvju skaņas caurlaidības koeficents- 30dB; -Tonis - pelēks; -Aprīkotas ar pašaizvēršanās mehānismu; Brīvais atvērums >900mm. -Rokturi, eņģes - alumīnija drošības klase - RC3 (atbilstoši DIN V ENV 1627 vai ekvivalents); -Furnitūra atbilst EN 179 vai ekvivalents; evakuācijas virzienā atveramas bez atslēgas. | C22: gb | D22: 18
A23: 9 | B23: Uzstādīt iekšdurvis Di-2 1060x2100mm. Gludās iekšdurvis -Mitrumizturīgas MDF; -Vērtne- gluda- 40mm bieza vērtne bez pārfalces, -Ailas apdare - krāsots MDF; -Eņģes: regulējamas – 2 gab.; -Slieksnis: MDF, biezums <25 mm; -Durvīm jābūt aprīkotām ar durvju rokturi, kas paredzēts intensīvai slodzei, nodilumizturīga metāla durvju rokturis uz pamatnes (nolikas) ar integrētu atgriezējmehānismu un slēptu caurejošo fiksāciju.; -Durvīm jābūt aprīkotām ar durvju slēdzeni, augstas drošības un pretuzlaušanas klases mehāniskais slēdzenes korpuss, kas saderīgs ar Eiropas (DIN) standarta cilindriem un sertificēts intensīvai ekspluatācijai; -Durvju skaņas caurlaidības koeficents- 30dB; -Tonis - pelēks; -Durvis aprīkotas ar gaisa kompensācijas resti durvju apakšējā daļā. Restes izmērs 400x100mm; -Alumīnija WC zīmes : WC, Sieviete, Vīrietis, Cilvēks ratiņkrēslā; -*(Aprīkotas ar pašaizvēršanās mehānismu). -Rokturi, eņģes - alumīnija drošības klase - RC3 (atbilstoši DIN V ENV 1627 vai ekvivalents); -Furnitūra atbilst EN 179 vai ekvivalents; evakuācijas virzienā atveramas bez atslēgas. | C23: gb | D23: 1
A24: 10 | B24: Uzstādīt iekšdurvis Di-3/3* 860x2100mm. Gludās iekšdurvis -Mitrumizturīgas MDF durvis; -Vērtne- gluda- 40mm bieza vērtne bez pārfalces, -Ailas apdare - krāsots MDF; -Eņģes: regulējamas – 2 gab.; -Slieksnis: MDF, biezums <25 mm; -Durvīm jābūt aprīkotām ar durvju rokturi, kas paredzēts intensīvai slodzei, nodilumizturīga metāla durvju rokturis uz pamatnes (nolikas) ar integrētu atgriezējmehānismu un slēptu caurejošo fiksāciju.; -Durvīm jābūt aprīkotām ar durvju slēdzeni, augstas drošības un pretuzlaušanas klases mehāniskais slēdzenes korpuss, kas saderīgs ar Eiropas (DIN) standarta cilindriem un sertificēts intensīvai ekspluatācijai; -Durvju skaņas caurlaidības koeficents- 30dB; -Tonis -pelēks; -Durvis aprīkotas ar gaisa kompensācijas resti durvju apakšējā daļā. Restes izmērs 400x100mm; -Alumīnija WC zīmes : WC, Sieviete, Vīrietis, Cilvēks ratiņkrēslā; -*(Aprīkotas ar pašaizvēršanās mehānismu). -Rokturi, eņģes - alumīnija drošības klase - RC3 (atbilstoši DIN V ENV 1627 vai ekvivalents); -Furnitūra atbilst EN 179 vai ekvivalents; evakuācijas virzienā atveramas bez atslēgas. | C24: gb | D24: 14
A25: 11 | B25: Uzstādīt iekšdurvis Di-4 1060x2100mm. - Režģis ar mehānisku slēdzeni; - Tērauda stienis 16mm diametrā; - Šūnas izmērs 150x150mm; - Tonis- pelēks; - Brīvais atvērums >900mm. -Atbilstoši MK noteikumiem Nr.210 "Noteikumi par ieroču un munīcijas apriti". | C25: gb | D25: 3
A26: 12 | B26: Uzstādīt iekšdurvis Di-5 1060x2100mm. - Metāla durvis ar divām slēdzenēm (viena – ar zirnekļveida aizbīdņiem); - Tērauda biezums 3.0 mm.; - Tonis- pelēks; - Brīvais atvērums >900mm. -Atbilstoši MK noteikumiem Nr.210 "Noteikumi par ieroču un munīcijas apriti". | C26: gb | D26: 3
A27: 13 | B27: Uzstādīt iekšdurvis Di-6 EI-30 1060x2100mm. Ugunsdrošās metāla durvis EI-30 -Durvju vērtnes biezums 50mm; -Durvju vērtne sastāv no divām cinkota tērauda loksnēm ar ugunsdrošas akmens vates pildījumu; -Durvju komplektācijā ietilpst: durvju vērtne, slēdzenes komplekts ar atslēgu, evukuācijas rokturi, blīves(2 kompl.); -Durvis aprīkotas ar pašaizvēršanās mmehānismu; -Tonis- pelēks; -Dūmu necaurlaidība- C5Sa, C5S200; -Vērtnes svars-34 kg / m²; -Brīvais atvērums >900mm -Durvju skaņas caurlaidības koeficents-42dB. -Rokturi, eņģes - alumīnija drošības klase - RC3 (atbilstoši DIN V ENV 1627 vai ekvivalents); -Furnitūra atbilst EN 179 vai ekvivalents; evakuācijas virzienā atveramas bez atslēgas; -Atbilstoši EN 16034:2014 vai ekvivalents. | C27: gb | D27: 2
A28: 14 | B28: Uzstādīt iekšdurvis Di-7 1060x2100mm. Gludās iekšdurvis - Mitrumizturīgas MDF durvis; -Vērtne- gluda- 40mm bieza vērtne bez pārfalces, -Ailas apdare - krāsots MDF; -Eņģes: regulējamas – 2 gab.; -Slieksnis: MDF, biezums <25 mm; -Durvīm jābūt aprīkotām ar durvju rokturi, uzlikām; -Durvju slēdzene ; -Durvju skaņas caurlaidības koeficents- 30dB; -Tonis - pelēks, -Durvis aprīkotas ar gaisa kompensācijas resti durvju apakšējā daļā. Restes izmērs 400x100mm. -Rokturi, eņģes - alumīnija drošības klase - RC3 (atbilstoši DIN V ENV 1627 vai ekvivalents); -Furnitūra atbilst EN 179 vai ekvivalents; evakuācijas virzienā atveramas bez atslēgas. | C28: gb | D28: 2
A29: 15 | B29: Uzstādīt iekšdurvis Di-8 EI-30 1800x2100mm. Ugunsdrošās metāla durvis EI-30 -Durvju vērtnes biezums 50mm; -Durvju vērtne sastāv no divām cinkota tērauda loksnēm ar ugunsdrošas akmens vates pildījumu; -Durvju komplektācijā ietilpst: durvju vērtne, slēdzenes komplekts ar atslēgu, evukuācijas rokturi, blīves(2 kompl.); -Durvis aprīkotas ar pašaizvēršanās mmehānismu; -Tonis- pelēks; -Dūmu necaurlaidība- C5Sa, C5S200; -Vērtnes svars-34 kg / m²; -Brīvais atvērums >900mm -Durvju skaņas caurlaidības koeficents-42dB. -Rokturi, eņģes - alumīnija drošības klase - RC3 (atbilstoši DIN V ENV 1627 vai ekvivalents); -Furnitūra atbilst EN 179 vai ekvivalents; evakuācijas virzienā atveramas bez atslēgas; -Atbilstoši EN 16034:2014. vai ekvivalents | C29: gb | D29: 3
A30: 16 | B30: Uzstādīt iekšdurvis Di-9 EI-30 1060x2100mm. Ugunsdrošās metāla durvis EI-30 -Durvju vērtnes biezums 50mm; -Durvju vērtne sastāv no divām cinkota tērauda loksnēm ar ugunsdrošas akmens vates pildījumu; -Durvju komplektācijā ietilpst: durvju vērtne, slēdzenes komplekts ar atslēgu, evukuācijas rokturi, blīves(2 kompl.); -Durvis aprīkotas ar pašaizvēršanās mmehānismu; -Tonis- pelēks; -Dūmu necaurlaidība- C5Sa, C5S200; -Vērtnes svars-34 kg / m²; -Brīvais atvērums >900mm -Durvju skaņas caurlaidības koeficents-42dB. -Rokturi, eņģes - alumīnija drošības klase - RC3 (atbilstoši DIN V ENV 1627 vai ekvivalents); -Furnitūra atbilst EN 179 vai ekvivalents; evakuācijas virzienā atveramas bez atslēgas; -Atbilstoši EN 16034:2014 vai ekvivalents | C30: gb | D30: 1
A31: 17 | B31: Uzstādīt iekšdurvis Di-10 1060x2100mm. Metāla durvis ar stiklu -Drošības līmenis - FB4; -Skaņas caurlaidības koeficents- 45dB; -Eņģes: regulējamas – 2 gab.; -Slieksnis: metāla, biezums <25 mm; -Blīvgumija: iestrādāta vērtnē; -Tonis - gaiši pelēks; -Aprīkotas ar pašaizvēršanās mehānismu; -Ložu necauršaijams stikls BR7; -Durvīm jābūt aprīkotām ar durvju rokturi, kas paredzēts intensīvai slodzei, nodilumizturīga metāla durvju rokturis uz pamatnes (nolikas) ar integrētu atgriezējmehānismu un slēptu caurejošo fiksāciju.; -Durvīm jābūt aprīkotām ar durvju slēdzeni, augstas drošības un pretuzlaušanas klases mehāniskais slēdzenes korpuss, kas saderīgs ar Eiropas (DIN) standarta cilindriem un sertificēts intensīvai ekspluatācijai; -Stikoljumam augstumā 0.35m, 1.4m un 1.6m veikt matētas aizsargplēves uzklāšanu 10 cm platumā; -Brīvais atvērums >900mm; -Atbilstoši Eiropas kvalitātes standartiem EN 16034:2014. vai ekvivalents -Furnitūra atbilst EN 179 vai ekvivalents; evakuācijas virzienā atveramas bez atslēgas. | C31: gb | D31: 3
A32: 18 | B32: Uzstādīt iekšdurvis Di-11 1750x2100mm. -Alumīnija rāmja konstrukcijas stiklotas durvis -Eņģes: regulējamas – 2 gab.; -Durvīm paredzams <25mm; -Tonis - tumši pelēks; -Skaņas caurlaidības koeficents – 33 dB; -Durvīm jābūt aprīkotām ar durvju rokturi uz zema profila kvadrātveida pamatnes (nolikas), izgatavots no augstas izturības krāsainā metāla sakausējuma ar nodilumizturīgu pārklājumu, aprīkots ar integrētu pozīcijas atgriezējmehānismu un slēptu caurejošo fiksāciju intensīvas slodzes režīmam; -Stikoljumam augstumā 0.35m, 1.4m un 1.6m veikt matētas aizsargplēves uzklāšanu 10 cm platumā; -Durvīm jābūt aprīkotām ar visām blīvgumijām; -Aprīkotas ar secīgās aizvēršanās mehānismu. -Rokturi, eņģes - alumīnija drošības klase - RC3 (atbilstoši DIN V ENV 1627 vai ekvivalents); -Furnitūra atbilst EN 179 vai ekvivalents; evakuācijas virzienā atveramas bez atslēgas. | C32: gb | D32: 1
A33: 19 | B33: Veikt durvju iekšējo aiļu apdari atbilstoši sienas apdares tipam ieskaitot visus stiprinājumus un palīgmateriālus. | C33: m | D33: 279.58
B34: Ārējie logi
A35: 20 | B35: Uzstādīt logu L-1 1800x900mm. -Rāmis - PVC profils, verams, atgāžams; -Tonis - RAL 7015; -Palodzes - iekšējā - laminēta koksk. plāksne, matēta, balta; - ārējā alumīnija palodze 0.7mm, tonis - tumsi pelēks; -Siltumvad. k. loga bloka kopējai konstrukcijai - 1.1W/(m²K); -Skaņas izol. stikla pakete - 35dB/rāmis - 48dB; -Logiem jābūt aprīkotām ar visām blīvgumijām; -Loga shēma dota skatā no ārpuses. *BA - Brīvā atvēruma laukums (m²) -Rokturi, eņģes - alumīnija drošības klase - RC3 (atbilstoši DIN V ENV 1627 vai ekvivalents) | C35: gb | D35: 43
A36: 21 | B36: Uzstādīt tvaika izolācijas lenti ieskaitot visus stiprinājumus un palīgmateriālus. | C36: m | D36: 232.2
A37: 22 | B37: Uzstādīt hidroizolācijas lenti ieskaitot visus stiprinājumus un palīgmateriālus. | C37: m | D37: 232.2
A38: 23 | B38: Uzstādīt ārējo skārda palodzi 300mm platumā ieskaitot visus stiprinājumus un palīgmateriālus. | C38: m | D38: 38.7
A39: 24 | B39: Uzstādīt iekšējo palodzi 250mm platumā ieskaitot visus stiprinājumus un palīgmateriālus. | C39: m | D39: 38.7
A40: 25 | B40: Veikt iekšējo aiļu apdari atbilstoši sienas apdares tipam ieskaitot visus stiprinājumus un palīgmateriālus. | C40: m | D40: 193.5
A41: 26 | B41: Veikt ārējo aiļu apdari atbilstoši sienas apdares tipam ieskaitot visus stiprinājumus un palīgmateriālus. | C41: m | D41: 193.5
B42: Ārējā vitrīna
A43: 27 | B43: Uzstādīt vitrīnu Va-1 6200x12520mm. Fasāžu sistēmas ar iebūvētām divviru durvīm; - Durvis paredzēt ar secīgās aizvēršanās mehānismu; -Durvīm jābūt aprīkotām ar visām blīvgumijām; -Tonis - iekšējā pelēks; - ārējā pelēks; -Stikls - trīskārša rūdītā stikla aizpildījumu pakete; -Caurredzamā stikla fasādes daļa ar atstarojošu pārklājumu; -Siltumvad. k. vitrīnas bloka kopējai konstrukcijai - 1.1W/(m²K); -Skaņas izol. - stikla pakete - 35dB / rāmis - 38dB; -Tonis durvis, logi - iekšējā pelēka - ārējā pelēka; -Drošības joslas - pelēkas plēves joslas, tonis - gaiši pelēks; -Durvju brīvais atvērums >1000mm; -Furnitūra atbilst EN 179 vai ekvivalents; evakuācijas virzienā atveramas bez atslēgas. *BA - Brīvais atvērums (m²) | C43: gb | D43: 2
A44: 28 | B44: Uzstādīt tvaika izolācijas lenti ieskaitot visus stiprinājumus un palīgmateriālus. | C44: m | D44: 62.48
...

Sheet 1-10
A1: Būvdarbu apjomu saraksts Nr.1-10
A2: =KA!C24 -> Ārējie apdares darbi
A3: (būvdarbu veids vai konstruktīvā elementa nosaukums)
A5: Objekta nosaukums: Šautuves sporta ēkas jaunbūve Stacijas ielā 129A, Daugavpilī un teritorijā esošo ēku demontāža
A6: Būves nosaukums: Šautuves sporta ēka
A7: Objekta adrese: Stacijas ielā 129A, Daugavpilī
A9: Apjomi sastādīti, pamatojoties uz būvprojekta rasējumiem
A11: Nr. p.k. | B11: Būvdarbu nosaukums | C11: Mērvienība | D11: Daudzums
B13: Cokols C-1 (Monolīta dzelzsbetona cokols ar dekoratīvo silikona apmetumu 420mm)
A14: 1 | B14: Gruntēt virsmu ar virsmas saķeres kvarca grunti vai ekvivalents. | C14: m2 | D14: 17
A15: 2 | B15: Armēt virsmu ar armēšanas javu un iestrādāt stiklaškiedras sietu 160 g/m² vai ekvivalents. Ieskaitot visus stiprinājumus un palīgmateriālus. | C15: m2 | D15: 17
A16: 3 | B16: Gruntēt virsmu ar zemapmetuma grunti vai ekvivalents. | C16: m2 | D16: 17
A17: 4 | B17: Apmest virsmu ar masā tonētu gatavo silikona dekoratīvo apmetumu vai ekvivalents. Biezpientipa, frakcija 2.0mm. Toni skatīt fasādes krāsu pasē | C17: m2 | D17: 17
B18: Cokols C-2 (porizēto keramisko bloku cokols ar dekoratīvo apmetumu 402mm)
A19: 5 | B19: Izolēt virsmu ar hidroizolējošo bituma emulsiju vai ekvivalents | C19: m2 | D19: 107.6
A20: 6 | B20: Pārklāt virsmu ar hidroizolējošo bituma pārklājumu-līmjava vai ekvivalents | C20: m2 | D20: 107.6
A21: 7 | B21: Siltināt virsmu ar ekstrudēto putupolistirolu 100mm biezumā, ne vairāk kā λ= 0,035 W/mK vai ekvivalents. Ieskaitot visus stiprinājumus un palīgmateriālus. | C21: m2 | D21: 107.6
A22: 8 | B22: Armēt virsmu divās kārtās ar Universālo līmjavu ar šķiedrām un iestrādāt stiklaškiedras sietu divās kārtās vai ekvivalents. Ieskaitot visus stiprinājumus un palīgmateriālus. | C22: m2 | D22: 107.6
A23: 9 | B23: Gruntēt virsmu ar zemapmetuma grunti vai ekvivalents. | C23: m2 | D23: 107.6
A24: 10 | B24: Apmest virsmu ar dekoratīvo silikona apmetumu 2mm vai ekvivalents. Toni skatīt fasādes krāsu pasē | C24: m2 | D24: 107.6
B25: Cokols C-3 (Monolīta dzelzsbetona cokols ar dekoratīvo apmetumu 402mm)
A26: 11 | B26: Izolēt virsmu ar hidroizolējošo bituma emulsiju vai ekvivalents | C26: m2 | D26: 209.8
A27: 12 | B27: Pārklāt virsmu ar hidroizolējošo bituma pārklājumu-līmjava vai ekvivalents | C27: m2 | D27: 209.8
A28: 13 | B28: Siltināt virsmu ar ekstrudēto putupolistirolu 100mm biezumā, ne vairāk λ= 0,035 W/mK vai ekvivalents. Ieskaitot visus stiprinājumus un palīgmateriālus. | C28: m2 | D28: 209.8
A29: 14 | B29: Armēt virsmu divās kārtās ar Universālo līmjavu ar šķiedrām un iestrādāt stiklaškiedras sietu divās kārtās vai ekvivalents. Ieskaitot visus stiprinājumus un palīgmateriālus. | C29: m2 | D29: 209.8
A30: 15 | B30: Gruntēt virsmu ar zemapmetuma grunti ar kvarca smiltīm vai ekvivalents. | C30: m2 | D30: 209.8
A31: 16 | B31: Apmest virsmu ar dekoratīvo silikona apmetumu 2mm vai ekvivalents. Toni skatīt fasādes krāsu pasē | C31: m2 | D31: 209.8
B32: Fasāde Sa-1 (porizēto keramisko bloku ārsiena ar ķieģeļflīzes apdari 505 mm)
A33: 17 | B33: Siltināt virsmu ar fasādes akmens vati 180mm biezumā uz līmjavas, ne vairāk kā λ= 0,036 W/mK , stiprinot ar Termo dībeli 260mm U8, ar skrūvi TS U8/40 vai ekvivalents. Ieskaitot visus stiprinājumus un palīgmateriālus. | C33: m2 | D33: 258.4
A34: 18 | B34: Armēt virsmu ar Kaļķa-cementa apmetums un iestrādāt masā sārmizturīgu armējošu sietu 5mm biezumā vai ekvivalents. Ieskaitot visus stiprinājumus un palīgmateriālus. | C34: m2 | D34: 258.4
A35: 19 | B35: Gruntēt virsmu ar universālo grunti 1:3 ar ūdeni vai ekvivalents. | C35: m2 | D35: 258.4
A36: 20 | B36: Flīzēt fasādi ar fasādes apdares ķieģeļflīzēm 208±5x63±5x12mm (Raksts- ķieģelis, Tonis - Cambridge 4) uz elastīgās flīžu līmes 8mm biezumā vai ekvivalents. Veikt šuvju apdari. Ieskaitot visus stiprinājumus un palīgmateriālus. | C36: m2 | D36: 258.4
B37: Fasāde Sa-2 (Dzelzsbetona ārsiena ķieģeļflīzes apdari 613 mm)
A38: 21 | B38: Siltināt virsmu ar fasādes akmens vati 180mm biezumā uz līmjavas, ne vairāk kā λ= 0,036 W/mK , stiprinot ar Termo dībeli 260mm U8, ar skrūvi TS U8/40 vai ekvivalents. Ieskaitot visus stiprinājumus un palīgmateriālus. | C38: m2 | D38: 288.9
A39: 22 | B39: Armēt virsmu ar Kaļķa-cementa apmetums un iestrādāt masā sārmizturīgu armējošu sietu 5mm biezumā vai ekvivalents. Ieskaitot visus stiprinājumus un palīgmateriālus. | C39: m2 | D39: 288.9
A40: 23 | B40: Gruntēt virsmu ar universālo grunti 1:3 ar ūdeni vai ekvivalents. | C40: m2 | D40: 288.9
A41: 24 | B41: Flīzēt fasādi ar fasādes apdares ķieģeļflīzēm 208±5x63±5x12mm Cambridge (Raksts- ķieģelis, Tonis - Cambridge 4) uz elastīgās flīžu līmes 8mm biezumā vai ekvivalents. Veikt šuvju apdari. Ieskaitot visus stiprinājumus un palīgmateriālus. | C41: m2 | D41: 288.9
B42: Fasāde Sa-3 (Dzelzsbetona ārsiena ķieģeļflīzes apdari 558 mm)
A43: 25 | B43: Siltināt virsmu ar fasādes akmens vati 180mm biezumā uz līmjavas, ne vairāk λ= 0,036 W/mK , stiprinot ar Termo dībeli 260mm U8, ar skrūvi TS U8/40 vai ekvivalents. Ieskaitot visus stiprinājumus un palīgmateriālus. | C43: m2 | D43: 156.3
A44: 26 | B44: Armēt virsmu ar Kaļķa-cementa apmetums un iestrādāt masā sārmizturīgu armējošu sietu 5mm biezumā vai ekvivalents. Ieskaitot visus stiprinājumus un palīgmateriālus. | C44: m2 | D44: 156.3
...

Sheet 1-11
A1: Būvdarbu apjomu saraksts Nr.1-11
A2: =KA!C25 -> Citi
A3: (būvdarbu veids vai konstruktīvā elementa nosaukums)
A5: Objekta nosaukums: Šautuves sporta ēkas jaunbūve Stacijas ielā 129A, Daugavpilī un teritorijā esošo ēku demontāža
A6: Būves nosaukums: Šautuves sporta ēka
A7: Objekta adrese: Stacijas ielā 129A, Daugavpilī
A9: Apjomi sastādīti, pamatojoties uz būvprojekta rasējumiem
A11: Nr. p.k. | B11: Būvdarbu nosaukums | C11: Mērvienība | D11: Daudzums
B13: WC aprīkojums
A14: 1 | B14: Montēt nerūsējošā tērauda tualetes papīra turētāju , matēts, slēdzams ar atslēgu, ieskaitot visus stiprinājumus un palīgmateriālus. | C14: gb | D14: 14
A15: 2 | B15: Montēt nerūsējošā tērauda atkritumu tverti , pulēta, ieskaitot visus stiprinājumus un palīgmateriālus. | C15: gb | D15: 17
A16: 3 | B16: Montēt nerūsējošā tērauda ziepju dozatoru, matēts, slēdzams ar atslēgu, ieskaitot visus stiprinājumus un palīgmateriālus. | C16: gb | D16: 21
A17: 4 | B17: Montēt nerūsējošā tērauda tualetes birsti , matēta, ieskaitot visus stiprinājumus un palīgmateriālus. | C17: gb | D17: 14
A18: 5 | B18: Montēt spoguli ar rāmi, regulējams, 600x450±10mm, ieskaitot visus stiprinājumus un palīgmateriālus. | C18: gb | D18: 1
A19: 6 | B19: Montēt spoguli bez rāmja, ar faseti 4mm, 680x700±10mm, ieskaitot visus stiprinājumus un palīgmateriālus. | C19: gb | D19: 7
A20: 7 | B20: Montēt spoguli bez rāmja, ar faseti 4mm, 600x2100±10 mm, ieskaitot visus stiprinājumus un palīgmateriālus. | C20: gb | D20: 1
A21: 8 | B21: Montēt spoguli bez rāmja, ar faseti 4mm, 600x1450±10 mm, ieskaitot visus stiprinājumus un palīgmateriālus. | C21: gb | D21: 1
A22: 9 | B22: Montēt roku žāvētāju, 394x234x100±10mm, ieskaitot visus stiprinājumus un palīgmateriālus. | C22: gb | D22: 10
A23: 10 | B23: Montēt sēdekli atlokāms vai ekvivalents, spīdīgs, ieskaitot visus stiprinājumus un palīgmateriālus. | C23: gb | D23: 1
A24: 11 | B24: Montēt invalīdu rokturi paceļams NT satīns, ieskaitot visus stiprinājumus un palīgmateriālus. | C24: gb | D24: 2
A25: 12 | B25: Montēt vannas rokt.ar ziepju trauku, hromēts misiņš, D25mm, ieskaitot visus stiprinājumus un palīgmateriālus. | C25: gb | D25: 1
A26: 13 | B26: Montēt rokturi atbalstam, paceļams, satīns, ieskaitot visus stiprinājumus un palīgmateriālus. | C26: gb | D26: 1
B27: Margas
A28: 14 | B28: Montēt nerūsējošā tērauda margas kāpnēm KPN1 , ieskaitot visus stiprinājumus un palīgmateriālus (saskaņā ar MK noteikumiem Nr. 693 "Būvju vispārīgo prasību būvnormatīvs LBN 200-21" ). - Margas no nerūsējoša tērauda; - Statnis h-885mm; - Lentera turētājs h-50mm; - Lenteris ∅45mm; - Tonis - pelēks. Uz kāpņu margām pie pirmā un pēdējā pakāpiena iestrādāt stāva numuru Braila rakstā | C28: m | D28: 17.21
A29: 15 | B29: Montēt nerūsējošā tērauda margas kāpnēm KPN1, ieskaitot visus stiprinājumus un palīgmateriālus (saskaņā ar MK noteikumiem Nr. 693 "Būvju vispārīgo prasību būvnormatīvs LBN 200-21" ). - Margas no nerūsējoša tērauda; - Statnis h-885mm; - Lentera turētājs h-50mm; - Lenteris ∅45mm; - Tonis - pelēks. Uz kāpņu margām pie pirmā un pēdējā pakāpiena iestrādāt stāva numuru Braila rakstā | C29: m | D29: 17.21
B30: UPP
A31: 16 | B31: Aprīkot telpas atbilstoši UPP | C31: kpl | D31: 1
A33: Piezīme: Būvuzņēmējam jāievērtē darbu daudzuma sarakstā minēto darbu veikšanai nepieciešamie materiāli un papildus darbi, kas nav minēti šajā sarakstā, bet bez kuriem nebūtu iespējama būvdarbu tehnoloģiski pareiza un spēkā esošajiem normatīviem atbilstoša veikšana pilnā apmērā. Darbu apjomu sarakstu skatīt kopā ar rasējumiem un specifikācijām. Sniegtās norādes uz izmantojamo būvmateriālu, iekārtu un ražotāju zīmoliem nes informatīvu raksturu un var būt aizvietoti ar materialiem un izstrādājumiem ar analoģiskiem tehniskiem raksturojumiem.

Sheet 2-1
A1: Būvdarbu apjomu saraksts Nr.2-1
A2: =KA!C28 -> Apkure
A3: (būvdarbu veids vai konstruktīvā elementa nosaukums)
A5: Objekta nosaukums: Šautuves sporta ēkas jaunbūve Stacijas ielā 129A, Daugavpilī un teritorijā esošo ēku demontāža
A6: Būves nosaukums: Šautuves sporta ēka
A7: Objekta adrese: Stacijas ielā 129A, Daugavpilī
A9: Apjomi sastādīti, pamatojoties uz būvprojekta rasējumiem
A11: Nr. p.k. | B11: Būvdarbu nosaukums | C11: Mērvienība | D11: Daudzums
B13: Apkures sistēma
B14: Kolektoru un silto grīdu apkures sistēma
A15: 1 | B15: Siltās grīdas caurules ∅16x2 | C15: m | D15: 19000
A16: 2 | B16: Kolektoru skapis, komplektā ar 2 gb zemgrīdas apkures sadales kolektoriem ar 16 kontūriem | C16: kpl | D16: 3
A17: 3 | B17: Kolektoru skapis, komplektā ar 2 gb zemgrīdas apkures sadales kolektors ar 15 kontūriem | C17: gb | D17: 2
A18: 4 | B18: Kolektoru skapis, komplektā ar 2 gb zemgrīdas apkures sadales kolektors ar 12 kontūriem | C18: gb | D18: 1
A19: 5 | B19: Kolektoru skapis, komplektā ar 2 gb zemgrīdas apkures sadales kolektors ar 10 kontūriem | C19: gb | D19: 3
A20: 6 | B20: Kolektoru skapis, komplektā ar 2 gb zemgrīdas apkures sadales kolektors ar 11 kontūriem | C20: gb | D20: 1
