Workbook
Name datums: [1]KA!$K$45
Name likme: PKT!$E$30
Name likme: KT!$E$22
Name parb: [1]KA!$K$43
Name procenti: #REF!
Name sast: [1]KA!$K$42
Name sertif: [1]KA!$K$44

Sheet SA
A1: EKONOMISKĀ DAĻA SKAIDROJOŠS APRAKSTS
A2: Būvdarbu apjomi ir noteikti būvprojekta daļās grafiskajos risinājumos, aprakstošajā daļā un apkopoti ekonomiskajā daļā.
A3: Gadījumā, ja projekta daļās ir savstarpējas neprecizitātes , risināt autoruzraudzības kārtībā, katru gadījumu atsevišķi kopā ar būvprojekta autoru.
A5: 1. Būvdarbu izpildes un visu apstākļu (tai skaitā apgrūtinošo) raksturojums.
A6: Būvdarbu izpildes un apstākļu raksturojumus skatīt, katra būvprojekta sadaļās.
A8: 2. Būvdarbu organizācijas īss apraksts.
A9: Skatīt būvprojekta skaidrojošo aprakstu sadaļā "Darbu organizācijas apraksts". Kā arī katru būprojekta sadaļu aprakstus.
A11: 3. Būvdarbu darbietilpība.
A12: Kopumā, būvobjekta būvniecībai no būvlaukuma iekārtošanas līdz objekta nodošanai,
A13: būvniecības darbu darbietilpība ir | E13: c/h.
A14: Aprēķinātā darbietilpība sadalāma plānotajā būvniecības darbu laika grafikā .
A15: Laika grafiku saskaņot ar pasūtītāju.
A17: 4. Tāmes ekonomiskās bāzes nosacījumu norādes.
A18: Darba samaksas likme - | D18: EUR/h, tai skaitā Darba dēvēja sociālais nodoklis
A19: Virsizdevumi - | C19: ,tai skaitā objekta uzsākšanas, vadības un nodošanas izmaksas.
A22: =PKT!A31 -> Sastādīja: Mikus Laksbergs | G22: =G26 -> 2021. gada 5.novembrī
A23: =PKT!A32 -> (paraksts un tā atšifrējums, datums)
A24: =PKT!A33 -> Sertifikāta Nr.: 4-05310
A26: ES vadītājs Aleksejs Doroņins | G26: =PKT!C35 -> 2021. gada 5.novembrī
A27: =PKT!A36 -> (paraksts un tā atšifrējums, datums)
A28: Sertifikāta Nr.: 4-04384

Sheet PKT
C2: APSTIPRINU_________________________________
C3: (pasūtītāja paraksts un tā atšifrējums)
C4: Z.V.
C5: ___.gada ___.______________
A7: Paredzamās līgumcenas koptāme
A9: Objekta nosaukums: | B9: Šautuves sporta ēkas jaunbūve Stacijas ielā 129A, Daugavpilī un teritorijā esošo ēku demontāža
A10: Būves nosaukums: | B10: Šautuves sporta ēka
A11: Objekta adrese: | B11: Stacijas ielā 129A, Daugavpilī
A12: Pasūtījuma nr.: | B12: __
A14: Nr.p.k. | B14: Objekta nosaukums | C14: Objekta izmaksas (euro)
A15: 1 | B15: =KT!B15 -> Šautuves sporta ēkas jaunbūve Stacijas ielā 129A, Daugavpilī un teritorijā esošo ēku demontāža
B18: Kopā
A20: Finanšu rezerve neparedzētiem darbiem (5%)
A21: PVN (21%)
A22: Pavisam būvniecības izmaksas
A23: Ar būvniecību saistītie pārējie izdevumi:
A24: būvuzraudzība
A25: būvprojekta autoruzraudzība
A26: izpētes un projektēšanas darbi
A27: būvprojekta ekspertīze
A28: Kopā
A31: =KT!A23 -> Sastādīja: Mikus Laksbergs | C31: =C35 -> 2021. gada 5.novembrī
A32: =[2]KT!A24 -> (paraksts un tā atšifrējums, datums)
A33: =KT!A25 -> Sertifikāta Nr.: 4-05310
A35: =SA!A26 -> ES vadītājs Aleksejs Doroņins | C35: =KT!C27 -> 2021. gada 5.novembrī
A36: =[2]KT!A28 -> (paraksts un tā atšifrējums, datums)
A37: =SA!A28 -> Sertifikāta Nr.: 4-04384

Sheet KT
C2: APSTIPRINU_________________________________
C3: (pasūtītāja paraksts un tā atšifrējums)
C4: Z.V.
C5: ___.gada ___.______________
A7: Būvniecības koptāme
A9: Objekta nosaukums: | B9: Šautuves sporta ēkas jaunbūve Stacijas ielā 129A, Daugavpilī un teritorijā esošo ēku demontāža
A10: Būves nosaukums: | B10: Šautuves sporta ēka
A11: Objekta adrese: | B11: Stacijas ielā 129A, Daugavpilī
A12: Pasūtījuma nr.: | B12: __
A14: Nr.p.k. | B14: Objekta nosaukums | C14: Objekta izmaksas (euro)
A15: 1 | B15: =B9 -> Šautuves sporta ēkas jaunbūve Stacijas ielā 129A, Daugavpilī un teritorijā esošo ēku demontāža
B18: Kopā
A20: PVN (21%)
D22: Likme | E22: 14
A23: Sastādīja: Mikus Laksbergs | C23: =C27 -> 2021. gada 5.novembrī
A24: (paraksts un tā atšifrējums, datums)
A25: Sertifikāta Nr.: 4-05310
A27: =SA!A26 -> ES vadītājs Aleksejs Doroņins | C27: 2021. gada 5.novembrī
A28: (paraksts un tā atšifrējums, datums)
A29: =PKT!A37 -> Sertifikāta Nr.: 4-04384

Sheet KA
A2: Kopsavilkuma aprēķins nr.1
A3: =C6 -> Šautuves sporta ēkas jaunbūve Stacijas ielā 129A, Daugavpilī un teritorijā esošo ēku demontāža
A4: (būvdarbu veids vai konstruktīvā elementa nosaukums)
A6: Objekta nosaukums: | C6: =KT!B9 -> Šautuves sporta ēkas jaunbūve Stacijas ielā 129A, Daugavpilī un teritorijā esošo ēku demontāža
A7: Būves nosaukums: | C7: =KT!B10 -> Šautuves sporta ēka
A8: Objekta adrese: | C8: =KT!B11 -> Stacijas ielā 129A, Daugavpilī
A9: Pasūtījuma nr.: | C9: =KT!B12 -> __
C10: Par kopējo summu (euro) | E10: =E51 -> 0
C11: Kopējā darbietilpība (c/h) | E11: =SUM(I14:I46) -> 0
A12: Nr.p.k. | B12: kods, tāmes nr. | C12: Būvdarbu veids vai konstruktīvā elementa nosaukums | E12: Tāmes izmaksas | F12: Tai skaitā | I12: Darbietilpība (c/h)
F13: Darba alga | G13: Būvizstrādājumi | H13: Mehānismi
A14: 1 | C14: Vispārīgie būvdarbi
A15: 2 | B15: 1.1 | C15: Demontāžas darbi
A16: 3 | B16: 1.2 | C16: Zemes darbi
A17: 4 | B17: 1.3 | C17: Pamatu izbūve
A18: 5 | B18: 1.4 | C18: Nesošās konstrukcijas
A19: 6 | B19: 1.5 | C19: Jumts
A20: 7 | B20: 1.6 | C20: Sienas
A21: 8 | B21: 1.7 | C21: Grīdas
A22: 9 | B22: 1.8 | C22: Griesti
A23: 10 | B23: 1.9 | C23: Logi un durvis
A24: 11 | B24: 1.1 | C24: Ārējie apdares darbi
A25: 12 | B25: 1.11 | C25: Citi
A26: 13 | B26: 1.12 | C26: Mēbeles
A27: 14 | C27: Iekšējie tīkli, sistēmas
A28: 15 | B28: 2.1 | C28: Apkure
A29: 16 | B29: 2.2 | C29: Ventilācija
A30: 17 | B30: 2.3 | C30: Siltummezgls
A31: 18 | B31: 2.4 | C31: Ūdensapgāde un kanalizācija
A32: 19 | B32: 2.5 | C32: Elektroapgāde
A33: 20 | B33: 2.6 | C33: Ugunsgrēka atklāšanas un trauksmes signalizācijas sistēma
A34: 21 | B34: 2.7 | C34: Apsardzes signalizācija
A35: 22 | B35: 2.8 | C35: Interneta un videonovērošanas tīkli
A36: 23 | B36: 2.9 | C36: Dūmu aizsardzība
A37: 24 | B37: 2.1 | C37: Dūmu novadīšana
A38: 25 | C38: Ārējie tīkli, sistēmas
A39: 26 | B39: 3.1 | C39: Lietus kanalizācija
A40: 27 | B40: 3.2 | C40: Ūdensapgāde un kanalizācija
A41: 28 | B41: 3.3 | C41: Siltumapgādes ārējie tīkli
A42: 29 | B42: 3.4 | C42: Elektroapgāde
A43: 30 | C43: Teritorija
A44: 31 | B44: 4.1 | C44: Labiekārtošanas darbi
A45: 32 | B45: 4.2 | C45: Apzaļumošana
A46: 33 | B46: 4.3 | C46: Labiekārtojuma elementi
A47: Kopā
A48: Virsizdevumi
A49: t.sk. Darba aizsardzība
A50: Peļņa
A51: Pavisam kopā
A53: =KT!A23 -> Sastādīja: Mikus Laksbergs | E53: =KT!C27 -> 2021. gada 5.novembrī
A54: (paraksts un tā atšifrējums, datums) | B54: (paraksts un tā atšifrējums, datums)
A55: =KT!A25 -> Sertifikāta Nr.: 4-05310
A57: =KT!A27 -> ES vadītājs Aleksejs Doroņins | E57: =KT!C27 -> 2021. gada 5.novembrī
A58: (paraksts un tā atšifrējums, datums)
A59: =KT!A29 -> Sertifikāta Nr.: 4-04384

Sheet Koptāme
A2: Būvniecības koptāme
A4: Objekta nosaukums: | B4: Šautuves sporta ēkas jaunbūve Stacijas ielā 129A, Daugavpilī un teritorijā esošo ēku demontāža
A5: Būves nosaukums: | B5: Šautuves sporta ēka
A6: Objekta adrese: | B6: Stacijas iela 129A, Daugavpils
A7: Pasūtījuma Nr.:
A9: Nr. p.k. | B9: Objekta nosaukums | C9: Objekta izmaksas (euro)
A11: 1 | B11: =B4 -> Šautuves sporta ēkas jaunbūve Stacijas ielā 129A, Daugavpilī un teritorijā esošo ēku demontāža
B13: KOPĀ:
A14: PVN 21%:
A15: PAVISAM BŪVNIECĪBAS IZMAKSAS:
A18: Sastādīja ___________________________________________________________________
A19: (paraksts un tā atšifrējums,datums)
A20: Tāme sastādīta
A23: Pārbaudīja __________________________________________________________________
A24: (paraksts un tā atšifrējums,datums)

Sheet Kopsavilkums
A1: Kopsavilkuma aprēķins
A3: Vispārējie būvdarbi.
A4: (darba veids vai konstruktīvā elementa nosaukums)
A6: Objekta nosaukums: | C6: Šautuves sporta ēkas jaunbūve Stacijas ielā 129A, Daugavpilī un teritorijā esošo ēku demontāža
A7: Būves nosaukums: | C7: Šautuves sporta ēka
A8: Objekta adrese: | C8: Stacijas iela 129A, Daugavpils
C9: Pasūtījuma Nr. :
C10: Par kopējo summu, euro
C11: Kopējā darbietilpība, c/h
A13: Nr.p.k. | B13: Kods, tāmes Nr. | C13: Būvdarbu veids vai konstruktīvā elementa nosaukums | D13: Tāmes izmaksas (euro) | E13: Tai skaitā | H13: Darbietilpība (c/h)
E14: darba alga (euro) | F14: būvizstrādājumi (euro) | G14: mehānismi (euro)
C15: Demontāžas darbi
A16: 1 | B16: 1-1 | C16: {='1-1'!A2:D2} -> Demontāžas darbi | D16: 0 | E16: 0 | F16: 0
C17: Vispārējie būvdarbi
A18: 2 | B18: 1-2 | C18: {='1-2'!A2:D2} -> Zemes darbi | D18: 0 | E18: 0 | F18: 0
A19: 3 | B19: 1-3 | C19: {='1-3'!A2:D2} -> Pamatu izbūve | D19: 0 | E19: 0 | F19: 0
A20: 4 | B20: 1-4 | C20: {='1-4'!A2:D2} -> Nesošās konstrukcijas | D20: 0 | E20: 0 | F20: 0
A21: 5 | B21: 1-5 | C21: {='1-5'!A2:D2} -> Jumts | D21: 0 | E21: 0 | F21: 0
A22: 6 | B22: 1-6 | C22: {='1-6'!A2:D2} -> Sienas | D22: 0 | E22: 0 | F22: 0
A23: 7 | B23: 1-7 | C23: {='1-7'!A2:D2} -> Grīdas | D23: 0 | E23: 0 | F23: 0
A24: 8 | B24: 1-8 | C24: {='1-8'!A2:D2} -> Griesti | D24: 0 | E24: 0 | F24: 0
A25: 9 | B25: 1-9 | C25: {='1-9'!A2:D2} -> Logi un durvis | D25: 0 | E25: 0 | F25: 0
A26: 10 | B26: 1-10 | C26: {='1-10'!A2:D2} -> Ārējie apdares darbi | D26: 0 | E26: 0 | F26: 0
A27: 11 | B27: 1-11 | C27: {='1-11'!A2:D2} -> Citi | D27: 0 | E27: 0 | F27: 0
C28: Inženiertīkli
A29: 12 | B29: 2-1 | C29: {='2-1'!A2:D2} -> Apkure | D29: 0 | E29: 0 | F29: 0
A30: 13 | B30: 2-2 | C30: {='2-2'!A2:D2} -> Ventilācija | D30: 0 | E30: 0 | F30: 0
A31: 14 | B31: 2-3 | C31: {='2-3'!A2:D2} -> Siltummezgls | D31: 0 | E31: 0 | F31: 0
A32: 15 | B32: 2-4 | C32: {='2-4'!A2:D2} -> Ūdensapgāde un kanalizācija | D32: 0 | E32: 0 | F32: 0
A33: 16 | B33: 2-5 | C33: {='2-5'!A2:D2} -> Elektroapgāde | D33: 0 | E33: 0 | F33: 0
A34: 17 | B34: 2-6 | C34: {='2-6'!A2:D2} -> Ugunsgrēka atklāšanas un trauksmes signalizācijas sistēma | D34: 0 | E34: 0 | F34: 0
A35: 18 | B35: 2-7 | C35: {='2-7'!A2:D2} -> Apsardzes signalizācija | D35: 0 | E35: 0 | F35: 0
A36: 19 | B36: 2-8 | C36: {='2-8'!A2:D2} -> Interneta un videonovērošanas tīkli | D36: 0 | E36: 0 | F36: 0
A37: 20 | B37: 2-9 | C37: {='2-9'!A2:D2} -> Dūmu aizsardzība | D37: 0 | E37: 0 | F37: 0
A38: 21 | B38: 2-10 | C38: {='2-10'!A2:D2} -> Dūmu novadīšana | D38: 0 | E38: 0 | F38: 0
C39: Ārējie inženiertīkli
A40: 22 | B40: 3-1 | C40: {='3-1'!A2:D2} -> Lietus kanalizācija | D40: 0 | E40: 0 | F40: 0
A41: 23 | B41: 3-2 | C41: {='3-2'!A2:D2} -> Ūdensapgāde un kanalizācija | D41: 0 | E41: 0 | F41: 0
A42: 24 | B42: 3-3 | C42: {='3-3'!A2:D2} -> Siltumapgādes ārējie tīkli | D42: 0 | E42: 0 | F42: 0
A43: 25 | B43: 3-4 | C43: {='3-4'!A2:D2} -> Elektroapgāde | D43: 0 | E43: 0 | F43: 0
C44: Labiekārtošana
A45: 26 | B45: 4-1 | C45: {='4-1'!A2:D2} -> Labiekārtošanas darbi | D45: 0 | E45: 0 | F45: 0
A46: 27 | B46: 4-2 | C46: {='4-2'!A2:D2} -> Apzaļumošana | D46: 0 | E46: 0 | F46: 0
A47: 28 | B47: 4-3 | C47: {='4-3'!A2:D2} -> Labiekārtojuma elementi | D47: 0 | E47: 0 | F47: 0
C48: Kopā :
C49: Virsizdevumi -
C50: t.sk.darba aizsardzība
C51: Peļņa -
C52: Pavisam kopā bez PVN:
C54: Sastādīja ___________________________________________________________________
C55: (paraksts un tā atšifrējums,datums)
C56: Tāme sastādīta
C59: Pārbaudīja __________________________________________________________________
C60: (paraksts un tā atšifrējums,datums)

Sheet 1-1
A1: Būvdarbu apjomu saraksts Nr.1-1
A2: =KA!C15 -> Demontāžas darbi
A3: (būvdarbu veids vai konstruktīvā elementa nosaukums)
A5: Objekta nosaukums: Šautuves sporta ēkas jaunbūve Stacijas ielā 129A, Daugavpilī un teritorijā esošo ēku demontāža
A6: Būves nosaukums: Šautuves sporta ēka
A7: Objekta adrese: Stacijas ielā 129A, Daugavpilī
A9: Apjomi sastādīti, pamatojoties uz būvprojekta rasējumiem
A11: Nr. p.k. | B11: Būvdarbu nosaukums | C11: Mērvienība | D11: Daudzums
A13: 1 | B13: Demontēt ēkas un utilizēt. Kad.apz.05000100203002 Kad.apz.05000100203005 Kad.apz.05000100203006 Kad.apz.05000100203009 | C13: m2 | D13: 592.74
A14: 2 | B14: Demontēt esošu betona žogu H=2,5m un utilizēt | C14: m | D14: 190
A16: Piezīme: Būvuzņēmējam jāievērtē darbu daudzuma sarakstā minēto darbu veikšanai nepieciešamie materiāli un papildus darbi, kas nav minēti šajā sarakstā, bet bez kuriem nebūtu iespējama būvdarbu tehnoloģiski pareiza un spēkā esošajiem normatīviem atbilstoša veikšana pilnā apmērā. Darbu apjomu sarakstu skatīt kopā ar rasējumiem un specifikācijām. Sniegtās norādes uz izmantojamo būvmateriālu, iekārtu un ražotāju zīmoliem nes informatīvu raksturu un var būt aizvietoti ar materialiem un izstrādājumiem ar analoģiskiem tehniskiem raksturojumiem.

Sheet 1-2
A1: Būvdarbu apjomu saraksts Nr.1-2
A2: =KA!C16 -> Zemes darbi
A3: (būvdarbu veids vai konstruktīvā elementa nosaukums)
A5: Objekta nosaukums: Šautuves sporta ēkas jaunbūve Stacijas ielā 129A, Daugavpilī un teritorijā esošo ēku demontāža
A6: Būves nosaukums: Šautuves sporta ēka
A7: Objekta adrese: Stacijas ielā 129A, Daugavpilī
A9: Apjomi sastādīti, pamatojoties uz būvprojekta rasējumiem
A11: Nr. p.k. | B11: Būvdarbu nosaukums | C11: Mērvienība | D11: Daudzums
A13: 1 | B13: Rakt būvbedri un novietot grunti atbērtnē atpakaļatbēršanai | C13: m3 | D13: 2162.37
A14: 2 | B14: Aizbērt būvbedri ar esošo grunti | C14: m3 | D14: 1207.76
A15: 3 | B15: Izvest lieko grunti utilizācijai | C15: m3 | D15: 954.61
A17: Piezīme: Būvuzņēmējam jāievērtē darbu daudzuma sarakstā minēto darbu veikšanai nepieciešamie materiāli un papildus darbi, kas nav minēti šajā sarakstā, bet bez kuriem nebūtu iespējama būvdarbu tehnoloģiski pareiza un spēkā esošajiem normatīviem atbilstoša veikšana pilnā apmērā. Darbu apjomu sarakstu skatīt kopā ar rasējumiem un specifikācijām. Sniegtās norādes uz izmantojamo būvmateriālu, iekārtu un ražotāju zīmoliem nes informatīvu raksturu un var būt aizvietoti ar materialiem un izstrādājumiem ar analoģiskiem tehniskiem raksturojumiem.

Sheet 1-3
A1: Būvdarbu apjomu saraksts Nr.1-3
A2: =KA!C17 -> Pamatu izbūve
A3: (būvdarbu veids vai konstruktīvā elementa nosaukums)
A5: Objekta nosaukums: Šautuves sporta ēkas jaunbūve Stacijas ielā 129A, Daugavpilī un teritorijā esošo ēku demontāža
A6: Būves nosaukums: Šautuves sporta ēka
A7: Objekta adrese: Stacijas ielā 129A, Daugavpilī
A9: Apjomi sastādīti, pamatojoties uz būvprojekta rasējumiem
A11: Nr. p.k. | B11: Būvdarbu nosaukums | C11: Mērvienība | D11: Daudzums
B13: Pāļi
A14: 1 | B14: Urbt zemē pāļus FDP ar izmēriem d360mm, L=6000mm. Betons C30/37, W8, F50 Stiegrojums B500B. Ieskaitot visus stiprinājumus un palīgmateriālus. | C14: gb | D14: 174
A15: 2 | B15: Veikt pārbaudes proves pāļiem. Pārbaudes programmu saskaņot ar projekta autoriem. | C15: gb | D15: 5
A16: 3 | B16: Veikt pāļu galu nociršanu un hidroizolēšanu | C16: gb | D16: 174
B17: Režģogs MR1
A18: 4 | B18: Betonēt veidņos režģoga pamatojumu ar C8/10 klases betonu. Ieskaitot visus stiprinājumus un palīgmateriālus. | C18: m3 | D18: 3.9
A19: 5 | B19: Betonēt veidņos režģogu ar C30/37 XC2 W8 klases betonu un stiegrojot ar B500B terauda stiegrojumu (4914kg). Ieskaitot visus stiprinājumus un palīgmateriālus. | C19: m3 | D19: 35.1
B20: Režģogs MR2
A21: 5 | B21: Betonēt veidņos režģoga pamatojumu ar C8/10 klases betonu. Ieskaitot visus stiprinājumus un palīgmateriālus. | C21: m3 | D21: 2.34
A22: 7 | B22: Betonēt veidņos režģogu ar C30/37 XC2 W8 klases betonu un stiegrojot ar B500B terauda stiegrojumu (4356kg). Ieskaitot visus stiprinājumus un palīgmateriālus. | C22: m3 | D22: 30.6
B23: Režģogs LR1
A24: 8 | B24: Betonēt veidņos režģoga pamatojumu ar C8/10 klases betonu. Ieskaitot visus stiprinājumus un palīgmateriālus. | C24: m3 | D24: 12.3
A25: 9 | B25: Betonēt veidņos režģogu ar C30/37 XC2 W8 klases betonu un stiegrojot ar B500B terauda stiegrojumu (14,9t). Ieskaitot visus stiprinājumus un palīgmateriālus. | C25: m3 | D25: 128
B26: Režģogs LR2
A27: 10 | B27: Betonēt veidņos režģoga pamatojumu ar C8/10 klases betonu. Ieskaitot visus stiprinājumus un palīgmateriālus. | C27: m3 | D27: 2.75
A28: 11 | B28: Betonēt veidņos režģogu ar C30/37 XC2 W8 klases betonu un stiegrojot ar B500B terauda stiegrojumu (2,8t). Ieskaitot visus stiprinājumus un palīgmateriālus. | C28: m3 | D28: 28
B29: Grīda GP1 (1050m2)
A30: 12 | B30: Betonēt grīdu 150mm biezumā ar C30/37 klases betonu un stiegrojot ar 10x200x200 B500B terauda sietu (17t). Ieskaitot visus stiprinājumus un palīgmateriālus. | C30: m3 | D30: 580
A31: 13 | B31: Izveidot deformācijas šuves betona grīdai. Ieskaitot visus stiprinājumus un palīgmateriālus. | C31: m | D31: 395.2
B32: Grīda GP2 (560m2)
A33: 17 | B33: Betonēt grīdu 100mm biezumā ar C30/37 klases betonu un stiegrojot ar 10x200x200 B500B terauda sietu (5t). Ieskaitot visus stiprinājumus un palīgmateriālus. | C33: m3 | D33: 65
A34: 15 | B34: Izveidot deformācijas šuves betona grīdai. Ieskaitot visus stiprinājumus un palīgmateriālus. | C34: m | D34: 144.7
A36: Piezīme: Būvuzņēmējam jāievērtē darbu daudzuma sarakstā minēto darbu veikšanai nepieciešamie materiāli un papildus darbi, kas nav minēti šajā sarakstā, bet bez kuriem nebūtu iespējama būvdarbu tehnoloģiski pareiza un spēkā esošajiem normatīviem atbilstoša veikšana pilnā apmērā. Darbu apjomu sarakstu skatīt kopā ar rasējumiem un specifikācijām. Sniegtās norādes uz izmantojamo būvmateriālu, iekārtu un ražotāju zīmoliem nes informatīvu raksturu un var būt aizvietoti ar materialiem un izstrādājumiem ar analoģiskiem tehniskiem raksturojumiem.

Sheet 1-4
A1: Būvdarbu apjomu saraksts Nr.1-4
A2: =KA!C18 -> Nesošās konstrukcijas
A3: (būvdarbu veids vai konstruktīvā elementa nosaukums)
A5: Objekta nosaukums: Šautuves sporta ēkas jaunbūve Stacijas ielā 129A, Daugavpilī un teritorijā esošo ēku demontāža
A6: Būves nosaukums: Šautuves sporta ēka
A7: Objekta adrese: Stacijas ielā 129A, Daugavpilī
A9: Apjomi sastādīti, pamatojoties uz būvprojekta rasējumiem
A11: Nr. p.k. | B11: Būvdarbu nosaukums | C11: Mērvienība | D11: Daudzums
B13: Kolonna BK1.1
A14: 1 | B14: Betonēt veidņos kolonnu ar C40/50 klases betonu un stiegrojot ar B500B terauda stiegrojumu (3456kg). Ieskaitot visus stiprinājumus un palīgmateriālus. | C14: m3 | D14: 22.5
A15: 2 | B15: Uzstādīt ieliekamo detaļu MM1 | C15: gb | D15: 9
B16: Kolonna BK1.2
A17: 3 | B17: Betonēt veidņos kolonnu ar C40/50 klases betonu un stiegrojot ar B500B terauda stiegrojumu (2688kg). Ieskaitot visus stiprinājumus un palīgmateriālus. | C17: m3 | D17: 17.5
A18: 4 | B18: Uzstādīt ieliekamo detaļu MM1 | C18: gb | D18: 7
A19: 5 | B19: Uzstādīt ieliekamo detaļu WS200x300-280 vai ekvivalents | C19: gb | D19: 14
A20: 6 | B20: Uzstādīt ieliekamo detaļu 100x150-70 vai ekvivalents | C20: gb | D20: 14
B21: Kolonna BK1.2a
A22: 7 | B22: Betonēt veidņos kolonnu ar C40/50 klases betonu un stiegrojot ar B500B terauda stiegrojumu (768kg). Ieskaitot visus stiprinājumus un palīgmateriālus. | C22: m3 | D22: 5
A23: 8 | B23: Uzstādīt ieliekamo detaļu MM1 | C23: gb | D23: 2
A24: 9 | B24: Uzstādīt ieliekamo detaļu 100x150-70 vai ekvivalents | C24: gb | D24: 4
B25: Kolonna BK1.3
A26: 10 | B26: Betonēt veidņos kolonnu ar C30/37 klases betonu un stiegrojot ar B500B terauda stiegrojumu (200kg). Ieskaitot visus stiprinājumus un palīgmateriālus. | C26: m3 | D26: 2.2
B27: Kolonna BK1.4
A28: 11 | B28: Betonēt veidņos kolonnu ar C30/37 klases betonu un stiegrojot ar B500B terauda stiegrojumu (200kg). Ieskaitot visus stiprinājumus un palīgmateriālus. | C28: m3 | D28: 2.2
B29: Kolonna BK1.6
A30: 12 | B30: Betonēt veidņos kolonnu ar C30/37 klases betonu un stiegrojot ar B500B terauda stiegrojumu (200kg). Ieskaitot visus stiprinājumus un palīgmateriālus. | C30: m3 | D30: 2.2
B31: Kolonna BK1.5
A32: 13 | B32: Betonēt veidņos kolonnu ar C30/37 klases betonu un stiegrojot ar B500B terauda stiegrojumu (200kg). Ieskaitot visus stiprinājumus un palīgmateriālus. | C32: m3 | D32: 2.2
A33: 14 | B33: Uzstādīt ieliekamo detaļu WS200x300-280 vai ekvivalents | C33: gb | D33: 2
B34: Kolonna BK1.7
A35: 15 | B35: Betonēt veidņos kolonnu ar C30/37 klases betonu un stiegrojot ar B500B terauda stiegrojumu (200kg). Ieskaitot visus stiprinājumus un palīgmateriālus. | C35: m3 | D35: 2.2
A36: 16 | B36: Uzstādīt ieliekamo detaļu WS300x500-280 vai ekvivalents | C36: gb | D36: 1
B37: Kolonna BK1.8
A38: 17 | B38: Betonēt veidņos kolonnu ar C30/37 klases betonu un stiegrojot ar B500B terauda stiegrojumu (200kg). Ieskaitot visus stiprinājumus un palīgmateriālus. | C38: m3 | D38: 2.2
A39: 18 | B39: Uzstādīt ieliekamo detaļu 300x300-165 vai ekvivalents | C39: gb | D39: 3
B40: Kolonna BK1.9
A41: 19 | B41: Betonēt veidņos kolonnu ar C30/37 klases betonu un stiegrojot ar B500B terauda stiegrojumu (200kg). Ieskaitot visus stiprinājumus un palīgmateriālus. | C41: m3 | D41: 2.2
A42: 20 | B42: Uzstādīt ieliekamo detaļu 300x300-165 vai ekvivalents | C42: gb | D42: 2
B43: Kolonna BK1.10
A44: 21 | B44: Betonēt veidņos kolonnu ar C30/37 klases betonu un stiegrojot ar B500B terauda stiegrojumu (165kg). Ieskaitot visus stiprinājumus un palīgmateriālus. | C44: m3 | D44: 1.8
A45: 22 | B45: Uzstādīt ieliekamo detaļu 300x300-165 vai ekvivalents | C45: gb | D45: 1
A46: 23 | B46: Uzstādīt ieliekamo detaļu WS300x500-280 vai ekvivalents | C46: gb | D46: 1
B47: Kolonna BK1.11
A48: 24 | B48: Betonēt veidņos kolonnu ar C30/37 klases betonu un stiegrojot ar B500B terauda stiegrojumu (165kg). Ieskaitot visus stiprinājumus un palīgmateriālus. | C48: m3 | D48: 1.8
A49: 25 | B49: Uzstādīt ieliekamo detaļu WS200x300-280 vai ekvivalents | C49: gb | D49: 1
A50: 26 | B50: Uzstādīt ieliekamo detaļu 300x300-165 vai ekvivalents | C50: gb | D50: 1
A51: 27 | B51: Uzstādīt ieliekamo detaļu WS300x500-280 vai ekvivalents | C51: gb | D51: 2
B52: Kolonna BK1.12
A53: 28 | B53: Betonēt veidņos kolonnu ar C30/37 klases betonu un stiegrojot ar B500B terauda stiegrojumu (165kg). Ieskaitot visus stiprinājumus un palīgmateriālus. | C53: m3 | D53: 1.8
A54: 29 | B54: Uzstādīt ieliekamo detaļu WS200x300-280 vai ekvivalents | C54: gb | D54: 2
A55: 30 | B55: Uzstādīt ieliekamo detaļu 300x300-165 vai ekvivalents | C55: gb | D55: 1
A56: 31 | B56: Uzstādīt ieliekamo detaļu WS300x500-280 vai ekvivalents | C56: gb | D56: 2
B57: Kolonna BK1.15
A58: 32 | B58: Betonēt veidņos kolonnu ar C30/37 klases betonu un stiegrojot ar B500B terauda stiegrojumu (165kg). Ieskaitot visus stiprinājumus un palīgmateriālus. | C58: m3 | D58: 1.8
A59: 33 | B59: Uzstādīt ieliekamo detaļu WS200x300-280 vai ekvivalents | C59: gb | D59: 2
A60: 34 | B60: Uzstādīt ieliekamo detaļu 300x300-165 vai ekvivalents | C60: gb | D60: 1
A61: 35 | B61: Uzstādīt ieliekamo detaļu WS300x500-280 vai ekvivalents | C61: gb | D61: 2
B62: Kolonna BK1.16
A63: 36 | B63: Betonēt veidņos kolonnu ar C30/37 klases betonu un stiegrojot ar B500B terauda stiegrojumu (330kg). Ieskaitot visus stiprinājumus un palīgmateriālus. | C63: m3 | D63: 3.6
A64: 37 | B64: Uzstādīt ieliekamo detaļu WS200x300-280 vai ekvivalents | C64: gb | D64: 4
A65: 38 | B65: Uzstādīt ieliekamo detaļu 300x300-165 vai ekvivalents | C65: gb | D65: 2
A66: 39 | B66: Uzstādīt ieliekamo detaļu WS300x500-280 vai ekvivalents | C66: gb | D66: 4
B67: Kolonna BK1.17
A68: 40 | B68: Betonēt veidņos kolonnu ar C30/37 klases betonu un stiegrojot ar B500B terauda stiegrojumu (165kg). Ieskaitot visus stiprinājumus un palīgmateriālus. | C68: m3 | D68: 1.8
A69: 41 | B69: Uzstādīt ieliekamo detaļu WS200x300-280 vai ekvivalents | C69: gb | D69: 2
A70: 42 | B70: Uzstādīt ieliekamo detaļu 300x300-165 vai ekvivalents | C70: gb | D70: 1
A71: 43 | B71: Uzstādīt ieliekamo detaļu WS300x500-280 vai ekvivalents | C71: gb | D71: 2
B72: Kolonna BK1.18
A73: 44 | B73: Betonēt veidņos kolonnu ar C30/37 klases betonu un stiegrojot ar B500B terauda stiegrojumu (165kg). Ieskaitot visus stiprinājumus un palīgmateriālus. | C73: m3 | D73: 1.8
A74: 45 | B74: Uzstādīt ieliekamo detaļu WS200x300-280 vai ekvivalents | C74: gb | D74: 2
A75: 46 | B75: Uzstādīt ieliekamo detaļu 300x300-165 vai ekvivalents | C75: gb | D75: 1
A76: 47 | B76: Uzstādīt ieliekamo detaļu WS300x500-280 vai ekvivalents | C76: gb | D76: 2
B77: Kolonna BK1.13
A78: 48 | B78: Betonēt veidņos kolonnu ar C30/37 klases betonu un stiegrojot ar B500B terauda stiegrojumu (165kg). Ieskaitot visus stiprinājumus un palīgmateriālus. | C78: m3 | D78: 1.8
A79: 49 | B79: Uzstādīt ieliekamo detaļu WS200x300-280 vai ekvivalents | C79: gb | D79: 5
A80: 50 | B80: Uzstādīt ieliekamo detaļu 300x300-165 vai ekvivalents | C80: gb | D80: 1
A81: 51 | B81: Uzstādīt ieliekamo detaļu WS300x500-280 vai ekvivalents | C81: gb | D81: 2
B82: Kolonna BK1.14
A83: 52 | B83: Betonēt veidņos kolonnu ar C30/37 klases betonu un stiegrojot ar B500B terauda stiegrojumu (165kg). Ieskaitot visus stiprinājumus un palīgmateriālus. | C83: m3 | D83: 1.8
A84: 53 | B84: Uzstādīt ieliekamo detaļu WS200x300-280 vai ekvivalents | C84: gb | D84: 5
A85: 54 | B85: Uzstādīt ieliekamo detaļu 300x300-165 vai ekvivalents | C85: gb | D85: 1
A86: 55 | B86: Uzstādīt ieliekamo detaļu WS300x500-280 vai ekvivalents | C86: gb | D86: 2
B87: Kolonna BK1.19
A88: 56 | B88: Betonēt veidņos kolonnu ar C30/37 klases betonu un stiegrojot ar B500B terauda stiegrojumu (200kg). Ieskaitot visus stiprinājumus un palīgmateriālus. | C88: m3 | D88: 2.2
A89: 57 | B89: Uzstādīt ieliekamo detaļu WS200x300-280 vai ekvivalents | C89: gb | D89: 2
A90: 58 | B90: Uzstādīt ieliekamo detaļu 300x300-165 vai ekvivalents | C90: gb | D90: 3
A91: 59 | B91: Uzstādīt ieliekamo detaļu WS300x500-280 vai ekvivalents | C91: gb | D91: 1
B92: Kolonna BK1.20
A93: 60 | B93: Betonēt veidņos kolonnu ar C30/37 klases betonu un stiegrojot ar B500B terauda stiegrojumu (200kg). Ieskaitot visus stiprinājumus un palīgmateriālus. | C93: m3 | D93: 2.2
A94: 61 | B94: Uzstādīt ieliekamo detaļu WS200x300-280 vai ekvivalents | C94: gb | D94: 2
A95: 62 | B95: Uzstādīt ieliekamo detaļu WS300x500-280 vai ekvivalents | C95: gb | D95: 1
B96: Kolonna BK1.21
A97: 63 | B97: Betonēt veidņos kolonnu ar C30/37 klases betonu un stiegrojot ar B500B terauda stiegrojumu (200kg). Ieskaitot visus stiprinājumus un palīgmateriālus. | C97: m3 | D97: 2.2
A98: 64 | B98: Uzstādīt ieliekamo detaļu WS200x300-280 vai ekvivalents | C98: gb | D98: 2
A99: 65 | B99: Uzstādīt ieliekamo detaļu 300x300-165 vai ekvivalents | C99: gb | D99: 1
A100: 66 | B100: Uzstādīt ieliekamo detaļu WS300x500-280 vai ekvivalents | C100: gb | D100: 2
B101: Kolonna BK1.28
A102: 67 | B102: Betonēt veidņos kolonnu ar C30/37 klases betonu un stiegrojot ar B500B terauda stiegrojumu (200kg). Ieskaitot visus stiprinājumus un palīgmateriālus. | C102: m3 | D102: 2.2
A103: 68 | B103: Uzstādīt ieliekamo detaļu WS200x300-280 vai ekvivalents | C103: gb | D103: 2
A104: 69 | B104: Uzstādīt ieliekamo detaļu 300x300-165 vai ekvivalents | C104: gb | D104: 1
...

Sheet 1-5
A1: Būvdarbu apjomu saraksts Nr.1-5
A2: =KA!C19 -> Jumts
A3: (būvdarbu veids vai konstruktīvā elementa nosaukums)
A5: Objekta nosaukums: Šautuves sporta ēkas jaunbūve Stacijas ielā 129A, Daugavpilī un teritorijā esošo ēku demontāža
A6: Būves nosaukums: Šautuves sporta ēka
A7: Objekta adrese: Stacijas ielā 129A, Daugavpilī
A9: Apjomi sastādīti, pamatojoties uz būvprojekta rasējumiem
A11: Nr. p.k. | B11: Būvdarbu nosaukums | C11: Mērvienība | D11: Daudzums
B13: Jumts J-1
A14: 1 | B14: Izveidot keramzīta izlīdzinošu kārtu 10-295mm biezumā ar frakciju 10-20 | C14: m2 | D14: 556.5
A15: 2 | B15: Ieklāt tvaika barjeru 0,2mm | C15: m2 | D15: 556.5
A16: 3 | B16: Siltināt jumta konstrukciju ar akmens vati 300mm biezumā, ne vairāk kā λ= 0,036 W/mK | C16: m2 | D16: 556.5
A17: 4 | B17: Siltināt jumta konstrukciju ar akmens vati 30mm biezumā, ne vairāk kā λ=0,038 W/mK. Ieskaitot visus stiprinājumus un palīgmateriālus. | C17: m2 | D17: 556.5
A18: 5 | B18: Izveidot hidroizolācijas uzraudzības sistēmu ar ģeotekstilu 0.2mm. Ieskaitot visus stiprinājumus un palīgmateriālus. | C18: m2 | D18: 556.5
A19: 6 | B19: Ieklāt PVC hidroizolācijas membrānu 1.5mm, sd=37.5m (vai ekvivalents). Ieskaitot visus stiprinājumus un palīgmateriālus. | C19: m2 | D19: 556.5
B20: Jumts J-2
A21: 7 | B21: Ieklāt tvaika barjeru 0,2mm | C21: m2 | D21: 1168.8
A22: 8 | B22: Izveidot slīpumu veidojošo slāni, ne vairāk kā λ= 0,042W/mK, izlīdzinoša kārta 10-315mm biezumā. | C22: m2 | D22: 1168.8
A23: 9 | B23: Siltināt jumta konstrukciju ar akmens vati 300mm biezumā, ne vairāk kā λ= 0,036 W/mK | C23: m2 | D23: 1168.8
A24: 10 | B24: Siltināt jumta konstrukciju ar akmens vati 30mm biezumā, ne vairāk kā λ=0,038 W/mK. Ieskaitot visus stiprinājumus un palīgmateriālus. | C24: m2 | D24: 1168.8
A25: 11 | B25: Izveidot hidroizolācijas uzraudzības sistēmu ar ģeotekstilu 0.2mm. Ieskaitot visus stiprinājumus un palīgmateriālus. | C25: m2 | D25: 1168.8
A26: 12 | B26: Ieklāt PVC hidroizolācijas membrānu 1.5mm, sd=37.5m (vai ekvivalents). Ieskaitot visus stiprinājumus un palīgmateriālus. | C26: m2 | D26: 1168.8
B27: Jumts J-3
A28: 13 | B28: Stiprināt siltumizolāciju ar nedegošas akmens vates ugunsaizsardzības plāksnēm, ne vairāk kā λ=0,038 W/mK pie metāla loksnes ar pašgriezošām skrūvēm 4,8x70 ar metāla plāksnēm, 6gb/plāksne (vai ekvivalents). Ieskaitot visus stiprinājumus un palīgmateriālus. | C28: m2 | D28: 39.4
A29: 14 | B29: Izveidot keramzīta izlīdzinošu kārtu 10-190mm biezumā ar frakciju 10-20 | C29: m2 | D29: 39.4
A30: 15 | B30: Ieklāt tvaika barjeru 0,2mm | C30: m2 | D30: 39.4
A31: 16 | B31: Siltināt jumta konstrukciju ar akmens vati 300mm biezumā, ne vairāk kā λ= 0,036 W/mK | C31: m2 | D31: 39.4
A32: 17 | B32: Siltināt jumta konstrukciju ar akmens vati 30mm biezumā, ne vairāk kā λ=0,038 W/mK. Ieskaitot visus stiprinājumus un palīgmateriālus. | C32: m2 | D32: 39.4
A33: 18 | B33: Izveidot hidroizolācijas uzraudzības sistēmu ar ģeotekstilu 0.2mm. Ieskaitot visus stiprinājumus un palīgmateriālus. | C33: m2 | D33: 39.4
A34: 19 | B34: Ieklāt PVC hidroizolācijas membrānu 1.5mm, sd=37.5m (vai ekvivalents). Ieskaitot visus stiprinājumus un palīgmateriālus. | C34: m2 | D34: 39.4
B35: Mezgls 1
A36: 20 | B36: Ieklāt skārda profilu 50x50x1.4mm. Ieskaitot visus stiprinājumus un palīgmateriālus. | C36: m | D36: 132.36
A37: 21 | B37: Ieklāt Riņķa elektrodu pa jumta perimetru. Ieskaitot visus stiprinājumus un palīgmateriālus. | C37: m | D37: 132.36
A38: 22 | B38: Gruntēt virsmu ar virsmas saķeres kvarca grunti | C38: m2 | D38: 138.52
A39: 23 | B39: Siltināt virsmu ar fasādes akmens vati 180mm biezumā uz līmjavas, ne vairāk kā λ= 0,036 W/mK, stiprinot ar Termo dībeli 260mm U8, ar skrūvi TS U8/40 vai ekvivalents. Ieskaitot visus stiprinājumus un palīgmateriālus. | C39: m2 | D39: 90.67
A40: 24 | B40: Siltināt virsmu ar fasādes akmens vati 50mm biezumā uz līmjavas, ne vairāk kā λ= 0,036 W/mK, stiprinot ar Termo dībeli U8, ar skrūvi TS U8/40 vai ekvivalents. Ieskaitot visus stiprinājumus un palīgmateriālus. | C40: m2 | D40: 60.22
A41: 25 | B41: Ieklāt PVC hidroizolācijas membrānu 1.5mm, sd=37.5m (vai ekvivalents). Ieskaitot visus stiprinājumus un palīgmateriālus. | C41: m2 | D41: 150.23
A42: 26 | B42: Montēt koka latas 100x50mm stiprinot ar leņķiem. Ieskaitot visus stiprinājumus un palīgmateriālus. | C42: m3 | D42: 0.58
A43: 27 | B43: Montēt koka latas 100x20mm. Ieskaitot visus stiprinājumus un palīgmateriālus. | C43: m3 | D43: 0.13
A44: 28 | B44: Stiprināt mitrumizturīgu OSB plāksni uz koka latām ar izmēriem 450x18mm . Ieskaitot visus stiprinājumus un palīgmateriālus. | C44: m2 | D44: 35.08
A45: 29 | B45: Uzstādīt skārda lāseni parapetam 950mm platumā. Toni skatīt fasādes krāsu pasē. Ieskaitot visus stiprinājumus un palīgmateriālus. | C45: m2 | D45: 62.87
B46: Mezgls 2 uz ass1 | D46: 0
A47: 30 | B47: Ieklāt skārda profilu 50x50x1.4mm. Ieskaitot visus stiprinājumus un palīgmateriālus. | C47: m | D47: 28.82
A48: 31 | B48: Ieklāt Riņķa elektrodu pa jumta perimetru. Ieskaitot visus stiprinājumus un palīgmateriālus. | C48: m | D48: 28.82
A49: 32 | B49: Gruntēt virsmu ar virsmas saķeres kvarca grunti. | C49: m2 | D49: 15.56
A50: 33 | B50: Siltināt virsmu ar fasādes akmens vati 50mm biezumā uz līmjavas, ne vairāk kā λ= 0,036 W/mK, stiprinot ar Termo dībeli U8, ar skrūvi TS U8/40 vai ekvivalents. Ieskaitot visus stiprinājumus un palīgmateriālus. | C50: m2 | D50: 22.19
A51: 34 | B51: Ieklāt PVC hidroizolācijas membrānu 1.5mm, sd=37.5m (vai ekvivalents). Ieskaitot visus stiprinājumus un palīgmateriālus. | C51: m2 | D51: 5.76
A52: 35 | B52: Montēt koka latas 100x50mm stiprinot ar leņķiem. Ieskaitot visus stiprinājumus un palīgmateriālus. | C52: m3 | D52: 0.25
A53: 36 | B53: Montēt koka latas 100x20mm. Ieskaitot visus stiprinājumus un palīgmateriālus. | C53: m3 | D53: 0.06
A54: 37 | B54: Stiprināt mitrumizturīgu OSB plāksni uz koka latām ar izmēriem 450x18mm . Ieskaitot visus stiprinājumus un palīgmateriālus. | C54: m2 | D54: 15.27
A55: 38 | B55: Uzstādīt skārda lāseni parapetam 950mm platumā. Toni skatīt fasādes krāsu pasē. Ieskaitot visus stiprinājumus un palīgmateriālus. | C55: m2 | D55: 27.38
B56: Mezgls 2 uz ass 14 | D56: 0
A57: 39 | B57: Ieklāt skārda profilu 50x50x1.4mm. Ieskaitot visus stiprinājumus un palīgmateriālus. | C57: m | D57: 28.82
A58: 40 | B58: Ieklāt Riņķa elektrodu pa jumta perimetru. Ieskaitot visus stiprinājumus un palīgmateriālus. | C58: m | D58: 28.82
A59: 41 | B59: Gruntēt virsmu ar virsmas saķeres kvarca grunti. | C59: m2 | D59: 15.56
A60: 42 | B60: Siltināt virsmu ar fasādes akmens vati 50mm biezumā uz līmjavas, ne vairāk kā λ= 0,036 W/mK, stiprinot ar Termo dībeli U8, ar skrūvi TS U8/40 vai ekvivalents. Ieskaitot visus stiprinājumus un palīgmateriālus. | C60: m2 | D60: 22.19
A61: 43 | B61: Ieklāt PVC hidroizolācijas membrānu 1.5mm, sd=37.5m (vai ekvivalents). Ieskaitot visus stiprinājumus un palīgmateriālus. | C61: m2 | D61: 5.76
A62: 44 | B62: Montēt koka latas 100x50mm stiprinot ar leņķiem. Ieskaitot visus stiprinājumus un palīgmateriālus. | C62: m3 | D62: 0.25
A63: 45 | B63: Montēt koka latas 100x20mm. Ieskaitot visus stiprinājumus un palīgmateriālus. | C63: m3 | D63: 0.06
A64: 46 | B64: Stiprināt mitrumizturīgu OSB plāksni uz koka latām ar izmēriem 450x18mm . Ieskaitot visus stiprinājumus un palīgmateriālus. | C64: m2 | D64: 15.27
A65: 47 | B65: Uzstādīt skārda lāseni parapetam 950mm platumā. Toni skatīt fasādes krāsu pasē. Ieskaitot visus stiprinājumus un palīgmateriālus. | C65: m2 | D65: 27.38
B66: Mezgls 2 uz ass A | D66: 0
A67: 48 | B67: Ieklāt skārda profilu 50x50x1.4mm. Ieskaitot visus stiprinājumus un palīgmateriālus. | C67: m | D67: 67.57
A68: 49 | B68: Ieklāt Riņķa elektrodu pa jumta perimetru. Ieskaitot visus stiprinājumus un palīgmateriālus. | C68: m | D68: 67.57
A69: 50 | B69: Gruntēt virsmu ar virsmas saķeres kvarca grunti. | C69: m2 | D69: 77.71
A70: 51 | B70: Siltināt virsmu ar fasādes akmens vati 50mm biezumā uz līmjavas, ne vairāk kā λ= 0,036 W/mK, stiprinot ar Termo dībeli U8, ar skrūvi TS U8/40 vai ekvivalents. Ieskaitot visus stiprinājumus un palīgmateriālus. | C70: m2 | D70: 93.25
A71: 52 | B71: Ieklāt PVC hidroizolācijas membrānu 1.5mm, sd=37.5m (vai ekvivalents). Ieskaitot visus stiprinājumus un palīgmateriālus. | C71: m2 | D71: 54.73
A72: 53 | B72: Montēt koka latas 100x50mm stiprinot ar leņķiem. Ieskaitot visus stiprinājumus un palīgmateriālus. | C72: m3 | D72: 0.6
A73: 54 | B73: Montēt koka latas 100x20mm. Ieskaitot visus stiprinājumus un palīgmateriālus. | C73: m3 | D73: 0.14
A74: 55 | B74: Stiprināt mitrumizturīgu OSB plāksni uz koka latām ar izmēriem 450x18mm . Ieskaitot visus stiprinājumus un palīgmateriālus. | C74: m2 | D74: 35.81
A75: 56 | B75: Uzstādīt skārda lāseni parapetam 950mm platumā. Toni skatīt fasādes krāsu pasē. Ieskaitot visus stiprinājumus un palīgmateriālus. | C75: m2 | D75: 64.19
B76: Mezgls 2 uz ass G | D76: 0
A77: 57 | B77: Ieklāt skārda profilu 50x50x1.4mm. Ieskaitot visus stiprinājumus un palīgmateriālus. | C77: m | D77: 67.57
A78: 58 | B78: Ieklāt Riņķa elektrodu pa jumta perimetru. Ieskaitot visus stiprinājumus un palīgmateriālus. | C78: m | D78: 67.57
A79: 59 | B79: Gruntēt virsmu ar virsmas saķeres kvarca grunti. | C79: m2 | D79: 47.97
A80: 60 | B80: Siltināt virsmu ar fasādes akmens vati 50mm biezumā uz līmjavas, ne vairāk kā λ= 0,036 W/mK, stiprinot ar Termo dībeli U8, ar skrūvi TS U8/40 vai ekvivalents. Ieskaitot visus stiprinājumus un palīgmateriālus. | C80: m2 | D80: 62.84
A81: 61 | B81: Ieklāt PVC hidroizolācijas membrānu 1.5mm, sd=37.5m (vai ekvivalents). Ieskaitot visus stiprinājumus un palīgmateriālus. | C81: m2 | D81: 41.22
A82: 62 | B82: Montēt koka latas 100x50mm stiprinot ar leņķiem. Ieskaitot visus stiprinājumus un palīgmateriālus. | C82: m3 | D82: 0.6
A83: 63 | B83: Montēt koka latas 100x20mm. Ieskaitot visus stiprinājumus un palīgmateriālus. | C83: m3 | D83: 0.14
A84: 64 | B84: Stiprināt mitrumizturīgu OSB plāksni uz koka latām ar izmēriem 450x18mm . Ieskaitot visus stiprinājumus un palīgmateriālus. | C84: m2 | D84: 35.81
A85: 65 | B85: Uzstādīt skārda lāseni parapetam 950mm platumā. Toni skatīt fasādes krāsu pasē. Ieskaitot visus stiprinājumus un palīgmateriālus. | C85: m2 | D85: 64.19
B86: Mezgls M-3
A87: 66 | B87: Ieklāt skārda profilu 300mm platumā. Ieskaitot visus stiprinājumus un palīgmateriālus. | C87: m2 | D87: 18.24
A88: 67 | B88: Ieklāt PVC hidroizolācijas membrānu 1.5mm (vai ekvivalents). Ieskaitot visus stiprinājumus un palīgmateriālus. | C88: m2 | D88: 30.4
A89: 68 | B89: Stiprināt metāla apdares plāsni. Ieskaitot visus stiprinājumus un palīgmateriālus. | C89: m2 | D89: 35.26
A90: 69 | B90: Ieklāt tvaika izolāciju ar folija slāni. Ieskaitot visus stiprinājumus un palīgmateriālus. | C90: m2 | D90: 96.67
A91: 70 | B91: Stiprināt L-veida leņķi. Ieskaitot visus stiprinājumus un palīgmateriālus. | C91: m | D91: 60.8
A92: 71 | B92: Stiprināt akmens vati b=30mm, ne vairāk kā λ=0,038 W/mK (vai ekvivalents). Ieskaitot visus stiprinājumus un palīgmateriālus. | C92: m2 | D92: 96.67
B93: Stikla jumtiņš
A94: 72 | B94: Uzstādīt stikla jumtiņu Js-1 1050x6075mm. Rūpnieciski ražots stikla jumtiņš - Rūdīts stikls 8mm, 4 stiprinājumi vietas stiklā; - Visas ieejas jumtiņa detaļas no nerūsējošā tērauda; - Izbūvēt un stiprināt saskaņā ar konkrētā ražotāja dotās tehnoloģijas ( SIA Winlat vai ekvivalents). - Ķīmiskos enkurus iestrādāt saskaņā ar ražotāja montāžas instrukcijām. | C94: gb | D94: 2
B95: Metāla kāpnes
A96: 73 | B96: Uzstādīt metāla kāpnes KM-1 13,22m. Ugunsdzēsības cinkotas kāpnes uz jumtu ar aizsargbarjeru vai ekvivalents; Aprīkotu ar resti ar slēdzeni barjeras apakšējā daļā; Stiprinātas pie fasādes sienas ar nerūsējoša tērauda profiliem; Tonis - pelēks (slate grey) | C96: gb | D96: 1
B97: Margas
A98: 74 | B98: Uzstādīt parapeta drošības margas, h-600mm. | C98: m | D98: 255.15
A99: 75 | B99: Uzstādīt metāla margas M1 4,61m. -Margas no vilkta nerūsējoša rombveida tērauda lokšņu režģu klāja, h-900mm; Acs izmērs 100x150mm; Tonis - pelēks (slate grey). | C99: gb | D99: 1
A100: 76 | B100: Uzstādīt metāla margas M2 4,56m. -Margas no vilkta nerūsējoša rombveida tērauda lokšņu režģu klāja, h-900mm; Acs izmērs 100x150mm; Tonis - pelēks (slate grey). | C100: gb | D100: 1
A101: 77 | B101: Uzstādīt metāla margas M3 1,2m. -Margas no vilkta nerūsējoša rombveida tērauda lokšņu režģu klāja, h-900mm; Acs izmērs 100x150mm; Tonis - pelēks (slate grey). | C101: gb | D101: 2
A102: 78 | B102: Uzstādīt metāla margas M4 1,24m. -Margas no vilkta nerūsējoša rombveida tērauda lokšņu režģu klāja, h-900mm; Acs izmērs 100x150mm; Tonis - pelēks (slate grey). | C102: gb | D102: 1
A103: 79 | B103: Uzstādīt metāla margas M5 4,56m. -Margas no vilkta nerūsējoša rombveida tērauda lokšņu režģu klāja, h-900mm; Acs izmērs 100x150mm; Tonis - pelēks (slate grey). | C103: gb | D103: 2
A104: 80 | B104: Uzstādīt metāla margas M6 0,21m. -Margas no vilkta nerūsējoša rombveida tērauda lokšņu režģu klāja, h-900mm; Acs izmērs 100x150mm; Tonis - pelēks (slate grey). | C104: gb | D104: 1
...

Sheet 1-6
A1: Būvdarbu apjomu saraksts Nr.1-6
A2: =KA!C20 -> Sienas
A3: (būvdarbu veids vai konstruktīvā elementa nosaukums)
A5: Objekta nosaukums: Šautuves sporta ēkas jaunbūve Stacijas ielā 129A, Daugavpilī un teritorijā esošo ēku demontāža
A6: Būves nosaukums: Šautuves sporta ēka
A7: Objekta adrese: Stacijas ielā 129A, Daugavpilī
A9: Apjomi sastādīti, pamatojoties uz būvprojekta rasējumiem
A11: Nr. p.k. | B11: Būvdarbu nosaukums | C11: Mērvienība | D11: Daudzums
B13: Siena C-2
A14: 1 | B14: Mūrēt keramzītbetona bloku sienu 300mm biezumā uz mūrjavas. Stiegrot atbilstoši tehnoloģijai. Ieskaitot visus stiprinājumus un palīgmateriālus. | C14: m2 | D14: 107.6
B15: Siena Sa-1
A16: 2 | B16: Mūrēt keramzītbetona bloku sienu 300mm biezumā uz mūrjavas. Stiegrot atbilstoši tehnoloģijai. Ieskaitot visus stiprinājumus un palīgmateriālus. | C16: m2 | D16: 258.4
B17: Siena Sa-2
A18: 3 | B18: Uzstādīt balistiskās rikošetes metāla plāksnes AR500 9,5mm vai ekvivalents. Ieskaitot visus stiprinājumus un palīgmateriālus. | C18: m2 | D18: 288.9
A19: 4 | B19: Montēt vertikālas koka latas 25x50mm. Ieskaitot visus stiprinājumus un palīgmateriālus. | C19: m2 | D19: 288.9
A20: 5 | B20: Stiprināt saplāksni 22mm uz koka latām. Ieskaitot visus stiprinājumus un palīgmateriālus. | C20: m2 | D20: 288.9
B21: Siena Sa-3
A22: 6 | B22: Montēt vertikālas koka latas 30x30mm. Ieskaitot visus stiprinājumus un palīgmateriālus. | C22: m2 | D22: 156.3
B23: Siena Sa-5
A24: 7 | B24: Mūrēt keramzītbetona bloku sienu 300mm biezumā uz mūrjavas. Stiegrot atbilstoši tehnoloģijai. Ieskaitot visus stiprinājumus un palīgmateriālus. | C24: m2 | D24: 347.9
B25: Siena Sa-6
A26: 8 | B26: Uzstādīt balistiskās rikošetes metāla plāksnes AR500 9,5mm vai ekvivalents. Ieskaitot visus stiprinājumus un palīgmateriālus. | C26: m2 | D26: 519.8
A27: 9 | B27: Montēt vertikālas koka latas 25x50mm. Ieskaitot visus stiprinājumus un palīgmateriālus. | C27: m2 | D27: 519.8
A28: 10 | B28: Stiprināt saplāksni 22mm uz koka latām. Ieskaitot visus stiprinājumus un palīgmateriālus. | C28: m2 | D28: 519.8
B29: Siena Sa-7
A30: 11 | B30: Montēt vertikālas koka latas 30x30mm. Ieskaitot visus stiprinājumus un palīgmateriālus. | C30: m2 | D30: 35.3
B31: Starpsiena Si-1 (Metāla karkasa starpsiena sausām un mitrām sienām 150-400mm)
A32: 12 | B32: Montēt ģipškartona starpsienu uz 100mm metāla karkasa, apšujot no abām pusēm ar (GKB) 12,5mm ģipškatona plāksnēm divās kārtās. Karkasu pildīt ar akmens vati 100mm, ne vairāk kā λ= 0,035 W/mK. Ugunsdrošība ne mazāk kā EI‑30. Skaņas izolācijas indekss vismaz R'w=60dB. Veikt šuvju apdari. Ieskaitot visus stiprinājumus un palīgmateriālus. | C32: m2 | D32: 981
B33: Starpsiena Si-2 (Metāla karkasa starpsiena mitrām sienām 150-400mm)
A34: 13 | B34: Montēt ģipškartona starpsienu uz 100mm metāla karkasa, apšujot no abām pusēm ar (GKBI) 12,5mm ģipškatona plāksnēm divās kārtās. Karkasu pildīt ar akmens vati 100mm, ne vairāk kā λ= 0,035 W/mK. Ugunsdrošība ne mazāk kā EI‑30. Skaņas izolācijas indekss vismaz R'w=60dB. Veikt šuvju apdari. Ieskaitot visus stiprinājumus un palīgmateriālus. | C34: m2 | D34: 209.5
B35: Starpsiena Si-3 (Gāzbetona starpsiena 150mm)
A36: 14 | B36: Mūrēt gāzbetona sienu 150mm biezumā uz līmjavas, ne vairāk kā λ= 0,11 W/mK. Ugunsreakcijas klase ‑ ne mazāk kā A1. Skaņas izolācijas indekss vismaz RW (dB)= 41. Stiegrot atbilstoši tehnoloģijai. Ieskaitot visus stiprinājumus un palīgmateriālus. | C36: m2 | D36: 324
B37: Starpsiena Si-4 (Keramisko bloku siena 300 mm)
A38: 15 | B38: Mūrēt keramisko bloku sienu 300mm biezumā uz mūrjavas. Stiegrot atbilstoši tehnoloģijai. Ieskaitot visus stiprinājumus un palīgmateriālus. | C38: m2 | D38: 525.6
B39: Starpsiena Si-5 (Dzelzsbetona siena 300 mm) no abām pusēm
A40: 16 | B40: Montēt vertikālas koka latas 30x30mm. Ieskaitot visus stiprinājumus un palīgmateriālus. | C40: m2 | D40: =96.3*2 -> 192.6
B41: Starpsiena Si-6 (Dzelzsbetona siena 300 mm)
A42: 17 | B42: Montēt vertikālas koka latas 30x30mm. Ieskaitot visus stiprinājumus un palīgmateriālus. | C42: m2 | D42: 451.6
B43: Starpsiena Si-7 (Dzelzsbetona siena 300 mm)
A44: 18 | B44: Uzstādīt balistiskās rikošetes metāla plāksnes AR500 9,5mm vai ekvivalents. Ieskaitot visus stiprinājumus un palīgmateriālus. | C44: m2 | D44: 998.7
A45: 19 | B45: Montēt vertikālas koka latas 25x50mm. Ieskaitot visus stiprinājumus un palīgmateriālus. | C45: m2 | D45: 998.7
A46: 20 | B46: Stiprināt saplāksni 22mm uz koka latām. Ieskaitot visus stiprinājumus un palīgmateriālus. | C46: m2 | D46: 998.7
B47: Starpsiena Si-8 (Dzelzsbetona siena 300 mm)
A48: 21 | B48: Montēt vertikālas koka latas 30x30mm. Ieskaitot visus stiprinājumus un palīgmateriālus. | C48: m2 | D48: 169.8
A49: 22 | B49: Uzstādīt balistiskās rikošetes metāla plāksnes AR500 9,5mm vai ekvivalents. Ieskaitot visus stiprinājumus un palīgmateriālus. | C49: m2 | D49: 169.8
A50: 23 | B50: Montēt vertikālas koka latas 25x50mm. Ieskaitot visus stiprinājumus un palīgmateriālus. | C50: m2 | D50: 169.8
A51: 24 | B51: Stiprināt saplāksni 22mm uz koka latām. Ieskaitot visus stiprinājumus un palīgmateriālus. | C51: m2 | D51: 169.8
B52: Starpsiena Si-9 (Gāzbetona starpsiena 150mm)
A53: 25 | B53: Mūrēt gāzbetona sienu 150mm biezumā uz līmjavas, ne vairāk kā λ= 0,11 W/mK. Ugunsreakcijas klase ‑ ne mazāk kā A1. Skaņas izolācijas indekss vismaz RW (dB)= 41. Ugunsdrošība ne mazāk kā EI‑30. Stiegrot atbilstoši tehnoloģijai. Ieskaitot visus stiprinājumus un palīgmateriālus. | C53: m2 | D53: 27
A54: 26 | B54: Apšūt gāzbetona sienu ar ģipškartona plāksnēm (GKFI) 12,5mm divās kārtās uz 50mm metāla karkasa. Karkasu pildīt ar 50mm akmens vati, ne vairāk kā λ= 0,035 W/mK. Veikt šuvju apdari. Ieskaitot visus stiprinājumus un palīgmateriālus. | C54: m2 | D54: 27
B55: Mezgls M-7
A56: 27 | B56: Montēt ģipškartona sienu uz 50mm metāla karkasa, apšujot no vienas puses ar ugunsdrošo ģipškatona plāksni vienā kārtā 30mm. Karkasu pildīt ar akmens vati 38mm, ne vairāk kā λ= 0,035 W/mK. Veikt šuvju apdari. Ieskaitot visus stiprinājumus un palīgmateriālus. | C56: m2 | D56: 93.32
B57: Sienu apdare
A58: 28 | B58: Ieklāt flīžu segumu uz līmes kārtas, ieskaitot visus stiprinājumus un palīgmateriālus. Keramiskās sienas flīzes 200x200x6mm, light grey, Ugunsreakcijas klase- A1; | C58: m2 | D58: 189.5
A59: 29 | B59: Ieklāt flīžu segumu uz līmes kārtas, ieskaitot visus stiprinājumus un palīgmateriālus. Keramiskās sienas flīzes 200x200x6mm, orange-red, Ugunsreakcijas klase- A1; | C59: m2 | D59: 45.6
A60: 30 | B60: Špaktelēt un krāsot sienas. Krāsa mitrām telpām, Tonis - gaiši pelēks, Sausais atlikums- 54%, blīvums ne mazāk kā 1,28- 1,32 g/cm3 | C60: m2 | D60: 159.8
A61: 31 | B61: Špaktelēt un krāsot sienas. Ūdens dispersijas akrila krāsa iekšdarbiem, pusmatēta, Tonis -pelēks; Blīvums ne mazāk kā 1,30-1,35 g/cm3 | C61: m2 | D61: 622.5
A62: 32 | B62: Špaktelēt un krāsot sienas. Ūdens dispersijas akrila krāsa iekšdarbiem, pusmatēta, Tonis - pelēks; Blīvums ne mazāk kā 1,30-1,35 g/cm3 | C62: m2 | D62: 292
A63: 33 | B63: Špaktelēt un krāsot sienas. Ūdens dispersijas akrila krāsa iekšdarbiem, pusmatēta, Tonis - tumši pelēks, Blīvums ne mazāk kā 1,30-1,35 g/cm3 | C63: m2 | D63: 865.4
A64: 34 | B64: Špaktelēt un krāsot sienas. Ūdens dispersijas akrila krāsa iekšdarbiem, pusmatēta, Tonis -oranža; Blīvums ne mazāk kā 1,30-1,35 g/cm3 | C64: m2 | D64: 251.9
A65: 35 | B65: Špaktelēt un krāsot sienas. Ūdens dispersijas akrila krāsa iekšdarbiem, pusmatēta, Tonis -melna, m2; Blīvums ne mazāk kā 1,30-1,35g/cm3 | C65: m2 | D65: 3654.4
A66: 36 | B66: Stiprināt fibrolīta plāksnes uz sienas, ieskaitot visus stiprinājumus un palīgmateriālus. Fibrolīta plāksnes, 1200x600x25 mm, Tonis - oranža, Ugunsreakcijasklase: vismaz B-s1, d0; Siltumvadītspēja ne vairāk kā λ=0.069W/mK | C66: m2 | D66: 126
A67: 37 | B67: Stiprināt fibrolīta plāksnes uz sienas, ieskaitot visus stiprinājumus un palīgmateriālus. Fibrolīta plāksnes, 1200x600x25 mm, Tonis - tumši pelēka, Ugunsreakcijas klase: vismaz B-s1, d0; Siltumvadītspēja ne vairāk kā λ=0.069W/mK | C67: m2 | D67: 121.5
A68: 38 | B68: Stiprināt fibrolīta plāksnes uz sienas, ieskaitot visus stiprinājumus un palīgmateriālus. Fibrolīta plāksnes, 1200x600x25 mm, Tonis - gaiši pelēka, Ugunsreakcijas klase: vismaz B-s1, d0; Siltumvadītspēja ne vairāk kā λ=0.069W/mK | C68: m2 | D68: 146.5
A69: 39 | B69: Stiprināt fibrolīta plāksnes uz sienas, ieskaitot visus stiprinājumus un palīgmateriālus. Fibrolīta plāksnes, 1200x600x25 mm, Tonis - melns, Ugunsreakcijas klase: vismaz B-s1, d0; Siltumvadītspēja ne mazāk kā λ=0.069W/mK | C69: m2 | D69: 113.2
... A72: 42 | B72: Ieklāt hidroizolāciju; Sausais atlikums, 65±1% vai ekvivalents | C72: m2 | D72: 235
A74: Piezīme: Būvuzņēmējam jāievērtē darbu daudzuma sarakstā minēto darbu veikšanai nepieciešamie materiāli un papildus darbi, kas nav minēti šajā sarakstā, bet bez kuriem nebūtu iespējama būvdarbu tehnoloģiski pareiza un spēkā esošajiem normatīviem atbilstoša veikšana pilnā apmērā. Darbu apjomu sarakstu skatīt kopā ar rasējumiem un specifikācijām. Sniegtās norādes uz izmantojamo būvmateriālu, iekārtu un ražotāju zīmoliem nes informatīvu raksturu un var būt aizvietoti ar materialiem un izstrādājumiem ar analoģiskiem tehniskiem raksturojumiem.

Sheet 1-7
A1: Būvdarbu apjomu saraksts Nr.1-7
A2: =KA!C21 -> Grīdas
A3: (būvdarbu veids vai konstruktīvā elementa nosaukums)
A5: Objekta nosaukums: Šautuves sporta ēkas jaunbūve Stacijas ielā 129A, Daugavpilī un teritorijā esošo ēku demontāža
A6: Būves nosaukums: Šautuves sporta ēka
A7: Objekta adrese: Stacijas ielā 129A, Daugavpilī
A9: Apjomi sastādīti, pamatojoties uz būvprojekta rasējumiem
A11: Nr. p.k. | B11: Būvdarbu nosaukums | C11: Mērvienība | D11: Daudzums
B13: Grīda G-1
A14: 1 | B14: Ieklāt blietētu šķembu kārtu 100mm biezumā ar 30-45mm frakcijas šķembām | C14: m3 | D14: 40.87
A15: 2 | B15: Siltināt grīdu ar siltumizolāciju 100mm biezumā, ne vairāk kā λ=0,037 W/mK | C15: m2 | D15: 408.7
A16: 3 | B16: Ieklāt Tvaika izolācijas plēvi, Sd, m: > 100 m, b=0,2mm (vai ekvivalents) | C16: m2 | D16: 408.7
A17: 4 | B17: Ieklāt betona izlīdzinošo slāni 80-92mm biezumā ar C25/30 klases betonu, padodot iestrādes vietā ar sūkni. Stiegrot grīdu ar B500B/10/10/150/150 tērauda sietu. Ieskaitot visus stiprinājumus un palīgmateriālus. | C17: m2 | D17: 408.7
B18: Grīda G-2
A19: 5 | B19: Ieklāt blietētu šķembu kārtu 100mm biezumā ar 30-45mm frakcijas šķembām | C19: m3 | D19: 109.73
A20: 6 | B20: Siltināt grīdu ar siltumizolāciju 100mm biezumā, ne vairāk kā λ=0,037 W/mK | C20: m2 | D20: 1097.3
A21: 7 | B21: Ieklāt Tvaika izolācijas plēvi Sd, m: > 100 m, b=0,2mm (vai ekvivalents) | C21: m2 | D21: 1097.3
A22: 8 | B22: Ieklāt betona izlīdzinošo slāni 92mm biezumā ar C25/30 klases betonu, padodot iestrādes vietā ar sūkni. Stiegrot grīdu ar B500B/10/10/150/150 tērauda sietu. Ieskaitot visus stiprinājumus un palīgmateriālus. | C22: m2 | D22: 1097.3
B23: Grīda P-1
A24: 9 | B24: Ieklāt skaņas izolāciju 30mm biezumā, ne vairāk kā λ=0.035 W/mK | C24: m2 | D24: 510.3
A25: 10 | B25: Ieklāt norobežojošu filtraudumu vai plēvi 0,2mm | C25: m2 | D25: 510.3
A26: 11 | B26: Ieklāt betona izlīdzinošo slāni 90-102mm biezumā ar C20/25 klases betonu, padodot iestrādes vietā ar sūkni. Stiegrot grīdu ar B500B/6/6/150/150 tērauda sietu. Ieskaitot visus stiprinājumus un palīgmateriālus. | C26: m2 | D26: 510.3
B27: Grīda P-2
A28: 12 | B28: Ieklāt skaņas izolāciju 30mm biezumā, ne vairāk kā λ=0.035 W/mK | C28: m2 | D28: 1057.5
A29: 13 | B29: Ieklāt norobežojošu filtraudumu vai plēvi 0,2mm | C29: m2 | D29: 1057.5
A30: 14 | B30: Ieklāt betona izlīdzinošo slāni ar betona virsmas cietinātāju 102mm biezumā ar C25/30 klases betonu, padodot iestrādes vietā ar sūkni. Stiegrot grīdu ar B500B/6/6/150/150 tērauda sietu. Ieskaitot visus stiprinājumus un palīgmateriālus. | C30: m2 | D30: 1057.5
B31: Grīda P-3
A32: 15 | B32: Ieklāt skaņas izolāciju 30mm biezumā, ne vairāk kā λ=0.035 W/mK | C32: m2 | D32: 135
A33: 16 | B33: Ieklāt norobežojošu filtraudumu vai plēvi 0,2mm | C33: m2 | D33: 135
A34: 17 | B34: Ieklāt betona izlīdzinošo slāni ar betona virsmas cietinātāju 102mm biezumā ar C25/30 klases betonu, padodot iestrādes vietā ar sūkni. Stiegrot grīdu ar B500B/6/6/150/150 tērauda sietu. Ieskaitot visus stiprinājumus un palīgmateriālus. | C34: m2 | D34: 135
B35: Grīda P-4
A36: 18 | B36: Ieklāt skaņas izolāciju 30mm biezumā, ne vairāk kā λ=0.035 W/mK | C36: m2 | D36: 70.2
A37: 19 | B37: Ieklāt norobežojošu filtraudumu vai plēvi 0,2mm | C37: m2 | D37: 70.2
A38: 20 | B38: Ieklāt betona izlīdzinošo slāni ar betona virsmas cietinātāju 90-102mm biezumā ar C25/30 klases betonu, padodot iestrādes vietā ar sūkni. Stiegrot grīdu ar B500B/6/6/150/150 tērauda sietu. Ieskaitot visus stiprinājumus un palīgmateriālus. | C38: m2 | D38: 70.2
B39: Kājslauķis
A40: 21 | B40: Uzstādīt kājslauķi KS-1 1000x1300mm. -Cinkots presēts metāla režģa kājslauķis; -PR ar acs izmēru 22x22mm; -Gružu savākšanas kaste 80 mm; - Lietus kanalizācijas izlaide vai ekvivalents | C40: gb | D40: 3
A41: 22 | B41: Uzstādīt kājslauķi KS-2 1000x1300mm. -Kājslauķi - tepiķis + birste; -Iebūves dziļums 17mm. | C41: gb | D41: 3
B42: Grīdas apdare
A43: 23 | B43: Ieklāt flīžu grīdas segumu uz līmes kārtas, ieskaitot visus stiprinājumus un palīgmateriālus. Akmens masas flīzes 300x300x9 mm, tonis - dark grey, Pretslīdes klase R10; | C43: m2 | D43: 70.9
A44: 24 | B44: Ieklāt grīdas linoleju uz līmes kārtas, ieskaitot visus stiprinājumus un palīgmateriālus. Pretslīdes vinila grīdas segums b=2mm, Nodilumslāņa biezums 0.7mm, krāsa oranža, Pretslīdes klase R10; 34.klase, ugunsdrošības klase ne mazāka ka Bfl-s1 vai ekvivalents | C44: m2 | D44: 28.8
A45: 25 | B45: Ieklāt grīdas linoleju uz līmes kārtas, ieskaitot visus stiprinājumus un palīgmateriālus. Pretslīdes vinila grīdas segums b=2mm, Nodilumslāņa biezums 0.7mm, krāsa tumši pelēka, Pretslīdes klase R10; 34.klase, ugunsdrošības klase ne mazāka ka Bfl-s1 vai ekvivalents | C45: m2 | D45: 165.2
A46: 26 | B46: Ieklāt grīdas linoleju uz līmes kārtas, ieskaitot visus stiprinājumus un palīgmateriālus. Pretslīdes vinila grīdas segums b=2mm, Nodilumslāņa biezums 0.7mm, krāsa pelēka, Pretslīdes klase R10; 34.klase, ugunsdrošības klase ne mazāka ka Bfl-s1 vai ekvivalents | C46: m2 | D46: 568.6
A47: 27 | B47: Ieklāt epoksīda grīdas segumu, ieskaitot visus stiprinājumus un palīgmateriālus. Epoksīda pārklājums; Tonis - oranža | C47: m2 | D47: 89.3
A48: 28 | B48: Slīpēt betona grīdu un pārklāt ar pretputekļu pārklājumu | C48: m2 | D48: 2358.5
A49: 29 | B49: Uzstādīt grīdlīstes, ieskaitot visus stiprinājumus un palīgmateriālus., H=10cm. Pretslīdes vinila grīdas segums b=2mm, Nodilumslāņa biezums 0.7mm, krāsa oranža, Pretslīdes klase R10; 34.klase, ugunsdrošības klase ne mazāka ka Bfl-s1 vai ekvivalents | C49: m | D49: 97.6
A50: 30 | B50: Uzstādīt grīdlīstes, ieskaitot visus stiprinājumus un palīgmateriālus., H=10cm. Pretslīdes vinila grīdas segums b=2mm, Nodilumslāņa biezums 0.7mm, krāsa tumši pelēka, Pretslīdes klase R10; 34.klase, ugunsdrošības klase ne mazāka ka Bfl-s1 vai ekvivalents | C50: m | D50: 34.5
A51: 31 | B51: Uzstādīt grīdlīstes, ieskaitot visus stiprinājumus un palīgmateriālus., H=10cm. Pretslīdes vinila grīdas segums b=2mm, Nodilumslāņa biezums 0.7mm, krāsa pelēka, Pretslīdes klase R10; 34.klase, ugunsdrošības klase ne mazāka ka Bfl-s1 vai ekvivalents | C51: m | D51: 400
A52: 32 | B52: Ieklāt 10cm platu brīdinošu joslu uz pirmā un pēdējā pakāpiena; | C52: m | D52: 10.4
A53: 33 | B53: Ieklāt brīdinājuma joslas uz visiem pakāpieniem (pretslīdes līmlenta), b=20mm; | C53: m | D53: 72.8
A54: 34 | B54: Ieklāt taktilās linoleja flīzes, b=120mm; uz līmes kārtas, ieskaitot visus stiprinājumus un palīgmateriālus. | C54: m | D54: 10.4
A55: 35 | B55: Ieklāt elastīgo hidroizolācijas slāni | C55: m2 | D55: 68.3
A57: Piezīme: Būvuzņēmējam jāievērtē darbu daudzuma sarakstā minēto darbu veikšanai nepieciešamie materiāli un papildus darbi, kas nav minēti šajā sarakstā, bet bez kuriem nebūtu iespējama būvdarbu tehnoloģiski pareiza un spēkā esošajiem normatīviem atbilstoša veikšana pilnā apmērā. Darbu apjomu sarakstu skatīt kopā ar rasējumiem un specifikācijām. Sniegtās norādes uz izmantojamo būvmateriālu, iekārtu un ražotāju zīmoliem nes informatīvu raksturu un var būt aizvietoti ar materialiem un izstrādājumiem ar analoģiskiem tehniskiem raksturojumiem.

Sheet 1-8
A1: Būvdarbu apjomu saraksts Nr.1-8
A2: =KA!C22 -> Griesti
A3: (būvdarbu veids vai konstruktīvā elementa nosaukums)
A5: Objekta nosaukums: Šautuves sporta ēkas jaunbūve Stacijas ielā 129A, Daugavpilī un teritorijā esošo ēku demontāža
A6: Būves nosaukums: Šautuves sporta ēka
A7: Objekta adrese: Stacijas ielā 129A, Daugavpilī
A9: Apjomi sastādīti, pamatojoties uz būvprojekta rasējumiem
A11: Nr. p.k. | B11: Būvdarbu nosaukums | C11: Mērvienība | D11: Daudzums
A14: 1 | B14: Uzstādīt piekārtos griestus, ieskaitot visus stiprinājumus un palīgmateriālus. Alumīnija režģveida piekaramie griesti vai ekvivalents; Krāsa melna, matēts; Profila platums- 10mm; Profila augstums- 40mm; Režģis 10x10 mm Ugunsreakcijas klase – vismaz A1 | C14: m2 | D14: 801.7
A15: 2 | B15: Uzstādīt piekārtos griestus, ieskaitot visus stiprinājumus un palīgmateriālus. Fibrolīta piekaramie griesti, 600x600mm; vai ekvivalents; Krāsa melna; Siltumvadītspēja ne vairāk kā λ = 0,069 W/m·K; Skaidas platums 1mm; Plātnes biezums 15mm; Ugunsreakcijas klase vismaz B-s1, d0; | C15: m2 | D15: 215.7
A16: 3 | B16: Uzstādīt piekārtos griestus, ieskaitot visus stiprinājumus un palīgmateriālus. Akustiskās griestu flīzes Action target ar augstu skaņu spalēšanu (vai ekvivalents) Krāsa balta; Flīzes biezums 15mm; | C16: m2 | D16: 597.4
A17: 4 | B17: Uzstādīt piekārtos griestus, ieskaitot visus stiprinājumus un palīgmateriālus. (GKBI) mitrumizturīgs reģipsis, Plātnes biezums 2x12,5mm; Ugunsreakcijas klase A2-s1,d0 | C17: m2 | D17: 68.6
A18: 5 | B18: Uzstādīt piekārtos griestus, ieskaitot visus stiprinājumus un palīgmateriālus. (GKB) reģipsis, Plātnes biezums 2x12,5mm; Ugunsreakcijas klase A2-s1,d0 | C18: m2 | D18: 95.3
A19: 6 | B19: Špaktelēt un krāsot ģipškartona griestus. Ūdens dispersijas akrila krāsa iekšdarbiem | C19: m2 | D19: 163.9
A20: 7 | B20: Špaktelēt un krāsot griestus. Ūdens dispersijas akrila krāsa iekšdarbiem pusmatēta, Tonis - melna, Blīvums ne mazāk kā 1,30-1,35 g/cm3 | C20: m2 | D20: 818.2
A24: Piezīme: Būvuzņēmējam jāievērtē darbu daudzuma sarakstā minēto darbu veikšanai nepieciešamie materiāli un papildus darbi, kas nav minēti šajā sarakstā, bet bez kuriem nebūtu iespējama būvdarbu tehnoloģiski pareiza un spēkā esošajiem normatīviem atbilstoša veikšana pilnā apmērā. Darbu apjomu sarakstu skatīt kopā ar rasējumiem un specifikācijām. Sniegtās norādes uz izmantojamo būvmateriālu, iekārtu un ražotāju zīmoliem nes informatīvu raksturu un var būt aizvietoti ar materialiem un izstrādājumiem ar analoģiskiem tehniskiem raksturojumiem.

Sheet 1-9
A1: Būvdarbu apjomu saraksts Nr.1-9
A2: =KA!C23 -> Logi un durvis
A3: (būvdarbu veids vai konstruktīvā elementa nosaukums)
A5: Objekta nosaukums: Šautuves sporta ēkas jaunbūve Stacijas ielā 129A, Daugavpilī un teritorijā esošo ēku demontāža
A6: Būves nosaukums: Šautuves sporta ēka
A7: Objekta adrese: Stacijas ielā 129A, Daugavpilī
A9: Apjomi sastādīti, pamatojoties uz būvprojekta rasējumiem
A11: Nr. p.k. | B11: Būvdarbu nosaukums | C11: Mērvienība | D11: Daudzums
B13: Ārdurvis
A14: 1 | B14: Uzstādīt metāla ārdurvis Da-1 1060x2100mm. -Siltumvad. k. durvju bloka kopējai konstrukcijai - 1.1W/(m²K); -Eņģes: regulējamas – 3 gab.; -Slieksnis: metāla, biezums <25 mm; -Blīvgumija: iestrādāta vērtnē; -Tonis - pelēka; -Furnitūra: atbilstoši prasībām; -Aprīkotas ar pašaizvēršanās mehānismu; -Durvīm jābūt aprīkotām ar durvju rokturi (matēts melns); -Brīvais atvērums >900mm. -Rokturi, eņģes - alumīnija drošības klase - RC3 (atbilstoši DIN V ENV 1627 vai ekvivalents); - Furnitūra atbilst EN 179 vai ekvivalents; evakuācijas virzienā atveramas bez atslēgas. Ieskaitot visus stiprinājumus un palīgmateriālus. | C14: gb | D14: 1
A15: 2 | B15: Uzstādīt metāla ārdurvis Da-2 1060x2100mm. -Vērtne sastāv no kombinētas konstrukcijas – režģis, tērauda loksne, atkal režģis. Akmensvates 3 cm biezās kārtas tērauda loksnēm no abām pusēm; -Siltumvad. k. durvju bloka kopējai konstrukcijai - 1.1W/(m²K); -Drošības līmenis - FB4; -Skaņas caurlaidības koeficents- 45dB; -Eņģes: regulējamas – 3 gab.; -Slieksnis: metāla, biezums <25 mm; -Blīvgumija: iestrādāta vērtnē; -Tonis - pelēka; -Furnitūra: atbilstoši prasībām; -Aprīkotas ar pašaizvēršanās mehānismu; -4. drošības klase (WK4) saskaņā ar ENV 1627 standartu vai ekvivalents; -7. klases drošības slēdzenes; -Brīvais atvērums >900mm. -Rokturis- antipanikas rokturis -Rokturi, eņģes - alumīnija drošības klase - RC3 (atbilstoši DIN V ENV 1627 vai ekvivalents); -Furnitūra atbilst EN 179 vai ekvivalents; evakuācijas virzienā atveramas bez atslēgas. Ieskaitot visus stiprinājumus un palīgmateriālus. | C15: gb | D15: 4
A16: 3 | B16: Uzstādīt alumīnija ārdurvis Da-3 1750x2100mm. -Trīs kameru durvju sistēma ar siltumizolāciju; -Siltumvad. k. durvju bloka kopējai konstrukcijai - 1.5W/(m²K); -Eņģes: regulējamas – 3 gab.; -Durvīm paredzams <25mm; -Aprīkotas ar secīgās aizvēršanās mehānismu; -Tonis - tumši pelēks; -Skaņas caurlaidības koeficents – 33 dB; -Stikoljumam augstumā 0.35m, 1.4m un 1.6m veikt matētas aizsargplēves uzklāšanu 10 cm platumā; -Durvīm jābūt aprīkotām ar durvju rokturi un slēdzeni . -Rokturi, eņģes - alumīnija drošības klase - RC3 (atbilstoši DIN V ENV 1627 vai ekvivalents); -Furnitūra atbilst EN 179 vai ekvivalents; evakuācijas virzienā atveramas bez atslēgas. Ieskaitot visus stiprinājumus un palīgmateriālus. | C16: gb | D16: 1
A17: 4 | B17: Uzstādīt tvaika izolācijas lenti ieskaitot visus stiprinājumus un palīgmateriālus. | C17: m | D17: 32.25
A18: 5 | B18: Uzstādīt hidroizolācijas lenti ieskaitot visus stiprinājumus un palīgmateriālus. | C18: m | D18: 32.25
A19: 6 | B19: Veikt durvju iekšējo aiļu apdari atbilstoši sienas apdares tipam ieskaitot visus stiprinājumus un palīgmateriālus. | C19: m | D19: 32.25
A20: 7 | B20: Veikt durvju ārējo aiļu apdari atbilstoši sienas apdares tipam ieskaitot visus stiprinājumus un palīgmateriālus. | C20: m | D20: 32.25
B21: Iekšdurvis
A22: 8 | B22: Uzstādīt iekšdurvis Di-1 1060x2100mm. Gludās iekšdurvis MDF; -Vērtne- gluda- 40mm bieza vērtne bez pārfalces, -Ailas apdare - krāsots MDF; -Eņģes: regulējamas – 2 gab.; -Slieksnis: MDF, biezums <25 mm; -Durvīm jābūt aprīkotām ar durvju rokturi, kas paredzēts intensīvai slodzei, nodilumizturīga metāla durvju rokturis uz pamatnes (nolikas) ar integrētu atgriezējmehānismu un slēptu caurejošo fiksāciju.; -Durvīm jābūt aprīkotām ar durvju slēdzeni, augstas drošības un pretuzlaušanas klases mehāniskais slēdzenes korpuss, kas saderīgs ar Eiropas (DIN) standarta cilindriem un sertificēts intensīvai ekspluatācijai; -Durvju skaņas caurlaidības koeficents- 30dB; -Tonis - pelēks; -Aprīkotas ar pašaizvēršanās mehānismu; Brīvais atvērums >900mm. -Rokturi, eņģes - alumīnija drošības klase - RC3 (atbilstoši DIN V ENV 1627 vai ekvivalents); -Furnitūra atbilst EN 179 vai ekvivalents; evakuācijas virzienā atveramas bez atslēgas. | C22: gb | D22: 18
A23: 9 | B23: Uzstādīt iekšdurvis Di-2 1060x2100mm. Gludās iekšdurvis -Mitrumizturīgas MDF; -Vērtne- gluda- 40mm bieza vērtne bez pārfalces, -Ailas apdare - krāsots MDF; -Eņģes: regulējamas – 2 gab.; -Slieksnis: MDF, biezums <25 mm; -Durvīm jābūt aprīkotām ar durvju rokturi, kas paredzēts intensīvai slodzei, nodilumizturīga metāla durvju rokturis uz pamatnes (nolikas) ar integrētu atgriezējmehānismu un slēptu caurejošo fiksāciju.; -Durvīm jābūt aprīkotām ar durvju slēdzeni, augstas drošības un pretuzlaušanas klases mehāniskais slēdzenes korpuss, kas saderīgs ar Eiropas (DIN) standarta cilindriem un sertificēts intensīvai ekspluatācijai; -Durvju skaņas caurlaidības koeficents- 30dB; -Tonis - pelēks; -Durvis aprīkotas ar gaisa kompensācijas resti durvju apakšējā daļā. Restes izmērs 400x100mm; -Alumīnija WC zīmes : WC, Sieviete, Vīrietis, Cilvēks ratiņkrēslā; -*(Aprīkotas ar pašaizvēršanās mehānismu). -Rokturi, eņģes - alumīnija drošības klase - RC3 (atbilstoši DIN V ENV 1627 vai ekvivalents); -Furnitūra atbilst EN 179 vai ekvivalents; evakuācijas virzienā atveramas bez atslēgas. | C23: gb | D23: 1
A24: 10 | B24: Uzstādīt iekšdurvis Di-3/3* 860x2100mm. Gludās iekšdurvis -Mitrumizturīgas MDF durvis; -Vērtne- gluda- 40mm bieza vērtne bez pārfalces, -Ailas apdare - krāsots MDF; -Eņģes: regulējamas – 2 gab.; -Slieksnis: MDF, biezums <25 mm; -Durvīm jābūt aprīkotām ar durvju rokturi, kas paredzēts intensīvai slodzei, nodilumizturīga metāla durvju rokturis uz pamatnes (nolikas) ar integrētu atgriezējmehānismu un slēptu caurejošo fiksāciju.; -Durvīm jābūt aprīkotām ar durvju slēdzeni, augstas drošības un pretuzlaušanas klases mehāniskais slēdzenes korpuss, kas saderīgs ar Eiropas (DIN) standarta cilindriem un sertificēts intensīvai ekspluatācijai; -Durvju skaņas caurlaidības koeficents- 30dB; -Tonis -pelēks; -Durvis aprīkotas ar gaisa kompensācijas resti durvju apakšējā daļā. Restes izmērs 400x100mm; -Alumīnija WC zīmes : WC, Sieviete, Vīrietis, Cilvēks ratiņkrēslā; -*(Aprīkotas ar pašaizvēršanās mehānismu). -Rokturi, eņģes - alumīnija drošības klase - RC3 (atbilstoši DIN V ENV 1627 vai ekvivalents); -Furnitūra atbilst EN 179 vai ekvivalents; evakuācijas virzienā atveramas bez atslēgas. | C24: gb | D24: 14
A25: 11 | B25: Uzstādīt iekšdurvis Di-4 1060x2100mm. - Režģis ar mehānisku slēdzeni; - Tērauda stienis 16mm diametrā; - Šūnas izmērs 150x150mm; - Tonis- pelēks; - Brīvais atvērums >900mm. -Atbilstoši MK noteikumiem Nr.210 "Noteikumi par ieroču un munīcijas apriti". | C25: gb | D25: 3
A26: 12 | B26: Uzstādīt iekšdurvis Di-5 1060x2100mm. - Metāla durvis ar divām slēdzenēm (viena – ar zirnekļveida aizbīdņiem); - Tērauda biezums 3.0 mm.; - Tonis- pelēks; - Brīvais atvērums >900mm. -Atbilstoši MK noteikumiem Nr.210 "Noteikumi par ieroču un munīcijas apriti". | C26: gb | D26: 3
A27: 13 | B27: Uzstādīt iekšdurvis Di-6 EI-30 1060x2100mm. Ugunsdrošās metāla durvis EI-30 -Durvju vērtnes biezums 50mm; -Durvju vērtne sastāv no divām cinkota tērauda loksnēm ar ugunsdrošas akmens vates pildījumu; -Durvju komplektācijā ietilpst: durvju vērtne, slēdzenes komplekts ar atslēgu, evukuācijas rokturi, blīves(2 kompl.); -Durvis aprīkotas ar pašaizvēršanās mmehānismu; -Tonis- pelēks; -Dūmu necaurlaidība- C5Sa, C5S200; -Vērtnes svars-34 kg / m²; -Brīvais atvērums >900mm -Durvju skaņas caurlaidības koeficents-42dB. -Rokturi, eņģes - alumīnija drošības klase - RC3 (atbilstoši DIN V ENV 1627 vai ekvivalents); -Furnitūra atbilst EN 179 vai ekvivalents; evakuācijas virzienā atveramas bez atslēgas; -Atbilstoši EN 16034:2014 vai ekvivalents. | C27: gb | D27: 2
A28: 14 | B28: Uzstādīt iekšdurvis Di-7 1060x2100mm. Gludās iekšdurvis - Mitrumizturīgas MDF durvis; -Vērtne- gluda- 40mm bieza vērtne bez pārfalces, -Ailas apdare - krāsots MDF; -Eņģes: regulējamas – 2 gab.; -Slieksnis: MDF, biezums <25 mm; -Durvīm jābūt aprīkotām ar durvju rokturi, uzlikām; -Durvju slēdzene ; -Durvju skaņas caurlaidības koeficents- 30dB; -Tonis - pelēks, -Durvis aprīkotas ar gaisa kompensācijas resti durvju apakšējā daļā. Restes izmērs 400x100mm. -Rokturi, eņģes - alumīnija drošības klase - RC3 (atbilstoši DIN V ENV 1627 vai ekvivalents); -Furnitūra atbilst EN 179 vai ekvivalents; evakuācijas virzienā atveramas bez atslēgas. | C28: gb | D28: 2
A29: 15 | B29: Uzstādīt iekšdurvis Di-8 EI-30 1800x2100mm. Ugunsdrošās metāla durvis EI-30 -Durvju vērtnes biezums 50mm; -Durvju vērtne sastāv no divām cinkota tērauda loksnēm ar ugunsdrošas akmens vates pildījumu; -Durvju komplektācijā ietilpst: durvju vērtne, slēdzenes komplekts ar atslēgu, evukuācijas rokturi, blīves(2 kompl.); -Durvis aprīkotas ar pašaizvēršanās mmehānismu; -Tonis- pelēks; -Dūmu necaurlaidība- C5Sa, C5S200; -Vērtnes svars-34 kg / m²; -Brīvais atvērums >900mm -Durvju skaņas caurlaidības koeficents-42dB. -Rokturi, eņģes - alumīnija drošības klase - RC3 (atbilstoši DIN V ENV 1627 vai ekvivalents); -Furnitūra atbilst EN 179 vai ekvivalents; evakuācijas virzienā atveramas bez atslēgas; -Atbilstoši EN 16034:2014. vai ekvivalents | C29: gb | D29: 3
A30: 16 | B30: Uzstādīt iekšdurvis Di-9 EI-30 1060x2100mm. Ugunsdrošās metāla durvis EI-30 -Durvju vērtnes biezums 50mm; -Durvju vērtne sastāv no divām cinkota tērauda loksnēm ar ugunsdrošas akmens vates pildījumu; -Durvju komplektācijā ietilpst: durvju vērtne, slēdzenes komplekts ar atslēgu, evukuācijas rokturi, blīves(2 kompl.); -Durvis aprīkotas ar pašaizvēršanās mmehānismu; -Tonis- pelēks; -Dūmu necaurlaidība- C5Sa, C5S200; -Vērtnes svars-34 kg / m²; -Brīvais atvērums >900mm -Durvju skaņas caurlaidības koeficents-42dB. -Rokturi, eņģes - alumīnija drošības klase - RC3 (atbilstoši DIN V ENV 1627 vai ekvivalents); -Furnitūra atbilst EN 179 vai ekvivalents; evakuācijas virzienā atveramas bez atslēgas; -Atbilstoši EN 16034:2014 vai ekvivalents | C30: gb | D30: 1
A31: 17 | B31: Uzstādīt iekšdurvis Di-10 1060x2100mm. Metāla durvis ar stiklu -Drošības līmenis - FB4; -Skaņas caurlaidības koeficents- 45dB; -Eņģes: regulējamas – 2 gab.; -Slieksnis: metāla, biezums <25 mm; -Blīvgumija: iestrādāta vērtnē; -Tonis - gaiši pelēks; -Aprīkotas ar pašaizvēršanās mehānismu; -Ložu necauršaijams stikls BR7; -Durvīm jābūt aprīkotām ar durvju rokturi, kas paredzēts intensīvai slodzei, nodilumizturīga metāla durvju rokturis uz pamatnes (nolikas) ar integrētu atgriezējmehānismu un slēptu caurejošo fiksāciju.; -Durvīm jābūt aprīkotām ar durvju slēdzeni, augstas drošības un pretuzlaušanas klases mehāniskais slēdzenes korpuss, kas saderīgs ar Eiropas (DIN) standarta cilindriem un sertificēts intensīvai ekspluatācijai; -Stikoljumam augstumā 0.35m, 1.4m un 1.6m veikt matētas aizsargplēves uzklāšanu 10 cm platumā; -Brīvais atvērums >900mm; -Atbilstoši Eiropas kvalitātes standartiem EN 16034:2014. vai ekvivalents -Furnitūra atbilst EN 179 vai ekvivalents; evakuācijas virzienā atveramas bez atslēgas. | C31: gb | D31: 3
A32: 18 | B32: Uzstādīt iekšdurvis Di-11 1750x2100mm. -Alumīnija rāmja konstrukcijas stiklotas durvis -Eņģes: regulējamas – 2 gab.; -Durvīm paredzams <25mm; -Tonis - tumši pelēks; -Skaņas caurlaidības koeficents – 33 dB; -Durvīm jābūt aprīkotām ar durvju rokturi uz zema profila kvadrātveida pamatnes (nolikas), izgatavots no augstas izturības krāsainā metāla sakausējuma ar nodilumizturīgu pārklājumu, aprīkots ar integrētu pozīcijas atgriezējmehānismu un slēptu caurejošo fiksāciju intensīvas slodzes režīmam; -Stikoljumam augstumā 0.35m, 1.4m un 1.6m veikt matētas aizsargplēves uzklāšanu 10 cm platumā; -Durvīm jābūt aprīkotām ar visām blīvgumijām; -Aprīkotas ar secīgās aizvēršanās mehānismu. -Rokturi, eņģes - alumīnija drošības klase - RC3 (atbilstoši DIN V ENV 1627 vai ekvivalents); -Furnitūra atbilst EN 179 vai ekvivalents; evakuācijas virzienā atveramas bez atslēgas. | C32: gb | D32: 1
A33: 19 | B33: Veikt durvju iekšējo aiļu apdari atbilstoši sienas apdares tipam ieskaitot visus stiprinājumus un palīgmateriālus. | C33: m | D33: 279.58
B34: Ārējie logi
A35: 20 | B35: Uzstādīt logu L-1 1800x900mm. -Rāmis - PVC profils, verams, atgāžams; -Tonis - RAL 7015; -Palodzes - iekšējā - laminēta koksk. plāksne, matēta, balta; - ārējā alumīnija palodze 0.7mm, tonis - tumsi pelēks; -Siltumvad. k. loga bloka kopējai konstrukcijai - 1.1W/(m²K); -Skaņas izol. stikla pakete - 35dB/rāmis - 48dB; -Logiem jābūt aprīkotām ar visām blīvgumijām; -Loga shēma dota skatā no ārpuses. *BA - Brīvā atvēruma laukums (m²) -Rokturi, eņģes - alumīnija drošības klase - RC3 (atbilstoši DIN V ENV 1627 vai ekvivalents) | C35: gb | D35: 43
A36: 21 | B36: Uzstādīt tvaika izolācijas lenti ieskaitot visus stiprinājumus un palīgmateriālus. | C36: m | D36: 232.2
A37: 22 | B37: Uzstādīt hidroizolācijas lenti ieskaitot visus stiprinājumus un palīgmateriālus. | C37: m | D37: 232.2
A38: 23 | B38: Uzstādīt ārējo skārda palodzi 300mm platumā ieskaitot visus stiprinājumus un palīgmateriālus. | C38: m | D38: 38.7
A39: 24 | B39: Uzstādīt iekšējo palodzi 250mm platumā ieskaitot visus stiprinājumus un palīgmateriālus. | C39: m | D39: 38.7
A40: 25 | B40: Veikt iekšējo aiļu apdari atbilstoši sienas apdares tipam ieskaitot visus stiprinājumus un palīgmateriālus. | C40: m | D40: 193.5
A41: 26 | B41: Veikt ārējo aiļu apdari atbilstoši sienas apdares tipam ieskaitot visus stiprinājumus un palīgmateriālus. | C41: m | D41: 193.5
B42: Ārējā vitrīna
A43: 27 | B43: Uzstādīt vitrīnu Va-1 6200x12520mm. Fasāžu sistēmas ar iebūvētām divviru durvīm; - Durvis paredzēt ar secīgās aizvēršanās mehānismu; -Durvīm jābūt aprīkotām ar visām blīvgumijām; -Tonis - iekšējā pelēks; - ārējā pelēks; -Stikls - trīskārša rūdītā stikla aizpildījumu pakete; -Caurredzamā stikla fasādes daļa ar atstarojošu pārklājumu; -Siltumvad. k. vitrīnas bloka kopējai konstrukcijai - 1.1W/(m²K); -Skaņas izol. - stikla pakete - 35dB / rāmis - 38dB; -Tonis durvis, logi - iekšējā pelēka - ārējā pelēka; -Drošības joslas - pelēkas plēves joslas, tonis - gaiši pelēks; -Durvju brīvais atvērums >1000mm; -Furnitūra atbilst EN 179 vai ekvivalents; evakuācijas virzienā atveramas bez atslēgas. *BA - Brīvais atvērums (m²) | C43: gb | D43: 2
A44: 28 | B44: Uzstādīt tvaika izolācijas lenti ieskaitot visus stiprinājumus un palīgmateriālus. | C44: m | D44: 62.48
A45: 29 | B45: Uzstādīt hidroizolācijas lenti ieskaitot visus stiprinājumus un palīgmateriālus. | C45: m | D45: 62.48
A46: 30 | B46: Veikt iekšējo aiļu apdari atbilstoši sienas apdares tipam ieskaitot visus stiprinājumus un palīgmateriālus. | C46: m | D46: 62.48
A47: 31 | B47: Veikt ārējo aiļu apdari atbilstoši sienas apdares tipam ieskaitot visus stiprinājumus un palīgmateriālus. | C47: m | D47: 62.48
B48: Jumta lūka
A49: 32 | B49: Uzstādīt lūku Lj-1 EI60 600x800mm. Jumta ugunsdrošā lūka -Augsta noturība pret triecieniem un nelabvēlīgiem laika apstākļiem; -Jumta lūkām paredzēt metāla kāpnes 600mm platumā ar atvēršanās un aizvēršanās mehānismu un platiem pakāpieniem ar rievām, kuras pasargā no slīdēšanas; Siltuma caurlaidības koeﬁcients U=0.35 W/m²K (EN 12567-2 vai ekvivalents); -Jumta lūkām jābūt aprīkotām ar visām blīvgumijām; Komplektā paredzēt slēdzenes; -Jumta lūkas shēma dota skatā no ārpuses. | C49: gb | D49: 2
A50: 33 | B50: Uzstādīt tvaika izolācijas lenti ieskaitot visus stiprinājumus un palīgmateriālus. | C50: m | D50: 5.6
A51: 34 | B51: Uzstādīt hidroizolācijas lenti ieskaitot visus stiprinājumus un palīgmateriālus. | C51: m | D51: 5.6
A52: 35 | B52: Veikt iekšējo aiļu apdari atbilstoši sienas apdares tipam ieskaitot visus stiprinājumus un palīgmateriālus. | C52: m | D52: 5.6
B53: Iekšējā vitrīna
A54: 36 | B54: Uzstādīt vitrīnu Vi-1 EI60 4100x2100mm. -Rāmis - alumīnija, neverams, ar iebūvējamām stiklotām durvīm; -Tonis - iekšējā pelēks; - ārējā pelēks; -Stikls - divkārša rūdītā stikla aizpildījumu pakete; -Skaņas izol. - stikla pakete - 35dB/rāmis - 48dB; -Stikoljumam augstumā 0.35m, 1.4m un 1.6m veikt matētas aizsargplēves uzklāšanu 10 cm platumā, tonis gaiši pelēks; -Durvis aprīkotas ar evakuācijas rokturi (EI-60) un ar automātisko pašaizvēršanās mehānismu; -Durvju brīvais atvēruma platums 900mm; -Ugunsdrošā stiklu pakete , durvīm jābūt aprīkotām ar visām blīvgumijām. -Rokturi, eņģes - alumīnija drošības klase - RC3 (atbilstoši DIN V ENV 1627 vai ekvivalents) -Furnitūra atbilst EN 179 vai ekvivalents; evakuācijas virzienā atveramas bez atslēgas. | C54: gb | D54: 1
A55: 37 | B55: Uzstādīt vitrīnu Vi-2 EI60 4400x2100mm. -Rāmis - alumīnija, neverams, ar iebūvējamām stiklotām durvīm; -Tonis - iekšējā pelēks; - ārējā pelēks; -Stikls - divkārša rūdītā stikla aizpildījumu pakete; -Skaņas izol. - stikla pakete - 35dB/rāmis - 48dB; -Stikoljumam augstumā 0.35m, 1.4m un 1.6m veikt matētas aizsargplēves uzklāšanu 10 cm platumā, tonis gaiši pelēks; -Durvis aprīkotas ar evakuācijas rokturi (EI-60) un ar automātisko pašaizvēršanās mehānismu; -Durvju brīvais atvēruma platums 900mm; -Ugunsdrošā stiklu pakete , durvīm jābūt aprīkotām ar visām blīvgumijām. -Rokturi, eņģes - alumīnija drošības klase - RC3 (atbilstoši DIN V ENV 1627 vai ekvivalents) -Furnitūra atbilst EN 179 vai ekvivalents; evakuācijas virzienā atveramas bez atslēgas. | C55: gb | D55: 1
A56: 38 | B56: Uzstādīt vitrīnu Vi-3 EI60 3850x2100mm. -Rāmis - alumīnija, neverams, ar iebūvējamām stiklotām durvīm; -Tonis - iekšējā pelēks; - ārējā pelēks; -Stikls - divkārša rūdītā stikla aizpildījumu pakete; -Skaņas izol. - stikla pakete - 35dB/rāmis - 48dB; -Stikoljumam augstumā 0.35m, 1.4m un 1.6m veikt matētas aizsargplēves uzklāšanu 10 cm platumā, tonis gaiši pelēks; -Durvis aprīkotas ar evakuācijas rokturi (EI-60) un ar automātisko pašaizvēršanās mehānismu; -Durvju brīvais atvēruma platums 900mm; -Ugunsdrošā stiklu pakete , durvīm jābūt aprīkotām ar visām blīvgumijām. -Rokturi, eņģes - alumīnija drošības klase - RC3 (atbilstoši DIN V ENV 1627 vai ekvivalents) -Furnitūra atbilst EN 179 vai ekvivalents; evakuācijas virzienā atveramas bez atslēgas. | C56: gb | D56: 1
A57: 39 | B57: Uzstādīt vitrīnu Vi-4 2650x2100mm. -Rāmis - alumīnija, neverams, ar iebūvējamām stiklotām durvīm; -Tonis - iekšējā pelēks; - ārējā pelēks; -Stikls - divkārša rūdītā stikla aizpildījumu pakete; -Skaņas izol. - stikla pakete - 35dB/rāmis - 48dB; -Stikoljumam augstumā 0.35m, 1.4m un 1.6m veikt matētas aizsargplēves uzklāšanu 10 cm platumā, tonis gaiši pelēks; -Aprīkotas ar secīgā aizvēršanās mehānismu; -Durvju brīvais atvēruma platums 900mm; -Durvīm jābūt aprīkotām ar visām blīvgumijām. -Rokturi, eņģes - alumīnija drošības klase - RC3 (atbilstoši DIN V ENV 1627 vai ekvivalents) -Furnitūra atbilst EN 179 vai ekvivalents; evakuācijas virzienā atveramas bez atslēgas. | C57: gb | D57: 1
A58: 40 | B58: Uzstādīt vitrīnu Vi-5 1750x2100mm. -Rāmis - alumīnija, neverams, ar iebūvējamām stiklotām durvīm; -Tonis - iekšējā pelēks; - ārējā pelēks; -Stikls - divkārša rūdītā stikla aizpildījumu pakete; -Skaņas izol. - stikla pakete - 35dB/rāmis - 48dB; -Stikoljumam augstumā 0.35m, 1.4m un 1.6m veikt matētas aizsargplēves uzklāšanu 10 cm platumā, tonis gaiši pelēks; -Aprīkoktas ar secīgā aizvēršanās mehānismu; -Durvju brīvais atvēruma platums 900mm; -Durvīm jābūt aprīkotām ar visām blīvgumijām. -Rokturi, eņģes - alumīnija drošības klase - RC3 (atbilstoši DIN V ENV 1627 vai ekvivalents) -Furnitūra atbilst EN 179 vai ekvivalents; evakuācijas virzienā atveramas bez atslēgas. | C58: gb | D58: 1
A59: 47 | B59: Uzstādīt vitrīnu Vi-6 EI60 6700x2100mm. -Rāmis - alumīnija, neverams, ar iebūvējamām stiklotām durvīm; -Tonis - iekšējā pelēks; - ārējā pelēks; -Stikls - divkārša rūdītā stikla aizpildījumu pakete; -Skaņas izol. - stikla pakete - 35dB/rāmis - 48dB; -Stikoljumam augstumā 0.35m, 1.4m un 1.6m veikt matētas aizsargplēves uzklāšanu 10 cm platumā, tonis gaiši pelēks; -Durvis EI-60. Durvis aprīkotas ar evakuācijas rokturi (EI-60) un ar automātisko pašaizvēršanās mehānismu. Durvju brīvais atvēruma platums 900mm. Ugunsdrošā stiklu pakete , durvīm jābūt aprīkotām ar visām blīvgumijām. -Rokturi, eņģes - alumīnija drošības klase - RC3 (atbilstoši DIN V ENV 1627 vai ekvivalents) -Furnitūra atbilst EN 179 vai ekvivalents; evakuācijas virzienā atveramas bez atslēgas. | C59: gb | D59: 2
A60: 41 | B60: Uzstādīt vitrīnu Vi-7 3200x2100mm. -Rāmis - alumīnija, neverams, ar iebūvējamām stiklotām durvīm; -Tonis - iekšējā pelēks; - ārējā pelēks; -Stikls - divkārša rūdītā stikla aizpildījumu pakete; -Skaņas izol. - stikla pakete - 35dB/rāmis - 48dB; -Stikoljumam augstumā 0.35m, 1.4m un 1.6m veikt matētas aizsargplēves uzklāšanu 10 cm platumā, tonis gaiši pelēks; -Aprīkoktas ar secīgā aizvēršanās mehānismu; -Durvju brīvais atvēruma platums 900mm; -Durvīm jābūt aprīkotām ar visām blīvgumijām. -Rokturi, eņģes - alumīnija drošības klase - RC3 (atbilstoši DIN V ENV 1627 vai ekvivalents) -Furnitūra atbilst EN 179 vai ekvivalents; evakuācijas virzienā atveramas bez atslēgas. | C60: gb | D60: 1
A61: 42 | B61: Uzstādīt vitrīnu Vi-8 5580x2100mm. -Rāmis - alumīnija, neverams, ar iebūvējamām stiklotām durvīm; -Tonis - iekšējā pelēks; - ārējā pelēks; -Stikls - divkārša rūdītā stikla aizpildījumu pakete; -Skaņas izol. - stikla pakete - 35dB/rāmis - 48dB; -Stikoljumam augstumā 0.35m, 1.4m un 1.6m veikt matētas aizsargplēves uzklāšanu 10 cm platumā, tonis gaiši pelēks; -Aprīkoktas ar secīgā aizvēršanās mehānismu; -Durvju brīvais atvēruma platums 900mm; -Durvīm jābūt aprīkotām ar visām blīvgumijām. -Rokturi, eņģes - alumīnija drošības klase - RC3 (atbilstoši DIN V ENV 1627 vai ekvivalents) -Furnitūra atbilst EN 179 vai ekvivalents; evakuācijas virzienā atveramas bez atslēgas. | C61: gb | D61: 1
A62: 43 | B62: Uzstādīt vitrīnu Vi-9 4200x2100mm. -Rāmis - alumīnija, neverams, ar iebūvējamām stiklotām durvīm; -Tonis - iekšējā pelēks; - ārējā pelēks; -Stikls - divkārša rūdītā stikla aizpildījumu pakete; -Skaņas izol. - stikla pakete - 35dB/rāmis - 48dB; -Stikoljumam augstumā 0.35m, 1.4m un 1.6m veikt matētas aizsargplēves uzklāšanu 10 cm platumā, tonis gaiši pelēks; -Aprīkoktas ar secīgā aizvēršanās mehānismu; -Durvju brīvais atvēruma platums 900mm; -Durvīm jābūt aprīkotām ar visām blīvgumijām. -Rokturi, eņģes - alumīnija drošības klase - RC3 (atbilstoši DIN V ENV 1627 vai ekvivalents) -Furnitūra atbilst EN 179 vai ekvivalents; evakuācijas virzienā atveramas bez atslēgas. | C62: gb | D62: 1
A63: 44 | B63: Veikt iekšējo aiļu apdari atbilstoši sienas apdares tipam ieskaitot visus stiprinājumus un palīgmateriālus. | C63: m | D63: 85.13
B64: Iekšējais logs
A65: 45 | B65: Uzstādīt logu Li-1 13000x1500mm. - Sistēma- Paaugstinātas drošības un augstas energoefektivitātes alumīnija trīskameru profilu sistēma ar montāžas dziļumu no 77 mm, termisko ieliktņu izolāciju un integrētu pretuzlaušanas/triecienizturības aizsardzību; - Rāmis - 128mm, alumīnija, neverams; - Stikla biezums 47mm; - Siltumvad. k. loga bloka kopējai konstrukcijai - 1.1W/(m²K); - Skaņas caurlaidības koeficents- 42dB; - Pretuzlaušanas aizsardzības klase- WK3; -Gaisa caurlaidības klase- 3 (600Pa) - Tonis - iekšējā pelēks; - ārējā pelēks. -Pretestības klases pēc DIN EN 1627-1630 vai ekvivalents -Gaisa caurlaidību saskaņā ar LVS EN 12207 vai ekvivalents | C65: gb | D65: 2
A66: 46 | B66: Uzstādīt iekšējo palodzi 250mm platumā ieskaitot visus stiprinājumus un palīgmateriālus. | C66: m | D66: 52
A67: 47 | B67: Veikt iekšējo aiļu apdari atbilstoši sienas apdares tipam ieskaitot visus stiprinājumus un palīgmateriālus. | C67: m | D67: 32
B68: Revīzijas lūka
A69: 48 | B69: Uzstādīt lūku LR-1 EI30 600x600mm. Ugunsdroša revīzijas lūka -Cinkota metāla rāmis ar baltu ugunsdrošas pulverkrāsas pārklājumu - balts; -Skaņas izolācija Rw=22,7dB; -Vēršanās virziens - kreisais; -Durtiņās iegremdēta slēdzene ar atslēgām; -Revīzijas lūkas shēma dota skatā no ārpuses. | C69: gb | D69: 2
B70: Dūmu lūka
A71: 49 | B71: Uzstādīt lūku DL-1 1800x1800 mm jumta dūmu lūka; Taisnas pamatnes augstums - 500 mm; Stiklojums - polikarbonāta loksne 25mm; Pamatne izolēta ar akmensvati, W/mK,d=0,04 m; Siltumvad. k. - 1.1W/(m²K); Pretestība - B300; Aerodinamiskā zona - 2.61 m²; Ar elektrisko piedziņu 230V; Norādītais izmērs ir lūkas brīvais laukums ( vai ekvivalents). | C71: gb | D71: 6
A72: 50 | B72: Uzstādīt lūku DL-2 1200x1800 mm jumta dūmu lūka; Taisnas pamatnes augstums - 500 mm; Stiklojums - polikarbonāta loksne 25mm; Pamatne izolēta ar akmensvati W/mK,d=0,04 m; Siltumvad. k. - 1.1W/(m²K); Pretestība - B300; Aerodinamiskā zona - 1.73 m²; Ar elektrisko piedziņu 230V; Norādītais izmērs ir lūkas brīvais laukums ( vai ekvivalents). | C72: gb | D72: 2
A73: 51 | B73: Veikt iekšējo aiļu apdari atbilstoši sienas apdares tipam ieskaitot visus stiprinājumus un palīgmateriālus. | C73: m | D73: 55.2
B74: Žalūzijas
A75: 52 | B75: Uzstādīt žalūzijas W-1 1000x1900mm uz loga L-1 1000x1900mm. Pretsaulesstāru aizsardzība, tonis - pelēks; Auduma biezums - 0.50 mm; Auduma svars 405 g/m2; Auduma blīvums - 3%; Gaismas atstarošana - 60 %; Gaismas caurlaidība - 14%; Gaismas absorbācija - 26%; PVC ķēdīte, - tonis - pelēks; Augšējā truba - alumīnija, bez pulverkrāsojuma , ∅40 mm; Apakšējais profils - alumīnijs, ovālas formas 15x26 mm, pulverkrāsojums, tonis - pelēks. Profila galu aizsegas PVC, tonis - pelēks, Vadība - manuāla, ( vai ekvivalents). | C75: gb | D75: 33
A76: 53 | B76: Uzstādīt žalūzijas W-2 5580x2100mm uz vitrīnas Vi-8 5580x2100mm. Iebūvējamā metāla ruļļu žalūzija; -Sistēma RE100; -Maksimālie pieļaujamie izmēri -RE100 profils -Alumīnija profils ar ribojumu Tonis- -Svars - 7,5 kg/m2. -Ruļļu žalūzijas aprīkot ar automātisko pacelšanās mehānismu. | C76: gb | D76: 1
B77: Mezgls M-5
A78: 54 | B78: Siltināt virsmu ar augstas cietības izolāciju 100mm biezumā uz līmjavas, stiprinot ar Termo dībeli 260mm U8, ar skrūvi TS U8/40 vai ekvivalents. Ieskaitot visus stiprinājumus un palīgmateriālus. | C78: m2 | D78: 4.96
A79: 55 | B79: Armēt virsmu divās kārtās ar Universālo līmjavu ar šķiedrām un iestrādāt stiklaškiedras sietu vai ekvivalents. Ieskaitot visus stiprinājumus un palīgmateriālus. | C79: m2 | D79: 5.84
A80: 56 | B80: Siltināt virsmu ar ekstrudēto putupolistirolu 40mm, vai ekvivalents. Ieskaitot visus stiprinājumus un palīgmateriālus. | C80: m2 | D80: 10.89
A81: 57 | B81: Ieklāt Tvaika izolācijas plēvi SD-100m 0,2mm (vai ekvivalents) | C81: m2 | D81: 10.89
A82: 58 | B82: Betonēt grīdas plātnes malas pastiprinājumu ailu vietās 90mm biezumā ar C20/25 klases betonu, padodot iestrādes vietā ar sūkni. Stiegrot grīdu ar B500B/4/4/100/100 tērauda sietu. Ieskaitot visus stiprinājumus un palīgmateriālus. | C82: m2 | D82: 7.97
A84: Piezīme: Būvuzņēmējam jāievērtē darbu daudzuma sarakstā minēto darbu veikšanai nepieciešamie materiāli un papildus darbi, kas nav minēti šajā sarakstā, bet bez kuriem nebūtu iespējama būvdarbu tehnoloģiski pareiza un spēkā esošajiem normatīviem atbilstoša veikšana pilnā apmērā. Darbu apjomu sarakstu skatīt kopā ar rasējumiem un specifikācijām. Sniegtās norādes uz izmantojamo būvmateriālu, iekārtu un ražotāju zīmoliem nes informatīvu raksturu un var būt aizvietoti ar materialiem un izstrādājumiem ar analoģiskiem tehniskiem raksturojumiem.

Sheet 1-10
A1: Būvdarbu apjomu saraksts Nr.1-10
A2: =KA!C24 -> Ārējie apdares darbi
A3: (būvdarbu veids vai konstruktīvā elementa nosaukums)
A5: Objekta nosaukums: Šautuves sporta ēkas jaunbūve Stacijas ielā 129A, Daugavpilī un teritorijā esošo ēku demontāža
A6: Būves nosaukums: Šautuves sporta ēka
A7: Objekta adrese: Stacijas ielā 129A, Daugavpilī
A9: Apjomi sastādīti, pamatojoties uz būvprojekta rasējumiem
A11: Nr. p.k. | B11: Būvdarbu nosaukums | C11: Mērvienība | D11: Daudzums
B13: Cokols C-1 (Monolīta dzelzsbetona cokols ar dekoratīvo silikona apmetumu 420mm)
A14: 1 | B14: Gruntēt virsmu ar virsmas saķeres kvarca grunti vai ekvivalents. | C14: m2 | D14: 17
A15: 2 | B15: Armēt virsmu ar armēšanas javu un iestrādāt stiklaškiedras sietu 160 g/m² vai ekvivalents. Ieskaitot visus stiprinājumus un palīgmateriālus. | C15: m2 | D15: 17
A16: 3 | B16: Gruntēt virsmu ar zemapmetuma grunti vai ekvivalents. | C16: m2 | D16: 17
A17: 4 | B17: Apmest virsmu ar masā tonētu gatavo silikona dekoratīvo apmetumu vai ekvivalents. Biezpientipa, frakcija 2.0mm. Toni skatīt fasādes krāsu pasē | C17: m2 | D17: 17
B18: Cokols C-2 (porizēto keramisko bloku cokols ar dekoratīvo apmetumu 402mm)
A19: 5 | B19: Izolēt virsmu ar hidroizolējošo bituma emulsiju vai ekvivalents | C19: m2 | D19: 107.6
A20: 6 | B20: Pārklāt virsmu ar hidroizolējošo bituma pārklājumu-līmjava vai ekvivalents | C20: m2 | D20: 107.6
A21: 7 | B21: Siltināt virsmu ar ekstrudēto putupolistirolu 100mm biezumā, ne vairāk kā λ= 0,035 W/mK vai ekvivalents. Ieskaitot visus stiprinājumus un palīgmateriālus. | C21: m2 | D21: 107.6
A22: 8 | B22: Armēt virsmu divās kārtās ar Universālo līmjavu ar šķiedrām un iestrādāt stiklaškiedras sietu divās kārtās vai ekvivalents. Ieskaitot visus stiprinājumus un palīgmateriālus. | C22: m2 | D22: 107.6
A23: 9 | B23: Gruntēt virsmu ar zemapmetuma grunti vai ekvivalents. | C23: m2 | D23: 107.6
A24: 10 | B24: Apmest virsmu ar dekoratīvo silikona apmetumu 2mm vai ekvivalents. Toni skatīt fasādes krāsu pasē | C24: m2 | D24: 107.6
B25: Cokols C-3 (Monolīta dzelzsbetona cokols ar dekoratīvo apmetumu 402mm)
A26: 11 | B26: Izolēt virsmu ar hidroizolējošo bituma emulsiju vai ekvivalents | C26: m2 | D26: 209.8
A27: 12 | B27: Pārklāt virsmu ar hidroizolējošo bituma pārklājumu-līmjava vai ekvivalents | C27: m2 | D27: 209.8
A28: 13 | B28: Siltināt virsmu ar ekstrudēto putupolistirolu 100mm biezumā, ne vairāk λ= 0,035 W/mK vai ekvivalents. Ieskaitot visus stiprinājumus un palīgmateriālus. | C28: m2 | D28: 209.8
A29: 14 | B29: Armēt virsmu divās kārtās ar Universālo līmjavu ar šķiedrām un iestrādāt stiklaškiedras sietu divās kārtās vai ekvivalents. Ieskaitot visus stiprinājumus un palīgmateriālus. | C29: m2 | D29: 209.8
A30: 15 | B30: Gruntēt virsmu ar zemapmetuma grunti ar kvarca smiltīm vai ekvivalents. | C30: m2 | D30: 209.8
A31: 16 | B31: Apmest virsmu ar dekoratīvo silikona apmetumu 2mm vai ekvivalents. Toni skatīt fasādes krāsu pasē | C31: m2 | D31: 209.8
B32: Fasāde Sa-1 (porizēto keramisko bloku ārsiena ar ķieģeļflīzes apdari 505 mm)
A33: 17 | B33: Siltināt virsmu ar fasādes akmens vati 180mm biezumā uz līmjavas, ne vairāk kā λ= 0,036 W/mK , stiprinot ar Termo dībeli 260mm U8, ar skrūvi TS U8/40 vai ekvivalents. Ieskaitot visus stiprinājumus un palīgmateriālus. | C33: m2 | D33: 258.4
A34: 18 | B34: Armēt virsmu ar Kaļķa-cementa apmetums un iestrādāt masā sārmizturīgu armējošu sietu 5mm biezumā vai ekvivalents. Ieskaitot visus stiprinājumus un palīgmateriālus. | C34: m2 | D34: 258.4
A35: 19 | B35: Gruntēt virsmu ar universālo grunti 1:3 ar ūdeni vai ekvivalents. | C35: m2 | D35: 258.4
A36: 20 | B36: Flīzēt fasādi ar fasādes apdares ķieģeļflīzēm 208±5x63±5x12mm (Raksts- ķieģelis, Tonis - Cambridge 4) uz elastīgās flīžu līmes 8mm biezumā vai ekvivalents. Veikt šuvju apdari. Ieskaitot visus stiprinājumus un palīgmateriālus. | C36: m2 | D36: 258.4
B37: Fasāde Sa-2 (Dzelzsbetona ārsiena ķieģeļflīzes apdari 613 mm)
A38: 21 | B38: Siltināt virsmu ar fasādes akmens vati 180mm biezumā uz līmjavas, ne vairāk kā λ= 0,036 W/mK , stiprinot ar Termo dībeli 260mm U8, ar skrūvi TS U8/40 vai ekvivalents. Ieskaitot visus stiprinājumus un palīgmateriālus. | C38: m2 | D38: 288.9
A39: 22 | B39: Armēt virsmu ar Kaļķa-cementa apmetums un iestrādāt masā sārmizturīgu armējošu sietu 5mm biezumā vai ekvivalents. Ieskaitot visus stiprinājumus un palīgmateriālus. | C39: m2 | D39: 288.9
A40: 23 | B40: Gruntēt virsmu ar universālo grunti 1:3 ar ūdeni vai ekvivalents. | C40: m2 | D40: 288.9
A41: 24 | B41: Flīzēt fasādi ar fasādes apdares ķieģeļflīzēm 208±5x63±5x12mm Cambridge (Raksts- ķieģelis, Tonis - Cambridge 4) uz elastīgās flīžu līmes 8mm biezumā vai ekvivalents. Veikt šuvju apdari. Ieskaitot visus stiprinājumus un palīgmateriālus. | C41: m2 | D41: 288.9
B42: Fasāde Sa-3 (Dzelzsbetona ārsiena ķieģeļflīzes apdari 558 mm)
A43: 25 | B43: Siltināt virsmu ar fasādes akmens vati 180mm biezumā uz līmjavas, ne vairāk λ= 0,036 W/mK , stiprinot ar Termo dībeli 260mm U8, ar skrūvi TS U8/40 vai ekvivalents. Ieskaitot visus stiprinājumus un palīgmateriālus. | C43: m2 | D43: 156.3
A44: 26 | B44: Armēt virsmu ar Kaļķa-cementa apmetums un iestrādāt masā sārmizturīgu armējošu sietu 5mm biezumā vai ekvivalents. Ieskaitot visus stiprinājumus un palīgmateriālus. | C44: m2 | D44: 156.3
A45: 27 | B45: Gruntēt virsmu ar universālo grunti 1:3 ar ūdeni vai ekvivalents. | C45: m2 | D45: 156.3
A46: 28 | B46: Flīzēt fasādi ar fasādes apdares ķieģeļflīzēm 208x63x12mm Cambridge (Raksts- ķieģelis, Tonis - Cambridge 4) uz elastīgās flīžu līmes 8mm biezumā vai ekvivalents. Veikt šuvju apdari. Ieskaitot visus stiprinājumus un palīgmateriālus. | C46: m2 | D46: 156.3
B47: Fasāde Sa-4 (Dzelzsbetona ārsiena ķieģeļflīzes apdari 515 mm)
A48: 29 | B48: Siltināt virsmu ar fasādes akmens vati 180mm biezumā uz līmjavas, ne vairāk kā λ= 0,036 W/mK , stiprinot ar Termo dībeli 260mm U8, ar skrūvi TS U8/40 vai ekvivalents. Ieskaitot visus stiprinājumus un palīgmateriālus. | C48: m2 | D48: 35.3
A49: 30 | B49: Armēt virsmu ar Kaļķa-cementa apmetums un iestrādāt masā sārmizturīgu armējošu sietu 5mm biezumā vai ekvivalents. Ieskaitot visus stiprinājumus un palīgmateriālus. | C49: m2 | D49: 35.3
A50: 31 | B50: Gruntēt virsmu ar universālo grunti 1:3 ar ūdeni vai ekvivalents. | C50: m2 | D50: 35.3
A51: 32 | B51: Flīzēt fasādi ar fasādes apdares ķieģeļflīzēm 208±5x63±5x12mm Cambridge (Raksts- ķieģelis, Tonis - Cambridge 4) uz elastīgās flīžu līmes 8mm biezumā vai ekvivalents. Veikt šuvju apdari. Ieskaitot visus stiprinājumus un palīgmateriālus. | C51: m2 | D51: 35.3
B52: Fasāde Sa-5 (porizēto keramisko bloku ārsiena ar cementšķiedru plākšņu apdari 548 mm)
A53: 33 | B53: Montēt alumīnija fasādes konstrukcijas apakškarkasu no Alumīnija tērauda kronšteina, 180x40x3mm, s=600mm, alumīnija T-veida profils 120x50x1.8mm. Ieskaitot visus stiprinājumus un palīgmateriālus. | C53: m2 | D53: 347.9
A54: 34 | B54: Siltināt virsmu ar akmens vates plāksnēm 150mm biezumā, ne vairāk kā λ= 0,035 W/mK (vai ekvivalents) | C54: m2 | D54: 347.9
A55: 35 | B55: Ieklāt pretveja izolācijas plāksnes, ne vairāk kā λ= 0,033 W/mK 30mm biezumā un nolīmēt šuves ar šuvju līmlentu, balta. Stiprināt pretvēja plāksnes ar Termo dībelis 260mm U8, ar skrūvi TS U8/40 vai ekvivalents. Ieskaitot visus stiprinājumus un palīgmateriālus. | C55: m2 | D55: 347.9
A56: 36 | B56: Stiprināt fasādes cementšķiedras plāksnes 8x1192±10x2500±10mm -Ugunsdrošības klase A2 - s1, d0 un ieklāt EPDM 0,2mm apakšklāju vai ekvivalents. Toni skatīt fasādes krāsu pasē. Ieskaitot visus stiprinājumus un palīgmateriālus. | C56: m2 | D56: 347.9
B57: Fasāde Sa-6 (Dzelzsbetona ārsiena ar cementšķiedru plākšņu apdari 646 mm)
A58: 37 | B58: Montēt alumīnija fasādes konstrukcijas apakškarkasu no Alumīnija tērauda kronšteina, 180x40x3mm, s=600mm, alumīnija T-veida profils 120x50x1.8mm. Ieskaitot visus stiprinājumus un palīgmateriālus. | C58: m2 | D58: 519.8
A59: 38 | B59: Siltināt virsmu ar akmens vates plāksnēm 150mm biezumā, ne vairāk kā λ= 0,035 W/mK (vai ekvivalents) | C59: m2 | D59: 519.8
A60: 39 | B60: Ieklāt pretveja izolācijas plāksnes, λ= 0,033 W/mK 30mm biezumā un nolīmēt šuves ar šuvju līmlentu, balta. Stiprināt pretvēja plāksnes ar Termo dībelis 260mm U8, ar skrūvi TS U8/40 vai ekvivalents. Ieskaitot visus stiprinājumus un palīgmateriālus. | C60: m2 | D60: 519.8
A61: 40 | B61: Stiprināt fasādes cementšķiedras plāksnes 8x1192x2500mm -Ugunsdrošības klase A2 - s1, d0 un ieklāt EPDM 0,2mm apakšklāju vai ekvivalents. Toni skatīt fasādes krāsu pasē. Ieskaitot visus stiprinājumus un palīgmateriālus. | C61: m2 | D61: 519.8
B62: Fasāde Sa-7 (Dzelzsbetona ārsiena ar cementšķiedru plākšņu apdari 593 mm)
A63: 41 | B63: Montēt alumīnija fasādes konstrukcijas apakškarkasu no Alumīnija tērauda kronšteina, 180x40x3mm, s=600mm, alumīnija T-veida profils 120x50x1.8mm. Ieskaitot visus stiprinājumus un palīgmateriālus. | C63: m2 | D63: 35.3
A64: 42 | B64: Siltināt virsmu ar akmens vates plāksnēm 150mm biezumā, ne vairāk kā λ= 0,035 W/mK (vai ekvivalents) | C64: m2 | D64: 35.3
A65: 43 | B65: Ieklāt pretveja izolācijas plāksnes, ne vairāk kā λ= 0,033 W/mK 30mm biezumā un nolīmēt šuves ar šuvju līmlentu, balta. Stiprināt pretvēja plāksnes ar Termo dībelis 260mm U8, ar skrūvi TS U8/40 vai ekvivalents. Ieskaitot visus stiprinājumus un palīgmateriālus. | C65: m2 | D65: 35.3
A66: 44 | B66: Stiprināt fasādes cementšķiedras plāksnes 8x1192x2500mm -Ugunsdrošības klase A2 - s1, d0 un ieklāt EPDM 0,2mm apakšklāju vai ekvivalents. Toni skatīt fasādes krāsu pasē. Ieskaitot visus stiprinājumus un palīgmateriālus. | C66: m2 | D66: 35.3
B67: Fasāde Sa-8 (Monolīta dzelzsbetona kolonna ar cementšķiedru plākšņu apdari 376 mm) no abām pusēm
A68: 45 | B68: Montēt alumīnija fasādes konstrukcijas apakškarkasu no Alumīnija tērauda kronšteina, 80x40x3mm, s=600mm, alumīnija T-veida profils 120x50x1.8mm. Ieskaitot visus stiprinājumus un palīgmateriālus. | C68: m2 | D68: =75.6*2 -> 151.2
A69: 46 | B69: Siltināt virsmu ar akmens vates plāksnēm 50mm biezumā, ne vairāk kā λ= 0,035 W/mK (vai ekvivalents) | C69: m2 | D69: =75.6*2 -> 151.2
A70: 47 | B70: Ieklāt pretveja izolācijas plāksnes, ne vairāk kā λ= 0,033 W/mK 30mm biezumā un nolīmēt šuves ar šuvju līmlentu, balta. Stiprināt pretvēja plāksnes ar Termo dībelis 260mm U8, ar skrūvi TS U8/40 vai ekvivalents. Ieskaitot visus stiprinājumus un palīgmateriālus. | C70: m2 | D70: =75.6*2 -> 151.2
A71: 48 | B71: Stiprināt fasādes cementšķiedras plāksnes 8x1192x2500mm -Ugunsdrošības klase A2 - s1, d0 un ieklāt EPDM 0,2mm apakšklāju vai ekvivalents. Toni skatīt fasādes krāsu pasē. Ieskaitot visus stiprinājumus un palīgmateriālus. | C71: m2 | D71: =75.6*2 -> 151.2
B72: Pārsegums P-3
A73: 49 | B73: Gruntēt virsmu ar virsmas saķeres kvarca grunti vai ekvivalents. | C73: m2 | D73: 135
A74: 50 | B74: Siltināt virsmu ar fasādes akmens vati 180mm biezumā uz līmjavas, ne vairāk kā λ= 0,036 W/mK , stiprinot ar Termo dībeli 260mm U8, ar skrūvi TS U8/40 vai ekvivalents. Ieskaitot visus stiprinājumus un palīgmateriālus. | C74: m2 | D74: 135
A75: 51 | B75: Armēt virsmu ar armēšanas javu un iestrādāt stiklaškiedras sietu 160g/m2 vai ekvivalents. Ieskaitot visus stiprinājumus un palīgmateriālus. | C75: m2 | D75: 135
A76: 52 | B76: Gruntēt virsmu ar zemapmetuma grunti vai ekvivalents. | C76: m2 | D76: 135
A77: 53 | B77: Apmest virsmu ar masā tonētu gatavo silikona dekoratīvo apmetumu vai ekvivalents. Biezpientipa, frakcija 2.0mm. Toni skatīt fasādes krāsu pasē | C77: m2 | D77: 135
B78: Pārsegums P-4
A79: 54 | B79: Gruntēt virsmu ar virsmas saķeres kvarca grunti vai ekvivalents. | C79: m2 | D79: 70.2
A80: 55 | B80: Siltināt virsmu ar fasādes akmens vati 180mm biezumā uz līmjavas, ne vairāk kā λ= 0,036 W/mK, stiprinot ar Termo dībeli 260mm U8, ar skrūvi TS U8/40 vai ekvivalents. Ieskaitot visus stiprinājumus un palīgmateriālus. | C80: m2 | D80: 70.2
A81: 56 | B81: Armēt virsmu ar armēšanas javu un iestrādāt stiklaškiedras sietu 160g/m2 vai ekvivalents. Ieskaitot visus stiprinājumus un palīgmateriālus. | C81: m2 | D81: 70.2
A82: 57 | B82: Gruntēt virsmu ar zemapmetuma grunti Sakret PG vai ekvivalents. | C82: m2 | D82: 70.2
A83: 58 | B83: Apmest virsmu ar masā tonētu gatavo dekoratīvo apmetumu Sakret SIP B vai ekvivalents. Biezpientipa, frakcija 2.0mm. Toni skatīt fasādes krāsu pasē | C83: m2 | D83: 70.2
B84: Mezgls M-10
A85: 59 | B85: Montēt rombveida režģu klāju no vilktas metāla loksnes ar acs izmēru 220x320mm. Stiprināt uz sliedēm 34x33x3mm. Ieskaitot visus stiprinājumus un palīgmateriālus. | C85: m2 | D85: 272.81
B86: Cits
A87: 60 | B87: Montēt un demontēt fasādes sastatnes pa ēkas perimetru, norobežojot ar aizsargsietu. Ieskaitot visus stiprinājumus un palīgmateriālus. Iekļaut nomas izmaksas. | C87: m2 | D87: 2475
A89: Piezīme: Būvuzņēmējam jāievērtē darbu daudzuma sarakstā minēto darbu veikšanai nepieciešamie materiāli un papildus darbi, kas nav minēti šajā sarakstā, bet bez kuriem nebūtu iespējama būvdarbu tehnoloģiski pareiza un spēkā esošajiem normatīviem atbilstoša veikšana pilnā apmērā. Darbu apjomu sarakstu skatīt kopā ar rasējumiem un specifikācijām. Sniegtās norādes uz izmantojamo būvmateriālu, iekārtu un ražotāju zīmoliem nes informatīvu raksturu un var būt aizvietoti ar materialiem un izstrādājumiem ar analoģiskiem tehniskiem raksturojumiem.

Sheet 1-11
A1: Būvdarbu apjomu saraksts Nr.1-11
A2: =KA!C25 -> Citi
A3: (būvdarbu veids vai konstruktīvā elementa nosaukums)
A5: Objekta nosaukums: Šautuves sporta ēkas jaunbūve Stacijas ielā 129A, Daugavpilī un teritorijā esošo ēku demontāža
A6: Būves nosaukums: Šautuves sporta ēka
A7: Objekta adrese: Stacijas ielā 129A, Daugavpilī
A9: Apjomi sastādīti, pamatojoties uz būvprojekta rasējumiem
A11: Nr. p.k. | B11: Būvdarbu nosaukums | C11: Mērvienība | D11: Daudzums
B13: WC aprīkojums
A14: 1 | B14: Montēt nerūsējošā tērauda tualetes papīra turētāju , matēts, slēdzams ar atslēgu, ieskaitot visus stiprinājumus un palīgmateriālus. | C14: gb | D14: 14
A15: 2 | B15: Montēt nerūsējošā tērauda atkritumu tverti , pulēta, ieskaitot visus stiprinājumus un palīgmateriālus. | C15: gb | D15: 17
A16: 3 | B16: Montēt nerūsējošā tērauda ziepju dozatoru, matēts, slēdzams ar atslēgu, ieskaitot visus stiprinājumus un palīgmateriālus. | C16: gb | D16: 21
A17: 4 | B17: Montēt nerūsējošā tērauda tualetes birsti , matēta, ieskaitot visus stiprinājumus un palīgmateriālus. | C17: gb | D17: 14
A18: 5 | B18: Montēt spoguli ar rāmi, regulējams, 600x450±10mm, ieskaitot visus stiprinājumus un palīgmateriālus. | C18: gb | D18: 1
A19: 6 | B19: Montēt spoguli bez rāmja, ar faseti 4mm, 680x700±10mm, ieskaitot visus stiprinājumus un palīgmateriālus. | C19: gb | D19: 7
A20: 7 | B20: Montēt spoguli bez rāmja, ar faseti 4mm, 600x2100±10 mm, ieskaitot visus stiprinājumus un palīgmateriālus. | C20: gb | D20: 1
A21: 8 | B21: Montēt spoguli bez rāmja, ar faseti 4mm, 600x1450±10 mm, ieskaitot visus stiprinājumus un palīgmateriālus. | C21: gb | D21: 1
A22: 9 | B22: Montēt roku žāvētāju, 394x234x100±10mm, ieskaitot visus stiprinājumus un palīgmateriālus. | C22: gb | D22: 10
A23: 10 | B23: Montēt sēdekli atlokāms vai ekvivalents, spīdīgs, ieskaitot visus stiprinājumus un palīgmateriālus. | C23: gb | D23: 1
A24: 11 | B24: Montēt invalīdu rokturi paceļams NT satīns, ieskaitot visus stiprinājumus un palīgmateriālus. | C24: gb | D24: 2
A25: 12 | B25: Montēt vannas rokt.ar ziepju trauku, hromēts misiņš, D25mm, ieskaitot visus stiprinājumus un palīgmateriālus. | C25: gb | D25: 1
A26: 13 | B26: Montēt rokturi atbalstam, paceļams, satīns, ieskaitot visus stiprinājumus un palīgmateriālus. | C26: gb | D26: 1
B27: Margas
A28: 14 | B28: Montēt nerūsējošā tērauda margas kāpnēm KPN1 , ieskaitot visus stiprinājumus un palīgmateriālus (saskaņā ar MK noteikumiem Nr. 693 "Būvju vispārīgo prasību būvnormatīvs LBN 200-21" ). - Margas no nerūsējoša tērauda; - Statnis h-885mm; - Lentera turētājs h-50mm; - Lenteris ∅45mm; - Tonis - pelēks. Uz kāpņu margām pie pirmā un pēdējā pakāpiena iestrādāt stāva numuru Braila rakstā | C28: m | D28: 17.21
A29: 15 | B29: Montēt nerūsējošā tērauda margas kāpnēm KPN1, ieskaitot visus stiprinājumus un palīgmateriālus (saskaņā ar MK noteikumiem Nr. 693 "Būvju vispārīgo prasību būvnormatīvs LBN 200-21" ). - Margas no nerūsējoša tērauda; - Statnis h-885mm; - Lentera turētājs h-50mm; - Lenteris ∅45mm; - Tonis - pelēks. Uz kāpņu margām pie pirmā un pēdējā pakāpiena iestrādāt stāva numuru Braila rakstā | C29: m | D29: 17.21
B30: UPP
A31: 16 | B31: Aprīkot telpas atbilstoši UPP | C31: kpl | D31: 1
A33: Piezīme: Būvuzņēmējam jāievērtē darbu daudzuma sarakstā minēto darbu veikšanai nepieciešamie materiāli un papildus darbi, kas nav minēti šajā sarakstā, bet bez kuriem nebūtu iespējama būvdarbu tehnoloģiski pareiza un spēkā esošajiem normatīviem atbilstoša veikšana pilnā apmērā. Darbu apjomu sarakstu skatīt kopā ar rasējumiem un specifikācijām. Sniegtās norādes uz izmantojamo būvmateriālu, iekārtu un ražotāju zīmoliem nes informatīvu raksturu un var būt aizvietoti ar materialiem un izstrādājumiem ar analoģiskiem tehniskiem raksturojumiem.

Sheet 2-1
A1: Būvdarbu apjomu saraksts Nr.2-1
A2: =KA!C28 -> Apkure
A3: (būvdarbu veids vai konstruktīvā elementa nosaukums)
A5: Objekta nosaukums: Šautuves sporta ēkas jaunbūve Stacijas ielā 129A, Daugavpilī un teritorijā esošo ēku demontāža
A6: Būves nosaukums: Šautuves sporta ēka
A7: Objekta adrese: Stacijas ielā 129A, Daugavpilī
A9: Apjomi sastādīti, pamatojoties uz būvprojekta rasējumiem
A11: Nr. p.k. | B11: Būvdarbu nosaukums | C11: Mērvienība | D11: Daudzums
B13: Apkures sistēma
B14: Kolektoru un silto grīdu apkures sistēma
A15: 1 | B15: Siltās grīdas caurules ∅16x2 | C15: m | D15: 19000
A16: 2 | B16: Kolektoru skapis, komplektā ar 2 gb zemgrīdas apkures sadales kolektoriem ar 16 kontūriem | C16: kpl | D16: 3
A17: 3 | B17: Kolektoru skapis, komplektā ar 2 gb zemgrīdas apkures sadales kolektors ar 15 kontūriem | C17: gb | D17: 2
A18: 4 | B18: Kolektoru skapis, komplektā ar 2 gb zemgrīdas apkures sadales kolektors ar 12 kontūriem | C18: gb | D18: 1
A19: 5 | B19: Kolektoru skapis, komplektā ar 2 gb zemgrīdas apkures sadales kolektors ar 10 kontūriem | C19: gb | D19: 3
A20: 6 | B20: Kolektoru skapis, komplektā ar 2 gb zemgrīdas apkures sadales kolektors ar 11 kontūriem | C20: gb | D20: 1
A21: 7 | B21: Kolektoru skapis, komplektā ar 2 gb zemgrīdas apkures sadales kolektors ar 6 kontūriem | C21: gb | D21: 2
A22: 8 | B22: Kolektoru skapis, komplektā ar 2 gb zemgrīdas apkures sadales kolektors ar 13 kontūriem | C22: gb | D22: 1
A23: 9 | B23: Kolektoru skapis, komplektā ar 2 gb zemgrīdas apkures sadales kolektors ar 14 kontūriem | C23: gb | D23: 2
A24: 10 | B24: Automātiskais atgaisotājs, komplektā ar vītnes pagarinājumu un lodveida ventili (DN15) | C24: kpl | D24: 30
A25: 11 | B25: Lodveida ventilis siltajām grīdām, DN15, komplektā ar pāreju uz silto grīdu caurulēm ∅16x2 | C25: kpl | D25: 184
A26: 12 | B26: Balansējošais ventilis siltajām grīdām, DN15, komplektā ar pāreju uz silto grīdu caurulēm ∅16x2 | C26: kpl | D26: 184
... A36: 22 | B36: Melno īsvītņu, līkumu, trejgabalu, pāreju komplekts DN20-DN32 | C36: kpl | D36: 15
B37: Cauruļvadu apkures sistēma no siltummezgla līdz apkures kolektoriem
A38: 23 | B38: Automātiskais atgaisotājs, komplektā ar vītnes pagarinājumu, pāreju un lodveida ventili (DN15) | C38: kpl | D38: 6
A39: 24 | B39: Aizbīdnis, DN20 | C39: gb | D39: 8
A40: 25 | B40: Aizbīdnis, DN25 | C40: gb | D40: 2
A41: 26 | B41: Aizbīdnis, DN32 | C41: gb | D41: 4
A42: 27 | B42: Aizbīdnis, DN40 | C42: gb | D42: 4
A43: 28 | B43: Cauruļu stiprinājumu komplekts, DN20-DN50 | C43: kpl | D43: 40
A44: 29 | B44: Daudzslāņu caurules, PE-RT/Al/PE-RT DN20, ∅25 | C44: m | D44: 90
A45: 30 | B45: Daudzslāņu caurules, PE-RT/Al/PE-RT DN25, ∅32 | C45: m | D45: 100
A46: 31 | B46: Daudzslāņu caurules, PE-RT/Al/PE-RT DN32, ∅40 | C46: m | D46: 120
A47: 32 | B47: Daudzslāņu caurules, PE-RT/Al/PE-RT DN40, ∅50 | C47: m | D47: 250
A48: 33 | B48: Daudzslāņu caurules, PE-RT/Al/PE-RT DN50, ∅63 | C48: m | D48: 20
A49: 34 | B49: Lodveida ventiļu komplekts- atgaisošanai (2gb lodveida ventilis DN20, 2gb daudzslāņu cauruļu veidgabalu komplekts (pāreja, trejgabals) | C49: kpl | D49: 2
... A58: 43 | B58: Ugunsdrošie hermetizējošie materiāli | C58: kpl | D58: 10
B59: Cauruļvadu apkures sistēma no siltummezgla līdz ventagregātam
A60: 44 | B60: Daudzslāņu cauruļu pāreju, līkumu, trejgabalu, u.c. veidgabalu komplekts DN20 | C60: kpl | D60: 1
A61: 45 | B61: Daudzslāņu cauruļu pāreju, līkumu, trejgabalu, u.c. veidgabalu komplekts DN32 | C61: kpl | D61: 1
A62: 46 | B62: Daudzslāņu cauruļu pāreju, līkumu, trejgabalu, u.c. veidgabalu komplekts DN40 | C62: kpl | D62: 1
A63: 47 | B63: Daudzslāņu cauruļu pāreju, līkumu, trejgabalu, u.c. veidgabalu komplekts DN50 | C63: kpl | D63: 1
A64: 48 | B64: Daudzslāņu caurules, PE-RT/Al/PE-RT DN50, ∅63 | C64: m | D64: 90
A65: 49 | B65: Daudzslāņu caurules, PE-RT/Al/PE-RT DN40, ∅50 | C65: m | D65: 40
A66: 50 | B66: Daudzslāņu caurules, PE-RT/Al/PE-RT DN32, ∅40 | C66: m | D66: 90
A67: 51 | B67: Daudzslāņu caurules, PE-RT/Al/PE-RT DN20, ∅25 | C67: m | D67: 20
A68: 52 | B68: Cauruļu stiprinājumu komplekts, DN20, DN32, DN40 un DN50 | C68: kpl | D68: 50
A69: 53 | B69: Siltumizolācijas čaulas b=30mm, d iekšējais=63-67mm Paroc vai ekvivalents | C69: m | D69: 90
A70: 54 | B70: Siltumizolācijas čaulas b=30mm, d iekšējais=50-53mm Paroc vai ekvivalents | C70: m | D70: 40
A71: 55 | B71: Siltumizolācijas čaulas b=30mm, d iekšējais=40-43mm Paroc vai ekvivalents | C71: m | D71: 90
... A85: 69 | B85: Montāžas palīgmateriāli | C85: kpl | D85: 1
A88: Piezīme: Būvuzņēmējam jāievērtē darbu daudzuma sarakstā minēto darbu veikšanai nepieciešamie materiāli un papildus darbi, kas nav minēti šajā sarakstā, bet bez kuriem nebūtu iespējama būvdarbu tehnoloģiski pareiza un spēkā esošajiem normatīviem atbilstoša veikšana pilnā apmērā. Darbu apjomu sarakstu skatīt kopā ar rasējumiem un specifikācijām. Sniegtās norādes uz izmantojamo būvmateriālu, iekārtu un ražotāju zīmoliem nes informatīvu raksturu un var būt aizvietoti ar materialiem un izstrādājumiem ar analoģiskiem tehniskiem raksturojumiem.

Sheet 2-2
A1: Būvdarbu apjomu saraksts Nr.2-2
A2: =KA!C29 -> Ventilācija
A3: (būvdarbu veids vai konstruktīvā elementa nosaukums)
A5: Objekta nosaukums: Šautuves sporta ēkas jaunbūve Stacijas ielā 129A, Daugavpilī un teritorijā esošo ēku demontāža
A6: Būves nosaukums: Šautuves sporta ēka
A7: Objekta adrese: Stacijas ielā 129A, Daugavpilī
A9: Apjomi sastādīti, pamatojoties uz būvprojekta rasējumiem
A11: Nr. p.k. | B11: Būvdarbu nosaukums | C11: Mērvienība | D11: Daudzums
A13: 1 | B13: PN1 VVS020s-R-FPVH/VVS020s-L-FPV_cd; Lp= 2180 m3//h; H=350Pa; Ln=2180m3//h; Q=14,6kW; N= 1,52kW; 230V/1~ 2045x490x1650mm 362 kg (vai ekvivalents) | C13: kpl | D13: 1
A14: 2 | B14: PN2 VVS020s-R-FPVH/VVS020s-L-FPV_cd; Lp= 2160 m3//h; H=350Pa; Ln=2160m3/h; Q=14,5kW; N= 1,52kW; 230V/1~ 2045x490x1650mm 362 kg (vai ekvivalents) | C14: kpl | D14: 1
A15: 3 | B15: PN3 VVS150c-R-FPVH/VVS150c-L-FPV_cd; Lp= 15800 m3//h; H=350Pa; Ln=15800m3/h; Q=65,3kW; N= 14,0kW; 230V/1~ 3710x2242x2091mm 1453 kg (vai ekvivalents) | C15: kpl | D15: 1
A16: 4 | B16: PN4 VVS150c-R-FPVH/VVS150c-L-FPV_cd; Lp= 13580 m3//h; H=350Pa; Ln=13580m3/h; Q=54,3kW; N= 12,6kW; 230V/1~ 3710x2242x2091mm 1435 kg (vai ekvivalents) | C16: kpl | D16: 1
A17: 5 | B17: Gaisa vads 100 Zn | C17: m | D17: 177
A18: 6 | B18: Gaisa vads 125 Zn | C18: m | D18: 30
A19: 7 | B19: Gaisa vads 160 Zn | C19: m | D19: 98
A20: 8 | B20: Gaisa vads 200 Zn | C20: m | D20: 29
A21: 9 | B21: Gaisa vads 250 Zn | C21: m | D21: 10
A22: 10 | B22: Gaisa vads 315 Zn | C22: m | D22: 55
A23: 11 | B23: Gaisa vads 400 Zn | C23: m | D23: 179
A24: 12 | B24: Gaisa vads 500 Zn | C24: m | D24: 129
... A70: 58 | B70: Gaisa vadu tīrīšanas lūkas | C70: kpl | D70: 1
A72: Piezīme: Būvuzņēmējam jāievērtē darbu daudzuma sarakstā minēto darbu veikšanai nepieciešamie materiāli un papildus darbi, kas nav minēti šajā sarakstā, bet bez kuriem nebūtu iespējama būvdarbu tehnoloģiski pareiza un spēkā esošajiem normatīviem atbilstoša veikšana pilnā apmērā. Darbu apjomu sarakstu skatīt kopā ar rasējumiem un specifikācijām. Sniegtās norādes uz izmantojamo būvmateriālu, iekārtu un ražotāju zīmoliem nes informatīvu raksturu un var būt aizvietoti ar materialiem un izstrādājumiem ar analoģiskiem tehniskiem raksturojumiem.

Sheet 2-3
A1: Būvdarbu apjomu saraksts Nr.2-3
A2: =KA!C30 -> Siltummezgls
A3: (būvdarbu veids vai konstruktīvā elementa nosaukums)
A5: Objekta nosaukums: Šautuves sporta ēkas jaunbūve Stacijas ielā 129A, Daugavpilī un teritorijā esošo ēku demontāža
A6: Būves nosaukums: Šautuves sporta ēka
A7: Objekta adrese: Stacijas ielā 129A, Daugavpilī
A9: Apjomi sastādīti, pamatojoties uz būvprojekta rasējumiem
A11: Nr. p.k. | B11: Būvdarbu nosaukums | C11: Mērvienība | D11: Daudzums
B13: SM (Siltummehānika)
B14: Šautuves sporta ēkas jaunbūves siltummezgls
A15: 1 | B15: Lodveida ventilis, metināmais DN125 | C15: gb | D15: 2
A16: 2 | B16: Lodveida ventilis, metināmais DN80 | C16: gb | D16: 2
A17: 3 | B17: Lodveida ventilis, metināmais DN65 | C17: gb | D17: 2
A18: 4 | B18: Lodveida ventilis, metināmais DN50 | C18: gb | D18: 4
A19: 5 | B19: Lodveida ventilis, metināmais DN40 | C19: gb | D19: 2
A20: 6 | B20: Lodveida ventilis DN32 | C20: gb | D20: 3
A21: 7 | B21: Lodveida ventilis DN25 | C21: gb | D21: 2
A22: 8 | B22: Lodveida ventilis DN15 | C22: gb | D22: 8
A23: 9 | B23: Spiediena starpības regulators, DN32, kvs=15m3/h | C23: kpl | D23: 1
A24: 10 | B24: Atgaisotājs vertikālais 1/2'', komplektā ar metināmu īsvītni 1/2'' | C24: kpl | D24: 4
A25: 11 | B25: Termometrs 0..120⁰C, komplektā ar metināmu īsvītni 1/2'' | C25: gb | D25: 8
A26: 12 | B26: Ultraskaņas siltuma skaitītājs DN65; Qnom=25 kb.m./h;, komplektā ar vadības bloku | C26: kpl | D26: 1
... A70: 56 | B70: Siltumnesējs etilēnglikols 40% 20L | C70: gb | D70: 10
B71: Sporta aktivitāšu ēkas (Skeitparka ēkas) siltummezgls
A72: 57 | B72: Lodveida ventilis DN80 | C72: gb | D72: 4
A73: 58 | B73: Tērauda gāzapgādes caurule ∅88.9x3.6, DN80 | C73: m | D73: 8
A74: 59 | B74: Siltumizolācijas čaula b=30mm, d iekšējais=85-90mm | C74: m | D74: 8
A75: 60 | B75: Tērauda veidgabalu DN80 (īsvītnes, pagarinājumi, līkumi, trejgabali utml) komplekts | C75: kpl | D75: 1
A76: 61 | B76: Pilnā komplektācijā saglabāts esošais sporta aktivitāšu ēkas (Skeitparka ēkas) siltummezgls, kas pirms rekonstrukcijas atradās Garāžas ēkā. Montāža | C76: kpl | D76: 1
A77: 62 | B77: Siltumnesējs etilēnglikols 40% 20L | C77: gb | D77: 40
A78: 63 | B78: Montāžas palīgmateriāli | C78: kpl | D78: 1
A80: Piezīme: Būvuzņēmējam jāievērtē darbu daudzuma sarakstā minēto darbu veikšanai nepieciešamie materiāli un papildus darbi, kas nav minēti šajā sarakstā, bet bez kuriem nebūtu iespējama būvdarbu tehnoloģiski pareiza un spēkā esošajiem normatīviem atbilstoša veikšana pilnā apmērā. Darbu apjomu sarakstu skatīt kopā ar rasējumiem un specifikācijām. Sniegtās norādes uz izmantojamo būvmateriālu, iekārtu un ražotāju zīmoliem nes informatīvu raksturu un var būt aizvietoti ar materialiem un izstrādājumiem ar analoģiskiem tehniskiem raksturojumiem.

Sheet 2-4
A1: Būvdarbu apjomu saraksts Nr.2-4
A2: =KA!C31 -> Ūdensapgāde un kanalizācija
A3: (būvdarbu veids vai konstruktīvā elementa nosaukums)
A5: Objekta nosaukums: Šautuves sporta ēkas jaunbūve Stacijas ielā 129A, Daugavpilī un teritorijā esošo ēku demontāža
A6: Būves nosaukums: Šautuves sporta ēka
A7: Objekta adrese: Stacijas ielā 129A, Daugavpilī
A9: Apjomi sastādīti, pamatojoties uz būvprojekta rasējumiem
A11: Nr. p.k. | B11: Būvdarbu nosaukums | C11: Mērvienība | D11: Daudzums
B13: Aukstais, karstais un cirkulācijas ūdens
A14: 1 | B14: Daudzslāņu caurule - ūdenim 16 | C14: m | D14: 98.88
A15: 2 | B15: Daudzslāņu caurule - ūdenim 20 | C15: m | D15: 128.9
A16: 3 | B16: Daudzslāņu caurule - ūdenim 25 | C16: m | D16: 116.85
A17: 4 | B17: Daudzslāņu caurule - ūdenim 32 | C17: m | D17: 48.4
A18: 5 | B18: Daudzslāņu caurule - ūdenim 40 | C18: m | D18: 42.4
A19: 6 | B19: Daudzslāņu caurule - ūdenim 50 | C19: m | D19: 139.48
A20: 7 | B20: Daudzslāņu caurule - ūdenim 63 | C20: m | D20: 5
A21: 8 | B21: Līkums 900 16 | C21: gb | D21: 176
A22: 9 | B22: Līkums 900 20 | C22: gb | D22: 122
A23: 10 | B23: Līkums 900 25 | C23: gb | D23: 50
A24: 11 | B24: Līkums 900 32 | C24: gb | D24: 38
A25: 12 | B25: Līkums 900 40 | C25: gb | D25: 15
... A76: 63 | B76: Montāžas stiprinājumu kronšteini, skrūves u.tml. | C76: kpl | D76: 1
B77: Ugunsdzēsības ūdens
A78: 64 | B78: Cinkotā tērauda ūdensvada caurule Dn50, montāža Dn50 50 Fe | C78: m | D78: 100
A79: 65 | B79: Cinkota tērauda līkums 900 50 Fe | C79: gb | D79: 11
A80: 66 | B80: Cinkota tērauda T-gabals 900 50 Fe | C80: gb | D80: 6
A81: 67 | B81: Cinkotās tērauda ūdensvada caurules Dn50 montāžas stiprinājumu kronšteini komplektā ar aploci, skrūvēm, montāža | C81: kpl | D81: 1
A82: 68 | B82: Universālais savienojumsa Dn50 - PE/Tērauds | C82: gb | D82: 1
A83: 69 | B83: Iekšējā ugunsdzēsības ūdensvada krāna kaste, komplektā d.51 mm ugusdzēsības šļūteni L=20 m, ugunsdzēsības stobru d.51 mm, stobra izplūdes d.13 mm, kompakta strūkla | C83: kpl | D83: 7
A84: 70 | B84: Elektroaizbīdnis 50 Fe | C84: kpl | D84: 1
A85: 71 | B85: Līkumi, savienojumi, diametru pārejas, blīvējums u.c. | C85: kpl | D85: 1
B86: Sadzīves kanalizācija
A87: 72 | B87: PP kanalizācijas caurule 50 PP | C87: m | D87: 130
A88: 73 | B88: PP kanalizācijas caurule 110 PP | C88: m | D88: 210
A89: 74 | B89: PP kanalizācijas līkums 900 50 PP | C89: gb | D89: 86
A90: 75 | B90: PP kanalizācijas līkums 900 110 PP | C90: gb | D90: 19
A91: 76 | B91: PP kanalizācijas T-gabals 900 50/50 PP | C91: gb | D91: 8
A92: 77 | B92: PP kanalizācijas T-gabals 900 110/110/50 PP | C92: gb | D92: 27
A93: 78 | B93: PP kanalizācijas T-gabals 900 110/110 PP | C93: gb | D93: 43
A94: 79 | B94: PP kanalizācijas pāreja 110/50 PP | C94: gb | D94: 6
A95: 80 | B95: Klozetpods | C95: gb | D95: 28
A96: 81 | B96: Roku mazgātne | C96: gb | D96: 34
A97: 82 | B97: Trauku mazgātne | C97: gb | D97: 13
A98: 83 | B98: Grīdas traps Dn50 | C98: gb | D98: 16
... A103: 88 | B103: Ugunsdrošais blīvējums | C103: kpl | D103: 1
B104: Lietus kanalizācija
A105: 89 | B105: PP kanalizācijas caurule 110 PP | C105: m | D105: 273
A106: 90 | B106: PP kanalizācijas līkums 900 110 PP | C106: gb | D106: 13
A107: 91 | B107: PP kanalizācijas T-gabals 900 110/110 PP | C107: gb | D107: 7
A108: 92 | B108: Tīrīšanas lūka/ revīzija 110 | C108: gb | D108: 13
A109: 93 | B109: Stiprinājumi un palīgmateriāli | C109: kpl | D109: 1
A110: 94 | B110: Montāžas komplekts | C110: kpl | D110: 1
A111: 95 | B111: Ugunsdrošības manžetes starpstāvu pārsegumos | C111: gb | D111: 13
A112: 96 | B112: Ugunsdrošais blīvējums | C112: kpl | D112: 1
A113: 97 | B113: HL jumta noteka DN100 (apsilde+bit+lapu ķēr.) | C113: kpl | D113: 13
A114: 98 | B114: Trokšņu slāpējoša izolācija 110/30 | C114: m | D114: 52
B115: Kanalizācija
A116: 99 | B116: PP kanalizācijas caurule 63 PP | C116: m | D116: 83
A117: 100 | B117: PP kanalizācijas caurule 110 PP | C117: m | D117: 65
A118: 101 | B118: PP kanalizācijas līkums 900 110 PP | C118: m | D118: 25
A119: 102 | B119: PP kanalizācijas līkums 900 50 PP | C119: gb | D119: 21
A120: 103 | B120: PP kanalizācijas T-gabals 900 50/50 PP | C120: gb | D120: 5
A121: 104 | B121: PP kanalizācijas T-gabals 900 110/110/50 PP | C121: gb | D121: 10
A122: 105 | B122: PP kanalizācijas T-gabals 900 110/110 PP | C122: gb | D122: 11
A123: 106 | B123: Grīdas traps Dn50 | C123: gb | D123: 12
A124: 107 | B124: Tīrīšanas lūka/ revīzija | C124: gb | D124: 3
A125: 108 | B125: Stiprinājumi un palīgmateriāli | C125: kpl | D125: 1
A126: 109 | B126: Montāžas komplekts | C126: kpl | D126: 1
A127: 110 | B127: Ugunsdrošības manžetes starpstāvu pārsegumos | C127: gb | D127: 1
A128: 111 | B128: Ugunsdrošais blīvējums | C128: kpl | D128: 1
A130: Piezīme: Būvuzņēmējam jāievērtē darbu daudzuma sarakstā minēto darbu veikšanai nepieciešamie materiāli un papildus darbi, kas nav minēti šajā sarakstā, bet bez kuriem nebūtu iespējama būvdarbu tehnoloģiski pareiza un spēkā esošajiem normatīviem atbilstoša veikšana pilnā apmērā. Darbu apjomu sarakstu skatīt kopā ar rasējumiem un specifikācijām. Sniegtās norādes uz izmantojamo būvmateriālu, iekārtu un ražotāju zīmoliem nes informatīvu raksturu un var būt aizvietoti ar materialiem un izstrādājumiem ar analoģiskiem tehniskiem raksturojumiem.

Sheet 2-5
A1: Būvdarbu apjomu saraksts Nr.2-5
A2: =KA!C32 -> Elektroapgāde
A3: (būvdarbu veids vai konstruktīvā elementa nosaukums)
A5: Objekta nosaukums: Šautuves sporta ēkas jaunbūve Stacijas ielā 129A, Daugavpilī un teritorijā esošo ēku demontāža
A6: Būves nosaukums: Šautuves sporta ēka
A7: Objekta adrese: Stacijas ielā 129A, Daugavpilī
A9: Apjomi sastādīti, pamatojoties uz būvprojekta rasējumiem
A11: Nr. p.k. | B11: Būvdarbu nosaukums | C11: Mērvienība | D11: Daudzums
B13: 1. El.sadalnes skapji
A14: 1 | B14: El.sadalnes skapis GS sk.shēmu | C14: gb | D14: 1
A15: 2 | B15: El.sadalnes skapis SS1 sk.shēmu | C15: gb | D15: 1
A16: 3 | B16: El.sadalnes skapis SS1-2 sk.shēmu | C16: gb | D16: 1
A17: 4 | B17: El.sadalnes skapis SS1-3 sk.shēmu | C17: gb | D17: 1
A18: 5 | B18: El.sadalnes skapis SS1-4 sk.shēmu | C18: gb | D18: 1
A19: 6 | B19: El.sadalnes skapis SS2-1 sk.shēmu | C19: gb | D19: 1
A20: 7 | B20: El.sadalnes skapis SS2-2 sk.shēmu | C20: gb | D20: 1
A21: 8 | B21: Montāžas vadi, kabeļu uzgali | C21: kpl | D21: 1
B22: 2. Gaismekļi
A23: 9 | B23: Iebūvēts piekārtos griestos kvadrāta LED gaismeklis, balts, ne mazāk kā IP44, vismaz 1167lm, ne vairāk kā 10,7W, 4000K, vismaz F klase | C23: gb | D23: 80
A24: 10 | B24: Iebūvēts piekārtos griestos apaļš alumīnija LED gaismeklis, balts, ne mazāk kā IP44, vismaz IK04, vismaz 1537lm, ne vairāk kā 18W, 3000K, vismaz F klase | C24: gb | D24: 44
A25: 11 | B25: Iebūvēts piekārtos griestos kvadrāta LED gaismeklis, vismaz IP40, vismaz IK02, UGR≤19, vismaz 3650lm, ne vairāk kā 36W, 4000K, vismaz F klase | C25: gb | D25: 78
A26: 12 | B26: Prožektors, LED, ne vairāk kā 10W, vismaz IP20, vismaz F klase | C26: gb | D26: 31
A27: 13 | B27: Iebūvēts piekārtos griestos apaļš alumīnija LED gaismeklis, vismaz IP44, vismaz IK04, vismaz 1537lm, ne vairāk kā 18W, 4000K, vismaz F klase | C27: gb | D27: 28
A28: 14 | B28: Griestu apaļš LED gaismeklis, vismaz IP54, vismaz 2780lm, ne vairāk kā 24W, 4000K, vismaz F klase | C28: gb | D28: 30
A29: 15 | B29: Pie griestiem astiprināms garens LED gaismeklis, vismaz 5348lm, ne mazāk kā IP66, ne mazāk kā IK10, ne vairāk kā 36.7W, 4000K, vismaz F klase | C29: gb | D29: 107
A30: 16 | B30: Evakuācijas ceļu norādes gaismekļis virsapmetuma, cb1: ta -25°C ÷ +55°C, ne mazmāk kā IP65, akum.bloks-60.min, komplektā ar norādi "Izeja", deg nepārtraukti | C30: gb | D30: 7
A31: 17 | B31: Evakuācijas ceļu norādes gaismekļis virsapmetuma, cb1: ta -25°C ÷ +55°C, ne mazāk ka IP65, akum.bloks-60.min, komplektā ar virzienu norādem, deg nepārtraukti | C31: gb | D31: 20
A32: 18 | B32: Avārijas gaismeklis virsapmetuma, ne vairāk kā 2W, cb1:ta -25°C ÷ +55°C, ne mazāk kā IP65, akum.bloks-60.min, vismaz 244lm | C32: gb | D32: 24
A33: 19 | B33: Avārijas gaismeklis virsapmetuma, ne vairāk kā 2W, cb1:ta -25°C ÷ +55°C, ne mazāk kā IP65, akum.bloks-60.min, vismaz 270lm | C33: gb | D33: 12
A34: 20 | B34: Avārijas gaismeklis virsapmetuma, ne vairāk ka 1W, cb1:ta -25°C ÷ +55°C, IP65, akum.bloks-60.min | C34: gb | D34: 25
... A36: 22 | B36: Montāžas izstrādājumi | C36: kpl | D36: 1
B37: 3. Kabeļi
A38: 23 | B38: Kabelis vara 5x16 | C38: m | D38: 50
A39: 24 | B39: Kabelis vara 5x4 | C39: m | D39: 250
A40: 25 | B40: Kabelis vara 5x2.5 | C40: m | D40: 185
A41: 26 | B41: Kabelis vara 5x1.5 | C41: m | D41: 960
A42: 27 | B42: Kabelis vara 4x1.5 | C42: m | D42: 680
A43: 28 | B43: Kabelis vara 3x2.5 | C43: m | D43: 3880
A44: 29 | B44: Kabelis vara 3x1.5 | C44: m | D44: 4765
A45: 30 | B45: Kabelis vara NYY-J-5x6 | C45: m | D45: 150
A46: 31 | B46: Kabelis NHXH-J FE180 E30 5x2.5 | C46: m | D46: 430
A47: 32 | B47: Kabelis NHXH-FE180/E30-3x2.5 | C47: m | D47: 15
A48: 33 | B48: Kabelis NHXH-FE180/E30-3x1.5 | C48: m | D48: 40
A49: 34 | B49: Ugunsdrošie stiprinājumi atsevišķi instal.kabeļiem | C49: gb | D49: 1500
... A51: 36 | B51: Montāžas izstrādājumi | C51: kpl | D51: 1
B52: 4. Metālkonstrukcijas un caurules
A53: 37 | B53: Kabeļu plaukts perforēts, 60x600mm kpl ar stiprinājumiem | C53: m | D53: 160
A54: 38 | B54: Kabeu plaukts perforēts, 60x200mm kpl ar stiprinājumiem | C54: m | D54: 75
A55: 39 | B55: PVC caurule d=32mm kpl ar stiprinājumiem un pagriezieniem | C55: m | D55: 150
A56: 40 | B56: PVC caurule d=25mm kpl ar stiprinājumiem un pagriezieniem | C56: m | D56: 450
A57: 41 | B57: PVC caurule d=20mm kpl ar stiprinājumiem un pagriezieniem | C57: m | D57: 2850
A58: 42 | B58: PVC caurule d=25mm,UV izturīga kpl ar stiprinājumiem un pagriezieniem | C58: m | D58: 450
A59: 43 | B59: PVC caurule d=25mm grīdā | C59: m | D59: 6
A60: 44 | B60: Montāžas izstrādājumi | C60: kpl | D60: 1
B61: 5. Instalācijas materiāli
A62: 45 | B62: Kontaktligzda 230V, IP20, z/a kpl ar rāmīti | C62: gb | D62: 191
A63: 46 | B63: Kontaktligzda 230V, IP44, z/a kpl ar rāmīti | C63: gb | D63: 22
A64: 47 | B64: Kontaktligzda 230V, IP44, v/a | C64: gb | D64: 73
A65: 48 | B65: Grīdas kontaktligzdu kārba 6-viet., komplektā: 230V - 4.gb | C65: gb | D65: 2
A66: 49 | B66: El.iekārtu pieslēgums | C66: gb | D66: 9
A67: 50 | B67: Slēdzis 10A, 230V, IP20, z/a kpl ar rāmīti | C67: gb | D67: 30
A68: 51 | B68: Slēdzis 10A, 230V, IP44, z/a kpl ar rāmīti | C68: gb | D68: 7
A69: 52 | B69: Slēdzis 10A, 230V, IP44, v/a | C69: gb | D69: 47
A70: 53 | B70: Dubultslēdzis 10A, 230V, IP20, z/a kpl ar rāmīti | C70: gb | D70: 9
A71: 54 | B71: Klātbūtnes sensors 360gr., v/a, IP20 | C71: gb | D71: 7
A72: 55 | B72: Nozarkārba v/a | C72: gb | D72: 50
A73: 56 | B73: Uzstādīšanas kārba z/a | C73: gb | D73: 250
... A76: 59 | B76: Montāžas izstrādājumi | C76: kpl | D76: 1
B77: 6. Zibens aizsardzība un zemējums
A78: 60 | B78: Apaļdzelzs RD 8 | C78: gb | D78: 720
A79: 61 | B79: Apaļdzelza jumta stiprinājums | C79: kpl | D79: 500
A80: 62 | B80: Apaļdzelza stiprinājums pie sienas | C80: gb | D80: 220
A81: 63 | B81: Kompensators 172/AR ALU | C81: gb | D81: 7
A82: 64 | B82: Vario ātrais savienotājs 249 8-10 ST | C82: gb | D82: 34
A83: 65 | B83: Uztveršanas stienis 101 VL 1500, kpl ar betona pamatni F- FIX-16 vai ekvivalents | C83: kpl | D83: 4
A84: 66 | B84: Uztveršanas stienis 101 VL 3000, kpl ar betona pamatni 2xF- FIX-16 vai ekvivalents | C84: kpl | D84: 1
A85: 67 | B85: Uztveršanas stienis 101 VL 4000, kpl ar 2x ISO-A-800 vai ekvivalents | C85: kpl | D85: 2
A86: 68 | B86: Vads H07V-K 1x16mm² lokans dzeltenzaļš vai ekvivalents | C86: m | D86: 110
A87: 69 | B87: Vads H07V-K 1x10mm² lokans dzeltenzaļš vai ekvivalents | C87: m | D87: 210
A88: 70 | B88: Vads H07V-K 1x6mm² lokans dzeltenzaļš vai ekvivalents | C88: m | D88: 450
A89: 71 | B89: Potenciālu izlīdzināšanas kopne iekštelpām 1801 vai ekvivalents | C89: gb | D89: 3
A90: 72 | B90: Montāžas izstrādājumi | C90: kpl | D90: 1
B91: 7. Dīzeļģenerators
A92: 73 | B92: Dīzeļģenerators 33kVA vai ekvivalents | C92: gb | D92: 1
A93: 74 | B93: Montāžas izstrādājumi | C93: kpl | D93: 1
A95: Piezīme: Būvuzņēmējam jāievērtē darbu daudzuma sarakstā minēto darbu veikšanai nepieciešamie materiāli un papildus darbi, kas nav minēti šajā sarakstā, bet bez kuriem nebūtu iespējama būvdarbu tehnoloģiski pareiza un spēkā esošajiem normatīviem atbilstoša veikšana pilnā apmērā. Darbu apjomu sarakstu skatīt kopā ar rasējumiem un specifikācijām. Sniegtās norādes uz izmantojamo būvmateriālu, iekārtu un ražotāju zīmoliem nes informatīvu raksturu un var būt aizvietoti ar materialiem un izstrādājumiem ar analoģiskiem tehniskiem raksturojumiem.

Sheet 2-6
A1: Būvdarbu apjomu saraksts Nr.2-6
A2: =KA!C33 -> Ugunsgrēka atklāšanas un trauksmes signalizācijas sistēma
A3: (būvdarbu veids vai konstruktīvā elementa nosaukums)
A5: Objekta nosaukums: Šautuves sporta ēkas jaunbūve Stacijas ielā 129A, Daugavpilī un teritorijā esošo ēku demontāža
A6: Būves nosaukums: Šautuves sporta ēka
A7: Objekta adrese: Stacijas ielā 129A, Daugavpilī
A9: Apjomi sastādīti, pamatojoties uz būvprojekta rasējumiem
A11: Nr. p.k. | B11: Būvdarbu nosaukums | C11: Mērvienība | D11: Daudzums
B13: Centrāle un komponentes
A14: 1 | B14: Intelektuālais ugunsgrēka trauksmes panelis, Ethernet tīkls, sert. EN54 iRIS4 vai ekvivalents | C14: gb | D14: 1
A15: 2 | B15: Cilpu paplašinātājs. Ierīces vienā cilpā (maks.) TTE 250 iRIS8 TTE Loop vai ekvivalents | C15: gb | D15: 1
A16: 3 | B16: Akumulators 12V/18Ah | C16: gb | D16: 4
A17: 4 | B17: Barošanas bloks metāla kastē IRIS PS72 vai ekvivalents | C17: gb | D17: 1
B18: Detektori
A19: 5 | B19: Adresējams optiskais dūmu detektors ar integrētu īssavienojuma izolatoru, saderīgs ar 250 adrešu cilpām, nodrošina ātru reaģēšanu, automātisko adresāciju, pašdiagnostiku un vizuālo indikāciju. | C19: gb | D19: 87
A20: 6 | B20: Adresējams termiskais detektors (temperatūras izmaiņu), klase A1R, IP30 aizsardzības pakāpe, izmēri 103x42 mm, savietojams ar adresējamām ugunsgrēka signalizācijas cilpām | C20: gb | D20: 88
A21: 7 | B21: Adresējama detektoru un sirēnu bāze | C21: gb | D21: 212
A22: 8 | B22: Adresējams manuālais ugunsgrēka trauksmes poga, IP40 aizsardzības klase, integrēts īssavienojuma izolators, LED indikācija, saderīga ar adresējamām ugunsgrēka signalizācijas sistēmām | C22: gb | D22: 11
A23: 9 | B23: Adresējams ieejas/izejas modulis ar integrētu īssavienojuma izolatoru, 2 uzraudzītās ieejas un 2 releja izejas, paredzēts darbībai adresējamās ugunsgrēka signalizācijas sistēmās | C23: gb | D23: 7
A24: 10 | B24: Adresējams releja izejas modulis augstsprieguma (240 V) ķēžu vadībai, integrēts īssavienojuma izolators, paredzēts darbībai adresējamās ugunsgrēka signalizācijas sistēmās | C24: gb | D24: 2
A25: 11 | B25: Iznesamāis LED indikātors RI-31 vai ekvivalents | C25: gb | D25: 30
B26: Sirēnas
A27: 12 | B27: Adresējama sienas montāžas ugunsgrēka trauksmes sirēna, 32 izvēles trauksmes toņi, divi regulējami skaļuma līmeņi, paredzēta darbībai adresējamās ugunsgrēka signalizācijas sistēmās | C27: gb | D27: 18
A28: 13 | B28: Adresējama sienas montāžas ugunsgrēka trauksmes sirēna ar strobu (zibšņa indikatoru) un integrētu īssavienojuma izolatoru, 32 izvēles trauksmes toņi, divi regulējami skaļuma līmeņi, paredzēta darbībai adresējamās ugunsgrēka signalizācijas sistēmās | C28: gb | D28: 19
A29: 14 | B29: Konvencionāla ārējā ugunsgrēka trauksmes sirēna ar strobu (zibšņa indikatoru), paredzēta uzstādīšanai āra apstākļos, darba spriegums 24V DC, augsts skaņas spiediena līmenis un pret laikapstākļiem aizsargāts korpuss | C29: gb | D29: 1
B30: Kabelis
A31: 15 | B31: Kabelis 1x2x1 30 min ugunsizturīgs JE-H(ST)FE180/E30 | C31: m | D31: 2300
B32: Montāžas materiāli
A33: 16 | B33: Montāžas materiāli | C33: kpl | D33: 1
A34: 17 | B34: PVC caurule cieta d16 mm | C34: m | D34: 820
A35: 18 | B35: PVC caurule gofrēta d16 mm | C35: m | D35: 350
A36: 19 | B36: Ugunsdrošie stiprinājumi | C36: kpl | D36: 1
A37: 20 | B37: Ugunsizturīga puta | C37: kpl | D37: 3
A38: 21 | B38: Regulēšana, palaišana | C38: kpl | D38: 1
A39: 22 | B39: Marķējums | C39: kpl | D39: 1
A41: Piezīme: Būvuzņēmējam jāievērtē darbu daudzuma sarakstā minēto darbu veikšanai nepieciešamie materiāli un papildus darbi, kas nav minēti šajā sarakstā, bet bez kuriem nebūtu iespējama būvdarbu tehnoloģiski pareiza un spēkā esošajiem normatīviem atbilstoša veikšana pilnā apmērā. Darbu apjomu sarakstu skatīt kopā ar rasējumiem un specifikācijām. Sniegtās norādes uz izmantojamo būvmateriālu, iekārtu un ražotāju zīmoliem nes informatīvu raksturu un var būt aizvietoti ar materialiem un izstrādājumiem ar analoģiskiem tehniskiem raksturojumiem.

Sheet 2-7
A1: Būvdarbu apjomu saraksts Nr.2-7
A2: =KA!C34 -> Apsardzes signalizācija
A3: (būvdarbu veids vai konstruktīvā elementa nosaukums)
A5: Objekta nosaukums: Šautuves sporta ēkas jaunbūve Stacijas ielā 129A, Daugavpilī un teritorijā esošo ēku demontāža
A6: Būves nosaukums: Šautuves sporta ēka
A7: Objekta adrese: Stacijas ielā 129A, Daugavpilī
A9: Apjomi sastādīti, pamatojoties uz būvprojekta rasējumiem
A11: Nr. p.k. | B11: Būvdarbu nosaukums | C11: Mērvienība | D11: Daudzums
B13: Izsaukuma sistēma invalīdu tualetēm
A14: 1 | B14: Kabelis J-Y(St)Y-2x2x0,8 | C14: m | D14: 85
A15: 2 | B15: Avārijas palīdzības izsaukumu sistēmas vadības kontrolieris ar integrētu rezerves barošanas bloku un 230V AC elektrobarošanu, nodrošina pastāvīgu pieslēguma ķēžu integritātes uzraudzību (pārrāvums/īssavienojums), aprīkots ar iebūvētu LED vizuālo un akustisko indikāciju, releju izejām trauksmes un bojājumu signālu tālākai pārraidei, kā arī integrētu sistēmas testēšanas un atiestatīšanas funkciju, piemērots virsapmetuma vai zemapmetuma montāžai | C15: gb | D15: 1
A16: 3 | B16: Apvienots vizuālās un akustiskās trauksmes signalizācijas paziņotājs (virs-durvju indikators) avārijas palīdzības izsaukumu sistēmām | C16: gb | D16: 1
A17: 4 | B17: Avārijas palīdzības izsaukumu sistēmas lokālā atiestatīšanas (atsaukuma) poga, paredzēta aktīvā trauksmes signāla izslēgšanai tieši izsaukuma vietā | C17: gb | D17: 1
A18: 5 | B18: Griestu montāžas trauksmes izsaukuma auklas mehānisms (vājstrāvas, 12V/24V) invalīdu/pieejamības sanmezgliem. Aprīkots ar iebūvētu LED gaismas indikāciju (trauksmes apstiprinājumam) un divu līmeņu sarkanu vilkšanas auklu (ar cilpām ~10cm un ~90cm augstumā no grīdas līmeņa), nodrošinot atbilstību vides pieejamības un lietošanas drošības prasībām. Komplektā ar montāžas piederumiem un pieslēgšanu sistēmai | C18: gb | D18: 1
A19: 6 | B19: Uzlīmes (5.gab iepakojumā) | C19: gb | D19: 1
A20: 7 | B20: Palīgmateriāli | C20: gb | D20: 2
B21: Apsardzes signalizācija
A22: 8 | B22: Kabelis CQR 6x0,22 | C22: m | D22: 2650
A23: 9 | B23: PC-1864 Apsardzes panelis 8-65 zonas 8 rajoni vai ekvivalents | C23: gb | D23: 1
A24: 10 | B24: Paplašinātājs PC108 vai ekvivalents | C24: gb | D24: 3
A25: 11 | B25: Klaviatūra RFK-5500 vai ekvivalents | C25: gb | D25: 3
A26: 12 | B26: Griestu PIR detekotors 360° ar stikla izsišanas detektoru | C26: gb | D26: 12
A27: 13 | B27: Kustības signāldetektors ar stikla izsišanas detektoru | C27: gb | D27: 13
A28: 14 | B28: Kustības detektors | C28: gb | D28: 9
A29: 15 | B29: Magnētiskais kontakts | C29: gb | D29: 16
A30: 16 | B30: Kronšteins kustības detektoram | C30: gb | D30: 34
A31: 17 | B31: Akumulators 12V 7Ah | C31: gb | D31: 2
A32: 18 | B32: Tramsformators 40W 17V | C32: gb | D32: 1
A33: 19 | B33: Sirēna 12V | C33: gb | D33: 3
... A36: 22 | B36: Palīgmateriāli | C36: kpl | D36: 1
A38: Piezīme: Būvuzņēmējam jāievērtē darbu daudzuma sarakstā minēto darbu veikšanai nepieciešamie materiāli un papildus darbi, kas nav minēti šajā sarakstā, bet bez kuriem nebūtu iespējama būvdarbu tehnoloģiski pareiza un spēkā esošajiem normatīviem atbilstoša veikšana pilnā apmērā. Darbu apjomu sarakstu skatīt kopā ar rasējumiem un specifikācijām. Sniegtās norādes uz izmantojamo būvmateriālu, iekārtu un ražotāju zīmoliem nes informatīvu raksturu un var būt aizvietoti ar materialiem un izstrādājumiem ar analoģiskiem tehniskiem raksturojumiem.

Sheet 2-8
A1: Būvdarbu apjomu saraksts Nr.2-8
A2: =KA!C35 -> Interneta un videonovērošanas tīkli
A3: (būvdarbu veids vai konstruktīvā elementa nosaukums)
A5: Objekta nosaukums: Šautuves sporta ēkas jaunbūve Stacijas ielā 129A, Daugavpilī un teritorijā esošo ēku demontāža
A6: Būves nosaukums: Šautuves sporta ēka
A7: Objekta adrese: Stacijas ielā 129A, Daugavpilī
A9: Apjomi sastādīti, pamatojoties uz būvprojekta rasējumiem
A11: Nr. p.k. | B11: Būvdarbu nosaukums | C11: Mērvienība | D11: Daudzums
B13: Datoru tīkli
A14: 2 | B14: Komunikāciju sadales skapis uz grīdas 19", 22U, stikla durvis | C14: kpl | D14: 1
A15: 3 | B15: 19" panelis ar 4 venrilātoriem | C15: gb | D15: 1
A16: 4 | B16: Termostats ventilātoru panelim | C16: gb | D16: 1
A17: 5 | B17: Zemējuma pieslēguma klemme 19" skapim ar pieslēguma kabeli | C17: gb | D17: 1
A18: 6 | B18: 19", el. barošanas panelis ar 8 standarta pieslēguma vietām + parsprieguma aizsardzība | C18: gb | D18: 1
A19: 7 | B19: Horizontālais kabeļu organzators 1U | C19: gb | D19: 3
A20: 8 | B20: Komutācijas panelis, 1U, 19", 24xRJ45,cat.6. | C20: gb | D20: 3
A21: 9 | B21: Optiskais patch panelis 24xSC Duplex SM 1U, 19" | C21: gb | D21: 1
A22: 10 | B22: Komutācijas kabeļi | C22: kpl | D22: 1
A23: 11 | B23: Pārējie izdevumi (skrūves, stiprinājumi, adapteri) | C23: kpl | D23: 1
A24: 12 | B24: Datoru rozete 1х2RJ-45, Cat.6, z/a, IP20 kpl ar rāmīti | C24: gb | D24: 15
A25: 13 | B25: Datoru rozete 1х1RJ-45, Cat.6, v/a, IP20 | C25: gb | D25: 1
... A41: 29 | B41: Montāžas materiāli, stiprinājumi u.c.materiāli | C41: kpl | D41: 1
A42: 30 | B42: Videonovērošanas sistēma
A43: 31 | B43: RJ-45, cat.6 konektors videokameram | C43: gb | D43: 12
A44: 32 | B44: Kabelis UTP cat.6 4x2x0,5 | C44: m | D44: 950
A45: 33 | B45: PVC caurule d20mm kpl ar stiprinājumiem | C45: m | D45: 250
A46: 34 | B46: Ugunsizturīgs blīvējuma materiāls 60min Hilti vai ekvivalents | C46: kpl | D46: 3
A47: 35 | B47: Testēšana | C47: kpl | D47: 1
A48: 36 | B48: Regulēšana, palaišana | C48: kpl | D48: 1
A49: 37 | B49: License | C49: kpl | D49: 1
A50: 38 | B50: Marķējums | C50: kpl | D50: 1
A51: 39 | B51: Montāžas materiāli, stiprinājumi u.c.materiāli | C51: kpl | D51: 1
A52: 40 | B52: Audio sarunas iekārta
A53: 41 | B53: Iekšējās saziņas domofona (interkoma) sistēmas klausule līdz 12 abonentiem ar selektīvā izsaukuma, vispārējā paziņojuma un durvju slēdzenes vadības funkcijām, komplektā ar nepieciešamajiem komutācijas elementiem un barošanas bloku vai ekvivalents | C53: gb | D53: 3
A54: 42 | B54: Domofonu / interkoma sistēmas 1-pogas audio izsaukuma stacija (āra panelis) virsapmetuma montāžai, savietojama ar 4-vadu maģistrālo iekšējās saziņas sistēmu, nodrošinot selektīvo izsaukumu un abpusēju audio sakarus vai ekvivalents | C54: gb | D54: 30
A55: 43 | B55: Stabilizēts līdzstrāvas barošanas bloks domofonu un interkoma sistēmām, 12V DC / min. 1A, ar integrētu aizsardzību pret īsslēgumu un pārslodzi vai ekvivalents | C55: gb | D55: 3
A56: 44 | B56: Montāžas kārba barošanas blokam | C56: gb | D56: 3
A57: 45 | B57: Kabelis UTP cat.6 4x2x0,5 | C57: m | D57: 850
A58: 46 | B58: PVC caurule d20mm kpl ar stiprinājumiem | C58: m | D58: 100
A59: 47 | B59: Regulēšana, palaišana | C59: kpl | D59: 1
A60: 48 | B60: Testēšana | C60: kpl | D60: 1
A61: 49 | B61: Marķējums | C61: kpl | D61: 1
A62: 50 | B62: Montāžas materiāli, stiprinājumi u.c.materiāli | C62: kpl | D62: 1
A64: Piezīme: Būvuzņēmējam jāievērtē darbu daudzuma sarakstā minēto darbu veikšanai nepieciešamie materiāli un papildus darbi, kas nav minēti šajā sarakstā, bet bez kuriem nebūtu iespējama būvdarbu tehnoloģiski pareiza un spēkā esošajiem normatīviem atbilstoša veikšana pilnā apmērā. Darbu apjomu sarakstu skatīt kopā ar rasējumiem un specifikācijām. Sniegtās norādes uz izmantojamo būvmateriālu, iekārtu un ražotāju zīmoliem nes informatīvu raksturu un var būt aizvietoti ar materialiem un izstrādājumiem ar analoģiskiem tehniskiem raksturojumiem.

Sheet 2-9
A1: Būvdarbu apjomu saraksts Nr.2-9
A2: =KA!C36 -> Dūmu aizsardzība
A3: (būvdarbu veids vai konstruktīvā elementa nosaukums)
A5: Objekta nosaukums: Šautuves sporta ēkas jaunbūve Stacijas ielā 129A, Daugavpilī un teritorijā esošo ēku demontāža
A6: Būves nosaukums: Šautuves sporta ēka
A7: Objekta adrese: Stacijas ielā 129A, Daugavpilī
A9: Apjomi sastādīti, pamatojoties uz būvprojekta rasējumiem
A11: Nr. p.k. | B11: Būvdarbu nosaukums | C11: Mērvienība | D11: Daudzums
A13: 1 | B13: Modulāras dūmu aizsardzības un automatizācijas sistēmas centrālais vadības modulis ar integrētu procesoru signālu apstrādei, perifērijas moduļu vadībai un kopnes (Bus) komunikācijas atbalstam vai ekvivalents | C13: gb | D13: 1
A14: 2 | B14: Modulāras vadības un dūmu aizsardzības sistēmas sensoru interfeisa modulis ārējo detektoru, trauksmes pogu un vadības ierīču pieslēgšanai un signālu integrācijai sistēmas kopnē (Bus) vai ekvivalents | C14: gb | D14: 4
A15: 3 | B15: Modulāras vadības sistēmas paplašināšanas releju modulis signālu pārraidei uz ārējām sistēmām, ar bezpotenciāla pārslēdzējkontaktiem (komutācija līdz min. 42V AC/DC, 0.5A) vai ekvivalents | C15: gb | D15: 1
A16: 4 | B16: Modulāras dūmu izvadīšanas un automatizācijas sistēmas piedziņu vadības modulis (spēka modulis) 24V DC elektromotoru kontrolei ar maksimālo izejas strāvu līdz min. 10A un integrētu līniju uzraudzību vai ekvivalents | C16: gb | D16: 5
A17: 5 | B17: Modulāras dūmu izvadīšanas un automatizācijas sistēmas stabilizēts barošanas bloka modulis, 24V DC ar integrētu akumulatoru lādētāju un avārijas elektroapgādes (UPS) vadību vai ekvivalents | C17: gb | D17: 1
A18: 6 | B18: Metāla iekārtu montāžas skapis 600x600x250mm vai ekvivalents | C18: kpl | D18: 1
A19: 7 | B19: Logu piedziņas modulis slimchain 24V/1.0A, IP40, 22W vai ekvivalents | C19: kpl | D19: 8
A20: 8 | B20: Trauksmes palaišanas/izslēgšanas signāldevējs FT 4 A vai ekvivalents | C20: gb | D20: 16
A21: 9 | B21: Ventilācijas slēdzis LTA-24-AZ vai ekvivalents | C21: gb | D21: 4
A22: 10 | B22: Ugunsdrošs kabelis JE-H(St)H E30 4x2x0.8 | C22: m | D22: 547
A23: 11 | B23: Ugunsdrošs kabelis NHXCH E30 4x10 | C23: m | D23: 700
A24: 12 | B24: Signāldevēju iekārtu marķējums | C24: gb | D24: 24
... A27: 15 | B27: Sistēmas sasaiste ar kopējo UATS tīklu | C27: kpl | D27: 1
A29: Piezīme: Būvuzņēmējam jāievērtē darbu daudzuma sarakstā minēto darbu veikšanai nepieciešamie materiāli un papildus darbi, kas nav minēti šajā sarakstā, bet bez kuriem nebūtu iespējama būvdarbu tehnoloģiski pareiza un spēkā esošajiem normatīviem atbilstoša veikšana pilnā apmērā. Darbu apjomu sarakstu skatīt kopā ar rasējumiem un specifikācijām. Sniegtās norādes uz izmantojamo būvmateriālu, iekārtu un ražotāju zīmoliem nes informatīvu raksturu un var būt aizvietoti ar materialiem un izstrādājumiem ar analoģiskiem tehniskiem raksturojumiem.

Sheet 2-10
A1: Būvdarbu apjomu saraksts Nr.2-10
A2: =KA!C37 -> Dūmu novadīšana
A3: (būvdarbu veids vai konstruktīvā elementa nosaukums)
A5: Objekta nosaukums: Šautuves sporta ēkas jaunbūve Stacijas ielā 129A, Daugavpilī un teritorijā esošo ēku demontāža
A6: Būves nosaukums: Šautuves sporta ēka
A7: Objekta adrese: Stacijas ielā 129A, Daugavpilī
A9: Apjomi sastādīti, pamatojoties uz būvprojekta rasējumiem
A11: Nr. p.k. | B11: Būvdarbu nosaukums | C11: Mērvienība | D11: Daudzums
B13: DN1-4 - Dūmu nosūces sistēmas
A14: 1 | B14: Centrbēdzes jumta dūmu nosūces ventilators ar horizontālu gaisa izmetu, ugunsizturības klase F400 (400°C/120min), komplektā ar aizsargresti pret putniem un svešķermeņiem, montāžas piederumiem vai ekvivalents | C14: kpl | D14: 1
A15: 2 | B15: Paaugstinātas jaudas centrbēdzes jumta dūmu nosūces ventilators ar horizontālu gaisa izmetu, ugunsizturības klase F400 (400°C/120min), komplektā ar aizsargresti pret putniem un svešķermeņiem, montāžas piederumiem vai ekvivalents | C15: kpl | D15: 2
A16: 3 | B16: Centrbēdzes jumta dūmu nosūces ventilators ar vertikālu gaisa izmetu, ugunsizturības klase F400 (400°C/120min), komplektā ar montāžas piederumiem vai ekvivalents | C16: kpl | D16: 1
A17: 4 | B17: Ugunsizturīga kalcija silikāta plāksne dūmu izvadīšanas un ventilācijas kanālu izbūvei/izolācijai, ugunsizturības klase EI60, biezums 30 mm, izmēri 450x1000 mm vai ekvivalents | C17: gb | D17: 8
A18: 5 | B18: Ugunsizturīga kalcija silikāta plāksne dūmu izvadīšanas un ventilācijas kanālu izbūvei/izolācijai, ugunsizturības klase EI60, biezums 30 mm, izmēri 400x1000 mm vai ekvivalents | C18: gb | D18: 8
A19: 6 | B19: Ugunsizturīga kalcija silikāta plāksne dūmu izvadīšanas un ventilācijas kanālu izbūvei/izolācijai, ugunsizturības klase EI60, biezums 30 mm, izmēri 550x1000 mm vai ekvivalents | C19: gb | D19: 33
A20: 7 | B20: Ugunsizturīga kalcija silikāta plāksne dūmu izvadīšanas un ventilācijas kanālu izbūvei/izolācijai, ugunsizturības klase EI60, biezums 30 mm, izmēri 500x1000 mm vai ekvivalents | C20: gb | D20: 33
A21: 8 | B21: Ugunsizturīga kalcija silikāta plāksne dūmu izvadīšanas un ventilācijas kanālu izbūvei/izolācijai, ugunsizturības klase EI60, biezums 30 mm, izmēri 850x1000 mm vai ekvivalents | C21: gb | D21: 123
A22: 9 | B22: Ugunsizturīga kalcija silikāta plāksne dūmu izvadīšanas un ventilācijas kanālu izbūvei/izolācijai, ugunsizturības klase EI60, biezums 30 mm, izmēri 800x1000 mm vai ekvivalents | C22: gb | D22: 123
A23: 10 | B23: Ugunsizturīga kalcija silikāta plāksne dūmu izvadīšanas un ventilācijas kanālu izbūvei/izolācijai, ugunsizturības klase EI60, biezums 30 mm, izmēri 1050x1000 mm vai ekvivalents | C23: gb | D23: 148
A24: 11 | B24: Ugunsizturīga kalcija silikāta plāksne dūmu izvadīšanas un ventilācijas kanālu izbūvei/izolācijai, ugunsizturības klase EI60, biezums 30 mm, izmēri 600x1000 mm vai ekvivalents | C24: gb | D24: 148
A25: 12 | B25: Rūpnieciski izgatavots U-veida ugunsizturīgs elements (profils) komunikāciju kanālu vai būvkonstrukciju izolācijai, ugunsizturības klase EI60, izmēri 410x210 mm, garums L=1.0 m vai ekvivalents | C25: gb | D25: 162
... A44: 31 | B44: Čaula no cinkotā skārda gaisa vadiem ārā 800x800 H=2m | C44: kpl | D44: 3
B45: GK1-3 - Gaisa kompensācija
A46: 32 | B46: Laikapstākļu izturīga gaisa kompensācijas āra reste ar lietus aizsardzības žalūzijām un aizsargrežģi pret svešķermeņiem, izmēri 1000x1000 mm, sienas vai kanāla montāžai vai ekvivalents | C46: gb | D46: 3
A47: 33 | B47: Gaisa kompensācijas vārsts ar piedziņu 1000x1000 | C47: gb | D47: 3
B48: Palīgmateriāli
A49: 34 | B49: Palīgmateriāli | C49: kpl | D49: 4
A50: 35 | B50: Elektroinstalācijas materiālu komplekts - precizē EL daļā | C50: kpl | D50: 1
A51: 36 | B51: Montāžas komplekts, palīgmateriāli - | C51: kpl | D51: 1
A52: 37 | B52: Dūmu nosūces vadu blīvuma pārbaude - | C52: kpl | D52: 1
A53: 38 | B53: Iekārtu ieregulēšana un palaišana - | C53: kpl | D53: 1
A54: 39 | B54: Sistēmu marķēšana | C54: kpl | D54: 1
A56: Piezīme: Būvuzņēmējam jāievērtē darbu daudzuma sarakstā minēto darbu veikšanai nepieciešamie materiāli un papildus darbi, kas nav minēti šajā sarakstā, bet bez kuriem nebūtu iespējama būvdarbu tehnoloģiski pareiza un spēkā esošajiem normatīviem atbilstoša veikšana pilnā apmērā. Darbu apjomu sarakstu skatīt kopā ar rasējumiem un specifikācijām. Sniegtās norādes uz izmantojamo būvmateriālu, iekārtu un ražotāju zīmoliem nes informatīvu raksturu un var būt aizvietoti ar materialiem un izstrādājumiem ar analoģiskiem tehniskiem raksturojumiem.

Sheet 3-1
A1: Būvdarbu apjomu saraksts Nr.3-1
A2: =KA!C39 -> Lietus kanalizācija
A3: (būvdarbu veids vai konstruktīvā elementa nosaukums)
A5: Objekta nosaukums: Šautuves sporta ēkas jaunbūve Stacijas ielā 129A, Daugavpilī un teritorijā esošo ēku demontāža
A6: Būves nosaukums: Šautuves sporta ēka
A7: Objekta adrese: Stacijas ielā 129A, Daugavpilī
A9: Apjomi sastādīti, pamatojoties uz būvprojekta rasējumiem
A11: Nr. p.k. | B11: Būvdarbu nosaukums | C11: Mērvienība | D11: Daudzums
A13: 1 | B13: PP kanalizācijas caurule SN8 kl. 200 vai analogs (ieskaitot zemes darbus) | C13: m | D13: 322
A14: 2 | B14: PP kanalizācijas akas DN1000 1000 vai analogs (ieskaitot zemes darbus) | C14: kpl | D14: 6
A15: 3 | B15: PP kanalizācijas akas DN400/315 400/315 vai analogs (ieskaitot zemes darbus) | C15: kpl | D15: 14
A16: 4 | B16: PP gludsienu gūlijas 560/315 ar integrētu sifonu, gludsienu šahtu un 150l nosēddaļu montāžā «B» tipa gruntī dziļumā līdz 1,5 m montāža Restei jābūt kantainai, slodzes kl. 40 tn 560/315 vai analogs (ieskaitot zemes darbus) | C16: kpl | D16: 4
A17: 5 | B17: Naftas produktu atdalītājs NS10, Qmax=50l/s, V=1.08m3 montāža (ieskaitot zemes darbus) | C17: kpl | D17: 1
A18: 6 | B18: Asfalta ceļa seguma nojaukšana un atjaunošana | C18: m2 | D18: 75
A19: 7 | B19: Šķērsojumi ar esošiem komunikācijas ar to aizsardzību | C19: gb | D19: 8
A20: 8 | B20: Caurules OD200 skalošana un CCTV inspekcija | C20: m | D20: 25
A21: 9 | B21: Pieslēgšanas pie esošai kanalizācijai D400 | C21: kpl | D21: 1
A22: 10 | B22: Esoša lietus kanalizācijas D200 demontāža | C22: m | D22: 60
A24: Piezīme: Būvuzņēmējam jāievērtē darbu daudzuma sarakstā minēto darbu veikšanai nepieciešamie materiāli un papildus darbi, kas nav minēti šajā sarakstā, bet bez kuriem nebūtu iespējama būvdarbu tehnoloģiski pareiza un spēkā esošajiem normatīviem atbilstoša veikšana pilnā apmērā. Darbu apjomu sarakstu skatīt kopā ar rasējumiem un specifikācijām. Sniegtās norādes uz izmantojamo būvmateriālu, iekārtu un ražotāju zīmoliem nes informatīvu raksturu un var būt aizvietoti ar materialiem un izstrādājumiem ar analoģiskiem tehniskiem raksturojumiem.

Sheet 3-2
A1: Būvdarbu apjomu saraksts Nr.3-2
A2: =KA!C40 -> Ūdensapgāde un kanalizācija
A3: (būvdarbu veids vai konstruktīvā elementa nosaukums)
A5: Objekta nosaukums: Šautuves sporta ēkas jaunbūve Stacijas ielā 129A, Daugavpilī un teritorijā esošo ēku demontāža
A6: Būves nosaukums: Šautuves sporta ēka
A7: Objekta adrese: Stacijas ielā 129A, Daugavpilī
A9: Apjomi sastādīti, pamatojoties uz būvprojekta rasējumiem
A11: Nr. p.k. | B11: Būvdarbu nosaukums | C11: Mērvienība | D11: Daudzums
B13: Ūdensvads
A14: 1 | B14: Spiediena caurules SDR17 PE 100 OD 63 montāža 63 | C14: m | D14: 25
A15: 2 | B15: EM sedlu pieslēgšanās uzlikas OD 200/63 montāža 200/63 | C15: gb | D15: 1
A16: 3 | B16: EM līkums 90 montāža 63 | C16: gb | D16: 1
A17: 4 | B17: Pazemes tipa ķeta aizbīdnis PN10 ar teleskopisku pagarinātajkātu, Dn 50, montāža "B" tipa gruntī dziļumā līdz 2,0 m 50 | C17: gb | D17: 1
A18: 5 | B18: Asfalta ceļa seguma demontāža un atjaunošana | C18: m2 | D18: 66
A19: 6 | B19: Šķērsojumi ar esošiem komunikācijas ar to aizsardzību | C19: gb | D19: 5
A20: 7 | B20: Caurules OD63 hidrauliskā pārbaude | C20: m | D20: 25
A21: 8 | B21: Caurules OD63 skalošana un dezinfekcija | C21: m | D21: 25
A22: 9 | B22: Pieslēgšanas pie esošam ūdensvadam D200 | C22: gb | D22: 1
B23: Sadzīves kanalizācija
A24: 10 | B24: PP kanalizācijas caurule SN8 kl. 200 (ieskaitot zemes darbus) | C24: m | D24: 57
A25: 11 | B25: PP kanalizācijas akas DN1000 1000 (ieskaitot zemes darbus) | C25: kpl | D25: 3
A26: 12 | B26: Asfalta ceļa seguma demontāža un atjaunošana | C26: m2 | D26: 75
A27: 13 | B27: Šķērsojumi ar esošiem komunikācijas ar to aizsardzību | C27: gb | D27: 8
A28: 14 | B28: Caurules OD200 skalošana un CCTV inspekcija | C28: m | D28: 25
A29: 15 | B29: Pieslēgšanas pie esošai kanalizācijai D500 | C29: kpl | D29: 1
A31: Piezīme: Būvuzņēmējam jāievērtē darbu daudzuma sarakstā minēto darbu veikšanai nepieciešamie materiāli un papildus darbi, kas nav minēti šajā sarakstā, bet bez kuriem nebūtu iespējama būvdarbu tehnoloģiski pareiza un spēkā esošajiem normatīviem atbilstoša veikšana pilnā apmērā. Darbu apjomu sarakstu skatīt kopā ar rasējumiem un specifikācijām. Sniegtās norādes uz izmantojamo būvmateriālu, iekārtu un ražotāju zīmoliem nes informatīvu raksturu un var būt aizvietoti ar materialiem un izstrādājumiem ar analoģiskiem tehniskiem raksturojumiem.

Sheet 3-3
A1: Būvdarbu apjomu saraksts Nr.3-3
A2: =KA!C41 -> Siltumapgādes ārējie tīkli
A3: (būvdarbu veids vai konstruktīvā elementa nosaukums)
A5: Objekta nosaukums: Šautuves sporta ēkas jaunbūve Stacijas ielā 129A, Daugavpilī un teritorijā esošo ēku demontāža
A6: Būves nosaukums: Šautuves sporta ēka
A7: Objekta adrese: Stacijas ielā 129A, Daugavpilī
A9: Apjomi sastādīti, pamatojoties uz būvprojekta rasējumiem
A11: Nr. p.k. | B11: Būvdarbu nosaukums | C11: Mērvienība | D11: Daudzums
B13: Ārējie siltumtīkli starp punktiem 1-2. D139
A14: 1 | B14: Siltumtrases tranšejas rakšana h(vid)=1,3m | C14: m | D14: 12
A15: 2 | B15: Esošo pievienojuma vietu atšurfēšana(roku darbs), vid.1,5m garumā, līdz 1,5m dziļumā un 1,5m platumā | C15: kpl | D15: 1
A16: 3 | B16: Rūpnieciski izolētas, 2.sērijas izolācijas metāla caurules un to montēšana DN125 (D139/250) L=12m | C16: gb | D16: 2
A17: 4 | B17: Rūpnieciski izolēti, 2.klases izolācijas metāla cauruļu vertikālie līkumi un to montēšana D139/250. Plecs 1.5x1.5m | C17: gb | D17: 2
A18: 5 | B18: Rūpnieciski izolēti, 2.klases izolācijas metāla cauruļu līkumi un to montēšana 90° D139/250. Plecs 1x1m | C18: gb | D18: 2
A19: 6 | B19: Cauruļu signalizācijas kabeļu montēšana, pārbaude | C19: kpl | D19: 1
A20: 7 | B20: Aizsargčaula-termonosēdošā uzmava d-250 | C20: gb | D20: 8
A21: 8 | B21: Gala noslēgi, ēkas ievadā d-250 | C21: gb | D21: 2
A22: 9 | B22: Divkomponenšu putu paku komplekts | C22: kpl | D22: 8
A23: 10 | B23: Amortizācijas spilveni trases pagriezienos | C23: kpl | D23: 2
A24: 11 | B24: Elastīga ievada montāža, šķērsojot ēkas pamatu, aizdare ar ruberoīda apvalku, aizbetonējot izsisto aili | C24: kpl | D24: 2
A25: 12 | B25: Smilšu seguma bērums zem un virs caurules 0,10 / 0,10m biezumā | C25: m3 | D25: 2.5
... A28: 15 | B28: Esošo siltumapgādes cauruļu DN125 demontāža | C28: m | D28: 6
B29: Ārējie siltumtīkli starp punktiem 3-4. D114
A30: 16 | B30: Siltumtrases tranšejas rakšana h(vid)=1,3m | C30: m | D30: 18
A31: 17 | B31: Esošo pievienojuma vietu atšurfēšana(roku darbs), vid.1,5m garumā, līdz 1,5m dziļumā un 1,5m platumā | C31: kpl | D31: 1
A32: 18 | B32: Rūpnieciski izolētas, 2.sērijas izolācijas metāla caurules un to montēšana DN100 (D114/225) L=12m | C32: gb | D32: 2
A33: 19 | B33: Rūpnieciski izolēti, 2.klases izolācijas metāla cauruļu vertikālie līkumi un to montēšana D114/225. Plecs 1.5x1.5m | C33: gb | D33: 2
A34: 20 | B34: Rūpnieciski izolēti, 2.klases izolācijas metāla cauruļu līkumi un to montēšana 90° D114/225. Plecs 1x1m | C34: gb | D34: 4
A35: 21 | B35: Cauruļu signalizācijas kabeļu montēšana, pārbaude | C35: kpl | D35: 1
A36: 22 | B36: Aizsargčaula-termonosēdošā uzmava d-225 | C36: gb | D36: 12
A37: 23 | B37: Gala noslēgi, ēkas ievadā d-225 | C37: gb | D37: 2
A38: 24 | B38: Divkomponenšu putu paku komplekts | C38: kpl | D38: 12
A39: 25 | B39: Amortizācijas spilveni trases pagriezienos | C39: kpl | D39: 3
A40: 26 | B40: Elastīga ievada montāža, šķērsojot ēkas pamatu, aizdare ar ruberoīda apvalku, aizbetonējot izsisto aili | C40: kpl | D40: 2
A41: 27 | B41: Smilšu seguma bērums zem un virs caurules 0,10 / 0,10m biezumā | C41: m3 | D41: 2.5
... A44: 30 | B44: Esošo siltumapgādes cauruļu DN100 demontāža | C44: m | D44: 9
B45: Esošo SAT tīklu demontāža, d159
A46: 31 | B46: Turp- un atpakaļgaitas SAT cauruļu demontāžas darbi, d159 | C46: m | D46: 60
A47: 35 | B47: Montāžas palīgmateriāli | C47: kpl | D47: 1
A49: Piezīme: Būvuzņēmējam jāievērtē darbu daudzuma sarakstā minēto darbu veikšanai nepieciešamie materiāli un papildus darbi, kas nav minēti šajā sarakstā, bet bez kuriem nebūtu iespējama būvdarbu tehnoloģiski pareiza un spēkā esošajiem normatīviem atbilstoša veikšana pilnā apmērā. Darbu apjomu sarakstu skatīt kopā ar rasējumiem un specifikācijām. Sniegtās norādes uz izmantojamo būvmateriālu, iekārtu un ražotāju zīmoliem nes informatīvu raksturu un var būt aizvietoti ar materialiem un izstrādājumiem ar analoģiskiem tehniskiem raksturojumiem.

Sheet 3-4
A1: Būvdarbu apjomu saraksts Nr.3-4
A2: =KA!C42 -> Elektroapgāde
A3: (būvdarbu veids vai konstruktīvā elementa nosaukums)
A5: Objekta nosaukums: Šautuves sporta ēkas jaunbūve Stacijas ielā 129A, Daugavpilī un teritorijā esošo ēku demontāža
A6: Būves nosaukums: Šautuves sporta ēka
A7: Objekta adrese: Stacijas ielā 129A, Daugavpilī
A9: Apjomi sastādīti, pamatojoties uz būvprojekta rasējumiem
A11: Nr. p.k. | B11: Būvdarbu nosaukums | C11: Mērvienība | D11: Daudzums
B13: Darbu izmaksas
A14: 1 | B14: Ģeneratora pieslēgšana | C14: gb | D14: 1
A15: 2 | B15: Ekspluatācijā esoša v/spr kabeļa aizsardzība ar saliekamo caur. - zem sprieguma | C15: m | D15: 51
A16: 3 | B16: Ekspluatācijā esoša z/spr kabeļa aizsardzība ar saliekamo caur. - zem sprieguma | C16: m | D16: 40
A17: 4 | B17: Ēkas Stacijas 129A uz projektējamiem kabeļiem pārslēgšanas darbi | C17: kpl | D17: 1
A18: 5 | B18: Lietotāja kabeļu demontāža no TP-225 | C18: m | D18: 10
A19: 6 | B19: Tranšeja - bedre kabeļa vai citu apakšzemes komunikāciju apsekošanai (šurfēšana) | C19: gb | D19: 12
A20: 7 | B20: Tranšejas rakšana un aizbēršana viena līdz divu kabeļu (caurules) guldīšanai 0.7m dziļumā | C20: m | D20: 395
A21: 8 | B21: Tranšejas rakšana un aizbēršana trīs līdz četru kabeļu (caurules) gūldīšanai 0.7m dziļumā | C21: m | D21: 20
A22: 9 | B22: Tranšejas rakšana un aizbēršana viena līdz divu kabeļu (caurules) guldīšanai 1m dziļumā ar rokām | C22: m | D22: 68
A23: 10 | B23: Kabeļu aizsargcaurules d=līdz 110 mm ieguldīšana gatavā tranšejā | C23: m | D23: 85
A24: 11 | B24: Visu spriegumu plastm. vai papīra izolācijas kabeļu gala uzgaļi | C24: gb | D24: 4
A25: 12 | B25: Teritorijas labiekārtošana | C25: m2 | D25: 90
... A36: 23 | B36: Caurules montāža ēkas pamatos, sienā | C36: gb | D36: 5
B37: Materiālu izmaksas
A38: 24 | B38: Kabelis 1kV vara 5x1.5 | C38: m | D38: 87
A39: 25 | B39: Kabelis 1kV alumīnija -4x240 | C39: m | D39: 400
A40: 26 | B40: Plakandzelzs StZn 30x3,5 | C40: m | D40: 200
A41: 27 | B41: Stienis d16 cinkots | C41: gb | D41: 21
A42: 28 | B42: A-spice stienim | C42: gb | D42: 7
A43: 29 | B43: Savienojuma spaile Plakandzelzs/Stienis | C43: gb | D43: 7
A44: 30 | B44: Pretkorozijas smēre | C44: kpl | D44: 1
A45: 31 | B45: Gala apdare | C45: kpl | D45: 6
A46: 32 | B46: Kabeļa 240mm2 kurpe | C46: gb | D46: 20
A47: 33 | B47: Caurule, gofrēta, 450N, d110 | C47: m | D47: 48
A48: 34 | B48: Caurule, gofrēta 750N, d=110 | C48: m | D48: 43
A49: 35 | B49: Caurule, 750N, d=110, dalīta | C49: m | D49: 40
... A53: 39 | B53: Kabeļa hermetizējoša kape | C53: gb | D53: 4
B54: Citi darbi
A55: 40 | B55: EPL vai sarkanās līnijas nospraušana | C55: km | D55: 0.6
A56: 41 | B56: EPL digitālā uzmērīšana | C56: km | D56: 0.6
A58: Piezīme: Būvuzņēmējam jāievērtē darbu daudzuma sarakstā minēto darbu veikšanai nepieciešamie materiāli un papildus darbi, kas nav minēti šajā sarakstā, bet bez kuriem nebūtu iespējama būvdarbu tehnoloģiski pareiza un spēkā esošajiem normatīviem atbilstoša veikšana pilnā apmērā. Darbu apjomu sarakstu skatīt kopā ar rasējumiem un specifikācijām. Sniegtās norādes uz izmantojamo būvmateriālu, iekārtu un ražotāju zīmoliem nes informatīvu raksturu un var būt aizvietoti ar materialiem un izstrādājumiem ar analoģiskiem tehniskiem raksturojumiem.

Sheet 4-1
A1: Būvdarbu apjomu saraksts Nr.4-1
A2: =KA!C44 -> Labiekārtošanas darbi
A3: (būvdarbu veids vai konstruktīvā elementa nosaukums)
A5: Objekta nosaukums: Šautuves sporta ēkas jaunbūve Stacijas ielā 129A, Daugavpilī un teritorijā esošo ēku demontāža
A6: Būves nosaukums: Šautuves sporta ēka
A7: Objekta adrese: Stacijas ielā 129A, Daugavpilī
A9: Apjomi sastādīti, pamatojoties uz būvprojekta rasējumiem
A11: Nr. p.k. | B11: Būvdarbu nosaukums | C11: Mērvienība | D11: Daudzums
B13: Zemes darbi
A14: 1 | B14: Norakt grunti teritorijas labiekārtošanas darbiem | C14: m3 | D14: 2030.94
A15: 2 | B15: Izvest lieko grunti utilizācijai | C15: m3 | D15: 2030.94
B16: Betona bruģakmens segums ietvēm 1.tips
A17: 3 | B17: Ieklāt betona bruģakmens segumu 60mm biezumā. Betona bruģakmens, h=6cm (Zils-10%,Pelēls-60%, Melns-40%) | C17: m2 | D17: 1204.5
A18: 4 | B18: Ieklāt izlīdzinošo kārtu no šķembu izsijas 2-5mm, h=3cm | C18: m2 | D18: 1204.5
A19: 5 | B19: Ieklāt nesaistošu minerālmateriālu pamata nesošo kārtu,h=15cm (s.n.>=110 Mpa) | C19: m3 | D19: 180.68
A20: 6 | B20: Ieklāt salizturīgo kārtu,h=30cm | C20: m3 | D20: 361.35
B21: Karstā asfalta segums 2.tips
A22: 7 | B22: Karstā asfalta dilumkārta AC11/surf, h=4 cm | C22: m2 | D22: 2481.5
A23: 8 | B23: Karstā asfalta apakškārta AC22/base, h=6cm | C23: m2 | D23: 2481.5
A24: 9 | B24: Ieklāt nesaistošu minerālmateriālu pamata nesošo virskārtu, h=10cm (s.n.>=180Mpa) | C24: m3 | D24: 248.15
A25: 10 | B25: Ieklāt nesaistošu minerālmateriālu pamata nesošo virskārtu, h=15cm (s.n.>=180Mpa) | C25: m3 | D25: 372.23
A26: 11 | B26: Ieklāt salizturīgo kārtu,h=35cm | C26: m3 | D26: 868.53
B27: Zāliens 3.tips
A28: 12 | B28: Iesēt zālāju pievedot auglīgo augsni, h=10cm | C28: m2 | D28: 2558.5
B29: Apmales
A30: 13 | B30: Uzstādīt ielas apmali 100x30x15cm uz C30/37 betona kārtas un nesaistīta minerālmateriāla pamatojuma | C30: m | D30: 481.3
A31: 14 | B31: Uzstādīt ielas apmali 100x20x8cm uz C30/37 betona kārtas un nesaistīta minerālmateriāla pamatojuma | C31: m | D31: 405.9
A32: 15 | B32: Uzstādīt ielas apmali 100x22x15cm uz C30/37 betona kārtas un nesaistīta minerālmateriāla pamatojuma | C32: m | D32: 43.65
A33: 16 | B33: Uzstādīt ielas apmali 100x22-30x15cm uz C30/37 betona kārtas un nesaistīta minerālmateriāla pamatojuma | C33: m | D33: 39.5
B34: Ceļa apzīmējumi
A35: 17 | B35: Izveidot stāvvietu līniju apzīmējumus | C35: m | D35: 284
A36: 18 | B36: Izveidot invalīdu stāvvietu apzīmējumus | C36: gb | D36: 4
B37: Ceļa aprīkojums
A38: 19 | B38: Ceļa zīmju stabs | C38: gb | D38: 8
A39: 20 | B39: Ceļa zīme Nr. 535 | C39: gb | D39: 2
A40: 21 | B40: Ceļa zīme Nr. 536 | C40: gb | D40: 2
A41: 22 | B41: Ceļa zīme Nr. 537 | C41: gb | D41: 4
A42: 23 | B42: Ceļa zīme Nr. 844 | C42: gb | D42: 2
A43: 24 | B43: Ceļa zīme Nr. 805 | C43: gb | D43: 1
A44: 25 | B44: Ceļa zīme Nr. 821 | C44: gb | D44: 2
A45: 26 | B45: Ceļa zīme Nr. 206 | C45: gb | D45: 2
A47: Piezīme: Būvuzņēmējam jāievērtē darbu daudzuma sarakstā minēto darbu veikšanai nepieciešamie materiāli un papildus darbi, kas nav minēti šajā sarakstā, bet bez kuriem nebūtu iespējama būvdarbu tehnoloģiski pareiza un spēkā esošajiem normatīviem atbilstoša veikšana pilnā apmērā. Darbu apjomu sarakstu skatīt kopā ar rasējumiem un specifikācijām. Sniegtās norādes uz izmantojamo būvmateriālu, iekārtu un ražotāju zīmoliem nes informatīvu raksturu un var būt aizvietoti ar materialiem un izstrādājumiem ar analoģiskiem tehniskiem raksturojumiem.

Sheet 4-2
A1: Būvdarbu apjomu saraksts Nr.4-2
A2: =KA!C45 -> Apzaļumošana
A3: (būvdarbu veids vai konstruktīvā elementa nosaukums)
A5: Objekta nosaukums: Šautuves sporta ēkas jaunbūve Stacijas ielā 129A, Daugavpilī un teritorijā esošo ēku demontāža
A6: Būves nosaukums: Šautuves sporta ēka
A7: Objekta adrese: Stacijas ielā 129A, Daugavpilī
A9: Apjomi sastādīti, pamatojoties uz būvprojekta rasējumiem
A11: Nr. p.k. | B11: Būvdarbu nosaukums | C11: Mērvienība | D11: Daudzums
B13: Dekoratīvie augi
A14: 1 | B14: Iestādīt augu iepriekš sagatavotā dobē. Latīniskais nosaukums Acer negundo ‘Aureomarginatum’ Latviskais nosaukums Ošlapu kļava šķ. Auga augstums m 2 Sakņu sistēma augstums/ apkārtmērs(m/mm) - Stādīšanas attālums m 7 Ziedu laiks IV nokarenos ķekaros/lapu malas krēma dzeltenraibas | C14: gb | D14: 5
A15: 2 | B15: Iestādīt augu iepriekš sagatavotā dobē. Latīniskais nosaukums Physocarpus opulifolius 'Dart's Gold' Latviskais nosaukums lrbeņlapu fizokarps Auga augstums m 0.4/0.6 Sakņu sistēma augstums/ apkārtmērs(m/mm) C5 Stādīšanas attālums m 1,5 Ziedu laiks VI Ziedi/ lapojums Balti/dzeltens, izcili dekoratīvs | C15: gb | D15: 6
A16: 3 | B16: Iestādīt augu iepriekš sagatavotā dobē. Latīniskais nosaukums Spiraea densiflora Latviskais nosaukums Daudzziedu spireja Auga augstums m 0,4 Sakņu sistēma augstums/ apkārtmērs(m/mm) C5 Stādīšanas attālums m 0,7 Ziedu laiks VI-VII Ziedi/ lapojums Rozā/zaļš | C16: gb | D16: 25
A17: 4 | B17: Iestādīt augu iepriekš sagatavotā dobē. Latīniskais nosaukums Philadelphus coronarius 'Aureus' Latviskais nosaukums Parastais filadelfs Auga augstums m 0,5 Sakņu sistēma augstums/ apkārtmērs(m/mm) C5 Stādīšanas attālums m 1 Ziedu laiks VI Ziedi/ lapojums Balti/zaļš | C17: gb | D17: 14
B18: Augi dobēm
A19: 5 | B19: Iestādīt augu iepriekš sagatavotā dobē. Latīniskais nosaukums Pennisetum alopecuroides Latviskais nosaukums Lapsastu spalvzāle Auga augstums 0.60-0.80 Sakņu sistēma augstums/ apkārtmērs(m/mm) C5 Stādīšanas attālums Ziedu laiks VIII-X Ziedi/ lapojums sudrabaini balta, kupla vārpa/zaļš | C19: gb | D19: 4
A20: 6 | B20: Iestādīt augu iepriekš sagatavotā dobē. Latīniskais nosaukums Calamagrostis brachytricha Latviskais nosaukums Īsmatiņu ciesa (Dimanta zāle) Auga augstums 0.6-1.0 Sakņu sistēma augstums/ apkārtmērs(m/mm) C5 Stādīšanas attālums Ziedu laiks VIII-X Ziedi/ lapojums purpursarkani/ šauras lapas | C20: gb | D20: 3
A21: 7 | B21: Iestādīt augu iepriekš sagatavotā dobē. Latīniskais nosaukums Sanguisorba officinalis 'Tanna' Latviskais nosaukums Ārstnieciskā brūnvālīte Auga augstums 0,8 Sakņu sistēma augstums/ apkārtmērs(m/mm) C5 Stādīšanas attālums Ziedu laiks VI-VIII Ziedi/ lapojums vīnsarkani, ziedkopās/ zaļš | C21: gb | D21: 3
A22: 8 | B22: Iestādīt augu iepriekš sagatavotā dobē. Latīniskais nosaukums Veronica longifolia 'Marietta' Latviskais nosaukums Garlapu veronika Auga augstums 0,8 Sakņu sistēma augstums/ apkārtmērs(m/mm) C5 Stādīšanas attālums Ziedu laiks VII-VIII Ziedi/ lapojums | C22: gb | D22: 27
A23: 9 | B23: Iestādīt augu iepriekš sagatavotā dobē. Latīniskais nosaukums Luzula nivea 'Lucius' Latviskais nosaukums Sniegbaltāzemzālīte Auga augstums 0.20-0.35 Sakņu sistēma augstums/ apkārtmērs(m/mm) C5 Stādīšanas attālums Ziedu laiks VI-VII Ziedi/ lapojums balti, pūkveida/mūžzaļš, lapu maliņas smalki iešķeltas | C23: gb | D23: 10
A24: 10 | B24: Iestādīt augu iepriekš sagatavotā dobē. Latīniskais nosaukums Nepeta nervosa 'Pink Cat' Latviskais nosaukums Dzīslainākaķumētra Auga augstums 0.3-0.4 Sakņu sistēma augstums/ apkārtmērs(m/mm) C5 Stādīšanas attālums Ziedu laiks VI-VII Ziedi/ lapojums rozā/zaļš | C24: gb | D24: 10
A25: 11 | B25: Esošo koku apdobes risināt pēc jau pilsētā īstenotā apdobes piemēra | C25: gb | D25: 4
A27: Piezīme: Būvuzņēmējam jāievērtē darbu daudzuma sarakstā minēto darbu veikšanai nepieciešamie materiāli un papildus darbi, kas nav minēti šajā sarakstā, bet bez kuriem nebūtu iespējama būvdarbu tehnoloģiski pareiza un spēkā esošajiem normatīviem atbilstoša veikšana pilnā apmērā. Darbu apjomu sarakstu skatīt kopā ar rasējumiem un specifikācijām. Sniegtās norādes uz izmantojamo būvmateriālu, iekārtu un ražotāju zīmoliem nes informatīvu raksturu un var būt aizvietoti ar materialiem un izstrādājumiem ar analoģiskiem tehniskiem raksturojumiem.

Sheet 4-3
A1: Būvdarbu apjomu saraksts Nr.4-3
A2: =KA!C46 -> Labiekārtojuma elementi
A3: (būvdarbu veids vai konstruktīvā elementa nosaukums)
A5: Objekta nosaukums: Šautuves sporta ēkas jaunbūve Stacijas ielā 129A, Daugavpilī un teritorijā esošo ēku demontāža
A6: Būves nosaukums: Šautuves sporta ēka
A7: Objekta adrese: Stacijas ielā 129A, Daugavpilī
A9: Apjomi sastādīti, pamatojoties uz būvprojekta rasējumiem
A11: Nr. p.k. | B11: Būvdarbu nosaukums | C11: Mērvienība | D11: Daudzums
A13: 1 | B13: Uzstādīt atkritumu urnu atbilstoši ražotāja rekomendācijām. Gabarīti: L – 0,28m±10cm x B - 0,57m ±10cmx H – 0.85m ±10cm vai ekvivalents | C13: gb | D13: 5
A14: 2 | B14: Uzstādīt velosipēda novietnes atbilstoši ražotāja rekomendācijām. Velosipēdu novietnes. Gabarīti: L – 0,65m ±10cm x B - 0,06m ±10cm x H – 0,90m ±10cm vai ekvivalents | C14: gb | D14: 5
A15: 3 | B15: Uzstādīt atkritumu konteineri atbilstoši ražotāja rekomendācijām. Nojume atkritumu konteineriem. Gabarīti: L – 3,70m ±10cm x B - 2,60m ±10cm x H – 2,60m ±10cm vai ekvivalents | C15: gb | D15: 1
A16: 4 | B16: Uzstādīt solu atbilstoši ražotāja rekomendācijām. Iekšējais diametrs: 135 cm ±10cm Ārējais diametrs:180 cm ±10cm Augstums: 45 cm vai ekvivalents | C16: gb | D16: 6
A18: Piezīme: Būvuzņēmējam jāievērtē darbu daudzuma sarakstā minēto darbu veikšanai nepieciešamie materiāli un papildus darbi, kas nav minēti šajā sarakstā, bet bez kuriem nebūtu iespējama būvdarbu tehnoloģiski pareiza un spēkā esošajiem normatīviem atbilstoša veikšana pilnā apmērā. Darbu apjomu sarakstu skatīt kopā ar rasējumiem un specifikācijām. Sniegtās norādes uz izmantojamo būvmateriālu, iekārtu un ražotāju zīmoliem nes informatīvu raksturu un var būt aizvietoti ar materialiem un izstrādājumiem ar analoģiskiem tehniskiem raksturojumiem.
