Workbook

Sheet lapu saraksts
C1: SIA ''LESTROJ''
A4: Būves nosaukums: | C4: =PBK!C15 -> FUTBOLA LAUKUMA APGAISMOJUMA MASTI
A5: Objekta nosaukums: | C5: =PBK!C16 -> ZEMGALAS OLIMPISKAIS CENTRS
A6: Objekta adrese: | C6: =PBK!C17 -> KRONVALDA IELA 24, JELGAVA
A7: Pasūtītajs: | C7: =PBK!C18 -> SIA ''ZEMGALES OLIMPISKAIS CENTRS''
A8: Pasūtījuma Nr.: | C8: =PBK!C19 -> Nr. 01/02/2021
C12: PROJEKTA T (TĀMES) DAĻAS SATURS
B14: Nr.p.k. | D14: Lpp.
B16: 1 | C16: Titullapa | D16: 1
B17: 2 | C17: Projekta saturs | D17: 2
B18: 3 | C18: Skaidrojošais apraksts | D18: 3
B19: 4 | C19: Tāme | D19: 4
B20: 5 | C20: Darba apjomi | D20: 25
C42: Vadims ĻETKO tel. 29701250, partiya@inbox.lv
C44: =PBK!D36 -> 29_10_2021
C45: JELGAVA

Sheet paskaidrojuma
A2: SKAIDROJOŠAIS APRAKSTS
A5: Tāme sastadīta, pamatojoties uz arhitektes IVETAS LĀČAUNIECES, SIA ''ARHITEKTŪRA UN VIDE'' izstrādāto
A6: un akceptēto būvprojektu "FUTBOLA LAUKUMA APGAISMOJUMA MASTI, KRONVALDA IELĀ 24, JELGAVĀ''
A9: Pasūtītājs - SIA ''ZEMGALES OLIMPISKAIS CENTRS''
A11: Tāme sastādīta atbilstoši finanšu piedāvajuma formai, saskaņā ar 27.05.2017. Ministru kabineta
A12: Noteikumiem Nr.239 "Noteikumi par Latvijas Būvnormatīvu LBN 501-17 "Būvizmaksu noteikšanas kartība"
A13: prasībām. Tāme norāda kopējo cenu, par kādu tiks veikti būvprojektam atbilstoši būvdarbi.
A16: Darbaspēka izmaksas
A18: Strādnieka vidēja stundu likme pieņemta, pamatojoties uz situāciju darba tirgū 2021.gadā - 11.63 euro/stundā, | B18: =9.38*160 -> 1500.8 | C18: EUR/mēn
A19: laika normas pieņemtas pēc BIK kataloga un pēc apakšuzņēmēju firmu finanšu piedāvajumiem
A20: Kopēja darbietilpība sastāda 3 046,76 cilvēk/stundas | B20: ='KOPS '!J28 -> 3046.76
A22: Materiālu izmaksas
A24: Materiāli izcenoti 2021. gada tirgus cenās
A27: *** SIA ''MB BETONS" - betons
A29: *** SIA ''BŪVNIECĪBAS NAMS KURŠI" - elektromontāžas materiāli
A35: Mehānismu izmaksas
A37: Mehānismu un iekārtu nomas pieņemtas pēc SIA ''Stats noma" piedāvājumiem.
A38: Nolietojums ietver dažādu instrumentu un sīku mehānismu amortizāciju.
A39: Piegādātāja iekārtas tāmes cenā ieskaitīta palaišana, regulēšana un tās apgūšana.
A41: Būvizmaksas ietver:
A43: *** virsizdevumi (t.sk. Darba aizsardzība) - 10% no tiešām izmaksām;
A44: *** peļņa - 5% no tiešām izmaksām;
A45: *** sociālais nodoklis - 23,59 % no darba algas;
... A53: Vadims LETKO 29/10/2021

Sheet PBK
D1: LBN 501-17, 3 pielikums
D4: APSTIPRINU
C6: (pasūtītāja paraksts un tā atsifrējums)
D8: Z.v.
D10: 2021.g
C13: BŪVNIECĪBAS KOPTĀME
B15: Būves nosaukums: | C15: FUTBOLA LAUKUMA APGAISMOJUMA MASTI
B16: Objekta nosaukums: | C16: ZEMGALAS OLIMPISKAIS CENTRS
B17: Būves adrese: | C17: KRONVALDA IELA 24, JELGAVA
B18: Pasūtītājs: | C18: SIA ''ZEMGALES OLIMPISKAIS CENTRS''
B19: Pasūtījuma Nr.: | C19: Nr. 01/02/2021
B20: Pretendents:
B24: Nr. P.k. | C24: Objekta nosaukums | D24: Objekta izmaksas (EURO)
B26: 1 | C26: =C15 -> FUTBOLA LAUKUMA APGAISMOJUMA MASTI | D26: ='KOPS '!F32 -> 275019.79
C28: Kopā: | D28: =SUM(D26:D27) -> 275019.79
B30: Finanšu rezerve neparedzētiem darbiem, 1 % | D30: =D26*0 -> 0 | E30: (PVN likums, p.142)
B31: Kopā ar finanšu rezerve neparedzētiem darbiem | D31: =D28+D30 -> 275019.79
B32: PVN 21% | D32: =D31*0.21 -> 57754.155
B33: Pavisam būvniecības izmaksas: | D33: =D32+D31 -> 332773.94
B36: Sastādija: | C36: Vadims ĻETKO | D36: 29_10_2021
C37: (paraksts un tā atšifrējums, datums)
C39: 20-6832
B41: Pārbaudīja: | C41: Vadims ĻETKO | D41: =D36 -> 29_10_2021
C42: (paraksts un tā atšifrējums, datums)
C44: 20-6832

Sheet KOPS 
H1: LBN 501-17, 6 pielikums
A2: Kopsavilkuma aprēķini pa darbu veidiem vai konstruktīvajiem elementiem
A3: (Darba veids vai konstruktīvā elementa nosaukums)
A5: Objekta nosaukums: | D5: =PBK!C15 -> FUTBOLA LAUKUMA APGAISMOJUMA MASTI
A6: Būves nosaukums: | D6: =PBK!C16 -> ZEMGALAS OLIMPISKAIS CENTRS
A7: Objekta adrese: | D7: =PBK!C17 -> KRONVALDA IELA 24, JELGAVA
A8: Pasūtītājs: | D8: =PBK!C18 -> SIA ''ZEMGALES OLIMPISKAIS CENTRS''
A9: Pasūtījuma Nr.: | D9: =PBK!C19 -> Nr. 01/02/2021
A10: Pretendents: | D10: =PBK!C20 -> 0
D12: Par kopejo summu, EUR | E12: =F32 -> 275019.79
D13: Kopējā darbietilpība, c/h | E13: =J28 -> 3046.76
D15: Tāme sastādīta 2021. gada | E15: 29. | F15: oktobrī
A17: Nr.p.k. | B17: Kods, tāmes Nr. | C17: Saisinājums | D17: Darba veids vai konstruktīvā elementa nosaukums | F17: Tāmes izmaksas (EUR) | G17: Tai skaitā | J17: Darbietilpība (c/h)
G18: darba alga (EUR) | H18: materiāli (EUR) | I18: mehānismi (EUR)
D19: 1. Būvdarbi
A20: 1 | B20: 1--1 | C20: BS | D20: BŪVLAUKUMA SAGATAVOŠANA UN UZTURĒŠANA | F20: =G20+H20+I20 -> 8472.61 | G20: =BS!M61 -> 1892.57 | H20: =BS!N61 -> 4216.26 | I20: =BS!O61 -> 2363.78 | J20: =BS!L61 -> 162.68
A21: 2 | B21: 1--2 | C21: ST 1 | D21: PAMATU IZBŪVE APGAISMOJUMA STABAM Nr.1 | F21: =G21+H21+I21 -> 14181.78 | G21: ='ST 1'!M71 -> 3872.84 | H21: ='ST 1'!N71 -> 3371.19 | I21: ='ST 1'!O71 -> 6937.75 | J21: ='ST 1'!L71 -> 332.99
A22: 3 | B22: 1--3 | C22: ST 2 | D22: PAMATU IZBŪVE APGAISMOJUMA STABAM Nr.2 | F22: =G22+H22+I22 -> 14181.78 | G22: ='ST 2'!M71 -> 3872.84 | H22: ='ST 2'!N71 -> 3371.19 | I22: ='ST 2'!O71 -> 6937.75 | J22: ='ST 2'!L71 -> 332.99
A23: 4 | B23: 1--4 | C23: ST 3 | D23: PAMATU IZBŪVE APGAISMOJUMA STABAM Nr.3 | F23: =G23+H23+I23 -> 15137.59 | G23: ='ST 3'!M71 -> 4147.96 | H23: ='ST 3'!N71 -> 3862.23 | I23: ='ST 3'!O71 -> 7127.4 | J23: ='ST 3'!L71 -> 356.65
A24: 5 | B24: 1--5 | C24: ST 4 | D24: PAMATU IZBŪVE APGAISMOJUMA STABAM Nr.4 | F24: =G24+H24+I24 -> 18480.13 | G24: ='ST 4'!M101 -> 5184.69 | H24: ='ST 4'!N101 -> 4900.92 | I24: ='ST 4'!O101 -> 8394.52 | J24: ='ST 4'!L101 -> 445.77
D25: 1. Būvdarbi
A26: 6 | B26: 2--1 | C26: EL | D26: ELEKTROMONTĀŽAS DARBI | F26: =G26+H26+I26 -> 168693.75 | G26: =EL!M72 -> 16459.87 | H26: =EL!N72 -> 151406.1 | I26: =EL!O72 -> 827.78 | J26: =EL!L72 -> 1415.68
F27: =G27+H27+I27 -> 0
F28: =SUM(F20:F27) -> 239147.64 | G28: =SUM(G20:G27) -> 35430.77 | H28: =SUM(H20:H27) -> 171127.89 | I28: =SUM(I20:I27) -> 32588.98 | J28: =SUM(J20:J27) -> 3046.76
A29: Virsizdevumi | E29: 0.1 | F29: =F28*E29 -> 23914.764
A30: t.sk.darba aizsardzība
A31: Peļņa | E31: 0.05 | F31: =E31*F28 -> 11957.382
A32: Pavisam kopā | F32: =F31+F30+F29+F28 -> 275019.79
A34: Sastādija: | D34: =PBK!C36 -> Vadims ĻETKO | F34: =PBK!D36 -> 29_10_2021
D35: (paraksts un tā atšifrējums, datums)
A36: Sertifikāta Nr.: | D36: =PBK!C39 -> 20-6832
A38: Parbaudīja: | D38: =PBK!C41 -> Vadims ĻETKO | F38: =F34 -> 29_10_2021
D39: (paraksts un tā atšifrējums, datums)
D41: =PBK!C44 -> 20-6832

Sheet BS
D1: LOKĀLĀ TĀME Nr. | I1: 1--1
C2: BŪVLAUKUMA SAGATAVOŠANA UN UZTURĒŠANA
C3: (Darba veids vai konstruktīvā elementa nosaukums)
A5: Būves nosaukums: | C5: =PBK!C15 -> FUTBOLA LAUKUMA APGAISMOJUMA MASTI
A6: Objekta nosaukums: | C6: =PBK!C16 -> ZEMGALAS OLIMPISKAIS CENTRS
A7: Objekta adrese: | C7: =PBK!C17 -> KRONVALDA IELA 24, JELGAVA
A8: Pasūtītājs: | C8: =PBK!C18 -> SIA ''ZEMGALES OLIMPISKAIS CENTRS''
A9: Pasūtījuma Nr.: | C9: =PBK!C19 -> Nr. 01/02/2021
A10: Pretendents: | C10: =PBK!C20 -> 0
A12: Tāme sastādīta 2021. gada tirgus cenās, pamatojoties uz TP DOP daļas rasējumiem | K12: Tāmes izmaksas: | N12: =P61 -> 8472.61 | P12: EUR
I14: Tāme sastādīta: | L14: 2021 | M14: gada | N14: ='KOPS '!E15 -> 29. | O14: ='KOPS '!F15 -> oktobrī
A16: Nr.p.k. | B16: Kods | C16: Darba nosaukums | D16: Mērvienība | E16: Daudzums | F16: Vienības izmaksas | L16: Kopā uz visu apjomu
F17: laika norma (c/h) | G17: darba samaksas likme (EUR/h) | H17: darba alga (EUR) | I17: būvistrādājumi (EUR) | J17: mehānismi (EUR) | K17: Kopā (EUR) | L17: darbietilpība (c/h) | M17: darba alga (EUR) | N17: būvistrādājumi (EUR) | O17: mehānismi (EUR) | P17: summa (EUR)
A18: 1 | B18: 2 | C18: 3 | D18: 4 | E18: 5 | F18: 6 | G18: 7 | H18: 8 | I18: 9 | J18: 10 | K18: 11 | L18: 12 | M18: 13 | N18: 14 | O18: 15 | P18: 16
C19: 1. BŪVLAUKUMA SAGATAVOŠANA
A20: 1 | B20: Līgumcena | C20: Pagaidu žoga ar vārtiem montāža, demontāža | D20: tek.m | E20: =4*(20) -> 80 | F20: 0.12 | G20: 11.63 | H20: =ROUND(F20*G20,2) -> 1.4 | J20: 0.06 | K20: =ROUND(H20+J20+I20,2) -> 1.46 | L20: =ROUND(E20*F20,2) -> 9.6 | M20: =ROUND(E20*H20,2) -> 112 | N20: =ROUND(E20*I20,2) -> 0 | O20: =ROUND(E20*J20,2) -> 4.8 | P20: =ROUND(O20+N20+M20,2) -> 116.8
A21: 2 | B21: Līgumcena | C21: Bio tualetes montāža, demontāža | D21: gab | E21: 1 | F21: 1 | G21: 11.63 | H21: =ROUND(F21*G21,2) -> 11.63 | J21: 0.54 | K21: =ROUND(H21+J21+I21,2) -> 12.17 | L21: =ROUND(E21*F21,2) -> 1 | M21: =ROUND(E21*H21,2) -> 11.63 | N21: =ROUND(E21*I21,2) -> 0 | O21: =ROUND(E21*J21,2) -> 0.54 | P21: =ROUND(O21+N21+M21,2) -> 12.17
A22: 3 | B22: Līgumcena | C22: Moduļa tipa konteinera montāža, demontāža | D22: gab | E22: 1 | F22: 1 | G22: 11.63 | H22: =ROUND(F22*G22,2) -> 11.63 | J22: 0.54 | K22: =ROUND(H22+J22+I22,2) -> 12.17 | L22: =ROUND(E22*F22,2) -> 1 | M22: =ROUND(E22*H22,2) -> 11.63 | N22: =ROUND(E22*I22,2) -> 0 | O22: =ROUND(E22*J22,2) -> 0.54 | P22: =ROUND(O22+N22+M22,2) -> 12.17
A23: 4 | B23: Līgumcena | C23: Būvtāfeles montāža | D23: gab | E23: 1 | F23: 1 | G23: 11.63 | H23: =ROUND(F23*G23,2) -> 11.63 | I23: 55 | J23: 0.54 | K23: =ROUND(H23+J23+I23,2) -> 67.17 | L23: =ROUND(E23*F23,2) -> 1 | M23: =ROUND(E23*H23,2) -> 11.63 | N23: =ROUND(E23*I23,2) -> 55 | O23: =ROUND(E23*J23,2) -> 0.54 | P23: =ROUND(O23+N23+M23,2) -> 67.17
A24: 5 | B24: Līgumcena | C24: Pagaidu EL sadalnes un tīklu izbūve | D24: kompl | E24: 1 | F24: 8 | G24: 11.63 | H24: =ROUND(F24*G24,2) -> 93.04 | I24: 64.46 | J24: 2.16 | K24: =ROUND(H24+J24+I24,2) -> 159.66 | L24: =ROUND(E24*F24,2) -> 8 | M24: =ROUND(E24*H24,2) -> 93.04 | N24: =ROUND(E24*I24,2) -> 64.46 | O24: =ROUND(E24*J24,2) -> 2.16 | P24: =ROUND(O24+N24+M24,2) -> 159.66
A25: 6 | B25: Līgumcena | C25: Beramo materiālu noliktavas izveide | D25: m2 | E25: 40 | F25: 0.15 | G25: 11.63 | H25: =ROUND(F25*G25,2) -> 1.74 | I25: =15*1.2*0.15 -> 2.7 | J25: 0.58 | K25: =ROUND(H25+J25+I25,2) -> 5.02 | L25: =ROUND(E25*F25,2) -> 6 | M25: =ROUND(E25*H25,2) -> 69.6 | N25: =ROUND(E25*I25,2) -> 108 | O25: =ROUND(E25*J25,2) -> 23.2 | P25: =ROUND(O25+N25+M25,2) -> 200.8
A26: 7 | B26: Līgumcena | C26: Citi būvlaukuma izveides darbi | D26: kompl | E26: 1 | F26: 4 | G26: 11.63 | H26: =ROUND(F26*G26,2) -> 46.52 | J26: 10 | K26: =ROUND(H26+J26+I26,2) -> 56.52 | L26: =ROUND(E26*F26,2) -> 4 | M26: =ROUND(E26*H26,2) -> 46.52 | N26: =ROUND(E26*I26,2) -> 0 | O26: =ROUND(E26*J26,2) -> 10 | P26: =ROUND(O26+N26+M26,2) -> 56.52
C27: 2. BŪVLAUKUMA UZTURĒŠANA
A28: 1 | B28: Līgumcena | C28: Bio tualetes apkalpošana 4 reizes mēnesī un noma | D28: mēn | E28: 3 | J28: 75 | K28: =ROUND(H28+J28+I28,2) -> 75 | L28: =ROUND(E28*F28,2) -> 0 | M28: =ROUND(E28*H28,2) -> 0 | N28: =ROUND(E28*I28,2) -> 0 | O28: =ROUND(E28*J28,2) -> 225 | P28: =ROUND(O28+N28+M28,2) -> 225
A29: 2 | B29: Līgumcena | C29: Moduļa tipa konteinera noma | D29: mēn | E29: =E28 -> 3 | J29: =120*E22 -> 120 | K29: =ROUND(H29+J29+I29,2) -> 120 | L29: =ROUND(E29*F29,2) -> 0 | M29: =ROUND(E29*H29,2) -> 0 | N29: =ROUND(E29*I29,2) -> 0 | O29: =ROUND(E29*J29,2) -> 360 | P29: =ROUND(O29+N29+M29,2) -> 360
A30: 3 | B30: Līgumcena | C30: Pagaidu žoga ar vārtiem noma | D30: mēn | E30: =E28 -> 3 | J30: =E20*1.1 -> 88 | K30: =ROUND(H30+J30+I30,2) -> 88 | L30: =ROUND(E30*F30,2) -> 0 | M30: =ROUND(E30*H30,2) -> 0 | N30: =ROUND(E30*I30,2) -> 0 | O30: =ROUND(E30*J30,2) -> 264 | P30: =ROUND(O30+N30+M30,2) -> 264
A31: 4 | B31: Līgumcena | C31: Elektrības izmaksas | D31: mēn | E31: =E28 -> 3 | J31: 45 | K31: =ROUND(H31+J31+I31,2) -> 45 | L31: =ROUND(E31*F31,2) -> 0 | M31: =ROUND(E31*H31,2) -> 0 | N31: =ROUND(E31*I31,2) -> 0 | O31: =ROUND(E31*J31,2) -> 135 | P31: =ROUND(O31+N31+M31,2) -> 135
A32: 5 | B32: Līgumcena | C32: Būvgružu konteineru īres, izvešanas un utilizācijas izmaksas | D32: mēn | E32: =E29 -> 3 | J32: 280 | K32: =ROUND(H32+J32+I32,2) -> 280 | L32: =ROUND(E32*F32,2) -> 0 | M32: =ROUND(E32*H32,2) -> 0 | N32: =ROUND(E32*I32,2) -> 0 | O32: =ROUND(E32*J32,2) -> 840 | P32: =ROUND(O32+N32+M32,2) -> 840
C33: 3. SAGATAVOŠANAS UN ATJAUNOŠANAS DARBI PIE APGAISMOJUMA STABA Nr.1
A34: 1 | B34: Līgumcena | C34: Esošā žoga demontāža un pēc būvdarbu pabeigšanas montāža atpakaļ (tanī skaitā bojāto elementu izbūve no jauna) | D34: tek.m | E34: 7.5 | F34: 1 | G34: 11.63 | H34: =ROUND(F34*G34,2) -> 11.63 | I34: 25 | K34: =ROUND(H34+J34+I34,2) -> 36.63 | L34: =ROUND(E34*F34,2) -> 7.5 | M34: =ROUND(E34*H34,2) -> 87.23 | N34: =ROUND(E34*I34,2) -> 187.5 | O34: =ROUND(E34*J34,2) -> 0 | P34: =ROUND(O34+N34+M34,2) -> 274.73
A35: 2 | B35: Līgumcena | C35: ELT kabeļu tranšejas darbu zonas norobežošana ar brīdinājuma lentām | D35: tek.m | E35: 96 | F35: 0.03 | G35: 11.63 | H35: =ROUND(F35*G35,2) -> 0.35 | I35: 0.25 | K35: =ROUND(H35+J35+I35,2) -> 0.6 | L35: =ROUND(E35*F35,2) -> 2.88 | M35: =ROUND(E35*H35,2) -> 33.6 | N35: =ROUND(E35*I35,2) -> 24 | O35: =ROUND(E35*J35,2) -> 0 | P35: =ROUND(O35+N35+M35,2) -> 57.6
A36: 3 | B36: Līgumcena | C36: Būvniecības darbu zonas norobežošana ar brīdinājuma lentām | D36: tek.m | E36: 60 | F36: 0.03 | G36: 11.63 | H36: =ROUND(F36*G36,2) -> 0.35 | I36: 0.25 | K36: =ROUND(H36+J36+I36,2) -> 0.6 | L36: =ROUND(E36*F36,2) -> 1.8 | M36: =ROUND(E36*H36,2) -> 21 | N36: =ROUND(E36*I36,2) -> 15 | O36: =ROUND(E36*J36,2) -> 0 | P36: =ROUND(O36+N36+M36,2) -> 36
A37: 4 | B37: Līgumcena | C37: Zālāja atjaunošana pēc pāļu urbšanas iekārtas demobilizācijas, ~600m2 (tanī skaitā pārvietošanās ceļš līdz apgaismes stabam Nr.4) | D37: kompl | E37: 1 | F37: 8 | G37: 11.63 | H37: =ROUND(F37*G37,2) -> 93.04 | I37: =275*1.74 -> 478.5 | J37: =100*0.15*36*0.1 -> 54 | K37: =ROUND(H37+J37+I37,2) -> 625.54 | L37: =ROUND(E37*F37,2) -> 8 | M37: =ROUND(E37*H37,2) -> 93.04 | N37: =ROUND(E37*I37,2) -> 478.5 | O37: =ROUND(E37*J37,2) -> 54 | P37: =ROUND(O37+N37+M37,2) -> 625.54
A38: 5 | B38: Līgumcena | C38: Betona bruģakmens atjaunošana pēc ELT kabeļa izbūves un urb.iekārtas.iebraukšanas darba zonā (tanī skaitā pēc pāļu urbšanas iekārtas pārvietošanas uz stabu Nr.4), ~80m2 | D38: kompl | E38: 1 | F38: 8 | G38: 11.63 | H38: =ROUND(F38*G38,2) -> 93.04 | I38: =375*1.74 -> 652.5 | J38: =100*0.15*36*0.1 -> 54 | K38: =ROUND(H38+J38+I38,2) -> 799.54 | L38: =ROUND(E38*F38,2) -> 8 | M38: =ROUND(E38*H38,2) -> 93.04 | N38: =ROUND(E38*I38,2) -> 652.5 | O38: =ROUND(E38*J38,2) -> 54 | P38: =ROUND(O38+N38+M38,2) -> 799.54
A39: 6 | B39: Līgumcena | C39: Citi būvlaukuma izveides darbi | D39: kompl | E39: 1 | F39: 4 | G39: 11.63 | H39: =ROUND(F39*G39,2) -> 46.52 | J39: 3 | K39: =ROUND(H39+J39+I39,2) -> 49.52 | L39: =ROUND(E39*F39,2) -> 4 | M39: =ROUND(E39*H39,2) -> 46.52 | N39: =ROUND(E39*I39,2) -> 0 | O39: =ROUND(E39*J39,2) -> 3 | P39: =ROUND(O39+N39+M39,2) -> 49.52
C40: 4. SAGATAVOŠANAS UN ATJAUNOŠANAS DARBI PIE APGAISMOJUMA STABA Nr.2
A41: 1 | B41: Līgumcena | C41: Būvniecības darbu zonas norobežošana ar brīdinājuma lentām | D41: tek.m | E41: 120 | F41: 0.03 | G41: 11.63 | H41: =ROUND(F41*G41,2) -> 0.35 | I41: 0.25 | K41: =ROUND(H41+J41+I41,2) -> 0.6 | L41: =ROUND(E41*F41,2) -> 3.6 | M41: =ROUND(E41*H41,2) -> 42 | N41: =ROUND(E41*I41,2) -> 30 | O41: =ROUND(E41*J41,2) -> 0 | P41: =ROUND(O41+N41+M41,2) -> 72
A42: 2 | B42: Līgumcena | C42: Zālāja atjaunošana pēc pāļu urbšanas iekārtas demobilizācijas, ~220m2 | D42: kompl | E42: 1 | F42: 8 | G42: 11.63 | H42: =ROUND(F42*G42,2) -> 93.04 | I42: =50*1.74 -> 87 | J42: =100*0.15*36*0.1 -> 54 | K42: =ROUND(H42+J42+I42,2) -> 234.04 | L42: =ROUND(E42*F42,2) -> 8 | M42: =ROUND(E42*H42,2) -> 93.04 | N42: =ROUND(E42*I42,2) -> 87 | O42: =ROUND(E42*J42,2) -> 54 | P42: =ROUND(O42+N42+M42,2) -> 234.04
A43: 3 | B43: Līgumcena | C43: Betona bruģakmens atjaunošana pēc pāļu urbšanas iekārtas demobilizācijas un ELT kabeļa izbūves, ~115m2 | D43: kompl | E43: 1 | F43: 8 | G43: 11.63 | H43: =ROUND(F43*G43,2) -> 93.04 | I43: =475*1.74 -> 826.5 | J43: =100*0.15*36*0.1 -> 54 | K43: =ROUND(H43+J43+I43,2) -> 973.54 | L43: =ROUND(E43*F43,2) -> 8 | M43: =ROUND(E43*H43,2) -> 93.04 | N43: =ROUND(E43*I43,2) -> 826.5 | O43: =ROUND(E43*J43,2) -> 54 | P43: =ROUND(O43+N43+M43,2) -> 973.54
A44: 4 | B44: Līgumcena | C44: Citi būvlaukuma izveides darbi | D44: kompl | E44: 1 | F44: 4 | G44: 11.63 | H44: =ROUND(F44*G44,2) -> 46.52 | J44: 3 | K44: =ROUND(H44+J44+I44,2) -> 49.52 | L44: =ROUND(E44*F44,2) -> 4 | M44: =ROUND(E44*H44,2) -> 46.52 | N44: =ROUND(E44*I44,2) -> 0 | O44: =ROUND(E44*J44,2) -> 3 | P44: =ROUND(O44+N44+M44,2) -> 49.52
...

Sheet ST 1
L1: LBN 501-17, 5 pielikums
D2: LOKĀLĀ TĀME Nr. | I2: 1--2
C3: PAMATU IZBŪVE APGAISMOJUMA STABAM Nr.1
C4: (Darba veids vai konstruktīvā elementa nosaukums)
A6: Būves nosaukums: | C6: =PBK!C15 -> FUTBOLA LAUKUMA APGAISMOJUMA MASTI
A7: Objekta nosaukums: | C7: =PBK!C16 -> ZEMGALAS OLIMPISKAIS CENTRS
A8: Objekta adrese: | C8: =PBK!C17 -> KRONVALDA IELA 24, JELGAVA
A9: Pasūtītājs: | C9: =PBK!C18 -> SIA ''ZEMGALES OLIMPISKAIS CENTRS''
A10: Pasūtījuma Nr.: | C10: =PBK!C19 -> Nr. 01/02/2021
A11: Pretendents: | C11: =PBK!C20 -> 0
A13: Tāme sastādīta 2021. gada tirgus cenās, pamatojoties uz BK daļas rasējumiem | K13: Tāmes izmaksas: | N13: =P71 -> 14181.78 | P13: EUR
I15: Tāme sastādīta: | L15: 2021 | M15: gada | N15: ='KOPS '!E15 -> 29. | O15: ='KOPS '!F15 -> oktobrī
A17: Nr.p.k. | B17: Kods | C17: Darba nosaukums | D17: Mērvienība | E17: Daudzums | F17: Vienības izmaksas | L17: Kopā uz visu apjomu
F18: laika norma (c/h) | G18: darba samaksas likme (EUR/h) | H18: darba alga (EUR) | I18: būvistrādājumi (EUR) | J18: mehānismi (EUR) | K18: Kopā (EUR) | L18: darbietilpība (c/h) | M18: darba alga (EUR) | N18: būvistrādājumi (EUR) | O18: mehānismi (EUR) | P18: summa (EUR)
A19: 1 | B19: 2 | C19: 3 | D19: 4 | E19: 5 | F19: 6 | G19: 7 | H19: 8 | I19: 9 | J19: 10 | K19: 11 | L19: 12 | M19: 13 | N19: 14 | O19: 15 | P19: 16
C20: 1. ZEMES DARBI
A21: 1 | B21: Līgumcena | C21: Pamatu gabarītu un būvasu nospraušana pēc koordinātām | D21: kompl | E21: 1 | F21: 8 | G21: 11.63 | H21: =ROUND(F21*G21,2) -> 93.04 | J21: 80 | K21: =ROUND(H21+J21+I21,2) -> 173.04 | L21: =ROUND(E21*F21,2) -> 8 | M21: =ROUND(E21*H21,2) -> 93.04 | N21: =ROUND(E21*I21,2) -> 0 | O21: =ROUND(E21*J21,2) -> 80 | P21: =ROUND(O21+N21+M21,2) -> 173.04 | Q21: augsnes, atvešana, zālāja iesēšana?! It kā kaut kāds apjoms norādīts pie BS, bet ne detalizēts. Kaut kā jāpieraksta, ka augsne vedama atpakaļ?!
A22: 2 | B22: Līgumcena | C22: Koka konstrukcija būvasu atzīmēšanai | D22: kompl | E22: 1 | F22: 4 | G22: 11.63 | H22: =ROUND(F22*G22,2) -> 46.52 | I22: 20 | J22: 0.5 | K22: =ROUND(H22+J22+I22,2) -> 67.02 | L22: =ROUND(E22*F22,2) -> 4 | M22: =ROUND(E22*H22,2) -> 46.52 | N22: =ROUND(E22*I22,2) -> 20 | O22: =ROUND(E22*J22,2) -> 0.5 | P22: =ROUND(O22+N22+M22,2) -> 67.02
A23: 3 | B23: Līgumcena | C23: Augsnes kārtas 400 mm noņemšana | D23: m2 | E23: =5*5 -> 25 | F23: =0.15*0.4 -> 0.06 | G23: 11.63 | H23: =ROUND(F23*G23,2) -> 0.7 | J23: =4.5*0.4 -> 1.8 | K23: =ROUND(H23+J23+I23,2) -> 2.5 | L23: =ROUND(E23*F23,2) -> 1.5 | M23: =ROUND(E23*H23,2) -> 17.5 | N23: =ROUND(E23*I23,2) -> 0 | O23: =ROUND(E23*J23,2) -> 45 | P23: =ROUND(O23+N23+M23,2) -> 62.5
A24: 4 | B24: Līgumcena | C24: Augsnes kārtas transportēšana līdz 10 km | D24: m3 | E24: =E23*0.4 -> 10 | J24: 4.5 | K24: =ROUND(H24+J24+I24,2) -> 4.5 | L24: =ROUND(E24*F24,2) -> 0 | M24: =ROUND(E24*H24,2) -> 0 | N24: =ROUND(E24*I24,2) -> 0 | O24: =ROUND(E24*J24,2) -> 45 | P24: =ROUND(O24+N24+M24,2) -> 45
A25: 5 | B25: Līgumcena | C25: Pamatu rakšana (mehanizēti) | D25: m3 | E25: =5*5*0.8 -> 20 | F25: 0.15 | G25: 11.63 | H25: =ROUND(F25*G25,2) -> 1.74 | J25: 4.5 | K25: =ROUND(H25+J25+I25,2) -> 6.24 | L25: =ROUND(E25*F25,2) -> 3 | M25: =ROUND(E25*H25,2) -> 34.8 | N25: =ROUND(E25*I25,2) -> 0 | O25: =ROUND(E25*J25,2) -> 90 | P25: =ROUND(O25+N25+M25,2) -> 124.8
A26: 6 | B26: Līgumcena | C26: Pamatu rakšana (roku darbs), 3% | D26: m3 | E26: =E25*0.03 -> 0.6 | F26: 2 | G26: 11.63 | H26: =ROUND(F26*G26,2) -> 23.26 | K26: =ROUND(H26+J26+I26,2) -> 23.26 | L26: =ROUND(E26*F26,2) -> 1.2 | M26: =ROUND(E26*H26,2) -> 13.96 | N26: =ROUND(E26*I26,2) -> 0 | O26: =ROUND(E26*J26,2) -> 0 | P26: =ROUND(O26+N26+M26,2) -> 13.96
A27: 7 | B27: Līgumcena | C27: Nederīgas grunts transportēšana līdz 10 km | D27: m3 | E27: =E25+E26 -> 20.6 | J27: =J24 -> 4.5 | K27: =ROUND(H27+J27+I27,2) -> 4.5 | L27: =ROUND(E27*F27,2) -> 0 | M27: =ROUND(E27*H27,2) -> 0 | N27: =ROUND(E27*I27,2) -> 0 | O27: =ROUND(E27*J27,2) -> 92.7 | P27: =ROUND(O27+N27+M27,2) -> 92.7
A28: 8 | B28: Līgumcena | C28: Grunts pamatnes līdzināšana, blietēšana | D28: m2 | E28: =E23 -> 25 | F28: 0.05 | G28: 11.63 | H28: =ROUND(F28*G28,2) -> 0.58 | J28: =H28 -> 0.58 | K28: =ROUND(H28+J28+I28,2) -> 1.16 | L28: =ROUND(E28*F28,2) -> 1.25 | M28: =ROUND(E28*H28,2) -> 14.5 | N28: =ROUND(E28*I28,2) -> 0 | O28: =ROUND(E28*J28,2) -> 14.5 | P28: =ROUND(O28+N28+M28,2) -> 29
A29: 9 | B29: Līgumcena | C29: Būvbedres aizbēršana ar pievesto smilti, blietējot pa kārtām | D29: m3 | E29: =E24+E27-3*3*0.6-0.405*3.14*0.625*0.625 -> 24.703242 | F29: =F25*2 -> 0.3 | G29: 11.63 | H29: =ROUND(F29*G29,2) -> 3.49 | J29: =J25 -> 4.5 | K29: =ROUND(H29+J29+I29,2) -> 7.99 | L29: =ROUND(E29*F29,2) -> 7.41 | M29: =ROUND(E29*H29,2) -> 86.21 | N29: =ROUND(E29*I29,2) -> 0 | O29: =ROUND(E29*J29,2) -> 111.16 | P29: =ROUND(O29+N29+M29,2) -> 197.37
A30: 10 | C30: Smilts ar piegādi | D30: m2 | E30: =E25 -> 20 | I30: 8 | K30: =ROUND(H30+J30+I30,2) -> 8 | L30: =ROUND(E30*F30,2) -> 0 | M30: =ROUND(E30*H30,2) -> 0 | N30: =ROUND(E30*I30,2) -> 160 | O30: =ROUND(E30*J30,2) -> 0 | P30: =ROUND(O30+N30+M30,2) -> 160
C31: 2. PĀĻU MONTĀŽA
A32: 1 | B32: Līgumcena | C32: Pāļu montāžas iekārtas mobilizācija un demobilizācija | D32: kompl | E32: 1 | F32: 80 | G32: 11.63 | H32: =ROUND(F32*G32,2) -> 930.4 | J32: 1750 | K32: =ROUND(H32+J32+I32,2) -> 2680.4 | L32: =ROUND(E32*F32,2) -> 80 | M32: =ROUND(E32*H32,2) -> 930.4 | N32: =ROUND(E32*I32,2) -> 0 | O32: =ROUND(E32*J32,2) -> 1750 | P32: =ROUND(O32+N32+M32,2) -> 2680.4
A33: 2 | B33: Līgumcena | C33: Pāļu dzSP-1, L=8480 mm, d=300 mm montāža | D33: gab | E33: 4 | F33: 16 | G33: 11.63 | H33: =ROUND(F33*G33,2) -> 186.08 | J33: =8.5*45 -> 382.5 | K33: =ROUND(H33+J33+I33,2) -> 568.58 | L33: =ROUND(E33*F33,2) -> 64 | M33: =ROUND(E33*H33,2) -> 744.32 | N33: =ROUND(E33*I33,2) -> 0 | O33: =ROUND(E33*J33,2) -> 1530 | P33: =ROUND(O33+N33+M33,2) -> 2274.32
A34: 3 | C34: Betons C30/37 XC2 XF1 | D34: m3 | E34: =E33*8.48*3.14*0.15*0.15*1.1 -> 2.6360928 | I34: 85 | J34: =90*0.25 -> 22.5 | K34: =ROUND(H34+J34+I34,2) -> 107.5 | L34: =ROUND(E34*F34,2) -> 0 | M34: =ROUND(E34*H34,2) -> 0 | N34: =ROUND(E34*I34,2) -> 224.07 | O34: =ROUND(E34*J34,2) -> 59.31 | P34: =ROUND(O34+N34+M34,2) -> 283.38
A35: 4 | C35: Armatūra B500B, dažādi diametri | D35: t | E35: =E33*96.1*1.15/1000 -> 0.44206 | I35: 990 | K35: =ROUND(H35+J35+I35,2) -> 990 | L35: =ROUND(E35*F35,2) -> 0 | M35: =ROUND(E35*H35,2) -> 0 | N35: =ROUND(E35*I35,2) -> 437.64 | O35: =ROUND(E35*J35,2) -> 0 | P35: =ROUND(O35+N35+M35,2) -> 437.64
A36: 5 | C36: Betona piegāde | D36: reiss | E36: =ROUND(E34/7,2) -> 0.38 | J36: 65 | K36: =ROUND(H36+J36+I36,2) -> 65 | L36: =ROUND(E36*F36,2) -> 0 | M36: =ROUND(E36*H36,2) -> 0 | N36: =ROUND(E36*I36,2) -> 0 | O36: =ROUND(E36*J36,2) -> 24.7 | P36: =ROUND(O36+N36+M36,2) -> 24.7
A37: 6 | C37: Betona sūknis | D37: m/st | E37: =ROUND(E34/3,2) -> 0.88 | J37: 90 | K37: =ROUND(H37+J37+I37,2) -> 90 | L37: =ROUND(E37*F37,2) -> 0 | M37: =ROUND(E37*H37,2) -> 0 | N37: =ROUND(E37*I37,2) -> 0 | O37: =ROUND(E37*J37,2) -> 79.2 | P37: =ROUND(O37+N37+M37,2) -> 79.2
A38: 7 | B38: Līgumcena | C38: Pāļu statiskā pārbaude | D38: gab | E38: 1 | F38: 16 | G38: 11.63 | H38: =ROUND(F38*G38,2) -> 186.08 | I38: 200 | J38: 1450 | K38: =ROUND(H38+J38+I38,2) -> 1836.08 | L38: =ROUND(E38*F38,2) -> 16 | M38: =ROUND(E38*H38,2) -> 186.08 | N38: =ROUND(E38*I38,2) -> 200 | O38: =ROUND(E38*J38,2) -> 1450 | P38: =ROUND(O38+N38+M38,2) -> 1836.08
C39: 3. REŽĢOGA dzPR-1 BETONĒŠANA
A40: 1 | B40: Līgumcena | C40: Šķembu kārtas piebēršana ar blietēšanu, 200 mm | D40: m2 | E40: =4*4 -> 16 | F40: 0.2 | G40: 11.63 | H40: =ROUND(F40*G40,2) -> 2.33 | J40: =4.5*0.2 -> 0.9 | K40: =ROUND(H40+J40+I40,2) -> 3.23 | L40: =ROUND(E40*F40,2) -> 3.2 | M40: =ROUND(E40*H40,2) -> 37.28 | N40: =ROUND(E40*I40,2) -> 0 | O40: =ROUND(E40*J40,2) -> 14.4 | P40: =ROUND(O40+N40+M40,2) -> 51.68
A41: 2 | C41: Šķembas ar piegādi | D41: m3 | E41: =E40*0.2*1.3 -> 4.16 | I41: 18 | L41: =ROUND(E41*F41,2) -> 0 | M41: =ROUND(E41*H41,2) -> 0 | N41: =ROUND(E41*I41,2) -> 74.88 | O41: =ROUND(E41*J41,2) -> 0 | P41: =ROUND(O41+N41+M41,2) -> 74.88
A42: 3 | B42: Līgumcena | C42: Hidroizolācijas kārtas ieklāšana (sagataves kārtai un pamatiem) | D42: m2 | E42: =E40*2 -> 32 | F42: 0.03 | G42: 11.63 | H42: =ROUND(F42*G42,2) -> 0.35 | K42: =ROUND(H42+J42+I42,2) -> 0.35 | L42: =ROUND(E42*F42,2) -> 0.96 | M42: =ROUND(E42*H42,2) -> 11.2 | N42: =ROUND(E42*I42,2) -> 0 | O42: =ROUND(E42*J42,2) -> 0 | P42: =ROUND(O42+N42+M42,2) -> 11.2
A43: 4 | C43: PVC plēve | D43: m2 | E43: =E42*1.15 -> 36.8 | I43: 0.45 | L43: =ROUND(E43*F43,2) -> 0 | M43: =ROUND(E43*H43,2) -> 0 | N43: =ROUND(E43*I43,2) -> 16.56 | O43: =ROUND(E43*J43,2) -> 0 | P43: =ROUND(O43+N43+M43,2) -> 16.56
A44: 5 | B44: Līgumcena | C44: Betona sagataves kārtas izveide zem režģoga | D44: m3 | E44: =3.3*3.3*0.1 -> 1.089 | F44: 6 | G44: 11.63 | H44: =ROUND(F44*G44,2) -> 69.78 | J44: 2.5 | K44: =ROUND(H44+J44+I44,2) -> 72.28 | L44: =ROUND(E44*F44,2) -> 6.53 | M44: =ROUND(E44*H44,2) -> 75.99 | N44: =ROUND(E44*I44,2) -> 0 | O44: =ROUND(E44*J44,2) -> 2.72 | P44: =ROUND(O44+N44+M44,2) -> 78.71
...

Sheet ST 2
L1: LBN 501-17, 5 pielikums
D2: LOKĀLĀ TĀME Nr. | I2: 1--3
C3: PAMATU IZBŪVE APGAISMOJUMA STABAM Nr.2
C4: (Darba veids vai konstruktīvā elementa nosaukums)
A6: Būves nosaukums: | C6: =PBK!C15 -> FUTBOLA LAUKUMA APGAISMOJUMA MASTI
A7: Objekta nosaukums: | C7: =PBK!C16 -> ZEMGALAS OLIMPISKAIS CENTRS
A8: Objekta adrese: | C8: =PBK!C17 -> KRONVALDA IELA 24, JELGAVA
A9: Pasūtītājs: | C9: =PBK!C18 -> SIA ''ZEMGALES OLIMPISKAIS CENTRS''
A10: Pasūtījuma Nr.: | C10: =PBK!C19 -> Nr. 01/02/2021
A11: Pretendents: | C11: =PBK!C20 -> 0
A13: Tāme sastādīta 2021. gada tirgus cenās, pamatojoties uz BK daļas rasējumiem | K13: Tāmes izmaksas: | N13: =P71 -> 14181.78 | P13: EUR
I15: Tāme sastādīta: | L15: 2021 | M15: gada | N15: ='KOPS '!E15 -> 29. | O15: ='KOPS '!F15 -> oktobrī
A17: Nr.p.k. | B17: Kods | C17: Darba nosaukums | D17: Mērvienība | E17: Daudzums | F17: Vienības izmaksas | L17: Kopā uz visu apjomu
F18: laika norma (c/h) | G18: darba samaksas likme (EUR/h) | H18: darba alga (EUR) | I18: būvistrādājumi (EUR) | J18: mehānismi (EUR) | K18: Kopā (EUR) | L18: darbietilpība (c/h) | M18: darba alga (EUR) | N18: būvistrādājumi (EUR) | O18: mehānismi (EUR) | P18: summa (EUR)
A19: 1 | B19: 2 | C19: 3 | D19: 4 | E19: 5 | F19: 6 | G19: 7 | H19: 8 | I19: 9 | J19: 10 | K19: 11 | L19: 12 | M19: 13 | N19: 14 | O19: 15 | P19: 16
C20: 1. ZEMES DARBI
A21: 1 | B21: Līgumcena | C21: Pamatu gabarītu un būvasu nospraušana pēc koordinātām | D21: kompl | E21: 1 | F21: 8 | G21: 11.63 | H21: =ROUND(F21*G21,2) -> 93.04 | J21: 80 | K21: =ROUND(H21+J21+I21,2) -> 173.04 | L21: =ROUND(E21*F21,2) -> 8 | M21: =ROUND(E21*H21,2) -> 93.04 | N21: =ROUND(E21*I21,2) -> 0 | O21: =ROUND(E21*J21,2) -> 80 | P21: =ROUND(O21+N21+M21,2) -> 173.04
A22: 2 | B22: Līgumcena | C22: Koka konstrukcija būvasu atzīmēšanai | D22: kompl | E22: 1 | F22: 4 | G22: 11.63 | H22: =ROUND(F22*G22,2) -> 46.52 | I22: 20 | J22: 0.5 | K22: =ROUND(H22+J22+I22,2) -> 67.02 | L22: =ROUND(E22*F22,2) -> 4 | M22: =ROUND(E22*H22,2) -> 46.52 | N22: =ROUND(E22*I22,2) -> 20 | O22: =ROUND(E22*J22,2) -> 0.5 | P22: =ROUND(O22+N22+M22,2) -> 67.02
A23: 3 | B23: Līgumcena | C23: Augsnes kārtas 400 mm noņemšana | D23: m2 | E23: =5*5 -> 25 | F23: =0.15*0.4 -> 0.06 | G23: 11.63 | H23: =ROUND(F23*G23,2) -> 0.7 | J23: =4.5*0.4 -> 1.8 | K23: =ROUND(H23+J23+I23,2) -> 2.5 | L23: =ROUND(E23*F23,2) -> 1.5 | M23: =ROUND(E23*H23,2) -> 17.5 | N23: =ROUND(E23*I23,2) -> 0 | O23: =ROUND(E23*J23,2) -> 45 | P23: =ROUND(O23+N23+M23,2) -> 62.5
A24: 4 | B24: Līgumcena | C24: Augsnes kārtas transportēšana līdz 10 km | D24: m3 | E24: =E23*0.4 -> 10 | J24: 4.5 | K24: =ROUND(H24+J24+I24,2) -> 4.5 | L24: =ROUND(E24*F24,2) -> 0 | M24: =ROUND(E24*H24,2) -> 0 | N24: =ROUND(E24*I24,2) -> 0 | O24: =ROUND(E24*J24,2) -> 45 | P24: =ROUND(O24+N24+M24,2) -> 45
A25: 5 | B25: Līgumcena | C25: Pamatu rakšana (mehanizēti) | D25: m3 | E25: =5*5*0.8 -> 20 | F25: 0.15 | G25: 11.63 | H25: =ROUND(F25*G25,2) -> 1.74 | J25: 4.5 | K25: =ROUND(H25+J25+I25,2) -> 6.24 | L25: =ROUND(E25*F25,2) -> 3 | M25: =ROUND(E25*H25,2) -> 34.8 | N25: =ROUND(E25*I25,2) -> 0 | O25: =ROUND(E25*J25,2) -> 90 | P25: =ROUND(O25+N25+M25,2) -> 124.8
A26: 6 | B26: Līgumcena | C26: Pamatu rakšana (roku darbs), 3% | D26: m3 | E26: =E25*0.03 -> 0.6 | F26: 2 | G26: 11.63 | H26: =ROUND(F26*G26,2) -> 23.26 | K26: =ROUND(H26+J26+I26,2) -> 23.26 | L26: =ROUND(E26*F26,2) -> 1.2 | M26: =ROUND(E26*H26,2) -> 13.96 | N26: =ROUND(E26*I26,2) -> 0 | O26: =ROUND(E26*J26,2) -> 0 | P26: =ROUND(O26+N26+M26,2) -> 13.96
A27: 7 | B27: Līgumcena | C27: Nederīgas grunts transportēšana līdz 10 km | D27: m3 | E27: =E25+E26 -> 20.6 | J27: =J24 -> 4.5 | K27: =ROUND(H27+J27+I27,2) -> 4.5 | L27: =ROUND(E27*F27,2) -> 0 | M27: =ROUND(E27*H27,2) -> 0 | N27: =ROUND(E27*I27,2) -> 0 | O27: =ROUND(E27*J27,2) -> 92.7 | P27: =ROUND(O27+N27+M27,2) -> 92.7
A28: 8 | B28: Līgumcena | C28: Grunts pamatnes līdzināšana, blietēšana | D28: m2 | E28: =E23 -> 25 | F28: 0.05 | G28: 11.63 | H28: =ROUND(F28*G28,2) -> 0.58 | J28: =H28 -> 0.58 | K28: =ROUND(H28+J28+I28,2) -> 1.16 | L28: =ROUND(E28*F28,2) -> 1.25 | M28: =ROUND(E28*H28,2) -> 14.5 | N28: =ROUND(E28*I28,2) -> 0 | O28: =ROUND(E28*J28,2) -> 14.5 | P28: =ROUND(O28+N28+M28,2) -> 29
A29: 9 | B29: Līgumcena | C29: Būvbedres aizberšana ar pievesto smilti, blietējot pa kārtām | D29: m3 | E29: =E24+E27-3*3*0.6-0.405*3.14*0.625*0.625 -> 24.703242 | F29: =F25*2 -> 0.3 | G29: 11.63 | H29: =ROUND(F29*G29,2) -> 3.49 | J29: =J25 -> 4.5 | K29: =ROUND(H29+J29+I29,2) -> 7.99 | L29: =ROUND(E29*F29,2) -> 7.41 | M29: =ROUND(E29*H29,2) -> 86.21 | N29: =ROUND(E29*I29,2) -> 0 | O29: =ROUND(E29*J29,2) -> 111.16 | P29: =ROUND(O29+N29+M29,2) -> 197.37
A30: 10 | C30: Smilts ar piegādi | D30: m2 | E30: =E25 -> 20 | I30: 8 | K30: =ROUND(H30+J30+I30,2) -> 8 | L30: =ROUND(E30*F30,2) -> 0 | M30: =ROUND(E30*H30,2) -> 0 | N30: =ROUND(E30*I30,2) -> 160 | O30: =ROUND(E30*J30,2) -> 0 | P30: =ROUND(O30+N30+M30,2) -> 160
C31: 2. PĀĻU MONTĀŽA
A32: 1 | B32: Līgumcena | C32: Pāļu montāžas iekārtas mobilizācija un demobilizācija | D32: kompl | E32: 1 | F32: 80 | G32: 11.63 | H32: =ROUND(F32*G32,2) -> 930.4 | J32: 1750 | K32: =ROUND(H32+J32+I32,2) -> 2680.4 | L32: =ROUND(E32*F32,2) -> 80 | M32: =ROUND(E32*H32,2) -> 930.4 | N32: =ROUND(E32*I32,2) -> 0 | O32: =ROUND(E32*J32,2) -> 1750 | P32: =ROUND(O32+N32+M32,2) -> 2680.4
A33: 2 | B33: Līgumcena | C33: Pāļu dzSP-1, L=8480 mm, d=300 mm montāža | D33: gab | E33: 4 | F33: 16 | G33: 11.63 | H33: =ROUND(F33*G33,2) -> 186.08 | J33: =8.5*45 -> 382.5 | K33: =ROUND(H33+J33+I33,2) -> 568.58 | L33: =ROUND(E33*F33,2) -> 64 | M33: =ROUND(E33*H33,2) -> 744.32 | N33: =ROUND(E33*I33,2) -> 0 | O33: =ROUND(E33*J33,2) -> 1530 | P33: =ROUND(O33+N33+M33,2) -> 2274.32
A34: 3 | C34: Betons C30/37 XC2 XF1 | D34: m3 | E34: =E33*8.48*3.14*0.15*0.15*1.1 -> 2.6360928 | I34: 85 | J34: =90*0.25 -> 22.5 | K34: =ROUND(H34+J34+I34,2) -> 107.5 | L34: =ROUND(E34*F34,2) -> 0 | M34: =ROUND(E34*H34,2) -> 0 | N34: =ROUND(E34*I34,2) -> 224.07 | O34: =ROUND(E34*J34,2) -> 59.31 | P34: =ROUND(O34+N34+M34,2) -> 283.38
A35: 4 | C35: Armatūra B500B, dažādi diametri | D35: t | E35: =E33*96.1*1.15/1000 -> 0.44206 | I35: 990 | K35: =ROUND(H35+J35+I35,2) -> 990 | L35: =ROUND(E35*F35,2) -> 0 | M35: =ROUND(E35*H35,2) -> 0 | N35: =ROUND(E35*I35,2) -> 437.64 | O35: =ROUND(E35*J35,2) -> 0 | P35: =ROUND(O35+N35+M35,2) -> 437.64
A36: 5 | C36: Betona piegāde | D36: reiss | E36: =ROUND(E34/7,2) -> 0.38 | J36: 65 | K36: =ROUND(H36+J36+I36,2) -> 65 | L36: =ROUND(E36*F36,2) -> 0 | M36: =ROUND(E36*H36,2) -> 0 | N36: =ROUND(E36*I36,2) -> 0 | O36: =ROUND(E36*J36,2) -> 24.7 | P36: =ROUND(O36+N36+M36,2) -> 24.7
A37: 6 | C37: Betona sūknis | D37: m/st | E37: =ROUND(E34/3,2) -> 0.88 | J37: 90 | K37: =ROUND(H37+J37+I37,2) -> 90 | L37: =ROUND(E37*F37,2) -> 0 | M37: =ROUND(E37*H37,2) -> 0 | N37: =ROUND(E37*I37,2) -> 0 | O37: =ROUND(E37*J37,2) -> 79.2 | P37: =ROUND(O37+N37+M37,2) -> 79.2
A38: 7 | B38: Līgumcena | C38: Pāļu statiskā pārbaude | D38: gab | E38: 1 | F38: 16 | G38: 11.63 | H38: =ROUND(F38*G38,2) -> 186.08 | I38: 200 | J38: 1450 | K38: =ROUND(H38+J38+I38,2) -> 1836.08 | L38: =ROUND(E38*F38,2) -> 16 | M38: =ROUND(E38*H38,2) -> 186.08 | N38: =ROUND(E38*I38,2) -> 200 | O38: =ROUND(E38*J38,2) -> 1450 | P38: =ROUND(O38+N38+M38,2) -> 1836.08
C39: 3. REŽĢOGA dzPR-1 BETONĒŠANA
A40: 1 | B40: Līgumcena | C40: Šķembu kārtas pieberšana ar blietēšanu, 200 mm | D40: m2 | E40: =4*4 -> 16 | F40: 0.2 | G40: 11.63 | H40: =ROUND(F40*G40,2) -> 2.33 | J40: =4.5*0.2 -> 0.9 | K40: =ROUND(H40+J40+I40,2) -> 3.23 | L40: =ROUND(E40*F40,2) -> 3.2 | M40: =ROUND(E40*H40,2) -> 37.28 | N40: =ROUND(E40*I40,2) -> 0 | O40: =ROUND(E40*J40,2) -> 14.4 | P40: =ROUND(O40+N40+M40,2) -> 51.68
A41: 2 | C41: Šķembas ar piegādi | D41: m3 | E41: =E40*0.2*1.3 -> 4.16 | I41: 18 | L41: =ROUND(E41*F41,2) -> 0 | M41: =ROUND(E41*H41,2) -> 0 | N41: =ROUND(E41*I41,2) -> 74.88 | O41: =ROUND(E41*J41,2) -> 0 | P41: =ROUND(O41+N41+M41,2) -> 74.88
A42: 3 | B42: Līgumcena | C42: Hidroizolācijas kārtas ieklāšana (sagataves kārtai un pamatiem) | D42: m2 | E42: =E40*2 -> 32 | F42: 0.03 | G42: 11.63 | H42: =ROUND(F42*G42,2) -> 0.35 | K42: =ROUND(H42+J42+I42,2) -> 0.35 | L42: =ROUND(E42*F42,2) -> 0.96 | M42: =ROUND(E42*H42,2) -> 11.2 | N42: =ROUND(E42*I42,2) -> 0 | O42: =ROUND(E42*J42,2) -> 0 | P42: =ROUND(O42+N42+M42,2) -> 11.2
A43: 4 | C43: PVC plēve | D43: m2 | E43: =E42*1.15 -> 36.8 | I43: 0.45 | L43: =ROUND(E43*F43,2) -> 0 | M43: =ROUND(E43*H43,2) -> 0 | N43: =ROUND(E43*I43,2) -> 16.56 | O43: =ROUND(E43*J43,2) -> 0 | P43: =ROUND(O43+N43+M43,2) -> 16.56
A44: 5 | B44: Līgumcena | C44: Betona sagataves kārtas izveide zem režģoga | D44: m3 | E44: =3.3*3.3*0.1 -> 1.089 | F44: 6 | G44: 11.63 | H44: =ROUND(F44*G44,2) -> 69.78 | J44: 2.5 | K44: =ROUND(H44+J44+I44,2) -> 72.28 | L44: =ROUND(E44*F44,2) -> 6.53 | M44: =ROUND(E44*H44,2) -> 75.99 | N44: =ROUND(E44*I44,2) -> 0 | O44: =ROUND(E44*J44,2) -> 2.72 | P44: =ROUND(O44+N44+M44,2) -> 78.71
...

Sheet ST 3
L1: LBN 501-17, 5 pielikums
D2: LOKĀLĀ TĀME Nr. | I2: 1--4
C3: PAMATU IZBŪVE APGAISMOJUMA STABAM Nr.3
C4: (Darba veids vai konstruktīvā elementa nosaukums)
A6: Būves nosaukums: | C6: =PBK!C15 -> FUTBOLA LAUKUMA APGAISMOJUMA MASTI
A7: Objekta nosaukums: | C7: =PBK!C16 -> ZEMGALAS OLIMPISKAIS CENTRS
A8: Objekta adrese: | C8: =PBK!C17 -> KRONVALDA IELA 24, JELGAVA
A9: Pasūtītājs: | C9: =PBK!C18 -> SIA ''ZEMGALES OLIMPISKAIS CENTRS''
A10: Pasūtījuma Nr.: | C10: =PBK!C19 -> Nr. 01/02/2021
A11: Pretendents: | C11: =PBK!C20 -> 0
A13: Tāme sastādīta 2021. gada tirgus cenās, pamatojoties uz BK daļas rasējumiem | K13: Tāmes izmaksas: | N13: =P71 -> 15137.59 | P13: EUR
I15: Tāme sastādīta: | L15: 2021 | M15: gada | N15: ='KOPS '!E15 -> 29. | O15: ='KOPS '!F15 -> oktobrī
A17: Nr.p.k. | B17: Kods | C17: Darba nosaukums | D17: Mērvienība | E17: Daudzums | F17: Vienības izmaksas | L17: Kopā uz visu apjomu
F18: laika norma (c/h) | G18: darba samaksas likme (EUR/h) | H18: darba alga (EUR) | I18: būvistrādājumi (EUR) | J18: mehānismi (EUR) | K18: Kopā (EUR) | L18: darbietilpība (c/h) | M18: darba alga (EUR) | N18: būvistrādājumi (EUR) | O18: mehānismi (EUR) | P18: summa (EUR)
A19: 1 | B19: 2 | C19: 3 | D19: 4 | E19: 5 | F19: 6 | G19: 7 | H19: 8 | I19: 9 | J19: 10 | K19: 11 | L19: 12 | M19: 13 | N19: 14 | O19: 15 | P19: 16
C20: 1. ZEMES DARBI
A21: 1 | B21: Līgumcena | C21: Pamatu gabarītu un būvasu nospraušana pēc koordinātām | D21: kompl | E21: 1 | F21: 8 | G21: 11.63 | H21: =ROUND(F21*G21,2) -> 93.04 | J21: 80 | K21: =ROUND(H21+J21+I21,2) -> 173.04 | L21: =ROUND(E21*F21,2) -> 8 | M21: =ROUND(E21*H21,2) -> 93.04 | N21: =ROUND(E21*I21,2) -> 0 | O21: =ROUND(E21*J21,2) -> 80 | P21: =ROUND(O21+N21+M21,2) -> 173.04
A22: 2 | B22: Līgumcena | C22: Koka konstrukcija būvasu atzīmēšanai | D22: kompl | E22: 1 | F22: 4 | G22: 11.63 | H22: =ROUND(F22*G22,2) -> 46.52 | I22: 20 | J22: 0.5 | K22: =ROUND(H22+J22+I22,2) -> 67.02 | L22: =ROUND(E22*F22,2) -> 4 | M22: =ROUND(E22*H22,2) -> 46.52 | N22: =ROUND(E22*I22,2) -> 20 | O22: =ROUND(E22*J22,2) -> 0.5 | P22: =ROUND(O22+N22+M22,2) -> 67.02
A23: 3 | B23: Līgumcena | C23: Augsnes kārtas 400 mm noņemšana | D23: m2 | E23: =5*5+0.5*2.816*6.25 -> 33.8 | F23: =0.15*0.4 -> 0.06 | G23: 11.63 | H23: =ROUND(F23*G23,2) -> 0.7 | J23: =4.5*0.4 -> 1.8 | K23: =ROUND(H23+J23+I23,2) -> 2.5 | L23: =ROUND(E23*F23,2) -> 2.03 | M23: =ROUND(E23*H23,2) -> 23.66 | N23: =ROUND(E23*I23,2) -> 0 | O23: =ROUND(E23*J23,2) -> 60.84 | P23: =ROUND(O23+N23+M23,2) -> 84.5
A24: 4 | B24: Līgumcena | C24: Augsnes kārtas transportēšana līdz 10 km | D24: m3 | E24: =E23*0.4 -> 13.52 | J24: 4.5 | K24: =ROUND(H24+J24+I24,2) -> 4.5 | L24: =ROUND(E24*F24,2) -> 0 | M24: =ROUND(E24*H24,2) -> 0 | N24: =ROUND(E24*I24,2) -> 0 | O24: =ROUND(E24*J24,2) -> 60.84 | P24: =ROUND(O24+N24+M24,2) -> 60.84
A25: 5 | B25: Līgumcena | C25: Pamatu rakšana (mehanizēti) | D25: m3 | E25: =5*5*0.8 -> 20 | F25: 0.15 | G25: 11.63 | H25: =ROUND(F25*G25,2) -> 1.74 | J25: 4.5 | K25: =ROUND(H25+J25+I25,2) -> 6.24 | L25: =ROUND(E25*F25,2) -> 3 | M25: =ROUND(E25*H25,2) -> 34.8 | N25: =ROUND(E25*I25,2) -> 0 | O25: =ROUND(E25*J25,2) -> 90 | P25: =ROUND(O25+N25+M25,2) -> 124.8
A26: 6 | B26: Līgumcena | C26: Pamatu rakšana (roku darbs), 3% | D26: m3 | E26: =E25*0.03 -> 0.6 | F26: 2 | G26: 11.63 | H26: =ROUND(F26*G26,2) -> 23.26 | K26: =ROUND(H26+J26+I26,2) -> 23.26 | L26: =ROUND(E26*F26,2) -> 1.2 | M26: =ROUND(E26*H26,2) -> 13.96 | N26: =ROUND(E26*I26,2) -> 0 | O26: =ROUND(E26*J26,2) -> 0 | P26: =ROUND(O26+N26+M26,2) -> 13.96
A27: 7 | B27: Līgumcena | C27: Nederīgas grunts transportēšana līdz 10 km | D27: m3 | E27: =E25+E26 -> 20.6 | J27: =J24 -> 4.5 | K27: =ROUND(H27+J27+I27,2) -> 4.5 | L27: =ROUND(E27*F27,2) -> 0 | M27: =ROUND(E27*H27,2) -> 0 | N27: =ROUND(E27*I27,2) -> 0 | O27: =ROUND(E27*J27,2) -> 92.7 | P27: =ROUND(O27+N27+M27,2) -> 92.7
A28: 8 | B28: Līgumcena | C28: Grunts pamatnes līdzināšana, blietēšana | D28: m2 | E28: =E23 -> 33.8 | F28: 0.05 | G28: 11.63 | H28: =ROUND(F28*G28,2) -> 0.58 | J28: =H28 -> 0.58 | K28: =ROUND(H28+J28+I28,2) -> 1.16 | L28: =ROUND(E28*F28,2) -> 1.69 | M28: =ROUND(E28*H28,2) -> 19.6 | N28: =ROUND(E28*I28,2) -> 0 | O28: =ROUND(E28*J28,2) -> 19.6 | P28: =ROUND(O28+N28+M28,2) -> 39.2
A29: 9 | B29: Līgumcena | C29: Būvbedres aizberšana ar pievesto smilti, blietējot pa kārtām | D29: m3 | E29: =E24+E27-(3*3*0.6*0.5+0.405*3.14*0.625*0.625+4.25*1.816*0.6) -> 26.292442 | F29: =F25*2 -> 0.3 | G29: 11.63 | H29: =ROUND(F29*G29,2) -> 3.49 | J29: =J25 -> 4.5 | K29: =ROUND(H29+J29+I29,2) -> 7.99 | L29: =ROUND(E29*F29,2) -> 7.89 | M29: =ROUND(E29*H29,2) -> 91.76 | N29: =ROUND(E29*I29,2) -> 0 | O29: =ROUND(E29*J29,2) -> 118.32 | P29: =ROUND(O29+N29+M29,2) -> 210.08
A30: 10 | C30: Smilts ar piegādi | D30: m2 | E30: =E25 -> 20 | I30: 8 | K30: =ROUND(H30+J30+I30,2) -> 8 | L30: =ROUND(E30*F30,2) -> 0 | M30: =ROUND(E30*H30,2) -> 0 | N30: =ROUND(E30*I30,2) -> 160 | O30: =ROUND(E30*J30,2) -> 0 | P30: =ROUND(O30+N30+M30,2) -> 160
C31: 2. PĀĻU MONTĀŽA
A32: 1 | B32: Līgumcena | C32: Pāļu montāžas iekārtas mobilizācija un demobilizācija | D32: kompl | E32: 1 | F32: 80 | G32: 11.63 | H32: =ROUND(F32*G32,2) -> 930.4 | J32: 1750 | K32: =ROUND(H32+J32+I32,2) -> 2680.4 | L32: =ROUND(E32*F32,2) -> 80 | M32: =ROUND(E32*H32,2) -> 930.4 | N32: =ROUND(E32*I32,2) -> 0 | O32: =ROUND(E32*J32,2) -> 1750 | P32: =ROUND(O32+N32+M32,2) -> 2680.4
A33: 2 | B33: Līgumcena | C33: Pāļu dzSP-1, L=8480 mm, d=300 mm montāža | D33: gab | E33: 4 | F33: 16 | G33: 11.63 | H33: =ROUND(F33*G33,2) -> 186.08 | J33: =8.5*45 -> 382.5 | K33: =ROUND(H33+J33+I33,2) -> 568.58 | L33: =ROUND(E33*F33,2) -> 64 | M33: =ROUND(E33*H33,2) -> 744.32 | N33: =ROUND(E33*I33,2) -> 0 | O33: =ROUND(E33*J33,2) -> 1530 | P33: =ROUND(O33+N33+M33,2) -> 2274.32
A34: 3 | C34: Betons C30/37 XC2 XF1 | D34: m3 | E34: =E33*8.48*3.14*0.15*0.15*1.1 -> 2.6360928 | I34: 85 | J34: =90*0.25 -> 22.5 | K34: =ROUND(H34+J34+I34,2) -> 107.5 | L34: =ROUND(E34*F34,2) -> 0 | M34: =ROUND(E34*H34,2) -> 0 | N34: =ROUND(E34*I34,2) -> 224.07 | O34: =ROUND(E34*J34,2) -> 59.31 | P34: =ROUND(O34+N34+M34,2) -> 283.38
A35: 4 | C35: Armatūra B500B, dažādi diametri | D35: t | E35: =E33*96.1*1.15/1000 -> 0.44206 | I35: 990 | K35: =ROUND(H35+J35+I35,2) -> 990 | L35: =ROUND(E35*F35,2) -> 0 | M35: =ROUND(E35*H35,2) -> 0 | N35: =ROUND(E35*I35,2) -> 437.64 | O35: =ROUND(E35*J35,2) -> 0 | P35: =ROUND(O35+N35+M35,2) -> 437.64
A36: 5 | C36: Betona piegāde | D36: reiss | E36: =ROUND(E34/7,2) -> 0.38 | J36: 65 | K36: =ROUND(H36+J36+I36,2) -> 65 | L36: =ROUND(E36*F36,2) -> 0 | M36: =ROUND(E36*H36,2) -> 0 | N36: =ROUND(E36*I36,2) -> 0 | O36: =ROUND(E36*J36,2) -> 24.7 | P36: =ROUND(O36+N36+M36,2) -> 24.7
A37: 6 | C37: Betona sūknis | D37: m/st | E37: =ROUND(E34/3,2) -> 0.88 | J37: 90 | K37: =ROUND(H37+J37+I37,2) -> 90 | L37: =ROUND(E37*F37,2) -> 0 | M37: =ROUND(E37*H37,2) -> 0 | N37: =ROUND(E37*I37,2) -> 0 | O37: =ROUND(E37*J37,2) -> 79.2 | P37: =ROUND(O37+N37+M37,2) -> 79.2
A38: 7 | B38: Līgumcena | C38: Pāļu statiskā pārbaude | D38: gab | E38: 1 | F38: 16 | G38: 11.63 | H38: =ROUND(F38*G38,2) -> 186.08 | I38: 200 | J38: 1450 | K38: =ROUND(H38+J38+I38,2) -> 1836.08 | L38: =ROUND(E38*F38,2) -> 16 | M38: =ROUND(E38*H38,2) -> 186.08 | N38: =ROUND(E38*I38,2) -> 200 | O38: =ROUND(E38*J38,2) -> 1450 | P38: =ROUND(O38+N38+M38,2) -> 1836.08
C39: 3. REŽĢOGA dzPR-2 BETONĒŠANA
A40: 1 | B40: Līgumcena | C40: Šķembu kārtas pieberšana ar blietēšanu, 200 mm | D40: m2 | E40: =4*4*0.5+2.816*6.25 -> 25.6 | F40: 0.2 | G40: 11.63 | H40: =ROUND(F40*G40,2) -> 2.33 | J40: =4.5*0.2 -> 0.9 | K40: =ROUND(H40+J40+I40,2) -> 3.23 | L40: =ROUND(E40*F40,2) -> 5.12 | M40: =ROUND(E40*H40,2) -> 59.65 | N40: =ROUND(E40*I40,2) -> 0 | O40: =ROUND(E40*J40,2) -> 23.04 | P40: =ROUND(O40+N40+M40,2) -> 82.69
A41: 2 | C41: Šķembas ar piegādi | D41: m3 | E41: =E40*0.2*1.3 -> 6.656 | I41: 18 | L41: =ROUND(E41*F41,2) -> 0 | M41: =ROUND(E41*H41,2) -> 0 | N41: =ROUND(E41*I41,2) -> 119.81 | O41: =ROUND(E41*J41,2) -> 0 | P41: =ROUND(O41+N41+M41,2) -> 119.81
A42: 3 | B42: Līgumcena | C42: Hidroizolācijas kārtas ieklāšana (sagataves kārtai un pamatiem) | D42: m2 | E42: =E40*2 -> 51.2 | F42: 0.03 | G42: 11.63 | H42: =ROUND(F42*G42,2) -> 0.35 | K42: =ROUND(H42+J42+I42,2) -> 0.35 | L42: =ROUND(E42*F42,2) -> 1.54 | M42: =ROUND(E42*H42,2) -> 17.92 | N42: =ROUND(E42*I42,2) -> 0 | O42: =ROUND(E42*J42,2) -> 0 | P42: =ROUND(O42+N42+M42,2) -> 17.92
A43: 4 | C43: PVC plēve | D43: m2 | E43: =E42*1.15 -> 58.88 | I43: 0.45 | L43: =ROUND(E43*F43,2) -> 0 | M43: =ROUND(E43*H43,2) -> 0 | N43: =ROUND(E43*I43,2) -> 26.5 | O43: =ROUND(E43*J43,2) -> 0 | P43: =ROUND(O43+N43+M43,2) -> 26.5
A44: 5 | B44: Līgumcena | C44: Betona sagataves kārtas izveide zem režģoga | D44: gab | E44: =3.3*3.3*0.1+3.5*0.1 -> 1.439 | F44: 6 | G44: 11.63 | H44: =ROUND(F44*G44,2) -> 69.78 | J44: 2.5 | K44: =ROUND(H44+J44+I44,2) -> 72.28 | L44: =ROUND(E44*F44,2) -> 8.63 | M44: =ROUND(E44*H44,2) -> 100.41 | N44: =ROUND(E44*I44,2) -> 0 | O44: =ROUND(E44*J44,2) -> 3.6 | P44: =ROUND(O44+N44+M44,2) -> 104.01
...

Sheet ST 4
D1: LOKĀLĀ TĀME Nr. | I1: 1--5
C2: PAMATU IZBŪVE APGAISMOJUMA STABAM Nr.4
C3: (Darba veids vai konstruktīvā elementa nosaukums)
A5: Būves nosaukums: | C5: =PBK!C15 -> FUTBOLA LAUKUMA APGAISMOJUMA MASTI
A6: Objekta nosaukums: | C6: =PBK!C16 -> ZEMGALAS OLIMPISKAIS CENTRS
A7: Objekta adrese: | C7: =PBK!C17 -> KRONVALDA IELA 24, JELGAVA
A8: Pasūtītājs: | C8: =PBK!C18 -> SIA ''ZEMGALES OLIMPISKAIS CENTRS''
A9: Pasūtījuma Nr.: | C9: =PBK!C19 -> Nr. 01/02/2021
A10: Pretendents: | C10: =PBK!C20 -> 0
A12: Tāme sastādīta 2021. gada tirgus cenās, pamatojoties uz BK daļas rasējumiem | K12: Tāmes izmaksas: | N12: =P101 -> 18480.13 | P12: EUR
I14: Tāme sastādīta: | L14: 2021 | M14: gada | N14: ='KOPS '!E15 -> 29. | O14: ='KOPS '!F15 -> oktobrī
A16: Nr.p.k. | B16: Kods | C16: Darba nosaukums | D16: Mērvienība | E16: Daudzums | F16: Vienības izmaksas | L16: Kopā uz visu apjomu
F17: laika norma (c/h) | G17: darba samaksas likme (EUR/h) | H17: darba alga (EUR) | I17: būvistrādājumi (EUR) | J17: mehānismi (EUR) | K17: Kopā (EUR) | L17: darbietilpība (c/h) | M17: darba alga (EUR) | N17: būvistrādājumi (EUR) | O17: mehānismi (EUR) | P17: summa (EUR)
A18: 1 | B18: 2 | C18: 3 | D18: 4 | E18: 5 | F18: 6 | G18: 7 | H18: 8 | I18: 9 | J18: 10 | K18: 11 | L18: 12 | M18: 13 | N18: 14 | O18: 15 | P18: 16
C19: 1. ZEMES DARBI
A20: 1 | B20: Līgumcena | C20: Pamatu gabarītu un būvasu nospraušana pēc koordinātām | D20: kompl | E20: 1 | F20: 8 | G20: 11.63 | H20: =ROUND(F20*G20,2) -> 93.04 | J20: 80 | K20: =ROUND(H20+J20+I20,2) -> 173.04 | L20: =ROUND(E20*F20,2) -> 8 | M20: =ROUND(E20*H20,2) -> 93.04 | N20: =ROUND(E20*I20,2) -> 0 | O20: =ROUND(E20*J20,2) -> 80 | P20: =ROUND(O20+N20+M20,2) -> 173.04
A21: 2 | B21: Līgumcena | C21: Koka konstrukcija būvasu atzīmēšanai | D21: kompl | E21: 1 | F21: 4 | G21: 11.63 | H21: =ROUND(F21*G21,2) -> 46.52 | I21: 20 | J21: 0.5 | K21: =ROUND(H21+J21+I21,2) -> 67.02 | L21: =ROUND(E21*F21,2) -> 4 | M21: =ROUND(E21*H21,2) -> 46.52 | N21: =ROUND(E21*I21,2) -> 20 | O21: =ROUND(E21*J21,2) -> 0.5 | P21: =ROUND(O21+N21+M21,2) -> 67.02
A22: 3 | B22: Līgumcena | C22: Augsnes kārtas 400 mm noņemšana | D22: m2 | E22: =5*5+2*3.02+1*5.04 -> 36.08 | F22: =0.15*0.4 -> 0.06 | G22: 11.63 | H22: =ROUND(F22*G22,2) -> 0.7 | J22: =4.5*0.4 -> 1.8 | K22: =ROUND(H22+J22+I22,2) -> 2.5 | L22: =ROUND(E22*F22,2) -> 2.16 | M22: =ROUND(E22*H22,2) -> 25.26 | N22: =ROUND(E22*I22,2) -> 0 | O22: =ROUND(E22*J22,2) -> 64.94 | P22: =ROUND(O22+N22+M22,2) -> 90.2
A23: 4 | B23: Līgumcena | C23: Augsnes kārtas transportēšana līdz 10 km | D23: m3 | E23: =E22*0.4 -> 14.432 | J23: 4.5 | K23: =ROUND(H23+J23+I23,2) -> 4.5 | L23: =ROUND(E23*F23,2) -> 0 | M23: =ROUND(E23*H23,2) -> 0 | N23: =ROUND(E23*I23,2) -> 0 | O23: =ROUND(E23*J23,2) -> 64.94 | P23: =ROUND(O23+N23+M23,2) -> 64.94
A24: 5 | B24: Līgumcena | C24: Pamatu rakšana (mehanizēti) | D24: m3 | E24: =5*5*0.8+(5.04+2*3.02)*0.555 -> 26.1494 | F24: 0.15 | G24: 11.63 | H24: =ROUND(F24*G24,2) -> 1.74 | J24: 4.5 | K24: =ROUND(H24+J24+I24,2) -> 6.24 | L24: =ROUND(E24*F24,2) -> 3.92 | M24: =ROUND(E24*H24,2) -> 45.5 | N24: =ROUND(E24*I24,2) -> 0 | O24: =ROUND(E24*J24,2) -> 117.67 | P24: =ROUND(O24+N24+M24,2) -> 163.17
A25: 6 | B25: Līgumcena | C25: Pamatu rakšana (roku darbs), 3% | D25: m3 | E25: =E24*0.03 -> 0.784482 | F25: 2 | G25: 11.63 | H25: =ROUND(F25*G25,2) -> 23.26 | K25: =ROUND(H25+J25+I25,2) -> 23.26 | L25: =ROUND(E25*F25,2) -> 1.57 | M25: =ROUND(E25*H25,2) -> 18.25 | N25: =ROUND(E25*I25,2) -> 0 | O25: =ROUND(E25*J25,2) -> 0 | P25: =ROUND(O25+N25+M25,2) -> 18.25
A26: 7 | B26: Līgumcena | C26: Nederīgas grunts transportēšana līdz 10 km | D26: m3 | E26: =E24+E25 -> 26.933882 | J26: =J23 -> 4.5 | K26: =ROUND(H26+J26+I26,2) -> 4.5 | L26: =ROUND(E26*F26,2) -> 0 | M26: =ROUND(E26*H26,2) -> 0 | N26: =ROUND(E26*I26,2) -> 0 | O26: =ROUND(E26*J26,2) -> 121.2 | P26: =ROUND(O26+N26+M26,2) -> 121.2
A27: 8 | B27: Līgumcena | C27: Grunts pamatnes līdzināšana, blietēšana | D27: m2 | E27: =E22 -> 36.08 | F27: 0.05 | G27: 11.63 | H27: =ROUND(F27*G27,2) -> 0.58 | J27: =H27 -> 0.58 | K27: =ROUND(H27+J27+I27,2) -> 1.16 | L27: =ROUND(E27*F27,2) -> 1.8 | M27: =ROUND(E27*H27,2) -> 20.93 | N27: =ROUND(E27*I27,2) -> 0 | O27: =ROUND(E27*J27,2) -> 20.93 | P27: =ROUND(O27+N27+M27,2) -> 41.86
A28: 9 | B28: Līgumcena | C28: Būvbedres aizberšana ar pievesto smilti, blietējot pa kārtām | D28: m3 | E28: =E23+E26-3*3*0.6-0.405*3.14*0.625*0.625 -> 35.469124 | F28: =F24*2 -> 0.3 | G28: 11.63 | H28: =ROUND(F28*G28,2) -> 3.49 | J28: =J24 -> 4.5 | K28: =ROUND(H28+J28+I28,2) -> 7.99 | L28: =ROUND(E28*F28,2) -> 10.64 | M28: =ROUND(E28*H28,2) -> 123.79 | N28: =ROUND(E28*I28,2) -> 0 | O28: =ROUND(E28*J28,2) -> 159.61 | P28: =ROUND(O28+N28+M28,2) -> 283.4
A29: 10 | C29: Smilts ar piegādi | D29: m2 | E29: =E24 -> 26.1494 | I29: 8 | K29: =ROUND(H29+J29+I29,2) -> 8 | L29: =ROUND(E29*F29,2) -> 0 | M29: =ROUND(E29*H29,2) -> 0 | N29: =ROUND(E29*I29,2) -> 209.2 | O29: =ROUND(E29*J29,2) -> 0 | P29: =ROUND(O29+N29+M29,2) -> 209.2
C30: 2. PĀĻU MONTĀŽA
A31: 1 | B31: Līgumcena | C31: Pāļu montāžas iekārtas mobilizācija un demobilizācija | D31: kompl | E31: 1 | F31: 80 | G31: 11.63 | H31: =ROUND(F31*G31,2) -> 930.4 | J31: 1750 | K31: =ROUND(H31+J31+I31,2) -> 2680.4 | L31: =ROUND(E31*F31,2) -> 80 | M31: =ROUND(E31*H31,2) -> 930.4 | N31: =ROUND(E31*I31,2) -> 0 | O31: =ROUND(E31*J31,2) -> 1750 | P31: =ROUND(O31+N31+M31,2) -> 2680.4
A32: 2 | B32: Līgumcena | C32: Pāļu dzSP-1, L=8480 mm, d=300 mm montāža | D32: gab | E32: 4 | F32: 16 | G32: 11.63 | H32: =ROUND(F32*G32,2) -> 186.08 | J32: =8.5*45 -> 382.5 | K32: =ROUND(H32+J32+I32,2) -> 568.58 | L32: =ROUND(E32*F32,2) -> 64 | M32: =ROUND(E32*H32,2) -> 744.32 | N32: =ROUND(E32*I32,2) -> 0 | O32: =ROUND(E32*J32,2) -> 1530 | P32: =ROUND(O32+N32+M32,2) -> 2274.32
A33: 3 | C33: Betons C30/37 XC2 XF1 | D33: m3 | E33: =E32*8.48*3.14*0.15*0.15*1.1 -> 2.6360928 | I33: 85 | J33: =90*0.25 -> 22.5 | K33: =ROUND(H33+J33+I33,2) -> 107.5 | L33: =ROUND(E33*F33,2) -> 0 | M33: =ROUND(E33*H33,2) -> 0 | N33: =ROUND(E33*I33,2) -> 224.07 | O33: =ROUND(E33*J33,2) -> 59.31 | P33: =ROUND(O33+N33+M33,2) -> 283.38
A34: 4 | C34: Armatūra B500B, dažādi diametri | D34: t | E34: =E32*96.1*1.15/1000 -> 0.44206 | I34: 990 | K34: =ROUND(H34+J34+I34,2) -> 990 | L34: =ROUND(E34*F34,2) -> 0 | M34: =ROUND(E34*H34,2) -> 0 | N34: =ROUND(E34*I34,2) -> 437.64 | O34: =ROUND(E34*J34,2) -> 0 | P34: =ROUND(O34+N34+M34,2) -> 437.64
A35: 5 | C35: Betona piegāde | D35: reiss | E35: =ROUND(E33/7,2) -> 0.38 | J35: 65 | K35: =ROUND(H35+J35+I35,2) -> 65 | L35: =ROUND(E35*F35,2) -> 0 | M35: =ROUND(E35*H35,2) -> 0 | N35: =ROUND(E35*I35,2) -> 0 | O35: =ROUND(E35*J35,2) -> 24.7 | P35: =ROUND(O35+N35+M35,2) -> 24.7
A36: 6 | C36: Betona sūknis | D36: m/st | E36: =ROUND(E33/3,2) -> 0.88 | J36: 90 | K36: =ROUND(H36+J36+I36,2) -> 90 | L36: =ROUND(E36*F36,2) -> 0 | M36: =ROUND(E36*H36,2) -> 0 | N36: =ROUND(E36*I36,2) -> 0 | O36: =ROUND(E36*J36,2) -> 79.2 | P36: =ROUND(O36+N36+M36,2) -> 79.2
A37: 7 | B37: Līgumcena | C37: Pāļu statiskā pārbaude | D37: gab | E37: 1 | F37: 16 | G37: 11.63 | H37: =ROUND(F37*G37,2) -> 186.08 | I37: 200 | J37: 1450 | K37: =ROUND(H37+J37+I37,2) -> 1836.08 | L37: =ROUND(E37*F37,2) -> 16 | M37: =ROUND(E37*H37,2) -> 186.08 | N37: =ROUND(E37*I37,2) -> 200 | O37: =ROUND(E37*J37,2) -> 1450 | P37: =ROUND(O37+N37+M37,2) -> 1836.08
C38: 3. REŽĢOGA dzPR-1 BETONĒŠANA
A39: 1 | B39: Līgumcena | C39: Šķembu kārtas pieberšana ar blietēšanu, 200 mm | D39: m2 | E39: =4*4 -> 16 | F39: 0.2 | G39: 11.63 | H39: =ROUND(F39*G39,2) -> 2.33 | J39: =4.5*0.2 -> 0.9 | K39: =ROUND(H39+J39+I39,2) -> 3.23 | L39: =ROUND(E39*F39,2) -> 3.2 | M39: =ROUND(E39*H39,2) -> 37.28 | N39: =ROUND(E39*I39,2) -> 0 | O39: =ROUND(E39*J39,2) -> 14.4 | P39: =ROUND(O39+N39+M39,2) -> 51.68
A40: 2 | C40: Šķembas ar piegādi | D40: m3 | E40: =E39*0.2*1.3 -> 4.16 | I40: 18 | L40: =ROUND(E40*F40,2) -> 0 | M40: =ROUND(E40*H40,2) -> 0 | N40: =ROUND(E40*I40,2) -> 74.88 | O40: =ROUND(E40*J40,2) -> 0 | P40: =ROUND(O40+N40+M40,2) -> 74.88
A41: 3 | B41: Līgumcena | C41: Hidroizolācijas kārtas ieklāšana (sagataves kārtai un pamatiem) | D41: m2 | E41: =E39*2+3.5*2 -> 39 | F41: 0.03 | G41: 11.63 | H41: =ROUND(F41*G41,2) -> 0.35 | K41: =ROUND(H41+J41+I41,2) -> 0.35 | L41: =ROUND(E41*F41,2) -> 1.17 | M41: =ROUND(E41*H41,2) -> 13.65 | N41: =ROUND(E41*I41,2) -> 0 | O41: =ROUND(E41*J41,2) -> 0 | P41: =ROUND(O41+N41+M41,2) -> 13.65
A42: 4 | C42: PVC plēve | D42: m2 | E42: =E41*1.15 -> 44.85 | I42: 0.45 | L42: =ROUND(E42*F42,2) -> 0 | M42: =ROUND(E42*H42,2) -> 0 | N42: =ROUND(E42*I42,2) -> 20.18 | O42: =ROUND(E42*J42,2) -> 0 | P42: =ROUND(O42+N42+M42,2) -> 20.18
A43: 5 | B43: Līgumcena | C43: Betona sagataves kārtas izveide zem režģoga | D43: m3 | E43: =3.3*3.3*0.1 -> 1.089 | F43: 16 | G43: 11.63 | H43: =ROUND(F43*G43,2) -> 186.08 | J43: =8.5*45 -> 382.5 | K43: =ROUND(H43+J43+I43,2) -> 568.58 | L43: =ROUND(E43*F43,2) -> 17.42 | M43: =ROUND(E43*H43,2) -> 202.64 | N43: =ROUND(E43*I43,2) -> 0 | O43: =ROUND(E43*J43,2) -> 416.54 | P43: =ROUND(O43+N43+M43,2) -> 619.18
A44: 6 | C44: Betons C7.5/10 | D44: m3 | E44: =E43*1.1 -> 1.1979 | I44: 85 | J44: =90*0.25 -> 22.5 | K44: =ROUND(H44+J44+I44,2) -> 107.5 | L44: =ROUND(E44*F44,2) -> 0 | M44: =ROUND(E44*H44,2) -> 0 | N44: =ROUND(E44*I44,2) -> 101.82 | O44: =ROUND(E44*J44,2) -> 26.95 | P44: =ROUND(O44+N44+M44,2) -> 128.77
...

Sheet EL
D1: LOKĀLĀ TĀME Nr. | I1: 2--1
C2: ELEKTROMONTĀŽAS DARBI
C3: (Darba veids vai konstruktīvā elementa nosaukums)
A5: Būves nosaukums: | C5: =PBK!C15 -> FUTBOLA LAUKUMA APGAISMOJUMA MASTI
A6: Objekta nosaukums: | C6: =PBK!C16 -> ZEMGALAS OLIMPISKAIS CENTRS
A7: Objekta adrese: | C7: =PBK!C17 -> KRONVALDA IELA 24, JELGAVA
A8: Pasūtītājs: | C8: =PBK!C18 -> SIA ''ZEMGALES OLIMPISKAIS CENTRS''
A9: Pasūtījuma Nr.: | C9: =PBK!C19 -> Nr. 01/02/2021
A10: Pretendents: | C10: =PBK!C20 -> 0
A12: Tāme sastādīta 2021. gada tirgus cenās, pamatojoties uz TP EL daļas rasējumiem | K12: Tāmes izmaksas: | N12: =P72 -> 168693.75 | P12: EUR
I14: Tāme sastādīta: | L14: 2021 | M14: gada | N14: ='KOPS '!E15 -> 29. | O14: ='KOPS '!F15 -> oktobrī
A16: Nr.p.k. | B16: Kods | C16: Darba nosaukums | D16: Mērvienība | E16: Daudzums | F16: Vienības izmaksas | L16: Kopā uz visu apjomu
F17: laika norma (c/h) | G17: darba samaksas likme (EUR/h) | H17: darba alga (EUR) | I17: būvistrādājumi (EUR) | J17: mehānismi (EUR) | K17: Kopā (EUR) | L17: darbietilpība (c/h) | M17: darba alga (EUR) | N17: būvistrādājumi (EUR) | O17: mehānismi (EUR) | P17: summa (EUR)
A18: 1 | B18: 2 | C18: 3 | D18: 4 | E18: 5 | F18: 6 | G18: 7 | H18: 8 | I18: 9 | J18: 10 | K18: 11 | L18: 12 | M18: 13 | N18: 14 | O18: 15 | P18: 16
C19: 1. ELEKTROMONTĀŽAS MATERIĀLU SARAKSTS
A20: 1 | B20: Līgumcena | C20: AVS sadalne korpusā 1800x800x400mm IP55 (pēc shēmas) | D20: gab | E20: 2 | I20: 650 | K20: =ROUND(H20+J20+I20,2) -> 650 | L20: =ROUND(E20*F20,2) -> 0 | M20: =ROUND(E20*H20,2) -> 0 | N20: =ROUND(E20*I20,2) -> 1300 | O20: =ROUND(E20*J20,2) -> 0 | P20: =ROUND(O20+N20+M20,2) -> 1300
A21: 2 | B21: Līgumcena | C21: Pamatne P9 | D21: gab | E21: 2 | I21: 150 | K21: =ROUND(H21+J21+I21,2) -> 150 | L21: =ROUND(E21*F21,2) -> 0 | M21: =ROUND(E21*H21,2) -> 0 | N21: =ROUND(E21*I21,2) -> 300 | O21: =ROUND(E21*J21,2) -> 0 | P21: =ROUND(O21+N21+M21,2) -> 300
A22: 3 | B22: Līgumcena | C22: Apgaismojuma balsts H=24m (skat. Specifikāciju) | D22: kpl. | E22: 4 | I22: 19500 | K22: =ROUND(H22+J22+I22,2) -> 19500 | L22: =ROUND(E22*F22,2) -> 0 | M22: =ROUND(E22*H22,2) -> 0 | N22: =ROUND(E22*I22,2) -> 78000 | O22: =ROUND(E22*J22,2) -> 0 | P22: =ROUND(O22+N22+M22,2) -> 78000
A23: 4 | B23: Līgumcena | C23: Prožektori GMR ENLIGHTS Woltron 03 Sport | D23: gab | E23: 32 | I23: 1850 | K23: =ROUND(H23+J23+I23,2) -> 1850 | L23: =ROUND(E23*F23,2) -> 0 | M23: =ROUND(E23*H23,2) -> 0 | N23: =ROUND(E23*I23,2) -> 59200 | O23: =ROUND(E23*J23,2) -> 0 | P23: =ROUND(O23+N23+M23,2) -> 59200
A24: 5 | B24: Līgumcena | C24: DDBC120-DALI Controller | D24: gab | E24: 4 | I24: 270 | K24: 7 | L24: =ROUND(E24*F24,2) -> 0 | M24: =ROUND(E24*H24,2) -> 0 | N24: =ROUND(E24*I24,2) -> 1080 | O24: =ROUND(E24*J24,2) -> 0 | P24: =ROUND(O24+N24+M24,2) -> 1080
A25: 6 | B25: Līgumcena | C25: DDNP1501 Dynalite Network Device | D25: gab | E25: 2 | I25: 255 | K25: =ROUND(H25+J25+I25,2) -> 255 | L25: =ROUND(E25*F25,2) -> 0 | M25: =ROUND(E25*H25,2) -> 0 | N25: =ROUND(E25*I25,2) -> 510 | O25: =ROUND(E25*J25,2) -> 0 | P25: =ROUND(O25+N25+M25,2) -> 510
A26: 7 | B26: Līgumcena | C26: PDEG Ethernet Gateway | D26: gab | E26: 1 | I26: 360 | K26: =ROUND(H26+J26+I26,2) -> 360 | L26: =ROUND(E26*F26,2) -> 0 | M26: =ROUND(E26*H26,2) -> 0 | N26: =ROUND(E26*I26,2) -> 360 | O26: =ROUND(E26*J26,2) -> 0 | P26: =ROUND(O26+N26+M26,2) -> 360
A27: 8 | B27: Līgumcena | C27: PADPE-MW-X Dynalite User Interface | D27: gab | E27: 1 | I27: 320 | K27: =ROUND(H27+J27+I27,2) -> 320 | L27: =ROUND(E27*F27,2) -> 0 | M27: =ROUND(E27*H27,2) -> 0 | N27: =ROUND(E27*I27,2) -> 320 | O27: =ROUND(E27*J27,2) -> 0 | P27: =ROUND(O27+N27+M27,2) -> 320
A28: 9 | B28: Līgumcena | C28: DACM-DyNet | D28: gab | E28: 1 | I28: 675 | K28: =ROUND(H28+J28+I28,2) -> 675 | L28: =ROUND(E28*F28,2) -> 0 | M28: =ROUND(E28*H28,2) -> 0 | N28: =ROUND(E28*I28,2) -> 675 | O28: =ROUND(E28*J28,2) -> 0 | P28: =ROUND(O28+N28+M28,2) -> 675
A29: 10 | B29: Līgumcena | C29: DyNet-STP-CABLE-LSZH | D29: m | E29: 250 | I29: 0.75 | K29: =ROUND(H29+J29+I29,2) -> 0.75 | L29: =ROUND(E29*F29,2) -> 0 | M29: =ROUND(E29*H29,2) -> 0 | N29: =ROUND(E29*I29,2) -> 187.5 | O29: =ROUND(E29*J29,2) -> 0 | P29: =ROUND(O29+N29+M29,2) -> 187.5
A30: 11 | B30: Līgumcena | C30: FTP cat5e kabelis OUTDOOR | D30: m | E30: 500 | I30: 0.68 | K30: 7 | L30: =ROUND(E30*F30,2) -> 0 | M30: =ROUND(E30*H30,2) -> 0 | N30: =ROUND(E30*I30,2) -> 340 | O30: =ROUND(E30*J30,2) -> 0 | P30: =ROUND(O30+N30+M30,2) -> 340
A31: 12 | B31: Līgumcena | C31: Automātslēdzis 3F C16A | D31: gab | E31: 32 | I31: 9.2 | K31: 7 | L31: =ROUND(E31*F31,2) -> 0 | M31: =ROUND(E31*H31,2) -> 0 | N31: =ROUND(E31*I31,2) -> 294.4 | O31: =ROUND(E31*J31,2) -> 0 | P31: =ROUND(O31+N31+M31,2) -> 294.4
A32: 13 | B32: Līgumcena | C32: Automātslēdzis 1F C10A | D32: gab | E32: 4 | I32: 2.3 | K32: =ROUND(H32+J32+I32,2) -> 2.3 | L32: =ROUND(E32*F32,2) -> 0 | M32: =ROUND(E32*H32,2) -> 0 | N32: =ROUND(E32*I32,2) -> 9.2 | O32: =ROUND(E32*J32,2) -> 0 | P32: =ROUND(O32+N32+M32,2) -> 9.2
A33: 14 | B33: Līgumcena | C33: Kabelis CYKY 5x2.5mm2 | D33: m | E33: 2816 | I33: 1.22 | K33: =ROUND(H33+J33+I33,2) -> 1.22 | L33: =ROUND(E33*F33,2) -> 0 | M33: =ROUND(E33*H33,2) -> 0 | N33: =ROUND(E33*I33,2) -> 3435.52 | O33: =ROUND(E33*J33,2) -> 0 | P33: =ROUND(O33+N33+M33,2) -> 3435.52
A34: 15 | B34: Līgumcena | C34: Aizsargcaurule EVOCAB HARD 450N d=40mm | D34: m | E34: 1290 | I34: 0.73 | K34: =ROUND(H34+J34+I34,2) -> 0.73 | L34: =ROUND(E34*F34,2) -> 0 | M34: =ROUND(E34*H34,2) -> 0 | N34: =ROUND(E34*I34,2) -> 941.7 | O34: =ROUND(E34*J34,2) -> 0 | P34: =ROUND(O34+N34+M34,2) -> 941.7
A35: 16 | B35: Līgumcena | C35: Caurule‚ caurdures 1250N‚ d=125 | D35: m | E35: 80 | I35: 12.2 | K35: =ROUND(H35+J35+I35,2) -> 12.2 | L35: =ROUND(E35*F35,2) -> 0 | M35: =ROUND(E35*H35,2) -> 0 | N35: =ROUND(E35*I35,2) -> 976 | O35: =ROUND(E35*J35,2) -> 0 | P35: =ROUND(O35+N35+M35,2) -> 976
A36: 17 | B36: Līgumcena | C36: Kabeļu gala apdare 0.4kV kabelim 5x2.5mm2 | D36: kpl. | E36: 32 | I36: 6.5 | K36: =ROUND(H36+J36+I36,2) -> 6.5 | L36: =ROUND(E36*F36,2) -> 0 | M36: =ROUND(E36*H36,2) -> 0 | N36: =ROUND(E36*I36,2) -> 208 | O36: =ROUND(E36*J36,2) -> 0 | P36: =ROUND(O36+N36+M36,2) -> 208
A37: 18 | B37: Līgumcena | C37: Metāla kabeļu kanāls 30x16mm ar vāku | D37: m | E37: 130 | I37: 16.8 | K37: 7 | L37: =ROUND(E37*F37,2) -> 0 | M37: =ROUND(E37*H37,2) -> 0 | N37: =ROUND(E37*I37,2) -> 2184 | O37: =ROUND(E37*J37,2) -> 0 | P37: =ROUND(O37+N37+M37,2) -> 2184
A38: 19 | B38: Līgumcena | C38: Sadalnes dzesēšanas sistēma | D38: kpl. | E38: 2 | I38: 145.3 | K38: 7 | L38: =ROUND(E38*F38,2) -> 0 | M38: =ROUND(E38*H38,2) -> 0 | N38: =ROUND(E38*I38,2) -> 290.6 | O38: =ROUND(E38*J38,2) -> 0 | P38: =ROUND(O38+N38+M38,2) -> 290.6
A39: 20 | B39: Līgumcena | C39: Tērauda trose cinkota d=8mm | D39: m | E39: 140 | I39: 0.65 | K39: =ROUND(H39+J39+I39,2) -> 0.65 | L39: =ROUND(E39*F39,2) -> 0 | M39: =ROUND(E39*H39,2) -> 0 | N39: =ROUND(E39*I39,2) -> 91 | O39: =ROUND(E39*J39,2) -> 0 | P39: =ROUND(O39+N39+M39,2) -> 91
