Workbook

Sheet lapu saraksts
C1: SIA ''LESTROJ''
A4: Būves nosaukums: | C4: =PBK!C15 -> FUTBOLA LAUKUMA APGAISMOJUMA MASTI
A5: Objekta nosaukums: | C5: =PBK!C16 -> ZEMGALAS OLIMPISKAIS CENTRS
A6: Objekta adrese: | C6: =PBK!C17 -> KRONVALDA IELA 24, JELGAVA
A7: Pasūtītajs: | C7: =PBK!C18 -> SIA ''ZEMGALES OLIMPISKAIS CENTRS''
A8: Pasūtījuma Nr.: | C8: =PBK!C19 -> Nr. 01/02/2021
C12: PROJEKTA T (TĀMES) DAĻAS SATURS
B14: Nr.p.k. | D14: Lpp.
B16: 1 | C16: Titullapa | D16: 1
B17: 2 | C17: Projekta saturs | D17: 2
B18: 3 | C18: Skaidrojošais apraksts | D18: 3
B19: 4 | C19: Tāme | D19: 4
B20: 5 | C20: Darba apjomi | D20: 25
C42: Vadims ĻETKO tel. 29701250, partiya@inbox.lv
C44: =PBK!D36 -> 29_10_2021
C45: JELGAVA

Sheet paskaidrojuma
A2: SKAIDROJOŠAIS APRAKSTS
A5: Tāme sastadīta, pamatojoties uz arhitektes IVETAS LĀČAUNIECES, SIA ''ARHITEKTŪRA UN VIDE'' izstrādāto
A6: un akceptēto būvprojektu "FUTBOLA LAUKUMA APGAISMOJUMA MASTI, KRONVALDA IELĀ 24, JELGAVĀ''
A9: Pasūtītājs - SIA ''ZEMGALES OLIMPISKAIS CENTRS''
A11: Tāme sastādīta atbilstoši finanšu piedāvajuma formai, saskaņā ar 27.05.2017. Ministru kabineta
A12: Noteikumiem Nr.239 "Noteikumi par Latvijas Būvnormatīvu LBN 501-17 "Būvizmaksu noteikšanas kartība"
A13: prasībām. Tāme norāda kopējo cenu, par kādu tiks veikti būvprojektam atbilstoši būvdarbi.
A16: Darbaspēka izmaksas
A18: Strādnieka vidēja stundu likme pieņemta, pamatojoties uz situāciju darba tirgū 2021.gadā - 11.63 euro/stundā, | B18: =9.38*160 -> 1500.8 | C18: EUR/mēn
A19: laika normas pieņemtas pēc BIK kataloga un pēc apakšuzņēmēju firmu finanšu piedāvajumiem
A20: Kopēja darbietilpība sastāda 3 046,76 cilvēk/stundas | B20: ='KOPS '!J28 -> 3046.76
A22: Materiālu izmaksas
A24: Materiāli izcenoti 2021. gada tirgus cenās
A27: *** SIA ''MB BETONS" - betons
A29: *** SIA ''BŪVNIECĪBAS NAMS KURŠI" - elektromontāžas materiāli
A35: Mehānismu izmaksas
A37: Mehānismu un iekārtu nomas pieņemtas pēc SIA ''Stats noma" piedāvājumiem.
A38: Nolietojums ietver dažādu instrumentu un sīku mehānismu amortizāciju.
A39: Piegādātāja iekārtas tāmes cenā ieskaitīta palaišana, regulēšana un tās apgūšana.
A41: Būvizmaksas ietver:
A43: *** virsizdevumi (t.sk. Darba aizsardzība) - 10% no tiešām izmaksām;
A44: *** peļņa - 5% no tiešām izmaksām;
A45: *** sociālais nodoklis - 23,59 % no darba algas;
... A53: Vadims LETKO 29/10/2021

Sheet PBK
D1: LBN 501-17, 3 pielikums
D4: APSTIPRINU
C6: (pasūtītāja paraksts un tā atsifrējums)
D8: Z.v.
D10: 2021.g
C13: BŪVNIECĪBAS KOPTĀME
B15: Būves nosaukums: | C15: FUTBOLA LAUKUMA APGAISMOJUMA MASTI
B16: Objekta nosaukums: | C16: ZEMGALAS OLIMPISKAIS CENTRS
B17: Būves adrese: | C17: KRONVALDA IELA 24, JELGAVA
B18: Pasūtītājs: | C18: SIA ''ZEMGALES OLIMPISKAIS CENTRS''
B19: Pasūtījuma Nr.: | C19: Nr. 01/02/2021
B20: Pretendents:
B24: Nr. P.k. | C24: Objekta nosaukums | D24: Objekta izmaksas (EURO)
B26: 1 | C26: =C15 -> FUTBOLA LAUKUMA APGAISMOJUMA MASTI | D26: ='KOPS '!F32 -> 275019.79
C28: Kopā: | D28: =SUM(D26:D27) -> 275019.79
B30: Finanšu rezerve neparedzētiem darbiem, 1 % | D30: =D26*0 -> 0 | E30: (PVN likums, p.142)
B31: Kopā ar finanšu rezerve neparedzētiem darbiem | D31: =D28+D30 -> 275019.79
B32: PVN 21% | D32: =D31*0.21 -> 57754.155
B33: Pavisam būvniecības izmaksas: | D33: =D32+D31 -> 332773.94
B36: Sastādija: | C36: Vadims ĻETKO | D36: 29_10_2021
C37: (paraksts un tā atšifrējums, datums)
C39: 20-6832
B41: Pārbaudīja: | C41: Vadims ĻETKO | D41: =D36 -> 29_10_2021
C42: (paraksts un tā atšifrējums, datums)
C44: 20-6832

Sheet KOPS 
H1: LBN 501-17, 6 pielikums
A2: Kopsavilkuma aprēķini pa darbu veidiem vai konstruktīvajiem elementiem
A3: (Darba veids vai konstruktīvā elementa nosaukums)
A5: Objekta nosaukums: | D5: =PBK!C15 -> FUTBOLA LAUKUMA APGAISMOJUMA MASTI
A6: Būves nosaukums: | D6: =PBK!C16 -> ZEMGALAS OLIMPISKAIS CENTRS
A7: Objekta adrese: | D7: =PBK!C17 -> KRONVALDA IELA 24, JELGAVA
A8: Pasūtītājs: | D8: =PBK!C18 -> SIA ''ZEMGALES OLIMPISKAIS CENTRS''
A9: Pasūtījuma Nr.: | D9: =PBK!C19 -> Nr. 01/02/2021
A10: Pretendents: | D10: =PBK!C20 -> 0
D12: Par kopejo summu, EUR | E12: =F32 -> 275019.79
D13: Kopējā darbietilpība, c/h | E13: =J28 -> 3046.76
D15: Tāme sastādīta 2021. gada | E15: 29. | F15: oktobrī
A17: Nr.p.k. | B17: Kods, tāmes Nr. | C17: Saisinājums | D17: Darba veids vai konstruktīvā elementa nosaukums | F17: Tāmes izmaksas (EUR) | G17: Tai skaitā | J17: Darbietilpība (c/h)
G18: darba alga (EUR) | H18: materiāli (EUR) | I18: mehānismi (EUR)
D19: 1. Būvdarbi
A20: 1 | B20: 1--1 | C20: BS | D20: BŪVLAUKUMA SAGATAVOŠANA UN UZTURĒŠANA | F20: =G20+H20+I20 -> 8472.61 | G20: =BS!M61 -> 1892.57 | H20: =BS!N61 -> 4216.26 | I20: =BS!O61 -> 2363.78 | J20: =BS!L61 -> 162.68
A21: 2 | B21: 1--2 | C21: ST 1 | D21: PAMATU IZBŪVE APGAISMOJUMA STABAM Nr.1 | F21: =G21+H21+I21 -> 14181.78 | G21: ='ST 1'!M71 -> 3872.84 | H21: ='ST 1'!N71 -> 3371.19 | I21: ='ST 1'!O71 -> 6937.75 | J21: ='ST 1'!L71 -> 332.99
A22: 3 | B22: 1--3 | C22: ST 2 | D22: PAMATU IZBŪVE APGAISMOJUMA STABAM Nr.2 | F22: =G22+H22+I22 -> 14181.78 | G22: ='ST 2'!M71 -> 3872.84 | H22: ='ST 2'!N71 -> 3371.19 | I22: ='ST 2'!O71 -> 6937.75 | J22: ='ST 2'!L71 -> 332.99
A23: 4 | B23: 1--4 | C23: ST 3 | D23: PAMATU IZBŪVE APGAISMOJUMA STABAM Nr.3 | F23: =G23+H23+I23 -> 15137.59 | G23: ='ST 3'!M71 -> 4147.96 | H23: ='ST 3'!N71 -> 3862.23 | I23: ='ST 3'!O71 -> 7127.4 | J23: ='ST 3'!L71 -> 356.65
A24: 5 | B24: 1--5 | C24: ST 4 | D24: PAMATU IZBŪVE APGAISMOJUMA STABAM Nr.4 | F24: =G24+H24+I24 -> 18480.13 | G24: ='ST 4'!M101 -> 5184.69 | H24: ='ST 4'!N101 -> 4900.92 | I24: ='ST 4'!O101 -> 8394.52 | J24: ='ST 4'!L101 -> 445.77
D25: 1. Būvdarbi
A26: 6 | B26: 2--1 | C26: EL | D26: ELEKTROMONTĀŽAS DARBI | F26: =G26+H26+I26 -> 168693.75 | G26: =EL!M72 -> 16459.87 | H26: =EL!N72 -> 151406.1 | I26: =EL!O72 -> 827.78 | J26: =EL!L72 -> 1415.68
F27: =G27+H27+I27 -> 0
F28: =SUM(F20:F27) -> 239147.64 | G28: =SUM(G20:G27) -> 35430.77 | H28: =SUM(H20:H27) -> 171127.89 | I28: =SUM(I20:I27) -> 32588.98 | J28: =SUM(J20:J27) -> 3046.76
A29: Virsizdevumi | E29: 0.1 | F29: =F28*E29 -> 23914.764
A30: t.sk.darba aizsardzība
A31: Peļņa | E31: 0.05 | F31: =E31*F28 -> 11957.382
A32: Pavisam kopā | F32: =F31+F30+F29+F28 -> 275019.79
A34: Sastādija: | D34: =PBK!C36 -> Vadims ĻETKO | F34: =PBK!D36 -> 29_10_2021
D35: (paraksts un tā atšifrējums, datums)
A36: Sertifikāta Nr.: | D36: =PBK!C39 -> 20-6832
A38: Parbaudīja: | D38: =PBK!C41 -> Vadims ĻETKO | F38: =F34 -> 29_10_2021
D39: (paraksts un tā atšifrējums, datums)
D41: =PBK!C44 -> 20-6832

Sheet BS
D1: LOKĀLĀ TĀME Nr. | I1: 1--1
C2: BŪVLAUKUMA SAGATAVOŠANA UN UZTURĒŠANA
C3: (Darba veids vai konstruktīvā elementa nosaukums)
A5: Būves nosaukums: | C5: =PBK!C15 -> FUTBOLA LAUKUMA APGAISMOJUMA MASTI
A6: Objekta nosaukums: | C6: =PBK!C16 -> ZEMGALAS OLIMPISKAIS CENTRS
A7: Objekta adrese: | C7: =PBK!C17 -> KRONVALDA IELA 24, JELGAVA
A8: Pasūtītājs: | C8: =PBK!C18 -> SIA ''ZEMGALES OLIMPISKAIS CENTRS''
A9: Pasūtījuma Nr.: | C9: =PBK!C19 -> Nr. 01/02/2021
A10: Pretendents: | C10: =PBK!C20 -> 0
A12: Tāme sastādīta 2021. gada tirgus cenās, pamatojoties uz TP DOP daļas rasējumiem | K12: Tāmes izmaksas: | N12: =P61 -> 8472.61 | P12: EUR
I14: Tāme sastādīta: | L14: 2021 | M14: gada | N14: ='KOPS '!E15 -> 29. | O14: ='KOPS '!F15 -> oktobrī
A16: Nr.p.k. | B16: Kods | C16: Darba nosaukums | D16: Mērvienība | E16: Daudzums | F16: Vienības izmaksas | L16: Kopā uz visu apjomu
F17: laika norma (c/h) | G17: darba samaksas likme (EUR/h) | H17: darba alga (EUR) | I17: būvistrādājumi (EUR) | J17: mehānismi (EUR) | K17: Kopā (EUR) | L17: darbietilpība (c/h) | M17: darba alga (EUR) | N17: būvistrādājumi (EUR) | O17: mehānismi (EUR) | P17: summa (EUR)
A18: 1 | B18: 2 | C18: 3 | D18: 4 | E18: 5 | F18: 6 | G18: 7 | H18: 8 | I18: 9 | J18: 10 | K18: 11 | L18: 12 | M18: 13 | N18: 14 | O18: 15 | P18: 16
C19: 1. BŪVLAUKUMA SAGATAVOŠANA
A20: 1 | B20: Līgumcena | C20: Pagaidu žoga ar vārtiem montāža, demontāža | D20: tek.m | E20: =4*(20) -> 80 | F20: 0.12 | G20: 11.63 | H20: =ROUND(F20*G20,2) -> 1.4 | J20: 0.06 | K20: =ROUND(H20+J20+I20,2) -> 1.46 | L20: =ROUND(E20*F20,2) -> 9.6 | M20: =ROUND(E20*H20,2) -> 112 | N20: =ROUND(E20*I20,2) -> 0 | O20: =ROUND(E20*J20,2) -> 4.8 | P20: =ROUND(O20+N20+M20,2) -> 116.8
A21: 2 | B21: Līgumcena | C21: Bio tualetes montāža, demontāža | D21: gab | E21: 1 | F21: 1 | G21: 11.63 | H21: =ROUND(F21*G21,2) -> 11.63 | J21: 0.54 | K21: =ROUND(H21+J21+I21,2) -> 12.17 | L21: =ROUND(E21*F21,2) -> 1 | M21: =ROUND(E21*H21,2) -> 11.63 | N21: =ROUND(E21*I21,2) -> 0 | O21: =ROUND(E21*J21,2) -> 0.54 | P21: =ROUND(O21+N21+M21,2) -> 12.17
A22: 3 | B22: Līgumcena | C22: Moduļa tipa konteinera montāža, demontāža | D22: gab | E22: 1 | F22: 1 | G22: 11.63 | H22: =ROUND(F22*G22,2) -> 11.63 | J22: 0.54 | K22: =ROUND(H22+J22+I22,2) -> 12.17 | L22: =ROUND(E22*F22,2) -> 1 | M22: =ROUND(E22*H22,2) -> 11.63 | N22: =ROUND(E22*I22,2) -> 0 | O22: =ROUND(E22*J22,2) -> 0.54 | P22: =ROUND(O22+N22+M22,2) -> 12.17
A23: 4 | B23: Līgumcena | C23: Būvtāfeles montāža | D23: gab | E23: 1 | F23: 1 | G23: 11.63 | H23: =ROUND(F23*G23,2) -> 11.63 | I23: 55 | J23: 0.54 | K23: =ROUND(H23+J23+I23,2) -> 67.17 | L23: =ROUND(E23*F23,2) -> 1 | M23: =ROUND(E23*H23,2) -> 11.63 | N23: =ROUND(E23*I23,2) -> 55 | O23: =ROUND(E23*J23,2) -> 0.54 | P23: =ROUND(O23+N23+M23,2) -> 67.17
A24: 5 | B24: Līgumcena | C24: Pagaidu EL sadalnes un tīklu izbūve | D24: kompl | E24: 1 | F24: 8 | G24: 11.63 | H24: =ROUND(F24*G24,2) -> 93.04 | I24: 64.46 | J24: 2.16 | K24: =ROUND(H24+J24+I24,2) -> 159.66 | L24: =ROUND(E24*F24,2) -> 8 | M24: =ROUND(E24*H24,2) -> 93.04 | N24: =ROUND(E24*I24,2) -> 64.46 | O24: =ROUND(E24*J24,2) -> 2.16 | P24: =ROUND(O24+N24+M24,2) -> 159.66
A25: 6 | B25: Līgumcena | C25: Beramo materiālu noliktavas izveide | D25: m2 | E25: 40 | F25: 0.15 | G25: 11.63 | H25: =ROUND(F25*G25,2) -> 1.74 | I25: =15*1.2*0.15 -> 2.7 | J25: 0.58 | K25: =ROUND(H25+J25+I25,2) -> 5.02 | L25: =ROUND(E25*F25,2) -> 6 | M25: =ROUND(E25*H25,2) -> 69.6 | N25: =ROUND(E25*I25,2) -> 108 | O25: =ROUND(E25*J25,2) -> 23.2 | P25: =ROUND(O25+N25+M25,2) -> 200.8
A26: 7 | B26: Līgumcena | C26: Citi būvlaukuma izveides darbi | D26: kompl | E26: 1 | F26: 4 | G26: 11.63 | H26: =ROUND(F26*G26,2) -> 46.52 | J26: 10 | K26: =ROUND(H26+J26+I26,2) -> 56.52 | L26: =ROUND(E26*F26,2) -> 4 | M26: =ROUND(E26*H26,2) -> 46.52 | N26: =ROUND(E26*I26,2) -> 0 | O26: =ROUND(E26*J26,2) -> 10 | P26: =ROUND(O26+N26+M26,2) -> 56.52
C27: 2. BŪVLAUKUMA UZTURĒŠANA
A28: 1 | B28: Līgumcena | C28: Bio tualetes apkalpošana 4 reizes mēnesī un noma | D28: mēn | E28: 3 | J28: 75 | K28: =ROUND(H28+J28+I28,2) -> 75 | L28: =ROUND(E28*F28,2) -> 0 | M28: =ROUND(E28*H28,2) -> 0 | N28: =ROUND(E28*I28,2) -> 0 | O28: =ROUND(E28*J28,2) -> 225 | P28: =ROUND(O28+N28+M28,2) -> 225
A29: 2 | B29: Līgumcena | C29: Moduļa tipa konteinera noma | D29: mēn | E29: =E28 -> 3 | J29: =120*E22 -> 120 | K29: =ROUND(H29+J29+I29,2) -> 120 | L29: =ROUND(E29*F29,2) -> 0 | M29: =ROUND(E29*H29,2) -> 0 | N29: =ROUND(E29*I29,2) -> 0 | O29: =ROUND(E29*J29,2) -> 360 | P29: =ROUND(O29+N29+M29,2) -> 360
A30: 3 | B30: Līgumcena | C30: Pagaidu žoga ar vārtiem noma | D30: mēn | E30: =E28 -> 3 | J30: =E20*1.1 -> 88 | K30: =ROUND(H30+J30+I30,2) -> 88 | L30: =ROUND(E30*F30,2) -> 0 | M30: =ROUND(E30*H30,2) -> 0 | N30: =ROUND(E30*I30,2) -> 0 | O30: =ROUND(E30*J30,2) -> 264 | P30: =ROUND(O30+N30+M30,2) -> 264
A31: 4 | B31: Līgumcena | C31: Elektrības izmaksas | D31: mēn | E31: =E28 -> 3 | J31: 45 | K31: =ROUND(H31+J31+I31,2) -> 45 | L31: =ROUND(E31*F31,2) -> 0 | M31: =ROUND(E31*H31,2) -> 0 | N31: =ROUND(E31*I31,2) -> 0 | O31: =ROUND(E31*J31,2) -> 135 | P31: =ROUND(O31+N31+M31,2) -> 135
A32: 5 | B32: Līgumcena | C32: Būvgružu konteineru īres, izvešanas un utilizācijas izmaksas | D32: mēn | E32: =E29 -> 3 | J32: 280 | K32: =ROUND(H32+J32+I32,2) -> 280 | L32: =ROUND(E32*F32,2) -> 0 | M32: =ROUND(E32*H32,2) -> 0 | N32: =ROUND(E32*I32,2) -> 0 | O32: =ROUND(E32*J32,2) -> 840 | P32: =ROUND(O32+N32+M32,2) -> 840
C33: 3. SAGATAVOŠANAS UN ATJAUNOŠANAS DARBI PIE APGAISMOJUMA STABA Nr.1
A34: 1 | B34: Līgumcena | C34: Esošā žoga demontāža un pēc būvdarbu pabeigšanas montāža atpakaļ (tanī skaitā bojāto elementu izbūve no jauna) | D34: tek.m | E34: 7.5 | F34: 1 | G34: 11.63 | H34: =ROUND(F34*G34,2) -> 11.63 | I34: 25 | K34: =ROUND(H34+J34+I34,2) -> 36.63 | L34: =ROUND(E34*F34,2) -> 7.5 | M34: =ROUND(E34*H34,2) -> 87.23 | N34: =ROUND(E34*I34,2) -> 187.5 | O34: =ROUND(E34*J34,2) -> 0 | P34: =ROUND(O34+N34+M34,2) -> 274.73
A35: 2 | B35: Līgumcena | C35: ELT kabeļu tranšejas darbu zonas norobežošana ar brīdinājuma lentām | D35: tek.m | E35: 96 | F35: 0.03 | G35: 11.63 | H35: =ROUND(F35*G35,2) -> 0.35 | I35: 0.25 | K35: =ROUND(H35+J35+I35,2) -> 0.6 | L35: =ROUND(E35*F35,2) -> 2.88 | M35: =ROUND(E35*H35,2) -> 33.6 | N35: =ROUND(E35*I35,2) -> 24 | O35: =ROUND(E35*J35,2) -> 0 | P35: =ROUND(O35+N35+M35,2) -> 57.6
A36: 3 | B36: Līgumcena | C36: Būvniecības darbu zonas norobežošana ar brīdinājuma lentām | D36: tek.m | E36: 60 | F36: 0.03 | G36: 11.63 | H36: =ROUND(F36*G36,2) -> 0.35 | I36: 0.25 | K36: =ROUND(H36+J36+I36,2) -> 0.6 | L36: =ROUND(E36*F36,2) -> 1.8 | M36: =ROUND(E36*H36,2) -> 21 | N36: =ROUND(E36*I36,2) -> 15 | O36: =ROUND(E36*J36,2) -> 0 | P36: =ROUND(O36+N36+M36,2) -> 36
A37: 4 | B37: Līgumcena | C37: Zālāja atjaunošana pēc pāļu urbšanas iekārtas demobilizācijas, ~600m2 (tanī skaitā pārvietošanās ceļš līdz apgaismes stabam Nr.4) | D37: kompl | E37: 1 | F37: 8 | G37: 11.63 | H37: =ROUND(F37*G37,2) -> 93.04 | I37: =275*1.74 -> 478.5 | J37: =100*0.15*36*0.1 -> 54 | K37: =ROUND(H37+J37+I37,2) -> 625.54 | L37: =ROUND(E37*F37,2) -> 8 | M37: =ROUND(E37*H37,2) -> 93.04 | N37: =ROUND(E37*I37,2) -> 478.5 | O37: =ROUND(E37*J37,2) -> 54 | P37: =ROUND(O37+N37+M37,2) -> 625.54
A38: 5 | B38: Līgumcena | C38: Betona bruģakmens atjaunošana pēc ELT kabeļa izbūves un urb.iekārtas.iebraukšanas darba zonā (tanī skaitā pēc pāļu urbšanas iekārtas pārvietošanas uz stabu Nr.4), ~80m2 | D38: kompl | E38: 1 | F38: 8 | G38: 11.63 | H38: =ROUND(F38*G38,2) -> 93.04 | I38: =375*1.74 -> 652.5 | J38: =100*0.15*36*0.1 -> 54 | K38: =ROUND(H38+J38+I38,2) -> 799.54 | L38: =ROUND(E38*F38,2) -> 8 | M38: =ROUND(E38*H38,2) -> 93.04 | N38: =ROUND(E38*I38,2) -> 652.5 | O38: =ROUND(E38*J38,2) -> 54 | P38: =ROUND(O38+N38+M38,2) -> 799.54
A39: 6 | B39: Līgumcena | C39: Citi būvlaukuma izveides darbi | D39: kompl | E39: 1 | F39: 4 | G39: 11.63 | H39: =ROUND(F39*G39,2) -> 46.52 | J39: 3 | K39: =ROUND(H39+J39+I39,2) -> 49.52 | L39: =ROUND(E39*F39,2) -> 4 | M39: =ROUND(E39*H39,2) -> 46.52 | N39: =ROUND(E39*I39,2) -> 0 | O39: =ROUND(E39*J39,2) -> 3 | P39: =ROUND(O39+N39+M39,2) -> 49.52
C40: 4. SAGATAVOŠANAS UN ATJAUNOŠANAS DARBI PIE APGAISMOJUMA STABA Nr.2
A41: 1 | B41: Līgumcena | C41: Būvniecības darbu zonas norobežošana ar brīdinājuma lentām | D41: tek.m | E41: 120 | F41: 0.03 | G41: 11.63 | H41: =ROUND(F41*G41,2) -> 0.35 | I41: 0.25 | K41: =ROUND(H41+J41+I41,2) -> 0.6 | L41: =ROUND(E41*F41,2) -> 3.6 | M41: =ROUND(E41*H41,2) -> 42 | N41: =ROUND(E41*I41,2) -> 30 | O41: =ROUND(E41*J41,2) -> 0 | P41: =ROUND(O41+N41+M41,2) -> 72
A42: 2 | B42: Līgumcena | C42: Zālāja atjaunošana pēc pāļu urbšanas iekārtas demobilizācijas, ~220m2 | D42: kompl | E42: 1 | F42: 8 | G42: 11.63 | H42: =ROUND(F42*G42,2) -> 93.04 | I42: =50*1.74 -> 87 | J42: =100*0.15*36*0.1 -> 54 | K42: =ROUND(H42+J42+I42,2) -> 234.04 | L42: =ROUND(E42*F42,2) -> 8 | M42: =ROUND(E42*H42,2) -> 93.04 | N42: =ROUND(E42*I42,2) -> 87 | O42: =ROUND(E42*J42,2) -> 54 | P42: =ROUND(O42+N42+M42,2) -> 234.04
A43: 3 | B43: Līgumcena | C43: Betona bruģakmens atjaunošana pēc pāļu urbšanas iekārtas demobilizācijas un ELT kabeļa izbūves, ~115m2 | D43: kompl | E43: 1 | F43: 8 | G43: 11.63 | H43: =ROUND(F43*G43,2) -> 93.04 | I43: =475*1.74 -> 826.5 | J43: =100*0.15*36*0.1 -> 54 | K43: =ROUND(H43+J43+I43,2) -> 973.54 | L43: =ROUND(E43*F43,2) -> 8 | M43: =ROUND(E43*H43,2) -> 93.04 | N43: =ROUND(E43*I43,2) -> 826.5 | O43: =ROUND(E43*J43,2) -> 54 | P43: =ROUND(O43+N43+M43,2) -> 973.54
A44: 4 | B44: Līgumcena | C44: Citi būvlaukuma izveides darbi | D44: kompl | E44: 1 | F44: 4 | G44: 11.63 | H44: =ROUND(F44*G44,2) -> 46.52 | J44: 3 | K44: =ROUND(H44+J44+I44,2) -> 49.52 | L44: =ROUND(E44*F44,2) -> 4 | M44: =ROUND(E44*H44,2) -> 46.52 | N44: =ROUND(E44*I44,2) -> 0 | O44: =ROUND(E44*J44,2) -> 3 | P44: =ROUND(O44+N44+M44,2) -> 49.52
C45: 5. SAGATAVOŠANAS UN ATJAUNOŠANAS DARBI PIE APGAISMOJUMA STABA Nr.3
A46: 1 | B46: Līgumcena | C46: Esošā žoga demontāža un pēc būvdarbu pabeigšanas montāža atpakaļ (tanī skaitā bojāto elementu izbūve no jauna) | D46: tek.m | E46: 10 | F46: 1 | G46: 11.63 | H46: =ROUND(F46*G46,2) -> 11.63 | I46: 25 | K46: =ROUND(H46+J46+I46,2) -> 36.63 | L46: =ROUND(E46*F46,2) -> 10 | M46: =ROUND(E46*H46,2) -> 116.3 | N46: =ROUND(E46*I46,2) -> 250 | O46: =ROUND(E46*J46,2) -> 0 | P46: =ROUND(O46+N46+M46,2) -> 366.3
A47: 2 | B47: Līgumcena | C47: Būvniecības darbu zonas norobežošana ar brīdinājuma lentām | D47: tek.m | E47: 50 | F47: 0.03 | G47: 11.63 | H47: =ROUND(F47*G47,2) -> 0.35 | I47: 0.25 | K47: =ROUND(H47+J47+I47,2) -> 0.6 | L47: =ROUND(E47*F47,2) -> 1.5 | M47: =ROUND(E47*H47,2) -> 17.5 | N47: =ROUND(E47*I47,2) -> 12.5 | O47: =ROUND(E47*J47,2) -> 0 | P47: =ROUND(O47+N47+M47,2) -> 30
A48: 3 | B48: Līgumcena | C48: Zālāja atjaunošana pēc pāļu urbšanas iekārtas demobilizācijas, ~200m2 | D48: kompl | E48: 1 | F48: 8 | G48: 11.63 | H48: =ROUND(F48*G48,2) -> 93.04 | I48: =100*1.74 -> 174 | J48: =100*0.15*36*0.1 -> 54 | K48: =ROUND(H48+J48+I48,2) -> 321.04 | L48: =ROUND(E48*F48,2) -> 8 | M48: =ROUND(E48*H48,2) -> 93.04 | N48: =ROUND(E48*I48,2) -> 174 | O48: =ROUND(E48*J48,2) -> 54 | P48: =ROUND(O48+N48+M48,2) -> 321.04
A49: 4 | B49: Līgumcena | C49: Betona bruģakmens atjaunošana pēc pāļu urbšanas iekārtas demobilizācijas, ~15m2 | D49: kompl | E49: 1 | F49: 8 | G49: 11.63 | H49: =ROUND(F49*G49,2) -> 93.04 | I49: =15*1.74 -> 26.1 | J49: =100*0.15*36*0.1 -> 54 | K49: =ROUND(H49+J49+I49,2) -> 173.14 | L49: =ROUND(E49*F49,2) -> 8 | M49: =ROUND(E49*H49,2) -> 93.04 | N49: =ROUND(E49*I49,2) -> 26.1 | O49: =ROUND(E49*J49,2) -> 54 | P49: =ROUND(O49+N49+M49,2) -> 173.14
A50: 5 | B50: Līgumcena | C50: Citi būvlaukuma izveides darbi | D50: kompl | E50: 1 | F50: 4 | G50: 11.63 | H50: =ROUND(F50*G50,2) -> 46.52 | J50: 3 | K50: =ROUND(H50+J50+I50,2) -> 49.52 | L50: =ROUND(E50*F50,2) -> 4 | M50: =ROUND(E50*H50,2) -> 46.52 | N50: =ROUND(E50*I50,2) -> 0 | O50: =ROUND(E50*J50,2) -> 3 | P50: =ROUND(O50+N50+M50,2) -> 49.52
C51: 6. SAGATAVOŠANAS UN ATJAUNOŠANAS DARBI PIE APGAISMOJUMA STABA Nr.4
A52: 1 | B52: Līgumcena | C52: Esošā žoga demontāža un pēc būvdarbu pabeigšanas montāža atpakaļ (tanī skaitā bojāto elementu izbūve no jauna) | D52: tek.m | E52: 15 | F52: 1 | G52: 11.63 | H52: =ROUND(F52*G52,2) -> 11.63 | I52: 25 | K52: =ROUND(H52+J52+I52,2) -> 36.63 | L52: =ROUND(E52*F52,2) -> 15 | M52: =ROUND(E52*H52,2) -> 174.45 | N52: =ROUND(E52*I52,2) -> 375 | O52: =ROUND(E52*J52,2) -> 0 | P52: =ROUND(O52+N52+M52,2) -> 549.45
A53: 2 | B53: Līgumcena | C53: ELT kabeļu tranšejas darbu zonas norobežošana ar brīdinājuma lentām | D53: tek.m | E53: 10 | F53: 0.03 | G53: 11.63 | H53: =ROUND(F53*G53,2) -> 0.35 | I53: 0.25 | K53: =ROUND(H53+J53+I53,2) -> 0.6 | L53: =ROUND(E53*F53,2) -> 0.3 | M53: =ROUND(E53*H53,2) -> 3.5 | N53: =ROUND(E53*I53,2) -> 2.5 | O53: =ROUND(E53*J53,2) -> 0 | P53: =ROUND(O53+N53+M53,2) -> 6
A54: 3 | B54: Līgumcena | C54: Būvniecības darbu zonas norobežošana ar brīdinājuma lentām | D54: tek.m | E54: 50 | F54: 0.03 | G54: 11.63 | H54: =ROUND(F54*G54,2) -> 0.35 | I54: 0.25 | K54: =ROUND(H54+J54+I54,2) -> 0.6 | L54: =ROUND(E54*F54,2) -> 1.5 | M54: =ROUND(E54*H54,2) -> 17.5 | N54: =ROUND(E54*I54,2) -> 12.5 | O54: =ROUND(E54*J54,2) -> 0 | P54: =ROUND(O54+N54+M54,2) -> 30
A55: 4 | B55: Līgumcena | C55: Zemes darbi, norakt uzbērumu ~45m3 un sagatavot vietu pāļa urbšanas iekārtai. Tanī skaitā uzbēruma atjaunošana pēc būvdarbiem | D55: kompl | E55: 1 | F55: 8 | G55: 11.63 | H55: =ROUND(F55*G55,2) -> 93.04 | I55: =300*1.74 -> 522 | J55: =100*0.15*36*0.1 -> 54 | K55: =ROUND(H55+J55+I55,2) -> 669.04 | L55: =ROUND(E55*F55,2) -> 8 | M55: =ROUND(E55*H55,2) -> 93.04 | N55: =ROUND(E55*I55,2) -> 522 | O55: =ROUND(E55*J55,2) -> 54 | P55: =ROUND(O55+N55+M55,2) -> 669.04
A56: 5 | B56: Līgumcena | C56: Zālāja atjaunošana pēc pāļu urbšanas iekārtas demobilizācijas, ~300m2 | D56: kompl | E56: 1 | F56: 8 | G56: 11.63 | H56: =ROUND(F56*G56,2) -> 93.04 | I56: =100*1.74 -> 174 | J56: =100*0.15*36*0.1 -> 54 | K56: =ROUND(H56+J56+I56,2) -> 321.04 | L56: =ROUND(E56*F56,2) -> 8 | M56: =ROUND(E56*H56,2) -> 93.04 | N56: =ROUND(E56*I56,2) -> 174 | O56: =ROUND(E56*J56,2) -> 54 | P56: =ROUND(O56+N56+M56,2) -> 321.04
A57: 6 | B57: Līgumcena | C57: Citi būvlaukuma izveides darbi | D57: kompl | E57: 1 | F57: 4 | G57: 11.63 | H57: =ROUND(F57*G57,2) -> 46.52 | J57: 3 | K57: =ROUND(H57+J57+I57,2) -> 49.52 | L57: =ROUND(E57*F57,2) -> 4 | M57: =ROUND(E57*H57,2) -> 46.52 | N57: =ROUND(E57*I57,2) -> 0 | O57: =ROUND(E57*J57,2) -> 3 | P57: =ROUND(O57+N57+M57,2) -> 49.52
C58: 7. ORGANIZATORISKIE PAKALPOJUMI
A59: 1 | B59: Līgumcena | C59: Darbu veikšanas projekta izstrāde un tā saskaņošana ar atbildīgajām instancēm | D59: kompl | E59: 1 | F59: 8 | G59: 11.63 | H59: =ROUND(F59*G59,2) -> 93.04 | I59: =80*1.74 -> 139.2 | J59: =100*0.15*36*0.1 -> 54 | K59: =ROUND(H59+J59+I59,2) -> 286.24 | L59: =ROUND(E59*F59,2) -> 8 | M59: =ROUND(E59*H59,2) -> 93.04 | N59: =ROUND(E59*I59,2) -> 139.2 | O59: =ROUND(E59*J59,2) -> 54 | P59: =ROUND(O59+N59+M59,2) -> 286.24
C61: Tiešas izmaksas kopā, t.sk. Darba dēvēja socialais nodoklis (23.59%) | L61: =SUM(L19:L60) -> 162.68 | M61: =SUM(M19:M60) -> 1892.57 | N61: =SUM(N19:N60) -> 4216.26 | O61: =SUM(O19:O60) -> 2363.78 | P61: =SUM(P19:P60) -> 8472.61
A63: Sastādija: | C63: =PBK!C36 -> Vadims ĻETKO | D63: =PBK!D36 -> 29_10_2021 | G63: Pārbaudija: | I63: =PBK!C41 -> Vadims ĻETKO | N63: =D63 -> 29_10_2021
C64: (paraksts un tā atšifrējums, datums) | K64: (paraksts un tā atšifrējums, datums)
A66: Sertifikāta Nr.: | C66: =PBK!C39 -> 20-6832 | I66: =PBK!C44 -> 20-6832

Sheet ST 1
L1: LBN 501-17, 5 pielikums
D2: LOKĀLĀ TĀME Nr. | I2: 1--2
C3: PAMATU IZBŪVE APGAISMOJUMA STABAM Nr.1
C4: (Darba veids vai konstruktīvā elementa nosaukums)
A6: Būves nosaukums: | C6: =PBK!C15 -> FUTBOLA LAUKUMA APGAISMOJUMA MASTI
A7: Objekta nosaukums: | C7: =PBK!C16 -> ZEMGALAS OLIMPISKAIS CENTRS
A8: Objekta adrese: | C8: =PBK!C17 -> KRONVALDA IELA 24, JELGAVA
A9: Pasūtītājs: | C9: =PBK!C18 -> SIA ''ZEMGALES OLIMPISKAIS CENTRS''
A10: Pasūtījuma Nr.: | C10: =PBK!C19 -> Nr. 01/02/2021
A11: Pretendents: | C11: =PBK!C20 -> 0
A13: Tāme sastādīta 2021. gada tirgus cenās, pamatojoties uz BK daļas rasējumiem | K13: Tāmes izmaksas: | N13: =P71 -> 14181.78 | P13: EUR
I15: Tāme sastādīta: | L15: 2021 | M15: gada | N15: ='KOPS '!E15 -> 29. | O15: ='KOPS '!F15 -> oktobrī
A17: Nr.p.k. | B17: Kods | C17: Darba nosaukums | D17: Mērvienība | E17: Daudzums | F17: Vienības izmaksas | L17: Kopā uz visu apjomu
F18: laika norma (c/h) | G18: darba samaksas likme (EUR/h) | H18: darba alga (EUR) | I18: būvistrādājumi (EUR) | J18: mehānismi (EUR) | K18: Kopā (EUR) | L18: darbietilpība (c/h) | M18: darba alga (EUR) | N18: būvistrādājumi (EUR) | O18: mehānismi (EUR) | P18: summa (EUR)
A19: 1 | B19: 2 | C19: 3 | D19: 4 | E19: 5 | F19: 6 | G19: 7 | H19: 8 | I19: 9 | J19: 10 | K19: 11 | L19: 12 | M19: 13 | N19: 14 | O19: 15 | P19: 16
C20: 1. ZEMES DARBI
A21: 1 | B21: Līgumcena | C21: Pamatu gabarītu un būvasu nospraušana pēc koordinātām | D21: kompl | E21: 1 | F21: 8 | G21: 11.63 | H21: =ROUND(F21*G21,2) -> 93.04 | J21: 80 | K21: =ROUND(H21+J21+I21,2) -> 173.04 | L21: =ROUND(E21*F21,2) -> 8 | M21: =ROUND(E21*H21,2) -> 93.04 | N21: =ROUND(E21*I21,2) -> 0 | O21: =ROUND(E21*J21,2) -> 80 | P21: =ROUND(O21+N21+M21,2) -> 173.04 | Q21: augsnes, atvešana, zālāja iesēšana?! It kā kaut kāds apjoms norādīts pie BS, bet ne detalizēts. Kaut kā jāpieraksta, ka augsne vedama atpakaļ?!
A22: 2 | B22: Līgumcena | C22: Koka konstrukcija būvasu atzīmēšanai | D22: kompl | E22: 1 | F22: 4 | G22: 11.63 | H22: =ROUND(F22*G22,2) -> 46.52 | I22: 20 | J22: 0.5 | K22: =ROUND(H22+J22+I22,2) -> 67.02 | L22: =ROUND(E22*F22,2) -> 4 | M22: =ROUND(E22*H22,2) -> 46.52 | N22: =ROUND(E22*I22,2) -> 20 | O22: =ROUND(E22*J22,2) -> 0.5 | P22: =ROUND(O22+N22+M22,2) -> 67.02
A23: 3 | B23: Līgumcena | C23: Augsnes kārtas 400 mm noņemšana | D23: m2 | E23: =5*5 -> 25 | F23: =0.15*0.4 -> 0.06 | G23: 11.63 | H23: =ROUND(F23*G23,2) -> 0.7 | J23: =4.5*0.4 -> 1.8 | K23: =ROUND(H23+J23+I23,2) -> 2.5 | L23: =ROUND(E23*F23,2) -> 1.5 | M23: =ROUND(E23*H23,2) -> 17.5 | N23: =ROUND(E23*I23,2) -> 0 | O23: =ROUND(E23*J23,2) -> 45 | P23: =ROUND(O23+N23+M23,2) -> 62.5
A24: 4 | B24: Līgumcena | C24: Augsnes kārtas transportēšana līdz 10 km | D24: m3 | E24: =E23*0.4 -> 10 | J24: 4.5 | K24: =ROUND(H24+J24+I24,2) -> 4.5 | L24: =ROUND(E24*F24,2) -> 0 | M24: =ROUND(E24*H24,2) -> 0 | N24: =ROUND(E24*I24,2) -> 0 | O24: =ROUND(E24*J24,2) -> 45 | P24: =ROUND(O24+N24+M24,2) -> 45
A25: 5 | B25: Līgumcena | C25: Pamatu rakšana (mehanizēti) | D25: m3 | E25: =5*5*0.8 -> 20 | F25: 0.15 | G25: 11.63 | H25: =ROUND(F25*G25,2) -> 1.74 | J25: 4.5 | K25: =ROUND(H25+J25+I25,2) -> 6.24 | L25: =ROUND(E25*F25,2) -> 3 | M25: =ROUND(E25*H25,2) -> 34.8 | N25: =ROUND(E25*I25,2) -> 0 | O25: =ROUND(E25*J25,2) -> 90 | P25: =ROUND(O25+N25+M25,2) -> 124.8
A26: 6 | B26: Līgumcena | C26: Pamatu rakšana (roku darbs), 3% | D26: m3 | E26: =E25*0.03 -> 0.6 | F26: 2 | G26: 11.63 | H26: =ROUND(F26*G26,2) -> 23.26 | K26: =ROUND(H26+J26+I26,2) -> 23.26 | L26: =ROUND(E26*F26,2) -> 1.2 | M26: =ROUND(E26*H26,2) -> 13.96 | N26: =ROUND(E26*I26,2) -> 0 | O26: =ROUND(E26*J26,2) -> 0 | P26: =ROUND(O26+N26+M26,2) -> 13.96
A27: 7 | B27: Līgumcena | C27: Nederīgas grunts transportēšana līdz 10 km | D27: m3 | E27: =E25+E26 -> 20.6 | J27: =J24 -> 4.5 | K27: =ROUND(H27+J27+I27,2) -> 4.5 | L27: =ROUND(E27*F27,2) -> 0 | M27: =ROUND(E27*H27,2) -> 0 | N27: =ROUND(E27*I27,2) -> 0 | O27: =ROUND(E27*J27,2) -> 92.7 | P27: =ROUND(O27+N27+M27,2) -> 92.7
A28: 8 | B28: Līgumcena | C28: Grunts pamatnes līdzināšana, blietēšana | D28: m2 | E28: =E23 -> 25 | F28: 0.05 | G28: 11.63 | H28: =ROUND(F28*G28,2) -> 0.58 | J28: =H28 -> 0.58 | K28: =ROUND(H28+J28+I28,2) -> 1.16 | L28: =ROUND(E28*F28,2) -> 1.25 | M28: =ROUND(E28*H28,2) -> 14.5 | N28: =ROUND(E28*I28,2) -> 0 | O28: =ROUND(E28*J28,2) -> 14.5 | P28: =ROUND(O28+N28+M28,2) -> 29
A29: 9 | B29: Līgumcena | C29: Būvbedres aizbēršana ar pievesto smilti, blietējot pa kārtām | D29: m3 | E29: =E24+E27-3*3*0.6-0.405*3.14*0.625*0.625 -> 24.703242 | F29: =F25*2 -> 0.3 | G29: 11.63 | H29: =ROUND(F29*G29,2) -> 3.49 | J29: =J25 -> 4.5 | K29: =ROUND(H29+J29+I29,2) -> 7.99 | L29: =ROUND(E29*F29,2) -> 7.41 | M29: =ROUND(E29*H29,2) -> 86.21 | N29: =ROUND(E29*I29,2) -> 0 | O29: =ROUND(E29*J29,2) -> 111.16 | P29: =ROUND(O29+N29+M29,2) -> 197.37
A30: 10 | C30: Smilts ar piegādi | D30: m2 | E30: =E25 -> 20 | I30: 8 | K30: =ROUND(H30+J30+I30,2) -> 8 | L30: =ROUND(E30*F30,2) -> 0 | M30: =ROUND(E30*H30,2) -> 0 | N30: =ROUND(E30*I30,2) -> 160 | O30: =ROUND(E30*J30,2) -> 0 | P30: =ROUND(O30+N30+M30,2) -> 160
C31: 2. PĀĻU MONTĀŽA
A32: 1 | B32: Līgumcena | C32: Pāļu montāžas iekārtas mobilizācija un demobilizācija | D32: kompl | E32: 1 | F32: 80 | G32: 11.63 | H32: =ROUND(F32*G32,2) -> 930.4 | J32: 1750 | K32: =ROUND(H32+J32+I32,2) -> 2680.4 | L32: =ROUND(E32*F32,2) -> 80 | M32: =ROUND(E32*H32,2) -> 930.4 | N32: =ROUND(E32*I32,2) -> 0 | O32: =ROUND(E32*J32,2) -> 1750 | P32: =ROUND(O32+N32+M32,2) -> 2680.4
A33: 2 | B33: Līgumcena | C33: Pāļu dzSP-1, L=8480 mm, d=300 mm montāža | D33: gab | E33: 4 | F33: 16 | G33: 11.63 | H33: =ROUND(F33*G33,2) -> 186.08 | J33: =8.5*45 -> 382.5 | K33: =ROUND(H33+J33+I33,2) -> 568.58 | L33: =ROUND(E33*F33,2) -> 64 | M33: =ROUND(E33*H33,2) -> 744.32 | N33: =ROUND(E33*I33,2) -> 0 | O33: =ROUND(E33*J33,2) -> 1530 | P33: =ROUND(O33+N33+M33,2) -> 2274.32
A34: 3 | C34: Betons C30/37 XC2 XF1 | D34: m3 | E34: =E33*8.48*3.14*0.15*0.15*1.1 -> 2.6360928 | I34: 85 | J34: =90*0.25 -> 22.5 | K34: =ROUND(H34+J34+I34,2) -> 107.5 | L34: =ROUND(E34*F34,2) -> 0 | M34: =ROUND(E34*H34,2) -> 0 | N34: =ROUND(E34*I34,2) -> 224.07 | O34: =ROUND(E34*J34,2) -> 59.31 | P34: =ROUND(O34+N34+M34,2) -> 283.38
A35: 4 | C35: Armatūra B500B, dažādi diametri | D35: t | E35: =E33*96.1*1.15/1000 -> 0.44206 | I35: 990 | K35: =ROUND(H35+J35+I35,2) -> 990 | L35: =ROUND(E35*F35,2) -> 0 | M35: =ROUND(E35*H35,2) -> 0 | N35: =ROUND(E35*I35,2) -> 437.64 | O35: =ROUND(E35*J35,2) -> 0 | P35: =ROUND(O35+N35+M35,2) -> 437.64
A36: 5 | C36: Betona piegāde | D36: reiss | E36: =ROUND(E34/7,2) -> 0.38 | J36: 65 | K36: =ROUND(H36+J36+I36,2) -> 65 | L36: =ROUND(E36*F36,2) -> 0 | M36: =ROUND(E36*H36,2) -> 0 | N36: =ROUND(E36*I36,2) -> 0 | O36: =ROUND(E36*J36,2) -> 24.7 | P36: =ROUND(O36+N36+M36,2) -> 24.7
A37: 6 | C37: Betona sūknis | D37: m/st | E37: =ROUND(E34/3,2) -> 0.88 | J37: 90 | K37: =ROUND(H37+J37+I37,2) -> 90 | L37: =ROUND(E37*F37,2) -> 0 | M37: =ROUND(E37*H37,2) -> 0 | N37: =ROUND(E37*I37,2) -> 0 | O37: =ROUND(E37*J37,2) -> 79.2 | P37: =ROUND(O37+N37+M37,2) -> 79.2
A38: 7 | B38: Līgumcena | C38: Pāļu statiskā pārbaude | D38: gab | E38: 1 | F38: 16 | G38: 11.63 | H38: =ROUND(F38*G38,2) -> 186.08 | I38: 200 | J38: 1450 | K38: =ROUND(H38+J38+I38,2) -> 1836.08 | L38: =ROUND(E38*F38,2) -> 16 | M38: =ROUND(E38*H38,2) -> 186.08 | N38: =ROUND(E38*I38,2) -> 200 | O38: =ROUND(E38*J38,2) -> 1450 | P38: =ROUND(O38+N38+M38,2) -> 1836.08
C39: 3. REŽĢOGA dzPR-1 BETONĒŠANA
A40: 1 | B40: Līgumcena | C40: Šķembu kārtas piebēršana ar blietēšanu, 200 mm | D40: m2 | E40: =4*4 -> 16 | F40: 0.2 | G40: 11.63 | H40: =ROUND(F40*G40,2) -> 2.33 | J40: =4.5*0.2 -> 0.9 | K40: =ROUND(H40+J40+I40,2) -> 3.23 | L40: =ROUND(E40*F40,2) -> 3.2 | M40: =ROUND(E40*H40,2) -> 37.28 | N40: =ROUND(E40*I40,2) -> 0 | O40: =ROUND(E40*J40,2) -> 14.4 | P40: =ROUND(O40+N40+M40,2) -> 51.68
A41: 2 | C41: Šķembas ar piegādi | D41: m3 | E41: =E40*0.2*1.3 -> 4.16 | I41: 18 | L41: =ROUND(E41*F41,2) -> 0 | M41: =ROUND(E41*H41,2) -> 0 | N41: =ROUND(E41*I41,2) -> 74.88 | O41: =ROUND(E41*J41,2) -> 0 | P41: =ROUND(O41+N41+M41,2) -> 74.88
A42: 3 | B42: Līgumcena | C42: Hidroizolācijas kārtas ieklāšana (sagataves kārtai un pamatiem) | D42: m2 | E42: =E40*2 -> 32 | F42: 0.03 | G42: 11.63 | H42: =ROUND(F42*G42,2) -> 0.35 | K42: =ROUND(H42+J42+I42,2) -> 0.35 | L42: =ROUND(E42*F42,2) -> 0.96 | M42: =ROUND(E42*H42,2) -> 11.2 | N42: =ROUND(E42*I42,2) -> 0 | O42: =ROUND(E42*J42,2) -> 0 | P42: =ROUND(O42+N42+M42,2) -> 11.2
A43: 4 | C43: PVC plēve | D43: m2 | E43: =E42*1.15 -> 36.8 | I43: 0.45 | L43: =ROUND(E43*F43,2) -> 0 | M43: =ROUND(E43*H43,2) -> 0 | N43: =ROUND(E43*I43,2) -> 16.56 | O43: =ROUND(E43*J43,2) -> 0 | P43: =ROUND(O43+N43+M43,2) -> 16.56
A44: 5 | B44: Līgumcena | C44: Betona sagataves kārtas izveide zem režģoga | D44: m3 | E44: =3.3*3.3*0.1 -> 1.089 | F44: 6 | G44: 11.63 | H44: =ROUND(F44*G44,2) -> 69.78 | J44: 2.5 | K44: =ROUND(H44+J44+I44,2) -> 72.28 | L44: =ROUND(E44*F44,2) -> 6.53 | M44: =ROUND(E44*H44,2) -> 75.99 | N44: =ROUND(E44*I44,2) -> 0 | O44: =ROUND(E44*J44,2) -> 2.72 | P44: =ROUND(O44+N44+M44,2) -> 78.71
A45: 6 | C45: Betons C7.5/10 | D45: m3 | E45: =E44*1.1 -> 1.1979 | I45: 87 | J45: =90*0.25 -> 22.5 | K45: =ROUND(H45+J45+I45,2) -> 109.5 | L45: =ROUND(E45*F45,2) -> 0 | M45: =ROUND(E45*H45,2) -> 0 | N45: =ROUND(E45*I45,2) -> 104.22 | O45: =ROUND(E45*J45,2) -> 26.95 | P45: =ROUND(O45+N45+M45,2) -> 131.17
A46: 7 | C46: Betona piegāde | D46: reiss | E46: =ROUND(E45/7,2) -> 0.17 | J46: 65 | K46: =ROUND(H46+J46+I46,2) -> 65 | L46: =ROUND(E46*F46,2) -> 0 | M46: =ROUND(E46*H46,2) -> 0 | N46: =ROUND(E46*I46,2) -> 0 | O46: =ROUND(E46*J46,2) -> 11.05 | P46: =ROUND(O46+N46+M46,2) -> 11.05
A47: 8 | C47: Betona sūknis | D47: m/st | E47: =ROUND(E45/3,2) -> 0.4 | J47: 90 | K47: =ROUND(H47+J47+I47,2) -> 90 | L47: =ROUND(E47*F47,2) -> 0 | M47: =ROUND(E47*H47,2) -> 0 | N47: =ROUND(E47*I47,2) -> 0 | O47: =ROUND(E47*J47,2) -> 36 | P47: =ROUND(O47+N47+M47,2) -> 36
A48: 9 | B48: Līgumcena | C48: Veidņu noma, montāža, demontāža režģogam, H=600 mm | D48: m2 | E48: =4*3*0.6 -> 7.2 | F48: 1 | G48: 11.63 | H48: =ROUND(F48*G48,2) -> 11.63 | J48: 0.23 | K48: =ROUND(H48+J48+I48,2) -> 11.86 | L48: =ROUND(E48*F48,2) -> 7.2 | M48: =ROUND(E48*H48,2) -> 83.74 | N48: =ROUND(E48*I48,2) -> 0 | O48: =ROUND(E48*J48,2) -> 1.66 | P48: =ROUND(O48+N48+M48,2) -> 85.4
A49: 10 | C49: Mitrumizturīgs finieris 21 mm | D49: m2 | E49: =E48*1.2 -> 8.64 | I49: 15.36 | K49: =ROUND(H49+J49+I49,2) -> 15.36 | L49: =ROUND(E49*F49,2) -> 0 | M49: =ROUND(E49*H49,2) -> 0 | N49: =ROUND(E49*I49,2) -> 132.71 | O49: =ROUND(E49*J49,2) -> 0 | P49: =ROUND(O49+N49+M49,2) -> 132.71
A50: 11 | C50: Kokmateriāls | D50: m3 | E50: =ROUND(E48*0.02,2) -> 0.14 | I50: =340*1.1 -> 374 | K50: =ROUND(H50+J50+I50,2) -> 374 | L50: =ROUND(E50*F50,2) -> 0 | M50: =ROUND(E50*H50,2) -> 0 | N50: =ROUND(E50*I50,2) -> 52.36 | O50: =ROUND(E50*J50,2) -> 0 | P50: =ROUND(O50+N50+M50,2) -> 52.36
A51: 12 | C51: Veidņu eļļa | D51: l | E51: =E48*0.12 -> 0.864 | I51: 1.24 | K51: =ROUND(H51+J51+I51,2) -> 1.24 | L51: =ROUND(E51*F51,2) -> 0 | M51: =ROUND(E51*H51,2) -> 0 | N51: =ROUND(E51*I51,2) -> 1.07 | O51: =ROUND(E51*J51,2) -> 0 | P51: =ROUND(O51+N51+M51,2) -> 1.07
A52: 13 | C52: Skrūves | D52: gab | E52: =ROUND(E48*16,0) -> 115 | I52: 0.04 | K52: =ROUND(H52+J52+I52,2) -> 0.04 | L52: =ROUND(E52*F52,2) -> 0 | M52: =ROUND(E52*H52,2) -> 0 | N52: =ROUND(E52*I52,2) -> 4.6 | O52: =ROUND(E52*J52,2) -> 0 | P52: =ROUND(O52+N52+M52,2) -> 4.6
A53: 14 | B53: Līgumcena | C53: Režģoga armēšana | D53: t | E53: =667.4*1/1000 -> 0.6674 | F53: 32 | G53: 11.63 | H53: =ROUND(F53*G53,2) -> 372.16 | J53: 18 | K53: =ROUND(H53+J53+I53,2) -> 390.16 | L53: =ROUND(E53*F53,2) -> 21.36 | M53: =ROUND(E53*H53,2) -> 248.38 | N53: =ROUND(E53*I53,2) -> 0 | O53: =ROUND(E53*J53,2) -> 12.01 | P53: =ROUND(O53+N53+M53,2) -> 260.39
A54: 15 | C54: Distanceri ''saulīte'' | D54: gab | E54: =ROUND(E48*2.2,0) -> 16 | I54: 0.09 | K54: =ROUND(H54+J54+I54,2) -> 0.09 | L54: =ROUND(E54*F54,2) -> 0 | M54: =ROUND(E54*H54,2) -> 0 | N54: =ROUND(E54*I54,2) -> 1.44 | O54: =ROUND(E54*J54,2) -> 0 | P54: =ROUND(O54+N54+M54,2) -> 1.44
A55: 16 | C55: Distanceri ''sēnes'' | D55: gab | E55: =ROUND(E40*1*4,0) -> 64 | I55: 0.12 | K55: =ROUND(H55+J55+I55,2) -> 0.12 | L55: =ROUND(E55*F55,2) -> 0 | M55: =ROUND(E55*H55,2) -> 0 | N55: =ROUND(E55*I55,2) -> 7.68 | O55: =ROUND(E55*J55,2) -> 0 | P55: =ROUND(O55+N55+M55,2) -> 7.68
A56: 17 | C56: Stiegrojums B500B dažādi diametri | D56: t | E56: =E53*1.18 -> 0.787532 | I56: 1050 | K56: =ROUND(H56+J56+I56,2) -> 1050 | L56: =ROUND(E56*F56,2) -> 0 | M56: =ROUND(E56*H56,2) -> 0 | N56: =ROUND(E56*I56,2) -> 826.91 | O56: =ROUND(E56*J56,2) -> 0 | P56: =ROUND(O56+N56+M56,2) -> 826.91
A57: 18 | C57: Sienamais materiāls | D57: kompl | E57: =E53 -> 0.6674 | I57: 29 | K57: =ROUND(H57+J57+I57,2) -> 29 | L57: =ROUND(E57*F57,2) -> 0 | M57: =ROUND(E57*H57,2) -> 0 | N57: =ROUND(E57*I57,2) -> 19.35 | O57: =ROUND(E57*J57,2) -> 0 | P57: =ROUND(O57+N57+M57,2) -> 19.35
A58: 19 | B58: Līgumcena | C58: Ieliekamā enkura montāža | D58: gab | E58: 16 | F58: 1.5 | G58: 11.63 | H58: =ROUND(F58*G58,2) -> 17.45 | J58: =H58*0.05 -> 0.8725 | K58: =ROUND(H58+J58+I58,2) -> 18.32 | L58: =ROUND(E58*F58,2) -> 24 | M58: =ROUND(E58*H58,2) -> 279.2 | N58: =ROUND(E58*I58,2) -> 0 | O58: =ROUND(E58*J58,2) -> 13.96 | P58: =ROUND(O58+N58+M58,2) -> 293.16
A59: 20 | C59: Vītņstienis d.27 L=1100 mm, S355J0 | D59: gab | E59: 16 | I59: 21.57 | K59: =ROUND(H59+J59+I59,2) -> 21.57 | L59: =ROUND(E59*F59,2) -> 0 | M59: =ROUND(E59*H59,2) -> 0 | N59: =ROUND(E59*I59,2) -> 345.12 | O59: =ROUND(E59*J59,2) -> 0 | P59: =ROUND(O59+N59+M59,2) -> 345.12
A60: 21 | C60: Paplāksnes, M27/6, S355J0 | D60: gab | E60: 16 | I60: 1 | K60: =ROUND(H60+J60+I60,2) -> 1 | L60: =ROUND(E60*F60,2) -> 0 | M60: =ROUND(E60*H60,2) -> 0 | N60: =ROUND(E60*I60,2) -> 16 | O60: =ROUND(E60*J60,2) -> 0 | P60: =ROUND(O60+N60+M60,2) -> 16
A61: 22 | C61: Uzgriežņi M27/7, S355J0 | D61: gab | E61: 32 | I61: 1 | K61: =ROUND(H61+J61+I61,2) -> 1 | L61: =ROUND(E61*F61,2) -> 0 | M61: =ROUND(E61*H61,2) -> 0 | N61: =ROUND(E61*I61,2) -> 32 | O61: =ROUND(E61*J61,2) -> 0 | P61: =ROUND(O61+N61+M61,2) -> 32
A62: 23 | B62: Līgumcena | C62: Režģoga betonēšana, 3000*3000*600 + d.1250*405 mm | D62: m3 | E62: =3*3*0.6+0.405*0.625*0.625*3.14 -> 5.8967578 | F62: 6 | G62: 11.63 | H62: =ROUND(F62*G62,2) -> 69.78 | J62: 2.5 | K62: =ROUND(H62+J62+I62,2) -> 72.28 | L62: =ROUND(E62*F62,2) -> 35.38 | M62: =ROUND(E62*H62,2) -> 411.48 | N62: =ROUND(E62*I62,2) -> 0 | O62: =ROUND(E62*J62,2) -> 14.74 | P62: =ROUND(O62+N62+M62,2) -> 426.22
A63: 24 | C63: Betons C30/37 XC2 XF3 | D63: m3 | E63: =E62*1.1 -> 6.4864336 | I63: 87 | J63: =90*0.25 -> 22.5 | K63: =ROUND(H63+J63+I63,2) -> 109.5 | L63: =ROUND(E63*F63,2) -> 0 | M63: =ROUND(E63*H63,2) -> 0 | N63: =ROUND(E63*I63,2) -> 564.32 | O63: =ROUND(E63*J63,2) -> 145.94 | P63: =ROUND(O63+N63+M63,2) -> 710.26
A64: 25 | C64: Betona piegāde | D64: reiss | E64: =ROUND(E63/7,2) -> 0.93 | J64: 65 | K64: =ROUND(H64+J64+I64,2) -> 65 | L64: =ROUND(E64*F64,2) -> 0 | M64: =ROUND(E64*H64,2) -> 0 | N64: =ROUND(E64*I64,2) -> 0 | O64: =ROUND(E64*J64,2) -> 60.45 | P64: =ROUND(O64+N64+M64,2) -> 60.45
A65: 26 | C65: Betona sūknis | D65: m/st | E65: =ROUND(E63/4,2) -> 1.62 | J65: 90 | K65: =ROUND(H65+J65+I65,2) -> 90 | L65: =ROUND(E65*F65,2) -> 0 | M65: =ROUND(E65*H65,2) -> 0 | N65: =ROUND(E65*I65,2) -> 0 | O65: =ROUND(E65*J65,2) -> 145.8 | P65: =ROUND(O65+N65+M65,2) -> 145.8
C66: 4. APGAISMOJUMA STABS
A67: 1 | B67: Līgumcena | C67: Futbola laukuma apgaismojuma staba piegāde un montāža (tanī skaitā autoceltņa īre) | D67: gab | E67: 1 | F67: =6*8 -> 48 | G67: 11.63 | H67: =ROUND(F67*G67,2) -> 558.24 | J67: =180*6 -> 1080 | K67: =ROUND(H67+J67+I67,2) -> 1638.24 | L67: =ROUND(E67*F67,2) -> 48 | M67: =ROUND(E67*H67,2) -> 558.24 | N67: =ROUND(E67*I67,2) -> 0 | O67: =ROUND(E67*J67,2) -> 1080 | P67: =ROUND(O67+N67+M67,2) -> 1638.24
A68: 2 | C68: Pašbriestošais betons | D68: m3 | E68: =0.2*3.14*0.625*0.625*1.15 -> 0.28210938 | I68: 125 | L68: =ROUND(E68*F68,2) -> 0 | M68: =ROUND(E68*H68,2) -> 0 | N68: =ROUND(E68*I68,2) -> 35.26 | O68: =ROUND(E68*J68,2) -> 0 | P68: =ROUND(O68+N68+M68,2) -> 35.26
A69: 3 | C69: Stiprinajumi un palīgmateriāli | D69: kompl | E69: =E67 -> 1 | I69: 95 | L69: =ROUND(E69*F69,2) -> 0 | M69: =ROUND(E69*H69,2) -> 0 | N69: =ROUND(E69*I69,2) -> 95 | O69: =ROUND(E69*J69,2) -> 0 | P69: =ROUND(O69+N69+M69,2) -> 95
C71: Tiešas izmaksas kopā, t.sk. Darba dēvēja socialais nodoklis (23.59%) | L71: =SUM(L20:L70) -> 332.99 | M71: =SUM(M20:M70) -> 3872.84 | N71: =SUM(N20:N70) -> 3371.19 | O71: =SUM(O20:O70) -> 6937.75 | P71: =SUM(P20:P70) -> 14181.78
A73: Sastādija: | C73: =PBK!C36 -> Vadims ĻETKO | D73: =PBK!D36 -> 29_10_2021 | G73: Pārbaudija: | I73: =PBK!C41 -> Vadims ĻETKO | N73: =D73 -> 29_10_2021
C74: (paraksts un tā atšifrējums, datums) | K74: (paraksts un tā atšifrējums, datums)
A76: Sertifikāta Nr.: | C76: =PBK!C39 -> 20-6832 | I76: =PBK!C44 -> 20-6832

Sheet ST 2
L1: LBN 501-17, 5 pielikums
D2: LOKĀLĀ TĀME Nr. | I2: 1--3
C3: PAMATU IZBŪVE APGAISMOJUMA STABAM Nr.2
C4: (Darba veids vai konstruktīvā elementa nosaukums)
A6: Būves nosaukums: | C6: =PBK!C15 -> FUTBOLA LAUKUMA APGAISMOJUMA MASTI
A7: Objekta nosaukums: | C7: =PBK!C16 -> ZEMGALAS OLIMPISKAIS CENTRS
A8: Objekta adrese: | C8: =PBK!C17 -> KRONVALDA IELA 24, JELGAVA
A9: Pasūtītājs: | C9: =PBK!C18 -> SIA ''ZEMGALES OLIMPISKAIS CENTRS''
A10: Pasūtījuma Nr.: | C10: =PBK!C19 -> Nr. 01/02/2021
A11: Pretendents: | C11: =PBK!C20 -> 0
A13: Tāme sastādīta 2021. gada tirgus cenās, pamatojoties uz BK daļas rasējumiem | K13: Tāmes izmaksas: | N13: =P71 -> 14181.78 | P13: EUR
I15: Tāme sastādīta: | L15: 2021 | M15: gada | N15: ='KOPS '!E15 -> 29. | O15: ='KOPS '!F15 -> oktobrī
A17: Nr.p.k. | B17: Kods | C17: Darba nosaukums | D17: Mērvienība | E17: Daudzums | F17: Vienības izmaksas | L17: Kopā uz visu apjomu
F18: laika norma (c/h) | G18: darba samaksas likme (EUR/h) | H18: darba alga (EUR) | I18: būvistrādājumi (EUR) | J18: mehānismi (EUR) | K18: Kopā (EUR) | L18: darbietilpība (c/h) | M18: darba alga (EUR) | N18: būvistrādājumi (EUR) | O18: mehānismi (EUR) | P18: summa (EUR)
A19: 1 | B19: 2 | C19: 3 | D19: 4 | E19: 5 | F19: 6 | G19: 7 | H19: 8 | I19: 9 | J19: 10 | K19: 11 | L19: 12 | M19: 13 | N19: 14 | O19: 15 | P19: 16
C20: 1. ZEMES DARBI
A21: 1 | B21: Līgumcena | C21: Pamatu gabarītu un būvasu nospraušana pēc koordinātām | D21: kompl | E21: 1 | F21: 8 | G21: 11.63 | H21: =ROUND(F21*G21,2) -> 93.04 | J21: 80 | K21: =ROUND(H21+J21+I21,2) -> 173.04 | L21: =ROUND(E21*F21,2) -> 8 | M21: =ROUND(E21*H21,2) -> 93.04 | N21: =ROUND(E21*I21,2) -> 0 | O21: =ROUND(E21*J21,2) -> 80 | P21: =ROUND(O21+N21+M21,2) -> 173.04
A22: 2 | B22: Līgumcena | C22: Koka konstrukcija būvasu atzīmēšanai | D22: kompl | E22: 1 | F22: 4 | G22: 11.63 | H22: =ROUND(F22*G22,2) -> 46.52 | I22: 20 | J22: 0.5 | K22: =ROUND(H22+J22+I22,2) -> 67.02 | L22: =ROUND(E22*F22,2) -> 4 | M22: =ROUND(E22*H22,2) -> 46.52 | N22: =ROUND(E22*I22,2) -> 20 | O22: =ROUND(E22*J22,2) -> 0.5 | P22: =ROUND(O22+N22+M22,2) -> 67.02
A23: 3 | B23: Līgumcena | C23: Augsnes kārtas 400 mm noņemšana | D23: m2 | E23: =5*5 -> 25 | F23: =0.15*0.4 -> 0.06 | G23: 11.63 | H23: =ROUND(F23*G23,2) -> 0.7 | J23: =4.5*0.4 -> 1.8 | K23: =ROUND(H23+J23+I23,2) -> 2.5 | L23: =ROUND(E23*F23,2) -> 1.5 | M23: =ROUND(E23*H23,2) -> 17.5 | N23: =ROUND(E23*I23,2) -> 0 | O23: =ROUND(E23*J23,2) -> 45 | P23: =ROUND(O23+N23+M23,2) -> 62.5
A24: 4 | B24: Līgumcena | C24: Augsnes kārtas transportēšana līdz 10 km | D24: m3 | E24: =E23*0.4 -> 10 | J24: 4.5 | K24: =ROUND(H24+J24+I24,2) -> 4.5 | L24: =ROUND(E24*F24,2) -> 0 | M24: =ROUND(E24*H24,2) -> 0 | N24: =ROUND(E24*I24,2) -> 0 | O24: =ROUND(E24*J24,2) -> 45 | P24: =ROUND(O24+N24+M24,2) -> 45
A25: 5 | B25: Līgumcena | C25: Pamatu rakšana (mehanizēti) | D25: m3 | E25: =5*5*0.8 -> 20 | F25: 0.15 | G25: 11.63 | H25: =ROUND(F25*G25,2) -> 1.74 | J25: 4.5 | K25: =ROUND(H25+J25+I25,2) -> 6.24 | L25: =ROUND(E25*F25,2) -> 3 | M25: =ROUND(E25*H25,2) -> 34.8 | N25: =ROUND(E25*I25,2) -> 0 | O25: =ROUND(E25*J25,2) -> 90 | P25: =ROUND(O25+N25+M25,2) -> 124.8
A26: 6 | B26: Līgumcena | C26: Pamatu rakšana (roku darbs), 3% | D26: m3 | E26: =E25*0.03 -> 0.6 | F26: 2 | G26: 11.63 | H26: =ROUND(F26*G26,2) -> 23.26 | K26: =ROUND(H26+J26+I26,2) -> 23.26 | L26: =ROUND(E26*F26,2) -> 1.2 | M26: =ROUND(E26*H26,2) -> 13.96 | N26: =ROUND(E26*I26,2) -> 0 | O26: =ROUND(E26*J26,2) -> 0 | P26: =ROUND(O26+N26+M26,2) -> 13.96
A27: 7 | B27: Līgumcena | C27: Nederīgas grunts transportēšana līdz 10 km | D27: m3 | E27: =E25+E26 -> 20.6 | J27: =J24 -> 4.5 | K27: =ROUND(H27+J27+I27,2) -> 4.5 | L27: =ROUND(E27*F27,2) -> 0 | M27: =ROUND(E27*H27,2) -> 0 | N27: =ROUND(E27*I27,2) -> 0 | O27: =ROUND(E27*J27,2) -> 92.7 | P27: =ROUND(O27+N27+M27,2) -> 92.7
A28: 8 | B28: Līgumcena | C28: Grunts pamatnes līdzināšana, blietēšana | D28: m2 | E28: =E23 -> 25 | F28: 0.05 | G28: 11.63 | H28: =ROUND(F28*G28,2) -> 0.58 | J28: =H28 -> 0.58 | K28: =ROUND(H28+J28+I28,2) -> 1.16 | L28: =ROUND(E28*F28,2) -> 1.25 | M28: =ROUND(E28*H28,2) -> 14.5 | N28: =ROUND(E28*I28,2) -> 0 | O28: =ROUND(E28*J28,2) -> 14.5 | P28: =ROUND(O28+N28+M28,2) -> 29
A29: 9 | B29: Līgumcena | C29: Būvbedres aizberšana ar pievesto smilti, blietējot pa kārtām | D29: m3 | E29: =E24+E27-3*3*0.6-0.405*3.14*0.625*0.625 -> 24.703242 | F29: =F25*2 -> 0.3 | G29: 11.63 | H29: =ROUND(F29*G29,2) -> 3.49 | J29: =J25 -> 4.5 | K29: =ROUND(H29+J29+I29,2) -> 7.99 | L29: =ROUND(E29*F29,2) -> 7.41 | M29: =ROUND(E29*H29,2) -> 86.21 | N29: =ROUND(E29*I29,2) -> 0 | O29: =ROUND(E29*J29,2) -> 111.16 | P29: =ROUND(O29+N29+M29,2) -> 197.37
A30: 10 | C30: Smilts ar piegādi | D30: m2 | E30: =E25 -> 20 | I30: 8 | K30: =ROUND(H30+J30+I30,2) -> 8 | L30: =ROUND(E30*F30,2) -> 0 | M30: =ROUND(E30*H30,2) -> 0 | N30: =ROUND(E30*I30,2) -> 160 | O30: =ROUND(E30*J30,2) -> 0 | P30: =ROUND(O30+N30+M30,2) -> 160
C31: 2. PĀĻU MONTĀŽA
A32: 1 | B32: Līgumcena | C32: Pāļu montāžas iekārtas mobilizācija un demobilizācija | D32: kompl | E32: 1 | F32: 80 | G32: 11.63 | H32: =ROUND(F32*G32,2) -> 930.4 | J32: 1750 | K32: =ROUND(H32+J32+I32,2) -> 2680.4 | L32: =ROUND(E32*F32,2) -> 80 | M32: =ROUND(E32*H32,2) -> 930.4 | N32: =ROUND(E32*I32,2) -> 0 | O32: =ROUND(E32*J32,2) -> 1750 | P32: =ROUND(O32+N32+M32,2) -> 2680.4
A33: 2 | B33: Līgumcena | C33: Pāļu dzSP-1, L=8480 mm, d=300 mm montāža | D33: gab | E33: 4 | F33: 16 | G33: 11.63 | H33: =ROUND(F33*G33,2) -> 186.08 | J33: =8.5*45 -> 382.5 | K33: =ROUND(H33+J33+I33,2) -> 568.58 | L33: =ROUND(E33*F33,2) -> 64 | M33: =ROUND(E33*H33,2) -> 744.32 | N33: =ROUND(E33*I33,2) -> 0 | O33: =ROUND(E33*J33,2) -> 1530 | P33: =ROUND(O33+N33+M33,2) -> 2274.32
A34: 3 | C34: Betons C30/37 XC2 XF1 | D34: m3 | E34: =E33*8.48*3.14*0.15*0.15*1.1 -> 2.6360928 | I34: 85 | J34: =90*0.25 -> 22.5 | K34: =ROUND(H34+J34+I34,2) -> 107.5 | L34: =ROUND(E34*F34,2) -> 0 | M34: =ROUND(E34*H34,2) -> 0 | N34: =ROUND(E34*I34,2) -> 224.07 | O34: =ROUND(E34*J34,2) -> 59.31 | P34: =ROUND(O34+N34+M34,2) -> 283.38
A35: 4 | C35: Armatūra B500B, dažādi diametri | D35: t | E35: =E33*96.1*1.15/1000 -> 0.44206 | I35: 990 | K35: =ROUND(H35+J35+I35,2) -> 990 | L35: =ROUND(E35*F35,2) -> 0 | M35: =ROUND(E35*H35,2) -> 0 | N35: =ROUND(E35*I35,2) -> 437.64 | O35: =ROUND(E35*J35,2) -> 0 | P35: =ROUND(O35+N35+M35,2) -> 437.64
A36: 5 | C36: Betona piegāde | D36: reiss | E36: =ROUND(E34/7,2) -> 0.38 | J36: 65 | K36: =ROUND(H36+J36+I36,2) -> 65 | L36: =ROUND(E36*F36,2) -> 0 | M36: =ROUND(E36*H36,2) -> 0 | N36: =ROUND(E36*I36,2) -> 0 | O36: =ROUND(E36*J36,2) -> 24.7 | P36: =ROUND(O36+N36+M36,2) -> 24.7
A37: 6 | C37: Betona sūknis | D37: m/st | E37: =ROUND(E34/3,2) -> 0.88 | J37: 90 | K37: =ROUND(H37+J37+I37,2) -> 90 | L37: =ROUND(E37*F37,2) -> 0 | M37: =ROUND(E37*H37,2) -> 0 | N37: =ROUND(E37*I37,2) -> 0 | O37: =ROUND(E37*J37,2) -> 79.2 | P37: =ROUND(O37+N37+M37,2) -> 79.2
A38: 7 | B38: Līgumcena | C38: Pāļu statiskā pārbaude | D38: gab | E38: 1 | F38: 16 | G38: 11.63 | H38: =ROUND(F38*G38,2) -> 186.08 | I38: 200 | J38: 1450 | K38: =ROUND(H38+J38+I38,2) -> 1836.08 | L38: =ROUND(E38*F38,2) -> 16 | M38: =ROUND(E38*H38,2) -> 186.08 | N38: =ROUND(E38*I38,2) -> 200 | O38: =ROUND(E38*J38,2) -> 1450 | P38: =ROUND(O38+N38+M38,2) -> 1836.08
C39: 3. REŽĢOGA dzPR-1 BETONĒŠANA
A40: 1 | B40: Līgumcena | C40: Šķembu kārtas pieberšana ar blietēšanu, 200 mm | D40: m2 | E40: =4*4 -> 16 | F40: 0.2 | G40: 11.63 | H40: =ROUND(F40*G40,2) -> 2.33 | J40: =4.5*0.2 -> 0.9 | K40: =ROUND(H40+J40+I40,2) -> 3.23 | L40: =ROUND(E40*F40,2) -> 3.2 | M40: =ROUND(E40*H40,2) -> 37.28 | N40: =ROUND(E40*I40,2) -> 0 | O40: =ROUND(E40*J40,2) -> 14.4 | P40: =ROUND(O40+N40+M40,2) -> 51.68
A41: 2 | C41: Šķembas ar piegādi | D41: m3 | E41: =E40*0.2*1.3 -> 4.16 | I41: 18 | L41: =ROUND(E41*F41,2) -> 0 | M41: =ROUND(E41*H41,2) -> 0 | N41: =ROUND(E41*I41,2) -> 74.88 | O41: =ROUND(E41*J41,2) -> 0 | P41: =ROUND(O41+N41+M41,2) -> 74.88
A42: 3 | B42: Līgumcena | C42: Hidroizolācijas kārtas ieklāšana (sagataves kārtai un pamatiem) | D42: m2 | E42: =E40*2 -> 32 | F42: 0.03 | G42: 11.63 | H42: =ROUND(F42*G42,2) -> 0.35 | K42: =ROUND(H42+J42+I42,2) -> 0.35 | L42: =ROUND(E42*F42,2) -> 0.96 | M42: =ROUND(E42*H42,2) -> 11.2 | N42: =ROUND(E42*I42,2) -> 0 | O42: =ROUND(E42*J42,2) -> 0 | P42: =ROUND(O42+N42+M42,2) -> 11.2
A43: 4 | C43: PVC plēve | D43: m2 | E43: =E42*1.15 -> 36.8 | I43: 0.45 | L43: =ROUND(E43*F43,2) -> 0 | M43: =ROUND(E43*H43,2) -> 0 | N43: =ROUND(E43*I43,2) -> 16.56 | O43: =ROUND(E43*J43,2) -> 0 | P43: =ROUND(O43+N43+M43,2) -> 16.56
A44: 5 | B44: Līgumcena | C44: Betona sagataves kārtas izveide zem režģoga | D44: m3 | E44: =3.3*3.3*0.1 -> 1.089 | F44: 6 | G44: 11.63 | H44: =ROUND(F44*G44,2) -> 69.78 | J44: 2.5 | K44: =ROUND(H44+J44+I44,2) -> 72.28 | L44: =ROUND(E44*F44,2) -> 6.53 | M44: =ROUND(E44*H44,2) -> 75.99 | N44: =ROUND(E44*I44,2) -> 0 | O44: =ROUND(E44*J44,2) -> 2.72 | P44: =ROUND(O44+N44+M44,2) -> 78.71
A45: 6 | C45: Betons C7.5/10 | D45: m3 | E45: =E44*1.1 -> 1.1979 | I45: 87 | J45: =90*0.25 -> 22.5 | K45: =ROUND(H45+J45+I45,2) -> 109.5 | L45: =ROUND(E45*F45,2) -> 0 | M45: =ROUND(E45*H45,2) -> 0 | N45: =ROUND(E45*I45,2) -> 104.22 | O45: =ROUND(E45*J45,2) -> 26.95 | P45: =ROUND(O45+N45+M45,2) -> 131.17
A46: 7 | C46: Betona piegāde | D46: reiss | E46: =ROUND(E45/7,2) -> 0.17 | J46: 65 | K46: =ROUND(H46+J46+I46,2) -> 65 | L46: =ROUND(E46*F46,2) -> 0 | M46: =ROUND(E46*H46,2) -> 0 | N46: =ROUND(E46*I46,2) -> 0 | O46: =ROUND(E46*J46,2) -> 11.05 | P46: =ROUND(O46+N46+M46,2) -> 11.05
A47: 8 | C47: Betona sūknis | D47: m/st | E47: =ROUND(E45/3,2) -> 0.4 | J47: 90 | K47: =ROUND(H47+J47+I47,2) -> 90 | L47: =ROUND(E47*F47,2) -> 0 | M47: =ROUND(E47*H47,2) -> 0 | N47: =ROUND(E47*I47,2) -> 0 | O47: =ROUND(E47*J47,2) -> 36 | P47: =ROUND(O47+N47+M47,2) -> 36
A48: 9 | B48: Līgumcena | C48: Veidņu noma, montāža, demontāža režģogam, H=600 mm | D48: m2 | E48: =4*3*0.6 -> 7.2 | F48: 1 | G48: 11.63 | H48: =ROUND(F48*G48,2) -> 11.63 | J48: 0.23 | K48: =ROUND(H48+J48+I48,2) -> 11.86 | L48: =ROUND(E48*F48,2) -> 7.2 | M48: =ROUND(E48*H48,2) -> 83.74 | N48: =ROUND(E48*I48,2) -> 0 | O48: =ROUND(E48*J48,2) -> 1.66 | P48: =ROUND(O48+N48+M48,2) -> 85.4
A49: 10 | C49: Mitrumizturīgs finieris 21 mm | D49: m2 | E49: =E48*1.2 -> 8.64 | I49: 15.36 | K49: =ROUND(H49+J49+I49,2) -> 15.36 | L49: =ROUND(E49*F49,2) -> 0 | M49: =ROUND(E49*H49,2) -> 0 | N49: =ROUND(E49*I49,2) -> 132.71 | O49: =ROUND(E49*J49,2) -> 0 | P49: =ROUND(O49+N49+M49,2) -> 132.71
A50: 11 | C50: Kokmateriāls | D50: m3 | E50: =ROUND(E48*0.02,2) -> 0.14 | I50: =340*1.1 -> 374 | K50: =ROUND(H50+J50+I50,2) -> 374 | L50: =ROUND(E50*F50,2) -> 0 | M50: =ROUND(E50*H50,2) -> 0 | N50: =ROUND(E50*I50,2) -> 52.36 | O50: =ROUND(E50*J50,2) -> 0 | P50: =ROUND(O50+N50+M50,2) -> 52.36
A51: 12 | C51: Veidņu eļļa | D51: l | E51: =E48*0.12 -> 0.864 | I51: 1.24 | K51: =ROUND(H51+J51+I51,2) -> 1.24 | L51: =ROUND(E51*F51,2) -> 0 | M51: =ROUND(E51*H51,2) -> 0 | N51: =ROUND(E51*I51,2) -> 1.07 | O51: =ROUND(E51*J51,2) -> 0 | P51: =ROUND(O51+N51+M51,2) -> 1.07
A52: 13 | C52: Skrūves | D52: gab | E52: =ROUND(E48*16,0) -> 115 | I52: 0.04 | K52: =ROUND(H52+J52+I52,2) -> 0.04 | L52: =ROUND(E52*F52,2) -> 0 | M52: =ROUND(E52*H52,2) -> 0 | N52: =ROUND(E52*I52,2) -> 4.6 | O52: =ROUND(E52*J52,2) -> 0 | P52: =ROUND(O52+N52+M52,2) -> 4.6
A53: 14 | B53: Līgumcena | C53: Režģoga armēšana | D53: t | E53: =667.4*1/1000 -> 0.6674 | F53: 32 | G53: 11.63 | H53: =ROUND(F53*G53,2) -> 372.16 | J53: 18 | K53: =ROUND(H53+J53+I53,2) -> 390.16 | L53: =ROUND(E53*F53,2) -> 21.36 | M53: =ROUND(E53*H53,2) -> 248.38 | N53: =ROUND(E53*I53,2) -> 0 | O53: =ROUND(E53*J53,2) -> 12.01 | P53: =ROUND(O53+N53+M53,2) -> 260.39
A54: 15 | C54: Distanceri ''saulīte'' | D54: gab | E54: =ROUND(E48*2.2,0) -> 16 | I54: 0.09 | K54: =ROUND(H54+J54+I54,2) -> 0.09 | L54: =ROUND(E54*F54,2) -> 0 | M54: =ROUND(E54*H54,2) -> 0 | N54: =ROUND(E54*I54,2) -> 1.44 | O54: =ROUND(E54*J54,2) -> 0 | P54: =ROUND(O54+N54+M54,2) -> 1.44
A55: 16 | C55: Distanceri ''sēnes'' | D55: gab | E55: =ROUND(E40*1*4,0) -> 64 | I55: 0.12 | K55: =ROUND(H55+J55+I55,2) -> 0.12 | L55: =ROUND(E55*F55,2) -> 0 | M55: =ROUND(E55*H55,2) -> 0 | N55: =ROUND(E55*I55,2) -> 7.68 | O55: =ROUND(E55*J55,2) -> 0 | P55: =ROUND(O55+N55+M55,2) -> 7.68
A56: 17 | C56: Stiegrojums B500B dažādi diametri | D56: t | E56: =E53*1.18 -> 0.787532 | I56: 1050 | K56: =ROUND(H56+J56+I56,2) -> 1050 | L56: =ROUND(E56*F56,2) -> 0 | M56: =ROUND(E56*H56,2) -> 0 | N56: =ROUND(E56*I56,2) -> 826.91 | O56: =ROUND(E56*J56,2) -> 0 | P56: =ROUND(O56+N56+M56,2) -> 826.91
A57: 18 | C57: Sienamais materiāls | D57: kompl | E57: =E53 -> 0.6674 | I57: 29 | K57: =ROUND(H57+J57+I57,2) -> 29 | L57: =ROUND(E57*F57,2) -> 0 | M57: =ROUND(E57*H57,2) -> 0 | N57: =ROUND(E57*I57,2) -> 19.35 | O57: =ROUND(E57*J57,2) -> 0 | P57: =ROUND(O57+N57+M57,2) -> 19.35
A58: 19 | B58: Līgumcena | C58: Ieliekamā enkura montāža | D58: gab | E58: 16 | F58: 1.5 | G58: 11.63 | H58: =ROUND(F58*G58,2) -> 17.45 | J58: =H58*0.05 -> 0.8725 | K58: =ROUND(H58+J58+I58,2) -> 18.32 | L58: =ROUND(E58*F58,2) -> 24 | M58: =ROUND(E58*H58,2) -> 279.2 | N58: =ROUND(E58*I58,2) -> 0 | O58: =ROUND(E58*J58,2) -> 13.96 | P58: =ROUND(O58+N58+M58,2) -> 293.16
A59: 20 | C59: Vītņstienis d.27 L=1100 mm, S355J0 | D59: gab | E59: 16 | I59: 21.57 | K59: =ROUND(H59+J59+I59,2) -> 21.57 | L59: =ROUND(E59*F59,2) -> 0 | M59: =ROUND(E59*H59,2) -> 0 | N59: =ROUND(E59*I59,2) -> 345.12 | O59: =ROUND(E59*J59,2) -> 0 | P59: =ROUND(O59+N59+M59,2) -> 345.12
A60: 21 | C60: Paplāksnes, M27/6, S355J0 | D60: gab | E60: 16 | I60: 1 | K60: =ROUND(H60+J60+I60,2) -> 1 | L60: =ROUND(E60*F60,2) -> 0 | M60: =ROUND(E60*H60,2) -> 0 | N60: =ROUND(E60*I60,2) -> 16 | O60: =ROUND(E60*J60,2) -> 0 | P60: =ROUND(O60+N60+M60,2) -> 16
A61: 22 | C61: Uzgriežņi M27/7, S355J0 | D61: gab | E61: 32 | I61: 1 | K61: =ROUND(H61+J61+I61,2) -> 1 | L61: =ROUND(E61*F61,2) -> 0 | M61: =ROUND(E61*H61,2) -> 0 | N61: =ROUND(E61*I61,2) -> 32 | O61: =ROUND(E61*J61,2) -> 0 | P61: =ROUND(O61+N61+M61,2) -> 32
A62: 23 | B62: Līgumcena | C62: Režģoga betonēšana, 3000*3000*600 + d.1250*405 mm | D62: m3 | E62: =3*3*0.6+0.405*0.625*0.625*3.14 -> 5.8967578 | F62: 6 | G62: 11.63 | H62: =ROUND(F62*G62,2) -> 69.78 | J62: 2.5 | K62: =ROUND(H62+J62+I62,2) -> 72.28 | L62: =ROUND(E62*F62,2) -> 35.38 | M62: =ROUND(E62*H62,2) -> 411.48 | N62: =ROUND(E62*I62,2) -> 0 | O62: =ROUND(E62*J62,2) -> 14.74 | P62: =ROUND(O62+N62+M62,2) -> 426.22
A63: 24 | C63: Betons C30/37 XC2 XF3 | D63: m3 | E63: =E62*1.1 -> 6.4864336 | I63: 87 | J63: =90*0.25 -> 22.5 | K63: =ROUND(H63+J63+I63,2) -> 109.5 | L63: =ROUND(E63*F63,2) -> 0 | M63: =ROUND(E63*H63,2) -> 0 | N63: =ROUND(E63*I63,2) -> 564.32 | O63: =ROUND(E63*J63,2) -> 145.94 | P63: =ROUND(O63+N63+M63,2) -> 710.26
A64: 25 | C64: Betona piegāde | D64: reiss | E64: =ROUND(E63/7,2) -> 0.93 | J64: 65 | K64: =ROUND(H64+J64+I64,2) -> 65 | L64: =ROUND(E64*F64,2) -> 0 | M64: =ROUND(E64*H64,2) -> 0 | N64: =ROUND(E64*I64,2) -> 0 | O64: =ROUND(E64*J64,2) -> 60.45 | P64: =ROUND(O64+N64+M64,2) -> 60.45
A65: 26 | C65: Betona sūknis | D65: m/st | E65: =ROUND(E63/4,2) -> 1.62 | J65: 90 | K65: =ROUND(H65+J65+I65,2) -> 90 | L65: =ROUND(E65*F65,2) -> 0 | M65: =ROUND(E65*H65,2) -> 0 | N65: =ROUND(E65*I65,2) -> 0 | O65: =ROUND(E65*J65,2) -> 145.8 | P65: =ROUND(O65+N65+M65,2) -> 145.8
C66: 4. APGAISMOJUMA STABS
A67: 1 | B67: Līgumcena | C67: Futbola laukuma apgaismojuma staba piegāde un montāža | D67: gab | E67: 1 | F67: =6*8 -> 48 | G67: 11.63 | H67: =ROUND(F67*G67,2) -> 558.24 | J67: =180*6 -> 1080 | K67: =ROUND(H67+J67+I67,2) -> 1638.24 | L67: =ROUND(E67*F67,2) -> 48 | M67: =ROUND(E67*H67,2) -> 558.24 | N67: =ROUND(E67*I67,2) -> 0 | O67: =ROUND(E67*J67,2) -> 1080 | P67: =ROUND(O67+N67+M67,2) -> 1638.24
A68: 2 | C68: Pašbriestošais betons | D68: m3 | E68: =0.2*3.14*0.625*0.625*1.15 -> 0.28210938 | I68: 125 | L68: =ROUND(E68*F68,2) -> 0 | M68: =ROUND(E68*H68,2) -> 0 | N68: =ROUND(E68*I68,2) -> 35.26 | O68: =ROUND(E68*J68,2) -> 0 | P68: =ROUND(O68+N68+M68,2) -> 35.26
A69: 3 | C69: Stiprinajumi un palīgmateriāli | D69: kompl | E69: =E67 -> 1 | I69: 95 | L69: =ROUND(E69*F69,2) -> 0 | M69: =ROUND(E69*H69,2) -> 0 | N69: =ROUND(E69*I69,2) -> 95 | O69: =ROUND(E69*J69,2) -> 0 | P69: =ROUND(O69+N69+M69,2) -> 95
C71: Tiešas izmaksas kopā, t.sk. Darba dēvēja socialais nodoklis (23.59%) | L71: =SUM(L20:L70) -> 332.99 | M71: =SUM(M20:M70) -> 3872.84 | N71: =SUM(N20:N70) -> 3371.19 | O71: =SUM(O20:O70) -> 6937.75 | P71: =SUM(P20:P70) -> 14181.78
A73: Sastādija: | C73: =PBK!C36 -> Vadims ĻETKO | D73: =PBK!D36 -> 29_10_2021 | G73: Pārbaudija: | I73: =PBK!C41 -> Vadims ĻETKO | N73: =D73 -> 29_10_2021
C74: (paraksts un tā atšifrējums, datums) | K74: (paraksts un tā atšifrējums, datums)
A76: Sertifikāta Nr.: | C76: =PBK!C39 -> 20-6832 | I76: =PBK!C44 -> 20-6832

Sheet ST 3
L1: LBN 501-17, 5 pielikums
D2: LOKĀLĀ TĀME Nr. | I2: 1--4
C3: PAMATU IZBŪVE APGAISMOJUMA STABAM Nr.3
C4: (Darba veids vai konstruktīvā elementa nosaukums)
A6: Būves nosaukums: | C6: =PBK!C15 -> FUTBOLA LAUKUMA APGAISMOJUMA MASTI
A7: Objekta nosaukums: | C7: =PBK!C16 -> ZEMGALAS OLIMPISKAIS CENTRS
A8: Objekta adrese: | C8: =PBK!C17 -> KRONVALDA IELA 24, JELGAVA
A9: Pasūtītājs: | C9: =PBK!C18 -> SIA ''ZEMGALES OLIMPISKAIS CENTRS''
A10: Pasūtījuma Nr.: | C10: =PBK!C19 -> Nr. 01/02/2021
A11: Pretendents: | C11: =PBK!C20 -> 0
A13: Tāme sastādīta 2021. gada tirgus cenās, pamatojoties uz BK daļas rasējumiem | K13: Tāmes izmaksas: | N13: =P71 -> 15137.59 | P13: EUR
I15: Tāme sastādīta: | L15: 2021 | M15: gada | N15: ='KOPS '!E15 -> 29. | O15: ='KOPS '!F15 -> oktobrī
A17: Nr.p.k. | B17: Kods | C17: Darba nosaukums | D17: Mērvienība | E17: Daudzums | F17: Vienības izmaksas | L17: Kopā uz visu apjomu
F18: laika norma (c/h) | G18: darba samaksas likme (EUR/h) | H18: darba alga (EUR) | I18: būvistrādājumi (EUR) | J18: mehānismi (EUR) | K18: Kopā (EUR) | L18: darbietilpība (c/h) | M18: darba alga (EUR) | N18: būvistrādājumi (EUR) | O18: mehānismi (EUR) | P18: summa (EUR)
A19: 1 | B19: 2 | C19: 3 | D19: 4 | E19: 5 | F19: 6 | G19: 7 | H19: 8 | I19: 9 | J19: 10 | K19: 11 | L19: 12 | M19: 13 | N19: 14 | O19: 15 | P19: 16
C20: 1. ZEMES DARBI
A21: 1 | B21: Līgumcena | C21: Pamatu gabarītu un būvasu nospraušana pēc koordinātām | D21: kompl | E21: 1 | F21: 8 | G21: 11.63 | H21: =ROUND(F21*G21,2) -> 93.04 | J21: 80 | K21: =ROUND(H21+J21+I21,2) -> 173.04 | L21: =ROUND(E21*F21,2) -> 8 | M21: =ROUND(E21*H21,2) -> 93.04 | N21: =ROUND(E21*I21,2) -> 0 | O21: =ROUND(E21*J21,2) -> 80 | P21: =ROUND(O21+N21+M21,2) -> 173.04
A22: 2 | B22: Līgumcena | C22: Koka konstrukcija būvasu atzīmēšanai | D22: kompl | E22: 1 | F22: 4 | G22: 11.63 | H22: =ROUND(F22*G22,2) -> 46.52 | I22: 20 | J22: 0.5 | K22: =ROUND(H22+J22+I22,2) -> 67.02 | L22: =ROUND(E22*F22,2) -> 4 | M22: =ROUND(E22*H22,2) -> 46.52 | N22: =ROUND(E22*I22,2) -> 20 | O22: =ROUND(E22*J22,2) -> 0.5 | P22: =ROUND(O22+N22+M22,2) -> 67.02
A23: 3 | B23: Līgumcena | C23: Augsnes kārtas 400 mm noņemšana | D23: m2 | E23: =5*5+0.5*2.816*6.25 -> 33.8 | F23: =0.15*0.4 -> 0.06 | G23: 11.63 | H23: =ROUND(F23*G23,2) -> 0.7 | J23: =4.5*0.4 -> 1.8 | K23: =ROUND(H23+J23+I23,2) -> 2.5 | L23: =ROUND(E23*F23,2) -> 2.03 | M23: =ROUND(E23*H23,2) -> 23.66 | N23: =ROUND(E23*I23,2) -> 0 | O23: =ROUND(E23*J23,2) -> 60.84 | P23: =ROUND(O23+N23+M23,2) -> 84.5
A24: 4 | B24: Līgumcena | C24: Augsnes kārtas transportēšana līdz 10 km | D24: m3 | E24: =E23*0.4 -> 13.52 | J24: 4.5 | K24: =ROUND(H24+J24+I24,2) -> 4.5 | L24: =ROUND(E24*F24,2) -> 0 | M24: =ROUND(E24*H24,2) -> 0 | N24: =ROUND(E24*I24,2) -> 0 | O24: =ROUND(E24*J24,2) -> 60.84 | P24: =ROUND(O24+N24+M24,2) -> 60.84
A25: 5 | B25: Līgumcena | C25: Pamatu rakšana (mehanizēti) | D25: m3 | E25: =5*5*0.8 -> 20 | F25: 0.15 | G25: 11.63 | H25: =ROUND(F25*G25,2) -> 1.74 | J25: 4.5 | K25: =ROUND(H25+J25+I25,2) -> 6.24 | L25: =ROUND(E25*F25,2) -> 3 | M25: =ROUND(E25*H25,2) -> 34.8 | N25: =ROUND(E25*I25,2) -> 0 | O25: =ROUND(E25*J25,2) -> 90 | P25: =ROUND(O25+N25+M25,2) -> 124.8
A26: 6 | B26: Līgumcena | C26: Pamatu rakšana (roku darbs), 3% | D26: m3 | E26: =E25*0.03 -> 0.6 | F26: 2 | G26: 11.63 | H26: =ROUND(F26*G26,2) -> 23.26 | K26: =ROUND(H26+J26+I26,2) -> 23.26 | L26: =ROUND(E26*F26,2) -> 1.2 | M26: =ROUND(E26*H26,2) -> 13.96 | N26: =ROUND(E26*I26,2) -> 0 | O26: =ROUND(E26*J26,2) -> 0 | P26: =ROUND(O26+N26+M26,2) -> 13.96
A27: 7 | B27: Līgumcena | C27: Nederīgas grunts transportēšana līdz 10 km | D27: m3 | E27: =E25+E26 -> 20.6 | J27: =J24 -> 4.5 | K27: =ROUND(H27+J27+I27,2) -> 4.5 | L27: =ROUND(E27*F27,2) -> 0 | M27: =ROUND(E27*H27,2) -> 0 | N27: =ROUND(E27*I27,2) -> 0 | O27: =ROUND(E27*J27,2) -> 92.7 | P27: =ROUND(O27+N27+M27,2) -> 92.7
A28: 8 | B28: Līgumcena | C28: Grunts pamatnes līdzināšana, blietēšana | D28: m2 | E28: =E23 -> 33.8 | F28: 0.05 | G28: 11.63 | H28: =ROUND(F28*G28,2) -> 0.58 | J28: =H28 -> 0.58 | K28: =ROUND(H28+J28+I28,2) -> 1.16 | L28: =ROUND(E28*F28,2) -> 1.69 | M28: =ROUND(E28*H28,2) -> 19.6 | N28: =ROUND(E28*I28,2) -> 0 | O28: =ROUND(E28*J28,2) -> 19.6 | P28: =ROUND(O28+N28+M28,2) -> 39.2
A29: 9 | B29: Līgumcena | C29: Būvbedres aizberšana ar pievesto smilti, blietējot pa kārtām | D29: m3 | E29: =E24+E27-(3*3*0.6*0.5+0.405*3.14*0.625*0.625+4.25*1.816*0.6) -> 26.292442 | F29: =F25*2 -> 0.3 | G29: 11.63 | H29: =ROUND(F29*G29,2) -> 3.49 | J29: =J25 -> 4.5 | K29: =ROUND(H29+J29+I29,2) -> 7.99 | L29: =ROUND(E29*F29,2) -> 7.89 | M29: =ROUND(E29*H29,2) -> 91.76 | N29: =ROUND(E29*I29,2) -> 0 | O29: =ROUND(E29*J29,2) -> 118.32 | P29: =ROUND(O29+N29+M29,2) -> 210.08
A30: 10 | C30: Smilts ar piegādi | D30: m2 | E30: =E25 -> 20 | I30: 8 | K30: =ROUND(H30+J30+I30,2) -> 8 | L30: =ROUND(E30*F30,2) -> 0 | M30: =ROUND(E30*H30,2) -> 0 | N30: =ROUND(E30*I30,2) -> 160 | O30: =ROUND(E30*J30,2) -> 0 | P30: =ROUND(O30+N30+M30,2) -> 160
C31: 2. PĀĻU MONTĀŽA
A32: 1 | B32: Līgumcena | C32: Pāļu montāžas iekārtas mobilizācija un demobilizācija | D32: kompl | E32: 1 | F32: 80 | G32: 11.63 | H32: =ROUND(F32*G32,2) -> 930.4 | J32: 1750 | K32: =ROUND(H32+J32+I32,2) -> 2680.4 | L32: =ROUND(E32*F32,2) -> 80 | M32: =ROUND(E32*H32,2) -> 930.4 | N32: =ROUND(E32*I32,2) -> 0 | O32: =ROUND(E32*J32,2) -> 1750 | P32: =ROUND(O32+N32+M32,2) -> 2680.4
A33: 2 | B33: Līgumcena | C33: Pāļu dzSP-1, L=8480 mm, d=300 mm montāža | D33: gab | E33: 4 | F33: 16 | G33: 11.63 | H33: =ROUND(F33*G33,2) -> 186.08 | J33: =8.5*45 -> 382.5 | K33: =ROUND(H33+J33+I33,2) -> 568.58 | L33: =ROUND(E33*F33,2) -> 64 | M33: =ROUND(E33*H33,2) -> 744.32 | N33: =ROUND(E33*I33,2) -> 0 | O33: =ROUND(E33*J33,2) -> 1530 | P33: =ROUND(O33+N33+M33,2) -> 2274.32
A34: 3 | C34: Betons C30/37 XC2 XF1 | D34: m3 | E34: =E33*8.48*3.14*0.15*0.15*1.1 -> 2.6360928 | I34: 85 | J34: =90*0.25 -> 22.5 | K34: =ROUND(H34+J34+I34,2) -> 107.5 | L34: =ROUND(E34*F34,2) -> 0 | M34: =ROUND(E34*H34,2) -> 0 | N34: =ROUND(E34*I34,2) -> 224.07 | O34: =ROUND(E34*J34,2) -> 59.31 | P34: =ROUND(O34+N34+M34,2) -> 283.38
A35: 4 | C35: Armatūra B500B, dažādi diametri | D35: t | E35: =E33*96.1*1.15/1000 -> 0.44206 | I35: 990 | K35: =ROUND(H35+J35+I35,2) -> 990 | L35: =ROUND(E35*F35,2) -> 0 | M35: =ROUND(E35*H35,2) -> 0 | N35: =ROUND(E35*I35,2) -> 437.64 | O35: =ROUND(E35*J35,2) -> 0 | P35: =ROUND(O35+N35+M35,2) -> 437.64
A36: 5 | C36: Betona piegāde | D36: reiss | E36: =ROUND(E34/7,2) -> 0.38 | J36: 65 | K36: =ROUND(H36+J36+I36,2) -> 65 | L36: =ROUND(E36*F36,2) -> 0 | M36: =ROUND(E36*H36,2) -> 0 | N36: =ROUND(E36*I36,2) -> 0 | O36: =ROUND(E36*J36,2) -> 24.7 | P36: =ROUND(O36+N36+M36,2) -> 24.7
A37: 6 | C37: Betona sūknis | D37: m/st | E37: =ROUND(E34/3,2) -> 0.88 | J37: 90 | K37: =ROUND(H37+J37+I37,2) -> 90 | L37: =ROUND(E37*F37,2) -> 0 | M37: =ROUND(E37*H37,2) -> 0 | N37: =ROUND(E37*I37,2) -> 0 | O37: =ROUND(E37*J37,2) -> 79.2 | P37: =ROUND(O37+N37+M37,2) -> 79.2
A38: 7 | B38: Līgumcena | C38: Pāļu statiskā pārbaude | D38: gab | E38: 1 | F38: 16 | G38: 11.63 | H38: =ROUND(F38*G38,2) -> 186.08 | I38: 200 | J38: 1450 | K38: =ROUND(H38+J38+I38,2) -> 1836.08 | L38: =ROUND(E38*F38,2) -> 16 | M38: =ROUND(E38*H38,2) -> 186.08 | N38: =ROUND(E38*I38,2) -> 200 | O38: =ROUND(E38*J38,2) -> 1450 | P38: =ROUND(O38+N38+M38,2) -> 1836.08
C39: 3. REŽĢOGA dzPR-2 BETONĒŠANA
A40: 1 | B40: Līgumcena | C40: Šķembu kārtas pieberšana ar blietēšanu, 200 mm | D40: m2 | E40: =4*4*0.5+2.816*6.25 -> 25.6 | F40: 0.2 | G40: 11.63 | H40: =ROUND(F40*G40,2) -> 2.33 | J40: =4.5*0.2 -> 0.9 | K40: =ROUND(H40+J40+I40,2) -> 3.23 | L40: =ROUND(E40*F40,2) -> 5.12 | M40: =ROUND(E40*H40,2) -> 59.65 | N40: =ROUND(E40*I40,2) -> 0 | O40: =ROUND(E40*J40,2) -> 23.04 | P40: =ROUND(O40+N40+M40,2) -> 82.69
A41: 2 | C41: Šķembas ar piegādi | D41: m3 | E41: =E40*0.2*1.3 -> 6.656 | I41: 18 | L41: =ROUND(E41*F41,2) -> 0 | M41: =ROUND(E41*H41,2) -> 0 | N41: =ROUND(E41*I41,2) -> 119.81 | O41: =ROUND(E41*J41,2) -> 0 | P41: =ROUND(O41+N41+M41,2) -> 119.81
A42: 3 | B42: Līgumcena | C42: Hidroizolācijas kārtas ieklāšana (sagataves kārtai un pamatiem) | D42: m2 | E42: =E40*2 -> 51.2 | F42: 0.03 | G42: 11.63 | H42: =ROUND(F42*G42,2) -> 0.35 | K42: =ROUND(H42+J42+I42,2) -> 0.35 | L42: =ROUND(E42*F42,2) -> 1.54 | M42: =ROUND(E42*H42,2) -> 17.92 | N42: =ROUND(E42*I42,2) -> 0 | O42: =ROUND(E42*J42,2) -> 0 | P42: =ROUND(O42+N42+M42,2) -> 17.92
A43: 4 | C43: PVC plēve | D43: m2 | E43: =E42*1.15 -> 58.88 | I43: 0.45 | L43: =ROUND(E43*F43,2) -> 0 | M43: =ROUND(E43*H43,2) -> 0 | N43: =ROUND(E43*I43,2) -> 26.5 | O43: =ROUND(E43*J43,2) -> 0 | P43: =ROUND(O43+N43+M43,2) -> 26.5
A44: 5 | B44: Līgumcena | C44: Betona sagataves kārtas izveide zem režģoga | D44: gab | E44: =3.3*3.3*0.1+3.5*0.1 -> 1.439 | F44: 6 | G44: 11.63 | H44: =ROUND(F44*G44,2) -> 69.78 | J44: 2.5 | K44: =ROUND(H44+J44+I44,2) -> 72.28 | L44: =ROUND(E44*F44,2) -> 8.63 | M44: =ROUND(E44*H44,2) -> 100.41 | N44: =ROUND(E44*I44,2) -> 0 | O44: =ROUND(E44*J44,2) -> 3.6 | P44: =ROUND(O44+N44+M44,2) -> 104.01
A45: 6 | C45: Betons C7.5/10 | D45: m3 | E45: =E44*3*3*0.1*1.1 -> 1.42461 | I45: 87 | J45: =90*0.25 -> 22.5 | K45: =ROUND(H45+J45+I45,2) -> 109.5 | L45: =ROUND(E45*F45,2) -> 0 | M45: =ROUND(E45*H45,2) -> 0 | N45: =ROUND(E45*I45,2) -> 123.94 | O45: =ROUND(E45*J45,2) -> 32.05 | P45: =ROUND(O45+N45+M45,2) -> 155.99
A46: 7 | C46: Betona piegāde | D46: reiss | E46: =ROUND(E45/7,2) -> 0.2 | J46: 65 | K46: =ROUND(H46+J46+I46,2) -> 65 | L46: =ROUND(E46*F46,2) -> 0 | M46: =ROUND(E46*H46,2) -> 0 | N46: =ROUND(E46*I46,2) -> 0 | O46: =ROUND(E46*J46,2) -> 13 | P46: =ROUND(O46+N46+M46,2) -> 13
A47: 8 | C47: Betona sūknis | D47: m/st | E47: =ROUND(E45/3,2) -> 0.47 | J47: 90 | K47: =ROUND(H47+J47+I47,2) -> 90 | L47: =ROUND(E47*F47,2) -> 0 | M47: =ROUND(E47*H47,2) -> 0 | N47: =ROUND(E47*I47,2) -> 0 | O47: =ROUND(E47*J47,2) -> 42.3 | P47: =ROUND(O47+N47+M47,2) -> 42.3
A48: 9 | B48: Līgumcena | C48: Veidņu noma, montāža, demontāža režģogam, H=600 mm | D48: m2 | E48: =2*3*0.6+2*1.816*0.6+4.25*0.6 -> 8.3292 | F48: 1 | G48: 11.63 | H48: =ROUND(F48*G48,2) -> 11.63 | J48: 0.23 | K48: =ROUND(H48+J48+I48,2) -> 11.86 | L48: =ROUND(E48*F48,2) -> 8.33 | M48: =ROUND(E48*H48,2) -> 96.87 | N48: =ROUND(E48*I48,2) -> 0 | O48: =ROUND(E48*J48,2) -> 1.92 | P48: =ROUND(O48+N48+M48,2) -> 98.79
A49: 10 | C49: Mitrumizturīgs finieris 21 mm | D49: m2 | E49: =E48*1.2 -> 9.99504 | I49: 15.36 | K49: =ROUND(H49+J49+I49,2) -> 15.36 | L49: =ROUND(E49*F49,2) -> 0 | M49: =ROUND(E49*H49,2) -> 0 | N49: =ROUND(E49*I49,2) -> 153.52 | O49: =ROUND(E49*J49,2) -> 0 | P49: =ROUND(O49+N49+M49,2) -> 153.52
A50: 11 | C50: Kokmateriāls | D50: m3 | E50: =ROUND(E48*0.02,2) -> 0.17 | I50: =340*1.1 -> 374 | K50: =ROUND(H50+J50+I50,2) -> 374 | L50: =ROUND(E50*F50,2) -> 0 | M50: =ROUND(E50*H50,2) -> 0 | N50: =ROUND(E50*I50,2) -> 63.58 | O50: =ROUND(E50*J50,2) -> 0 | P50: =ROUND(O50+N50+M50,2) -> 63.58
A51: 12 | C51: Veidņu eļļa | D51: l | E51: =E48*0.12 -> 0.999504 | I51: 1.24 | K51: =ROUND(H51+J51+I51,2) -> 1.24 | L51: =ROUND(E51*F51,2) -> 0 | M51: =ROUND(E51*H51,2) -> 0 | N51: =ROUND(E51*I51,2) -> 1.24 | O51: =ROUND(E51*J51,2) -> 0 | P51: =ROUND(O51+N51+M51,2) -> 1.24
A52: 13 | C52: Skrūves | D52: gab | E52: =ROUND(E48*16,0) -> 133 | I52: 0.04 | K52: =ROUND(H52+J52+I52,2) -> 0.04 | L52: =ROUND(E52*F52,2) -> 0 | M52: =ROUND(E52*H52,2) -> 0 | N52: =ROUND(E52*I52,2) -> 5.32 | O52: =ROUND(E52*J52,2) -> 0 | P52: =ROUND(O52+N52+M52,2) -> 5.32
A53: 14 | B53: Līgumcena | C53: Režģoga armēšana | D53: t | E53: =820.4*1/1000 -> 0.8204 | F53: 32 | G53: 11.63 | H53: =ROUND(F53*G53,2) -> 372.16 | J53: 18 | K53: =ROUND(H53+J53+I53,2) -> 390.16 | L53: =ROUND(E53*F53,2) -> 26.25 | M53: =ROUND(E53*H53,2) -> 305.32 | N53: =ROUND(E53*I53,2) -> 0 | O53: =ROUND(E53*J53,2) -> 14.77 | P53: =ROUND(O53+N53+M53,2) -> 320.09
A54: 15 | C54: Distanceri ''saulīte'' | D54: gab | E54: =ROUND(E48*2.2,0) -> 18 | I54: 0.09 | K54: =ROUND(H54+J54+I54,2) -> 0.09 | L54: =ROUND(E54*F54,2) -> 0 | M54: =ROUND(E54*H54,2) -> 0 | N54: =ROUND(E54*I54,2) -> 1.62 | O54: =ROUND(E54*J54,2) -> 0 | P54: =ROUND(O54+N54+M54,2) -> 1.62
A55: 16 | C55: Distanceri ''sēnes'' | D55: gab | E55: =ROUND(E40*1*4,0) -> 102 | I55: 0.12 | K55: =ROUND(H55+J55+I55,2) -> 0.12 | L55: =ROUND(E55*F55,2) -> 0 | M55: =ROUND(E55*H55,2) -> 0 | N55: =ROUND(E55*I55,2) -> 12.24 | O55: =ROUND(E55*J55,2) -> 0 | P55: =ROUND(O55+N55+M55,2) -> 12.24
A56: 17 | C56: Stiegrojums B500B dažādi diametri | D56: t | E56: =E53*1.18 -> 0.968072 | I56: 1050 | K56: =ROUND(H56+J56+I56,2) -> 1050 | L56: =ROUND(E56*F56,2) -> 0 | M56: =ROUND(E56*H56,2) -> 0 | N56: =ROUND(E56*I56,2) -> 1016.48 | O56: =ROUND(E56*J56,2) -> 0 | P56: =ROUND(O56+N56+M56,2) -> 1016.48
A57: 18 | C57: Sienamais materiāls | D57: kompl | E57: =E53 -> 0.8204 | I57: 29 | K57: =ROUND(H57+J57+I57,2) -> 29 | L57: =ROUND(E57*F57,2) -> 0 | M57: =ROUND(E57*H57,2) -> 0 | N57: =ROUND(E57*I57,2) -> 23.79 | O57: =ROUND(E57*J57,2) -> 0 | P57: =ROUND(O57+N57+M57,2) -> 23.79
A58: 19 | B58: Līgumcena | C58: Ieliekamā enkura montāža | D58: gab | E58: 16 | F58: 1.5 | G58: 11.63 | H58: =ROUND(F58*G58,2) -> 17.45 | J58: =H58*0.05 -> 0.8725 | K58: =ROUND(H58+J58+I58,2) -> 18.32 | L58: =ROUND(E58*F58,2) -> 24 | M58: =ROUND(E58*H58,2) -> 279.2 | N58: =ROUND(E58*I58,2) -> 0 | O58: =ROUND(E58*J58,2) -> 13.96 | P58: =ROUND(O58+N58+M58,2) -> 293.16
A59: 20 | C59: Vītņstienis d.27 L=1100 mm, S355J0 | D59: gab | E59: 16 | I59: 21.57 | K59: =ROUND(H59+J59+I59,2) -> 21.57 | L59: =ROUND(E59*F59,2) -> 0 | M59: =ROUND(E59*H59,2) -> 0 | N59: =ROUND(E59*I59,2) -> 345.12 | O59: =ROUND(E59*J59,2) -> 0 | P59: =ROUND(O59+N59+M59,2) -> 345.12
A60: 21 | C60: Paplāksnes, M27/6, S355J0 | D60: gab | E60: 16 | I60: 1 | K60: =ROUND(H60+J60+I60,2) -> 1 | L60: =ROUND(E60*F60,2) -> 0 | M60: =ROUND(E60*H60,2) -> 0 | N60: =ROUND(E60*I60,2) -> 16 | O60: =ROUND(E60*J60,2) -> 0 | P60: =ROUND(O60+N60+M60,2) -> 16
A61: 22 | C61: Uzgriežņi M27/7, S355J0 | D61: gab | E61: 32 | I61: 1 | K61: =ROUND(H61+J61+I61,2) -> 1 | L61: =ROUND(E61*F61,2) -> 0 | M61: =ROUND(E61*H61,2) -> 0 | N61: =ROUND(E61*I61,2) -> 32 | O61: =ROUND(E61*J61,2) -> 0 | P61: =ROUND(O61+N61+M61,2) -> 32
A62: 23 | B62: Līgumcena | C62: Režģoga betonēšana, 3000*3000*600/2+1816*4250*600 + d.1250*405 mm | D62: m3 | E62: =3*3*0.6*0.5+1.816*4.25*0.6+0.405*0.625*0.625*3.14 -> 7.8275578 | F62: 6 | G62: 11.63 | H62: =ROUND(F62*G62,2) -> 69.78 | J62: 2.5 | K62: =ROUND(H62+J62+I62,2) -> 72.28 | L62: =ROUND(E62*F62,2) -> 46.97 | M62: =ROUND(E62*H62,2) -> 546.21 | N62: =ROUND(E62*I62,2) -> 0 | O62: =ROUND(E62*J62,2) -> 19.57 | P62: =ROUND(O62+N62+M62,2) -> 565.78
A63: 24 | C63: Betons C30/37 XC2 XF3 | D63: m3 | E63: =E62*1.1 -> 8.6103136 | I63: 87 | J63: =90*0.25 -> 22.5 | K63: =ROUND(H63+J63+I63,2) -> 109.5 | L63: =ROUND(E63*F63,2) -> 0 | M63: =ROUND(E63*H63,2) -> 0 | N63: =ROUND(E63*I63,2) -> 749.1 | O63: =ROUND(E63*J63,2) -> 193.73 | P63: =ROUND(O63+N63+M63,2) -> 942.83
A64: 25 | C64: Betona piegāde | D64: reiss | E64: =ROUND(E63/7,2) -> 1.23 | J64: 65 | K64: =ROUND(H64+J64+I64,2) -> 65 | L64: =ROUND(E64*F64,2) -> 0 | M64: =ROUND(E64*H64,2) -> 0 | N64: =ROUND(E64*I64,2) -> 0 | O64: =ROUND(E64*J64,2) -> 79.95 | P64: =ROUND(O64+N64+M64,2) -> 79.95
A65: 26 | C65: Betona sūknis | D65: m/st | E65: =ROUND(E63/4,2) -> 2.15 | J65: 90 | K65: =ROUND(H65+J65+I65,2) -> 90 | L65: =ROUND(E65*F65,2) -> 0 | M65: =ROUND(E65*H65,2) -> 0 | N65: =ROUND(E65*I65,2) -> 0 | O65: =ROUND(E65*J65,2) -> 193.5 | P65: =ROUND(O65+N65+M65,2) -> 193.5
C66: 4. APGAISMOJUMA STABS
A67: 1 | B67: Līgumcena | C67: Futbola laukuma apgaismojuma staba piegāde un montāža | D67: gab | E67: 1 | F67: =6*8 -> 48 | G67: 11.63 | H67: =ROUND(F67*G67,2) -> 558.24 | J67: =180*6 -> 1080 | K67: =ROUND(H67+J67+I67,2) -> 1638.24 | L67: =ROUND(E67*F67,2) -> 48 | M67: =ROUND(E67*H67,2) -> 558.24 | N67: =ROUND(E67*I67,2) -> 0 | O67: =ROUND(E67*J67,2) -> 1080 | P67: =ROUND(O67+N67+M67,2) -> 1638.24
A68: 2 | C68: Pašbriestošais betons | D68: m3 | E68: =0.2*3.14*0.625*0.625*1.15 -> 0.28210938 | I68: 125 | L68: =ROUND(E68*F68,2) -> 0 | M68: =ROUND(E68*H68,2) -> 0 | N68: =ROUND(E68*I68,2) -> 35.26 | O68: =ROUND(E68*J68,2) -> 0 | P68: =ROUND(O68+N68+M68,2) -> 35.26
A69: 3 | C69: Stiprinajumi un palīgmateriāli | D69: kompl | E69: =E67 -> 1 | I69: 95 | L69: =ROUND(E69*F69,2) -> 0 | M69: =ROUND(E69*H69,2) -> 0 | N69: =ROUND(E69*I69,2) -> 95 | O69: =ROUND(E69*J69,2) -> 0 | P69: =ROUND(O69+N69+M69,2) -> 95
C71: Tiešas izmaksas kopā, t.sk. Darba dēvēja socialais nodoklis (23.59%) | L71: =SUM(L20:L70) -> 356.65 | M71: =SUM(M20:M70) -> 4147.96 | N71: =SUM(N20:N70) -> 3862.23 | O71: =SUM(O20:O70) -> 7127.4 | P71: =SUM(P20:P70) -> 15137.59
A73: Sastādija: | C73: =PBK!C36 -> Vadims ĻETKO | D73: =PBK!D36 -> 29_10_2021 | G73: Pārbaudija: | I73: =PBK!C41 -> Vadims ĻETKO | N73: =D73 -> 29_10_2021
C74: (paraksts un tā atšifrējums, datums) | K74: (paraksts un tā atšifrējums, datums)
A76: Sertifikāta Nr.: | C76: =PBK!C39 -> 20-6832 | I76: =PBK!C44 -> 20-6832

Sheet ST 4
D1: LOKĀLĀ TĀME Nr. | I1: 1--5
C2: PAMATU IZBŪVE APGAISMOJUMA STABAM Nr.4
C3: (Darba veids vai konstruktīvā elementa nosaukums)
A5: Būves nosaukums: | C5: =PBK!C15 -> FUTBOLA LAUKUMA APGAISMOJUMA MASTI
A6: Objekta nosaukums: | C6: =PBK!C16 -> ZEMGALAS OLIMPISKAIS CENTRS
A7: Objekta adrese: | C7: =PBK!C17 -> KRONVALDA IELA 24, JELGAVA
A8: Pasūtītājs: | C8: =PBK!C18 -> SIA ''ZEMGALES OLIMPISKAIS CENTRS''
A9: Pasūtījuma Nr.: | C9: =PBK!C19 -> Nr. 01/02/2021
A10: Pretendents: | C10: =PBK!C20 -> 0
A12: Tāme sastādīta 2021. gada tirgus cenās, pamatojoties uz BK daļas rasējumiem | K12: Tāmes izmaksas: | N12: =P101 -> 18480.13 | P12: EUR
I14: Tāme sastādīta: | L14: 2021 | M14: gada | N14: ='KOPS '!E15 -> 29. | O14: ='KOPS '!F15 -> oktobrī
A16: Nr.p.k. | B16: Kods | C16: Darba nosaukums | D16: Mērvienība | E16: Daudzums | F16: Vienības izmaksas | L16: Kopā uz visu apjomu
F17: laika norma (c/h) | G17: darba samaksas likme (EUR/h) | H17: darba alga (EUR) | I17: būvistrādājumi (EUR) | J17: mehānismi (EUR) | K17: Kopā (EUR) | L17: darbietilpība (c/h) | M17: darba alga (EUR) | N17: būvistrādājumi (EUR) | O17: mehānismi (EUR) | P17: summa (EUR)
A18: 1 | B18: 2 | C18: 3 | D18: 4 | E18: 5 | F18: 6 | G18: 7 | H18: 8 | I18: 9 | J18: 10 | K18: 11 | L18: 12 | M18: 13 | N18: 14 | O18: 15 | P18: 16
C19: 1. ZEMES DARBI
A20: 1 | B20: Līgumcena | C20: Pamatu gabarītu un būvasu nospraušana pēc koordinātām | D20: kompl | E20: 1 | F20: 8 | G20: 11.63 | H20: =ROUND(F20*G20,2) -> 93.04 | J20: 80 | K20: =ROUND(H20+J20+I20,2) -> 173.04 | L20: =ROUND(E20*F20,2) -> 8 | M20: =ROUND(E20*H20,2) -> 93.04 | N20: =ROUND(E20*I20,2) -> 0 | O20: =ROUND(E20*J20,2) -> 80 | P20: =ROUND(O20+N20+M20,2) -> 173.04
A21: 2 | B21: Līgumcena | C21: Koka konstrukcija būvasu atzīmēšanai | D21: kompl | E21: 1 | F21: 4 | G21: 11.63 | H21: =ROUND(F21*G21,2) -> 46.52 | I21: 20 | J21: 0.5 | K21: =ROUND(H21+J21+I21,2) -> 67.02 | L21: =ROUND(E21*F21,2) -> 4 | M21: =ROUND(E21*H21,2) -> 46.52 | N21: =ROUND(E21*I21,2) -> 20 | O21: =ROUND(E21*J21,2) -> 0.5 | P21: =ROUND(O21+N21+M21,2) -> 67.02
A22: 3 | B22: Līgumcena | C22: Augsnes kārtas 400 mm noņemšana | D22: m2 | E22: =5*5+2*3.02+1*5.04 -> 36.08 | F22: =0.15*0.4 -> 0.06 | G22: 11.63 | H22: =ROUND(F22*G22,2) -> 0.7 | J22: =4.5*0.4 -> 1.8 | K22: =ROUND(H22+J22+I22,2) -> 2.5 | L22: =ROUND(E22*F22,2) -> 2.16 | M22: =ROUND(E22*H22,2) -> 25.26 | N22: =ROUND(E22*I22,2) -> 0 | O22: =ROUND(E22*J22,2) -> 64.94 | P22: =ROUND(O22+N22+M22,2) -> 90.2
A23: 4 | B23: Līgumcena | C23: Augsnes kārtas transportēšana līdz 10 km | D23: m3 | E23: =E22*0.4 -> 14.432 | J23: 4.5 | K23: =ROUND(H23+J23+I23,2) -> 4.5 | L23: =ROUND(E23*F23,2) -> 0 | M23: =ROUND(E23*H23,2) -> 0 | N23: =ROUND(E23*I23,2) -> 0 | O23: =ROUND(E23*J23,2) -> 64.94 | P23: =ROUND(O23+N23+M23,2) -> 64.94
A24: 5 | B24: Līgumcena | C24: Pamatu rakšana (mehanizēti) | D24: m3 | E24: =5*5*0.8+(5.04+2*3.02)*0.555 -> 26.1494 | F24: 0.15 | G24: 11.63 | H24: =ROUND(F24*G24,2) -> 1.74 | J24: 4.5 | K24: =ROUND(H24+J24+I24,2) -> 6.24 | L24: =ROUND(E24*F24,2) -> 3.92 | M24: =ROUND(E24*H24,2) -> 45.5 | N24: =ROUND(E24*I24,2) -> 0 | O24: =ROUND(E24*J24,2) -> 117.67 | P24: =ROUND(O24+N24+M24,2) -> 163.17
A25: 6 | B25: Līgumcena | C25: Pamatu rakšana (roku darbs), 3% | D25: m3 | E25: =E24*0.03 -> 0.784482 | F25: 2 | G25: 11.63 | H25: =ROUND(F25*G25,2) -> 23.26 | K25: =ROUND(H25+J25+I25,2) -> 23.26 | L25: =ROUND(E25*F25,2) -> 1.57 | M25: =ROUND(E25*H25,2) -> 18.25 | N25: =ROUND(E25*I25,2) -> 0 | O25: =ROUND(E25*J25,2) -> 0 | P25: =ROUND(O25+N25+M25,2) -> 18.25
A26: 7 | B26: Līgumcena | C26: Nederīgas grunts transportēšana līdz 10 km | D26: m3 | E26: =E24+E25 -> 26.933882 | J26: =J23 -> 4.5 | K26: =ROUND(H26+J26+I26,2) -> 4.5 | L26: =ROUND(E26*F26,2) -> 0 | M26: =ROUND(E26*H26,2) -> 0 | N26: =ROUND(E26*I26,2) -> 0 | O26: =ROUND(E26*J26,2) -> 121.2 | P26: =ROUND(O26+N26+M26,2) -> 121.2
A27: 8 | B27: Līgumcena | C27: Grunts pamatnes līdzināšana, blietēšana | D27: m2 | E27: =E22 -> 36.08 | F27: 0.05 | G27: 11.63 | H27: =ROUND(F27*G27,2) -> 0.58 | J27: =H27 -> 0.58 | K27: =ROUND(H27+J27+I27,2) -> 1.16 | L27: =ROUND(E27*F27,2) -> 1.8 | M27: =ROUND(E27*H27,2) -> 20.93 | N27: =ROUND(E27*I27,2) -> 0 | O27: =ROUND(E27*J27,2) -> 20.93 | P27: =ROUND(O27+N27+M27,2) -> 41.86
A28: 9 | B28: Līgumcena | C28: Būvbedres aizberšana ar pievesto smilti, blietējot pa kārtām | D28: m3 | E28: =E23+E26-3*3*0.6-0.405*3.14*0.625*0.625 -> 35.469124 | F28: =F24*2 -> 0.3 | G28: 11.63 | H28: =ROUND(F28*G28,2) -> 3.49 | J28: =J24 -> 4.5 | K28: =ROUND(H28+J28+I28,2) -> 7.99 | L28: =ROUND(E28*F28,2) -> 10.64 | M28: =ROUND(E28*H28,2) -> 123.79 | N28: =ROUND(E28*I28,2) -> 0 | O28: =ROUND(E28*J28,2) -> 159.61 | P28: =ROUND(O28+N28+M28,2) -> 283.4
A29: 10 | C29: Smilts ar piegādi | D29: m2 | E29: =E24 -> 26.1494 | I29: 8 | K29: =ROUND(H29+J29+I29,2) -> 8 | L29: =ROUND(E29*F29,2) -> 0 | M29: =ROUND(E29*H29,2) -> 0 | N29: =ROUND(E29*I29,2) -> 209.2 | O29: =ROUND(E29*J29,2) -> 0 | P29: =ROUND(O29+N29+M29,2) -> 209.2
C30: 2. PĀĻU MONTĀŽA
A31: 1 | B31: Līgumcena | C31: Pāļu montāžas iekārtas mobilizācija un demobilizācija | D31: kompl | E31: 1 | F31: 80 | G31: 11.63 | H31: =ROUND(F31*G31,2) -> 930.4 | J31: 1750 | K31: =ROUND(H31+J31+I31,2) -> 2680.4 | L31: =ROUND(E31*F31,2) -> 80 | M31: =ROUND(E31*H31,2) -> 930.4 | N31: =ROUND(E31*I31,2) -> 0 | O31: =ROUND(E31*J31,2) -> 1750 | P31: =ROUND(O31+N31+M31,2) -> 2680.4
A32: 2 | B32: Līgumcena | C32: Pāļu dzSP-1, L=8480 mm, d=300 mm montāža | D32: gab | E32: 4 | F32: 16 | G32: 11.63 | H32: =ROUND(F32*G32,2) -> 186.08 | J32: =8.5*45 -> 382.5 | K32: =ROUND(H32+J32+I32,2) -> 568.58 | L32: =ROUND(E32*F32,2) -> 64 | M32: =ROUND(E32*H32,2) -> 744.32 | N32: =ROUND(E32*I32,2) -> 0 | O32: =ROUND(E32*J32,2) -> 1530 | P32: =ROUND(O32+N32+M32,2) -> 2274.32
A33: 3 | C33: Betons C30/37 XC2 XF1 | D33: m3 | E33: =E32*8.48*3.14*0.15*0.15*1.1 -> 2.6360928 | I33: 85 | J33: =90*0.25 -> 22.5 | K33: =ROUND(H33+J33+I33,2) -> 107.5 | L33: =ROUND(E33*F33,2) -> 0 | M33: =ROUND(E33*H33,2) -> 0 | N33: =ROUND(E33*I33,2) -> 224.07 | O33: =ROUND(E33*J33,2) -> 59.31 | P33: =ROUND(O33+N33+M33,2) -> 283.38
A34: 4 | C34: Armatūra B500B, dažādi diametri | D34: t | E34: =E32*96.1*1.15/1000 -> 0.44206 | I34: 990 | K34: =ROUND(H34+J34+I34,2) -> 990 | L34: =ROUND(E34*F34,2) -> 0 | M34: =ROUND(E34*H34,2) -> 0 | N34: =ROUND(E34*I34,2) -> 437.64 | O34: =ROUND(E34*J34,2) -> 0 | P34: =ROUND(O34+N34+M34,2) -> 437.64
A35: 5 | C35: Betona piegāde | D35: reiss | E35: =ROUND(E33/7,2) -> 0.38 | J35: 65 | K35: =ROUND(H35+J35+I35,2) -> 65 | L35: =ROUND(E35*F35,2) -> 0 | M35: =ROUND(E35*H35,2) -> 0 | N35: =ROUND(E35*I35,2) -> 0 | O35: =ROUND(E35*J35,2) -> 24.7 | P35: =ROUND(O35+N35+M35,2) -> 24.7
A36: 6 | C36: Betona sūknis | D36: m/st | E36: =ROUND(E33/3,2) -> 0.88 | J36: 90 | K36: =ROUND(H36+J36+I36,2) -> 90 | L36: =ROUND(E36*F36,2) -> 0 | M36: =ROUND(E36*H36,2) -> 0 | N36: =ROUND(E36*I36,2) -> 0 | O36: =ROUND(E36*J36,2) -> 79.2 | P36: =ROUND(O36+N36+M36,2) -> 79.2
A37: 7 | B37: Līgumcena | C37: Pāļu statiskā pārbaude | D37: gab | E37: 1 | F37: 16 | G37: 11.63 | H37: =ROUND(F37*G37,2) -> 186.08 | I37: 200 | J37: 1450 | K37: =ROUND(H37+J37+I37,2) -> 1836.08 | L37: =ROUND(E37*F37,2) -> 16 | M37: =ROUND(E37*H37,2) -> 186.08 | N37: =ROUND(E37*I37,2) -> 200 | O37: =ROUND(E37*J37,2) -> 1450 | P37: =ROUND(O37+N37+M37,2) -> 1836.08
C38: 3. REŽĢOGA dzPR-1 BETONĒŠANA
A39: 1 | B39: Līgumcena | C39: Šķembu kārtas pieberšana ar blietēšanu, 200 mm | D39: m2 | E39: =4*4 -> 16 | F39: 0.2 | G39: 11.63 | H39: =ROUND(F39*G39,2) -> 2.33 | J39: =4.5*0.2 -> 0.9 | K39: =ROUND(H39+J39+I39,2) -> 3.23 | L39: =ROUND(E39*F39,2) -> 3.2 | M39: =ROUND(E39*H39,2) -> 37.28 | N39: =ROUND(E39*I39,2) -> 0 | O39: =ROUND(E39*J39,2) -> 14.4 | P39: =ROUND(O39+N39+M39,2) -> 51.68
A40: 2 | C40: Šķembas ar piegādi | D40: m3 | E40: =E39*0.2*1.3 -> 4.16 | I40: 18 | L40: =ROUND(E40*F40,2) -> 0 | M40: =ROUND(E40*H40,2) -> 0 | N40: =ROUND(E40*I40,2) -> 74.88 | O40: =ROUND(E40*J40,2) -> 0 | P40: =ROUND(O40+N40+M40,2) -> 74.88
A41: 3 | B41: Līgumcena | C41: Hidroizolācijas kārtas ieklāšana (sagataves kārtai un pamatiem) | D41: m2 | E41: =E39*2+3.5*2 -> 39 | F41: 0.03 | G41: 11.63 | H41: =ROUND(F41*G41,2) -> 0.35 | K41: =ROUND(H41+J41+I41,2) -> 0.35 | L41: =ROUND(E41*F41,2) -> 1.17 | M41: =ROUND(E41*H41,2) -> 13.65 | N41: =ROUND(E41*I41,2) -> 0 | O41: =ROUND(E41*J41,2) -> 0 | P41: =ROUND(O41+N41+M41,2) -> 13.65
A42: 4 | C42: PVC plēve | D42: m2 | E42: =E41*1.15 -> 44.85 | I42: 0.45 | L42: =ROUND(E42*F42,2) -> 0 | M42: =ROUND(E42*H42,2) -> 0 | N42: =ROUND(E42*I42,2) -> 20.18 | O42: =ROUND(E42*J42,2) -> 0 | P42: =ROUND(O42+N42+M42,2) -> 20.18
A43: 5 | B43: Līgumcena | C43: Betona sagataves kārtas izveide zem režģoga | D43: m3 | E43: =3.3*3.3*0.1 -> 1.089 | F43: 16 | G43: 11.63 | H43: =ROUND(F43*G43,2) -> 186.08 | J43: =8.5*45 -> 382.5 | K43: =ROUND(H43+J43+I43,2) -> 568.58 | L43: =ROUND(E43*F43,2) -> 17.42 | M43: =ROUND(E43*H43,2) -> 202.64 | N43: =ROUND(E43*I43,2) -> 0 | O43: =ROUND(E43*J43,2) -> 416.54 | P43: =ROUND(O43+N43+M43,2) -> 619.18
A44: 6 | C44: Betons C7.5/10 | D44: m3 | E44: =E43*1.1 -> 1.1979 | I44: 85 | J44: =90*0.25 -> 22.5 | K44: =ROUND(H44+J44+I44,2) -> 107.5 | L44: =ROUND(E44*F44,2) -> 0 | M44: =ROUND(E44*H44,2) -> 0 | N44: =ROUND(E44*I44,2) -> 101.82 | O44: =ROUND(E44*J44,2) -> 26.95 | P44: =ROUND(O44+N44+M44,2) -> 128.77
A45: 7 | C45: Betona piegāde | D45: reiss | E45: =ROUND(E44/7,2) -> 0.17 | J45: 65 | K45: =ROUND(H45+J45+I45,2) -> 65 | L45: =ROUND(E45*F45,2) -> 0 | M45: =ROUND(E45*H45,2) -> 0 | N45: =ROUND(E45*I45,2) -> 0 | O45: =ROUND(E45*J45,2) -> 11.05 | P45: =ROUND(O45+N45+M45,2) -> 11.05
A46: 8 | C46: Betona sūknis | D46: m/st | E46: =ROUND(E44/3,2) -> 0.4 | J46: 90 | K46: =ROUND(H46+J46+I46,2) -> 90 | L46: =ROUND(E46*F46,2) -> 0 | M46: =ROUND(E46*H46,2) -> 0 | N46: =ROUND(E46*I46,2) -> 0 | O46: =ROUND(E46*J46,2) -> 36 | P46: =ROUND(O46+N46+M46,2) -> 36
A47: 9 | B47: Līgumcena | C47: Veidņu noma, montāža, demontāža režģogam, H=600 mm | D47: m2 | E47: =4*3*0.6 -> 7.2 | F47: 1 | G47: 11.63 | H47: =ROUND(F47*G47,2) -> 11.63 | J47: 0.23 | K47: =ROUND(H47+J47+I47,2) -> 11.86 | L47: =ROUND(E47*F47,2) -> 7.2 | M47: =ROUND(E47*H47,2) -> 83.74 | N47: =ROUND(E47*I47,2) -> 0 | O47: =ROUND(E47*J47,2) -> 1.66 | P47: =ROUND(O47+N47+M47,2) -> 85.4
A48: 10 | C48: Mitrumizturīgs finieris 21 mm | D48: m2 | E48: =E47*1.2 -> 8.64 | I48: 15.36 | K48: =ROUND(H48+J48+I48,2) -> 15.36 | L48: =ROUND(E48*F48,2) -> 0 | M48: =ROUND(E48*H48,2) -> 0 | N48: =ROUND(E48*I48,2) -> 132.71 | O48: =ROUND(E48*J48,2) -> 0 | P48: =ROUND(O48+N48+M48,2) -> 132.71
A49: 11 | C49: Kokmateriāls | D49: m3 | E49: =ROUND(E47*0.02,2) -> 0.14 | I49: =340*1.1 -> 374 | K49: =ROUND(H49+J49+I49,2) -> 374 | L49: =ROUND(E49*F49,2) -> 0 | M49: =ROUND(E49*H49,2) -> 0 | N49: =ROUND(E49*I49,2) -> 52.36 | O49: =ROUND(E49*J49,2) -> 0 | P49: =ROUND(O49+N49+M49,2) -> 52.36
A50: 12 | C50: Veidņu eļļa | D50: l | E50: =E47*0.12 -> 0.864 | I50: 1.24 | K50: =ROUND(H50+J50+I50,2) -> 1.24 | L50: =ROUND(E50*F50,2) -> 0 | M50: =ROUND(E50*H50,2) -> 0 | N50: =ROUND(E50*I50,2) -> 1.07 | O50: =ROUND(E50*J50,2) -> 0 | P50: =ROUND(O50+N50+M50,2) -> 1.07
A51: 13 | C51: Skrūves | D51: gab | E51: =ROUND(E47*16,0) -> 115 | I51: 0.04 | K51: =ROUND(H51+J51+I51,2) -> 0.04 | L51: =ROUND(E51*F51,2) -> 0 | M51: =ROUND(E51*H51,2) -> 0 | N51: =ROUND(E51*I51,2) -> 4.6 | O51: =ROUND(E51*J51,2) -> 0 | P51: =ROUND(O51+N51+M51,2) -> 4.6
A52: 14 | B52: Līgumcena | C52: Režģoga armēšana | D52: t | E52: =667.4*1/1000 -> 0.6674 | F52: 32 | G52: 11.63 | H52: =ROUND(F52*G52,2) -> 372.16 | J52: 18 | K52: =ROUND(H52+J52+I52,2) -> 390.16 | L52: =ROUND(E52*F52,2) -> 21.36 | M52: =ROUND(E52*H52,2) -> 248.38 | N52: =ROUND(E52*I52,2) -> 0 | O52: =ROUND(E52*J52,2) -> 12.01 | P52: =ROUND(O52+N52+M52,2) -> 260.39
A53: 15 | C53: Distanceri ''saulīte'' | D53: gab | E53: =ROUND(E47*2.2,0) -> 16 | I53: 0.09 | K53: =ROUND(H53+J53+I53,2) -> 0.09 | L53: =ROUND(E53*F53,2) -> 0 | M53: =ROUND(E53*H53,2) -> 0 | N53: =ROUND(E53*I53,2) -> 1.44 | O53: =ROUND(E53*J53,2) -> 0 | P53: =ROUND(O53+N53+M53,2) -> 1.44
A54: 16 | C54: Distanceri ''sēnes'' | D54: gab | E54: =ROUND(E39*1*4,0) -> 64 | I54: 0.12 | K54: =ROUND(H54+J54+I54,2) -> 0.12 | L54: =ROUND(E54*F54,2) -> 0 | M54: =ROUND(E54*H54,2) -> 0 | N54: =ROUND(E54*I54,2) -> 7.68 | O54: =ROUND(E54*J54,2) -> 0 | P54: =ROUND(O54+N54+M54,2) -> 7.68
A55: 17 | C55: Stiegrojums B500B dažādi diametri | D55: t | E55: =E52*1.18 -> 0.787532 | I55: 1050 | K55: =ROUND(H55+J55+I55,2) -> 1050 | L55: =ROUND(E55*F55,2) -> 0 | M55: =ROUND(E55*H55,2) -> 0 | N55: =ROUND(E55*I55,2) -> 826.91 | O55: =ROUND(E55*J55,2) -> 0 | P55: =ROUND(O55+N55+M55,2) -> 826.91
A56: 18 | C56: Sienamais materiāls | D56: kompl | E56: =E52 -> 0.6674 | I56: 29 | K56: =ROUND(H56+J56+I56,2) -> 29 | L56: =ROUND(E56*F56,2) -> 0 | M56: =ROUND(E56*H56,2) -> 0 | N56: =ROUND(E56*I56,2) -> 19.35 | O56: =ROUND(E56*J56,2) -> 0 | P56: =ROUND(O56+N56+M56,2) -> 19.35
A57: 19 | B57: Līgumcena | C57: Ieliekamā enkura montāža | D57: gab | E57: 16 | F57: 1.5 | G57: 11.63 | H57: =ROUND(F57*G57,2) -> 17.45 | J57: =H57*0.05 -> 0.8725 | K57: =ROUND(H57+J57+I57,2) -> 18.32 | L57: =ROUND(E57*F57,2) -> 24 | M57: =ROUND(E57*H57,2) -> 279.2 | N57: =ROUND(E57*I57,2) -> 0 | O57: =ROUND(E57*J57,2) -> 13.96 | P57: =ROUND(O57+N57+M57,2) -> 293.16
A58: 20 | C58: Vītņstienis d.27 L=1100 mm, S355J0 | D58: gab | E58: 16 | I58: 21.57 | K58: =ROUND(H58+J58+I58,2) -> 21.57 | L58: =ROUND(E58*F58,2) -> 0 | M58: =ROUND(E58*H58,2) -> 0 | N58: =ROUND(E58*I58,2) -> 345.12 | O58: =ROUND(E58*J58,2) -> 0 | P58: =ROUND(O58+N58+M58,2) -> 345.12
A59: 21 | C59: Paplāksnes, M27/6, S355J0 | D59: gab | E59: 16 | I59: 1 | K59: =ROUND(H59+J59+I59,2) -> 1 | L59: =ROUND(E59*F59,2) -> 0 | M59: =ROUND(E59*H59,2) -> 0 | N59: =ROUND(E59*I59,2) -> 16 | O59: =ROUND(E59*J59,2) -> 0 | P59: =ROUND(O59+N59+M59,2) -> 16
A60: 22 | C60: Uzgriežņi M27/7, S355J0 | D60: gab | E60: 32 | I60: 1 | K60: =ROUND(H60+J60+I60,2) -> 1 | L60: =ROUND(E60*F60,2) -> 0 | M60: =ROUND(E60*H60,2) -> 0 | N60: =ROUND(E60*I60,2) -> 32 | O60: =ROUND(E60*J60,2) -> 0 | P60: =ROUND(O60+N60+M60,2) -> 32
A61: 23 | B61: Līgumcena | C61: Režģoga betonēšana, 3000*3000*600 + d.1250*405 mm | D61: m3 | E61: =3*3*0.6+0.405*0.625*0.625*3.14 -> 5.8967578 | F61: 6 | G61: 11.63 | H61: =ROUND(F61*G61,2) -> 69.78 | J61: 2.5 | K61: =ROUND(H61+J61+I61,2) -> 72.28 | L61: =ROUND(E61*F61,2) -> 35.38 | M61: =ROUND(E61*H61,2) -> 411.48 | N61: =ROUND(E61*I61,2) -> 0 | O61: =ROUND(E61*J61,2) -> 14.74 | P61: =ROUND(O61+N61+M61,2) -> 426.22
A62: 24 | C62: Betons C30/37 XC2 XF3 | D62: m3 | E62: =E61*1.1 -> 6.4864336 | I62: 87 | J62: =90*0.25 -> 22.5 | K62: =ROUND(H62+J62+I62,2) -> 109.5 | L62: =ROUND(E62*F62,2) -> 0 | M62: =ROUND(E62*H62,2) -> 0 | N62: =ROUND(E62*I62,2) -> 564.32 | O62: =ROUND(E62*J62,2) -> 145.94 | P62: =ROUND(O62+N62+M62,2) -> 710.26
A63: 25 | C63: Betona piegāde | D63: reiss | E63: =ROUND(E62/7,2) -> 0.93 | J63: 65 | K63: =ROUND(H63+J63+I63,2) -> 65 | L63: =ROUND(E63*F63,2) -> 0 | M63: =ROUND(E63*H63,2) -> 0 | N63: =ROUND(E63*I63,2) -> 0 | O63: =ROUND(E63*J63,2) -> 60.45 | P63: =ROUND(O63+N63+M63,2) -> 60.45
A64: 26 | C64: Betona sūknis | D64: m/st | E64: =ROUND(E62/4,2) -> 1.62 | J64: 90 | K64: =ROUND(H64+J64+I64,2) -> 90 | L64: =ROUND(E64*F64,2) -> 0 | M64: =ROUND(E64*H64,2) -> 0 | N64: =ROUND(E64*I64,2) -> 0 | O64: =ROUND(E64*J64,2) -> 145.8 | P64: =ROUND(O64+N64+M64,2) -> 145.8
C65: 4. APGAISMOJUMA STABS
A66: 1 | B66: Līgumcena | C66: Futbola laukuma apgaismojuma staba piegāde un montāža | D66: gab | E66: 1 | F66: =6*8 -> 48 | G66: 11.63 | H66: =ROUND(F66*G66,2) -> 558.24 | J66: =180*6 -> 1080 | K66: =ROUND(H66+J66+I66,2) -> 1638.24 | L66: =ROUND(E66*F66,2) -> 48 | M66: =ROUND(E66*H66,2) -> 558.24 | N66: =ROUND(E66*I66,2) -> 0 | O66: =ROUND(E66*J66,2) -> 1080 | P66: =ROUND(O66+N66+M66,2) -> 1638.24
A67: 2 | C67: Pašbriestošais betons | D67: m3 | E67: =0.2*3.14*0.625*0.625*1.15 -> 0.28210938 | I67: 125 | L67: =ROUND(E67*F67,2) -> 0 | M67: =ROUND(E67*H67,2) -> 0 | N67: =ROUND(E67*I67,2) -> 35.26 | O67: =ROUND(E67*J67,2) -> 0 | P67: =ROUND(O67+N67+M67,2) -> 35.26
A68: 3 | C68: Stiprinajumi un palīgmateriāli | D68: kompl | E68: =E66 -> 1 | I68: 95 | L68: =ROUND(E68*F68,2) -> 0 | M68: =ROUND(E68*H68,2) -> 0 | N68: =ROUND(E68*I68,2) -> 95 | O68: =ROUND(E68*J68,2) -> 0 | P68: =ROUND(O68+N68+M68,2) -> 95
C69: 5. ATBALSTSIENAS dzAS-1 BETONĒŠANA
A70: 1 | B70: Līgumcena | C70: Šķembu kārtas pieberšana ar blietēšanu, 100 mm | D70: m2 | E70: =2*3.02+5.04 -> 11.08 | F70: 0.2 | G70: 11.63 | H70: =ROUND(F70*G70,2) -> 2.33 | J70: =4.5*0.2 -> 0.9 | K70: =ROUND(H70+J70+I70,2) -> 3.23 | L70: =ROUND(E70*F70,2) -> 2.22 | M70: =ROUND(E70*H70,2) -> 25.82 | N70: =ROUND(E70*I70,2) -> 0 | O70: =ROUND(E70*J70,2) -> 9.97 | P70: =ROUND(O70+N70+M70,2) -> 35.79
A71: 2 | C71: Šķembas ar piegādi | D71: m3 | E71: =E70*0.1*1.3 -> 1.4404 | I71: 18 | L71: =ROUND(E71*F71,2) -> 0 | M71: =ROUND(E71*H71,2) -> 0 | N71: =ROUND(E71*I71,2) -> 25.93 | O71: =ROUND(E71*J71,2) -> 0 | P71: =ROUND(O71+N71+M71,2) -> 25.93
A72: 3 | B72: Līgumcena | C72: Hidroizolācijas kārtas ieklāšana (sagataves kārtai un atbalstsienai) | D72: m2 | E72: =E70*2 -> 22.16 | F72: 0.03 | G72: 11.63 | H72: =ROUND(F72*G72,2) -> 0.35 | K72: =ROUND(H72+J72+I72,2) -> 0.35 | L72: =ROUND(E72*F72,2) -> 0.66 | M72: =ROUND(E72*H72,2) -> 7.76 | N72: =ROUND(E72*I72,2) -> 0 | O72: =ROUND(E72*J72,2) -> 0 | P72: =ROUND(O72+N72+M72,2) -> 7.76
A73: 4 | C73: PVC plēve | D73: m2 | E73: =E72*1.15 -> 25.484 | I73: 0.45 | L73: =ROUND(E73*F73,2) -> 0 | M73: =ROUND(E73*H73,2) -> 0 | N73: =ROUND(E73*I73,2) -> 11.47 | O73: =ROUND(E73*J73,2) -> 0 | P73: =ROUND(O73+N73+M73,2) -> 11.47
A74: 5 | B74: Līgumcena | C74: Veidņu noma, montāža, demontāža pabetonējumam, H=100 mm | D74: m2 | E74: =(4.02+5.04+4.02)*0.1 -> 1.308 | F74: 1 | G74: 11.63 | H74: =ROUND(F74*G74,2) -> 11.63 | J74: 0.23 | K74: =ROUND(H74+J74+I74,2) -> 11.86 | L74: =ROUND(E74*F74,2) -> 1.31 | M74: =ROUND(E74*H74,2) -> 15.21 | N74: =ROUND(E74*I74,2) -> 0 | O74: =ROUND(E74*J74,2) -> 0.3 | P74: =ROUND(O74+N74+M74,2) -> 15.51
A75: 6 | C75: Mitrumizturīgs finieris 21 mm | D75: m2 | E75: =E74*1.2 -> 1.5696 | I75: 15.36 | K75: =ROUND(H75+J75+I75,2) -> 15.36 | L75: =ROUND(E75*F75,2) -> 0 | M75: =ROUND(E75*H75,2) -> 0 | N75: =ROUND(E75*I75,2) -> 24.11 | O75: =ROUND(E75*J75,2) -> 0 | P75: =ROUND(O75+N75+M75,2) -> 24.11
A76: 7 | C76: Kokmateriāls | D76: m3 | E76: =ROUND(E74*0.02,2) -> 0.03 | I76: =340*1.1 -> 374 | K76: =ROUND(H76+J76+I76,2) -> 374 | L76: =ROUND(E76*F76,2) -> 0 | M76: =ROUND(E76*H76,2) -> 0 | N76: =ROUND(E76*I76,2) -> 11.22 | O76: =ROUND(E76*J76,2) -> 0 | P76: =ROUND(O76+N76+M76,2) -> 11.22
A77: 8 | C77: Veidņu eļļa | D77: l | E77: =E74*0.12 -> 0.15696 | I77: 1.24 | K77: =ROUND(H77+J77+I77,2) -> 1.24 | L77: =ROUND(E77*F77,2) -> 0 | M77: =ROUND(E77*H77,2) -> 0 | N77: =ROUND(E77*I77,2) -> 0.19 | O77: =ROUND(E77*J77,2) -> 0 | P77: =ROUND(O77+N77+M77,2) -> 0.19
A78: 9 | C78: Skrūves | D78: gab | E78: =ROUND(E74*16,0) -> 21 | I78: 0.04 | K78: =ROUND(H78+J78+I78,2) -> 0.04 | L78: =ROUND(E78*F78,2) -> 0 | M78: =ROUND(E78*H78,2) -> 0 | N78: =ROUND(E78*I78,2) -> 0.84 | O78: =ROUND(E78*J78,2) -> 0 | P78: =ROUND(O78+N78+M78,2) -> 0.84
A79: 10 | B79: Līgumcena | C79: Pabetonējuma betonēšana, h=100 mm | D79: m3 | E79: =(3.02*2+5.05)*0.1 -> 1.109 | F79: 6 | G79: 11.63 | H79: =ROUND(F79*G79,2) -> 69.78 | J79: 2.5 | K79: =ROUND(H79+J79+I79,2) -> 72.28 | L79: =ROUND(E79*F79,2) -> 6.65 | M79: =ROUND(E79*H79,2) -> 77.39 | N79: =ROUND(E79*I79,2) -> 0 | O79: =ROUND(E79*J79,2) -> 2.77 | P79: =ROUND(O79+N79+M79,2) -> 80.16
A80: 11 | C80: Betons C7,5/10 | D80: m3 | E80: =E79*1.1 -> 1.2199 | I80: 55 | K80: =ROUND(H80+J80+I80,2) -> 55 | L80: =ROUND(E80*F80,2) -> 0 | M80: =ROUND(E80*H80,2) -> 0 | N80: =ROUND(E80*I80,2) -> 67.09 | O80: =ROUND(E80*J80,2) -> 0 | P80: =ROUND(O80+N80+M80,2) -> 67.09
A81: 12 | C81: Betona piegāde | D81: reiss | E81: =ROUND(E80/7,2) -> 0.17 | J81: 65 | K81: =ROUND(H81+J81+I81,2) -> 65 | L81: =ROUND(E81*F81,2) -> 0 | M81: =ROUND(E81*H81,2) -> 0 | N81: =ROUND(E81*I81,2) -> 0 | O81: =ROUND(E81*J81,2) -> 11.05 | P81: =ROUND(O81+N81+M81,2) -> 11.05
A82: 13 | C82: Betona sūknis | D82: m/st | E82: =ROUND(E80/2,2) -> 0.61 | J82: 90 | K82: =ROUND(H82+J82+I82,2) -> 90 | L82: =ROUND(E82*F82,2) -> 0 | M82: =ROUND(E82*H82,2) -> 0 | N82: =ROUND(E82*I82,2) -> 0 | O82: =ROUND(E82*J82,2) -> 54.9 | P82: =ROUND(O82+N82+M82,2) -> 54.9
A83: 14 | B83: Līgumcena | C83: Veidņu noma, montāža, demontāža atbalstsienai | D83: m2 | E83: =(3.04+3.44)*2.455+3.02*1.055*2+3.02*2.455*2 -> 37.1088 | F83: 1 | G83: 11.63 | H83: =ROUND(F83*G83,2) -> 11.63 | J83: 0.23 | K83: =ROUND(H83+J83+I83,2) -> 11.86 | L83: =ROUND(E83*F83,2) -> 37.11 | M83: =ROUND(E83*H83,2) -> 431.58 | N83: =ROUND(E83*I83,2) -> 0 | O83: =ROUND(E83*J83,2) -> 8.54 | P83: =ROUND(O83+N83+M83,2) -> 440.12
A84: 15 | C84: Mitrumizturīgs finieris 21 mm | D84: m2 | E84: =E83*1.2*0.15 -> 6.679584 | I84: 15.36 | K84: =ROUND(H84+J84+I84,2) -> 15.36 | L84: =ROUND(E84*F84,2) -> 0 | M84: =ROUND(E84*H84,2) -> 0 | N84: =ROUND(E84*I84,2) -> 102.6 | O84: =ROUND(E84*J84,2) -> 0 | P84: =ROUND(O84+N84+M84,2) -> 102.6
A85: 16 | C85: Kokmateriāls | D85: m3 | E85: =ROUND(E83*0.01,2) -> 0.37 | I85: =340*1.1 -> 374 | K85: =ROUND(H85+J85+I85,2) -> 374 | L85: =ROUND(E85*F85,2) -> 0 | M85: =ROUND(E85*H85,2) -> 0 | N85: =ROUND(E85*I85,2) -> 138.38 | O85: =ROUND(E85*J85,2) -> 0 | P85: =ROUND(O85+N85+M85,2) -> 138.38
A86: 17 | C86: Inventāro veidņu noma | D86: m2 | E86: =E83 -> 37.1088 | J86: 12 | K86: =ROUND(H86+J86+I86,2) -> 12 | L86: =ROUND(E86*F86,2) -> 0 | M86: =ROUND(E86*H86,2) -> 0 | N86: =ROUND(E86*I86,2) -> 0 | O86: =ROUND(E86*J86,2) -> 445.31 | P86: =ROUND(O86+N86+M86,2) -> 445.31
A87: 18 | C87: Veidņu eļļa | D87: l | E87: =E83*0.12 -> 4.453056 | I87: 1.24 | K87: =ROUND(H87+J87+I87,2) -> 1.24 | L87: =ROUND(E87*F87,2) -> 0 | M87: =ROUND(E87*H87,2) -> 0 | N87: =ROUND(E87*I87,2) -> 5.52 | O87: =ROUND(E87*J87,2) -> 0 | P87: =ROUND(O87+N87+M87,2) -> 5.52
A88: 19 | C88: Skrūves | D88: gab | E88: =ROUND(E83*16,0) -> 594 | I88: 0.04 | K88: =ROUND(H88+J88+I88,2) -> 0.04 | L88: =ROUND(E88*F88,2) -> 0 | M88: =ROUND(E88*H88,2) -> 0 | N88: =ROUND(E88*I88,2) -> 23.76 | O88: =ROUND(E88*J88,2) -> 0 | P88: =ROUND(O88+N88+M88,2) -> 23.76
A89: 20 | B89: Līgumcena | C89: Atbalstsienas armēšana | D89: t | E89: =390.4*1/1000 -> 0.3904 | F89: 32 | G89: 11.63 | H89: =ROUND(F89*G89,2) -> 372.16 | J89: 18 | K89: =ROUND(H89+J89+I89,2) -> 390.16 | L89: =ROUND(E89*F89,2) -> 12.49 | M89: =ROUND(E89*H89,2) -> 145.29 | N89: =ROUND(E89*I89,2) -> 0 | O89: =ROUND(E89*J89,2) -> 7.03 | P89: =ROUND(O89+N89+M89,2) -> 152.32
A90: 21 | C90: Distanceri ''saulīte'' | D90: gab | E90: =ROUND(E83*2.2,0) -> 82 | I90: 0.09 | K90: =ROUND(H90+J90+I90,2) -> 0.09 | L90: =ROUND(E90*F90,2) -> 0 | M90: =ROUND(E90*H90,2) -> 0 | N90: =ROUND(E90*I90,2) -> 7.38 | O90: =ROUND(E90*J90,2) -> 0 | P90: =ROUND(O90+N90+M90,2) -> 7.38
A91: 22 | C91: Distanceri ''sēnes'' | D91: gab | E91: =ROUND(E79*3*4,0) -> 13 | I91: 0.12 | K91: =ROUND(H91+J91+I91,2) -> 0.12 | L91: =ROUND(E91*F91,2) -> 0 | M91: =ROUND(E91*H91,2) -> 0 | N91: =ROUND(E91*I91,2) -> 1.56 | O91: =ROUND(E91*J91,2) -> 0 | P91: =ROUND(O91+N91+M91,2) -> 1.56
A92: 23 | C92: Stiegrojums B500B dažādi diametri | D92: t | E92: =E89*1.18 -> 0.460672 | I92: 1050 | K92: =ROUND(H92+J92+I92,2) -> 1050 | L92: =ROUND(E92*F92,2) -> 0 | M92: =ROUND(E92*H92,2) -> 0 | N92: =ROUND(E92*I92,2) -> 483.71 | O92: =ROUND(E92*J92,2) -> 0 | P92: =ROUND(O92+N92+M92,2) -> 483.71
A93: 24 | C93: Sienamais materiāls | D93: kompl | E93: =E89 -> 0.3904 | I93: 29 | K93: =ROUND(H93+J93+I93,2) -> 29 | L93: =ROUND(E93*F93,2) -> 0 | M93: =ROUND(E93*H93,2) -> 0 | N93: =ROUND(E93*I93,2) -> 11.32 | O93: =ROUND(E93*J93,2) -> 0 | P93: =ROUND(O93+N93+M93,2) -> 11.32
A94: 25 | B94: Līgumcena | C94: Deformācijas šuves aizpildīšana | D94: m2 | E94: =3.02*3*0.6 -> 5.436 | F94: 0.3 | G94: 11.63 | H94: =ROUND(F94*G94,2) -> 3.49 | J94: =H94*0.05 -> 0.1745 | K94: =ROUND(H94+J94+I94,2) -> 3.66 | L94: =ROUND(E94*F94,2) -> 1.63 | M94: =ROUND(E94*H94,2) -> 18.97 | N94: =ROUND(E94*I94,2) -> 0 | O94: =ROUND(E94*J94,2) -> 0.95 | P94: =ROUND(O94+N94+M94,2) -> 19.92
A95: 26 | C95: EPS 20 mm | D95: m2 | E95: =E94*1.1 -> 5.9796 | I95: 4 | K95: =ROUND(H95+J95+I95,2) -> 4 | L95: =ROUND(E95*F95,2) -> 0 | M95: =ROUND(E95*H95,2) -> 0 | N95: =ROUND(E95*I95,2) -> 23.92 | O95: =ROUND(E95*J95,2) -> 0 | P95: =ROUND(O95+N95+M95,2) -> 23.92
A96: 27 | B96: Līgumcena | C96: Atbalstsienas betonēšana, b=200 mm | D96: m3 | E96: =(2*3.02+5.04)*1*0.2+2.255*3.44*0.2+3.02*0.2*(0.855+2.255) -> 5.64588 | F96: 6 | G96: 11.63 | H96: =ROUND(F96*G96,2) -> 69.78 | J96: 2.5 | K96: =ROUND(H96+J96+I96,2) -> 72.28 | L96: =ROUND(E96*F96,2) -> 33.88 | M96: =ROUND(E96*H96,2) -> 393.97 | N96: =ROUND(E96*I96,2) -> 0 | O96: =ROUND(E96*J96,2) -> 14.11 | P96: =ROUND(O96+N96+M96,2) -> 408.08
A97: 28 | C97: Betons C30/37 XC2 XF3 | D97: m3 | E97: =E96*1.1 -> 6.210468 | I97: 87 | J97: =90*0.25 -> 22.5 | K97: =ROUND(H97+J97+I97,2) -> 109.5 | L97: =ROUND(E97*F97,2) -> 0 | M97: =ROUND(E97*H97,2) -> 0 | N97: =ROUND(E97*I97,2) -> 540.31 | O97: =ROUND(E97*J97,2) -> 139.74 | P97: =ROUND(O97+N97+M97,2) -> 680.05
A98: 29 | C98: Betona piegāde | D98: reiss | E98: =ROUND(E97/7,2) -> 0.89 | J98: 65 | K98: =ROUND(H98+J98+I98,2) -> 65 | L98: =ROUND(E98*F98,2) -> 0 | M98: =ROUND(E98*H98,2) -> 0 | N98: =ROUND(E98*I98,2) -> 0 | O98: =ROUND(E98*J98,2) -> 57.85 | P98: =ROUND(O98+N98+M98,2) -> 57.85
A99: 30 | C99: Betona sūknis | D99: m/st | E99: =ROUND(E97/4,2) -> 1.55 | J99: 90 | K99: =ROUND(H99+J99+I99,2) -> 90 | L99: =ROUND(E99*F99,2) -> 0 | M99: =ROUND(E99*H99,2) -> 0 | N99: =ROUND(E99*I99,2) -> 0 | O99: =ROUND(E99*J99,2) -> 139.5 | P99: =ROUND(O99+N99+M99,2) -> 139.5
C101: Tiešas izmaksas kopā, t.sk. Darba dēvēja socialais nodoklis (23.59%) | L101: =SUM(L19:L99) -> 445.77 | M101: =SUM(M19:M99) -> 5184.69 | N101: =SUM(N19:N99) -> 4900.92 | O101: =SUM(O19:O99) -> 8394.52 | P101: =SUM(P19:P99) -> 18480.13
A103: Sastādija: | C103: =PBK!C36 -> Vadims ĻETKO | D103: =PBK!D36 -> 29_10_2021 | G103: Pārbaudija: | I103: =PBK!C41 -> Vadims ĻETKO | N103: =D103 -> 29_10_2021
C104: (paraksts un tā atšifrējums, datums) | K104: (paraksts un tā atšifrējums, datums)
A106: Sertifikāta Nr.: | C106: =PBK!C39 -> 20-6832 | I106: =PBK!C44 -> 20-6832

Sheet EL
D1: LOKĀLĀ TĀME Nr. | I1: 2--1
C2: ELEKTROMONTĀŽAS DARBI
C3: (Darba veids vai konstruktīvā elementa nosaukums)
A5: Būves nosaukums: | C5: =PBK!C15 -> FUTBOLA LAUKUMA APGAISMOJUMA MASTI
A6: Objekta nosaukums: | C6: =PBK!C16 -> ZEMGALAS OLIMPISKAIS CENTRS
A7: Objekta adrese: | C7: =PBK!C17 -> KRONVALDA IELA 24, JELGAVA
A8: Pasūtītājs: | C8: =PBK!C18 -> SIA ''ZEMGALES OLIMPISKAIS CENTRS''
A9: Pasūtījuma Nr.: | C9: =PBK!C19 -> Nr. 01/02/2021
A10: Pretendents: | C10: =PBK!C20 -> 0
A12: Tāme sastādīta 2021. gada tirgus cenās, pamatojoties uz TP EL daļas rasējumiem | K12: Tāmes izmaksas: | N12: =P72 -> 168693.75 | P12: EUR
I14: Tāme sastādīta: | L14: 2021 | M14: gada | N14: ='KOPS '!E15 -> 29. | O14: ='KOPS '!F15 -> oktobrī
A16: Nr.p.k. | B16: Kods | C16: Darba nosaukums | D16: Mērvienība | E16: Daudzums | F16: Vienības izmaksas | L16: Kopā uz visu apjomu
F17: laika norma (c/h) | G17: darba samaksas likme (EUR/h) | H17: darba alga (EUR) | I17: būvistrādājumi (EUR) | J17: mehānismi (EUR) | K17: Kopā (EUR) | L17: darbietilpība (c/h) | M17: darba alga (EUR) | N17: būvistrādājumi (EUR) | O17: mehānismi (EUR) | P17: summa (EUR)
A18: 1 | B18: 2 | C18: 3 | D18: 4 | E18: 5 | F18: 6 | G18: 7 | H18: 8 | I18: 9 | J18: 10 | K18: 11 | L18: 12 | M18: 13 | N18: 14 | O18: 15 | P18: 16
C19: 1. ELEKTROMONTĀŽAS MATERIĀLU SARAKSTS
A20: 1 | B20: Līgumcena | C20: AVS sadalne korpusā 1800x800x400mm IP55 (pēc shēmas) | D20: gab | E20: 2 | I20: 650 | K20: =ROUND(H20+J20+I20,2) -> 650 | L20: =ROUND(E20*F20,2) -> 0 | M20: =ROUND(E20*H20,2) -> 0 | N20: =ROUND(E20*I20,2) -> 1300 | O20: =ROUND(E20*J20,2) -> 0 | P20: =ROUND(O20+N20+M20,2) -> 1300
A21: 2 | B21: Līgumcena | C21: Pamatne P9 | D21: gab | E21: 2 | I21: 150 | K21: =ROUND(H21+J21+I21,2) -> 150 | L21: =ROUND(E21*F21,2) -> 0 | M21: =ROUND(E21*H21,2) -> 0 | N21: =ROUND(E21*I21,2) -> 300 | O21: =ROUND(E21*J21,2) -> 0 | P21: =ROUND(O21+N21+M21,2) -> 300
A22: 3 | B22: Līgumcena | C22: Apgaismojuma balsts H=24m (skat. Specifikāciju) | D22: kpl. | E22: 4 | I22: 19500 | K22: =ROUND(H22+J22+I22,2) -> 19500 | L22: =ROUND(E22*F22,2) -> 0 | M22: =ROUND(E22*H22,2) -> 0 | N22: =ROUND(E22*I22,2) -> 78000 | O22: =ROUND(E22*J22,2) -> 0 | P22: =ROUND(O22+N22+M22,2) -> 78000
A23: 4 | B23: Līgumcena | C23: Prožektori GMR ENLIGHTS Woltron 03 Sport | D23: gab | E23: 32 | I23: 1850 | K23: =ROUND(H23+J23+I23,2) -> 1850 | L23: =ROUND(E23*F23,2) -> 0 | M23: =ROUND(E23*H23,2) -> 0 | N23: =ROUND(E23*I23,2) -> 59200 | O23: =ROUND(E23*J23,2) -> 0 | P23: =ROUND(O23+N23+M23,2) -> 59200
A24: 5 | B24: Līgumcena | C24: DDBC120-DALI Controller | D24: gab | E24: 4 | I24: 270 | K24: 7 | L24: =ROUND(E24*F24,2) -> 0 | M24: =ROUND(E24*H24,2) -> 0 | N24: =ROUND(E24*I24,2) -> 1080 | O24: =ROUND(E24*J24,2) -> 0 | P24: =ROUND(O24+N24+M24,2) -> 1080
A25: 6 | B25: Līgumcena | C25: DDNP1501 Dynalite Network Device | D25: gab | E25: 2 | I25: 255 | K25: =ROUND(H25+J25+I25,2) -> 255 | L25: =ROUND(E25*F25,2) -> 0 | M25: =ROUND(E25*H25,2) -> 0 | N25: =ROUND(E25*I25,2) -> 510 | O25: =ROUND(E25*J25,2) -> 0 | P25: =ROUND(O25+N25+M25,2) -> 510
A26: 7 | B26: Līgumcena | C26: PDEG Ethernet Gateway | D26: gab | E26: 1 | I26: 360 | K26: =ROUND(H26+J26+I26,2) -> 360 | L26: =ROUND(E26*F26,2) -> 0 | M26: =ROUND(E26*H26,2) -> 0 | N26: =ROUND(E26*I26,2) -> 360 | O26: =ROUND(E26*J26,2) -> 0 | P26: =ROUND(O26+N26+M26,2) -> 360
A27: 8 | B27: Līgumcena | C27: PADPE-MW-X Dynalite User Interface | D27: gab | E27: 1 | I27: 320 | K27: =ROUND(H27+J27+I27,2) -> 320 | L27: =ROUND(E27*F27,2) -> 0 | M27: =ROUND(E27*H27,2) -> 0 | N27: =ROUND(E27*I27,2) -> 320 | O27: =ROUND(E27*J27,2) -> 0 | P27: =ROUND(O27+N27+M27,2) -> 320
A28: 9 | B28: Līgumcena | C28: DACM-DyNet | D28: gab | E28: 1 | I28: 675 | K28: =ROUND(H28+J28+I28,2) -> 675 | L28: =ROUND(E28*F28,2) -> 0 | M28: =ROUND(E28*H28,2) -> 0 | N28: =ROUND(E28*I28,2) -> 675 | O28: =ROUND(E28*J28,2) -> 0 | P28: =ROUND(O28+N28+M28,2) -> 675
A29: 10 | B29: Līgumcena | C29: DyNet-STP-CABLE-LSZH | D29: m | E29: 250 | I29: 0.75 | K29: =ROUND(H29+J29+I29,2) -> 0.75 | L29: =ROUND(E29*F29,2) -> 0 | M29: =ROUND(E29*H29,2) -> 0 | N29: =ROUND(E29*I29,2) -> 187.5 | O29: =ROUND(E29*J29,2) -> 0 | P29: =ROUND(O29+N29+M29,2) -> 187.5
A30: 11 | B30: Līgumcena | C30: FTP cat5e kabelis OUTDOOR | D30: m | E30: 500 | I30: 0.68 | K30: 7 | L30: =ROUND(E30*F30,2) -> 0 | M30: =ROUND(E30*H30,2) -> 0 | N30: =ROUND(E30*I30,2) -> 340 | O30: =ROUND(E30*J30,2) -> 0 | P30: =ROUND(O30+N30+M30,2) -> 340
A31: 12 | B31: Līgumcena | C31: Automātslēdzis 3F C16A | D31: gab | E31: 32 | I31: 9.2 | K31: 7 | L31: =ROUND(E31*F31,2) -> 0 | M31: =ROUND(E31*H31,2) -> 0 | N31: =ROUND(E31*I31,2) -> 294.4 | O31: =ROUND(E31*J31,2) -> 0 | P31: =ROUND(O31+N31+M31,2) -> 294.4
A32: 13 | B32: Līgumcena | C32: Automātslēdzis 1F C10A | D32: gab | E32: 4 | I32: 2.3 | K32: =ROUND(H32+J32+I32,2) -> 2.3 | L32: =ROUND(E32*F32,2) -> 0 | M32: =ROUND(E32*H32,2) -> 0 | N32: =ROUND(E32*I32,2) -> 9.2 | O32: =ROUND(E32*J32,2) -> 0 | P32: =ROUND(O32+N32+M32,2) -> 9.2
A33: 14 | B33: Līgumcena | C33: Kabelis CYKY 5x2.5mm2 | D33: m | E33: 2816 | I33: 1.22 | K33: =ROUND(H33+J33+I33,2) -> 1.22 | L33: =ROUND(E33*F33,2) -> 0 | M33: =ROUND(E33*H33,2) -> 0 | N33: =ROUND(E33*I33,2) -> 3435.52 | O33: =ROUND(E33*J33,2) -> 0 | P33: =ROUND(O33+N33+M33,2) -> 3435.52
A34: 15 | B34: Līgumcena | C34: Aizsargcaurule EVOCAB HARD 450N d=40mm | D34: m | E34: 1290 | I34: 0.73 | K34: =ROUND(H34+J34+I34,2) -> 0.73 | L34: =ROUND(E34*F34,2) -> 0 | M34: =ROUND(E34*H34,2) -> 0 | N34: =ROUND(E34*I34,2) -> 941.7 | O34: =ROUND(E34*J34,2) -> 0 | P34: =ROUND(O34+N34+M34,2) -> 941.7
A35: 16 | B35: Līgumcena | C35: Caurule‚ caurdures 1250N‚ d=125 | D35: m | E35: 80 | I35: 12.2 | K35: =ROUND(H35+J35+I35,2) -> 12.2 | L35: =ROUND(E35*F35,2) -> 0 | M35: =ROUND(E35*H35,2) -> 0 | N35: =ROUND(E35*I35,2) -> 976 | O35: =ROUND(E35*J35,2) -> 0 | P35: =ROUND(O35+N35+M35,2) -> 976
A36: 17 | B36: Līgumcena | C36: Kabeļu gala apdare 0.4kV kabelim 5x2.5mm2 | D36: kpl. | E36: 32 | I36: 6.5 | K36: =ROUND(H36+J36+I36,2) -> 6.5 | L36: =ROUND(E36*F36,2) -> 0 | M36: =ROUND(E36*H36,2) -> 0 | N36: =ROUND(E36*I36,2) -> 208 | O36: =ROUND(E36*J36,2) -> 0 | P36: =ROUND(O36+N36+M36,2) -> 208
A37: 18 | B37: Līgumcena | C37: Metāla kabeļu kanāls 30x16mm ar vāku | D37: m | E37: 130 | I37: 16.8 | K37: 7 | L37: =ROUND(E37*F37,2) -> 0 | M37: =ROUND(E37*H37,2) -> 0 | N37: =ROUND(E37*I37,2) -> 2184 | O37: =ROUND(E37*J37,2) -> 0 | P37: =ROUND(O37+N37+M37,2) -> 2184
A38: 19 | B38: Līgumcena | C38: Sadalnes dzesēšanas sistēma | D38: kpl. | E38: 2 | I38: 145.3 | K38: 7 | L38: =ROUND(E38*F38,2) -> 0 | M38: =ROUND(E38*H38,2) -> 0 | N38: =ROUND(E38*I38,2) -> 290.6 | O38: =ROUND(E38*J38,2) -> 0 | P38: =ROUND(O38+N38+M38,2) -> 290.6
A39: 20 | B39: Līgumcena | C39: Tērauda trose cinkota d=8mm | D39: m | E39: 140 | I39: 0.65 | K39: =ROUND(H39+J39+I39,2) -> 0.65 | L39: =ROUND(E39*F39,2) -> 0 | M39: =ROUND(E39*H39,2) -> 0 | N39: =ROUND(E39*I39,2) -> 91 | O39: =ROUND(E39*J39,2) -> 0 | P39: =ROUND(O39+N39+M39,2) -> 91
A40: 21 | B40: Līgumcena | C40: Tērauda troses stiprinājumi, spriegotāji, fiksatori | D40: kpl. | E40: 4 | I40: 23.4 | K40: =ROUND(H40+J40+I40,2) -> 23.4 | L40: =ROUND(E40*F40,2) -> 0 | M40: =ROUND(E40*H40,2) -> 0 | N40: =ROUND(E40*I40,2) -> 93.6 | O40: =ROUND(E40*J40,2) -> 0 | P40: =ROUND(O40+N40+M40,2) -> 93.6
A41: 22 | B41: Līgumcena | C41: Signāllenta kabeļlīnijai, platums 125 mm | D41: m | E41: 212 | I41: 0.15 | K41: =ROUND(H41+J41+I41,2) -> 0.15 | L41: =ROUND(E41*F41,2) -> 0 | M41: =ROUND(E41*H41,2) -> 0 | N41: =ROUND(E41*I41,2) -> 31.8 | O41: =ROUND(E41*J41,2) -> 0 | P41: =ROUND(O41+N41+M41,2) -> 31.8
A42: 23 | B42: Līgumcena | C42: Smilts | D42: m³ | E42: 19 | I42: 7.4 | K42: =ROUND(H42+J42+I42,2) -> 7.4 | L42: =ROUND(E42*F42,2) -> 0 | M42: =ROUND(E42*H42,2) -> 0 | N42: =ROUND(E42*I42,2) -> 140.6 | O42: =ROUND(E42*J42,2) -> 0 | P42: =ROUND(O42+N42+M42,2) -> 140.6
A43: 24 | B43: Līgumcena | C43: Grants 4/8 (AVS sadalnei) | D43: m³ | E43: 0.34 | I43: 8 | K43: =ROUND(H43+J43+I43,2) -> 8 | L43: =ROUND(E43*F43,2) -> 0 | M43: =ROUND(E43*H43,2) -> 0 | N43: =ROUND(E43*I43,2) -> 2.72 | O43: =ROUND(E43*J43,2) -> 0 | P43: =ROUND(O43+N43+M43,2) -> 2.72
A44: 25 | B44: Līgumcena | C44: Grants 0/3 (AVS sadalnei) | D44: m³ | E44: 1.12 | I44: 8 | K44: 7 | L44: =ROUND(E44*F44,2) -> 0 | M44: =ROUND(E44*H44,2) -> 0 | N44: =ROUND(E44*I44,2) -> 8.96 | O44: =ROUND(E44*J44,2) -> 0 | P44: =ROUND(O44+N44+M44,2) -> 8.96
A45: 26 | B45: Līgumcena | C45: Keramzīts (AVS sadalnei) | D45: l | E45: 85 | I45: 0.3 | K45: 7 | L45: =ROUND(E45*F45,2) -> 0 | M45: =ROUND(E45*H45,2) -> 0 | N45: =ROUND(E45*I45,2) -> 25.5 | O45: =ROUND(E45*J45,2) -> 0 | P45: =ROUND(O45+N45+M45,2) -> 25.5
A46: 27 | B46: Līgumcena | C46: Papildmateriāli | D46: kpl | E46: 1 | I46: 400 | K46: =ROUND(H46+J46+I46,2) -> 400 | L46: =ROUND(E46*F46,2) -> 0 | M46: =ROUND(E46*H46,2) -> 0 | N46: =ROUND(E46*I46,2) -> 400 | O46: =ROUND(E46*J46,2) -> 0 | P46: =ROUND(O46+N46+M46,2) -> 400
C47: 2. ELEKTROMONTĀŽAS GALVENO DARBU SARAKSTS
A48: 1 | B48: Līgumcena | C48: Apgaismes vadības sadalnes (AVS tipa) montāža (ar pamatni un vadības automātiku atbilstoši projekta prasībām) | D48: gab | E48: 2 | F48: 18.85 | G48: 11.63 | H48: =ROUND(F48*G48,2) -> 219.23 | J48: =ROUND(H48*0.05,2) -> 10.96 | K48: =ROUND(H48+J48+I48,2) -> 230.19 | L48: =ROUND(E48*F48,2) -> 37.7 | M48: =ROUND(E48*H48,2) -> 438.46 | N48: =ROUND(E48*I48,2) -> 0 | O48: =ROUND(E48*J48,2) -> 21.92 | P48: =ROUND(O48+N48+M48,2) -> 460.38
A49: 2 | B49: Līgumcena | C49: Prožektoru montāža mastā | D49: gab | E49: 32 | F49: 6.2 | G49: 11.63 | H49: =ROUND(F49*G49,2) -> 72.11 | J49: =ROUND(H49*0.05,2) -> 3.61 | K49: =ROUND(H49+J49+I49,2) -> 75.72 | L49: =ROUND(E49*F49,2) -> 198.4 | M49: =ROUND(E49*H49,2) -> 2307.52 | N49: =ROUND(E49*I49,2) -> 0 | O49: =ROUND(E49*J49,2) -> 115.52 | P49: =ROUND(O49+N49+M49,2) -> 2423.04
A50: 3 | B50: Līgumcena | C50: Prožektoru regulēšana | D50: gab | E50: 32 | F50: 2.05 | G50: 11.63 | H50: =ROUND(F50*G50,2) -> 23.84 | J50: =ROUND(H50*0.05,2) -> 1.19 | K50: =ROUND(H50+J50+I50,2) -> 25.03 | L50: =ROUND(E50*F50,2) -> 65.6 | M50: =ROUND(E50*H50,2) -> 762.88 | N50: =ROUND(E50*I50,2) -> 0 | O50: =ROUND(E50*J50,2) -> 38.08 | P50: =ROUND(O50+N50+M50,2) -> 800.96
A51: 4 | B51: Līgumcena | C51: Kabeļu montāža mastā | D51: m | E51: 800 | F51: 0.13 | G51: 11.63 | H51: =ROUND(F51*G51,2) -> 1.51 | J51: =ROUND(H51*0.05,2) -> 0.08 | K51: =ROUND(H51+J51+I51,2) -> 1.59 | L51: =ROUND(E51*F51,2) -> 104 | M51: =ROUND(E51*H51,2) -> 1208 | N51: =ROUND(E51*I51,2) -> 0 | O51: =ROUND(E51*J51,2) -> 64 | P51: =ROUND(O51+N51+M51,2) -> 1272
A52: 5 | B52: Līgumcena | C52: Automātslēdžu montāža | D52: gab | E52: 36 | F52: 0.29 | G52: 11.63 | H52: =ROUND(F52*G52,2) -> 3.37 | J52: =ROUND(H52*0.05,2) -> 0.17 | K52: =ROUND(H52+J52+I52,2) -> 3.54 | L52: =ROUND(E52*F52,2) -> 10.44 | M52: =ROUND(E52*H52,2) -> 121.32 | N52: =ROUND(E52*I52,2) -> 0 | O52: =ROUND(E52*J52,2) -> 6.12 | P52: =ROUND(O52+N52+M52,2) -> 127.44
A53: 6 | B53: Līgumcena | C53: Kabeļu kanāla montāža | D53: m | E53: 130 | F53: 0.15 | G53: 11.63 | H53: =ROUND(F53*G53,2) -> 1.74 | J53: =ROUND(H53*0.05,2) -> 0.09 | K53: =ROUND(H53+J53+I53,2) -> 1.83 | L53: =ROUND(E53*F53,2) -> 19.5 | M53: =ROUND(E53*H53,2) -> 226.2 | N53: =ROUND(E53*I53,2) -> 0 | O53: =ROUND(E53*J53,2) -> 11.7 | P53: =ROUND(O53+N53+M53,2) -> 237.9
A54: 7 | B54: Līgumcena | C54: Pazemes komunikāciju atšurfēšana | D54: vieta | E54: 8 | F54: 2.87 | G54: 11.63 | H54: =ROUND(F54*G54,2) -> 33.38 | J54: =ROUND(H54*0.05,2) -> 1.67 | K54: =ROUND(H54+J54+I54,2) -> 35.05 | L54: =ROUND(E54*F54,2) -> 22.96 | M54: =ROUND(E54*H54,2) -> 267.04 | N54: =ROUND(E54*I54,2) -> 0 | O54: =ROUND(E54*J54,2) -> 13.36 | P54: =ROUND(O54+N54+M54,2) -> 280.4
A55: 8 | B55: Līgumcena | C55: Tranšejas rakšana un aizbēršana viena līdz divu kabeļu (caurules) gūldīšanai 0.7m dziļumā | D55: m | E55: 75 | F55: 0.64 | G55: 11.63 | H55: =ROUND(F55*G55,2) -> 7.44 | J55: =ROUND(H55*0.05,2) -> 0.37 | K55: =ROUND(H55+J55+I55,2) -> 7.81 | L55: =ROUND(E55*F55,2) -> 48 | M55: =ROUND(E55*H55,2) -> 558 | N55: =ROUND(E55*I55,2) -> 0 | O55: =ROUND(E55*J55,2) -> 27.75 | P55: =ROUND(O55+N55+M55,2) -> 585.75
A56: 9 | B56: Līgumcena | C56: Tranšejas rakšana un aizbēršana piecu līdz astoņu kabeļu (caurules) gūldīšanai 0.7m dziļumā | D56: m | E56: 137 | F56: 1.28 | G56: 11.63 | H56: =ROUND(F56*G56,2) -> 14.89 | J56: =ROUND(H56*0.05,2) -> 0.74 | K56: =ROUND(H56+J56+I56,2) -> 15.63 | L56: =ROUND(E56*F56,2) -> 175.36 | M56: =ROUND(E56*H56,2) -> 2039.93 | N56: =ROUND(E56*I56,2) -> 0 | O56: =ROUND(E56*J56,2) -> 101.38 | P56: =ROUND(O56+N56+M56,2) -> 2141.31
A57: 10 | B57: Līgumcena | C57: PEHD caurules d=110 līdz 160 mm horizontāla urbšana-caurvilkšana | D57: m | E57: 80 | F57: 3.28 | G57: 11.63 | H57: =ROUND(F57*G57,2) -> 38.15 | J57: =ROUND(H57*0.05,2) -> 1.91 | K57: =ROUND(H57+J57+I57,2) -> 40.06 | L57: =ROUND(E57*F57,2) -> 262.4 | M57: =ROUND(E57*H57,2) -> 3052 | N57: =ROUND(E57*I57,2) -> 0 | O57: =ROUND(E57*J57,2) -> 152.8 | P57: =ROUND(O57+N57+M57,2) -> 3204.8
A58: 11 | B58: Līgumcena | C58: Plastmasas caurules guldīšana gatavā tranšejā | D58: m | E58: 1171 | F58: 0.05 | G58: 11.63 | H58: =ROUND(F58*G58,2) -> 0.58 | J58: =ROUND(H58*0.05,2) -> 0.03 | K58: =ROUND(H58+J58+I58,2) -> 0.61 | L58: =ROUND(E58*F58,2) -> 58.55 | M58: =ROUND(E58*H58,2) -> 679.18 | N58: =ROUND(E58*I58,2) -> 0 | O58: =ROUND(E58*J58,2) -> 35.13 | P58: =ROUND(O58+N58+M58,2) -> 714.31
A59: 12 | B59: Līgumcena | C59: Tranšejas gultnes sagatavošana ar smilts pievešanu | D59: m | E59: 212 | F59: 0.04 | G59: 11.63 | H59: =ROUND(F59*G59,2) -> 0.47 | J59: =ROUND(H59*0.05,2) -> 0.02 | K59: =ROUND(H59+J59+I59,2) -> 0.49 | L59: =ROUND(E59*F59,2) -> 8.48 | M59: =ROUND(E59*H59,2) -> 99.64 | N59: =ROUND(E59*I59,2) -> 0 | O59: =ROUND(E59*J59,2) -> 4.24 | P59: =ROUND(O59+N59+M59,2) -> 103.88
... A64: 17 | B64: Līgumcena | C64: Teritorijas labiekārtošana | D64: m2 | E64: 190 | F64: 0.61 | G64: 11.63 | H64: =ROUND(F64*G64,2) -> 7.09 | J64: =ROUND(H64*0.05,2) -> 0.35 | K64: =ROUND(H64+J64+I64,2) -> 7.44 | L64: =ROUND(E64*F64,2) -> 115.9 | M64: =ROUND(E64*H64,2) -> 1347.1 | N64: =ROUND(E64*I64,2) -> 0 | O64: =ROUND(E64*J64,2) -> 66.5 | P64: =ROUND(O64+N64+M64,2) -> 1413.6
C65: 3. ELEKTROMONTĀŽAS ORGANIZATORISKIE PAKALPOJUMI
A66: 1 | B66: Līgumcena | C66: Trases nospraušana | D66: objekts | E66: 1 | F66: 24.57 | G66: 11.63 | H66: =ROUND(F66*G66,2) -> 285.75 | J66: =ROUND(H66*0.05,2) -> 14.29 | K66: =ROUND(H66+J66+I66,2) -> 300.04 | L66: =ROUND(E66*F66,2) -> 24.57 | M66: =ROUND(E66*H66,2) -> 285.75 | N66: =ROUND(E66*I66,2) -> 0 | O66: =ROUND(E66*J66,2) -> 14.29 | P66: =ROUND(O66+N66+M66,2) -> 300.04
A67: 2 | B67: Līgumcena | C67: Trases uzmērīšana | D67: objekts | E67: 1 | F67: 28.66 | G67: 11.63 | H67: =ROUND(F67*G67,2) -> 333.32 | J67: =ROUND(H67*0.05,2) -> 16.67 | K67: =ROUND(H67+J67+I67,2) -> 349.99 | L67: =ROUND(E67*F67,2) -> 28.66 | M67: =ROUND(E67*H67,2) -> 333.32 | N67: =ROUND(E67*I67,2) -> 0 | O67: =ROUND(E67*J67,2) -> 16.67 | P67: =ROUND(O67+N67+M67,2) -> 349.99
A68: 3 | B68: Līgumcena | C68: Rakšanas atļaujas saņemšana | D68: objekts | E68: 1 | F68: 12.29 | G68: 11.63 | H68: =ROUND(F68*G68,2) -> 142.93 | J68: =ROUND(H68*0.05,2) -> 7.15 | K68: =ROUND(H68+J68+I68,2) -> 150.08 | L68: =ROUND(E68*F68,2) -> 12.29 | M68: =ROUND(E68*H68,2) -> 142.93 | N68: =ROUND(E68*I68,2) -> 0 | O68: =ROUND(E68*J68,2) -> 7.15 | P68: =ROUND(O68+N68+M68,2) -> 150.08
A69: 4 | B69: Līgumcena | C69: Tehniskās dokumentācijas izgatavošana | D69: objekts | E69: 1 | F69: 28.66 | G69: 11.63 | H69: =ROUND(F69*G69,2) -> 333.32 | J69: =ROUND(H69*0.05,2) -> 16.67 | K69: =ROUND(H69+J69+I69,2) -> 349.99 | L69: =ROUND(E69*F69,2) -> 28.66 | M69: =ROUND(E69*H69,2) -> 333.32 | N69: =ROUND(E69*I69,2) -> 0 | O69: =ROUND(E69*J69,2) -> 16.67 | P69: =ROUND(O69+N69+M69,2) -> 349.99
A70: 5 | B70: Līgumcena | C70: Objekta sagatavošana nodošanai - pieņemšanai ekspluatācijā | D70: objekts | E70: 1 | F70: 20.48 | G70: 11.63 | H70: =ROUND(F70*G70,2) -> 238.18 | J70: =ROUND(H70*0.05,2) -> 11.91 | K70: =ROUND(H70+J70+I70,2) -> 250.09 | L70: =ROUND(E70*F70,2) -> 20.48 | M70: =ROUND(E70*H70,2) -> 238.18 | N70: =ROUND(E70*I70,2) -> 0 | O70: =ROUND(E70*J70,2) -> 11.91 | P70: =ROUND(O70+N70+M70,2) -> 250.09
C72: Tiešas izmaksas kopā, t.sk. Darba dēvēja socialais nodoklis (23.59%) | L72: =SUM(L19:L71) -> 1415.68 | M72: =SUM(M19:M71) -> 16459.87 | N72: =SUM(N19:N71) -> 151406.1 | O72: =SUM(O19:O71) -> 827.78 | P72: =SUM(P19:P71) -> 168693.75
A74: Sastādija: | C74: =PBK!C36 -> Vadims ĻETKO | D74: =PBK!D36 -> 29_10_2021 | G74: Pārbaudija: | I74: =PBK!C41 -> Vadims ĻETKO | N74: =D74 -> 29_10_2021
C75: (paraksts un tā atšifrējums, datums) | K75: (paraksts un tā atšifrējums, datums)
A77: Sertifikāta Nr.: | C77: =PBK!C39 -> 20-6832 | I77: =PBK!C44 -> 20-6832

Sheet DARBA APJOMI
B2: =PBK!B15 -> Būves nosaukums: | C2: =PBK!C15 -> FUTBOLA LAUKUMA APGAISMOJUMA MASTI
B3: =PBK!B16 -> Objekta nosaukums: | C3: =PBK!C16 -> ZEMGALAS OLIMPISKAIS CENTRS
B4: =PBK!B17 -> Būves adrese: | C4: =PBK!C17 -> KRONVALDA IELA 24, JELGAVA
B5: =PBK!B18 -> Pasūtītājs: | C5: =PBK!C18 -> SIA ''ZEMGALES OLIMPISKAIS CENTRS''
B6: =PBK!B19 -> Pasūtījuma Nr.: | C6: =PBK!C19 -> Nr. 01/02/2021
C9: DARBA APJOMI
C11: LOKĀLĀ TĀME Nr. 1--1
C12: BŪVLAUKUMA SAGATAVOŠANA UN UZTURĒŠANA
A14: Nr.p.k. | B14: Kods | C14: Darba nosaukums | D14: Mērvienība | E14: Daudzums
A16: 1 | B16: 2 | C16: 3 | D16: 4 | E16: 5
C17: 1. BŪVLAUKUMA SAGATAVOŠANA
A18: 1 | B18: Līgumcena | C18: Pagaidu žoga ar vārtiem montāža, demontāža | D18: tek.m | E18: =4*(20) -> 80
A19: 2 | B19: Līgumcena | C19: Bio tualetes montāža, demontāža | D19: gab | E19: 1
A20: 3 | B20: Līgumcena | C20: Moduļa tipa konteinera montāža, demontāža | D20: gab | E20: 1
A21: 4 | B21: Līgumcena | C21: Būvtāfeles montāža | D21: gab | E21: 1
A22: 5 | B22: Līgumcena | C22: Pagaidu EL sadalnes un tīklu izbūve | D22: kompl | E22: 1
A23: 6 | B23: Līgumcena | C23: Beramo materiālu noliktavas izveide | D23: m2 | E23: 40
A24: 7 | B24: Līgumcena | C24: Citi būvlaukuma izveides darbi | D24: kompl | E24: 1
C25: 2. BŪVLAUKUMA UZTURĒŠANA
A26: 1 | B26: Līgumcena | C26: Bio tualetes apkalpošana 4 reizes mēnesi un noma | D26: mēn | E26: 3
A27: 2 | B27: Līgumcena | C27: Modula tipa konteinera noma | D27: mēn | E27: =E26 -> 3
A28: 3 | B28: Līgumcena | C28: Pagaidu žoga ar vārtiem noma | D28: mēn | E28: =E26 -> 3
A29: 4 | B29: Līgumcena | C29: Elektrības izmaksas | D29: mēn | E29: =E26 -> 3
A30: 5 | B30: Līgumcena | C30: Būvgružu konteineru īres, izvešanas un utilizācijas izmaksas | D30: mēn | E30: =E27 -> 3
C31: 3. SAGATAVOŠANAS DARBI PIE APGAISMOJUMA STABA Nr.1
A32: 1 | B32: Līgumcena | C32: Esošā žoga demontāža un pēc būvdarbu pabeigšanas montāža atpakaļ (tanī skaitā bojāto elementu izbūve no jauna) | D32: tek.m | E32: 7.5
A33: 2 | B33: Līgumcena | C33: ELT kabeļu tranšejas darbu zonas norobežošana ar brīdinājuma lentām | D33: tek.m | E33: 96
A34: 3 | B34: Līgumcena | C34: Būvniecības darbu zonas norobežošana ar brīdinājuma lentām | D34: tek.m | E34: 60
A35: 4 | B35: Līgumcena | C35: Zālāja atjaunošana pēc pāļu urbšanas iekārtas demobilizācijas, ~600m2 (tanī skaitā pārvietošanās ceļš līdz apgaismes stabam Nr.4) | D35: kompl | E35: 1
A36: 5 | B36: Līgumcena | C36: Betona bruģakmens atjaunošana pēc ELT kabeļa izbūves un urb.iekārtas.iebraukšanas darba zonā (tanī skaitā pēc pāļu urbšanas iekārtas pārvietošanas uz stabu Nr.4), ~80m2 | D36: kompl | E36: 1
A37: 6 | B37: Līgumcena | C37: Citi būvlaukuma izveides darbi | D37: kompl | E37: 1
C38: 4. SAGATAVOŠANAS UN ATJAUNOŠANAS DARBI PIE APGAISMOJUMA STABA Nr.2
A39: 1 | B39: Līgumcena | C39: Būvniecības darbu zonas norobežošana ar brīdinājuma lentām | D39: tek.m | E39: 120
A40: 2 | B40: Līgumcena | C40: Zālāja atjaunošana pēc pāļu urbšanas iekārtas demobilizācijas, ~220m2 | D40: kompl | E40: 1
A41: 3 | B41: Līgumcena | C41: Betona bruģakmens atjaunošana pēc pāļu urbšanas iekārtas demobilizācijas un ELT kabeļa izbūves, ~115m2 | D41: kompl | E41: 1
A42: 4 | B42: Līgumcena | C42: Citi būvlaukuma izveides darbi | D42: kompl | E42: 1
C43: 5. SAGATAVOŠANAS UN ATJAUNOŠANAS DARBI PIE APGAISMOJUMA STABA Nr.3
A44: 1 | B44: Līgumcena | C44: Esošā žoga demontāža un pēc būvdarbu pabeigšanas montāža atpakaļ (tanī skaitā bojāto elementu izbūve no jauna) | D44: tek.m | E44: 10
A45: 2 | B45: Līgumcena | C45: Būvniecības darbu zonas norobežošana ar brīdinājuma lentām | D45: tek.m | E45: 50
A46: 3 | B46: Līgumcena | C46: Zālāja atjaunošana pēc pāļu urbšanas iekārtas demobilizācijas, ~200m2 | D46: kompl | E46: 1
A47: 4 | B47: Līgumcena | C47: Betona bruģakmens atjaunošana pēc pāļu urbšanas iekārtas demobilizācijas, ~15m2 | D47: kompl | E47: 1
A48: 5 | B48: Līgumcena | C48: Citi būvlaukuma izveides darbi | D48: kompl | E48: 1
C49: 6. SAGATAVOŠANAS UN ATJAUNOŠANAS DARBI PIE APGAISMOJUMA STABA Nr.4
A50: 1 | B50: Līgumcena | C50: Esošā žoga demontāža un pēc būvdarbu pabeigšanas montāža atpakaļ (tanī skaitā bojāto elementu izbūve no jauna) | D50: tek.m | E50: 15
A51: 2 | B51: Līgumcena | C51: ELT kabeļu tranšejas darbu zonas norobežošana ar brīdinājuma lentām | D51: tek.m | E51: 10
A52: 3 | B52: Līgumcena | C52: Būvniecības darbu zonas norobežošana ar brīdinājuma lentām | D52: tek.m | E52: 50
A53: 4 | B53: Līgumcena | C53: Zemes darbi, norakt uzbērumu ~45m3 un sagatavot vietu pāļa urbšanas iekārtai. Tanī skaitā uzbēruma atjaunošana | D53: kompl | E53: 1
A54: 5 | B54: Līgumcena | C54: Zālāja atjaunošana pēc pāļu urbšanas iekārtas demobilizācijas, ~300m2 | D54: kompl | E54: 1
A55: 6 | B55: Līgumcena | C55: Citi būvlaukuma izveides darbi | D55: kompl | E55: 1
C56: 7. ORGANIZATORISKIE PAKALPOJUMI
A57: 1 | B57: Līgumcena | C57: Darbu veikšanas projekta izstrāde un tā saskaņošana ar atbildīgajām instancēm | D57: kompl | E57: 1
C59: Tiešas izmaksas kopā, t.sk. Darba dēvēja socialais nodoklis (23.59%)
C61: LOKĀLĀ TĀME Nr. 1--2
C62: PAMATU IZBŪVE APGAISMOJUMA STABAM Nr.1
C63: (Darba veids vai konstruktīvā elementa nosaukums)
A65: Nr.p.k. | B65: Kods | C65: Darba nosaukums | D65: Mērvienība | E65: Daudzums
A67: 1 | B67: 2 | C67: 3 | D67: 4 | E67: 5
C68: 1. ZEMES DARBI
A69: 1 | B69: Līgumcena | C69: Pamatu gabarītu un būvasu nospraušana pēc koordinātām | D69: kompl | E69: 1
A70: 2 | B70: Līgumcena | C70: Koka konstrukcija būvasu atzīmēšanai | D70: kompl | E70: 1
A71: 3 | B71: Līgumcena | C71: Augsnes kārtas 400 mm noņemšana | D71: m2 | E71: =5*5 -> 25
A72: 4 | B72: Līgumcena | C72: Augsnes kārtas transportēšana līdz 10 km | D72: m3 | E72: =E71*0.4 -> 10
A73: 5 | B73: Līgumcena | C73: Pamatu rakšana (mehanizēti) | D73: m3 | E73: =5*5*0.8 -> 20
A74: 6 | B74: Līgumcena | C74: Pamatu rakšana (roku darbs), 3% | D74: m3 | E74: =E73*0.03 -> 0.6
A75: 7 | B75: Līgumcena | C75: Nederīgas grunts transportēšana līdz 10 km | D75: m3 | E75: =E73+E74 -> 20.6
A76: 8 | B76: Līgumcena | C76: Grunts pamatnes līdzināšana, blietēšana | D76: m2 | E76: =E71 -> 25
A77: 9 | B77: Līgumcena | C77: Būvbedres aizbēršana ar pievesto smilti, blietējot pa kārtām | D77: m3 | E77: =E72+E75-3*3*0.6-0.405*3.14*0.625*0.625 -> 24.703242
A78: 10 | C78: Smilts ar piegādi | D78: m2 | E78: =E73 -> 20
C79: 2. PĀĻU MONTĀŽA
A80: 1 | B80: Līgumcena | C80: Pāļu montāžas iekārtas mobilizācija un demobilizācija | D80: kompl | E80: 1
A81: 2 | B81: Līgumcena | C81: Pāļu dzSP-1, L=8480 mm, d=300 mm montāža | D81: gab | E81: 4
A82: 3 | C82: Betons C30/37 XC2 XF1 | D82: m3 | E82: =E81*8.48*3.14*0.15*0.15*1.1 -> 2.6360928
A83: 4 | C83: Armatūra B500B, dažādi diametri | D83: t | E83: =E81*96.1*1.15/1000 -> 0.44206
A84: 5 | C84: Betona piegāde | D84: reiss | E84: =ROUND(E82/7,2) -> 0.38
A85: 6 | C85: Betona sūknis | D85: m/st | E85: =ROUND(E82/3,2) -> 0.88
A86: 7 | B86: Līgumcena | C86: Pāļu statiskā pārbaude | D86: gab | E86: 1
C87: 3. REŽĢOGA dzPR-1 BETONĒŠANA
A88: 1 | B88: Līgumcena | C88: Šķembu kārtas piebēršana ar blietēšanu, 200 mm | D88: m2 | E88: =4*4 -> 16
A89: 2 | C89: Šķembas ar piegādi | D89: m3 | E89: =E88*0.2*1.3 -> 4.16
A90: 3 | B90: Līgumcena | C90: Hidroizolācijas kārtas ieklāšana (sagataves kārtai un pamatiem) | D90: m2 | E90: =E88*2 -> 32
A91: 4 | C91: PVC plēve | D91: m2 | E91: =E90*1.15 -> 36.8
A92: 5 | B92: Līgumcena | C92: Betona sagataves kārtas izveide zem režģoga | D92: m3 | E92: =3.3*3.3*0.1 -> 1.089
A93: 6 | C93: Betons C7.5/10 | D93: m3 | E93: =E92*1.1 -> 1.1979
A94: 7 | C94: Betona piegāde | D94: reiss | E94: =ROUND(E93/7,2) -> 0.17
A95: 8 | C95: Betona sūknis | D95: m/st | E95: =ROUND(E93/3,2) -> 0.4
A96: 9 | B96: Līgumcena | C96: Veidņu noma, montāža, demontāža režģogam, H=600 mm | D96: m2 | E96: =4*3*0.6 -> 7.2
A97: 10 | C97: Mitrumizturīgs finieris 21 mm | D97: m2 | E97: =E96*1.2 -> 8.64
A98: 11 | C98: Kokmateriāls | D98: m3 | E98: =ROUND(E96*0.02,2) -> 0.14
A99: 12 | C99: Veidņu eļļa | D99: l | E99: =E96*0.12 -> 0.864
A100: 13 | C100: Skrūves | D100: gab | E100: =ROUND(E96*16,0) -> 115
A101: 14 | B101: Līgumcena | C101: Režģoga armēšana | D101: t | E101: =667.4*1/1000 -> 0.6674
A102: 15 | C102: Distanceri ''saulīte'' | D102: gab | E102: =ROUND(E96*2.2,0) -> 16
A103: 16 | C103: Distanceri ''sēnes'' | D103: gab | E103: =ROUND(E88*1*4,0) -> 64
A104: 17 | C104: Stiegrojums B500B dažādi diametri | D104: t | E104: =E101*1.18 -> 0.787532
A105: 18 | C105: Sienamais materiāls | D105: kompl | E105: =E101 -> 0.6674
A106: 19 | B106: Līgumcena | C106: Ieliekamā enkura montāža | D106: gab | E106: 16
A107: 20 | C107: Vītņstienis d.27 L=1100 mm, S355J0 | D107: gab | E107: 16
A108: 21 | C108: Paplāksnes, M27/6, S355J0 | D108: gab | E108: 16
A109: 22 | C109: Uzgriežņi M27/7, S355J0 | D109: gab | E109: 32
A110: 23 | B110: Līgumcena | C110: Režģoga betonēšana, 3000*3000*600 + d.1250*405 mm | D110: m3 | E110: =3*3*0.6+0.405*0.625*0.625*3.14 -> 5.8967578
...
