Workbook
Name likme: KT!$E$22

Sheet KT
C2: APSTIPRINU_________________________________
C3: (pasūtītāja paraksts un tā atšifrējums)
C4: Z.V.
C5: ___.gada ___.______________
A7: Būvniecības koptāme
A9: Objekta nosaukums: | B9: Jēkabpils reģionālās slimnīcas ambulatora daļas reģistratūras telpu vienkāršotas pārbūves paskaidrojuma raksta izstrādei un autoruzraudzībai Stadiona ielā 1, Jēkabpilī, LV-5201
A10: Būves nosaukums: | B10: Jēkabpils reģionālās slimnīca
A11: Objekta adrese: | B11: Stadiona iela 1, Jēkabpils, LV-5201
A12: Pasūtījuma nr.: | B12: JRS2025/07K
A14: Nr.p.k. | B14: Objekta nosaukums | C14: Objekta izmaksas (euro)
A15: 1 | B15: =B9 -> Jēkabpils reģionālās slimnīcas ambulatora daļas reģistratūras telpu vienkāršotas pārbūves paskaidrojuma raksta izstrādei un autoruzraudzībai Stadiona ielā 1, Jēkabpilī, LV-5201 | C15: =KA!E34 -> #VALUE!
B18: Kopā | C18: =SUM(C15:C17) -> #VALUE!
D19: Virsizdevumi | E19: ?%
A20: PVN (21%) | C20: =ROUND(C18*21%,2) -> #VALUE! | D20: DA | E20: ?%
D21: Peļņa | E21: ?%
D22: Likme | E22: ?
A23: Sastādīja: | C23: =C27 -> 0
A24: (paraksts un tā atšifrējums, datums)
A25: Sertifikāta Nr.:
A27: Pārbaudīja:
A28: (paraksts un tā atšifrējums, datums)
A29: Sertifikāta Nr.:

Sheet KA
A2: Kopsavilkuma aprēķins nr.1
A3: =C6 -> Jēkabpils reģionālās slimnīcas ambulatora daļas reģistratūras telpu vienkāršotas pārbūves paskaidrojuma raksta izstrādei un autoruzraudzībai Stadiona ielā 1, Jēkabpilī, LV-5201
A4: (būvdarbu veids vai konstruktīvā elementa nosaukums)
A6: Objekta nosaukums: | C6: =KT!B9 -> Jēkabpils reģionālās slimnīcas ambulatora daļas reģistratūras telpu vienkāršotas pārbūves paskaidrojuma raksta izstrādei un autoruzraudzībai Stadiona ielā 1, Jēkabpilī, LV-5201
A7: Būves nosaukums: | C7: =KT!B10 -> Jēkabpils reģionālās slimnīca
A8: Objekta adrese: | C8: =KT!B11 -> Stadiona iela 1, Jēkabpils, LV-5201
A9: Pasūtījuma nr.: | C9: =KT!B12 -> JRS2025/07K
C10: Par kopējo summu (euro) | E10: =E34 -> #VALUE!
C11: Kopējā darbietilpība (c/h) | E11: =SUM(I14:I29) -> #VALUE!
A12: Nr.p.k. | B12: kods, tāmes nr. | C12: Būvdarbu veids vai konstruktīvā elementa nosaukums | E12: Tāmes izmaksas | F12: Tai skaitā | I12: Darbietilpība (c/h)
F13: Darba alga | G13: Būvizstrādājumi | H13: Mehānismi
A14: 1 | C14: 1. Vispārējie būvdarbi | E14: =SUM(F14:H14) -> 0 | I14: =ROUND(F14/likme,2) -> #VALUE!
A15: 2 | B15: 1.1 | C15: Demontāžas darbi | E15: =SUM(F15:H15) -> 0 | F15: ='1,1'!M25 -> 0 | G15: ='1,1'!N25 -> 0 | H15: ='1,1'!O25 -> 0 | I15: =ROUND(F15/likme,2) -> #VALUE!
A16: 3 | B16: 1.2 | C16: Sienas, ēku un būvju karkasu konstrukcijas | E16: =SUM(F16:H16) -> 0 | F16: ='1,2'!M24 -> 0 | G16: ='1,2'!N24 -> 0 | H16: ='1,2'!O24 -> 0 | I16: =ROUND(F16/likme,2) -> #VALUE!
A17: 4 | B17: 1.3 | C17: Starpsienas | E17: =SUM(F17:H17) -> 0 | F17: ='1,3'!M27 -> 0 | G17: ='1,3'!N27 -> 0 | H17: ='1,3'!O27 -> 0 | I17: =ROUND(F17/likme,2) -> #VALUE!
A18: 5 | B18: 1.4 | C18: Aiļu aizpildījumu elementi, speciālo konstrukciju fasādes | E18: =SUM(F18:H18) -> 0 | F18: ='1,4'!M20 -> 0 | G18: ='1,4'!N20 -> 0 | H18: ='1,4'!O20 -> 0 | I18: =ROUND(F18/likme,2) -> #VALUE!
A19: 6 | B19: 1.5 | C19: Iekšējie apdares darbi | E19: =SUM(F19:H19) -> 0 | F19: ='1,5'!M64 -> 0 | G19: ='1,5'!N64 -> 0 | H19: ='1,5'!O64 -> 0 | I19: =ROUND(F19/likme,2) -> #VALUE!
A20: 7 | C20: 2. Specializētie darbi – iekšējie tīkli, sistēmas | E20: =SUM(F20:H20) -> 0 | I20: =ROUND(F20/likme,2) -> #VALUE!
A21: 8 | B21: 2.1 | C21: Iekšējie elektrotīkli, apgaismojums, spēka pievadi | E21: =SUM(F21:H21) -> 0 | F21: ='2,1'!M56 -> 0 | G21: ='2,1'!N56 -> 0 | H21: ='2,1'!O56 -> 0 | I21: =ROUND(F21/likme,2) -> #VALUE!
A22: 9 | B22: 2.2 | C22: Iekšējās apkures sistēmas | E22: =SUM(F22:H22) -> 0 | F22: ='2,2'!M40 -> 0 | G22: ='2,2'!N40 -> 0 | H22: ='2,2'!O40 -> 0 | I22: =ROUND(F22/likme,2) -> #VALUE!
A23: 10 | B23: 2.3 | C23: Vēdināšana, gaisa kondicionēšana | E23: =SUM(F23:H23) -> 0 | F23: ='2,3'!M95 -> 0 | G23: ='2,3'!N95 -> 0 | H23: ='2,3'!O95 -> 0 | I23: =ROUND(F23/likme,2) -> #VALUE!
A24: 11 | B24: 2.4 | C24: Iekšējie ūdensvada tīkli, aprīkojums | E24: =SUM(F24:H24) -> 0 | F24: ='2,4'!M34 -> 0 | G24: ='2,4'!N34 -> 0 | H24: ='2,4'!O34 -> 0 | I24: =ROUND(F24/likme,2) -> #VALUE!
A25: 12 | B25: 2.5 | C25: Iekšējie kanalizācijas tīkli, aprīkojums | E25: =SUM(F25:H25) -> 0 | F25: ='2,5'!M39 -> 0 | G25: ='2,5'!N39 -> 0 | H25: ='2,5'!O39 -> 0 | I25: =ROUND(F25/likme,2) -> #VALUE!
A26: 13 | B26: 2.6 | C26: Vājstrāvas tīkli - AS | E26: =SUM(F26:H26) -> 0 | F26: ='2,6'!M24 -> 0 | G26: ='2,6'!N24 -> 0 | H26: ='2,6'!O24 -> 0 | I26: =ROUND(F26/likme,2) -> #VALUE!
A27: 14 | B27: 2.7 | C27: Vājstrāvas tīkli - CI | E27: =SUM(F27:H27) -> 0 | F27: ='2,7'!M26 -> 0 | G27: ='2,7'!N26 -> 0 | H27: ='2,7'!O26 -> 0 | I27: =ROUND(F27/likme,2) -> #VALUE!
A28: 15 | B28: 2.8 | C28: Vājstrāvas tīkli - TK | E28: =SUM(F28:H28) -> 0 | F28: ='2,8'!M59 -> 0 | G28: ='2,8'!N59 -> 0 | H28: ='2,8'!O59 -> 0 | I28: =ROUND(F28/likme,2) -> #VALUE!
A29: 16 | B29: 2.9 | C29: Vājstrāvas tīkli - UATS | E29: =SUM(F29:H29) -> 0 | F29: ='2,9'!M34 -> 0 | G29: ='2,9'!N34 -> 0 | H29: ='2,9'!O34 -> 0 | I29: =ROUND(F29/likme,2) -> #VALUE!
A30: Kopā | E30: =SUM(E14:E29) -> 0
A31: Virsizdevumi | D31: =KT!E19 -> ?% | E31: =ROUND(E30*D31,2) -> #VALUE!
A32: t.sk. Darba aizsardzība | D32: =KT!E20 -> ?% | E32: =ROUND(E31*D32,2) -> #VALUE!
A33: Peļņa | D33: =KT!E21 -> ?% | E33: =ROUND(E30*D33,2) -> #VALUE!
A34: Pavisam kopā | E34: =ROUND(E30+E31+E33,2) -> #VALUE!
A36: =KT!A23 -> Sastādīja: | E36: =KT!C27 -> 0
A37: (paraksts un tā atšifrējums, datums)
A38: =KT!A25 -> Sertifikāta Nr.:
A40: Pārbaudīja: Nataļja Rimaševska | E40: =KT!C27 -> 0
A41: (paraksts un tā atšifrējums, datums)
A42: Sertifikāta Nr.:

Sheet 1,1
A2: Lokālā tāme Nr.1,1
A3: =KA!C15 -> Demontāžas darbi
A4: (būvdarbu veids vai konstruktīvā elementa nosaukums)
A6: Objekta nosaukums: | C6: =KT!B9 -> Jēkabpils reģionālās slimnīcas ambulatora daļas reģistratūras telpu vienkāršotas pārbūves paskaidrojuma raksta izstrādei un autoruzraudzībai Stadiona ielā 1, Jēkabpilī, LV-5201
A7: Būves nosaukums: | C7: =KT!B10 -> Jēkabpils reģionālās slimnīca
A8: Objekta adrese: | C8: =KT!B11 -> Stadiona iela 1, Jēkabpils, LV-5201
A9: Pasūtījuma nr.: | C9: =KT!B12 -> JRS2025/07K
M11: Tāmes izmaksas: | O11: =P25 -> 0 | P11: EUR
N12: Tāme sastādīta | O12: =KT!C27 -> 0
A14: Nr.p.k. | B14: Kods | C14: Būvdarbu nosaukums | D14: Mērvienība | E14: Daudzums | F14: Vienības izmaksas | L14: Kopā uz visu apjomu
F15: Laika norma (c/h) | G15: Darba samaksas likme (euro/h) | H15: Darba alga | I15: Būvizstrādājumi | J15: Mehānismi | K15: KOPĀ | L15: Darbietilpība (c/h) | M15: Darba alga | N15: Būvizstrādājumi | O15: Mehānismi | P15: Summa
A17: 1 | C17: Demontēt esošo reģistratūras letes konstrukciju un izvest būvgružus utilizācijai | D17: kpl | E17: 1
A18: 2 | C18: Esošos brīvi stāvošos skapjus/plauktus saudzīgi demontēt un nodot glabāšanā pasūtītājām. | D18: kpl | E18: 1
A19: 3 | C19: Demontēt sienas un izvest būvgružus utilizācijai | D19: m3 | E19: 10.41
A20: 4 | C20: Demontēt piekārtos griestus un izvest būvgružus utilizācijai | D20: m2 | E20: 260.18
A21: 5 | C21: Demontēt durvis un izvest būvgružus utilizācijai | D21: gb | E21: 1
A22: 6 | C22: Demontēt grīdas segumu un izvest būvgružus utilizācijai | D22: m2 | E22: 269.62
A23: 7 | C23: Attīrīt sienas un izvest būvgružus utilizācijai | D23: m2 | E23: 486.75
A25: Tiešās izmaksas kopā, t.sk. Darba dēvēja sociālais nodoklis (23,59%) | L25: =SUM(L17:L24) -> 0 | M25: =SUM(M17:M24) -> 0 | N25: =SUM(N17:N24) -> 0 | O25: =SUM(O17:O24) -> 0 | P25: =SUM(P17:P24) -> 0
A27: =KT!A23 -> Sastādīja: | D27: =KT!C27 -> 0
A28: (paraksts un tā atšifrējums, datums)
A29: =KT!A25 -> Sertifikāta Nr.:
A31: =KT!A27 -> Pārbaudīja: | D31: =KT!C27 -> 0
A32: (paraksts un tā atšifrējums, datums)
A33: =KT!A29 -> Sertifikāta Nr.:

Sheet 1,2
A2: Lokālā tāme Nr.1,2
A3: =KA!C16 -> Sienas, ēku un būvju karkasu konstrukcijas
A4: (būvdarbu veids vai konstruktīvā elementa nosaukums)
A6: Objekta nosaukums: | C6: =KT!B9 -> Jēkabpils reģionālās slimnīcas ambulatora daļas reģistratūras telpu vienkāršotas pārbūves paskaidrojuma raksta izstrādei un autoruzraudzībai Stadiona ielā 1, Jēkabpilī, LV-5201
A7: Būves nosaukums: | C7: =KT!B10 -> Jēkabpils reģionālās slimnīca
A8: Objekta adrese: | C8: =KT!B11 -> Stadiona iela 1, Jēkabpils, LV-5201
A9: Pasūtījuma nr.: | C9: =KT!B12 -> JRS2025/07K
M11: Tāmes izmaksas: | O11: =P24 -> 0 | P11: EUR
N12: Tāme sastādīta | O12: =KT!C27 -> 0
A14: Nr.p.k. | B14: Kods | C14: Būvdarbu nosaukums | D14: Mērvienība | E14: Daudzums | F14: Vienības izmaksas | L14: Kopā uz visu apjomu
F15: Laika norma (c/h) | G15: Darba samaksas likme (euro/h) | H15: Darba alga | I15: Būvizstrādājumi | J15: Mehānismi | K15: KOPĀ | L15: Darbietilpība (c/h) | M15: Darba alga | N15: Būvizstrādājumi | O15: Mehānismi | P15: Summa
A17: 1 | C17: Durvju aile | F17: 0 | G17: =IF(F17>0,likme,0) -> 0 | H17: =ROUND(F17*G17,2) -> 0 | I17: 0 | J17: 0 | K17: =SUM(H17:J17) -> 0 | L17: =ROUND(E17*F17,2) -> 0 | M17: =ROUND(E17*H17,2) -> 0 | N17: =ROUND(E17*I17,2) -> 0 | O17: =ROUND(E17*J17,2) -> 0 | P17: =SUM(M17:O17) -> 0
A18: 2 | C18: Izkalt nišas pārsedzes montāžai | D18: m | E18: 4
A19: 3 | C19: Urbt sienā caurumus pārsedžu savilkšanai | D19: gb | E19: 4
A20: 4 | C20: Montēt tērauda profila UPN160 pārsedzi, ieskaitot visus stiprinājumus un palīgmateriālus | D20: kg | E20: 75.2
A21: 5 | C21: Stiprināt pārsedzi ar vītņstieņiem, ieskaitot visus stiprinājumus un palīgmateriālus | D21: gb | E21: 4
A22: 6 | C22: Apmest pārsedzi ar apmetuma javu pa metāla sietu, ieskaitot visus stiprinājumus un palīgmateriālus | D22: m | E22: 2
A24: Tiešās izmaksas kopā, t.sk. Darba dēvēja sociālais nodoklis (23,59%) | L24: =SUM(L17:L23) -> 0 | M24: =SUM(M17:M23) -> 0 | N24: =SUM(N17:N23) -> 0 | O24: =SUM(O17:O23) -> 0 | P24: =SUM(P17:P23) -> 0
A26: =KT!A23 -> Sastādīja: | D26: =KT!C27 -> 0
A27: (paraksts un tā atšifrējums, datums)
A28: =KT!A25 -> Sertifikāta Nr.:
A30: =KT!A27 -> Pārbaudīja: | D30: =KT!C27 -> 0
A31: (paraksts un tā atšifrējums, datums)
A32: =KT!A29 -> Sertifikāta Nr.:

Sheet 1,3
A2: Lokālā tāme Nr.1,3
A3: =KA!C17 -> Starpsienas
A4: (būvdarbu veids vai konstruktīvā elementa nosaukums)
A6: Objekta nosaukums: | C6: =KT!B9 -> Jēkabpils reģionālās slimnīcas ambulatora daļas reģistratūras telpu vienkāršotas pārbūves paskaidrojuma raksta izstrādei un autoruzraudzībai Stadiona ielā 1, Jēkabpilī, LV-5201
A7: Būves nosaukums: | C7: =KT!B10 -> Jēkabpils reģionālās slimnīca
A8: Objekta adrese: | C8: =KT!B11 -> Stadiona iela 1, Jēkabpils, LV-5201
A9: Pasūtījuma nr.: | C9: =KT!B12 -> JRS2025/07K
M11: Tāmes izmaksas: | O11: =P27 -> 0 | P11: EUR
N12: Tāme sastādīta | O12: =KT!C27 -> 0
A14: Nr.p.k. | B14: Kods | C14: Būvdarbu nosaukums | D14: Mērvienība | E14: Daudzums | F14: Vienības izmaksas | L14: Kopā uz visu apjomu
F15: Laika norma (c/h) | G15: Darba samaksas likme (euro/h) | H15: Darba alga | I15: Būvizstrādājumi | J15: Mehānismi | K15: KOPĀ | L15: Darbietilpība (c/h) | M15: Darba alga | N15: Būvizstrādājumi | O15: Mehānismi | P15: Summa
A17: 1 | C17: IS-1 | F17: 0 | G17: =IF(F17>0,likme,0) -> 0 | H17: =ROUND(F17*G17,2) -> 0 | I17: 0 | J17: 0 | K17: =SUM(H17:J17) -> 0 | L17: =ROUND(E17*F17,2) -> 0 | M17: =ROUND(E17*H17,2) -> 0 | N17: =ROUND(E17*I17,2) -> 0 | O17: =ROUND(E17*J17,2) -> 0 | P17: =SUM(M17:O17) -> 0
A18: 2 | C18: Montēt metala profilu karkasu 75mm biezumā, ieskaitot visus stiprinājumus un palīgmateriālus | D18: m2 | E18: 18.04
A19: 3 | C19: Ieklāt izolāciju 75mm biezumā | D19: m2 | E19: 18.04
A20: 4 | C20: Apšūt karkasu ar Knauf GKFI vai ekvivalents 12,5mm ģipškartona loksnēm divās kārtās, ieskaitot visus stiprinājumus un palīgmateriālus. Veikt šuvju špaktelēšanu | D20: m2 | E20: 18.04
A21: 5 | C21: IS-2
A22: 6 | C22: Apšūt karkasu ar Knauf GKFI vai ekvivalents 12,5mm ģipškartona loksnēm divās kārtās, ieskaitot visus stiprinājumus un palīgmateriālus. Veikt šuvju špaktelēšanu | D22: m2 | E22: 8.68
A23: 7 | C23: Montēt metala profilu karkasu 75mm biezumā, ieskaitot visus stiprinājumus un palīgmateriālus Paredzēt papildus metāla profilus digitālo displeju stiprināšanai. | D23: m2 | E23: 8.68
A24: 8 | C24: Ieklāt izolāciju 75mm biezumā | D24: m2 | E24: 8.68
A25: 9 | C25: Apšūt karkasu ar Knauf GKFI vai ekvivalents 12,5mm ģipškartona loksnēm divās kārtās, ieskaitot visus stiprinājumus un palīgmateriālus. Veikt šuvju špaktelēšanu | D25: m2 | E25: 8.68
A27: Tiešās izmaksas kopā, t.sk. Darba dēvēja sociālais nodoklis (23,59%) | L27: =SUM(L17:L26) -> 0 | M27: =SUM(M17:M26) -> 0 | N27: =SUM(N17:N26) -> 0 | O27: =SUM(O17:O26) -> 0 | P27: =SUM(P17:P26) -> 0
A29: =KT!A23 -> Sastādīja: | D29: =KT!C27 -> 0
A30: (paraksts un tā atšifrējums, datums)
A31: =KT!A25 -> Sertifikāta Nr.:
A33: =KT!A27 -> Pārbaudīja: | D33: =KT!C27 -> 0
A34: (paraksts un tā atšifrējums, datums)
A35: =KT!A29 -> Sertifikāta Nr.:

Sheet 1,4
A2: Lokālā tāme Nr.1,4
A3: =KA!C18 -> Aiļu aizpildījumu elementi, speciālo konstrukciju fasādes
A4: (būvdarbu veids vai konstruktīvā elementa nosaukums)
A6: Objekta nosaukums: | C6: =KT!B9 -> Jēkabpils reģionālās slimnīcas ambulatora daļas reģistratūras telpu vienkāršotas pārbūves paskaidrojuma raksta izstrādei un autoruzraudzībai Stadiona ielā 1, Jēkabpilī, LV-5201
A7: Būves nosaukums: | C7: =KT!B10 -> Jēkabpils reģionālās slimnīca
A8: Objekta adrese: | C8: =KT!B11 -> Stadiona iela 1, Jēkabpils, LV-5201
A9: Pasūtījuma nr.: | C9: =KT!B12 -> JRS2025/07K
M11: Tāmes izmaksas: | O11: =P20 -> 0 | P11: EUR
N12: Tāme sastādīta | O12: =KT!C27 -> 0
A14: Nr.p.k. | B14: Kods | C14: Būvdarbu nosaukums | D14: Mērvienība | E14: Daudzums | F14: Vienības izmaksas | L14: Kopā uz visu apjomu
F15: Laika norma (c/h) | G15: Darba samaksas likme (euro/h) | H15: Darba alga | I15: Būvizstrādājumi | J15: Mehānismi | K15: KOPĀ | L15: Darbietilpība (c/h) | M15: Darba alga | N15: Būvizstrādājumi | O15: Mehānismi | P15: Summa
A17: 1 | C17: Durvis | F17: 0 | G17: =IF(F17>0,likme,0) -> 0 | H17: =ROUND(F17*G17,2) -> 0 | I17: 0 | J17: 0 | K17: =SUM(H17:J17) -> 0 | L17: =ROUND(E17*F17,2) -> 0 | M17: =ROUND(E17*H17,2) -> 0 | N17: =ROUND(E17*I17,2) -> 0 | O17: =ROUND(E17*J17,2) -> 0 | P17: =SUM(M17:O17) -> 0
A18: 2 | C18: Montēt durvis D-1 ailē 1830×2200 mm, ieskaitot visus palīgmateriālus un stiprinājumus. Alumīnija konstrukcijas vējtvera durvis Schüco Door ADS 65, tonis RAL 7015 (saskaņot ar pasūtītāju pirms izgatavošanas). Durvis aprīkot ar evakuācijas EN1125 standartam atbilstošām slēdzenēm un rokturiem, automātisko aizvērējmehānismu GEZE TS5000, automātisko slieksni 0 mm, standarta nerūsējošā tērauda nosegplāksnēm un virām, vismaz 3 gab. uz atveramo vērtni. Sliekšņa iedziļinājumu profilī un stiprinājumi. Furnitūra paredzēta paaugstinātai noslodzei. U≤1,8 W/m²K. Durvīm paredzēt atdures fiksatorus. Katras vērtnes brīvais minimālais platums 900 mm. Uzstādīt kontrastējošu marķējumu – baltu matētu plēvi 0,10 m platā joslā visā stiklotās norobežojošās konstrukcijas platumā trīs augstumos no grīdas līmeņa – 1,60 m, 1,40 m un 0,35 m | D18: gb | E18: 1
A20: Tiešās izmaksas kopā, t.sk. Darba dēvēja sociālais nodoklis (23,59%) | L20: =SUM(L17:L19) -> 0 | M20: =SUM(M17:M19) -> 0 | N20: =SUM(N17:N19) -> 0 | O20: =SUM(O17:O19) -> 0 | P20: =SUM(P17:P19) -> 0
A22: =KT!A23 -> Sastādīja: | D22: =KT!C27 -> 0
A23: (paraksts un tā atšifrējums, datums)
A24: =KT!A25 -> Sertifikāta Nr.:
A26: =KT!A27 -> Pārbaudīja: | D26: =KT!C27 -> 0
A27: (paraksts un tā atšifrējums, datums)
A28: =KT!A29 -> Sertifikāta Nr.:

Sheet 1,5
A2: Lokālā tāme Nr.1,5
A3: =KA!C19 -> Iekšējie apdares darbi
A4: (būvdarbu veids vai konstruktīvā elementa nosaukums)
A6: Objekta nosaukums: | C6: =KT!B9 -> Jēkabpils reģionālās slimnīcas ambulatora daļas reģistratūras telpu vienkāršotas pārbūves paskaidrojuma raksta izstrādei un autoruzraudzībai Stadiona ielā 1, Jēkabpilī, LV-5201
A7: Būves nosaukums: | C7: =KT!B10 -> Jēkabpils reģionālās slimnīca
A8: Objekta adrese: | C8: =KT!B11 -> Stadiona iela 1, Jēkabpils, LV-5201
A9: Pasūtījuma nr.: | C9: =KT!B12 -> JRS2025/07K
M11: Tāmes izmaksas: | O11: =P64 -> 0 | P11: EUR
N12: Tāme sastādīta | O12: =KT!C27 -> 0
A14: Nr.p.k. | B14: Kods | C14: Būvdarbu nosaukums | D14: Mērvienība | E14: Daudzums | F14: Vienības izmaksas | L14: Kopā uz visu apjomu
F15: Laika norma (c/h) | G15: Darba samaksas likme (euro/h) | H15: Darba alga | I15: Būvizstrādājumi | J15: Mehānismi | K15: KOPĀ | L15: Darbietilpība (c/h) | M15: Darba alga | N15: Būvizstrādājumi | O15: Mehānismi | P15: Summa
A17: 1 | C17: Griesti | F17: 0 | G17: =IF(F17>0,likme,0) -> 0 | H17: =ROUND(F17*G17,2) -> 0 | I17: 0 | J17: 0 | K17: =SUM(H17:J17) -> 0 | L17: =ROUND(E17*F17,2) -> 0 | M17: =ROUND(E17*H17,2) -> 0 | N17: =ROUND(E17*I17,2) -> 0 | O17: =ROUND(E17*J17,2) -> 0 | P17: =SUM(M17:O17) -> 0
A18: 2 | C18: C-1 | F18: 0 | G18: =IF(F18>0,likme,0) -> 0 | H18: =ROUND(F18*G18,2) -> 0 | I18: 0 | J18: 0 | K18: =SUM(H18:J18) -> 0 | L18: =ROUND(E18*F18,2) -> 0 | M18: =ROUND(E18*H18,2) -> 0 | N18: =ROUND(E18*I18,2) -> 0 | O18: =ROUND(E18*J18,2) -> 0 | P18: =SUM(M18:O18) -> 0
A19: 3 | C19: Montēt piekārto griestu konstrukciju, ieskaitot visus palīgmateriālus un stiprinājumus Piekārtie griesti Ecophon Gedina E. EN ISO 354/ EN ISO 11654 skaņas absorbcija: NRC=1,00 skaņas absorbcijas klase: A; EN 13964:2014 mitruma noturība 95% relatīvais gaisa mitrums; EN 13501-1 A2-s1, d0; ISO 14025 / EN 15804 - 2,19 kg CO2 ekviv/ m2; Izmērs: 600x1200x15mm. Karkass: T24 profili Tonis: White 500, NCS S 0500-N. | D19: m2 | E19: 210.67
A20: 4 | C20: C-2
A21: 5 | C21: Montēt metala profilu karkasu, ieskaitot visus stiprinājumus un palīgmateriālus | D21: m2 | E21: 2.59
A22: 6 | C22: Apšūt karkasu ar Knauf GKFI vai ekvivalents 12,5mm ģipškartona loksnēm vienā kārtā, ieskaitot visus stiprinājumus un palīgmateriālus. Veikt šuvju špaktelēšanu | D22: m2 | E22: 2.59
A23: 7 | C23: Gruntēt, špaktelēt un slīpēt griestus | D23: m2 | E23: 2.59
A24: 8 | C24: Gruntēt un krāsot griestus divās kārtās | D24: m2 | E24: 2.59
A25: 9 | C25: C-3
A26: 10 | C26: Attīrīt griestus mehāniski | D26: m2 | E26: 19.74
A27: 11 | C27: Labot un aizpildīt nelīdzenumus | D27: m2 | E27: 19.74
A28: 12 | C28: Gruntēt, špaktelēt un slīpēt sienas | D28: m2 | E28: 19.74
A29: 13 | C29: Gruntēt un krāsot sienas divās kārtās | D29: m2 | E29: 19.74
A30: 14 | C30: Grīdas
A31: 15 | C31: G-1
A32: 16 | C32: Nogruntēt un labot grīdas virsmu | D32: m2 | E32: 202.03
A33: 17 | C33: Izlīdzināt grīdu pirms seguma ieklāšanas Weber Floor Fine vai ekvivalents | D33: m2 | E33: 202.03
A34: 18 | C34: Ieklāt vinila segumu uz līmjavas kārtas, ieskaitot visus stiprinājumus un palīgmateriālus. Homogēnais vinils - Forbo Sphera Element, tonis - 50017 ivory , NCS S 1502-Y; LRV 62%; Biezums EN-ISO 24346 2.5mm; Platums EN-ISO 24341 2.00m; Garums EN-ISO 24341 27m; Nodilumizturība 34. klase; Svars EN-ISO 23997 2900 g/m2; Paliekošais iespiedums EN-ISO 24343-1≤0.10 mm tipiskā vērtība ~ 0.03mm; Ugunsizturība EN-ISO 13501-1 Bfl-s1, L, NCS; Pretslīdes koeficents DIN51130 - R9; TVOC emisijas EN 16516 ≤0,01 mg/m3 (pēc 28 dienām); Siltumizturība EN 12524 0.25 W/mK; Statiskā strāva EN 1815 ≤2kV; Šuvjuaukla - tonis pielāgots vinilam. Paredzēt PVC grīdlīsti 80x15mm, Profilpas Line 8613 (vai ekvivalents), tonis-priedes tekstūra. | D34: m2 | E34: 202.03
A35: 19 | C35: G-2
A36: 20 | C36: Nogruntēt un labot grīdas virsmu | D36: m2 | E36: 61.4
A37: 21 | C37: Izlīdzināt grīdu pirms seguma ieklāšanas Weber Floor Fine vai ekvivalents | D37: m2 | E37: 61.4
A38: 22 | C38: Ieklāt vinila segumu uz līmjavas kārtas, ieskaitot visus stiprinājumus un palīgmateriālus. Forbo Sphera Element, tonis – 50018 mortar , NCS S 2005-Y30R; LRV 49%; Biezums EN-ISO 24346 2.5mm; Platums EN-ISO 24341 2.00m; Garums EN-ISO 24341 27m; Nodilumizturība 34. klase; Svars EN-ISO 23997 2900 g/m2; Paliekošais iespiedums EN-ISO 24343-1≤0.10 mm tipiskā vērtība ~ 0.03mm; Ugunsizturība EN-ISO 13501-1 Bfl-s1, L, NCS; Pretslīdes koeficents DIN51130 - R9; TVOC emisijas EN 16516 ≤0,01 mg/m3 (pēc 28 dienām); Siltumizturība EN 12524 0.25 W/mK; Statiskā strāva EN 1815 ≤2kV; Šuvjuaukla - tonis pielāgots vinilam. Paredzēt PVC grīdlīsti 80x15mm, Profilpas Line 8613 (vai ekvivalents), tonis-priedes tekstūra. | D38: m2 | E38: 61.4
A39: 23 | C39: G-3
A40: 24 | C40: Nogruntēt un labot grīdas virsmu | D40: m2 | E40: 6.19
A41: 25 | C41: Izlīdzināt grīdu pirms seguma ieklāšanas Weber Floor Fine vai ekvivalents | D41: m2 | E41: 6.19
A42: 26 | C42: Ieklāt vinila segumu uz līmjavas kārtas, ieskaitot visus stiprinājumus un palīgmateriālus. Forbo Sphera Element, tonis – 50004 mid neutral grey, NCS S 3500-N; LRV 36%; Biezums EN-ISO 24346 2.5mm; Platums EN-ISO 24341 2.00m; Garums EN-ISO 24341 27m; Nodilumizturība 34. klase; Svars EN-ISO 23997 2900 g/m2; Paliekošais iespiedums EN-ISO 24343-1≤0.10 mm tipiskā vērtība ~ 0.03mm; Ugunsizturība EN-ISO 13501-1 Bfl-s1, L, NCS; Pretslīdes koeficents DIN51130 - R9; TVOC emisijas EN 16516 ≤0,01 mg/m3 (pēc 28 dienām); Siltumizturība EN 12524 0.25 W/mK; Statiskā strāva EN 1815 ≤2kV; Šuvjuaukla - tonis pielāgots vinilam. Paredzēt PVC grīdlīsti 80x15mm, Profilpas Line 8613 (vai ekvivalents), tonis-priedes tekstūra. | D42: m2 | E42: 6.19
A43: 27 | C43: G-4
A44: 28 | C44: Montet kājslauķi, ieskaitot visus stiprinājumus un palīgmateriālus. Iebūvējamais kājslauķis Forbo Nuway Connect closed with bristle & coral classic inserts, vai ekvivalents. biezums - 17 mm Materiāls - anodēts alumīnijs/ 100% BCF poliamīds gan birstēm, gan paklāja joslām. Max statiskā slodze - 100 kg/cm2 Max dinamiskā slodze - 50 kg/cm2 Rāmja materiāls - alumīnijs. | D44: m2 | E44: 3.39
A45: 29 | C45: Cits
A46: 30 | C46: Pie izejas/ieejas izveidot taktīlu segumu ar punktveida izciļņiem. Uzstādīt apaļus metāla taktilos indikatorus ar reljefu | D46: m2 | E46: 0.95
A47: 31 | C47: Pie liftiem izveidot taktīlu segumu ar punktveida izciļņiem. Uzstādīt apaļus metāla taktilos indikatorus ar reljefu. | D47: m2 | E47: 1
A48: 32 | C48: Sienas
A49: 33 | C49: SA-1
A50: 34 | C50: Nogruntēt un labot sienas virsmu | D50: m2 | E50: 486.75
A51: 35 | C51: Gruntēt, špaktelēt un slīpēt sienas | D51: m2 | E51: 486.75
A52: 36 | C52: Gruntēt un krāsot sienas divās kārtās | D52: m2 | E52: 486.75
A53: 37 | C53: ST-1
A54: 38 | C54: Montēt stūra aizsargus, ieskaitot visus stiprinājumus un palīgmateriālus. Gerflor Cornea. Tonis - Cornea Spume vai ekvivalents | D54: gb | E54: 32
A55: 39 | C55: M-1
A56: 40 | C56: Montēt koka sienas margu, ieskaitot visus stiprinājumus un palīgmateriālus. Koka rokturis, h-900mm. Koka lenteris d-45 mm. Attālums no sienas 50mm. Iestrādāt telpu numuru taktilo (sataustāmo) apzīmējumu vai numuru braila rakstā pie katras telpas, kur tas nepieciešams. | D56: m | E56: 42.2
A57: 41 | C57: Cits
A58: 42 | C58: Izgatavot un montēt telpu teksta informācijas norādes, ieskaitot visus stiprinājumus un palīgmateriālus. Teksta informācija uz sienas līmējama uzlīme, tonis - NCS S 9000-N Vieta taktīlai informācijas sienas uzlīmei. Blakus durvju rokturim 1400mm augstumā no grīdas līmeņa. | D58: gb | E58: 9
A59: 43 | C59: Izgatavot un monēt reģistratūras leti, ieskaitot visus stiprinājumus un palīgmateriālus. IN-07 | D59: kpl | E59: 1
A60: 44 | C60: Montēt dekoratīvo starpsienu asīs A/4 ieskaitot visus stiprinājumus un palīgmateriālus. | D60: m | E60: 2.48
A61: 45 | C61: IZSLĒGTA POZĪCIJA (04.08.2026)
A62: 46 | C62: Darbi, kas sasistīti ar detalizācijas rasējumu izstrādi (MK NR>529 Ēku būvnoteikumi p.114), DOP nosacījumu izpildi, t.sk.: Būvdarbu kārtu norobežojumi, esošo komunikāciju saglabāšana/pārcelšana un citi tehniskajā specifikācijā neietverti darbi, kas nepieciešami būvdarbu izpildē | D62: kpl | E62: 1
A64: Tiešās izmaksas kopā, t.sk. Darba dēvēja sociālais nodoklis (23,59%) | L64: =SUM(L17:L63) -> 0 | M64: =SUM(M17:M63) -> 0 | N64: =SUM(N17:N63) -> 0 | O64: =SUM(O17:O63) -> 0 | P64: =SUM(P17:P63) -> 0
A66: =KT!A23 -> Sastādīja: | D66: =KT!C27 -> 0
A67: (paraksts un tā atšifrējums, datums)
A68: =KT!A25 -> Sertifikāta Nr.:
A70: =KT!A27 -> Pārbaudīja: | D70: =KT!C27 -> 0
A71: (paraksts un tā atšifrējums, datums)
A72: =KT!A29 -> Sertifikāta Nr.:

Sheet 2,1
A2: Lokālā tāme Nr.2,1
A3: =KA!C21 -> Iekšējie elektrotīkli, apgaismojums, spēka pievadi
A4: (būvdarbu veids vai konstruktīvā elementa nosaukums)
A6: Objekta nosaukums: | C6: =KT!B9 -> Jēkabpils reģionālās slimnīcas ambulatora daļas reģistratūras telpu vienkāršotas pārbūves paskaidrojuma raksta izstrādei un autoruzraudzībai Stadiona ielā 1, Jēkabpilī, LV-5201
A7: Būves nosaukums: | C7: =KT!B10 -> Jēkabpils reģionālās slimnīca
A8: Objekta adrese: | C8: =KT!B11 -> Stadiona iela 1, Jēkabpils, LV-5201
A9: Pasūtījuma nr.: | C9: =KT!B12 -> JRS2025/07K
M11: Tāmes izmaksas: | O11: =P56 -> 0 | P11: EUR
N12: Tāme sastādīta | O12: =KT!C27 -> 0
A14: Nr.p.k. | B14: Kods | C14: Būvdarbu nosaukums | D14: Mērvienība | E14: Daudzums | F14: Vienības izmaksas | L14: Kopā uz visu apjomu
F15: Laika norma (c/h) | G15: Darba samaksas likme (euro/h) | H15: Darba alga | I15: Būvizstrādājumi | J15: Mehānismi | K15: KOPĀ | L15: Darbietilpība (c/h) | M15: Darba alga | N15: Būvizstrādājumi | O15: Mehānismi | P15: Summa
A17: 1 | C17: 1. SADALNES | F17: 0 | G17: =IF(F17>0,likme,0) -> 0 | H17: =ROUND(F17*G17,2) -> 0 | I17: 0 | J17: 0 | K17: =SUM(H17:J17) -> 0 | L17: =ROUND(E17*F17,2) -> 0 | M17: =ROUND(E17*H17,2) -> 0 | N17: =ROUND(E17*I17,2) -> 0 | O17: =ROUND(E17*J17,2) -> 0 | P17: =SUM(M17:O17) -> 0
A18: 2 | C18: Sadalne ASS-0.1 – individuāli izgatavojama, metāla, zemapmetuma izpildījumā, aizsardzības pakāpe IP30. Sadalne komplektējama ar visiem nepieciešamajiem komutācijas un aizsardzības aparātiem un pārsprieguma aizsardzību, ne mazāk kā 114 moduļiem. Durvis aprīkot ar slēdzeni. Kabeļu ievadi/izvadi paredzēt no augšas un apakšas. skatīt EL-6 | D18: kpl | E18: 1
A19: 3 | C19: Esošās MGS sadalnes papildinājums veidojot jaunu grupu un uzstādot 3C25A automātslēdzi, iekļaujot papildus materiālus jaunas grupas izveidei kopņu spailes vai savienojuma vadus skatīt EL-6 | D19: kpl | E19: 1
A20: 4 | C20: Esošās zonas sadalnes demontāža skatīt EL-6 | D20: kpl | E20: 1
A21: 5 | C21: 2. KONTAKTLIGZDAS
A22: 6 | C22: Proj. Elektriskais sienas kontakts (230V, IP20, Z/A) -vienvietīgs Tips: Schneider Electric, sērija Sedna Design, korpusa krāsa Balta vai ekvivalnets | D22: gb | E22: 2
A23: 7 | C23: Proj. Elektriskais sienas kontakts (230V, IP20, Z/A) -divvietīgs Tips: Schneider Electric, sērija Sedna Design, korpusa krāsa Balta vai ekvivalnets | D23: gb | E23: 9
A24: 8 | C24: Proj. Elektriskais sienas kontakts (230V, IP20, Z/A) -vienvietīgs (rāmī ar ESS-TK rozetēm) Tips: Schneider Electric, sērija Sedna Design, korpusa krāsa Balta vai ekvivalnets | D24: gb | E24: 5
A25: 9 | C25: Proj. Elektriskais sienas kontakts (230V, IP20, Z/A) -divvietīgs (rāmī ar ESS-TK rozetēm Tips: Schneider Electric, sērija Sedna Design, korpusa krāsa Balta vai ekvivalnets) | D25: gb | E25: 7
A26: 10 | C26: Proj. Elektriskais sienas kontakts (230V, IP20, Z/A) -sešvietīgs (rāmī ar ESS-TK rozetēm) Tips: Schneider Electric, sērija Sedna Design, korpusa krāsa Balta vai ekvivalnets | D26: gb | E26: 5
A27: 11 | C27: 3. SLĒDZI
A28: 12 | C28: Proj. vienpolīgs EL slēdzis (230V, 10A, IP20) Tips: Schneider Electric, sērija Sedna Design, korpusa krāsa Balta vai ekvivalnets | D28: gb | E28: 9
A29: 13 | C29: Proj. EL pārslēdzis (230V, 10A, IP20) Tips: Schneider Electric, sērija Sedna Design, korpusa krāsa Balta vai ekvivalnets | D29: gb | E29: 2
A30: 14 | C30: Proj. EL kustības detektors 360°, IP44 | D30: gb | E30: 5
A31: 15 | C31: 4. APGAISMOJUMS
A32: 16 | C32: Lineārs LED gaismeklis, 2028lm, 18W. Aprēķina modelis: ILO 50 T-BAR 1200 LP 840 OP FO WHITE vai ekvivalents | D32: gb | E32: 41
A33: 17 | C33: Lineārs LED gaismeklis, 3741lm, 35W. Aprēķina modelis: ILO 50 T-BAR 1200 HO 840 OP FO WHITE vai ekvivalents | D33: gb | E33: 8
A34: 18 | C34: LED gaismeklis, 100lm, 1W. Aprēķina modelis: EM SPOT E 1,3W 60min vai ekvivalents | D34: gb | E34: 14
A35: 19 | C35: Evakuācijas ceļa norādes gaismeklis LED ar "Ceļa norāde/Izeja", vismaz 200cd spilgtumu ar iebūvētu akumulatoru bateriju 60min darbībai | D35: gb | E35: 6
A36: 20 | C36: 5. KABEĻI UN CAURULES
A37: 21 | C37: Kabelis ar vara dzīslām, Tips Cca-s1a,d1,a2-3x1.5(vara) Ar ugunsrekacijas klasi ne zemāku par Tips Cca-s1, d1, a2 (halogēnu nesaturoš.) | D37: m | E37: 485
A38: 22 | C38: Kabelis ar vara dzīslām, Tips Cca-s1a,d1,a2-3x2.5(vara) Ar ugunsrekacijas klasi ne zemāku par Tips Cca-s1, d1, a2 (halogēnu nesaturoš.) | D38: m | E38: 535
A39: 23 | C39: Kabelis ar vara dzīslām, Tips Cca-s1a,d1,a2-5x6(vara) Ar ugunsrekacijas klasi ne zemāku par Tips Cca-s1, d1, a2 (halogēnu nesaturoš.) | D39: m | E39: 75
A40: 24 | C40: Kabelis ar vara dzīslām, Tips N(HXH)-J FE180-3x1.5 ar metāla E60 stiprināšanas skavām N(HXH)-J FE180 (halogēnu nesaturoš.) | D40: m | E40: 245
A41: 25 | C41: Halogēnbrīva aizsargcaurule Ø20-25mm ar stiprinājuma materiāliem un līkumiem EVOEL FL-0H-SMART vai ekvivalents | D41: m | E41: 1250
A42: 26 | C42: 6. ZEMĒJUMS
A43: 27 | C43: Potenciālu izlīdzinošā kopne | D43: gb | E43: 1
A44: 28 | C44: Dzelteni-zaļais kabelis ar vara dzīslām šķērsgr. 1x6mm² H07Z1-K tips vai ekvivalents | D44: m | E44: 250
A45: 29 | C45: Dzelteni-zaļais kabelis ar vara dzīslām šķērsgr. 1x10mm² H07Z1-K tips vai ekvivalents | D45: m | E45: 100
A46: 30 | C46: Dzelteni-zaļais kabelis ar vara dzīslām šķērsgr. 1x16mm² H07Z1-K tips vai ekvivalents | D46: m | E46: 50
A47: 31 | C47: 7. PALĪGMATERIĀLI
A48: 32 | C48: Palīgmateriāli | D48: kpl | E48: 1
A49: 33 | C49: Izbūvēto elektrotīklu darba spējas pārbaude: Elektroinstalacijas kontaktsavienojumu pārbaude; Termomērījumi EL iekārtām izmantojot termokameru Zemējuma pretestības pārbaude; Izolācijas pretestības pārbaude; | D49: kpl | E49: 1
A50: 34 | C50: Kabeļu cauruļu iestrāde zem apmetuma mūra segums - FRĒZĒŠANAS DARBI un aizdare | D50: m | E50: 105
A51: 35 | C51: Esošo tranzītā ejošo EL tīklu caur pārbūves apjoma pārslēgšana/saglabāšana/ - PIRMS DARBU SĀKŠANA ESOŠO TĪKLU PRECIZĒŠANA, KURI DEMONTĀJI/KURI DARBĀ UZ CITĀM ZONĀ (iekļaujot materiālus) | D51: kpl | E51: 1
A52: 36 | C52: Izbūvēto elektrotīklu marķēšana | D52: kpl | E52: 1
A53: 37 | C53: Sadalnes izpildshēmas sastādīšana/ielaminēšana/ UZMANĪBU Izpilsdhēmas sastādīt pēc fakstiksi izbūvētā slēguma, kā arī pie izpildshēmām sadalnē pievienotas sadalnes apkalpojamās telpu zonas ar telpu numurācijā - lai ēkas personālam ērti/operatīvi iespējams nolasīt EL tīkla izpidlījumu | D53: kpl | E53: 1
A54: 38 | C54: Esošo EL tīklu/iekārtu demontāža un utilizācija | D54: kpl | E54: 1
A56: Tiešās izmaksas kopā, t.sk. Darba dēvēja sociālais nodoklis (23,59%) | L56: =SUM(L17:L55) -> 0 | M56: =SUM(M17:M55) -> 0 | N56: =SUM(N17:N55) -> 0 | O56: =SUM(O17:O55) -> 0 | P56: =SUM(P17:P55) -> 0
A58: =KT!A23 -> Sastādīja: | D58: =KT!C27 -> 0
A59: (paraksts un tā atšifrējums, datums)
A60: =KT!A25 -> Sertifikāta Nr.:
A62: =KT!A27 -> Pārbaudīja: | D62: =KT!C27 -> 0
A63: (paraksts un tā atšifrējums, datums)
A64: =KT!A29 -> Sertifikāta Nr.:

Sheet 2,2
A2: Lokālā tāme Nr.2,2
A3: =KA!C22 -> Iekšējās apkures sistēmas
A4: (būvdarbu veids vai konstruktīvā elementa nosaukums)
A6: Objekta nosaukums: | C6: =KT!B9 -> Jēkabpils reģionālās slimnīcas ambulatora daļas reģistratūras telpu vienkāršotas pārbūves paskaidrojuma raksta izstrādei un autoruzraudzībai Stadiona ielā 1, Jēkabpilī, LV-5201
A7: Būves nosaukums: | C7: =KT!B10 -> Jēkabpils reģionālās slimnīca
A8: Objekta adrese: | C8: =KT!B11 -> Stadiona iela 1, Jēkabpils, LV-5201
A9: Pasūtījuma nr.: | C9: =KT!B12 -> JRS2025/07K
M11: Tāmes izmaksas: | O11: =P40 -> 0 | P11: EUR
N12: Tāme sastādīta | O12: =KT!C27 -> 0
A14: Nr.p.k. | B14: Kods | C14: Būvdarbu nosaukums | D14: Mērvienība | E14: Daudzums | F14: Vienības izmaksas | L14: Kopā uz visu apjomu
F15: Laika norma (c/h) | G15: Darba samaksas likme (euro/h) | H15: Darba alga | I15: Būvizstrādājumi | J15: Mehānismi | K15: KOPĀ | L15: Darbietilpība (c/h) | M15: Darba alga | N15: Būvizstrādājumi | O15: Mehānismi | P15: Summa
A17: 1 | C17: Apkures sistēma | F17: 0 | G17: =IF(F17>0,likme,0) -> 0 | H17: =ROUND(F17*G17,2) -> 0 | I17: 0 | J17: 0 | K17: =SUM(H17:J17) -> 0 | L17: =ROUND(E17*F17,2) -> 0 | M17: =ROUND(E17*H17,2) -> 0 | N17: =ROUND(E17*I17,2) -> 0 | O17: =ROUND(E17*J17,2) -> 0 | P17: =SUM(M17:O17) -> 0
A18: 2 | C18: Tērauda paneļu hiģieniskais radiators ar sānu pieslēgumu, komplektā ar sienas stiprinājuma kronšteiniem, noslēgkorķi un atgaisotāju, vai ekvivalents H30-600-1400 Purmo vai ekvivalents | D18: gb | E18: 4
A19: 3 | C19: Termoregulators ar regulācijas ierobežotāju un pret vandāļu demontāžu , vai ekvivalents RAS-C Danfoss vai ekvivalents | D19: gb | E19: 4
A20: 4 | C20: Radiatora iepriekšējās iestatīšanas vārsts , vai ekvivalents RA-N 15 Danfoss vai ekvivalents | D20: gb | E20: 4
A21: 5 | C21: Noslēgvārsts radiatoram, vai ekvivalents RLV-S, DN15 Danfoss vai ekvivalents | D21: gb | E21: 4
A22: 6 | C22: Oglekļa tērauda caurule ar cinka slāni (pretkorozijas aizsargslānis) 15x1.2 | D22: m | E22: 21
A23: 7 | C23: Līkums 90° i-i, presējamais, oglekļa tērauds 15ø-15ø | D23: gb | E23: 16
A24: 8 | C24: Trejgabals, presējamais, oglekļa tērauds 15x15x15 | D24: gb | E24: 4
A25: 9 | C25: Sistēmas skalošana | D25: kpl | E25: 1
A26: 10 | C26: Sistēmas hermētiska pārbaude | D26: kpl | E26: 1
A27: 11 | C27: Sistēmas ieregulēšanas darbi | D27: kpl | E27: 1
A28: 12 | C28: Sistēmas balansēšana | D28: kpl | E28: 1
A29: 13 | C29: Cauruļu fasondaļas | D29: kpl | E29: 1
... A33: 17 | C33: Sistēmas marķēšanas materiāli | D33: kpl | E33: 1
A34: 18 | C34: Demontāža
A35: 19 | C35: Esošo radiatoru demontāža | D35: kpl | E35: 1
A36: 20 | C36: Esošās apkures sistēmas cauruļvadu demontāžas darbi | D36: kpl | E36: 1
A37: 21 | C37: Esošās apkures sistēmas noslēgarmatūras demontāžas darbi | D37: kpl | E37: 1
A38: 22 | C38: Būvgrūžu aizvešana | D38: kpl | E38: 1
A40: Tiešās izmaksas kopā, t.sk. Darba dēvēja sociālais nodoklis (23,59%) | L40: =SUM(L17:L39) -> 0 | M40: =SUM(M17:M39) -> 0 | N40: =SUM(N17:N39) -> 0 | O40: =SUM(O17:O39) -> 0 | P40: =SUM(P17:P39) -> 0
A42: =KT!A23 -> Sastādīja: | D42: =KT!C27 -> 0
A43: (paraksts un tā atšifrējums, datums)
A44: =KT!A25 -> Sertifikāta Nr.:
A46: =KT!A27 -> Pārbaudīja: | D46: =KT!C27 -> 0
A47: (paraksts un tā atšifrējums, datums)
A48: =KT!A29 -> Sertifikāta Nr.:

Sheet 2,3
A2: Lokālā tāme Nr.2,3
A3: =KA!C23 -> Vēdināšana, gaisa kondicionēšana
A4: (būvdarbu veids vai konstruktīvā elementa nosaukums)
A6: Objekta nosaukums: | C6: =KT!B9 -> Jēkabpils reģionālās slimnīcas ambulatora daļas reģistratūras telpu vienkāršotas pārbūves paskaidrojuma raksta izstrādei un autoruzraudzībai Stadiona ielā 1, Jēkabpilī, LV-5201
A7: Būves nosaukums: | C7: =KT!B10 -> Jēkabpils reģionālās slimnīca
A8: Objekta adrese: | C8: =KT!B11 -> Stadiona iela 1, Jēkabpils, LV-5201
A9: Pasūtījuma nr.: | C9: =KT!B12 -> JRS2025/07K
M11: Tāmes izmaksas: | O11: =P95 -> 0 | P11: EUR
N12: Tāme sastādīta | O12: =KT!C27 -> 0
A14: Nr.p.k. | B14: Kods | C14: Būvdarbu nosaukums | D14: Mērvienība | E14: Daudzums | F14: Vienības izmaksas | L14: Kopā uz visu apjomu
F15: Laika norma (c/h) | G15: Darba samaksas likme (euro/h) | H15: Darba alga | I15: Būvizstrādājumi | J15: Mehānismi | K15: KOPĀ | L15: Darbietilpība (c/h) | M15: Darba alga | N15: Būvizstrādājumi | O15: Mehānismi | P15: Summa
A17: 1 | C17: Kondicionēšana | F17: 0 | G17: =IF(F17>0,likme,0) -> 0 | H17: =ROUND(F17*G17,2) -> 0 | I17: 0 | J17: 0 | K17: =SUM(H17:J17) -> 0 | L17: =ROUND(E17*F17,2) -> 0 | M17: =ROUND(E17*H17,2) -> 0 | N17: =ROUND(E17*I17,2) -> 0 | O17: =ROUND(E17*J17,2) -> 0 | P17: =SUM(M17:O17) -> 0
A18: 2 | C18: Klimata kontrole | F18: 0 | G18: =IF(F18>0,likme,0) -> 0 | H18: =ROUND(F18*G18,2) -> 0 | I18: 0 | J18: 0 | K18: =SUM(H18:J18) -> 0 | L18: =ROUND(E18*F18,2) -> 0 | M18: =ROUND(E18*H18,2) -> 0 | N18: =ROUND(E18*I18,2) -> 0 | O18: =ROUND(E18*J18,2) -> 0 | P18: =SUM(M18:O18) -> 0
A19: 3 | C19: Griestu kasete,Qd=2,2 kW; 230V/50Hz/1F, m=14 kg, CT07 LG vai ekvivalents | D19: gb | E19: 2
A20: 4 | C20: Vadbas pults LG vai ekvivalents | D20: gb | E20: 2
A21: 5 | C21: Mīkstā vara caurule ar izolāciju b=9 mm 6,35/ 9,52 | D21: m | E21: 78.75
A22: 6 | C22: Freons R410A | D22: kg | E22: 10
A23: 7 | C23: Kondensāta novadīšanas sūknis | D23: gb | E23: 2
A24: 8 | C24: Mīkstā vara cauruļu fasondaļas | D24: kpl | E24: 1
A25: 9 | C25: Mīkstā vara cauruļu stiprinājumi | D25: kpl | E25: 1
A26: 10 | C26: Montāžas palīgmateriāli | D26: kpl | E26: 1
A27: 11 | C27: Caurumu aizdare | D27: kpl | E27: 1
A28: 12 | C28: Automātikas vadi, elektrības vadi, un citi palīgmateriāli | D28: kpl | E28: 1
A29: 13 | C29: Sistēmas marķēšanas materiāli | D29: kpl | E29: 1
A30: 14 | C30: Ieregulēšanas un palaišanas darbi | D30: gb | E30: 1
A31: 15 | C31: Demontāžas darbi
A32: 16 | C32: Griestu kasete CT12 | D32: gb | E32: 1
A33: 17 | C33: Mīkstā vara caurule ar izolāciju 6.35 | D33: kpl | E33: 1
A34: 18 | C34: Mīkstā vara caurule ar izolāciju 9.52 | D34: kpl | E34: 1
A35: 19 | C35: Mīkstā vara caurules vejdgabali | D35: kpl | E35: 1
A36: 20 | C36: Cauruļvadu vadu blīvējumi | D36: kpl | E36: 1
A37: 21 | C37: Cauruļvadu stiprinājumi | D37: kpl | E37: 1
A38: 22 | C38: Ventilācija
A39: 23 | C39: Pieplūdes sistēma
A40: 24 | C40: Pieplūdes difuzors KNT-100 Alnor vai ekvivalents | D40: gb | E40: 1
A41: 25 | C41: Pieplūdes difuzors KNT-125 Alnor vai ekvivalents | D41: gb | E41: 2
A42: 26 | C42: Pieplūdes difuzors KNT-160 Alnor vai ekvivalents | D42: gb | E42: 5
A43: 27 | C43: Vārsts plūsmas regulēšānai DAR 100 Alnor vai ekvivalents | D43: gb | E43: 1
A44: 28 | C44: Vārsts plūsmas regulēšānai DAR 125 Alnor vai ekvivalents | D44: gb | E44: 2
A45: 29 | C45: Vārsts plūsmas regulēšānai DAR 160 Alnor vai ekvivalents | D45: gb | E45: 5
A46: 30 | C46: Tīrīšanas lūka d100 Alnor vai ekvivalents | D46: gb | E46: 1
A47: 31 | C47: Tīrīšanas lūka d160 Alnor vai ekvivalents | D47: gb | E47: 4
A48: 32 | C48: Cinkotā skārda gaisa vads apaļš Ø100 Lindab vai ekvivalents | D48: m | E48: 1.05
A49: 33 | C49: Cinkotā skārda gaisa vads apaļš Ø125 Lindab vai ekvivalents | D49: m | E49: 6.3
A50: 34 | C50: Cinkotā skārda gaisa vads apaļš Ø160 Lindab vai ekvivalents | D50: m | E50: 60.27
A51: 35 | C51: Līkums 45°, apaļš 125-125 Lindab vai ekvivalents | D51: gb | E51: 4
... A65: 49 | C65: Sistēmas marķēšanas materiāli | D65: kpl | E65: 1
A66: 50 | C66: Nosūces sistēma
A67: 51 | C67: Nosūces difuzors KWO-100 Alnor vai ekvivalents | D67: gb | E67: 1
A68: 52 | C68: Nosūces difuzors KWO-125 Alnor vai ekvivalents | D68: gb | E68: 3
A69: 53 | C69: Nosūces difuzors KWO-160 Alnor vai ekvivalents | D69: gb | E69: 4
A70: 54 | C70: Vārsts plūsmas regulēšānai DAR 100 Alnor vai ekvivalents | D70: gb | E70: 1
A71: 55 | C71: Vārsts plūsmas regulēšānai DAR 125 Alnor vai ekvivalents | D71: gb | E71: 3
A72: 56 | C72: Vārsts plūsmas regulēšānai DAR 160 Alnor vai ekvivalents | D72: gb | E72: 4
A73: 57 | C73: Tīrīšanas lūka d160 Alnor vai ekvivalents | D73: gb | E73: 4
A74: 58 | C74: Cinkotā skārda gaisa vads apaļš Ø100 Lindab vai ekvivalents | D74: m | E74: 2.1
A75: 59 | C75: Cinkotā skārda gaisa vads apaļš Ø125 Lindab vai ekvivalents | D75: m | E75: 11.55
A76: 60 | C76: Cinkotā skārda gaisa vads apaļš Ø160 Lindab vai ekvivalents | D76: m | E76: 37.8
A77: 61 | C77: Līkums 90°, apaļš 125-125 Lindab vai ekvivalents | D77: gb | E77: 2
A78: 62 | C78: Līkums 90°, apaļš 160-160 Lindab vai ekvivalents | D78: gb | E78: 12
... A86: 70 | C86: Sistēmas marķēšanas materiāli | D86: kpl | E86: 1
A87: 71 | C87: Demontāžas darbi
A88: 72 | C88: Difuzori | D88: kpl | E88: 1
A89: 73 | C89: Vārsts plūsmas regulēšānai | D89: kpl | E89: 1
A90: 74 | C90: Cinkotā skārda gaisa vadi apaļie | D90: kpl | E90: 1
A91: 75 | C91: Cinkotā skārda gaisa vadu vejdgabali | D91: kpl | E91: 1
A92: 76 | C92: Cinkotā skārda gaisa vadu blīvējumi | D92: kpl | E92: 1
A93: 77 | C93: Cinkotā skārda gaisa vadu stiprinājumi | D93: kpl | E93: 1
A95: Tiešās izmaksas kopā, t.sk. Darba dēvēja sociālais nodoklis (23,59%) | L95: =SUM(L17:L94) -> 0 | M95: =SUM(M17:M94) -> 0 | N95: =SUM(N17:N94) -> 0 | O95: =SUM(O17:O94) -> 0 | P95: =SUM(P17:P94) -> 0
A97: =KT!A23 -> Sastādīja: | D97: =KT!C27 -> 0
A98: (paraksts un tā atšifrējums, datums)
A99: =KT!A25 -> Sertifikāta Nr.:
A101: =KT!A27 -> Pārbaudīja: | D101: =KT!C27 -> 0
A102: (paraksts un tā atšifrējums, datums)
A103: =KT!A29 -> Sertifikāta Nr.:

Sheet 2,4
A2: Lokālā tāme Nr.2,4
A3: =KA!C24 -> Iekšējie ūdensvada tīkli, aprīkojums
A4: (būvdarbu veids vai konstruktīvā elementa nosaukums)
A6: Objekta nosaukums: | C6: =KT!B9 -> Jēkabpils reģionālās slimnīcas ambulatora daļas reģistratūras telpu vienkāršotas pārbūves paskaidrojuma raksta izstrādei un autoruzraudzībai Stadiona ielā 1, Jēkabpilī, LV-5201
A7: Būves nosaukums: | C7: =KT!B10 -> Jēkabpils reģionālās slimnīca
A8: Objekta adrese: | C8: =KT!B11 -> Stadiona iela 1, Jēkabpils, LV-5201
A9: Pasūtījuma nr.: | C9: =KT!B12 -> JRS2025/07K
M11: Tāmes izmaksas: | O11: =P34 -> 0 | P11: EUR
N12: Tāme sastādīta | O12: =KT!C27 -> 0
A14: Nr.p.k. | B14: Kods | C14: Būvdarbu nosaukums | D14: Mērvienība | E14: Daudzums | F14: Vienības izmaksas | L14: Kopā uz visu apjomu
F15: Laika norma (c/h) | G15: Darba samaksas likme (euro/h) | H15: Darba alga | I15: Būvizstrādājumi | J15: Mehānismi | K15: KOPĀ | L15: Darbietilpība (c/h) | M15: Darba alga | N15: Būvizstrādājumi | O15: Mehānismi | P15: Summa
A17: 1 | C17: Ūdensvads Ū1 | F17: 0 | G17: =IF(F17>0,likme,0) -> 0 | H17: =ROUND(F17*G17,2) -> 0 | I17: 0 | J17: 0 | K17: =SUM(H17:J17) -> 0 | L17: =ROUND(E17*F17,2) -> 0 | M17: =ROUND(E17*H17,2) -> 0 | N17: =ROUND(E17*I17,2) -> 0 | O17: =ROUND(E17*J17,2) -> 0 | P17: =SUM(M17:O17) -> 0
A18: 2 | C18: Plastmasas caurule PP-R d25x2.3 PN10 izolācijā 13mm | D18: m | E18: 15
A19: 3 | C19: Ventilis DN20 | D19: gb. | E19: 1
A20: 4 | C20: Pievienošana esošai caurulei | D20: kpl | E20: 2
A21: 5 | C21: Veidgabali | D21: kpl | E21: 1
A22: 6 | C22: Stiprinājumi | D22: kpl | E22: 1
A23: 7 | C23: Ugunsdrošības aizdare EI 45 | D23: kpl | E23: 1
A24: 8 | C24: Demontāža | D24: m | E24: 3
A25: 9 | C25: Karsts ūdensvads T3
A26: 10 | C26: Plastmasas caurule PP-R d25x3.5 PN10 izolācijā 20mm | D26: m | E26: 15
A27: 11 | C27: Ventilis DN20 | D27: gb. | E27: 1
A28: 12 | C28: Pievienošana esošai caurulei | D28: kpl | E28: 2
A29: 13 | C29: Veidgabali | D29: kpl | E29: 1
A30: 14 | C30: Stiprinājumi | D30: kpl | E30: 1
A31: 15 | C31: Ugunsdrošības aizdare EI 45 | D31: kpl | E31: 1
A32: 16 | C32: Demontāža | D32: m | E32: 3
A34: Tiešās izmaksas kopā, t.sk. Darba dēvēja sociālais nodoklis (23,59%) | L34: =SUM(L17:L33) -> 0 | M34: =SUM(M17:M33) -> 0 | N34: =SUM(N17:N33) -> 0 | O34: =SUM(O17:O33) -> 0 | P34: =SUM(P17:P33) -> 0
A36: =KT!A23 -> Sastādīja: | D36: =KT!C27 -> 0
A37: (paraksts un tā atšifrējums, datums)
A38: =KT!A25 -> Sertifikāta Nr.:
A40: =KT!A27 -> Pārbaudīja: | D40: =KT!C27 -> 0
A41: (paraksts un tā atšifrējums, datums)
A42: =KT!A29 -> Sertifikāta Nr.:

Sheet 2,5
A2: Lokālā tāme Nr.2,5
A3: =KA!C25 -> Iekšējie kanalizācijas tīkli, aprīkojums
A4: (būvdarbu veids vai konstruktīvā elementa nosaukums)
A6: Objekta nosaukums: | C6: =KT!B9 -> Jēkabpils reģionālās slimnīcas ambulatora daļas reģistratūras telpu vienkāršotas pārbūves paskaidrojuma raksta izstrādei un autoruzraudzībai Stadiona ielā 1, Jēkabpilī, LV-5201
A7: Būves nosaukums: | C7: =KT!B10 -> Jēkabpils reģionālās slimnīca
A8: Objekta adrese: | C8: =KT!B11 -> Stadiona iela 1, Jēkabpils, LV-5201
A9: Pasūtījuma nr.: | C9: =KT!B12 -> JRS2025/07K
M11: Tāmes izmaksas: | O11: =P39 -> 0 | P11: EUR
N12: Tāme sastādīta | O12: =KT!C27 -> 0
A14: Nr.p.k. | B14: Kods | C14: Būvdarbu nosaukums | D14: Mērvienība | E14: Daudzums | F14: Vienības izmaksas | L14: Kopā uz visu apjomu
F15: Laika norma (c/h) | G15: Darba samaksas likme (euro/h) | H15: Darba alga | I15: Būvizstrādājumi | J15: Mehānismi | K15: KOPĀ | L15: Darbietilpība (c/h) | M15: Darba alga | N15: Būvizstrādājumi | O15: Mehānismi | P15: Summa
A17: 1 | C17: Kanalizācija K1 | F17: 0 | G17: =IF(F17>0,likme,0) -> 0 | H17: =ROUND(F17*G17,2) -> 0 | I17: 0 | J17: 0 | K17: =SUM(H17:J17) -> 0 | L17: =ROUND(E17*F17,2) -> 0 | M17: =ROUND(E17*H17,2) -> 0 | N17: =ROUND(E17*I17,2) -> 0 | O17: =ROUND(E17*J17,2) -> 0 | P17: =SUM(M17:O17) -> 0
A18: 2 | C18: Plastmasas caurule d110 | D18: m | E18: 15
A19: 3 | C19: Plastmasas caurule d25 | D19: m | E19: 10
A20: 4 | C20: Pievienošana esošai caurulei | D20: kpl | E20: 2
A21: 5 | C21: Veidgabali | D21: kpl | E21: 1
A22: 6 | C22: Stiprinājumi | D22: kpl | E22: 1
A23: 7 | C23: Ugunsdrošā manžete d110 | D23: gb | E23: 1
A24: 8 | C24: Ugunsdrošības aizdare EI 45 | D24: kpl | E24: 1
A25: 9 | C25: Sifons d25 | D25: gb | E25: 2
A26: 10 | C26: Revīzija d110 | D26: gb | E26: 2
A27: 11 | C27: Cauruma 210x350 izveidošana pagraba pārsegumā | D27: gb | E27: 1
A28: 12 | C28: Cauruma d50 izveidošana pagraba pārsegumā | D28: gb | E28: 1
A29: 13 | C29: Kanalizācija K2
A30: 14 | C30: Plastmasas caurule d110 T8 | D30: m | E30: 10
A31: 15 | C31: Pievienošana esošai caurulei | D31: kpl | E31: 2
A32: 16 | C32: Revīzija d110 | D32: gb | E32: 2
A33: 17 | C33: Veidgabali | D33: kpl | E33: 1
A34: 18 | C34: Stiprinājumi | D34: kpl | E34: 1
A35: 19 | C35: Ugunsdrošā manžete d110 | D35: gb | E35: 1
A36: 20 | C36: Ugunsdrošības aizdare EI 45 | D36: kpl | E36: 1
A37: 21 | C37: lūka 300x300 | D37: kpl | E37: 1
A39: Tiešās izmaksas kopā, t.sk. Darba dēvēja sociālais nodoklis (23,59%) | L39: =SUM(L17:L38) -> 0 | M39: =SUM(M17:M38) -> 0 | N39: =SUM(N17:N38) -> 0 | O39: =SUM(O17:O38) -> 0 | P39: =SUM(P17:P38) -> 0
A41: =KT!A23 -> Sastādīja: | D41: =KT!C27 -> 0
A42: (paraksts un tā atšifrējums, datums)
A43: =KT!A25 -> Sertifikāta Nr.:
A45: =KT!A27 -> Pārbaudīja: | D45: =KT!C27 -> 0
A46: (paraksts un tā atšifrējums, datums)
A47: =KT!A29 -> Sertifikāta Nr.:

Sheet 2,6
A2: Lokālā tāme Nr.2,6
A3: =KA!C26 -> Vājstrāvas tīkli - AS
A4: (būvdarbu veids vai konstruktīvā elementa nosaukums)
A6: Objekta nosaukums: | C6: =KT!B9 -> Jēkabpils reģionālās slimnīcas ambulatora daļas reģistratūras telpu vienkāršotas pārbūves paskaidrojuma raksta izstrādei un autoruzraudzībai Stadiona ielā 1, Jēkabpilī, LV-5201
A7: Būves nosaukums: | C7: =KT!B10 -> Jēkabpils reģionālās slimnīca
A8: Objekta adrese: | C8: =KT!B11 -> Stadiona iela 1, Jēkabpils, LV-5201
A9: Pasūtījuma nr.: | C9: =KT!B12 -> JRS2025/07K
M11: Tāmes izmaksas: | O11: =P24 -> 0 | P11: EUR
N12: Tāme sastādīta | O12: =KT!C27 -> 0
A14: Nr.p.k. | B14: Kods | C14: Būvdarbu nosaukums | D14: Mērvienība | E14: Daudzums | F14: Vienības izmaksas | L14: Kopā uz visu apjomu
F15: Laika norma (c/h) | G15: Darba samaksas likme (euro/h) | H15: Darba alga | I15: Būvizstrādājumi | J15: Mehānismi | K15: KOPĀ | L15: Darbietilpība (c/h) | M15: Darba alga | N15: Būvizstrādājumi | O15: Mehānismi | P15: Summa
A17: 1 | C17: Esošo apsardzes signalizācijas detektoru un iekārtu aizsardzība būvniecības laikā | D17: kpl. | E17: 1
A18: 2 | C18: Esošo detektoru demontāžas un montāžas darbi jaunā vietā | D18: kpl. | E18: 1
A19: 3 | C19: Signalizācijas kabelis 6x0.22, LSZH CQR | D19: m. | E19: 5
A20: 4 | C20: Pogas žaluzijām demontāžas darbi | D20: kpl. | E20: 1
A21: 5 | C21: Regulēšanas un programmēšanas darbi | D21: kpl. | E21: 1
A22: 6 | C22: Pārējie izdevumi (skrūves, stipinājumi, el. kārbas un citi materiāli utt.) | D22: kpl. | E22: 1
A24: Tiešās izmaksas kopā, t.sk. Darba dēvēja sociālais nodoklis (23,59%) | L24: =SUM(L17:L23) -> 0 | M24: =SUM(M17:M23) -> 0 | N24: =SUM(N17:N23) -> 0 | O24: =SUM(O17:O23) -> 0 | P24: =SUM(P17:P23) -> 0
A26: =KT!A23 -> Sastādīja: | D26: =KT!C27 -> 0
A27: (paraksts un tā atšifrējums, datums)
A28: =KT!A25 -> Sertifikāta Nr.:
A30: =KT!A27 -> Pārbaudīja: | D30: =KT!C27 -> 0
A31: (paraksts un tā atšifrējums, datums)
A32: =KT!A29 -> Sertifikāta Nr.:

Sheet 2,7
A2: Lokālā tāme Nr.2,7
A3: =KA!C27 -> Vājstrāvas tīkli - CI
A4: (būvdarbu veids vai konstruktīvā elementa nosaukums)
A6: Objekta nosaukums: | C6: =KT!B9 -> Jēkabpils reģionālās slimnīcas ambulatora daļas reģistratūras telpu vienkāršotas pārbūves paskaidrojuma raksta izstrādei un autoruzraudzībai Stadiona ielā 1, Jēkabpilī, LV-5201
A7: Būves nosaukums: | C7: =KT!B10 -> Jēkabpils reģionālās slimnīca
A8: Objekta adrese: | C8: =KT!B11 -> Stadiona iela 1, Jēkabpils, LV-5201
A9: Pasūtījuma nr.: | C9: =KT!B12 -> JRS2025/07K
M11: Tāmes izmaksas: | O11: =P26 -> 0 | P11: EUR
N12: Tāme sastādīta | O12: =KT!C27 -> 0
A14: Nr.p.k. | B14: Kods | C14: Būvdarbu nosaukums | D14: Mērvienība | E14: Daudzums | F14: Vienības izmaksas | L14: Kopā uz visu apjomu
F15: Laika norma (c/h) | G15: Darba samaksas likme (euro/h) | H15: Darba alga | I15: Būvizstrādājumi | J15: Mehānismi | K15: KOPĀ | L15: Darbietilpība (c/h) | M15: Darba alga | N15: Būvizstrādājumi | O15: Mehānismi | P15: Summa
A17: 1 | C17: Esošo skaļruņu griestos demontāžas darbi un montāžas darbi jaunā vietā | D17: kpl. | E17: 2
A18: 2 | C18: Ugunsdroša kabeļu savienošanas kārba ar keram. spailēm Kopos vai ekvivalents | D18: gb. | E18: 2
A19: 3 | C19: Ugunsizturīgs kabelis 1x2x1+0.8 (E30) Erse kablo JE-H(st)H | D19: m. | E19: 20
A20: 4 | C20: Kabeļa metāla stiprinājuma elements E90 Celo vai ekvivalents | D20: kpl | E20: 1
A21: 5 | C21: Metāla dībelis E90 Celo vai ekvivalents | D21: kpl | E21: 1
A22: 6 | C22: Iekārtu un kabeļu marķēšana D1 12mmx7m balta (melni burti) (detektori, pogas, sirēnas, moduļi). Brother vai ekvivalents | D22: kpl | E22: 1
A23: 7 | C23: Esošo skaļruņu, kabeļu un cauruļu aizsargāšanas pasākumus būvniecības laikā | D23: kpl | E23: 1
A24: 8 | C24: Pārējie izdevumi (skrūves, metal. stiprinājumi, el.kārbas un citi materiāli, transports, regulēšanas un programēšanas darbi.) | D24: kpl | E24: 1
A26: Tiešās izmaksas kopā, t.sk. Darba dēvēja sociālais nodoklis (23,59%) | L26: =SUM(L17:L25) -> 0 | M26: =SUM(M17:M25) -> 0 | N26: =SUM(N17:N25) -> 0 | O26: =SUM(O17:O25) -> 0 | P26: =SUM(P17:P25) -> 0
A28: =KT!A23 -> Sastādīja: | D28: =KT!C27 -> 0
A29: (paraksts un tā atšifrējums, datums)
A30: =KT!A25 -> Sertifikāta Nr.:
A32: =KT!A27 -> Pārbaudīja: | D32: =KT!C27 -> 0
A33: (paraksts un tā atšifrējums, datums)
A34: =KT!A29 -> Sertifikāta Nr.:

Sheet 2,8
A2: Lokālā tāme Nr.2,8
A3: =KA!C28 -> Vājstrāvas tīkli - TK
A4: (būvdarbu veids vai konstruktīvā elementa nosaukums)
A6: Objekta nosaukums: | C6: =KT!B9 -> Jēkabpils reģionālās slimnīcas ambulatora daļas reģistratūras telpu vienkāršotas pārbūves paskaidrojuma raksta izstrādei un autoruzraudzībai Stadiona ielā 1, Jēkabpilī, LV-5201
A7: Būves nosaukums: | C7: =KT!B10 -> Jēkabpils reģionālās slimnīca
A8: Objekta adrese: | C8: =KT!B11 -> Stadiona iela 1, Jēkabpils, LV-5201
A9: Pasūtījuma nr.: | C9: =KT!B12 -> JRS2025/07K
M11: Tāmes izmaksas: | O11: =P59 -> 0 | P11: EUR
N12: Tāme sastādīta | O12: =KT!C27 -> 0
A14: Nr.p.k. | B14: Kods | C14: Būvdarbu nosaukums | D14: Mērvienība | E14: Daudzums | F14: Vienības izmaksas | L14: Kopā uz visu apjomu
F15: Laika norma (c/h) | G15: Darba samaksas likme (euro/h) | H15: Darba alga | I15: Būvizstrādājumi | J15: Mehānismi | K15: KOPĀ | L15: Darbietilpība (c/h) | M15: Darba alga | N15: Būvizstrādājumi | O15: Mehānismi | P15: Summa
A17: 1 | C17: Telekomunikācijas tīkli | F17: 0 | G17: =IF(F17>0,likme,0) -> 0 | H17: =ROUND(F17*G17,2) -> 0 | I17: 0 | J17: 0 | K17: =SUM(H17:J17) -> 0 | L17: =ROUND(E17*F17,2) -> 0 | M17: =ROUND(E17*H17,2) -> 0 | N17: =ROUND(E17*I17,2) -> 0 | O17: =ROUND(E17*J17,2) -> 0 | P17: =SUM(M17:O17) -> 0
A18: 2 | C18: Komutācijas panelis 24xRJ45 UTP kat.6 Excel Vai ekvivalents | D18: gb. | E18: 3
A19: 3 | C19: Kabeļu savācējs TFP 01 1U met. Excel Vai ekvivalents | D19: gb. | E19: 2
A20: 4 | C20: Tīkla komutators, 24 10/100/1000 port, PoE, ar SFP portiem MikroTik CRS328-24P-4S+RM Vai ekvivalents | D20: kpl. | E20: 1
A21: 5 | C21: Tīkla komutators, 48 10/100/1000 port, PoE, ar SFP portiem MikroTik CRS354-48P-4S+2Q+RM Vai ekvivalents | D21: kpl. | E21: 1
A22: 6 | C22: Savienošanas kabelis UTP kat.6 (0.5m) Excel Vai ekvivalents | D22: gb. | E22: 58
A23: 7 | C23: Dubultās datoru rozetes mehānisms 2xRJ45 kat.6 Sedna Pro Vai ekvivalents un kārba | D23: gb. | E23: 23
A24: 8 | C24: Centrāplate 2xRJ45 Sedna Pro Vai ekvivalents | D24: gb. | E24: 23
A25: 9 | C25: Rāmis rozetei Sedna Pro Vai ekvivalents | D25: gb. | E25: 23
A26: 10 | C26: Iekšējais kabelis LSZH UTP kat.6 4x2x0.5 Excel Vai ekvivalents | D26: m. | E26: 1650
A27: 11 | C27: Gofrēta caurule d=20mm, HF EvoPipe Vai ekvivalents | D27: m. | E27: 350
A28: 12 | C28: Caurules stiprinājuma elementi Ø20 mm (100 gab.) EvoPipe Vai ekvivalents | D28: kpl. | E28: 1
A29: 13 | C29: Rozetes un iekārtas marķēšanas darbi Brother Vai ekvivalents | D29: kpl. | E29: 1
... A39: 23 | C39: Pārējie izdevumi (skrūves, stiprinājumi) | D39: kpl. | E39: 1
A40: 24 | C40: Videonovērošanas sistēma
A41: 25 | C41: Videonovērošanas kameras rakstītājs, maks 16 kameras, H.265, 16CH, 1 HDMI, 1080P@480 fps, Dual LAN, 2 HDD Uniview NVR502-16B-IQ Vai ekvivalents | D41: kpl. | E41: 1
A42: 26 | C42: 6TB HDD, videonovērošanas serveram 6TB Surveillance HDD Vai ekvivalents | D42: kpl. | E42: 2
A43: 27 | C43: Iekšējā kupola videonovērošanas kamera, fiks. Objektīvs, 5M 30fps, H.265/H.264/MJPEG, f=2.8 mm, IR 30m, PoE Uniview IPC325SB-DF28K-I0 Vai ekvivalents | D43: kpl. | E43: 5
A44: 28 | C44: Montāžas kārba kupola kamerai Uniview Vai ekvivalents | D44: kpl. | E44: 5
A45: 29 | C45: Kabeļu konektori RJ45 kat.6 Excel Vai ekvivalents | D45: gb. | E45: 5
A46: 30 | C46: Patčkords kat.6, 0.5m Excel Vai ekvivalents | D46: gb. | E46: 5
A47: 31 | C47: Esošo analogo kameru demontāža | D47: kpl. | E47: 4
A48: 32 | C48: Esošo koaksiālo kabeļu demontāža | D48: m. | E48: 100
A49: 33 | C49: Videonovērošanas sistēmu programēšanai un konfigurēšanai | D49: kpl. | E49: 1
A50: 34 | C50: Pārējie izdevumi (skrūves, stiprinājumi, transports un citi materiāli, regulēšanas darbi utt.) | D50: kpl. | E50: 1
A51: 35 | C51: Rindu vadības sistēma
A52: 36 | C52: Digitālais satura displejs, 10 collu, LAN, PoE ar kronšteinu TimeSaving TS10 Vai ekvivalets | D52: kpl. | E52: 5
A53: 37 | C53: Grietu metāla kronšteins satura displejam VESA 75x75 Vai ekvivalents | D53: kpl. | E53: 5
A54: 38 | C54: Esošo sienas TV 55" digitālā satura displejs demontāžas un montāžas darbi jaunā vietā | D54: kpl. | E54: 1
A55: 39 | C55: Esošo biļešu kiosku demontāžas un montāžas darbi jaunā vietā Timesaving kiosks | D55: kpl. | E55: 1
A56: 40 | C56: Rindu vadības sistēmas programēšanas un konfigurēšanas darbi (5 displēji, 1 centrālais displējs, 1 biļešu kiosks) | D56: kpl. | E56: 1
A57: 41 | C57: Pārējie izdevumi (skrūves, stiprinājumi, el. kārbas un citi materiāli utt.) | D57: kpl. | E57: 1
A59: Tiešās izmaksas kopā, t.sk. Darba dēvēja sociālais nodoklis (23,59%) | L59: =SUM(L17:L58) -> 0 | M59: =SUM(M17:M58) -> 0 | N59: =SUM(N17:N58) -> 0 | O59: =SUM(O17:O58) -> 0 | P59: =SUM(P17:P58) -> 0
A61: =KT!A23 -> Sastādīja: | D61: =KT!C27 -> 0
A62: (paraksts un tā atšifrējums, datums)
A63: =KT!A25 -> Sertifikāta Nr.:
A65: =KT!A27 -> Pārbaudīja: | D65: =KT!C27 -> 0
A66: (paraksts un tā atšifrējums, datums)
A67: =KT!A29 -> Sertifikāta Nr.:

Sheet 2,9
A2: Lokālā tāme Nr.2,9
A3: =KA!C29 -> Vājstrāvas tīkli - UATS
A4: (būvdarbu veids vai konstruktīvā elementa nosaukums)
A6: Objekta nosaukums: | C6: =KT!B9 -> Jēkabpils reģionālās slimnīcas ambulatora daļas reģistratūras telpu vienkāršotas pārbūves paskaidrojuma raksta izstrādei un autoruzraudzībai Stadiona ielā 1, Jēkabpilī, LV-5201
A7: Būves nosaukums: | C7: =KT!B10 -> Jēkabpils reģionālās slimnīca
A8: Objekta adrese: | C8: =KT!B11 -> Stadiona iela 1, Jēkabpils, LV-5201
A9: Pasūtījuma nr.: | C9: =KT!B12 -> JRS2025/07K
M11: Tāmes izmaksas: | O11: =P34 -> 0 | P11: EUR
N12: Tāme sastādīta | O12: =KT!C27 -> 0
A14: Nr.p.k. | B14: Kods | C14: Būvdarbu nosaukums | D14: Mērvienība | E14: Daudzums | F14: Vienības izmaksas | L14: Kopā uz visu apjomu
F15: Laika norma (c/h) | G15: Darba samaksas likme (euro/h) | H15: Darba alga | I15: Būvizstrādājumi | J15: Mehānismi | K15: KOPĀ | L15: Darbietilpība (c/h) | M15: Darba alga | N15: Būvizstrādājumi | O15: Mehānismi | P15: Summa
A17: 1 | C17: Esošo optisko dūmu detektoru demontāžas darbi Unipos | D17: gb | E17: 2
A18: 2 | C18: Esošo optisko dūmu detektoru ar iznesamo indikatoru demontāžas darbi Unipos | D18: gb | E18: 2
A19: 3 | C19: Jauns optiskais dūmu detektors SensoMag sS30 Vai ekvivalents | D19: gb | E19: 8
A20: 4 | C20: Jaunā standarta detektoru pamatne SensoMag B24 Vai ekvivalents | D20: gb | E20: 8
A21: 5 | C21: Jauns iznesamais indikators SensoMAG FRL-1 Vai ekvivalents | D21: gb | E21: 4
A22: 6 | C22: Esošo UATS paneļu demontāžas darbi un montāžas darbi jaunā vietā Teletek Sensorlis | D22: kpl | E22: 1
A23: 7 | C23: Jauns adrešu modulis Sensorlis MIOUT240 | D23: gb | E23: 1
A24: 8 | C24: Jaunā uguns izturīgā kārba kabeļu savienošanai klemmes 20x4mm² 286x114x30 mm, 400V, 32 A, IP20 W2 PIP-7A Vai ekvivalents | D24: gb | E24: 1
A25: 9 | C25: Kabeļu komutācija pagarināšanai ugunsizturīgā kārbā | D25: kpl | E25: 1
A26: 10 | C26: Jauns signalizācijas kabelis ekranēts, LSZH JE-H(st)H FE180/E30 1x2x1+0.8 screened Vai ekvivalents | D26: m | E26: 150
A27: 11 | C27: Ugunsdroši kabeļu/caurules stiprinājumi Celo | D27: kpl | E27: 1
A28: 12 | C28: Palīgmateriāli | D28: kpl | E28: 1
... A32: 17 | C32: Pārējie izdevumi (citi materiāli, transports, regulēšanas un programēšanas darbi.) | D32: kpl | E32: 1
A34: Tiešās izmaksas kopā, t.sk. Darba dēvēja sociālais nodoklis (23,59%) | L34: =SUM(L17:L33) -> 0 | M34: =SUM(M17:M33) -> 0 | N34: =SUM(N17:N33) -> 0 | O34: =SUM(O17:O33) -> 0 | P34: =SUM(P17:P33) -> 0
A36: =KT!A23 -> Sastādīja: | D36: =KT!C27 -> 0
A37: (paraksts un tā atšifrējums, datums)
A38: =KT!A25 -> Sertifikāta Nr.:
A40: =KT!A27 -> Pārbaudīja: | D40: =KT!C27 -> 0
A41: (paraksts un tā atšifrējums, datums)
A42: =KT!A29 -> Sertifikāta Nr.:
