Workbook

Sheet PS_kopt
D1: Nolikuma 5. pielikums
D2: ID Nr. JRS 2026/29
A4: APSTIPRINU
A5: ______________________________________
A6: (pasūtītāja paraksts un ta atšifrējums)
D7: Z.v.
B8: ______.gada______._______________
A10: Paredzamās līgumcenas koptāme
A12: Objekta nosaukums: Kāpņu telpas atjaunošana un zvanu centra izveide Jēkabpils reģionālās slimnīcas Ambulatorās daļas ēkā, Stadiona ielā 1, Jēkabpilī.
A13: Būves nosaukums: Ambulatorās daļas ēka.
A14: Objekta adrese: Stadiona iela 1, Jēkabpils
A15: Pasūtījums Nr.:
A18: Nr.p.k. | B18: Objekta nosaukums | D18: Objekta izmaksas (euro)
A19: 1 | B19: Kāpņu telpas atjaunošana un zvanu centra izveide Jēkabpils reģionālās slimnīcas Ambulatorās daļas ēkā, Stadiona ielā 1, Jēkabpilī. | D19: ='Koptame '!D17 -> #VALUE!
C21: KOPĀ: | D21: =SUM(D19:D20) -> #VALUE!
A22: PVN 21%: | D22: =ROUND(D21*0.21,2) -> #VALUE!
A23: PAVISAM BŪVNIECĪBAS IZMAKSAS: | D23: =SUM(D21:D22) -> #VALUE!
B32: Sastādīja :
C33: (paraksts un tā atšifrējums, datums)
B34: Sertifikāta Nr.
B36: Pārbaudīja :
C37: (paraksts un tā atšifrējums, datums)
B39: Sertifikāta Nr.
A41: Pārbaudīja
C42: (paraksts un tā atšifrējums, datums)
B44: Sertifikāta Nr.

Sheet Koptame 
A2: APSTIPRINU
A3: ______________________________________
A4: (pasūtītāja paraksts un ta atšifrējums)
D5: Z.v.
B6: ______.gada______._______________
A8: Būvniecības koptāme
A10: =PS_kopt!A12 -> Objekta nosaukums: Kāpņu telpas atjaunošana un zvanu centra izveide Jēkabpils reģionālās slimnīcas Ambulatorās daļas ēkā, Stadiona ielā 1, Jēkabpilī.
A11: =PS_kopt!A13 -> Būves nosaukums: Ambulatorās daļas ēka.
A12: =PS_kopt!A14 -> Objekta adrese: Stadiona iela 1, Jēkabpils
A13: =PS_kopt!A15 -> Pasūtījums Nr.:
A14: =PS_kopt!A16 -> 0
A16: Nr.p.k. | B16: Objekta nosaukums | D16: Objekta izmaksas (euro)
A17: 1 | B17: =PS_kopt!B19 -> Kāpņu telpas atjaunošana un zvanu centra izveide Jēkabpils reģionālās slimnīcas Ambulatorās daļas ēkā, Stadiona ielā 1, Jēkabpilī. | D17: =kopsav!D24 -> #VALUE!
B18: KOPĀ: | D18: =SUM(D17:D17) -> #VALUE!
A19: PVN 21%: | D19: =ROUND(D18*0.21,2) -> #VALUE!
B24: Sastādīja :
C25: (paraksts un tā atšifrējums, datums)
B26: Sertifikāta Nr.
B28: Pārbaudīja :
C29: (paraksts un tā atšifrējums, datums)
B31: Sertifikāta Nr.
A33: Pārbaudīja
C34: (paraksts un tā atšifrējums, datums)
B36: Sertifikāta Nr.

Sheet kopsav
A1: Kopsavilkuma aprēķini pa darbu vai konstruktīvo elementu veidiem
A3: =PS_kopt!B19 -> Kāpņu telpas atjaunošana un zvanu centra izveide Jēkabpils reģionālās slimnīcas Ambulatorās daļas ēkā, Stadiona ielā 1, Jēkabpilī.
A4: (Būvdarbu veids vai konstruktīva elementa nosaukums)
A6: =PS_kopt!A12 -> Objekta nosaukums: Kāpņu telpas atjaunošana un zvanu centra izveide Jēkabpils reģionālās slimnīcas Ambulatorās daļas ēkā, Stadiona ielā 1, Jēkabpilī.
A7: =PS_kopt!A13 -> Būves nosaukums: Ambulatorās daļas ēka.
A8: =PS_kopt!A14 -> Objekta adrese: Stadiona iela 1, Jēkabpils
A9: =PS_kopt!A15 -> Pasūtījums Nr.:
A10: Par kopējo summu, euro | D10: =D24 -> #VALUE!
A11: Kopējā darbietilpība, c/h | D11: =H20 -> 0
A13: Nr. p.k. | B13: Kods, tāmes Nr. | C13: Būvdarbu veids vai konstruktīvā elementa nosaukums | D13: Tāmes izmaksas (euro) | E13: Tai skaita | H13: Darb- ietilpība (c/st)
E14: darba alga (euro) | F14: būvizstrādājumi (euro) | G14: mehānismi (euro)
A15: 1 | B15: 1 | C15: Zvanu centrs. | D15: =ROUND((E15+F15+G15),2) -> 0 | E15: ='1_ZvanuC'!M32 -> 0 | F15: ='1_ZvanuC'!N32 -> 0 | G15: ='1_ZvanuC'!O32 -> 0 | H15: ='1_ZvanuC'!L32 -> 0
A16: 2 | B16: 2 | C16: Kāpņu telpu atjaunošana. | D16: =ROUND((E16+F16+G16),2) -> 0 | E16: ='2_KāpņuT'!M39 -> 0 | F16: ='2_KāpņuT'!N39 -> 0 | G16: ='2_KāpņuT'!O39 -> 0 | H16: ='2_KāpņuT'!L39 -> 0
A17: 3 | B17: 3 | C17: Pandusa izbūves darbi. | D17: =ROUND((E17+F17+G17),2) -> 0 | E17: ='3_Panduss'!M32 -> 0 | F17: ='3_Panduss'!N32 -> 0 | G17: ='3_Panduss'!O32 -> 0 | H17: ='3_Panduss'!L32 -> 0
A18: 4 | B18: 4 | C18: Apkure. | D18: =ROUND((E18+F18+G18),2) -> 0 | E18: ='4_AVK-A'!M28 -> 0 | F18: ='4_AVK-A'!N28 -> 0 | G18: ='4_AVK-A'!O28 -> 0 | H18: ='4_AVK-A'!L28 -> 0
A19: 5 | B19: 5 | C19: Elektroapgāde (iekšējā). | D19: =ROUND((E19+F19+G19),2) -> 0 | E19: ='5_EL'!M30 -> 0 | F19: ='5_EL'!N30 -> 0 | G19: ='5_EL'!O30 -> 0 | H19: ='5_EL'!L30 -> 0
A20: Kopā: | D20: =ROUND(SUM(D15:D19),2) -> 0 | E20: =ROUND(SUM(E15:E19),2) -> 0 | F20: =ROUND(SUM(F15:F19),2) -> 0 | G20: =ROUND(SUM(G15:G19),2) -> 0 | H20: =ROUND(SUM(H15:H19),2) -> 0
A21: Virsizdevumi | D21: Aizpilda pretendents
A22: t.sk.darba aizsardzība | D22: Aizpilda pretendents
A23: Peļņa | D23: Aizpilda pretendents
A24: Pavisam kopā: | D24: =ROUND(SUM(D20+D21+D23),2) -> #VALUE!
A26: Sastādīja :
C27: (paraksts un tā atšifrējums, datums)
B28: Sertifikāta Nr.
B30: Pārbaudīja :
C31: (paraksts un tā atšifrējums, datums)
B33: Sertifikāta Nr.
A35: Pārbaudīja
C36: (paraksts un tā atšifrējums, datums)
B38: Sertifikāta Nr.

Sheet 1_ZvanuC
A1: Lokālā tāme Nr. 1.
A2: Zvanu centrs.
A3: (Būvdarbu veids vai konstruktīva elementa nosaukums)
A4: =PS_kopt!A12 -> Objekta nosaukums: Kāpņu telpas atjaunošana un zvanu centra izveide Jēkabpils reģionālās slimnīcas Ambulatorās daļas ēkā, Stadiona ielā 1, Jēkabpilī.
A5: =PS_kopt!A13 -> Būves nosaukums: Ambulatorās daļas ēka.
A6: =PS_kopt!A14 -> Objekta adrese: Stadiona iela 1, Jēkabpils
A7: =PS_kopt!A15 -> Pasūtījums Nr.:
K9: Tāmes izmaksas | N9: =P32 -> 0 | P9: euro
I10: =PS_kopt!A16 -> 0
A11: Nr. p.k. | B11: Kods | C11: Būvdarbu nosaukums | D11: Mērvienība | E11: Daudzums | F11: Vienības izmaksas | L11: Kopā uz visu apjomu
F12: laika norma (c/h). | G12: darba samaksas likme (euro/h) | H12: darba alga (euro) | I12: būvizstrādājumi (euro) | J12: mehānismi (euro) | K12: Kopā (euro) | L12: darbietilpība (c/h) | M12: darba alga (euro) | N12: būvizstrādājumi (euro) | O12: mehānismi (euro) | P12: Summa (euro)
A13: 1 | B13: 2 | C13: 3 | D13: 4 | E13: 5 | F13: 6 | G13: 7 | H13: 8 | I13: 9 | J13: 10 | K13: 11 | L13: 12 | M13: 13 | N13: 14 | O13: 15 | P13: 16
A14: 1 | C14: Akustisko paneļu montāža
A15: 1.1 | B15: līgum cenas | C15: Akustiskā paneļa Akutex™ FT virsma vai ekvivalenta montāža, aplis ar diametru 1192mmx40mm, krāsa Fresh clover. Atbilstošākais NCS krāsu paraugs: S 3020-G40Y | D15: gb. | E15: 2
A16: 1.2 | B16: līgum cenas | C16: Akustiskā paneļa Akutex™ FT virsma vai ekvivalenta montāža, aplis ar diametru 792mmx40mm, krāsa Silent steam. Atbilstošākais NCS krāsu paraugs: S 2010-B | D16: gb. | E16: 2
A17: 1.3 | B17: līgum cenas | C17: Akustiskā paneļa Akutex™ FT virsma vai ekvivalenta montāža, aplis ar diametru 792mmx40mm, krāsa Fresh clover. Atbilstošākais NCS krāsu paraugs: S 3020-G40Y | D17: gb. | E17: 2
A18: 1.4 | B18: līgum cenas | C18: Akustiskā paneļa Akutex™ FT virsma vai ekvivalenta montāža, aplis ar diametru 592mmx40mm, krāsa Goji berry. Atbilstošākais NCS krāsu paraugs: S 3030-Y80R | D18: gb. | E18: 4
A19: 2 | C19: Stikla starpsiena un stikla starpsienu pārklājuma plēves
A20: 2.1 | B20: līgum cenas | C20: Stikla atdalošās starpsienas SS-1 (222; 3430 x h-2700 mm) montāža, iesk. stiprinājumus u.c. montāžas materiālus un palīgmateriālus. Alumīnija konstrukcijas stikla vitrīna ar ieejas durvīm, konstrukciju tonis RAL9006, durvju piekļuve ar atslēgu. | D20: gb. | E20: 1
A21: 2.2 | B21: līgum cenas | C21: Jaunizbūvētās stikla atdalošās starpsienas SS-1 (222; 3430 x h-2700 mm) matēta plēves pārklājuma montāža, 2.1 m augstumā. Pārklājums paredzēts kā krāsu pāreja, no zaļā grīdas toņa uz caurspīdīgu (matētu) toni. | D21: m2 | E21: 7.7
A22: 2.3 | B22: līgum cenas | C22: Esošās stikla starpsienas S-1 (3231 x h-2700 mm) matēta plēves pārklājuma montāža, 2.1 m augstumā. Pārklājums paredzēts kā krāsu pāreja, no zaļā grīdas toņa uz caurspīdīgu (matētu) toni. | D22: m2 | E22: 6.72
A23: 2.4 | B23: līgum cenas | C23: Esošās stikla starpsienas S-2 (1930 x h-2700 mm) matēta plēves pārklājuma montāža, 2.1 m augstumā. Pārklājums paredzēts kā krāsu pāreja, no zaļā grīdas toņa uz caurspīdīgu (matētu) toni. | D23: m2 | E23: 4.05
A24: 2.5 | B24: līgum cenas | C24: Jaunu un esošo stikla starpsienu marķēšana ar 0.1 m platu kontrasta joslu 1,60 m, 1,40 m un 0,35 m augstumā. | D24: m | E24: 8.6
A25: 3 | C25: Ugunsdzēsības iekārtas
A26: 3.1 | B26: līgum cenas | C26: Ugunsdzēsības aparāta (OGNIOCHRON Pulvera 6kg PA-6 43A 233B/C vai ekvivalenta) montāža 70 cm augstumā no zemes, iesk. stiprinājumus pie sienas un apzīmē ar norādes zīmēm | D26: gb. | E26: 1
A27: 4 | C27: Iekšējā elektroapgāde.
A28: 4.1 | B28: līgum cenas | C28: Griestos uz trosītēm iekārta LED gaismekļa montāža, 28.0W, 2957 lm, 105.6 lm/W vai ekvivalents | D28: gb. | E28: 2
A29: 4.2 | B29: līgum cenas | C29: Kabeļa ar vara dzīslām šķērsgr. 3x1,5mm² montāža (Cca-s1,d1,a2-Cu tips vai ekvivalents) | D29: m | E29: 8
A30: 4.3 | B30: līgum cenas | C30: Plastmasas nozarkārbu IP44 montāža | D30: gb. | E30: 2
A31: 4.4 | B31: līgum cenas | C31: Pieslēguma veikšana pie esošo apgaismojuma ķermeņu elektroapgādes pievada, iesk. palīgmateriālus | D31: kpl. | E31: 1
C32: Tiešās izmaksas kopā, t.sk. darba devēja sociālais nodoklis 23,59%: | D32: euro | L32: =ROUND(SUM(L14:L31),2) -> 0 | M32: =ROUND(SUM(M14:M31),2) -> 0 | N32: =ROUND(SUM(N14:N31),2) -> 0 | O32: =ROUND(SUM(O14:O31),2) -> 0 | P32: =ROUND(SUM(M32:O32),2) -> 0
A35: Sastādīja : ___________________ | J35: Pārbaudīja : __________________
A36: Sertifkāta Nr. | J36: Sertifkāta Nr.
A38: =PS_kopt!A16 -> 0

Sheet 2_KāpņuT
A1: Lokālā tāme Nr. 2.
A2: Kāpņu telpu atjaunošana.
A3: (Būvdarbu veids vai konstruktīva elementa nosaukums)
A4: =PS_kopt!A12 -> Objekta nosaukums: Kāpņu telpas atjaunošana un zvanu centra izveide Jēkabpils reģionālās slimnīcas Ambulatorās daļas ēkā, Stadiona ielā 1, Jēkabpilī.
A5: =PS_kopt!A13 -> Būves nosaukums: Ambulatorās daļas ēka.
A6: =PS_kopt!A14 -> Objekta adrese: Stadiona iela 1, Jēkabpils
A7: =PS_kopt!A15 -> Pasūtījums Nr.:
K9: Tāmes izmaksas | N9: =P39 -> 0 | P9: euro
I10: =PS_kopt!A16 -> 0
A11: Nr. p.k. | B11: Kods | C11: Būvdarbu nosaukums | D11: Mērvienība | E11: Daudzums | F11: Vienības izmaksas | L11: Kopā uz visu apjomu
F12: laika norma (c/h). | G12: darba samaksas likme (euro/h) | H12: darba alga (euro) | I12: būvizstrādājumi (euro) | J12: mehānismi (euro) | K12: Kopā (euro) | L12: darbietilpība (c/h) | M12: darba alga (euro) | N12: būvizstrādājumi (euro) | O12: mehānismi (euro) | P12: Summa (euro)
A13: 1 | B13: 2 | C13: 3 | D13: 4 | E13: 5 | F13: 6 | G13: 7 | H13: 8 | I13: 9 | J13: 10 | K13: 11 | L13: 12 | M13: 13 | N13: 14 | O13: 15 | P13: 16
A14: 1 | C14: Sienu, griestu, grīdu apdares darbi
A15: 1.1 | B15: līgum cenas | C15: Kāpņu, kāpņu telpu grīdu, starpstāvu kāpņu laukumu virsmu un 10 cm uzloces uz sienas - attīrīšana, izdrupušo vietu remonts un izlīdzināšana, iesk. visus nepieciešamos materiālus un palīgmateriālus | D15: m2 | E15: 118.7
A16: 1.2 | B16: līgum cenas | C16: Kāpņu sākumā un beigās 0,3–0,5 m pirms kāpnēm, visā kāpņu platumā izveidot 0,4 m platu taktilo virsmu | D16: m2 | E16: 10.3
A17: 1.3 | B17: līgum cenas | C17: Kāpņu, kāpņu telpu grīdu, starpstāvu kāpņu laukumu virsmu un 10 cm uzloces uz sienas pārklāšana ar epoksīdsveķu bezkrāsas sastāvu MAPECOAT vai ekvivalents, ar pigmentētu kvarca smilšu dekoratīvu segumu MAPEQUARTZ COLOR (vai ekvivalents), tonis R307, neslīdamība līdzvērtīga R-10. | D17: m2 | E17: 112.2
A18: 1.4 | B18: līgum cenas | C18: Kāpņu, kāpņu telpu grīdu, starpstāvu kāpņu laukumu virsmu pārklāšana ar epoksīdsveķu bezkrāsas sastāvu MAPECOAT vai ekvivalents, ar pigmentētu kvarca smilšu dekoratīvu segumu MAPEQUARTZ COLOR (vai ekvivalents), tonis R306, neslīdamība līdzvērtīga R-10. | D18: m2 | E18: 6.5
A19: 1.5 | B19: līgum cenas | C19: Ugunsdzēsības ūdensvada apšuvums ar metāla profilu konstrukciju (50 mm) un ģipškartona plāksnēm (12.5 mm), iesk. stiprinājumus u.c. montāžas materiālus un palīgmateriālus | D19: m2 | E19: 7.8
A20: 1.6 | B20: līgum cenas | C20: Sienu, griestu, logu un durvju ailu apmetuma līdzināšana, ieskaitot špaktelēšanu, slīpēšanu, gruntēšanu un visus nepieciešamos palīgmateriālus | D20: m2 | E20: 359
A21: 1.7 | B21: līgum cenas | C21: Sienu, griestu, logu un durvju ailu krāsošana divās kārtās ar matētu ar matētu ūdens dispersijas krāsu, tonī NCS S 0603-G80Y | D21: m2 | E21: 359
A22: 1.8 | B22: līgum cenas | C22: Stāva numura izveide uz sienas , cipara izmērs 30cm, 1.4m augstumā, krāsa melna. | D22: gb. | E22: 5
A23: 1.9 | B23: līgum cenas | C23: Esošo sakaru un ugunsdrošības sistēmu saudzīgu demontāžu un, pēc apdares darbu veikšanas, atgriešanu esošajās vietās. Sistēmas kuras nav iespējams demontēt paredzēt nosegt. Paredzēt visu sistēmu pārbaidi pēc atjaunošanas darbu veikšanas. | D23: obj. | E23: 1
A24: 2 | C24: Kāpņu margas
A25: 2.1 | B25: līgum cenas | C25: Esošo kāpņu margu un vairogu demontāža un utilizācija | D25: m | E25: 34.5
A26: 2.2 | B26: līgum cenas | C26: Jaunu metāla margu laida un horizontālajā daļā montāža, iesk. montāžas materiālus, palīgmateriālus un stiprinājumus. Metāla margas ar hromētu lenteri(d=40mm), kvadrātdzelzs (30x30 mm, krāsots-melns) statņiem, vertikāliem kvadrātdzelzs(10x10 mm, krāsots-melns) stieņiem, plakandzels (b-10 mm, krāsots-melns)un stiprinājumiem. | D26: m | E26: 34.5
A27: 2.3 | B27: līgum cenas | C27: Jaunu metāla margu kāpņu laukumos, priekšā logam montāža, iesk. montāžas materiālus, palīgmateriālus un stiprinājumus. Metāla margas ar hromētu lenteri(d=40mm), kvadrātdzelzs (30x30 mm, krāsots-melns) statņiem, vertikāliem kvadrātdzelzs(10x10 mm, krāsots-melns) stieņiem, plakandzels (b-10 mm, krāsots-melns)un stiprinājumiem. | D27: m | E27: 5.4
A28: 2.4 | B28: līgum cenas | C28: Uzlīmes ar taktīlo (sataustāmu) un braila rakstu uztādīšana uz margas lentera, katrā stāvā. Norādīt stāva numuru braila rakstā un ar taktīlu ciparu un tekstu. | D28: gb. | E28: 8
A29: 3 | C29: Durvis
A30: 3.1 | B30: līgum cenas | C30: Esošo koka konstrukcijas durvju bloka (1. stāvā) demontāža un utilizācija | D30: gb. | E30: 1
A31: 3.2 | B31: līgum cenas | C31: Pagaidu balstu konstrukcijas uzstādīšana ailai, konstrukcijas balstīšanai ailas paplašināšanas laikā | D31: kpl | E31: 1
A32: 3.3 | B32: līgum cenas | C32: Durvju ailas paplašināšana, sienas demontāža un būvgruižu utilizācija | D32: m2 | E32: 0.7
A33: 3.4 | B33: līgum cenas | C33: Tērauda durvju ailu pārsedzes pastiprināšana, konstrukcijas izbūve (L profils 75x6mm 1,7m garumā, sametināts ar metāla plāksnēm 50x200x6 mm, 5 gb) un konstrukcijas apdare, iesk. darbu veikšanai nepieciešamos materiālus, palīgmateriālus un mehānismus. | D33: gb. | E33: 1
A34: 3.5 | B34: līgum cenas | C34: Vienviru alumīnija konstrukcijas iekšdurvju ar stiklojumu D-1( durvju vērtne 1200x2100 mm) montāža. Aprīkotas ar A klases furnitūru, slēdzeni, blīvējumu un pašaizvēršanās mehānismu. Rāmja tonis - RAL 9002 | D34: gb. | E34: 1
A35: 3.6 | B35: līgum cenas | C35: Stikla durvju marķēšana ar 0.1 m platu kontrasta joslu 1,60 m, 1,40 m un 0,35 m augstumā. | D35: kpl. | E35: 5
A36: 3.7 | B36: līgum cenas | C36: 1.stāva durvju roktura maiņa uz evakuācijas rokturi. No iekšpuses atverams, no ārpuses ciet. | D36: gb. | E36: 1
A37: 4 | C37: Ugunsdzēsības iekārtas
A38: 4.1 | B38: līgum cenas | C38: Ugunsdzēsības aparāta (OGNIOCHRON Pulvera 6kg PA-6 43A 233B/C vai ekvivalenta) montāža 70 cm augstumā no zemes, iesk. stiprinājumus pie sienas un apzīmē ar norādes zīmēm | D38: gb. | E38: 1
C39: Tiešās izmaksas kopā, t.sk. darba devēja sociālais nodoklis 23,59%: | D39: euro | L39: =ROUND(SUM(L14:L38),2) -> 0 | M39: =ROUND(SUM(M14:M38),2) -> 0 | N39: =ROUND(SUM(N14:N38),2) -> 0 | O39: =ROUND(SUM(O14:O38),2) -> 0 | P39: =ROUND(SUM(M39:O39),2) -> 0
A42: Sastādīja : ___________________ | J42: Pārbaudīja : __________________
A43: Sertifkāta Nr. | J43: Sertifkāta Nr.
A45: =PS_kopt!A16 -> 0

Sheet 3_Panduss
A1: Lokālā tāme Nr. 3.
A2: Pandusa izbūves darbi.
A3: (Būvdarbu veids vai konstruktīva elementa nosaukums)
A4: =PS_kopt!A12 -> Objekta nosaukums: Kāpņu telpas atjaunošana un zvanu centra izveide Jēkabpils reģionālās slimnīcas Ambulatorās daļas ēkā, Stadiona ielā 1, Jēkabpilī.
A5: =PS_kopt!A13 -> Būves nosaukums: Ambulatorās daļas ēka.
A6: =PS_kopt!A14 -> Objekta adrese: Stadiona iela 1, Jēkabpils
A7: =PS_kopt!A15 -> Pasūtījums Nr.:
K9: Tāmes izmaksas | N9: =P32 -> 0 | P9: euro
I10: =PS_kopt!A16 -> 0
A11: Nr. p.k. | B11: Kods | C11: Būvdarbu nosaukums | D11: Mērvienība | E11: Daudzums | F11: Vienības izmaksas | L11: Kopā uz visu apjomu
F12: laika norma (c/h). | G12: darba samaksas likme (euro/h) | H12: darba alga (euro) | I12: būvizstrādājumi (euro) | J12: mehānismi (euro) | K12: Kopā (euro) | L12: darbietilpība (c/h) | M12: darba alga (euro) | N12: būvizstrādājumi (euro) | O12: mehānismi (euro) | P12: Summa (euro)
A13: 1 | B13: 2 | C13: 3 | D13: 4 | E13: 5 | F13: 6 | G13: 7 | H13: 8 | I13: 9 | J13: 10 | K13: 11 | L13: 12 | M13: 13 | N13: 14 | O13: 15 | P13: 16
A14: 1 | C14: Demontāžas un zemes darbi
A15: 1.1 | B15: līgum cenas | C15: Esošā betona bruģa seguma saudzīga demontāža, uzglabāšana uz būvniecības laiku, atkārtotai izmantošanai un daļējai utilizēšanai | D15: m2 | E15: 10.1
A16: 1.2 | B16: līgum cenas | C16: Betona apmaļu demontāža un utilizācija | D16: m | E16: 10.3
A17: 1.3 | B17: līgum cenas | C17: Esošā kājslauķa (1.2x2.25m) demontāža un utilizēšana | D17: gb. | E17: 1
A18: 1.4 | B18: līgum cenas | C18: Augu zemes noņemšana, vid.h=15cm, uzglabāšana teritorijā, lai izmantotu apzaļumošanā | D18: m3 | E18: 1.5
A19: 1.5 | B19: līgum cenas | C19: Ierakuma rakšana, grunti pārvietojot, profilējot un sablīvējot uzbērumā/piebēruma veidošana pēc pamatu betonēšanas | D19: m3 | E19: 15.73
A20: 1.6 | B20: līgum cenas | C20: Dolomīta šķembu maisījuma (fr. 16/32 mm) h=20cm izveide | D20: m3 | E20: 3.16
A21: 2 | C21: Pamatu betonēšana un bruģakmens seguma izbūve
A22: 2.1 | B22: līgum cenas | C22: Stabveida pamatu P-1 betonēšana (fibrobetons C25/30), iesk. veidņu montāžu, demontāžu, stiprinājumus u.c. montāžas materiālus | D22: m3 | E22: 0.69
A23: 2.2 | B23: līgum cenas | C23: Betona apmales 100.20.8 uzstādīšana uz betona pamatnes, iesk. montāžas materiālus un palīgmateriālus. | D23: m | E23: 3.9
A24: 2.3 | B24: līgum cenas | C24: Esošā betona bruģakmens ieklāšana, h=6cm, 10x20cm prizma, iesk. sagataves izveidošana no sīkšķembām, palīgmateriālus un mehānismus. | D24: m2 | E24: 1.8
A25: 2.4 | B25: līgum cenas | C25: Kontrastējošas līnijas pandusam montāža, sākumā pie katrām līmeņa izmaiņām | D25: kpl. | E25: 4
A26: 3 | C26: Pandusa metāla konstrukciju un margu izbūve
A27: 3.1 | B27: līgum cenas | C27: Regulējamu kāju ar atbalsta plakni (INSTANT 221517 vai ekvivalentu) montāža | D27: gb. | E27: 24
A28: 3.2 | B28: līgum cenas | C28: Tērauda pandusa karkasa konstrukciju izgatavošana un montāža (profils - RHS100x40x4, RO33.7x3.2, SHS40x3, SHS50x4, T80, tērauda lokšņu materiāls 6 un 8 mm), iesk. stiprinājumus u.c. montāžas materiālus un palīgmateriālus, atbilstoši būvprojekta BK risinājumiem. Konstrukciju tērauda marka: karsti cinkots S235J2, cinka daudzums min.395g/m2., vid.505g/m2. Slokšņu tērauda klase: karsti cinkots S235, cinka daudzums min. 295g/m2.,vid. 505g/m2. | D28: t | E28: 1.08
A29: 3.3 | B29: līgum cenas | C29: Tērauda cirsti vilktā sieta V22 (30x14/1x2m) montāža uz pandusa virsmas, iesk. montāžas materiālus, stiprinājumus un palīgmateriālus | D29: m2 | E29: 14
A30: 3.4 | B30: līgum cenas | C30: Margu lentera montāža divos līmeņos pie pandusa metāla konstrukciju statņiem, iesk. montāžas materiālus, stiprinājumus un palīgmateriālus. Margu lenteris metāla, pulēts, Ø40 mm, stūri noapaļoti. | D30: m | E30: 44
A31: 3.5 | B31: līgum cenas | C31: Drošības maliņas izgatavošana un montāža, no pulētas hroma apalcaurules, diametrs 40 mm, iesk. montāžas materiālus, stiprinājumus un palīgmateriālus. Uzstādīt uz jaunizveidojamās bruģakmens platformas, stiprināt pie virsmas. | D31: m | E31: 2.7
C32: Tiešās izmaksas kopā, t.sk. darba devēja sociālais nodoklis 23,59%: | D32: euro | L32: =ROUND(SUM(L15:L31),2) -> 0 | M32: =ROUND(SUM(M15:M31),2) -> 0 | N32: =ROUND(SUM(N15:N31),2) -> 0 | O32: =ROUND(SUM(O15:O31),2) -> 0 | P32: =ROUND(SUM(M32:O32),2) -> 0
A34: Sastādīja : ___________________ | J34: Pārbaudīja : __________________
A35: Sertifkāta Nr. | J35: Sertifkāta Nr.
A37: =PS_kopt!A16 -> 0

Sheet 4_AVK-A
A1: Lokālā tāme Nr. 4.
A2: Apkure.
A3: (Būvdarbu veids vai konstruktīva elementa nosaukums)
A4: =PS_kopt!A12 -> Objekta nosaukums: Kāpņu telpas atjaunošana un zvanu centra izveide Jēkabpils reģionālās slimnīcas Ambulatorās daļas ēkā, Stadiona ielā 1, Jēkabpilī.
A5: =PS_kopt!A13 -> Būves nosaukums: Ambulatorās daļas ēka.
A6: =PS_kopt!A14 -> Objekta adrese: Stadiona iela 1, Jēkabpils
A7: =PS_kopt!A15 -> Pasūtījums Nr.:
K9: Tāmes izmaksas | N9: =P28 -> 0 | P9: euro
I10: =PS_kopt!A16 -> 0
A11: Nr. p.k. | B11: Kods | C11: Būvdarbu nosaukums | D11: Mērvienība | E11: Daudzums | F11: Vienības izmaksas | L11: Kopā uz visu apjomu
F12: laika norma (c/h). | G12: darba samaksas likme (euro/h) | H12: darba alga (euro) | I12: būvizstrādājumi (euro) | J12: mehānismi (euro) | K12: Kopā (euro) | L12: darbietilpība (c/h) | M12: darba alga (euro) | N12: būvizstrādājumi (euro) | O12: mehānismi (euro) | P12: Summa (euro)
A13: 1 | B13: 2 | C13: 3 | D13: 4 | E13: 5 | F13: 6 | G13: 7 | H13: 8 | I13: 9 | J13: 10 | K13: 11 | L13: 12 | M13: 13 | N13: 14 | O13: 15 | P13: 16
A14: 1 | C14: Apkure
A15: 1.1 | B15: līgum cenas | C15: Tērauda paneļtipa radiatora ar sānu pieslēgumu Tips: 33, 500x1400; Q= 3120 W; 80/60/16 °C, komplektā ar stiprinājuma kronšteiniem, noslēgkorķi un atgaisotāju, radiatora pieslēgšanas veidgabaliem montāža | D15: gb. | E15: 1
A16: 1.2 | B16: līgum cenas | C16: Termostatiskās galvas montāža, ekvivalents: "Danfoss AERO" | D16: gb. | E16: 1
A17: 1.3 | B17: līgum cenas | C17: Radiatora termostatiskā vārsta ar iepriekšēju iestatījumu Dn15 montāža, ekvivalents:"Danfoss RA-N" | D17: gb. | E17: 1
A18: 1.4 | B18: līgum cenas | C18: Balansēšanas vārsta Dn15, kvs=3 m3/st montāža, ekvivalents: "Danfoss LENO MSV-B" | D18: gb. | E18: 1
A19: 1.5 | B19: līgum cenas | C19: Radiatora noslēgvārsta Dn15 montāža, radiatora atpakaļgaitā | D19: gb. | E19: 1
A20: 1.6 | B20: līgum cenas | C20: Oglekļa tērauda presējamās caurules d18x1.2 ar cinka pārklājumu montāža, ekvivalents: "KAN-therm Steel" | D20: m | E20: 15
A21: 1.7 | B21: līgum cenas | C21: Veidgabalu (apmēram 22 gb.) d18x1.2, 1/2" montāža, ekvivalents: "KAN-therm Steel" | D21: kpl. | E21: 1
A22: 1.8 | B22: līgum cenas | C22: Veidgabalu (apmēram 4 gb.) d22x1.5 montāža, ekvivalents: "KAN-therm Steel" | D22: kpl. | E22: 1
A23: 1.9 | B23: līgum cenas | C23: Cauruļvadu stiprinājumi | D23: kpl. | E23: 1
A24: 1.10 | B24: līgum cenas | C24: Palīgmateriāli | D24: kpl. | E24: 1
A25: 2 | C25: Demontāžas darbi
A26: 2.1 | B26: līgum cenas | C26: Esošās apkures sistēmas konventoru demontāža, iesk. būvgružu utilizāciju | D26: kpl. | E26: 3
A27: 2.2 | B27: līgum cenas | C27: Esošās apkures sistēmas cauruļvadu demontāža, iesk. būvgružu utilizāciju | D27: kpl. | E27: 1
C28: Tiešās izmaksas kopā, t.sk. darba devēja sociālais nodoklis 23,59%: | D28: euro | L28: =ROUND(SUM(L15:L27),2) -> 0 | M28: =ROUND(SUM(M15:M27),2) -> 0 | N28: =ROUND(SUM(N15:N27),2) -> 0 | O28: =ROUND(SUM(O15:O27),2) -> 0 | P28: =ROUND(SUM(M28:O28),2) -> 0
A31: Sastādīja : ___________________ | J31: Pārbaudīja : __________________
A32: Sertifkāta Nr. | J32: Sertifkāta Nr.
A34: =PS_kopt!A16 -> 0

Sheet 5_EL
A1: Lokālā tāme Nr. 5.
A2: Elektroapgāde (iekšējā).
A3: (Būvdarbu veids vai konstruktīva elementa nosaukums)
A4: =PS_kopt!A12 -> Objekta nosaukums: Kāpņu telpas atjaunošana un zvanu centra izveide Jēkabpils reģionālās slimnīcas Ambulatorās daļas ēkā, Stadiona ielā 1, Jēkabpilī.
A5: =PS_kopt!A13 -> Būves nosaukums: Ambulatorās daļas ēka.
A6: =PS_kopt!A14 -> Objekta adrese: Stadiona iela 1, Jēkabpils
A7: =PS_kopt!A15 -> Pasūtījums Nr.:
K9: Tāmes izmaksas | N9: =P30 -> 0 | P9: euro
I10: =PS_kopt!A16 -> 0
A11: Nr. p.k. | B11: Kods | C11: Būvdarbu nosaukums | D11: Mērvienība | E11: Daudzums | F11: Vienības izmaksas | L11: Kopā uz visu apjomu
F12: laika norma (c/h). | G12: darba samaksas likme (euro/h) | H12: darba alga (euro) | I12: būvizstrādājumi (euro) | J12: mehānismi (euro) | K12: Kopā (euro) | L12: darbietilpība (c/h) | M12: darba alga (euro) | N12: būvizstrādājumi (euro) | O12: mehānismi (euro) | P12: Summa (euro)
A13: 1 | B13: 2 | C13: 3 | D13: 4 | E13: 5 | F13: 6 | G13: 7 | H13: 8 | I13: 9 | J13: 10 | K13: 11 | L13: 12 | M13: 13 | N13: 14 | O13: 15 | P13: 16
A14: 1 | C14: GAISMEKĻI
A15: 1.1 | B15: līgum cenas | C15: BLKH RD 300 P 17W ML 83040 WT gaismekļa montāža, G1 vai ekvivalnets | D15: gb. | E15: 16
A16: 1.2 | B16: līgum cenas | C16: Griestos iebūvējams LED avārijas gaismeklis ar iebūvēto akumulātoru 3 st.,1W, IP20/ONTEC PP vai ekvivalenta montāža | D16: gb. | E16: 8
A17: 1.3 | B17: līgum cenas | C17: Evakuācijas ceļa norādes avārijas LED gaismeklis, 7W, darbības laiks 3 st., IP20/ONTEC PP vai ekvivalenta montāža | D17: gb. | E17: 12
A18: 2 | C18: PĀRĒJIE MATERIĀLI
A19: 2.1 | B19: līgum cenas | C19: Kustību sensora (montējams pie sienas) - 360°, IP44 darbības rādiuss vismaz 6m, balta korpusa krāsā, IEKŠTELPU montāža | D19: gb. | E19: 8
A20: 2.2 | B20: līgum cenas | C20: Ugunsdrošais blīvējums atvērumu vietās EI30 | D20: obj. | E20: 1
A21: 3 | C21: KABEĻI UN CAURULES
A22: 3.1 | B22: līgum cenas | C22: Kabeļa ar vara dzīslām šķērsgr. 3x1,5mm² montāža (B2ca-s1,d1,a1-Cu tips vai ekvivalents) | D22: m | E22: 770
A23: 3.2 | B23: līgum cenas | C23: Plastmasa halogēnbrīvas aizsargcaurules Ø16-25mm, ar stiprinājuma materiāliem un līkumiem montāža | D23: m | E23: 750
A24: 4 | C24: PALĪGMATERIĀLI
A25: 4.1 | B25: līgum cenas | C25: Palīgmateriāli | D25: obj. | E25: 1
A26: 4.2 | B26: līgum cenas | C26: Izbūvēto elektrotīklu darba spējas pārbaude: Elektroinstalacijas kontaktsavienojumu pārbaude; Termomērījumi EL iekārtām izmantojot termokameru Izolācijas pretestības pārbaude; Apgaismojuma līmeņa pārbaude; | D26: obj. | E26: 1
A27: 4.3 | B27: līgum cenas | C27: Izbūvēto elektrotīklu izpilddokumentācijas/shēmu sastādīšana | D27: obj. | E27: 1
A28: 4.4 | B28: līgum cenas | C28: Kabeļu cauruļu iestrāde zem apmetuma, mūra tipa segums | D28: m | E28: 100
A29: 4.5 | B29: līgum cenas | C29: Izbūvēto elektrotīklu marķēšana | D29: obj. | E29: 1
C30: Tiešās izmaksas kopā, t.sk. darba devēja sociālais nodoklis 23,59%: | D30: euro | L30: =ROUND(SUM(L15:L29),2) -> 0 | M30: =ROUND(SUM(M15:M29),2) -> 0 | N30: =ROUND(SUM(N15:N29),2) -> 0 | O30: =ROUND(SUM(O15:O29),2) -> 0 | P30: =ROUND(SUM(M30:O30),2) -> 0
A33: Sastādīja : ___________________ | J33: Pārbaudīja : __________________
A34: Sertifkāta Nr. | J34: Sertifkāta Nr.
A36: =PS_kopt!A16 -> 0
