Workbook

Sheet PS_kopt
D1: Nolikuma 5. pielikums
D2: ID Nr. JRS 2026/29
A4: APSTIPRINU
A5: ______________________________________
A6: (pasūtītāja paraksts un ta atšifrējums)
D7: Z.v.
B8: ______.gada______._______________
A10: Paredzamās līgumcenas koptāme
A12: Objekta nosaukums: Morga telpas izbūve SIA "Jēkabpils reģionālās slimnīcas" ēkā ar Kadastra Nr. 56010021214001, Andreja Pormaļa iela 125, Jēkabpils, Jēkabpils nov., LV-5201
A13: Būves nosaukums: Slimnīcas ēka
A14: Objekta adrese: Andreja Pormaļa iela 125, Jēkabpils, Jēkabpils nov., LV-5201
A15: Pasūtījums Nr.:
A18: Nr.p.k. | B18: Objekta nosaukums | D18: Objekta izmaksas (euro)
A19: 1 | B19: Morga telpas izbūve SIA "Jēkabpils reģionālās slimnīcas" ēkā ar Kadastra Nr. 56010021214001, Andreja Pormaļa iela 125, Jēkabpils, Jēkabpils nov., LV-5201 | D19: ='Koptame '!D17 -> #VALUE!
C21: KOPĀ: | D21: =SUM(D19:D20) -> #VALUE!
A22: PVN 21%: | D22: =ROUND(D21*0.21,2) -> #VALUE!
A23: PAVISAM BŪVNIECĪBAS IZMAKSAS: | D23: =SUM(D21:D22) -> #VALUE!
B34: Sastādīja :
C35: (paraksts un tā atšifrējums, datums)
B36: Sertifikāta Nr.
B38: Pārbaudīja :
C39: (paraksts un tā atšifrējums, datums)
B41: Sertifikāta Nr.
A43: Pārbaudīja
C44: (paraksts un tā atšifrējums, datums)
B46: Sertifikāta Nr.

Sheet Koptame 
A2: APSTIPRINU
A3: ______________________________________
A4: (pasūtītāja paraksts un ta atšifrējums)
D5: Z.v.
B6: ______.gada______._______________
A8: Būvniecības koptāme
A10: =PS_kopt!A12 -> Objekta nosaukums: Morga telpas izbūve SIA "Jēkabpils reģionālās slimnīcas" ēkā ar Kadastra Nr. 56010021214001, Andreja Pormaļa iela 125, Jēkabpils, Jēkabpils nov., LV-5201
A11: =PS_kopt!A13 -> Būves nosaukums: Slimnīcas ēka
A12: =PS_kopt!A14 -> Objekta adrese: Andreja Pormaļa iela 125, Jēkabpils, Jēkabpils nov., LV-5201
A13: =PS_kopt!A15 -> Pasūtījums Nr.:
A14: =PS_kopt!A16 -> 0
A16: Nr.p.k. | B16: Objekta nosaukums | D16: Objekta izmaksas (euro)
A17: 1 | B17: =PS_kopt!B19 -> Morga telpas izbūve SIA "Jēkabpils reģionālās slimnīcas" ēkā ar Kadastra Nr. 56010021214001, Andreja Pormaļa iela 125, Jēkabpils, Jēkabpils nov., LV-5201 | D17: =kopsav!D29 -> #VALUE!
B18: KOPĀ: | D18: =SUM(D17:D17) -> #VALUE!
A19: PVN 21%: | D19: =ROUND(D18*0.21,2) -> #VALUE!
B24: Sastādīja :
C25: (paraksts un tā atšifrējums, datums)
B26: Sertifikāta Nr.
B28: Pārbaudīja :
C29: (paraksts un tā atšifrējums, datums)
B31: Sertifikāta Nr.
A33: Pārbaudīja
C34: (paraksts un tā atšifrējums, datums)
B36: Sertifikāta Nr.

Sheet kopsav
A1: Kopsavilkuma aprēķini pa darbu vai konstruktīvo elementu veidiem
A3: =PS_kopt!B19 -> Morga telpas izbūve SIA "Jēkabpils reģionālās slimnīcas" ēkā ar Kadastra Nr. 56010021214001, Andreja Pormaļa iela 125, Jēkabpils, Jēkabpils nov., LV-5201
A4: (Būvdarbu veids vai konstruktīva elementa nosaukums)
A6: =PS_kopt!A12 -> Objekta nosaukums: Morga telpas izbūve SIA "Jēkabpils reģionālās slimnīcas" ēkā ar Kadastra Nr. 56010021214001, Andreja Pormaļa iela 125, Jēkabpils, Jēkabpils nov., LV-5201
A7: =PS_kopt!A13 -> Būves nosaukums: Slimnīcas ēka
A8: =PS_kopt!A14 -> Objekta adrese: Andreja Pormaļa iela 125, Jēkabpils, Jēkabpils nov., LV-5201
A9: =PS_kopt!A15 -> Pasūtījums Nr.:
A10: Par kopējo summu, euro | D10: =D29 -> #VALUE!
A11: Kopējā darbietilpība, c/h | D11: =H25 -> 0
A13: Nr. p.k. | B13: Kods, tāmes Nr. | C13: Būvdarbu veids vai konstruktīvā elementa nosaukums | D13: Tāmes izmaksas (euro) | E13: Tai skaita | H13: Darb- ietilpība (c/st)
E14: darba alga (euro) | F14: būvizstrādājumi (euro) | G14: mehānismi (euro)
A15: 1 | B15: 1 | C15: Vispārējie celtniecības darbi | D15: =ROUND((E15+F15+G15),2) -> 0 | E15: ='1_AR, BK'!M54 -> 0 | F15: ='1_AR, BK'!N54 -> 0 | G15: ='1_AR, BK'!O54 -> 0 | H15: ='1_AR, BK'!L54 -> 0
A16: 2 | B16: 2 | C16: Iekārtas | D16: =ROUND((E16+F16+G16),2) -> 0 | E16: ='2_Iekārtas'!M17 -> 0 | F16: ='2_Iekārtas'!N17 -> 0 | G16: ='2_Iekārtas'!O17 -> 0 | H16: ='2_Iekārtas'!L17 -> 0
A17: 3 | B17: 3 | C17: Ūdensapgāde un kanalizācija (iekšējā) | D17: =ROUND((E17+F17+G17),2) -> 0 | E17: ='3_UK'!M123 -> 0 | F17: ='3_UK'!N123 -> 0 | G17: ='3_UK'!O123 -> 0 | H17: ='3_UK'!L123 -> 0
A18: 4 | B18: 4 | C18: Elektroapgāde, iekšējā | D18: =ROUND((E18+F18+G18),2) -> 0 | E18: ='4_EL'!M64 -> 0 | F18: ='4_EL'!N64 -> 0 | G18: ='4_EL'!O64 -> 0 | H18: ='4_EL'!L64 -> 0
A19: 5 | B19: 5 | C19: Apkure | D19: =ROUND((E19+F19+G19),2) -> 0 | E19: ='5_AVK-A'!M34 -> 0 | F19: ='5_AVK-A'!N34 -> 0 | G19: ='5_AVK-A'!O34 -> 0 | H19: ='5_AVK-A'!L34 -> 0
A20: 6 | B20: 6 | C20: Ventilācija | D20: =ROUND((E20+F20+G20),2) -> 0 | E20: ='6_AVK-V'!M20 -> 0 | F20: ='6_AVK-V'!N20 -> 0 | G20: ='6_AVK-V'!O20 -> 0 | H20: ='6_AVK-V'!L20 -> 0
A21: 7 | B21: 7 | C21: Klimata kontroles sistēma | D21: =ROUND((E21+F21+G21),2) -> 0 | E21: ='7_AVK-K'!M23 -> 0 | F21: ='7_AVK-K'!N23 -> 0 | G21: ='7_AVK-K'!O23 -> 0 | H21: ='7_AVK-K'!L23 -> 0
A22: 8 | B22: 8 | C22: Ugunsgrēka atklāšanas un trauksmes signalizācijas sistēma | D22: =ROUND((E22+F22+G22),2) -> 0 | E22: ='8_UATS'!M29 -> 0 | F22: ='8_UATS'!N29 -> 0 | G22: ='8_UATS'!O29 -> 0 | H22: ='8_UATS'!L29 -> 0
A23: 9 | B23: 9 | C23: Piekļuves kontrole | D23: =ROUND((E23+F23+G23),2) -> 0 | E23: ='9_ESS-PK'!M29 -> 0 | F23: ='9_ESS-PK'!N29 -> 0 | G23: ='9_ESS-PK'!O29 -> 0 | H23: ='9_ESS-PK'!L29 -> 0
A24: 10 | B24: 10 | C24: Elektronisko sakaru inženiertīkli | D24: =ROUND((E24+F24+G24),2) -> 0 | E24: ='10_ESS-TK'!M41 -> 0 | F24: ='10_ESS-TK'!N41 -> 0 | G24: ='10_ESS-TK'!O41 -> 0 | H24: ='10_ESS-TK'!L41 -> 0
A25: Kopā: | D25: =ROUND(SUM(D15:D24),2) -> 0 | E25: =ROUND(SUM(E15:E24),2) -> 0 | F25: =ROUND(SUM(F15:F24),2) -> 0 | G25: =ROUND(SUM(G15:G24),2) -> 0 | H25: =ROUND(SUM(H15:H24),2) -> 0
A26: Virsizdevumi | D26: Aizpilda pretendents
A27: t.sk.darba aizsardzība | D27: Aizpilda pretendents
A28: Peļņa | D28: Aizpilda pretendents
A29: Pavisam kopā: | D29: =ROUND(SUM(D25+D26+D28),2) -> #VALUE!
A31: Sastādīja :
C32: (paraksts un tā atšifrējums, datums)
B33: Sertifikāta Nr.
B35: Pārbaudīja :
C36: (paraksts un tā atšifrējums, datums)
B38: Sertifikāta Nr.
A40: Pārbaudīja
C41: (paraksts un tā atšifrējums, datums)
B43: Sertifikāta Nr.

Sheet 1_AR, BK
A1: Lokālā tāme Nr. 1.
A2: Vispārējie celtniecības darbi
A3: (Būvdarbu veids vai konstruktīva elementa nosaukums)
A4: =PS_kopt!A12 -> Objekta nosaukums: Morga telpas izbūve SIA "Jēkabpils reģionālās slimnīcas" ēkā ar Kadastra Nr. 56010021214001, Andreja Pormaļa iela 125, Jēkabpils, Jēkabpils nov., LV-5201
A5: =PS_kopt!A13 -> Būves nosaukums: Slimnīcas ēka
A6: =PS_kopt!A14 -> Objekta adrese: Andreja Pormaļa iela 125, Jēkabpils, Jēkabpils nov., LV-5201
A7: =PS_kopt!A15 -> Pasūtījums Nr.:
K9: Tāmes izmaksas | N9: =P54 -> 0 | P9: euro
I10: =PS_kopt!A16 -> 0
A11: Nr. p.k. | B11: Kods | C11: Būvdarbu nosaukums | D11: Mērvienība | E11: Daudzums | F11: Vienības izmaksas | L11: Kopā uz visu apjomu
F12: laika norma (c/h). | G12: darba samaksas likme (euro/h) | H12: darba alga (euro) | I12: būvizstrādājumi (euro) | J12: mehānismi (euro) | K12: Kopā (euro) | L12: darbietilpība (c/h) | M12: darba alga (euro) | N12: būvizstrādājumi (euro) | O12: mehānismi (euro) | P12: Summa (euro)
A13: 1 | B13: 2 | C13: 3 | D13: 4 | E13: 5 | F13: 6 | G13: 7 | H13: 8 | I13: 9 | J13: 10 | K13: 11 | L13: 12 | M13: 13 | N13: 14 | O13: 15 | P13: 16
A14: 1 | C14: Demontāža
A15: 1.1 | B15: līgum cenas | C15: Demontējamā starpsiena un starpsienu posmi, iesk. apdares demontāžu, būvgružu utilizāciju | D15: m3 | E15: 10.2
A16: 1.2 | B16: līgum cenas | C16: Iekšdurvju bloku demontāža, iesk. būvgružu utilizāciju | D16: gb. | E16: 2
A17: 1.3 | B17: līgum cenas | C17: Demontējama betona klona grīdas konstrukcija līdz augstuma atzīmei -0.310, iesk. būvgružu utilizāciju | D17: m3 | E17: 16.9
A18: 1.4 | B18: līgum cenas | C18: Sienu apdares (krāsojums) virsmas demontāža, iesk. kolonnas, logu un durvju ailsānus apdares demontāža, būvgružu savākšanu un utilizāciju | D18: m2 | E18: 74.7
A19: 1.5 | B19: līgum cenas | C19: Griestu apdares (krāsojums) virsmas demontāža, iesk. riģeļus, sijas, u.c. apdares demontāžu, būvgružu savākšanu un utilizēšanu | D19: m2 | E19: 60.3
A20: 1.6 | B20: līgum cenas | C20: Esošo iekšējo tīklu demontāža, iesk. būvgružu utilizāciju | D20: kpl. | E20: 1
A21: 2 | C21: Sienas
A22: 2.1 | B22: līgum cenas | C22: Esošu sienu virsmas apmetuma remonts, plaisu aizdare ar remontjavu, līdzināšana (30% no kopējās esošo sienu platības) | D22: m2 | E22: 24.51
A23: 2.2 | B23: līgum cenas | C23: Esošu sienu virsmas apstrādāšana ar antibakteriālu pretpelējuma fungicīdu sastāvu (3-5 l/m2) | D23: m2 | E23: 81.7
A24: 2.3 | B24: līgum cenas | C24: Metāla karkasa reģipša sienas uzstādīšana, pielietojot UW,CW metāla profilus, solis 400mm, masīvās ģipškartona plātnes apšuvums 2 kārtās, papildus OSB 10mm plāksne no vienas puses. | D24: m2 | E24: 4.6
A25: 2.4 | B25: līgum cenas | C25: Sienas virsmu (iesk. logu un durvju ailsānus) sagatavošana, virsmas špaktelēšana, slīpēšana, gruntēšana ar ūdens dispersijas grunti-koncentrātu (akrila kopolimēra dispersija) | D25: m2 | E25: 86.3
A26: 2.5 | B26: līgum cenas | C26: Sienas virsmu krāsošana ar ūdens bāzes, matētu, speciālu apdares krāsu sienām un griestiem iekštelpās, kas satur sudraba fosfāta stiklu.Tonis- Pro Grey 1943 vai ekvivalents. | D26: m2 | E26: 86.3
A27: 2.6 | B27: līgum cenas | C27: Pašlīmējošas aizsargjoslas uzstādīšana sienām Gerflor Contact 350, tonis - Alum vai ekvivalents. | D27: m | E27: 20.7
A28: 2.7 | B28: līgum cenas | C28: Pašlīmējošu stūru aizsargprofilu uzstādīšana Gerflor Protecta 2, tonis Alum vai ekvivalents. | D28: gb. | E28: 7
A29: 2.8 | B29: līgum cenas | C29: Sienu apdare ar keramikas flīzēm 15x15cm, tonis - balts, glancēta virsma (Rako Color vai ekvivalents), iesk. virsmas sagatavošanu un darbu veikšanai nepieciešamos materiālus, palīgmateriālus un mehānismus | D29: m2 | E29: 1.6
A30: 3 | C30: Grīdas
A31: 3.1 | B31: līgum cenas | C31: Grunts pamatnes līdzināšana un blietēšana (min. grunts pamatnes nestspēja 45MPa) | D31: m2 | E31: 54.6
A32: 3.2 | B32: līgum cenas | C32: Smilts kārtas izbūve, k/F=1, b=100 mm, iesk. blietēšanu | D32: m2 | E32: 54.6
A33: 3.3 | B33: līgum cenas | C33: Ekstrudētu siltumizolācijas plākšņu uzstādīšana λ≤0.036 W/(mk),≥ 300 kPa, 2x50 mm | D33: m2 | E33: 54.6
A34: 3.4 | B34: līgum cenas | C34: Hidroizolācijas plēves ieklāšana (min. 200 mkr.) (uz smilts sagataves) | D34: m2 | E34: 54.6
A35: 3.5 | B35: līgum cenas | C35: Betona malu lentas montāža, pa telpu perimetru | D35: m | E35: 35
A36: 3.6 | B36: līgum cenas | C36: Grīdas betonēšnana ar Estrich C20, b=100mm, iesk. virsmas slīpēšanu, palīgmateriālus un mehānismus | D36: m2 | E36: 54.6
A37: 3.7 | B37: līgum cenas | C37: Armatūras sieta uzstādīšana, d=8mm, acs 150x150mm, iesk. distancerus u.c. montāžas materiālus | D37: m2 | E37: 54.6
A38: 3.8 | B38: līgum cenas | C38: Flīžu seguma ieklāšana, 60x60cm, R10, gaiši pelēks (Rako Taurus Color - Light Grey vai ekvivalents), šuvojums - gaiši pelēks, iesk. virsmas sagatavošanu un darbu veikšanai nepieciešamos materiālus, palīgmateriālus un mehānismus | D38: m2 | E38: 54.6
A39: 3.9 | B39: līgum cenas | C39: Flīžu grīdlīste, h=10cm, tonis - analogs grīdas segumam, iesk. darbu veikšanai nepieciešamos materiālus, palīgmateriālus un mehānismus | D39: m | E39: 34.04
A40: 4 | C40: Griesti
A41: 4.1 | B41: līgum cenas | C41: Esošu griestu un riģeļu virsmas apstrādāšana ar antibakteriālu pretpelējuma fungicīdu sastāvu (3-5 l/m2) | D41: m2 | E41: 54.6
...

Sheet 2_Iekārtas
A1: Lokālā tāme Nr. 2.
A2: Iekārtas
A3: (Būvdarbu veids vai konstruktīva elementa nosaukums)
A4: =PS_kopt!A12 -> Objekta nosaukums: Morga telpas izbūve SIA "Jēkabpils reģionālās slimnīcas" ēkā ar Kadastra Nr. 56010021214001, Andreja Pormaļa iela 125, Jēkabpils, Jēkabpils nov., LV-5201
A5: =PS_kopt!A13 -> Būves nosaukums: Slimnīcas ēka
A6: =PS_kopt!A14 -> Objekta adrese: Andreja Pormaļa iela 125, Jēkabpils, Jēkabpils nov., LV-5201
A7: =PS_kopt!A15 -> Pasūtījums Nr.:
K9: Tāmes izmaksas | N9: =P17 -> 0 | P9: euro
I10: =PS_kopt!A16 -> 0
A11: Nr. p.k. | B11: Kods | C11: Būvdarbu nosaukums | D11: Mērvienība | E11: Daudzums | F11: Vienības izmaksas | L11: Kopā uz visu apjomu
F12: laika norma (c/h). | G12: darba samaksas likme (euro/h) | H12: darba alga (euro) | I12: būvizstrādājumi (euro) | J12: mehānismi (euro) | K12: Kopā (euro) | L12: darbietilpība (c/h) | M12: darba alga (euro) | N12: būvizstrādājumi (euro) | O12: mehānismi (euro) | P12: Summa (euro)
A13: 1 | B13: 2 | C13: 3 | D13: 4 | E13: 5 | F13: 6 | G13: 7 | H13: 8 | I13: 9 | J13: 10 | K13: 11 | L13: 12 | M13: 13 | N13: 14 | O13: 15 | P13: 16
C14: Iekārtas
A15: 1 | B15: līgum cenas | C15: Morga ledusskapis 12 vietām, iesk. piegādi un montāžu. Funeralia vai ekvivalents. Raksturojums: - Ledusskapji 12 mirušo uzglabāšana; - Kameras ir autonomas un nepieciešamības gadījumā tās var pārvietot; - Kameras izolācija poliuretāns; - Katram nodalījumam durvis ar magnētiskām blīvēm un atslēgām un iebūvētu durvju atvēršanas avārijas mehānismu; - Apgaismojums kameras iekšpusē; - Digitāls iekšējās temperatūras indikators ar trauksmes signālu par temperatūras izmaiņām; - Aprīkots ar spiedienu izlīdzinošu ventili; - Iekšējās un ārējās virsmas izgatavotas no metāla; - Viegli izvelkama ķermeņa uzglabāšanas paplātes, katrā pusē nerūsējošā tērauda rokturi. Materiāls – nerūsējošais tērauds; - Ķermeņa uzglabāšanas paplāšu statīvs(U-tipa) ar pielāgojamu augstumu no 0 līdz 40mm; - Aukstuma agregāts, savienots ar ledusskapi. Elektroniska, pastāvīga iekšējās temperatūras uzturēšana. Aukstuma agregāts atrodas abos sānos ledusskapim - 2gb.; -Darba temperatūras robežas: no +2oC līdz +4oC; - Telpas temperatūra: min +10oC, max +32oC; - Durvja izmēri vismaz 800 x 1800mm, četras durvis; - Ledusskapja ārējie izmēri: 12 ķermeņiem vismaz 4200 x 2310 x 2260 mm. | D15: kpl. | E15: 1
A16: 2 | B16: līgum cenas | C16: Ķermeņu pārvietošanas un pacelšanas rati, iesk. piegādi. Funeralia vai ekvivalents. Raksturojums: - Paredzēti ķermeņa transportēšanai un pacelšanai ar ķermeņa paplātes vai zārka paliktņa palīdzību; - Virsma balstās uz hidraulisku celšanas sistēmu, kura ļauj pacelt un nolaist virsmu robežās no 305mm līdz 740mm; - 4 gumijoti riteņi diametrā vismaz 125mm, 2 riteņi ar bremzēm; - Uz virsmas paredzēta fiksācijas ierīce ķermeņa paplātes; - Ērts plats rokturis ratu stumšanai, augstumā 900mm; - Maksimālā svara kapacitāte 250 kg; - Izgatavot no nerūsējošā tērauda; - Izmēri: 2440 x 660mm. | D16: kpl. | E16: 1
C17: Tiešās izmaksas kopā, t.sk. darba devēja sociālais nodoklis 23,59%: | D17: euro | L17: =ROUND(SUM(L15:L16),2) -> 0 | M17: =ROUND(SUM(M15:M16),2) -> 0 | N17: =ROUND(SUM(N15:N16),2) -> 0 | O17: =ROUND(SUM(O15:O16),2) -> 0 | P17: =ROUND(SUM(M17:O17),2) -> 0
A20: Sastādīja : ___________________ | J20: Pārbaudīja : __________________
A21: Sertifkāta Nr. | J21: Sertifkāta Nr.
A23: =PS_kopt!A16 -> 0

Sheet 3_UK
A1: Lokālā tāme Nr. 3.
A2: Ūdensapgāde un kanalizācija (iekšējā)
A3: (Būvdarbu veids vai konstruktīva elementa nosaukums)
A4: =PS_kopt!A12 -> Objekta nosaukums: Morga telpas izbūve SIA "Jēkabpils reģionālās slimnīcas" ēkā ar Kadastra Nr. 56010021214001, Andreja Pormaļa iela 125, Jēkabpils, Jēkabpils nov., LV-5201
A5: =PS_kopt!A13 -> Būves nosaukums: Slimnīcas ēka
A6: =PS_kopt!A14 -> Objekta adrese: Andreja Pormaļa iela 125, Jēkabpils, Jēkabpils nov., LV-5201
A7: =PS_kopt!A15 -> Pasūtījums Nr.:
K9: Tāmes izmaksas | N9: =P123 -> 0 | P9: euro
I10: =PS_kopt!A16 -> 0
A11: Nr. p.k. | B11: Kods | C11: Būvdarbu nosaukums | D11: Mērvienība | E11: Daudzums | F11: Vienības izmaksas | L11: Kopā uz visu apjomu
F12: laika norma (c/h). | G12: darba samaksas likme (euro/h) | H12: darba alga (euro) | I12: būvizstrādājumi (euro) | J12: mehānismi (euro) | K12: Kopā (euro) | L12: darbietilpība (c/h) | M12: darba alga (euro) | N12: būvizstrādājumi (euro) | O12: mehānismi (euro) | P12: Summa (euro)
A13: 1 | B13: 2 | C13: 3 | D13: 4 | E13: 5 | F13: 6 | G13: 7 | H13: 8 | I13: 9 | J13: 10 | K13: 11 | L13: 12 | M13: 13 | N13: 14 | O13: 15 | P13: 16
A14: 1 | C14: IEKŠĒJAIS AUKSTĀ ŪDENS ŪDENSVADS U1
C15: Aukstā ūdens cauruļvadu pieslēguma vieta pie esošiem iekšējiem tīkliem
A16: 1.1 | B16: līgum cenas | C16: Pieslēgums aukstā ūdens esoš. sistēmai, tajā skaitā: -uzmavu pāreja no tērauda uz PE Dn25x(D32x3,0) - 1.gb. | D16: kpl. | E16: 2
A17: 1.2 | B17: līgum cenas | C17: Pieslēgums aukstā ūdens esoš. sistēmai, tajā skaitā: -uzmavu pāreja no tērauda uz PE Dn15x(D20x2,25) - 1.gb. | D17: kpl. | E17: 1
C18: CAURUĻVADI
C19: Daudzslāņu cauruļvadi
A20: 1.3 | B20: līgum cenas | C20: Ūdensvada caurule, daudzslāņu Pex-Alu-Pex, D32x3,0mm, montāža pie starpstāvu pārseguma, sienām vai sienas ar montāžas skavām | D20: m | E20: 15
A21: 1.4 | B21: līgum cenas | C21: Ūdensvada caurule, daudzslāņu Pex-Alu-Pex, D20x2,25mm, montāža pie starpstāvu pārseguma, sienām vai sienas ar montāžas skavām | D21: m | E21: 4
C22: Aukstā ūdens cauruļvadu pretkondensāta izolācija
A23: 1.5 | B23: līgum cenas | C23: Pretkondensāta izolācija δ=13mm D32x3,0 caurulei ar montāžu | D23: m | E23: 15
A24: 1.6 | B24: līgum cenas | C24: Pretkondensāta izolācija δ=13mm D20x2,25 caurulei ar montāžu | D24: m | E24: 4
C25: VEIDGABALI
C26: Pex-Alu-Pex veidgabali
C27: Trejgabals
A28: 1.7 | B28: līgum cenas | C28: D32, PN10 ar montāžu | D28: gb. | E28: 1
C29: Trejgabals ar pāreju
A30: 1.8 | B30: līgum cenas | C30: D32x20x32, PN10 ar montāžu | D30: gb. | E30: 1
C31: Līkums 90 º
A32: 1.9 | B32: līgum cenas | C32: D32, PN10 ar montāžu | D32: gb. | E32: 4
A33: 1.10 | B33: līgum cenas | C33: D20, PN10 ar montāžu | D33: gb. | E33: 2
C34: Pārejas savienojums
A35: 1.11 | B35: līgum cenas | C35: D32x20, PN10 ar montāžu | D35: gb. | E35: 1
C36: Savienojums ar vītni
A37: 1.12 | B37: līgum cenas | C37: D32x1", PN10 ar montāžu | D37: gb. | E37: 6
A38: 1.13 | B38: līgum cenas | C38: D20x3/4", PN10 ar montāžu | D38: gb. | E38: 3
C39: ARMATŪRA
A40: 1.14 | B40: līgum cenas | C40: Lodveida ventilis, misiņa, PN16, Dn25mm, ar montāžu | D40: gb. | E40: 3
A41: 1.15 | B41: līgum cenas | C41: Lodveida ventilis, misiņa, PN16, Dn15mm, ar montāžu | D41: gb. | E41: 1
...

Sheet 4_EL
A1: Lokālā tāme Nr. 4.
A2: Elektroapgāde, iekšējā
A3: (Būvdarbu veids vai konstruktīva elementa nosaukums)
A4: =PS_kopt!A12 -> Objekta nosaukums: Morga telpas izbūve SIA "Jēkabpils reģionālās slimnīcas" ēkā ar Kadastra Nr. 56010021214001, Andreja Pormaļa iela 125, Jēkabpils, Jēkabpils nov., LV-5201
A5: =PS_kopt!A13 -> Būves nosaukums: Slimnīcas ēka
A6: =PS_kopt!A14 -> Objekta adrese: Andreja Pormaļa iela 125, Jēkabpils, Jēkabpils nov., LV-5201
A7: =PS_kopt!A15 -> Pasūtījums Nr.:
K9: Tāmes izmaksas | N9: =P64 -> 0 | P9: euro
I10: =PS_kopt!A16 -> 0
A11: Nr. p.k. | B11: Kods | C11: Būvdarbu nosaukums | D11: Mērvienība | E11: Daudzums | F11: Vienības izmaksas | L11: Kopā uz visu apjomu
F12: laika norma (c/h). | G12: darba samaksas likme (euro/h) | H12: darba alga (euro) | I12: būvizstrādājumi (euro) | J12: mehānismi (euro) | K12: Kopā (euro) | L12: darbietilpība (c/h) | M12: darba alga (euro) | N12: būvizstrādājumi (euro) | O12: mehānismi (euro) | P12: Summa (euro)
A13: 1 | B13: 2 | C13: 3 | D13: 4 | E13: 5 | F13: 6 | G13: 7 | H13: 8 | I13: 9 | J13: 10 | K13: 11 | L13: 12 | M13: 13 | N13: 14 | O13: 15 | P13: 16
A14: 1 | C14: SADALNES
A15: 1.1 | B15: līgum cenas | C15: Sadalnes ASS-0.1 montāža – individuāli izgatavojama, metāla, zemapmetuma izpildījumā, aizsardzības pakāpe IP30. Sadalne komplektējama ar visiem nepieciešamajiem komutācijas un aizsardzības aparātiem un pārsprieguma aizsardzību, ne mazāk kā 54 moduļiem. Durvis aprīkot ar slēdzeni. Kabeļu ievadi/izvadi paredzēt no augšas un apakšas. (skatīt EL-8) | D15: kpl. | E15: 1
A16: 1.2 | B16: līgum cenas | C16: Esošās MGS sadalnes papildinājums veidojot jaunu grupu un uzstādot 3C25A automātslēdzi, iekļaujot papildus materiālus jaunas grupas izveidei kopņu spailes vai savienojuma vadus | D16: kpl. | E16: 1
A17: 1.3 | B17: līgum cenas | C17: Esošās sadalnes demontāža | D17: kpl. | E17: 1
A18: 2 | C18: KONTAKTLIGZDAS
A19: 2.1 | B19: līgum cenas | C19: Vienvietīga elektriskā sienas kontakta (230V, 16A, IP20, Z/A) ar bērnu drošību un zemējumu montāža | D19: gb. | E19: 3
A20: 2.2 | B20: līgum cenas | C20: Divvietīga elektriskā sienas kontakta (230V, 16A, IP20, Z/A) ar bērnu drošību un zemējumu montāža | D20: gb. | E20: 4
A21: 2.3 | B21: līgum cenas | C21: Četrvietīga elektriskā sienas kontakta (230V, 16A, IP20, Z/A) ar bērnu drošību un zemējumu montāža | D21: gb. | E21: 1
A22: 2.4 | B22: līgum cenas | C22: Divvietīga elektriskā sienas kontakta (230V, 16A, IP44, Z/A) ar bērnu drošību un zemējumu montāža | D22: gb. | E22: 1
A23: 2.5 | B23: līgum cenas | C23: Uguns noturīgā (vismaz 30-60min), halogēnu nesaturoša zemapmetuma montāžas kārba, IP30, 1-V ar montāžu | D23: gb. | E23: 3
A24: 2.6 | B24: līgum cenas | C24: Montāžas dekoratīvais nosegrāmītis 1-V ar montāžu, Tips: Schneider Electric, sērija Sedna Design, korpusa krāsa Balta vai ekvivalnets | D24: gb. | E24: 3
A25: 2.7 | B25: līgum cenas | C25: Uguns noturīgā (vismaz 30-60min), halogēnu nesaturoša zemapmetuma montāžas kārba, IP30, 2-V ar montāžu | D25: gb. | E25: 5
A26: 2.8 | B26: līgum cenas | C26: Montāžas dekoratīvais nosegrāmītis 2-V ar montāžu, Tips: Schneider Electric, sērija Sedna Design, korpusa krāsa Balta vai ekvivalnets | D26: gb. | E26: 5
A27: 2.9 | B27: līgum cenas | C27: Uguns noturīgā (vismaz 30-60min), halogēnu nesaturoša zemapmetuma montāžas kārba, IP30, 4-V ar montāžu | D27: gb. | E27: 1
A28: 2.10 | B28: līgum cenas | C28: Montāžas dekoratīvais nosegrāmītis 4-V ar montāžu, Tips: Schneider Electric, sērija Sedna Design, korpusa krāsa Balta vai ekvivalnets | D28: gb. | E28: 1
A29: 3 | C29: SLĒDŽI
A30: 3.1 | B30: līgum cenas | C30: Vienvietīga elektriskā sienas kontakta (230V, 16A, IP20, Z/A) ar bērnu drošību un zemējumu montāža, Tips: Schneider Electric, sērija Sedna Design, korpusa krāsa Balta vai ekvivalnets | D30: gb. | E30: 4
A31: 3.2 | B31: līgum cenas | C31: Uguns noturīgā (vismaz 30-60min), halogēnu nesaturoša zemapmetuma montāžas kārba, IP30, 2-V ar montāžu | D31: gb. | E31: 2
A32: 3.3 | B32: līgum cenas | C32: Montāžas dekoratīvais nosegrāmītis 2-V ar montāžu | D32: gb. | E32: 2
A33: 4 | C33: ĒKAS IEKŠTELPU ZEMĒJUMS
A34: 4.1 | B34: līgum cenas | C34: Zemējuma vads H07Z1-K-1x6mm² ar montāžu | D34: m | E34: 135
A35: 4.2 | B35: līgum cenas | C35: Zemējuma vads H07Z1-K-1x10mm² ar montāžu | D35: m | E35: 20
A36: 4.3 | B36: līgum cenas | C36: Zemējuma vads H07Z1-K-1x16mm² ar montāžu | D36: m | E36: 220
A37: 4.4 | B37: līgum cenas | C37: Potenciālu izlīdzinošā kopne | D37: gb. | E37: 1
A38: 5 | C38: GAISMEKĻI
A39: 5.1 | B39: līgum cenas | C39: Griestu gaismeklis, balta korpusa krāsa, montējam pie piekārtajiem griestiem LEDVANCE PL COMP 600 V 30W ML 93040 U19, 4200lm, 140lm/W, 4000K, 4099854734601 (G1 vai ekvivalnets veicot jaunu apgaismes aprēķinu) | D39: gb. | E39: 11
A40: 5.2 | B40: līgum cenas | C40: Telpu avārijas gaismeklis, EATON RoundTech MR SEO-RT2RSEO200STF1HIP 200Lm 1.1W IP65 IEKŠTIPA IZPILDĪJUMĀ ar akumualtoru vismaz 60min darbībai montējams iestrādājot griestu segumā (A1 vai ekvivalnets) | D40: gb. | E40: 2
A41: 5.3 | B41: līgum cenas | C41: Evakuācijas ceļa norādes gaismeklis LED ar "Ceļa norāde/Izeja", EXIT S 1W LED 175 lm IP65 ar iebūvētu akumulatoru bateriju 60min darbībai montāža (EXv1 vai ekvivalnets) | D41: gb. | E41: 1
...

Sheet 5_AVK-A
A1: Lokālā tāme Nr. 5.
A2: Apkure
A3: (Būvdarbu veids vai konstruktīva elementa nosaukums)
A4: =PS_kopt!A12 -> Objekta nosaukums: Morga telpas izbūve SIA "Jēkabpils reģionālās slimnīcas" ēkā ar Kadastra Nr. 56010021214001, Andreja Pormaļa iela 125, Jēkabpils, Jēkabpils nov., LV-5201
A5: =PS_kopt!A13 -> Būves nosaukums: Slimnīcas ēka
A6: =PS_kopt!A14 -> Objekta adrese: Andreja Pormaļa iela 125, Jēkabpils, Jēkabpils nov., LV-5201
A7: =PS_kopt!A15 -> Pasūtījums Nr.:
K9: Tāmes izmaksas | N9: =P34 -> 0 | P9: euro
I10: =PS_kopt!A16 -> 0
A11: Nr. p.k. | B11: Kods | C11: Būvdarbu nosaukums | D11: Mērvienība | E11: Daudzums | F11: Vienības izmaksas | L11: Kopā uz visu apjomu
F12: laika norma (c/h). | G12: darba samaksas likme (euro/h) | H12: darba alga (euro) | I12: būvizstrādājumi (euro) | J12: mehānismi (euro) | K12: Kopā (euro) | L12: darbietilpība (c/h) | M12: darba alga (euro) | N12: būvizstrādājumi (euro) | O12: mehānismi (euro) | P12: Summa (euro)
A13: 1 | B13: 2 | C13: 3 | D13: 4 | E13: 5 | F13: 6 | G13: 7 | H13: 8 | I13: 9 | J13: 10 | K13: 11 | L13: 12 | M13: 13 | N13: 14 | O13: 15 | P13: 16
A14: 1 | C14: Radiatori un to apsaiste
A15: 1.1 | B15: līgum cenas | C15: Higiēniskais tērauda paneļtipa radiatora ar glūdu priekšējo virsmu, sānu pieslēgumu, ar sienas stiprinājuma kronšteiniem, noslēgkorķi un atgaisotāju komplektā montāža. Tips: 30, 500x1000; Q=850 W, 70/50/20 °С, "Purmo FH30-500-1000", Kermi vai ekvivalents | D15: kpl. | E15: 3
A16: 1.2 | B16: līgum cenas | C16: Radiatora termostatiskā vārsta (M30 x 1,5) montāža, DN15 1/2", ekvivalents: "RA-N" | D16: gb. | E16: 3
A17: 1.3 | B17: līgum cenas | C17: Termostatiskās galvas (M30 x 1,5) montāža, 7°C - 28°C, ekvivalents: "Danfoss AERO" | D17: gb. | E17: 3
A18: 1.4 | B18: līgum cenas | C18: Radiatoru atgaitas regulēšanas- noslēgšanas vārsta montāža, DN15 1/2", ekvivalents: "Danfoss RLV-S" | D18: gb. | E18: 3
A19: 1.5 | B19: līgum cenas | C19: Lodējamā kapara caurules d18x1.0 montāža, radiatoru pieslēgšanai | D19: m | E19: 3
A20: 1.6 | B20: līgum cenas | C20: Veidgabali | D20: kpl. | E20: 1
A21: 1.7 | B21: līgum cenas | C21: Cauruļvadu stiprinājumi | D21: kpl. | E21: 1
A22: 2 | C22: Pārējais
A23: 2.1 | B23: līgum cenas | C23: Apkures sistēmās hidrauliska ieregulēšana | D23: kpl. | E23: 1
A24: 2.2 | B24: līgum cenas | C24: Apkures sistēmas aizpildīšana | D24: kpl. | E24: 1
A25: 2.3 | B25: līgum cenas | C25: Apkures sistēmas hidrauliskā pārbaude | D25: kpl. | E25: 1
A26: 2.4 | B26: līgum cenas | C26: Palīgmateriāli | D26: kpl. | E26: 1
A27: 2.5 | B27: līgum cenas | C27: Palīgdarbi | D27: kpl. | E27: 1
A28: 2.6 | B28: līgum cenas | C28: Būvgrūžu utilizācija | D28: kpl. | E28: 1
A29: 3 | C29: Demontāža un celtniecības darbi
A30: 3.1 | B30: līgum cenas | C30: Esošo paneļtipa radiatoru (Tips: 33, 500x1600) demontāža | D30: kpl. | E30: 4
A31: 3.2 | B31: līgum cenas | C31: Lodējamās kapara caurules (d18x1.0) demontāža | D31: m | E31: 8
A32: 3.3 | B32: līgum cenas | C32: Radiatora termostatiskais vārsta (Dn15) demontāža | D32: kpl. | E32: 4
A33: 3.4 | B33: līgum cenas | C33: Radiatora noslēgvārsta (Dn15), ar pašblīvējošu savienojumu demontāža | D33: kpl. | E33: 4
C34: Tiešās izmaksas kopā, t.sk. darba devēja sociālais nodoklis 23,59%: | D34: euro | L34: =ROUND(SUM(L15:L33),2) -> 0 | M34: =ROUND(SUM(M15:M33),2) -> 0 | N34: =ROUND(SUM(N15:N33),2) -> 0 | O34: =ROUND(SUM(O15:O33),2) -> 0 | P34: =ROUND(SUM(M34:O34),2) -> 0
A37: Sastādīja : ___________________ | J37: Pārbaudīja : __________________
A38: Sertifkāta Nr. | J38: Sertifkāta Nr.
A40: =PS_kopt!A16 -> 0

Sheet 6_AVK-V
A1: Lokālā tāme Nr. 6.
A2: Ventilācija
A3: (Būvdarbu veids vai konstruktīva elementa nosaukums)
A4: =PS_kopt!A12 -> Objekta nosaukums: Morga telpas izbūve SIA "Jēkabpils reģionālās slimnīcas" ēkā ar Kadastra Nr. 56010021214001, Andreja Pormaļa iela 125, Jēkabpils, Jēkabpils nov., LV-5201
A5: =PS_kopt!A13 -> Būves nosaukums: Slimnīcas ēka
A6: =PS_kopt!A14 -> Objekta adrese: Andreja Pormaļa iela 125, Jēkabpils, Jēkabpils nov., LV-5201
A7: =PS_kopt!A15 -> Pasūtījums Nr.:
K9: Tāmes izmaksas | N9: =P20 -> 0 | P9: euro
I10: =PS_kopt!A16 -> 0
A11: Nr. p.k. | B11: Kods | C11: Būvdarbu nosaukums | D11: Mērvienība | E11: Daudzums | F11: Vienības izmaksas | L11: Kopā uz visu apjomu
F12: laika norma (c/h). | G12: darba samaksas likme (euro/h) | H12: darba alga (euro) | I12: būvizstrādājumi (euro) | J12: mehānismi (euro) | K12: Kopā (euro) | L12: darbietilpība (c/h) | M12: darba alga (euro) | N12: būvizstrādājumi (euro) | O12: mehānismi (euro) | P12: Summa (euro)
A13: 1 | B13: 2 | C13: 3 | D13: 4 | E13: 5 | F13: 6 | G13: 7 | H13: 8 | I13: 9 | J13: 10 | K13: 11 | L13: 12 | M13: 13 | N13: 14 | O13: 15 | P13: 16
A14: 1 | C14: P1
A15: 1.1 | B15: līgum cenas | C15: Gaisa apstrādes agregāta P montāža: Rekuperators Prana 200G Premium; L=5-85 m3/st; atz .+2,2 vai ekvivalents | D15: kpl. | E15: 1
A16: 1.2 | B16: līgum cenas | C16: Cokola deflektora montāža, Vilpe Ross125(RAL Izvads krāsots, tonī saskaņot) vai ekvivalents | D16: gb. | E16: 1
A17: 1.3 | B17: līgum cenas | C17: Elektroapgādes materiālu montāžu | D17: kpl. | E17: 1
A18: 1.4 | B18: līgum cenas | C18: Montāžas un palīgmateriāli, stiprinājumi, marķēšanas, ugunsdrošības u.c.nepieciešamie materiāli | D18: kpl. | E18: 1
A19: 1.5 | B19: līgum cenas | C19: Izvadi caur sienu izbūve | D19: kpl. | E19: 2
C20: Tiešās izmaksas kopā, t.sk. darba devēja sociālais nodoklis 23,59%: | D20: euro | L20: =ROUND(SUM(L15:L19),2) -> 0 | M20: =ROUND(SUM(M15:M19),2) -> 0 | N20: =ROUND(SUM(N15:N19),2) -> 0 | O20: =ROUND(SUM(O15:O19),2) -> 0 | P20: =ROUND(SUM(M20:O20),2) -> 0
A23: Sastādīja : ___________________ | J23: Pārbaudīja : __________________
A24: Sertifkāta Nr. | J24: Sertifkāta Nr.
A26: =PS_kopt!A16 -> 0

Sheet 7_AVK-K
A1: Lokālā tāme Nr. 7.
A2: Klimata kontroles sistēma
A3: (Būvdarbu veids vai konstruktīva elementa nosaukums)
A4: =PS_kopt!A12 -> Objekta nosaukums: Morga telpas izbūve SIA "Jēkabpils reģionālās slimnīcas" ēkā ar Kadastra Nr. 56010021214001, Andreja Pormaļa iela 125, Jēkabpils, Jēkabpils nov., LV-5201
A5: =PS_kopt!A13 -> Būves nosaukums: Slimnīcas ēka
A6: =PS_kopt!A14 -> Objekta adrese: Andreja Pormaļa iela 125, Jēkabpils, Jēkabpils nov., LV-5201
A7: =PS_kopt!A15 -> Pasūtījums Nr.:
K9: Tāmes izmaksas | N9: =P23 -> 0 | P9: euro
I10: =PS_kopt!A16 -> 0
A11: Nr. p.k. | B11: Kods | C11: Būvdarbu nosaukums | D11: Mērvienība | E11: Daudzums | F11: Vienības izmaksas | L11: Kopā uz visu apjomu
F12: laika norma (c/h). | G12: darba samaksas likme (euro/h) | H12: darba alga (euro) | I12: būvizstrādājumi (euro) | J12: mehānismi (euro) | K12: Kopā (euro) | L12: darbietilpība (c/h) | M12: darba alga (euro) | N12: būvizstrādājumi (euro) | O12: mehānismi (euro) | P12: Summa (euro)
A13: 1 | B13: 2 | C13: 3 | D13: 4 | E13: 5 | F13: 6 | G13: 7 | H13: 8 | I13: 9 | J13: 10 | K13: 11 | L13: 12 | M13: 13 | N13: 14 | O13: 15 | P13: 16
A14: 1 | C14: Aukstumapgāde
A15: 1.1 | B15: līgum cenas | C15: Kondicionētāja montāža. Ārējais un iekšējais bloks split tipa: ekvivalents: LG gaisa kondicionieri split tipa –INVERTER; S24ET.UL2/S24ET.NSK Dzesēšana jauda: 6,0kW; ar pulti | D15: gb. | E15: 1
A16: 1.2 | B16: līgum cenas | C16: Vara caurules 1/4" ar pretkondensāta izolāciju montāža | D16: m | E16: 10
A17: 1.3 | B17: līgum cenas | C17: Vara caurules 5/8" ar pretkondensāta izolāciju montāža | D17: m | E17: 10
A18: 1.4 | B18: līgum cenas | C18: Balstu(Ārējie) montāža, ar vibrācijas slāpētājiem | D18: gb. | E18: 1
A19: 1.5 | B19: līgum cenas | C19: Montāžas un palīgmateriāli, stiprinājumi, marķēšanas, ugunsdrošības u.c.nepieciešamie materiāli | D19: kpl. | E19: 1
A20: 1.6 | B20: līgum cenas | C20: Elektroapgādes materiālu montāža | D20: kpl. | E20: 1
A21: 1.7 | B21: līgum cenas | C21: Akmensvates blīvuma 150kg/m3 b=50mm montāža | D21: kpl. | E21: 1
A22: 1.8 | B22: līgum cenas | C22: Izvadi caur sienu izbūve | D22: kpl. | E22: 1
C23: Tiešās izmaksas kopā, t.sk. darba devēja sociālais nodoklis 23,59%: | D23: euro | L23: =ROUND(SUM(L15:L22),2) -> 0 | M23: =ROUND(SUM(M15:M22),2) -> 0 | N23: =ROUND(SUM(N15:N22),2) -> 0 | O23: =ROUND(SUM(O15:O22),2) -> 0 | P23: =ROUND(SUM(M23:O23),2) -> 0
A26: Sastādīja : ___________________ | J26: Pārbaudīja : __________________
A27: Sertifkāta Nr. | J27: Sertifkāta Nr.
A29: =PS_kopt!A16 -> 0

Sheet 8_UATS
A1: Lokālā tāme Nr. 8.
A2: Ugunsgrēka atklāšanas un trauksmes signalizācijas sistēma
A3: (Būvdarbu veids vai konstruktīva elementa nosaukums)
A4: =PS_kopt!A12 -> Objekta nosaukums: Morga telpas izbūve SIA "Jēkabpils reģionālās slimnīcas" ēkā ar Kadastra Nr. 56010021214001, Andreja Pormaļa iela 125, Jēkabpils, Jēkabpils nov., LV-5201
A5: =PS_kopt!A13 -> Būves nosaukums: Slimnīcas ēka
A6: =PS_kopt!A14 -> Objekta adrese: Andreja Pormaļa iela 125, Jēkabpils, Jēkabpils nov., LV-5201
A7: =PS_kopt!A15 -> Pasūtījums Nr.:
K9: Tāmes izmaksas | N9: =P29 -> 0 | P9: euro
I10: =PS_kopt!A16 -> 0
A11: Nr. p.k. | B11: Kods | C11: Būvdarbu nosaukums | D11: Mērvienība | E11: Daudzums | F11: Vienības izmaksas | L11: Kopā uz visu apjomu
F12: laika norma (c/h). | G12: darba samaksas likme (euro/h) | H12: darba alga (euro) | I12: būvizstrādājumi (euro) | J12: mehānismi (euro) | K12: Kopā (euro) | L12: darbietilpība (c/h) | M12: darba alga (euro) | N12: būvizstrādājumi (euro) | O12: mehānismi (euro) | P12: Summa (euro)
A13: 1 | B13: 2 | C13: 3 | D13: 4 | E13: 5 | F13: 6 | G13: 7 | H13: 8 | I13: 9 | J13: 10 | K13: 11 | L13: 12 | M13: 13 | N13: 14 | O13: 15 | P13: 16
C14: Ugunsgrēka atklāšanas un trauksmes signalizācijas sistēma
A15: 1 | B15: līgum cenas | C15: Programmatora Teletek SensoIRIS montāža- Programmēšanas ierīce priekš adrešu piešķiršanas SensoIRIS ierīcēm, marka: SensoIRIS Progr / 31020032 vai ekvivalents | D15: gb. | E15: 1
A16: 2 | B16: līgum cenas | C16: Adrešu dūmu detektora montāža, marka: SensoIRIS S130 / 31060049 vai ekvivalents | D16: gb. | E16: 2
A17: 3 | B17: līgum cenas | C17: Adrešu detektoru bāzes montāža, marka: SensoIRIS B124 / 31060047 vai ekvivalents | D17: gb. | E17: 3
A18: 4 | B18: līgum cenas | C18: Adrešu sienas montējamas sirēnas montāža, marka: SensoIRIS WSOU-R / 32020017 vai ekvivalents | D18: gb. | E18: 1
A19: 5 | B19: līgum cenas | C19: Adrešu manuālās tālvadības iedarbināšanas ierīces montāža, marka: SensoIRIS MCP 150 / 31060045 vai ekvivalents | D19: gb. | E19: 1
A20: 6 | B20: līgum cenas | C20: Caurspīdīgs aizsargvāks manuālās tālvadības iedarbināšanas ierīcei ar montāžu | D20: gb. | E20: 1
A21: 7 | B21: līgum cenas | C21: Manuālās tālvadības iedarbināšanas ierīces luminiscējošas norādes montāža | D21: gb. | E21: 1
A22: 8 | B22: līgum cenas | C22: Adrešu moduļa ar 230V releju montāža, marka: MOUT 240 / 31020035 vai ekvivalents | D22: gb. | E22: 1
A23: 9 | B23: līgum cenas | C23: Ugunsdrošā kabeļa montāža | JE-H(St)H…Bd | FE180/PH120 E30 | 1x2x0.8+0.8 mm vai ekvivalents | D23: m | E23: 200
A24: 10 | B24: līgum cenas | C24: Instalācijas caurule Ø20-25 mm LSZH (EVOEL SM-0H vai ekvivalents) montāža | D24: m | E24: 111
A25: 11 | B25: līgum cenas | C25: Ugunsdrošu kabeļu stiprinājumu montāža | D25: gb. | E25: 300
A26: 12 | B26: līgum cenas | C26: Instalācijas materiāli | D26: kpl. | E26: 1
... A28: 14 | B28: līgum cenas | C28: Izpilddokumentācija | D28: kpl. | E28: 1
C29: Tiešās izmaksas kopā, t.sk. darba devēja sociālais nodoklis 23,59%: | D29: euro | L29: =ROUND(SUM(L15:L28),2) -> 0 | M29: =ROUND(SUM(M15:M28),2) -> 0 | N29: =ROUND(SUM(N15:N28),2) -> 0 | O29: =ROUND(SUM(O15:O28),2) -> 0 | P29: =ROUND(SUM(M29:O29),2) -> 0
A32: Sastādīja : ___________________ | J32: Pārbaudīja : __________________
A33: Sertifkāta Nr. | J33: Sertifkāta Nr.
A35: =PS_kopt!A16 -> 0

Sheet 9_ESS-PK
A1: Lokālā tāme Nr. 9.
A2: Piekļuves kontrole
A3: (Būvdarbu veids vai konstruktīva elementa nosaukums)
A4: =PS_kopt!A12 -> Objekta nosaukums: Morga telpas izbūve SIA "Jēkabpils reģionālās slimnīcas" ēkā ar Kadastra Nr. 56010021214001, Andreja Pormaļa iela 125, Jēkabpils, Jēkabpils nov., LV-5201
A5: =PS_kopt!A13 -> Būves nosaukums: Slimnīcas ēka
A6: =PS_kopt!A14 -> Objekta adrese: Andreja Pormaļa iela 125, Jēkabpils, Jēkabpils nov., LV-5201
A7: =PS_kopt!A15 -> Pasūtījums Nr.:
K9: Tāmes izmaksas | N9: =P29 -> 0 | P9: euro
I10: =PS_kopt!A16 -> 0
A11: Nr. p.k. | B11: Kods | C11: Būvdarbu nosaukums | D11: Mērvienība | E11: Daudzums | F11: Vienības izmaksas | L11: Kopā uz visu apjomu
F12: laika norma (c/h). | G12: darba samaksas likme (euro/h) | H12: darba alga (euro) | I12: būvizstrādājumi (euro) | J12: mehānismi (euro) | K12: Kopā (euro) | L12: darbietilpība (c/h) | M12: darba alga (euro) | N12: būvizstrādājumi (euro) | O12: mehānismi (euro) | P12: Summa (euro)
A13: 1 | B13: 2 | C13: 3 | D13: 4 | E13: 5 | F13: 6 | G13: 7 | H13: 8 | I13: 9 | J13: 10 | K13: 11 | L13: 12 | M13: 13 | N13: 14 | O13: 15 | P13: 16
C14: Piekļuves kontrole
A15: 1 | B15: līgum cenas | C15: Integriti vidējais korpuss ar 3A PSU montāža, marka INTG-995201PEEU3 vai ekvivalents | D15: gb. | E15: 1
A16: 2 | B16: līgum cenas | C16: ILAM durvju kontrolieris 2 durvīm, ar montāžu, marka INTG-996018PCB & K vai ekvivalents | D16: gb. | E16: 1
A17: 3 | B17: līgum cenas | C17: Akumulators 12V 7.2Ah, 5 Gadi, Operative temperature range -20 °C to 50 °C, ar montāžu. Marka: FG20721 vai ekvivalents | D17: gb. | E17: 1
A18: 4 | B18: līgum cenas | C18: Bezkontakta nolasītāja Rosslare montāža, marka: AY-K6255 vai ekvivalents | D18: gb. | E18: 1
A19: 5 | B19: līgum cenas | C19: Paliknis priekš AY-K12C AY-K6255, ar montāžu. Marka: MP-K01 vai ekvivalents | D19: gb. | E19: 1
A20: 6 | B20: līgum cenas | C20: Magnētiskais kontaktu slēdzis (iebūvējams), 2m komutāciju kabelis, Alarmtech, ar montāžu. Marka: MC 250 vai ekvivalents | D20: gb. | E20: 1
A21: 7 | B21: līgum cenas | C21: Elektromehāniskais sprūds, Profix 2, fail unlocked darbības princips, 12 VDC, Eff Eff , ar montāžu (Pirms pasūtīšanas saskaņot ar Pasūtītāju un durvju ražotāju). Marka: 138.13---------E91 vai ekvivalents | D21: gb. | E21: 1
A22: 8 | B22: līgum cenas | C22: Cat 5e F/UTP kabelis CCA LSZH, folijas ekrāns SecurityNET ar montāžu, marka: SEC5EFTPLSZH-CCA vai ekvivalents | D22: m | E22: 125
A23: 9 | B23: līgum cenas | C23: Instalācijas kabeļa H03VVH2-F 2x0.75mm² montāža, marka: FABER / 030011 vai ekvivalents | D23: m | E23: 10
A24: 10 | B24: līgum cenas | C24: Apsardzes kabelis 4x0.22mm ekranēts halogēnbrīvs Cca ar montāžu, marka: ELAN / 240041 vai ekvivalents | D24: m | E24: 10
A25: 11 | B25: līgum cenas | C25: Programmnodrošinājums piekļuves kontroles durvīm | D25: kpl. | E25: 1
A26: 12 | B26: līgum cenas | C26: Instalācijas materiāli | D26: kpl. | E26: 1
... A28: 14 | B28: līgum cenas | C28: Izpilddokumentācija | D28: kpl. | E28: 1
C29: Tiešās izmaksas kopā, t.sk. darba devēja sociālais nodoklis 23,59%: | D29: euro | L29: =ROUND(SUM(L15:L28),2) -> 0 | M29: =ROUND(SUM(M15:M28),2) -> 0 | N29: =ROUND(SUM(N15:N28),2) -> 0 | O29: =ROUND(SUM(O15:O28),2) -> 0 | P29: =ROUND(SUM(M29:O29),2) -> 0
A32: Sastādīja : ___________________ | J32: Pārbaudīja : __________________
A33: Sertifkāta Nr. | J33: Sertifkāta Nr.
A35: =PS_kopt!A16 -> 0

Sheet 10_ESS-TK
A1: Lokālā tāme Nr. 10.
A2: Elektronisko sakaru inženiertīkli
A3: (Būvdarbu veids vai konstruktīva elementa nosaukums)
A4: =PS_kopt!A12 -> Objekta nosaukums: Morga telpas izbūve SIA "Jēkabpils reģionālās slimnīcas" ēkā ar Kadastra Nr. 56010021214001, Andreja Pormaļa iela 125, Jēkabpils, Jēkabpils nov., LV-5201
A5: =PS_kopt!A13 -> Būves nosaukums: Slimnīcas ēka
A6: =PS_kopt!A14 -> Objekta adrese: Andreja Pormaļa iela 125, Jēkabpils, Jēkabpils nov., LV-5201
A7: =PS_kopt!A15 -> Pasūtījums Nr.:
K9: Tāmes izmaksas | N9: =P41 -> 0 | P9: euro
I10: =PS_kopt!A16 -> 0
A11: Nr. p.k. | B11: Kods | C11: Būvdarbu nosaukums | D11: Mērvienība | E11: Daudzums | F11: Vienības izmaksas | L11: Kopā uz visu apjomu
F12: laika norma (c/h). | G12: darba samaksas likme (euro/h) | H12: darba alga (euro) | I12: būvizstrādājumi (euro) | J12: mehānismi (euro) | K12: Kopā (euro) | L12: darbietilpība (c/h) | M12: darba alga (euro) | N12: būvizstrādājumi (euro) | O12: mehānismi (euro) | P12: Summa (euro)
A13: 1 | B13: 2 | C13: 3 | D13: 4 | E13: 5 | F13: 6 | G13: 7 | H13: 8 | I13: 9 | J13: 10 | K13: 11 | L13: 12 | M13: 13 | N13: 14 | O13: 15 | P13: 16
C14: Elektronisko sakaru inženiertīkli
A15: 1 | B15: līgum cenas | C15: 19" Komutācijas skapis 6U 600×450mm ar montāžu, marka 6U-60/45C vai ekvivalents | D15: gb. | E15: 1
A16: 2 | B16: līgum cenas | C16: 19" Optiskais panelis 1U / 12 duplex/ ar montāžu, izvelkams ar kaseti, marka 12ODF/1U/DSC vai ekvivalents | D16: gb. | E16: 1
A17: 3 | B17: līgum cenas | C17: 19" 24 portu patch panelis ar plauktu Cat 6, UTP montāža, marka 100-304 vai ekvivalents | D17: gb. | E17: 1
A18: 4 | B18: līgum cenas | C18: 19'' Kabeļu horizontālā organizatora ar vāku montāža, marka CMB-08 vai ekvivalents | D18: gb. | E18: 1
A19: 5 | B19: līgum cenas | C19: 19'' Rozešu bloka ar 8 ligzdām montāža | D19: gb. | E19: 1
A20: 6 | B20: līgum cenas | C20: 19'' DIN Montāžas sliede 1m ar montāžu | D20: gb. | E20: 1
A21: 7 | B21: līgum cenas | C21: Automātiskā slēdža 1P C16A montāža | D21: gb. | E21: 1
A22: 8 | B22: līgum cenas | C22: DIN Rozetes 16A 250V montāža | D22: gb. | E22: 1
A23: 9 | B23: līgum cenas | C23: Optiskās šķiedras pigtail 2m SM montāža | D23: gb. | E23: 4
A24: 10 | B24: līgum cenas | C24: Adapteru duplex montāža | D24: gb. | E24: 2
A25: 11 | B25: līgum cenas | C25: FO savienojošais kabelis (patchcord) Simplex SM OS2 SC-LC vai ekvivalents, ar montāžu | D25: gb. | E25: 2
A26: 12 | B26: līgum cenas | C26: SFP Modulis 10Gbit ar montāžu | D26: gb. | E26: 2
... A40: 26 | B40: līgum cenas | C40: Izpilddokumentācija | D40: kpl. | E40: 1
C41: Tiešās izmaksas kopā, t.sk. darba devēja sociālais nodoklis 23,59%: | D41: euro | L41: =ROUND(SUM(L15:L40),2) -> 0 | M41: =ROUND(SUM(M15:M40),2) -> 0 | N41: =ROUND(SUM(N15:N40),2) -> 0 | O41: =ROUND(SUM(O15:O40),2) -> 0 | P41: =ROUND(SUM(M41:O41),2) -> 0
A44: Sastādīja : ___________________ | J44: Pārbaudīja : __________________
A45: Sertifkāta Nr. | J45: Sertifkāta Nr.
A47: =PS_kopt!A16 -> 0
