Workbook

Sheet KOPT
B1: APSTIPRINU
C3: __________________________
C4: (pasūtītāja paraksts un tā atšifrējums)
C7: Z.v.
C9: _____ .gada _____. ________________
A12: Būvniecības koptāme
A16: Objekta nosaukums | B16: =KOPS1!C9 -> Kultūras nama kinozāles jumta atjaunošana un fasādes siltināšana
A17: Būves nosaukums | B17: =KOPS1!C8 -> ''Kultūras nama kinozāles jumta atjaunošana un fasādes siltināšana'', Madlienā, Madlienas pagastā, Ogres novadā
A18: Objekta adrese | B18: =KOPS1!C10 -> Madliena, Madlienas pagasts, Ogres novads
A19: Pasūtījuma Nr. | B19: =KOPS1!C11 -> 2026-06
A24: Nr. p.k. | B24: Objekta nosaukums | C24: Objekta izmaksas (euro)
A26: =1 -> 1 | B26: =KOPS1!C9 -> Kultūras nama kinozāles jumta atjaunošana un fasādes siltināšana
A28: Kopā
A30: PVN (21%)
A33: Sastādīja | B33: =KOPS1!$B$47 -> _________________________ Ainārs Mangulsons /________/
B34: (paraksts un tā atšifrējums, datums)
A36: Sertifikāta Nr. | B36: =KOPS1!$B$49 -> 1-00841
A38: =KOPS1!F16 -> Tāme sastādīta

Sheet KOPS1
A2: Kopsavilkuma aprēķini pa darbu vai konstruktīvo elementu veidiem
A4: Vispārējie būvdarbi
A5: (Darba veids vai konstruktīvā elementa nosaukums)
A8: Objekta nosaukums | C8: ''Kultūras nama kinozāles jumta atjaunošana un fasādes siltināšana'', Madlienā, Madlienas pagastā, Ogres novadā
A9: Būves nosaukums | C9: Kultūras nama kinozāles jumta atjaunošana un fasādes siltināšana
A10: Objekta adrese | C10: Madliena, Madlienas pagasts, Ogres novads
A11: Pasūtījuma Nr. | C11: 2026-06
F16: Tāme sastādīta
A18: Nr. p.k. | B18: Kods, tāmes Nr. | C18: Būvdarbu veids vai konstruktīvā elementa nosaukums | E18: Tāmes izmaksas | F18: Tai skaitā | I18: Darbietilpība (c/h)
F19: darba alga | G19: būvizstrādājumi | H19: mehānismi
C21: 1. Vispārējie būvdarbi
A22: =A21+1 -> 1 | B22: 1-1 | C22: Būvlaukums | D22: BA | E22: =SUM(F22:H22) -> 0 | F22: =Buvlaukums!M31 -> 0 | G22: =Buvlaukums!N31 -> 0 | H22: =Buvlaukums!O31 -> 0 | I22: =Buvlaukums!L31 -> 0
A23: 2 | B23: 1-2 | C23: Kinozāles ārsienas | D23: AR | E23: =SUM(F23:H23) -> 0 | F23: ='Ārsienas silrināšana'!M24 -> 0 | G23: ='Ārsienas silrināšana'!N24 -> 0 | H23: ='Ārsienas silrināšana'!O24 -> 0 | I23: ='Ārsienas silrināšana'!L24 -> 0
A24: =A23+1 -> 3 | B24: 1-3 | C24: Jumts | D24: J | E24: =SUM(F24:H24) -> 0 | F24: =Jumts!M38 -> 0 | G24: =Jumts!N38 -> 0 | H24: =Jumts!O38 -> 0 | I24: =Jumts!L38 -> 0
A25: 4 | B25: 1-4 | C25: Zibens aizsardzības sistēma | D25: ZA | E25: =SUM(F25:H25) -> 0 | F25: ='Zibens aizsardzība'!M40 -> 0 | G25: ='Zibens aizsardzība'!N40 -> 0 | H25: ='Zibens aizsardzība'!O40 -> 0 | I25: ='Zibens aizsardzība'!L40 -> 0
A26: Kopā | E26: =SUM(F22:H25) -> 0 | F26: =SUM(F22:F25) -> 0 | G26: =SUM(G22:G25) -> 0 | H26: =SUM(H22:H25) -> 0 | I26: =SUM(I22:I25) -> 0
A27: ="Virsizdevumi ("&D27*100&"%)" -> Virsizdevumi (3%) | D27: 0.03 | E27: =E26*0.03 -> 0
A28: t.sk. darba aizsardzība | D28: 0.5% | E28: =E26*0.005 -> 0
A29: ="Peļņa ("&D29*100&"%)" -> Peļņa (5%) | D29: 0.05 | E29: =E26*0.05 -> 0
A30: ="Pievienotā vērtība ("&D30*100&"%)" -> Pievienotā vērtība (21%) | D30: 0.21 | E30: =E26*0.21 -> 0
A31: Pavisam kopā | E31: =SUM(E26,E30) -> 0
A33: Piezīmes.
A34: 1. Būvuzņēmējam jādod pilna apjoma tendera (iepirkuma) cenu piedāvājums, ieskaitot palīgdarbus un materiālus, kas nav uzrādīti tāmē,
A35: apjomu sarakstā un projektā, bet ir nepieciešami projektētā būvobjekta izbūvei un nodošanai ekspluatācijā.
A36: 2. Darbu apjomu sarakstu skatīt kopā ar rasējumiem un specifikācijām.
A37: 3. Tāmēs ietvertos konkrēto ražotāju materiālus un izstrādājumus var aizvietot ar analogiem citu ražotāju materiāliem un izstrādājumiem.
A38: 4. Materiāli doti bez atgriezumiem un nesablīvētā veidā
A39: 5. Pēc pasūtītāja pieprasījuma , projektētājs veic būvdarbu apjomu pārrēķinu, ja projkets netiks realizēts pilnā apjomā
A41: Sastādīja: | B41: _________________________ Ainārs Mangulsons /______./
B42: (paraksts un tā atšifrējums, datums)
A43: Sertifikāta Nr. | B43: 1-00841
A45: =F16 -> Tāme sastādīta
A47: Pārbaudīja: | B47: _________________________ Ainārs Mangulsons /________/
B48: (paraksts un tā atšifrējums, datums)
A49: Sertifikāta Nr. | B49: 1-00841

Sheet BŪVL
A1: ="Lokālā tāme Nr. "&KOPS1!#REF! -> #REF!
A3: =KOPS1!#REF! -> #REF!
A4: (Darba veids vai konstruktīvā elementa nosaukums)
A6: Objekta nosaukums | C6: =KOPS1!C8 -> ''Kultūras nama kinozāles jumta atjaunošana un fasādes siltināšana'', Madlienā, Madlienas pagastā, Ogres novadā
A7: Būves nosaukums | C7: =KOPS1!C9 -> Kultūras nama kinozāles jumta atjaunošana un fasādes siltināšana
A8: Objekta adrese | C8: =KOPS1!C10 -> Madliena, Madlienas pagasts, Ogres novads
A9: Pasūtījuma Nr. | C9: =KOPS1!C11 -> 2026-06
A11: Tāme sastādīta 2017. gada tirgus cenās, pamatojoties uz AR, BK, GP daļas rasējumiem. | M11: =P43 -> 0
M13: =KOPS1!F16 -> Tāme sastādīta
A15: Nr. p.k. | B15: Kods | C15: Būvdarbu nosaukums | D15: Mērvienība | E15: Daudzums | F15: Vienības izmaksas | L15: Kopā uz visu apjomu
F16: laika norma (c/h) | G16: darba samaksas likme (euro /h) | H16: darba alga | I16: būvizstrādājumi | J16: mehānismi | K16: Kopā | L16: darbietilpība (c/h) | M16: darba alga | N16: būvizstrādājumi | O16: mehānismi | P16: summa
A17: 1 | B17: 2 | C17: 3 | D17: 4 | E17: 5 | F17: 6 | G17: 7 | H17: 8 | I17: 9 | J17: 10 | K17: 11 | L17: 12 | M17: 13 | N17: 14 | O17: 15 | P17: 16
A43: Tiešās izmaksas kopā, t. sk. darba devēja sociālais nodoklis (23,59%) | L43: =SUM(L19:L42) -> 0 | M43: =SUM(M19:M42) -> 0 | N43: =SUM(N19:N42) -> 0 | O43: =SUM(O19:O42) -> 0 | P43: =SUM(P19:P42) -> 0
A46: ="Sastādīja "&KOPS1!$B$41 -> Sastādīja _________________________ Ainārs Mangulsons /______./
B47: (paraksts un tā atšifrējums, datums)
A48: =KOPS1!$F$16 -> Tāme sastādīta
A51: ="Pārbaudīja "&KOPS1!$B$47 -> Pārbaudīja _________________________ Ainārs Mangulsons /________/
B52: (paraksts un tā atšifrējums, datums)
A53: ="Sertifikāta Nr. "&KOPS1!$B$49 -> Sertifikāta Nr. 1-00841

Sheet Buvlaukums
A1: Lokālā tāme Nr. 1-1
A3: Būvlaukuma sagatavošanas darbi
A4: (Darba veids vai konstruktīvā elementa nosaukums)
A8: Objekta nosaukums | C8: =KOPS1!C8 -> ''Kultūras nama kinozāles jumta atjaunošana un fasādes siltināšana'', Madlienā, Madlienas pagastā, Ogres novadā
A9: Būves nosaukums | C9: =KOPS1!C9 -> Kultūras nama kinozāles jumta atjaunošana un fasādes siltināšana
A10: Objekta adrese | C10: =KOPS1!C10 -> Madliena, Madlienas pagasts, Ogres novads
A11: Pasūtījuma Nr. | C11: 2026-06
A15: Tāme sastādīta 2026. gada tirgus cenās, pamatojoties uz AR, DOP daļas rasējumiem. | M15: =P31 -> 0
M18: =KOPS1!F16 -> Tāme sastādīta
A21: Nr. p.k. | B21: Kods | C21: Būvdarbu nosaukums | D21: Mērvienība | E21: Daudzums | F21: Vienības izmaksas | L21: Kopā uz visu apjomu
F22: laika norma (c/h) | G22: darba samaksas likme (euro /h) | H22: darba alga | I22: materiāli, būvizstrādājumi | J22: mehānismi | K22: Kopā | L22: darbietilpība (c/h) | M22: darba alga | N22: materiāli,būvizstrādājumi | O22: mehānismi | P22: summa
A23: 1 | B23: 2 | C23: 3 | D23: 4 | E23: 5 | F23: 6 | G23: 7 | H23: 8 | I23: 9 | J23: 10 | K23: 11 | L23: 12 | M23: 13 | N23: 14 | O23: 15 | P23: 16
A25: 1 | B25: līg.cena | C25: Pagaidu nožogojuma uzstādīšana un noma | D25: m | E25: 50
A26: =A25+1 -> 2 | B26: līg.cena | C26: Sastatņu montāža, demontāža | D26: m2 | E26: 30
A27: 3 | B27: līg.cena | C27: Sastatņu īre | D27: m2 | E27: 30
A28: 4 | B28: līg.cena | C28: Tualetes uzstādīšana, noma | D28: gab | E28: 1
A29: 5 | B29: līg.cena | C29: Mobīlās sadzīves telpas, noma | D29: gab | E29: 1
A30: 5 | B30: līg.cena | C30: Būvtāfeles uzstādīšana | D30: gab | E30: 1
C31: kopā | L31: =SUM(L25:L29) -> 0 | M31: =SUM(M25:M29) -> 0 | N31: =SUM(N25:N29) -> 0 | O31: =SUM(O25:O29) -> 0 | P31: =SUM(P25:P29) -> 0
A33: Tiešās izmaksas kopā, t. sk. darba devēja sociālais nodoklis (23,59%)
A35: ="Sastādīja "&KOPS1!$B$41 -> Sastādīja _________________________ Ainārs Mangulsons /______./
A36: =KOPS1!$F$16 -> Tāme sastādīta
A38: ="Pārbaudīja "&KOPS1!$B$47 -> Pārbaudīja _________________________ Ainārs Mangulsons /________/
B39: (paraksts un tā atšifrējums, datums)
A40: ="Sertifikāta Nr. "&KOPS1!$B$49 -> Sertifikāta Nr. 1-00841

Sheet Jumts
A1: Lokālā tāme Nr. 1-2
A3: Jumta siltināšana un ieseguma atjaunošana
A4: (Darba veids vai konstruktīvā elementa nosaukums)
A6: Objekta nosaukums | C6: =KOPS1!C8 -> ''Kultūras nama kinozāles jumta atjaunošana un fasādes siltināšana'', Madlienā, Madlienas pagastā, Ogres novadā
A7: Būves nosaukums | C7: =KOPS1!C9 -> Kultūras nama kinozāles jumta atjaunošana un fasādes siltināšana
A8: Objekta adrese | C8: =KOPS1!C10 -> Madliena, Madlienas pagasts, Ogres novads
A9: Pasūtījuma Nr. | C9: 2026-06
A11: Tāme sastādīta 2026. gada tirgus cenās, pamatojoties uz AR daļas rasējumiem. | M11: =P38 -> 0
M13: =KOPS1!F16 -> Tāme sastādīta
A15: Nr. p.k. | B15: Kods | C15: Būvdarbu nosaukums | D15: Mērvienība | E15: Daudzums | F15: Vienības izmaksas | L15: Kopā uz visu apjomu
F16: laika norma (c/h) | G16: darba samaksas likme (euro /h) | H16: darba alga | I16: materiāli,būvizstrādājumi | J16: mehānismi | K16: Kopā | L16: darbietilpība (c/h) | M16: darba alga | N16: materiāli,būvizstrādājumi | O16: mehānismi | P16: summa
A17: 1 | B17: 2 | C17: 3 | D17: 4 | E17: 5 | F17: 6 | G17: 7 | H17: 8 | I17: 9 | J17: 10 | K17: 11 | L17: 12 | M17: 13 | N17: 14 | O17: 15 | P17: 16
A20: 1 | B20: līg.cena | C20: Esošā ruļļveida ruberoīda jumta ieseguma demontāža | D20: m2 | E20: 295
A21: 3 | B21: līg.cena | C21: Demontētā ruberoīda jumta ieseguma utilizācija, nogādāšana uz atkritumu apsaimniekošanas poligonu ( bīstamie atkritumi) | D21: t | E21: 3
A22: 2 | B22: līg.cena | C22: Esošā parapeta skārda demontāža, utilizācija un nogādāšana uz atkritumu apsaimniekošanas poligonu | D22: m | E22: 74.4
A23: 4 | B23: līg.cena | C23: Demontētā skārda utilizācija un nogādāšana uz atkritumu apsaimniekošanas poligonu | D23: t | E23: 0.8
A24: 5 | B24: līg.cena | C24: Būvniecības atkritumu utilizācija un nogādāšana uz atkritumu apsaimniekošanas poligonu | D24: m3 | E24: 5
A25: 6 | B25: līg.cena | C25: Jumta virsmas attīrīšana un izlīdzināšana, bojāto vietu remonts | D25: m2 | E25: 300
A26: 7 | B26: līg.cena | C26: Tvaika izolācijas ieklāšana | D26: m2 | E26: 300
A27: 8 | B27: līg.cena | C27: Siltumizolācijas ( 3 slāņos) montāža 200 mm biezumā pielietojot montāžas dībeļus | D27: m2 | E27: 295
A28: 9 | B28: līg.cena | C28: Jumta vēdināšanas tornīšu montāža | D28: poz. | E28: 4
A29: 10 | B29: līg.cena | C29: Apsildāmā lietus ūdens novaddrenāžas montāža un pieslēgšana pie esošiem elektrības tīkliem | D29: gab. | E29: 2
A30: 11 | B30: līg.cena | C30: Termostata un mitruma sensora uzstādīšana un pieslēgšana tīkliem | D30: gab. | E30: 2
A31: 12 | B31: līg.cena | C31: Esošo ventilācijas izvadu papildus nostiprināšana ar mīksto ruļļveida iesegumu | D31: gab. | E31: 3
... A37: 18 | B37: līg.cena | C37: Ugunsdzēsēju kāpņu montāža (kas izgatavotas no A1 klases ugunsreakcijas materiāliem) | D37: gab. | E37: 1
C38: kopā | L38: =SUM(L27:L37) -> 0 | M38: =SUM(M20:M37) -> 0 | N38: =SUM(N20:N37) -> 0 | O38: =SUM(O20:O37) -> 0 | P38: =SUM(P20:P37) -> 0
A40: Tiešās izmaksas kopā, t. sk. darba devēja sociālais nodoklis (23,59%)
A43: ="Sastādīja "&KOPS1!$B$41 -> Sastādīja _________________________ Ainārs Mangulsons /______./
B44: (paraksts un tā atšifrējums, datums)
A45: =KOPS1!$F$16 -> Tāme sastādīta
A48: ="Pārbaudīja "&KOPS1!$B$47 -> Pārbaudīja _________________________ Ainārs Mangulsons /________/
B49: (paraksts un tā atšifrējums, datums)
A50: ="Sertifikāta Nr. "&KOPS1!$B$49 -> Sertifikāta Nr. 1-00841

Sheet Zibens aizsardzība
A1: Lokālā tāme Nr. 1-3
A3: Zibens aizsardzības sistēmas montāža
A4: (Darba veids vai konstruktīvā elementa nosaukums)
A6: Objekta nosaukums | C6: =KOPS1!C8 -> ''Kultūras nama kinozāles jumta atjaunošana un fasādes siltināšana'', Madlienā, Madlienas pagastā, Ogres novadā
A7: Būves nosaukums | C7: =KOPS1!C9 -> Kultūras nama kinozāles jumta atjaunošana un fasādes siltināšana
A8: Objekta adrese | C8: =KOPS1!C10 -> Madliena, Madlienas pagasts, Ogres novads
A9: Pasūtījuma Nr. | C9: 2026-06
A11: Tāme sastādīta 2026. gada tirgus cenās | M11: =P40 -> 0
M13: =KOPS1!F16 -> Tāme sastādīta
A15: Nr. p.k. | B15: Kods | C15: Būvdarbu nosaukums | D15: Mērvienība | E15: Daudzums | F15: Vienības izmaksas | L15: Kopā uz visu apjomu
F16: laika norma (c/h) | G16: darba samaksas likme (euro /h) | H16: darba alga | I16: materiāli,būvizstrādājumi | J16: mehānismi | K16: Kopā | L16: darbietilpība (c/h) | M16: darba alga | N16: materiāli,būvizstrādājumi | O16: mehānismi | P16: summa
A17: 1 | B17: 2 | C17: 3 | D17: 4 | E17: 5 | F17: 6 | G17: 7 | H17: 8 | I17: 9 | J17: 10 | K17: 11 | L17: 12 | M17: 13 | N17: 14 | O17: 15 | P17: 16
A20: 1 | B20: līg.cena | C20: Zibens uztvērējstienis Ø16/10mm 4.5m, alumīnijs | D20: Gab. | E20: 2
A21: 2 | B21: līg.cena | C21: Masta stiprinājuma komplekts/ kronšteins, slīpam jumtam. | D21: Gab. | E21: 2
A22: 3 | B22: līg.cena | C22: Zemējuma lenta 40x4mm, cinkots tērauds, | D22: m | E22: 30
A23: 4 | B23: līg.cena | C23: Zemējuma stieple Ø10mm | D23: m | E23: 20
A24: 5 | B24: līg.cena | C24: Mērījumu klemme | D24: Gab. | E24: 2
A25: 6 | B25: līg.cena | C25: Potenciālu izlīdzinošā kopne Ø8-10mm/30x5mm | D25: Gab. | E25: 2
A26: 7 | B26: līg.cena | C26: Potenciālu izlīdzinošā kopne PVC korpusā | D26: gab. | E26: 2
A27: 8 | B27: līg.cena | C27: Pievien. klemme zemējuma stienim 8-10/40/20mm | D27: Gab. | E27: 2
A28: 9 | B28: līg.cena | C28: Zemējuma stienis Ø20mm 1.5m ar šlicēm A-tips, c. tērauda | D28: Gab. | E28: 2
A29: 10 | B29: līg.cena | C29: Pievienoj. Klemme apaļdzelzs/apaļdzelzs | D29: Gab. | E29: 2
A30: 11 | B30: līg.cena | C30: Izplešanās elements,Cu, 16 mm², 300 mm | D30: Gab. | E30: 2
A31: 12 | B31: līg.cena | C31: Pievienoj. Klemme apaļdzelzs/plakandzekzs | D31: Gab. | E31: 2
... A39: 20 | B39: līg.cena | C39: Palīgmateriāli, savienojumi | D39: k-ts | E39: 1
L40: =SUM(L24:L38) -> 0 | M40: =SUM(M20:M39) -> 0 | N40: =SUM(N20:N39) -> 0 | O40: =SUM(O20:O39) -> 0 | P40: =SUM(P20:P39) -> 0
A42: Tiešās izmaksas kopā, t. sk. darba devēja sociālais nodoklis (23,59%)
A45: ="Sastādīja "&KOPS1!$B$41 -> Sastādīja _________________________ Ainārs Mangulsons /______./
B46: (paraksts un tā atšifrējums, datums)
A47: =KOPS1!$F$16 -> Tāme sastādīta
A50: ="Pārbaudīja "&KOPS1!$B$47 -> Pārbaudīja _________________________ Ainārs Mangulsons /________/
B51: (paraksts un tā atšifrējums, datums)
A52: ="Sertifikāta Nr. "&KOPS1!$B$49 -> Sertifikāta Nr. 1-00841

Sheet Ārsienas silrināšana
A1: Lokālā tāme Nr. 1-4
A3: Ārsienu siltināšana
A4: (Darba veids vai konstruktīvā elementa nosaukums)
A6: Objekta nosaukums | C6: =KOPS1!C8 -> ''Kultūras nama kinozāles jumta atjaunošana un fasādes siltināšana'', Madlienā, Madlienas pagastā, Ogres novadā
A7: Būves nosaukums | C7: =KOPS1!C9 -> Kultūras nama kinozāles jumta atjaunošana un fasādes siltināšana
A8: Objekta adrese | C8: =KOPS1!C10 -> Madliena, Madlienas pagasts, Ogres novads
A9: Pasūtījuma Nr. | C9: 2026-06
A11: Tāme sastādīta 2026. gada tirgus cenās, pamatojoties uz AR daļas rasējumiem. | M11: =P24 -> 0
M13: =KOPS1!F16 -> Tāme sastādīta
A15: Nr. p.k. | B15: Kods | C15: Būvdarbu nosaukums | D15: Mērvienība | E15: Daudzums | F15: Vienības izmaksas | L15: Kopā uz visu apjomu
F16: laika norma (c/h) | G16: darba samaksas likme (euro /h) | H16: darba alga | I16: materiāli,būvizstrādājumi | J16: mehānismi | K16: Kopā | L16: darbietilpība (c/h) | M16: darba alga | N16: materiāli,būvizstrādājumi | O16: mehānismi | P16: summa
A17: 1 | B17: 2 | C17: 3 | D17: 4 | E17: 5 | F17: 6 | G17: 7 | H17: 8 | I17: 9 | J17: 10 | K17: 11 | L17: 12 | M17: 13 | N17: 14 | O17: 15 | P17: 16
A20: 1 | B20: līg.cena | C20: Fasādes cokola profila elementa montāža (perforēta) | D20: m | E20: 76
A21: 2 | B21: līg.cena | C21: Kinozāles ārsienu esošo fasādes fragmentu siltināšana ar 100 mm cieto minerālvati, pielietojot līmjavu un montāžas dībeļus, armējošā sieta uzlikšana līmjavas slānī un noklāšana ar tonētu dekoratīvo apmetumu | D21: m2 | E21: 363
A22: 3 | B22: līg.cena | C22: Parapeta horizonālās virsmas un iekšējās vertikālās plaknes siltināšana ar 50 mm ekstrudētām putupolistirpla plāksnēm EPS 60, pielietojot līmjavu un montāžas dībeļus | D22: m2 | E22: 82
A23: 4 | B23: līg.cena | C23: Esošā fasādes apakšējās joslas siltināšana ar 75 mm ekstrudētā putupolistirola EPS 60 plāksnēm, pielietojot līmjavu un montāžas dībeļus | D23: m2 | E23: 27
C24: kopā | L24: =SUM(L20:L23) -> 0 | M24: =SUM(M20:M23) -> 0 | N24: =SUM(N20:N23) -> 0 | O24: =SUM(O20:O23) -> 0 | P24: =SUM(P20:P23) -> 0
A26: Tiešās izmaksas kopā, t. sk. darba devēja sociālais nodoklis (23,59%)
A29: ="Sastādīja "&KOPS1!$B$41 -> Sastādīja _________________________ Ainārs Mangulsons /______./
B30: (paraksts un tā atšifrējums, datums)
A31: =KOPS1!$F$16 -> Tāme sastādīta
A34: ="Pārbaudīja "&KOPS1!$B$47 -> Pārbaudīja _________________________ Ainārs Mangulsons /________/
B35: (paraksts un tā atšifrējums, datums)
A36: ="Sertifikāta Nr. "&KOPS1!$B$49 -> Sertifikāta Nr. 1-00841
