Workbook

Sheet SA
A1: EKONOMISKĀ DAĻA SKAIDROJOŠS APRAKSTS
A2: Būvdarbu apjomi ir noteikti būvprojekta daļās grafiskajos risinājumos, aprakstošajā daļā un apkopoti ekonomiskajā daļā.
A3: Gadījumā, ja projekta daļās ir savstarpējas neprecizitātes , risināt autoruzraudzības kārtībā, katru gadījumu atsevišķi kopā ar būvprojekta autoru.
A5: 1. Būvdarbu izpildes un visu apstākļu (tai skaitā apgrūtinošo) raksturojums.
A6: Būvdarbu izpildes un apstākļu raksturojumus skatīt, katra būvprojekta sadaļās.
A8: 2. Būvdarbu organizācijas īss apraksts.
A9: Skatīt būvprojekta skaidrojošo aprakstu sadaļā "Darbu organizācijas apraksts". Kā arī katru būprojekta sadaļu aprakstus.
A11: 3. Būvdarbu darbietilpība.
A12: Kopumā, būvobjekta būvniecībai no būvlaukuma iekārtošanas līdz objekta nodošanai,
A13: būvniecības darbu darbietilpība ir | D13: =KA1!E11 -> 3342.02 | E13: c/h.
A14: Aprēķinātā darbietilpība sadalāma plānotajā būvniecības darbu laika grafikā . | N14: =#REF! -> #REF!
A15: Laika grafiku izstrādāt Būvuzņēmējam saskaņot ar Pasūtītāju, autoruzraugu un būvuzraugu. | N15: =KA1!E11 -> 3342.02
N16: =#REF! -> #REF!
A17: 4. Tāmes ekonomiskās bāzes nosacījumu norādes. | N17: =#REF! -> #REF!
A18: Darba samaksas likme - | C18: 18 | D18: EUR/h, tai skaitā Darba dēvēja sociālais nodoklis | I18: 0.2359 | N18: =#REF! -> #REF!
A19: Virsizdevumi - | B19: =KT!E17 -> 0.08 | C19: ,tai skaitā objekta uzsākšanas, vadības un nodošanas izmaksas. | N19: =SUM(N14:N18) -> #REF!
A21: - Montāžas darbi un pārbaude veicama saskaņā ar būvnormatīviem, kā arī ievērojot materiālu un iekārtu piegādātāju firmu tehniskos norādījumus. - Būvuzņēmējam pirms materiālu un konstrukciju pasūtīšanas un izgatavošanas veikt visu izmēru un piesaistu kontrolizmērījumus objektā. - Sastādot būvdarbu tāmi, jāaplūko būvprojekta dokumentācija kopumā ne tikai materiālu specifikācijas. Projekta lapās un specifikācijās norādīti provizoriskie darbu un apjomu materiāli un izmēri, kādus varēja konstatēt projektēšanas gaitā, veicot apsekošanu un izpētes. Darbu realizācijas gaitā izmēri un apjomi var mainīties. - Visus projektā norādītos materiālus var aizstāt ar citiem ekvivalentiem, Latvijā sertificētiem, attiecīgas nozīmes materiāliem, kuru kvalitāte nav zemāka par projektā norādītajiem. Materiālu vai izstrādājumu nomaiņa saskaņojama ar projekta izstrādātāju un pasūtītāju. - Būvuzņēmējam pirms jebkuru darbu uzsākšanas jāiepazīstas ar rasējumos sniegtajiem izmēriem un jāpārbauda iepriekš izbūvēto vai esošo konstrukciju dimensijas un stāvoklis, kā arī jāinformē projekta izstrādātājs, ja konstatētas nepildnības vai trūkumi.
A23: =PKT!A28 -> Sastādīja: Uģis Šēnbergs | G23: =G27 -> 2024. gada 16.septembrī
A24: =PKT!A29 -> (paraksts un tā atšifrējums, datums)
A25: =PKT!A30 -> Sertifikāta Nr.1-00103
A27: =PKT!A32 -> Pārbaudīja: Uģis Šēnbergs | G27: =PKT!C32 -> 2024. gada 16.septembrī
A28: =PKT!A33 -> (paraksts un tā atšifrējums, datums)
A29: =PKT!A34 -> Sertifikāta Nr.1-00103

Sheet PKT
C2: APSTIPRINU_________________________________
C3: (pasūtītāja paraksts un tā atšifrējums)
C4: Z.V.
C5: ___.gada ___.______________
A7: Paredzamās līgumcenas koptāme
A9: Objekta nosaukums: | B9: =KT!B9 -> Valsts robežsardzes koledžas Sporta kompleksa ēkas jumta atjaunošana
A10: Būves nosaukums: | B10: =KT!B10 -> Valsts robežsardzes koledžas Sporta kompleksa ēkas jumta atjaunošana
A11: Objekta adrese: | B11: =KT!B11 -> Zavoloko iela 8, Rēzekne, LV-4601
A12: Pasūtījuma nr.: | B12: =KT!B12 -> ___
A14: Nr.p.k. | B14: Objekta nosaukums | C14: Objekta izmaksas (euro)
A15: 1 | B15: =KT!B15 -> Valsts robežsardzes koledžas Sporta kompleksa ēkas jumta atjaunošana | C15: =KT!C15 -> 359643.19
B16: Kopā | C16: =SUM(C15:C15) -> 359643.19
A18: Finanšu rezerve neparedzētiem darbiem (5%) | C18: =ROUND(C16*5%,2) -> 17982.16
A19: PVN (21%) | C19: =ROUND(C16*21%+C18*21%,2) -> 79301.32
A20: Pavisam būvniecības izmaksas | C20: =C16+C18+C19 -> 456926.67
A21: Ar būvniecību saistītie pārējie izdevumi:
A22: būvuzraudzība
A23: būvprojekta autoruzraudzība
A24: izpētes un projektēšanas darbi
A25: Kopā
A28: =KT!A21 -> Sastādīja: Uģis Šēnbergs | C28: =C32 -> 2024. gada 16.septembrī
A29: =KT!A22 -> (paraksts un tā atšifrējums, datums)
A30: =KT!A23 -> Sertifikāta Nr.1-00103
A32: =KT!A25 -> Pārbaudīja: Uģis Šēnbergs | C32: =KT!C25 -> 2024. gada 16.septembrī
A33: =KT!A26 -> (paraksts un tā atšifrējums, datums)
A34: =KT!A27 -> Sertifikāta Nr.1-00103

Sheet KT
C2: APSTIPRINU_________________________________
C3: (pasūtītāja paraksts un tā atšifrējums)
C4: Z.V.
C5: ___.gada ___.______________
A7: Būvniecības koptāme
A9: Objekta nosaukums: | B9: Valsts robežsardzes koledžas Sporta kompleksa ēkas jumta atjaunošana
A10: Būves nosaukums: | B10: Valsts robežsardzes koledžas Sporta kompleksa ēkas jumta atjaunošana
A11: Objekta adrese: | B11: Zavoloko iela 8, Rēzekne, LV-4601
A12: Pasūtījuma nr.: | B12: ___
A14: Nr.p.k. | B14: Objekta nosaukums | C14: Objekta izmaksas (euro)
A15: 1 | B15: Valsts robežsardzes koledžas Sporta kompleksa ēkas jumta atjaunošana | C15: =KA1!E22 -> 359643.19
B16: Kopā | C16: =SUM(C15:C15) -> 359643.19
D17: Virsizdevumi | E17: 0.08
A18: PVN (21%) | C18: =ROUND(C16*21%,2) -> 75525.07 | D18: DA | E18: 0.05
D19: Peļņa | E19: 0.07
D20: Likme | E20: 15
A21: Sastādīja: Uģis Šēnbergs | C21: =C25 -> 2024. gada 16.septembrī
A22: (paraksts un tā atšifrējums, datums)
A23: Sertifikāta Nr.1-00103
A25: Pārbaudīja: Uģis Šēnbergs | C25: 2024. gada 16.septembrī
A26: (paraksts un tā atšifrējums, datums)
A27: Sertifikāta Nr.1-00103

Sheet KA1
A2: Kopsavilkuma aprēķins Nr.1
A3: =KT!B15 -> Valsts robežsardzes koledžas Sporta kompleksa ēkas jumta atjaunošana
A4: (būvdarbu veids vai konstruktīvā elementa nosaukums)
A6: Objekta nosaukums: | C6: =KT!B9 -> Valsts robežsardzes koledžas Sporta kompleksa ēkas jumta atjaunošana
A7: Būves nosaukums: | C7: =KT!B10 -> Valsts robežsardzes koledžas Sporta kompleksa ēkas jumta atjaunošana
A8: Objekta adrese: | C8: =KT!B11 -> Zavoloko iela 8, Rēzekne, LV-4601
A9: Pasūtījuma nr.: | C9: =KT!B12 -> ___
C10: Par kopējo summu (euro) | E10: =E22 -> 359643.19
C11: Kopējā darbietilpība (c/h) | E11: =SUM(I14:I16) -> 3342.02
A12: Nr.p.k. | B12: kods, tāmes nr. | C12: Būvdarbu veids vai konstruktīvā elementa nosaukums | E12: Tāmes izmaksas | F12: Tai skaitā | I12: Darbietilpība (c/h)
F13: Darba alga | G13: Būvizstrādājumi | H13: Mehānismi
A14: 1 | B14: 1.1 | C14: Būvlaukuma ierīkošana un uzturēšana | E14: =SUM(F14:H14) -> 29076.88 | F14: ='1.1'!M47 -> 13777.74 | G14: ='1.1'!N47 -> 5759.22 | H14: ='1.1'!O47 -> 9539.92 | I14: =ROUND(F14/likme,2) -> 918.52
A15: 2 | B15: 1.2 | C15: Iekšējie darbi | E15: =SUM(F15:H15) -> 3553.2 | F15: ='1.2'!M32 -> 2142 | G15: ='1.2'!N32 -> 1302 | H15: ='1.2'!O32 -> 109.2 | I15: =ROUND(F15/likme,2) -> 142.8
A16: 3 | B16: 1.3 | C16: Ārējie darbi | E16: ='1.3'!P42 -> 275728.11 | F16: ='1.3'!M42 -> 41052.6 | G16: ='1.3'!N42 -> 187515.57 | H16: ='1.3'!O42 -> 5996.2 | I16: ='1.3'!L42 -> 2280.7
A17: 4 | B17: 1.4 | C17: Zibensaizsardzība un zemējums | E17: =SUM(F17:H17) -> 4375.02 | F17: ='1.4'!M28 -> 2025.36 | G17: ='1.4'!N28 -> 2203.1 | H17: ='1.4'!O28 -> 146.56 | I17: ='1.4'!L28 -> 108.12
A18: Kopā | E18: =SUM(E14:E17) -> 312733.21
A19: Virsizdevumi | D19: =KT!E17 -> 0.08 | E19: =ROUND(E18*D19,2) -> 25018.66
A20: t.sk. Darba aizsardzība | D20: =KT!E18 -> 0.05 | E20: =ROUND(E19*D20,2) -> 1250.93
A21: Peļņa | D21: =KT!E19 -> 0.07 | E21: =ROUND(E18*D21,2) -> 21891.32
A22: Pavisam kopā | E22: =ROUND(E18+E19+E21,2) -> 359643.19
A24: =KT!A21 -> Sastādīja: Uģis Šēnbergs | E24: =KT!C25 -> 2024. gada 16.septembrī
A25: (paraksts un tā atšifrējums, datums)
A26: =KT!A23 -> Sertifikāta Nr.1-00103
A28: =KT!A25 -> Pārbaudīja: Uģis Šēnbergs | E28: =KT!C25 -> 2024. gada 16.septembrī
A29: (paraksts un tā atšifrējums, datums)
A30: =KT!A27 -> Sertifikāta Nr.1-00103

Sheet 1.1
A2: Būvdarbu apjomu saraksts Nr. 1.1
A3: =KA1!C14 -> Būvlaukuma ierīkošana un uzturēšana
A4: (būvdarbu veids vai konstruktīvā elementa nosaukums)
A6: Objekta nosaukums: | C6: =KT!B9 -> Valsts robežsardzes koledžas Sporta kompleksa ēkas jumta atjaunošana
A7: Būves nosaukums: | C7: =KT!B10 -> Valsts robežsardzes koledžas Sporta kompleksa ēkas jumta atjaunošana
A8: Objekta adrese: | C8: =KT!B11 -> Zavoloko iela 8, Rēzekne, LV-4601
A9: Pasūtījuma nr.: | C9: =KT!B12 -> ___
A11: Tāme sastādīta 2024. gada tirgus cenās, pamatojoties uz būvprojekta rasējumiem | M11: Tāmes izmaksas: | O11: =P47 -> 29076.88 | P11: EUR
N12: Tāme sastādītā | O12: =KT!C25 -> 2024. gada 16.septembrī
A14: Nr.p.k. | B14: Kods | C14: Būvdarbu nosaukums | D14: Mērvienība | E14: Daudzums | F14: Vienības izmaksas | L14: Kopā uz visu apjomu
F15: Laika norma (c/h) | G15: Darba samaksas likme (euro/h) | H15: Darba alga | I15: Būvizstrādājumi | J15: Mehānismi | K15: KOPĀ | L15: Darbietilpība (c/h) | M15: Darba alga | N15: Būvizstrādājumi | O15: Mehānismi | P15: Summa
C16: Būvlaukuma ierīkošana un uzturēšana
A17: 1 | C17: Pagaidu žoga uzstādīšana un demontāža pēc būvdarbu pabeigšanas, t.sk. nosegšana ar aizsegplēvi | D17: t.m. | E17: 246 | F17: 0.3 | G17: 18 | H17: =ROUND(F17*G17,2) -> 5.4 | I17: 1.62 | J17: 0.24 | K17: =ROUND((SUM(H17:J17)),2) -> 7.26 | L17: =ROUND(E17*F17,2) -> 73.8 | M17: =ROUND(E17*H17,2) -> 1328.4 | N17: =ROUND(E17*I17,2) -> 398.52 | O17: =ROUND(E17*J17,2) -> 59.04 | P17: =ROUND((SUM(M17:O17)),2) -> 1785.96
A18: 2 | C18: Pagaidu žoga noma | D18: mēn. | E18: 6 | F18: 0 | G18: 0 | H18: =ROUND(F18*G18,2) -> 0 | I18: 0 | J18: 126 | K18: =ROUND((SUM(H18:J18)),2) -> 126 | L18: =ROUND(E18*F18,2) -> 0 | M18: =ROUND(E18*H18,2) -> 0 | N18: =ROUND(E18*I18,2) -> 0 | O18: =ROUND(E18*J18,2) -> 756 | P18: =ROUND((SUM(M18:O18)),2) -> 756
A19: 3 | C19: Pagaidu žoga atvešana, aizvešana | D19: reisi | E19: 2 | F19: 0 | G19: 0 | H19: =ROUND(F19*G19,2) -> 0 | I19: 0 | J19: 84 | K19: =ROUND((SUM(H19:J19)),2) -> 84 | L19: =ROUND(E19*F19,2) -> 0 | M19: =ROUND(E19*H19,2) -> 0 | N19: =ROUND(E19*I19,2) -> 0 | O19: =ROUND(E19*J19,2) -> 168 | P19: =ROUND((SUM(M19:O19)),2) -> 168
A20: 4 | C20: Iebraucamo vārtu uzstādīšana un demontāža pēc būvdarbu pabeigšanas | D20: gab. | E20: 1 | F20: 8.5 | G20: 18 | H20: =ROUND(F20*G20,2) -> 153 | I20: 190 | J20: 28 | K20: =ROUND((SUM(H20:J20)),2) -> 371 | L20: =ROUND(E20*F20,2) -> 8.5 | M20: =ROUND(E20*H20,2) -> 153 | N20: =ROUND(E20*I20,2) -> 190 | O20: =ROUND(E20*J20,2) -> 28 | P20: =ROUND((SUM(M20:O20)),2) -> 371
A21: 5 | C21: Būvdarbu vadītāja moduļa uzstādīšana, t.sk. atvešana, aizvešana | D21: gab. | E21: 1 | F21: 2 | G21: 18 | H21: =ROUND(F21*G21,2) -> 36 | I21: 0 | J21: 144 | K21: =ROUND((SUM(H21:J21)),2) -> 180 | L21: =ROUND(E21*F21,2) -> 2 | M21: =ROUND(E21*H21,2) -> 36 | N21: =ROUND(E21*I21,2) -> 0 | O21: =ROUND(E21*J21,2) -> 144 | P21: =ROUND((SUM(M21:O21)),2) -> 180
A22: 6 | C22: Būvdarbu vadītāja moduļa noma | D22: mēn. | E22: =E$18 -> 6 | F22: 0 | G22: 0 | H22: =ROUND(F22*G22,2) -> 0 | I22: 0 | J22: 144 | K22: =ROUND((SUM(H22:J22)),2) -> 144 | L22: =ROUND(E22*F22,2) -> 0 | M22: =ROUND(E22*H22,2) -> 0 | N22: =ROUND(E22*I22,2) -> 0 | O22: =ROUND(E22*J22,2) -> 864 | P22: =ROUND((SUM(M22:O22)),2) -> 864
A23: 7 | C23: Strādnieku moduļa uzstādīšana, t.sk. atvešana, aizvešana | D23: gab. | E23: 1 | F23: 2 | G23: 18 | H23: =ROUND(F23*G23,2) -> 36 | I23: 0 | J23: 144 | K23: =ROUND((SUM(H23:J23)),2) -> 180 | L23: =ROUND(E23*F23,2) -> 2 | M23: =ROUND(E23*H23,2) -> 36 | N23: =ROUND(E23*I23,2) -> 0 | O23: =ROUND(E23*J23,2) -> 144 | P23: =ROUND((SUM(M23:O23)),2) -> 180
A24: 8 | C24: Strādnieku moduļa noma | D24: mēn. | E24: =E18 -> 6 | F24: 0 | G24: 0 | H24: =ROUND(F24*G24,2) -> 0 | I24: 0 | J24: 136 | K24: =ROUND((SUM(H24:J24)),2) -> 136 | L24: =ROUND(E24*F24,2) -> 0 | M24: =ROUND(E24*H24,2) -> 0 | N24: =ROUND(E24*I24,2) -> 0 | O24: =ROUND(E24*J24,2) -> 816 | P24: =ROUND((SUM(M24:O24)),2) -> 816
A25: 9 | C25: Noliktavas moduļa uzstādīšana, t.sk. atvešana, aizvešana | D25: gab. | E25: 1 | F25: 2 | G25: 18 | H25: =ROUND(F25*G25,2) -> 36 | I25: 0 | J25: 144 | K25: =ROUND((SUM(H25:J25)),2) -> 180 | L25: =ROUND(E25*F25,2) -> 2 | M25: =ROUND(E25*H25,2) -> 36 | N25: =ROUND(E25*I25,2) -> 0 | O25: =ROUND(E25*J25,2) -> 144 | P25: =ROUND((SUM(M25:O25)),2) -> 180
A26: 10 | C26: Noliktavas moduļa noma | D26: mēn. | E26: =E18 -> 6 | F26: 0 | G26: 0 | H26: =ROUND(F26*G26,2) -> 0 | I26: 0 | J26: 112 | K26: =ROUND((SUM(H26:J26)),2) -> 112 | L26: =ROUND(E26*F26,2) -> 0 | M26: =ROUND(E26*H26,2) -> 0 | N26: =ROUND(E26*I26,2) -> 0 | O26: =ROUND(E26*J26,2) -> 672 | P26: =ROUND((SUM(M26:O26)),2) -> 672
A27: 11 | C27: Pārvietojamās WC uzstādīšana, t.sk. atvešana, aizvešana | D27: gab. | E27: 1 | F27: 1 | G27: 18 | H27: =ROUND(F27*G27,2) -> 18 | I27: 0 | J27: 32 | K27: =ROUND((SUM(H27:J27)),2) -> 50 | L27: =ROUND(E27*F27,2) -> 1 | M27: =ROUND(E27*H27,2) -> 18 | N27: =ROUND(E27*I27,2) -> 0 | O27: =ROUND(E27*J27,2) -> 32 | P27: =ROUND((SUM(M27:O27)),2) -> 50
A28: 12 | C28: Pārvietojamās WC noma un apkalpošana | D28: mēn. | E28: =E18 -> 6 | F28: 0 | G28: 0 | H28: =ROUND(F28*G28,2) -> 0 | I28: 0 | J28: 48 | K28: =ROUND((SUM(H28:J28)),2) -> 48 | L28: =ROUND(E28*F28,2) -> 0 | M28: =ROUND(E28*H28,2) -> 0 | N28: =ROUND(E28*I28,2) -> 0 | O28: =ROUND(E28*J28,2) -> 288 | P28: =ROUND((SUM(M28:O28)),2) -> 288
A29: 13 | C29: EDLUS sistēmas uzstādīšana | D29: obj. | E29: 1 | F29: 20 | G29: 18 | H29: =ROUND(F29*G29,2) -> 360 | I29: 807.5 | J29: 40 | K29: =ROUND((SUM(H29:J29)),2) -> 1207.5 | L29: =ROUND(E29*F29,2) -> 20 | M29: =ROUND(E29*H29,2) -> 360 | N29: =ROUND(E29*I29,2) -> 807.5 | O29: =ROUND(E29*J29,2) -> 40 | P29: =ROUND((SUM(M29:O29)),2) -> 1207.5
A30: 14 | C30: EDLUS sistēmas apkalpošana | D30: mēn. | E30: =E18 -> 6 | F30: 5 | G30: 18 | H30: =ROUND(F30*G30,2) -> 90 | I30: 0 | J30: 20 | K30: =ROUND((SUM(H30:J30)),2) -> 110 | L30: =ROUND(E30*F30,2) -> 30 | M30: =ROUND(E30*H30,2) -> 540 | N30: =ROUND(E30*I30,2) -> 0 | O30: =ROUND(E30*J30,2) -> 120 | P30: =ROUND((SUM(M30:O30)),2) -> 660
A31: 15 | C31: Ugunsdzēsības stenda ar aprīkojumu uzstādīšana | D31: gab. | E31: 1 | F31: 3 | G31: 18 | H31: =ROUND(F31*G31,2) -> 54 | I31: 437 | J31: 8 | K31: =ROUND((SUM(H31:J31)),2) -> 499 | L31: =ROUND(E31*F31,2) -> 3 | M31: =ROUND(E31*H31,2) -> 54 | N31: =ROUND(E31*I31,2) -> 437 | O31: =ROUND(E31*J31,2) -> 8 | P31: =ROUND((SUM(M31:O31)),2) -> 499
A32: 16 | C32: Būvtāfeles izgatavošana, piegāde un uzstādīšana | D32: gab. | E32: 1 | F32: 2 | G32: 18 | H32: =ROUND(F32*G32,2) -> 36 | I32: 166.25 | J32: 4 | K32: =ROUND((SUM(H32:J32)),2) -> 206.25 | L32: =ROUND(E32*F32,2) -> 2 | M32: =ROUND(E32*H32,2) -> 36 | N32: =ROUND(E32*I32,2) -> 166.25 | O32: =ROUND(E32*J32,2) -> 4 | P32: =ROUND((SUM(M32:O32)),2) -> 206.25
A33: 17 | C33: Pirmās palīdzības vietas ar aprīkojumu, drošības, brīdinājuma zīmju uzstādīšana | D33: kompl. | E33: 1 | F33: 10 | G33: 18 | H33: =ROUND(F33*G33,2) -> 180 | I33: 185.25 | J33: 4 | K33: =ROUND((SUM(H33:J33)),2) -> 369.25 | L33: =ROUND(E33*F33,2) -> 10 | M33: =ROUND(E33*H33,2) -> 180 | N33: =ROUND(E33*I33,2) -> 185.25 | O33: =ROUND(E33*J33,2) -> 4 | P33: =ROUND((SUM(M33:O33)),2) -> 369.25
A34: 18 | C34: Videonovērošanas sistēmas ierīkošana un apkalpošana | D34: mēn. | E34: =E18 -> 6 | F34: 8 | G34: 18 | H34: =ROUND(F34*G34,2) -> 144 | I34: 142.5 | J34: 56 | K34: =ROUND((SUM(H34:J34)),2) -> 342.5 | L34: =ROUND(E34*F34,2) -> 48 | M34: =ROUND(E34*H34,2) -> 864 | N34: =ROUND(E34*I34,2) -> 855 | O34: =ROUND(E34*J34,2) -> 336 | P34: =ROUND((SUM(M34:O34)),2) -> 2055
A35: 19 | C35: Apgaismes prožektoru uz stabiem montāža, t.sk. kabeļu instalācija, pieslēgšana elektroapgādes sistēmai | D35: gab. | E35: 19 | F35: 3 | G35: 18 | H35: =ROUND(F35*G35,2) -> 54 | I35: 109.25 | J35: 4 | K35: =ROUND((SUM(H35:J35)),2) -> 167.25 | L35: =ROUND(E35*F35,2) -> 57 | M35: =ROUND(E35*H35,2) -> 1026 | N35: =ROUND(E35*I35,2) -> 2075.75 | O35: =ROUND(E35*J35,2) -> 76 | P35: =ROUND((SUM(M35:O35)),2) -> 3177.75
A36: 20 | C36: Pagaidu ūdensvada pieslēguma izveide | D36: obj. | E36: 1 | F36: 16 | G36: 18 | H36: =ROUND(F36*G36,2) -> 288 | I36: 114 | J36: 16 | K36: =ROUND((SUM(H36:J36)),2) -> 418 | L36: =ROUND(E36*F36,2) -> 16 | M36: =ROUND(E36*H36,2) -> 288 | N36: =ROUND(E36*I36,2) -> 114 | O36: =ROUND(E36*J36,2) -> 16 | P36: =ROUND((SUM(M36:O36)),2) -> 418
A37: 21 | C37: Pagaidu elektrības pieslēguma ar skaitītāju izveide, elektrosadales uzstādīšana | D37: obj. | E37: 1 | F37: 14 | G37: 18 | H37: =ROUND(F37*G37,2) -> 252 | I37: 218.5 | J37: 24 | K37: =ROUND((SUM(H37:J37)),2) -> 494.5 | L37: =ROUND(E37*F37,2) -> 14 | M37: =ROUND(E37*H37,2) -> 252 | N37: =ROUND(E37*I37,2) -> 218.5 | O37: =ROUND(E37*J37,2) -> 24 | P37: =ROUND((SUM(M37:O37)),2) -> 494.5
A38: 22 | C38: Citas ar būvlaukuma ierīkošanu un uzturēšanu saistītās izmaksas | D38: obj. | E38: 1 | F38: 13.08 | G38: 18 | H38: =ROUND(F38*G38,2) -> 235.44 | I38: 267.43 | J38: 233.68 | K38: =ROUND((SUM(H38:J38)),2) -> 736.55 | L38: =ROUND(E38*F38,2) -> 13.08 | M38: =ROUND(E38*H38,2) -> 235.44 | N38: =ROUND(E38*I38,2) -> 267.43 | O38: =ROUND(E38*J38,2) -> 233.68 | P38: =ROUND((SUM(M38:O38)),2) -> 736.55
A39: 23 | C39: Elektroenerģijas patēriņa izmaksas | D39: mēn. | E39: =E18 -> 6 | F39: 0 | G39: 0 | H39: =ROUND(F39*G39,2) -> 0 | I39: 0 | J39: 192 | K39: =ROUND((SUM(H39:J39)),2) -> 192 | L39: =ROUND(E39*F39,2) -> 0 | M39: =ROUND(E39*H39,2) -> 0 | N39: =ROUND(E39*I39,2) -> 0 | O39: =ROUND(E39*J39,2) -> 1152 | P39: =ROUND((SUM(M39:O39)),2) -> 1152
A40: 24 | C40: Ūdens patēriņa izmaksas | D40: mēn. | E40: =E18 -> 6 | F40: 0 | G40: 0 | H40: =ROUND(F40*G40,2) -> 0 | I40: 0 | J40: 48 | K40: =ROUND((SUM(H40:J40)),2) -> 48 | L40: =ROUND(E40*F40,2) -> 0 | M40: =ROUND(E40*H40,2) -> 0 | N40: =ROUND(E40*I40,2) -> 0 | O40: =ROUND(E40*J40,2) -> 288 | P40: =ROUND((SUM(M40:O40)),2) -> 288
A41: 25 | C41: Telpu ģenerāltīrīšana pēc būvdarbu pabeigšanas | D41: m2 | E41: 2501 | F41: 0.15 | G41: 18 | H41: =ROUND(F41*G41,2) -> 2.7 | I41: 0 | J41: 0.4 | K41: =ROUND((SUM(H41:J41)),2) -> 3.1 | L41: =ROUND(E41*F41,2) -> 375.15 | M41: =ROUND(E41*H41,2) -> 6752.7 | N41: =ROUND(E41*I41,2) -> 0 | O41: =ROUND(E41*J41,2) -> 1000.4 | P41: =ROUND((SUM(M41:O41)),2) -> 7753.1
A42: 26 | C42: Būvgružu savākšana, būvgružu konteinera īre (8m3), izvešana un utilizācija būvdarbu laikā | D42: gab. | E42: =ROUND(E18*1,1) -> 6 | F42: 4 | G42: 18 | H42: =ROUND(F42*G42,2) -> 72 | I42: 0 | J42: 192 | K42: =ROUND((SUM(H42:J42)),2) -> 264 | L42: =ROUND(E42*F42,2) -> 24 | M42: =ROUND(E42*H42,2) -> 432 | N42: =ROUND(E42*I42,2) -> 0 | O42: =ROUND(E42*J42,2) -> 1152 | P42: =ROUND((SUM(M42:O42)),2) -> 1584
A43: 27 | C43: Sastatņu montāža un demontāža | D43: m2 | E43: 142 | F43: 0.45 | G43: 18 | H43: =ROUND(F43*G43,2) -> 8.1 | I43: 0.31 | J43: 0.2 | K43: =ROUND((SUM(H43:J43)),2) -> 8.61 | L43: =ROUND(E43*F43,2) -> 63.9 | M43: =ROUND(E43*H43,2) -> 1150.2 | N43: =ROUND(E43*I43,2) -> 44.02 | O43: =ROUND(E43*J43,2) -> 28.4 | P43: =ROUND((SUM(M43:O43)),2) -> 1222.62
A44: 28 | C44: Sastatņu piegāde, aizvešana ar manipulatoru | D44: reisi | E44: 2 | F44: 0 | G44: =IF(F44>0,likme,0) -> 0 | H44: =ROUND(F44*G44,2) -> 0 | I44: 0 | J44: 137.5 | K44: =ROUND((SUM(H44:J44)),2) -> 137.5 | L44: =ROUND(E44*F44,2) -> 0 | M44: =ROUND(E44*H44,2) -> 0 | N44: =ROUND(E44*I44,2) -> 0 | O44: =ROUND(E44*J44,2) -> 275 | P44: =ROUND((SUM(M44:O44)),2) -> 275
A45: 29 | C45: Sastatņu noma | D45: m2 | E45: =E43 -> 142 | F45: 0 | G45: =IF(F45>0,likme,0) -> 0 | H45: =ROUND(F45*G45,2) -> 0 | I45: 0 | J45: 4.7 | K45: =ROUND((SUM(H45:J45)),2) -> 4.7 | L45: =ROUND(E45*F45,2) -> 0 | M45: =ROUND(E45*H45,2) -> 0 | N45: =ROUND(E45*I45,2) -> 0 | O45: =ROUND(E45*J45,2) -> 667.4 | P45: =ROUND((SUM(M45:O45)),2) -> 667.4
A47: Tiešās izmaksas kopā, t.sk. Darba dēvēja sociālais nodoklis (23,59%) | L47: =SUM(L16:L46) -> 765.43 | M47: =SUM(M17:M45) -> 13777.74 | N47: =SUM(N16:N46) -> 5759.22 | O47: =SUM(O16:O46) -> 9539.92 | P47: =SUM(P16:P46) -> 29076.88
A49: =KT!A21 -> Sastādīja: Uģis Šēnbergs | D49: =KT!C25 -> 2024. gada 16.septembrī
A50: (paraksts un tā atšifrējums, datums)
A51: =KT!A23 -> Sertifikāta Nr.1-00103
A53: =KT!A25 -> Pārbaudīja: Uģis Šēnbergs | D53: =KT!C25 -> 2024. gada 16.septembrī
A54: (paraksts un tā atšifrējums, datums)
A55: =KT!A27 -> Sertifikāta Nr.1-00103

Sheet 1.2
A2: Būvdarbu apjomu saraksts Nr. 1.2
A3: =KA1!C15 -> Iekšējie darbi
A4: (būvdarbu veids vai konstruktīvā elementa nosaukums)
A6: Objekta nosaukums: | C6: =KT!B9 -> Valsts robežsardzes koledžas Sporta kompleksa ēkas jumta atjaunošana
A7: Būves nosaukums: | C7: =KT!B10 -> Valsts robežsardzes koledžas Sporta kompleksa ēkas jumta atjaunošana
A8: Objekta adrese: | C8: =KT!B11 -> Zavoloko iela 8, Rēzekne, LV-4601
A9: Pasūtījuma nr.: | C9: =KT!B12 -> ___
A11: Tāme sastādīta 2024. gada tirgus cenās, pamatojoties uz būvprojekta rasējumiem | M11: Tāmes izmaksas: | O11: =P32 -> 6724.87 | P11: EUR
N12: Tāme sastādītā | O12: =KT!C25 -> 2024. gada 16.septembrī
A14: Nr.p.k. | B14: Kods | C14: Būvdarbu nosaukums | D14: Mērvienība | E14: Daudzums | F14: Vienības izmaksas | L14: Kopā uz visu apjomu
F15: Laika norma (c/h) | G15: Darba samaksas likme (euro/h) | H15: Darba alga | I15: Būvizstrādājumi | J15: Mehānismi | K15: KOPĀ | L15: Darbietilpība (c/h) | M15: Darba alga | N15: Būvizstrādājumi | O15: Mehānismi | P15: Summa
A16: 1 | C16: Sagatavošanas un demontāžas darbi
A17: 2 | C17: Sastatņu montāža un demontāža | D17: m2 | E17: 25 | F17: 0.45 | G17: 18 | H17: =ROUND(F17*G17,2) -> 8.1 | I17: 0.31 | J17: 0.2 | K17: =ROUND((SUM(H17:J17)),2) -> 8.61 | L17: =ROUND(E17*F17,2) -> 11.25 | M17: =ROUND(E17*H17,2) -> 202.5 | N17: =ROUND(E17*I17,2) -> 7.75 | O17: =ROUND(E17*J17,2) -> 5 | P17: =ROUND((SUM(M17:O17)),2) -> 215.25
A18: 3 | C18: Sastatņu piegāde, aizvešana ar manipulatoru | D18: reisi | E18: 2 | F18: 0 | G18: =IF(F18>0,likme,0) -> 0 | H18: =ROUND(F18*G18,2) -> 0 | I18: 0 | J18: 137.5 | K18: =ROUND((SUM(H18:J18)),2) -> 137.5 | L18: =ROUND(E18*F18,2) -> 0 | M18: =ROUND(E18*H18,2) -> 0 | N18: =ROUND(E18*I18,2) -> 0 | O18: =ROUND(E18*J18,2) -> 275 | P18: =ROUND((SUM(M18:O18)),2) -> 275
A19: 4 | C19: Sastatņu noma | D19: m2 | E19: =E17 -> 25 | F19: 0 | G19: =IF(F19>0,likme,0) -> 0 | H19: =ROUND(F19*G19,2) -> 0 | I19: 0 | J19: 4.7 | K19: =ROUND((SUM(H19:J19)),2) -> 4.7 | L19: =ROUND(E19*F19,2) -> 0 | M19: =ROUND(E19*H19,2) -> 0 | N19: =ROUND(E19*I19,2) -> 0 | O19: =ROUND(E19*J19,2) -> 117.5 | P19: =ROUND((SUM(M19:O19)),2) -> 117.5
A20: 5 | C20: Demontāžas darbi
A21: 6 | C21: Esošā ģipškartona apdares demontāža, būvgružu savākšana, iekraušana konteinerā, izvešana un utilizācija | D21: m2 | E21: 108 | F21: 0.5 | G21: 18 | H21: =ROUND(F21*G21,2) -> 9 | I21: 0 | J21: 2 | K21: =ROUND((SUM(H21:J21)),2) -> 11 | L21: =ROUND(E21*F21,2) -> 54 | M21: =ROUND(E21*H21,2) -> 972 | N21: =ROUND(E21*I21,2) -> 0 | O21: =ROUND(E21*J21,2) -> 216 | P21: =ROUND((SUM(M21:O21)),2) -> 1188
A22: 7 | C22: Sienas, starpsienas
A23: 8 | C23: Si-1
A24: 9 | C24: Apšūt karkasu ar Knauf RED GKF vai ekvivalents 12,5mm ģipškartona loksnēm divās kārtās, ieskaitot visus stiprinājumus un palīgmateriālus. Veikt šuvju špaktelēšanu (daudzums norādīts visam apjomam) | D24: m2 | E24: 210 | F24: 0.1 | G24: 18 | H24: =ROUND(F24*G24,2) -> 1.8 | I24: 4.75 | J24: 0.14 | K24: =ROUND((SUM(H24:J24)),2) -> 6.69 | L24: =ROUND(E24*F24,2) -> 21 | M24: =ROUND(E24*H24,2) -> 378 | N24: =ROUND(E24*I24,2) -> 997.5 | O24: =ROUND(E24*J24,2) -> 29.4 | P24: =ROUND((SUM(M24:O24)),2) -> 1404.9
A25: 10 | C25: Tērauda sijas un konstrukcijas apstrādāt ar pretkorozijas līdzekli Motip anti Corrosion (vai ekvivalents), pirms tam attīrot tās. Līdzekli uzklāt 1 kārtā | D25: m2 | E25: 105 | F25: 1.12 | G25: 18 | H25: 16.8 | I25: 2.9 | J25: 0.76 | K25: =ROUND((SUM(H25:J25)),2) -> 20.46 | L25: =ROUND(E25*F25,2) -> 117.6 | M25: =ROUND(E25*H25,2) -> 1764 | N25: =ROUND(E25*I25,2) -> 304.5 | O25: =ROUND(E25*J25,2) -> 79.8 | P25: =ROUND((SUM(M25:O25)),2) -> 2148.3
A26: 11 | C26: Sienu apdare
A27: 12 | C27: Sienu gruntēšana, špaktelēšana, slīpēšana | D27: m2 | E27: 108 | F27: 0.5 | G27: 18 | H27: =ROUND(F27*G27,2) -> 9 | I27: 0 | J27: 0.4 | K27: =ROUND((SUM(H27:J27)),2) -> 9.4 | L27: =ROUND(E27*F27,2) -> 54 | M27: =ROUND(E27*H27,2) -> 972 | N27: =ROUND(E27*I27,2) -> 0 | O27: =ROUND(E27*J27,2) -> 43.2 | P27: =ROUND((SUM(M27:O27)),2) -> 1015.2
A28: 13 | C28: Knauf Tiefengrund Dziļumgrunts (vai ekvivalents) | D28: l | E28: =ROUND(E27*0.25,2) -> 27 | F28: 0 | G28: 0 | H28: =ROUND(F28*G28,2) -> 0 | I28: 1.52 | J28: 0 | K28: =ROUND((SUM(H28:J28)),2) -> 1.52 | L28: =ROUND(E28*F28,2) -> 0 | M28: =ROUND(E28*H28,2) -> 0 | N28: =ROUND(E28*I28,2) -> 41.04 | O28: =ROUND(E28*J28,2) -> 0 | P28: =ROUND((SUM(M28:O28)),2) -> 41.04
A29: 14 | C29: Weber LR + Smalkais Līdzinātājs | D29: kg | E29: =ROUND(E27*3,2) -> 324 | F29: 0 | G29: 0 | H29: =ROUND(F29*G29,2) -> 0 | I29: 0.43 | J29: 0 | K29: =ROUND((SUM(H29:J29)),2) -> 0.43 | L29: =ROUND(E29*F29,2) -> 0 | M29: =ROUND(E29*H29,2) -> 0 | N29: =ROUND(E29*I29,2) -> 139.32 | O29: =ROUND(E29*J29,2) -> 0 | P29: =ROUND((SUM(M29:O29)),2) -> 139.32
A30: 15 | C30: Knauf Super Finish Universālā Gatavā Špaktele, RAL 9010 (vai ekvivalents) | D30: kg | E30: =ROUND(E27*2,2) -> 216 | F30: 0 | G30: 0 | H30: =ROUND(F30*G30,2) -> 0 | I30: 0.62 | J30: 0 | K30: =ROUND((SUM(H30:J30)),2) -> 0.62 | L30: =ROUND(E30*F30,2) -> 0 | M30: =ROUND(E30*H30,2) -> 0 | N30: =ROUND(E30*I30,2) -> 133.92 | O30: =ROUND(E30*J30,2) -> 0 | P30: =ROUND((SUM(M30:O30)),2) -> 133.92
A31: 16 | C31: Papildmateriāli (Stūra šinas, u.c.) | D31: m2 | E31: =E27 -> 108 | F31: 0 | G31: 0 | H31: =ROUND(F31*G31,2) -> 0 | I31: 0.43 | J31: 0 | K31: =ROUND((SUM(H31:J31)),2) -> 0.43 | L31: =ROUND(E31*F31,2) -> 0 | M31: =ROUND(E31*H31,2) -> 0 | N31: =ROUND(E31*I31,2) -> 46.44 | O31: =ROUND(E31*J31,2) -> 0 | P31: =ROUND((SUM(M31:O31)),2) -> 46.44
A32: Tiešās izmaksas kopā, t.sk. Darba dēvēja sociālais nodoklis (23,59%) | L32: =SUM(L22:L25) -> 138.6 | M32: =SUM(M22:M25) -> 2142 | N32: =SUM(N22:N25) -> 1302 | O32: =SUM(O22:O25) -> 109.2 | P32: =SUM(P17:P31) -> 6724.87
A34: =KT!A21 -> Sastādīja: Uģis Šēnbergs | D34: =KT!C25 -> 2024. gada 16.septembrī
A35: (paraksts un tā atšifrējums, datums)
A36: =KT!A23 -> Sertifikāta Nr.1-00103
A38: =KT!A25 -> Pārbaudīja: Uģis Šēnbergs | D38: =KT!C25 -> 2024. gada 16.septembrī
A39: (paraksts un tā atšifrējums, datums)
A40: =KT!A27 -> Sertifikāta Nr.1-00103

Sheet 1.3
A2: Būvdarbu apjomu saraksts Nr.1.3
A3: Ārējie darbi
A4: (būvdarbu veids vai konstruktīvā elementa nosaukums)
A6: Objekta nosaukums: | C6: =KT!B9 -> Valsts robežsardzes koledžas Sporta kompleksa ēkas jumta atjaunošana
A7: Būves nosaukums: | C7: =KT!B10 -> Valsts robežsardzes koledžas Sporta kompleksa ēkas jumta atjaunošana
A8: Objekta adrese: | C8: =KT!B11 -> Zavoloko iela 8, Rēzekne, LV-4601
A9: Pasūtījuma nr.: | C9: =KT!B12 -> ___
A11: Tāme sastādīta 2024. gada tirgus cenās, pamatojoties uz būvprojekta rasējumiem | M11: Tāmes izmaksas: | O11: =P42 -> 275728.11 | P11: EUR
N12: Tāme sastādītā | O12: =KT!C25 -> 2024. gada 16.septembrī
A14: Nr.p.k. | B14: Kods | C14: Būvdarbu nosaukums | D14: Mērvienība | E14: Daudzums | F14: Vienības izmaksas | L14: Kopā uz visu apjomu
F15: Laika norma (c/h) | G15: Darba samaksas likme (euro/h) | H15: Darba alga | I15: Būvizstrādājumi | J15: Mehānismi | K15: KOPĀ | L15: Darbietilpība (c/h) | M15: Darba alga | N15: Būvizstrādājumi | O15: Mehānismi | P15: Summa
C17: Demontāžas darbi
A18: 1 | C18: Esošā jumta seguma demontāža, būvgružu savākšana, iekraušana konteinerā, izvešana un utilizācija | D18: m2 | E18: 2122 | F18: 0.5 | G18: 18 | H18: =ROUND(F18*G18,2) -> 9 | I18: 0 | J18: 2 | K18: =ROUND((SUM(H18:J18)),2) -> 11 | L18: =ROUND(E18*F18,2) -> 1061 | M18: =ROUND(E18*H18,2) -> 19098 | N18: =ROUND(E18*I18,2) -> 0 | O18: =ROUND(E18*J18,2) -> 4244 | P18: =ROUND((SUM(M18:O18)),2) -> 23342
A19: 2 | C19: Esošās lietus noteces un teknes demontēt, būvgružu savākšana, iekraušana konteinerā, izvešana un utilizācija | D19: t.m. | E19: 265 | F19: 0.5 | G19: 18 | H19: 9 | I19: 0 | J19: 2 | K19: =ROUND((SUM(H19:J19)),2) -> 11 | L19: =ROUND(E19*F19,2) -> 132.5 | M19: =ROUND(E19*H19,2) -> 2385 | N19: =ROUND(E19*I19,2) -> 0 | O19: =ROUND(E19*J19,2) -> 530 | P19: =ROUND((SUM(M19:O19)),2) -> 2915
A20: 3 | C20: Esošo jumta logu demontāža, būvgružu savākšana, iekraušana konteinerā, izvešana un utilizācija | D20: gb. | E20: 90 | F20: 0.5 | G20: 18 | H20: 9 | I20: 0 | J20: 2 | K20: =ROUND((SUM(H20:J20)),2) -> 11 | L20: =ROUND(E20*F20,2) -> 45 | M20: =ROUND(E20*H20,2) -> 810 | N20: =ROUND(E20*I20,2) -> 0 | O20: =ROUND(E20*J20,2) -> 180 | P20: =ROUND((SUM(M20:O20)),2) -> 990
C21: Jumta izbūve
A22: 4 | C22: Jumta sendvičpanelis MW Standard (MW-R) (vai ekvivalents) kopā ar visiem stiprinājumiem, palīgmateriāliem. 175,1 mm; met.biezums 0,50/0,50; Pārklājums SP25/SP25 | D22: m2 | E22: 2122 | F22: 0.2 | G22: 18 | H22: =ROUND(F22*G22,2) -> 3.6 | I22: 66.77 | J22: 0.2 | K22: =ROUND((SUM(H22:J22)),2) -> 70.57 | L22: =ROUND(E22*F22,2) -> 424.4 | M22: =ROUND(E22*H22,2) -> 7639.2 | N22: =ROUND(E22*I22,2) -> 141685.94 | O22: =ROUND(E22*J22,2) -> 424.4 | P22: =ROUND((SUM(M22:O22)),2) -> 149749.54
A23: 5 | C23: PPC Jumta paneļi Flowlight (vai ekvivalents) kopā ar visiem stiprinājumiem, palīgmateriāliem | D23: m2 | E23: 350 | F23: 0.2 | G23: 18 | H23: 3.6 | I23: 81 | J23: 0.2 | K23: =ROUND((SUM(H23:J23)),2) -> 84.8 | L23: =ROUND(E23*F23,2) -> 70 | M23: =ROUND(E23*H23,2) -> 1260 | N23: =ROUND(E23*I23,2) -> 28350 | O23: =ROUND(E23*J23,2) -> 70 | P23: =ROUND((SUM(M23:O23)),2) -> 29680
A24: 6 | C24: Komplektējošās detaļas jumta izbūvei - Starta profili, U profili un dzegas konstruktīvie profili, Hermetizejošās un amortizējošās lentes (PES;PUR; PUS), Kores blīvējums, un šuvju montāžas putas, Paneļu skrūves un apdares detaļu skrūves jeb kniedes, Apdares detaļas (OBR) – 103,104,105,206, uc., | D24: m2 | E24: 2472 | F24: 0.2 | G24: 18 | H24: 3.6 | I24: 6.5 | J24: 0.2 | K24: =ROUND((SUM(H24:J24)),2) -> 10.3 | L24: =ROUND(E24*F24,2) -> 494.4 | M24: =ROUND(E24*H24,2) -> 8899.2 | N24: =ROUND(E24*I24,2) -> 16068 | O24: =ROUND(E24*J24,2) -> 494.4 | P24: =ROUND((SUM(M24:O24)),2) -> 25461.6
C25: Jumta elementi
A26: 7 | C26: Skārda karnīzes montāža | D26: t.m. | E26: 35 | F26: 0.3 | G26: 18 | H26: =ROUND(F26*G26,2) -> 5.4 | I26: 0 | J26: 0.3 | K26: =ROUND((SUM(H26:J26)),2) -> 5.7 | L26: =ROUND(E26*F26,2) -> 10.5 | M26: =ROUND(E26*H26,2) -> 189 | N26: =ROUND(E26*I26,2) -> 0 | O26: =ROUND(E26*J26,2) -> 10.5 | P26: =ROUND((SUM(M26:O26)),2) -> 199.5
A27: 8 | C27: Balex metal Metāla Karnīze 0,50mm, 200mm | D27: t.m. | E27: 144 | F27: 0 | G27: =IF(F27>0,likme,0) -> 0 | H27: =ROUND(F27*G27,2) -> 0 | I27: 4.99 | J27: 0 | K27: =ROUND((SUM(H27:J27)),2) -> 4.99 | L27: =ROUND(E27*F27,2) -> 0 | M27: =ROUND(E27*H27,2) -> 0 | N27: =ROUND(E27*I27,2) -> 718.56 | O27: =ROUND(E27*J27,2) -> 0 | P27: =ROUND((SUM(M27:O27)),2) -> 718.56
A28: 9 | C28: Papildmateriāli (Skrūves, kniedes, silikons, u.c.) | D28: t.m. | E28: =E26 -> 35 | F28: 0 | G28: =IF(F28>0,likme,0) -> 0 | H28: =ROUND(F28*G28,2) -> 0 | I28: 0.73 | J28: 0 | K28: =ROUND((SUM(H28:J28)),2) -> 0.73 | L28: =ROUND(E28*F28,2) -> 0 | M28: =ROUND(E28*H28,2) -> 0 | N28: =ROUND(E28*I28,2) -> 25.55 | O28: =ROUND(E28*J28,2) -> 0 | P28: =ROUND((SUM(M28:O28)),2) -> 25.55
A29: 10 | C29: Skārda vējmalas montāža | D29: t.m. | E29: 35 | F29: 0.3 | G29: 18 | H29: =ROUND(F29*G29,2) -> 5.4 | I29: 0 | J29: 0.3 | K29: =ROUND((SUM(H29:J29)),2) -> 5.7 | L29: =ROUND(E29*F29,2) -> 10.5 | M29: =ROUND(E29*H29,2) -> 189 | N29: =ROUND(E29*I29,2) -> 0 | O29: =ROUND(E29*J29,2) -> 10.5 | P29: =ROUND((SUM(M29:O29)),2) -> 199.5
A30: 11 | C30: Balex metal MetālaVējmala 0,50mm, 45x2000mm | D30: t.m. | E30: 35 | F30: 0 | G30: =IF(F30>0,likme,0) -> 0 | H30: =ROUND(F30*G30,2) -> 0 | I30: 4.05 | J30: 0 | K30: =ROUND((SUM(H30:J30)),2) -> 4.05 | L30: =ROUND(E30*F30,2) -> 0 | M30: =ROUND(E30*H30,2) -> 0 | N30: =ROUND(E30*I30,2) -> 141.75 | O30: =ROUND(E30*J30,2) -> 0 | P30: =ROUND((SUM(M30:O30)),2) -> 141.75
A31: 12 | C31: Papildmateriāli (Skrūves, kniedes, silikons, u.c.) | D31: t.m. | E31: =E29 -> 35 | F31: 0 | G31: =IF(F31>0,likme,0) -> 0 | H31: =ROUND(F31*G31,2) -> 0 | I31: 0.83 | J31: 0 | K31: =ROUND((SUM(H31:J31)),2) -> 0.83 | L31: =ROUND(E31*F31,2) -> 0 | M31: =ROUND(E31*H31,2) -> 0 | N31: =ROUND(E31*I31,2) -> 29.05 | O31: =ROUND(E31*J31,2) -> 0 | P31: =ROUND((SUM(M31:O31)),2) -> 29.05
A32: 13 | C32: Skārda kores montāža | D32: t.m. | E32: 72 | F32: 0.45 | G32: 18 | H32: =ROUND(F32*G32,2) -> 8.1 | I32: 0 | J32: 0.45 | K32: =ROUND((SUM(H32:J32)),2) -> 8.55 | L32: =ROUND(E32*F32,2) -> 32.4 | M32: =ROUND(E32*H32,2) -> 583.2 | N32: =ROUND(E32*I32,2) -> 0 | O32: =ROUND(E32*J32,2) -> 32.4 | P32: =ROUND((SUM(M32:O32)),2) -> 615.6
A33: 14 | C33: Balex metal Metāla Kore 0,50mm, 45x2000mm | D33: t.m. | E33: 72 | F33: 0 | G33: =IF(F33>0,likme,0) -> 0 | H33: =ROUND(F33*G33,2) -> 0 | I33: 6.69 | J33: 0 | K33: =ROUND((SUM(H33:J33)),2) -> 6.69 | L33: =ROUND(E33*F33,2) -> 0 | M33: =ROUND(E33*H33,2) -> 0 | N33: =ROUND(E33*I33,2) -> 481.68 | O33: =ROUND(E33*J33,2) -> 0 | P33: =ROUND((SUM(M33:O33)),2) -> 481.68
A34: 15 | C34: Papildmateriāli (Skrūves, kniedes, silikons, u.c.) | D34: t.m. | E34: 16 | F34: 0 | G34: =IF(F34>0,likme,0) -> 0 | H34: =ROUND(F34*G34,2) -> 0 | I34: 0.94 | J34: 0 | K34: =ROUND((SUM(H34:J34)),2) -> 0.94 | L34: =ROUND(E34*F34,2) -> 0 | M34: =ROUND(E34*H34,2) -> 0 | N34: =ROUND(E34*I34,2) -> 15.04 | O34: =ROUND(E34*J34,2) -> 0 | P34: =ROUND((SUM(M34:O34)),2) -> 15.04
A35: 16 | C35: Lietus notekcaurules d120mm Ruukki (vai ekvivalents) | D35: t.m. | E35: 119 | F35: 0.3 | G35: 18 | H35: 5.4 | I35: 11.12 | J35: 0.3 | K35: =ROUND((SUM(H35:J35)),2) -> 16.82 | L35: =ROUND(E35*F35,2) -> 35.7 | M35: =ROUND(E35*H35,2) -> 642.6 | N35: =ROUND(E35*I35,2) -> 1323.28 | O35: =ROUND(E35*J35,2) -> 35.7 | P35: =ROUND((SUM(M35:O35)),2) -> 2001.58
A36: 17 | C36: Ūdensnotekas tekne d150mm Ruukki (vai ekvivalents) | D36: t.m. | E36: 146 | F36: 0.3 | G36: 18 | H36: 5.4 | I36: 7.55 | J36: 0.3 | K36: =ROUND((SUM(H36:J36)),2) -> 13.25 | L36: =ROUND(E36*F36,2) -> 43.8 | M36: =ROUND(E36*H36,2) -> 788.4 | N36: =ROUND(E36*I36,2) -> 1102.3 | O36: =ROUND(E36*J36,2) -> 43.8 | P36: =ROUND((SUM(M36:O36)),2) -> 1934.5
A37: 18 | C37: Sildkabeļa uzstādīšana teknēs un caurulēs | D37: t.m. | E37: 265 | F37: 0.3 | G37: 18 | H37: 5.4 | I37: 13 | J37: 0.3 | K37: =ROUND((SUM(H37:J37)),2) -> 18.7 | L37: =ROUND(E37*F37,2) -> 79.5 | M37: =ROUND(E37*H37,2) -> 1431 | N37: =ROUND(E37*I37,2) -> 3445 | O37: =ROUND(E37*J37,2) -> 79.5 | P37: =ROUND((SUM(M37:O37)),2) -> 4955.5
A38: 19 | C38: Metāla Z profila stiprinājumi Ruukki (vai ekvivalents); solis 1000mm; h200mm; biezums 1,5mm. | D38: t.m. | E38: 4032 | F38: 0 | G38: 18 | H38: =ROUND(F38*G38,2) -> 0 | I38: 2.16 | J38: 0 | K38: =ROUND((SUM(H38:J38)),2) -> 2.16 | L38: =ROUND(E38*F38,2) -> 0 | M38: =ROUND(E38*H38,2) -> 0 | N38: =ROUND(E38*I38,2) -> 8709.12 | O38: =ROUND(E38*J38,2) -> 0 | P38: =ROUND((SUM(M38:O38)),2) -> 8709.12
A39: 20 | C39: Cilvēku drošības barjera | D39: t.m. | E39: 146 | F39: 0.45 | G39: 18 | H39: =ROUND(F39*G39,2) -> 8.1 | I39: 47.17 | J39: 0.45 | K39: =ROUND((SUM(H39:J39)),2) -> 55.72 | L39: =ROUND(E39*F39,2) -> 65.7 | M39: =ROUND(E39*H39,2) -> 1182.6 | N39: =ROUND(E39*I39,2) -> 6886.82 | O39: =ROUND(E39*J39,2) -> 65.7 | P39: =ROUND((SUM(M39:O39)),2) -> 8135.12
A40: 21 | C40: Metāla kāpnes, kas ved uz jumtu. Augstākās platformas pacelšana, pielāgošana jaunizbūvētā jumta augstumam | D40: gab | E40: 3 | F40: 0.2 | G40: 18 | H40: 5.4 | I40: 0 | J40: 2 | K40: =ROUND((SUM(H40:J40)),2) -> 7.4 | L40: =ROUND(E40*F40,2) -> 0.6 | M40: =ROUND(E40*H40,2) -> 16.2 | N40: =ROUND(E40*I40,2) -> 0 | O40: =ROUND(E40*J40,2) -> 6 | P40: =ROUND((SUM(M40:O40)),2) -> 22.2
A41: 23 | C41: Esošās metāla profilloksnes apstrāde | D41: m2 | E41: 2122 | F41: 1.12 | G41: 18 | H41: 3.6 | I41: 2.9 | J41: 0.76 | K41: =ROUND((SUM(H41:J41)),2) -> 7.26 | L41: =ROUND(E41*F41,2) -> 2376.64 | M41: =ROUND(E41*H41,2) -> 7639.2 | N41: =ROUND(E41*I41,2) -> 6153.8 | O41: =ROUND(E41*J41,2) -> 1612.72 | P41: =ROUND((SUM(M41:O41)),2) -> 15405.72
A42: Tiešās izmaksas kopā, t.sk. Darba dēvēja sociālais nodoklis (23,59%) | L42: =SUM(L17:L34) -> 2280.7 | M42: =SUM(M17:M34) -> 41052.6 | N42: =SUM(N17:N34) -> 187515.57 | O42: =SUM(O17:O34) -> 5996.2 | P42: =SUM(P18:P41) -> 275728.11
A44: =KT!A21 -> Sastādīja: Uģis Šēnbergs | D44: =KT!C25 -> 2024. gada 16.septembrī
A45: (paraksts un tā atšifrējums, datums)
A46: =KT!A23 -> Sertifikāta Nr.1-00103
A48: =KT!A25 -> Pārbaudīja: Uģis Šēnbergs | D48: =KT!C25 -> 2024. gada 16.septembrī
A49: (paraksts un tā atšifrējums, datums)
A50: =KT!A27 -> Sertifikāta Nr.1-00103

Sheet 1.4
A2: Būvdarbu apjomu saraksts Nr.1.3
A3: Zibensaizsardzība un zemējums
A4: (būvdarbu veids vai konstruktīvā elementa nosaukums)
A6: Objekta nosaukums: | C6: =KT!B9 -> Valsts robežsardzes koledžas Sporta kompleksa ēkas jumta atjaunošana
A7: Būves nosaukums: | C7: =KT!B10 -> Valsts robežsardzes koledžas Sporta kompleksa ēkas jumta atjaunošana
A8: Objekta adrese: | C8: =KT!B11 -> Zavoloko iela 8, Rēzekne, LV-4601
A9: Pasūtījuma nr.: | C9: =KT!B12 -> ___
A11: Tāme sastādīta 2024. gada tirgus cenās, pamatojoties uz būvprojekta rasējumiem | M11: Tāmes izmaksas: | O11: =P28 -> 4375.02 | P11: EUR
N12: Tāme sastādītā | O12: =KT!C25 -> 2024. gada 16.septembrī
A14: Nr.p.k. | B14: Kods | C14: Būvdarbu nosaukums | D14: Mērvienība | E14: Daudzums | F14: Vienības izmaksas | L14: Kopā uz visu apjomu
F15: Laika norma (c/h) | G15: Darba samaksas likme (euro/h) | H15: Darba alga | I15: Būvizstrādājumi | J15: Mehānismi | K15: KOPĀ | L15: Darbietilpība (c/h) | M15: Darba alga | N15: Būvizstrādājumi | O15: Mehānismi | P15: Summa
C17: Zibensaizsardzība un zemējums
A18: 1 | C18: Alumīnija apaļstieple ø 8 | D18: m | E18: 334 | F18: 0.14 | G18: 18 | H18: =ROUND(F18*G18,2) -> 2.52 | I18: 1.65 | J18: 0.19 | K18: =ROUND((SUM(H18:J18)),2) -> 4.36 | L18: =ROUND(E18*F18,2) -> 46.76 | M18: =ROUND(E18*H18,2) -> 841.68 | N18: =ROUND(E18*I18,2) -> 551.1 | O18: =ROUND(E18*J18,2) -> 63.46 | P18: =ROUND((SUM(M18:O18)),2) -> 1456.24
A19: 2 | C19: Zibensuztvērēja masts 3,0m ar stiprinājumu maza slīpuma jumtam | D19: kompl. | E19: 6 | F19: 1.03 | G19: 19 | H19: =ROUND(F19*G19,2) -> 19.57 | I19: 46 | J19: 1.39 | K19: =ROUND((SUM(H19:J19)),2) -> 66.96 | L19: =ROUND(E19*F19,2) -> 6.18 | M19: =ROUND(E19*H19,2) -> 117.42 | N19: =ROUND(E19*I19,2) -> 276 | O19: =ROUND(E19*J19,2) -> 8.34 | P19: =ROUND((SUM(M19:O19)),2) -> 401.76
A20: 3 | C20: Apaļstieples stiprinājums pie jumta kores | D20: gab. | E20: 48 | F20: 0.14 | G20: 20 | H20: =ROUND(F20*G20,2) -> 2.8 | I20: 7.5 | J20: 0.19 | K20: =ROUND((SUM(H20:J20)),2) -> 10.49 | L20: =ROUND(E20*F20,2) -> 6.72 | M20: =ROUND(E20*H20,2) -> 134.4 | N20: =ROUND(E20*I20,2) -> 360 | O20: =ROUND(E20*J20,2) -> 9.12 | P20: =ROUND((SUM(M20:O20)),2) -> 503.52
A21: 4 | C21: Apaļstieples stiprinājums slīpam jumtam | D21: gab. | E21: 96 | F21: 0.14 | G21: 21 | H21: =ROUND(F21*G21,2) -> 2.94 | I21: 2.5 | J21: 0.19 | K21: =ROUND((SUM(H21:J21)),2) -> 5.63 | L21: =ROUND(E21*F21,2) -> 13.44 | M21: =ROUND(E21*H21,2) -> 282.24 | N21: =ROUND(E21*I21,2) -> 240 | O21: =ROUND(E21*J21,2) -> 18.24 | P21: =ROUND((SUM(M21:O21)),2) -> 540.48
A22: 5 | C22: Apaļstieples stiprinājums pie jumta notekas | D22: gab. | E22: 56 | F22: 0.28 | G22: 22 | H22: =ROUND(F22*G22,2) -> 6.16 | I22: 7.5 | J22: 0.38 | K22: =ROUND((SUM(H22:J22)),2) -> 14.04 | L22: =ROUND(E22*F22,2) -> 15.68 | M22: =ROUND(E22*H22,2) -> 344.96 | N22: =ROUND(E22*I22,2) -> 420 | O22: =ROUND(E22*J22,2) -> 21.28 | P22: =ROUND((SUM(M22:O22)),2) -> 786.24
A23: 6 | C23: Jumta norobežojuma (cilvēku drošības un sniega aiztures barjeras) sekciju savienojums (x2); pārvienojuma trose | D23: kompl. | E23: 2 | F23: 0.28 | G23: 23 | H23: =ROUND(F23*G23,2) -> 6.44 | I23: 7.5 | J23: 0.38 | K23: =ROUND((SUM(H23:J23)),2) -> 14.32 | L23: =ROUND(E23*F23,2) -> 0.56 | M23: =ROUND(E23*H23,2) -> 12.88 | N23: =ROUND(E23*I23,2) -> 15 | O23: =ROUND(E23*J23,2) -> 0.76 | P23: =ROUND((SUM(M23:O23)),2) -> 28.64
A24: 7 | C24: Mērspaile - savienojuma klemme Ø8mm stieple, ner. tērauda | D24: gab. | E24: 4 | F24: 0.28 | G24: 24 | H24: =ROUND(F24*G24,2) -> 6.72 | I24: 3.5 | J24: 0.38 | K24: =ROUND((SUM(H24:J24)),2) -> 10.6 | L24: =ROUND(E24*F24,2) -> 1.12 | M24: =ROUND(E24*H24,2) -> 26.88 | N24: =ROUND(E24*I24,2) -> 14 | O24: =ROUND(E24*J24,2) -> 1.52 | P24: =ROUND((SUM(M24:O24)),2) -> 42.4
A25: 8 | C25: Zemējuma izvads, cinkots tērauds ø 10 mm PVC | D25: m | E25: 10 | F25: 0.14 | G25: 25 | H25: 2.1 | I25: 13.5 | J25: 0.19 | K25: =ROUND((SUM(H25:J25)),2) -> 15.79 | L25: =ROUND(E25*F25,2) -> 1.4 | M25: =ROUND(E25*H25,2) -> 21 | N25: =ROUND(E25*I25,2) -> 135 | O25: =ROUND(E25*J25,2) -> 1.9 | P25: =ROUND((SUM(M25:O25)),2) -> 157.9
A26: 9 | C26: Vertikalāis elektrods – zemējuma stienis, nerūsējošais tērauds ø 20/1500 | D26: gab. | E26: 4 | F26: 0.56 | G26: 26 | H26: 8.4 | I26: 23 | J26: 0.76 | K26: =ROUND((SUM(H26:J26)),2) -> 32.16 | L26: =ROUND(E26*F26,2) -> 2.24 | M26: =ROUND(E26*H26,2) -> 33.6 | N26: =ROUND(E26*I26,2) -> 92 | O26: =ROUND(E26*J26,2) -> 3.04 | P26: =ROUND((SUM(M26:O26)),2) -> 128.64
A27: 10 | C27: Montāžas izstrādājumi | D27: kompl. | E27: 1 | F27: 14.02 | G27: 27 | H27: 210.3 | I27: 100 | J27: 18.9 | K27: =ROUND((SUM(H27:J27)),2) -> 329.2 | L27: =ROUND(E27*F27,2) -> 14.02 | M27: =ROUND(E27*H27,2) -> 210.3 | N27: =ROUND(E27*I27,2) -> 100 | O27: =ROUND(E27*J27,2) -> 18.9 | P27: =ROUND((SUM(M27:O27)),2) -> 329.2
A28: Tiešās izmaksas kopā, t.sk. Darba dēvēja sociālais nodoklis (23,59%) | L28: =SUM(L17:L27) -> 108.12 | M28: =SUM(M17:M27) -> 2025.36 | N28: =SUM(N17:N27) -> 2203.1 | O28: =SUM(O17:O27) -> 146.56 | P28: =SUM(P17:P27) -> 4375.02
A30: =KT!A21 -> Sastādīja: Uģis Šēnbergs | D30: =KT!C25 -> 2024. gada 16.septembrī
A31: (paraksts un tā atšifrējums, datums)
A32: =KT!A23 -> Sertifikāta Nr.1-00103
A34: =KT!A25 -> Pārbaudīja: Uģis Šēnbergs | D34: =KT!C25 -> 2024. gada 16.septembrī
A35: (paraksts un tā atšifrējums, datums)
A36: =KT!A27 -> Sertifikāta Nr.1-00103
