Workbook

Sheet Izmaksu piedāvājums
A1: Atskaite izveidota: | B1: 46189.446
A2: TOPS Projekta Nr.: | B2: 58
A3: Ražotnes: | B3: TEC1
A4: Darbu veidi: | B4: MEH
A5: No: | B5: 46388
A6: Līdz: | B6: 47118
A8: Paskaidrojumi:
B9: Datus ievadīt tikai iekrāsotajos laukos. Uzmanību - cenu noapaļot līdz 2 simboliem aiz komata!
A11: Izmaksu piedāvājums
A12: TEC-1 mehānisko iekārtu uzturēšanas remonts 2027.-2028. gadā
A15: Iepirkuma vienības Nr. | B15: Iepirkuma vienības apraksts | C15: Iepirkuma vienības tips | D15: Mērvienība | E15: Daudzums periodā | F15: Darbietilpība 1 vienībai, c/h | G15: Darbaspēka c/h likme 1 vienībai (t.sk. VSAOI) , EUR | H15: Darbaspēka izmaksas 1 vienībai, EUR | I15: Darbietilpība kopējam daudzumam, c/h | J15: Darbaspēka izmaksas kopējam daudzumam, EUR | K15: Materiālu un mehānismu izmaksas 1 vienībai, EUR | L15: Materiālu un mehānismu izmaksas kopējam daudzumam, EUR | M15: Cena kopā 1 vienībai , EUR | N15: Cena kopējam daudzumam, EUR
F16: ! Noapaļot līdz ne vairāk kā 2 simboli aiz komata! | K16: ! Noapaļot līdz ne vairāk kā 2 simboli aiz komata!
A17: 1 | B17: 2 | C17: 3 | D17: 4 | E17: 5 | F17: 6 | G17: 7 | H17: 8=6*7 | I17: 9=5*6 | J17: 10=5*8 | K17: 11 | L17: 12=5*11 | M17: 13=8+11 | N17: 14=10+12
A18: T1E-MEH-0001 | B18: GT gāzes filtru nomaiņa | C18: Plānots darbs / pakalpojums | D18: gab | E18: 4 | F18: 0 | G18: 0 | H18: =ROUND(F18*G18,2) -> 0 | I18: =ROUND(E18*F18,2) -> 0 | J18: =ROUND(E18*H18,2) -> 0 | K18: 0 | L18: =ROUND(E18*K18,2) -> 0 | M18: =H18+K18 -> 0 | N18: =J18+L18 -> 0
A19: T1E-MEH-0003 | B19: GT eļļas attīrīšanas iekārtas eļļas filtru nomaiņa | C19: Plānots darbs / pakalpojums | D19: gab | E19: 4 | F19: 0 | G19: 0 | H19: =ROUND(F19*G19,2) -> 0 | I19: =ROUND(E19*F19,2) -> 0 | J19: =ROUND(E19*H19,2) -> 0 | K19: 0 | L19: =ROUND(E19*K19,2) -> 0 | M19: =H19+K19 -> 0 | N19: =J19+L19 -> 0
A20: T1E-MEH-0004 | B20: Skalošanas sūkņa eļļas nomaiņa | C20: Plānots darbs / pakalpojums | D20: gab | E20: 2 | F20: 0 | G20: 0 | H20: =ROUND(F20*G20,2) -> 0 | I20: =ROUND(E20*F20,2) -> 0 | J20: =ROUND(E20*H20,2) -> 0 | K20: 0 | L20: =ROUND(E20*K20,2) -> 0 | M20: =H20+K20 -> 0 | N20: =J20+L20 -> 0
A21: T1E-MEH-0005 | B21: Zobratu parraides sūkņa eļļas nomaiņa | C21: Plānots darbs / pakalpojums | D21: gab | E21: 2 | F21: 0 | G21: 0 | H21: =ROUND(F21*G21,2) -> 0 | I21: =ROUND(E21*F21,2) -> 0 | J21: =ROUND(E21*H21,2) -> 0 | K21: 0 | L21: =ROUND(E21*K21,2) -> 0 | M21: =H21+K21 -> 0 | N21: =J21+L21 -> 0
A22: T1E-MEH-0006 | B22: Sietfiltru iztīrīšana | C22: Plānots darbs / pakalpojums | D22: gab | E22: 4 | F22: 0 | G22: 0 | H22: =ROUND(F22*G22,2) -> 0 | I22: =ROUND(E22*F22,2) -> 0 | J22: =ROUND(E22*H22,2) -> 0 | K22: 0 | L22: =ROUND(E22*K22,2) -> 0 | M22: =H22+K22 -> 0 | N22: =J22+L22 -> 0
A23: T1E-MEH-0007 | B23: GT ventilācijas sistēmas gaisa ieplūdes filtru nomaiņa | C23: Plānots darbs / pakalpojums | D23: gab | E23: 4 | F23: 0 | G23: 0 | H23: =ROUND(F23*G23,2) -> 0 | I23: =ROUND(E23*F23,2) -> 0 | J23: =ROUND(E23*H23,2) -> 0 | K23: 0 | L23: =ROUND(E23*K23,2) -> 0 | M23: =H23+K23 -> 0 | N23: =J23+L23 -> 0
A24: T1E-MEH-0008 | B24: GT gaisa ieplūdes filtru nomaiņa | C24: Plānots darbs / pakalpojums | D24: gab | E24: 16 | F24: 0 | G24: 0 | H24: =ROUND(F24*G24,2) -> 0 | I24: =ROUND(E24*F24,2) -> 0 | J24: =ROUND(E24*H24,2) -> 0 | K24: 0 | L24: =ROUND(E24*K24,2) -> 0 | M24: =H24+K24 -> 0 | N24: =J24+L24 -> 0
A25: T1E-MEH-0011 | B25: Konservācijas iekārtas "Munters ML690" piedziņas siksnu un atbalsta riteņus pārbaude | C25: Plānots darbs / pakalpojums | D25: gab | E25: 4 | F25: 0 | G25: 0 | H25: =ROUND(F25*G25,2) -> 0 | I25: =ROUND(E25*F25,2) -> 0 | J25: =ROUND(E25*H25,2) -> 0 | K25: 0 | L25: =ROUND(E25*K25,2) -> 0 | M25: =H25+K25 -> 0 | N25: =J25+L25 -> 0
A26: T1E-MEH-0011P | B26: TT konservācijas iekārtas "Munters ML690" piedziņas siksnu un atbalsta riteņus pārbaude | C26: Plānots darbs / pakalpojums | D26: gab | E26: 2 | F26: 0 | G26: 0 | H26: =ROUND(F26*G26,2) -> 0 | I26: =ROUND(E26*F26,2) -> 0 | J26: =ROUND(E26*H26,2) -> 0 | K26: 0 | L26: =ROUND(E26*K26,2) -> 0 | M26: =H26+K26 -> 0 | N26: =J26+L26 -> 0
A27: T1E-MEH-0012 | B27: Tvaika uztvērēju Dn 25 filtru elementu tīrīšana | C27: Plānots darbs / pakalpojums | D27: gab | E27: 8 | F27: 0 | G27: 0 | H27: =ROUND(F27*G27,2) -> 0 | I27: =ROUND(E27*F27,2) -> 0 | J27: =ROUND(E27*H27,2) -> 0 | K27: 0 | L27: =ROUND(E27*K27,2) -> 0 | M27: =H27+K27 -> 0 | N27: =J27+L27 -> 0
A28: T1E-MEH-0013 | B28: Filtru Dn65 tīrīšana | C28: Plānots darbs / pakalpojums | D28: gab | E28: 4 | F28: 0 | G28: 0 | H28: =ROUND(F28*G28,2) -> 0 | I28: =ROUND(E28*F28,2) -> 0 | J28: =ROUND(E28*H28,2) -> 0 | K28: 0 | L28: =ROUND(E28*K28,2) -> 0 | M28: =H28+K28 -> 0 | N28: =J28+L28 -> 0
A29: T1E-MEH-0014 | B29: Droseļdiafragmas Dn25 revīzija. Siltumizolācijas atjaunošana. | C29: Plānots darbs / pakalpojums | D29: gab | E29: 6 | F29: 0 | G29: 0 | H29: =ROUND(F29*G29,2) -> 0 | I29: =ROUND(E29*F29,2) -> 0 | J29: =ROUND(E29*H29,2) -> 0 | K29: 0 | L29: =ROUND(E29*K29,2) -> 0 | M29: =H29+K29 -> 0 | N29: =J29+L29 -> 0
... A213: T1E-MEH-0305 | B213: Drošības vārsta Dn15 Pn8 nomaiņa (nepieciešama sastatņu montāža un demontāža) | C213: Plānots darbs / pakalpojums | D213: gab | E213: 1 | F213: 0 | G213: 0 | H213: =ROUND(F213*G213,2) -> 0 | I213: =ROUND(E213*F213,2) -> 0 | J213: =ROUND(E213*H213,2) -> 0 | K213: 0 | L213: =ROUND(E213*K213,2) -> 0 | M213: =H213+K213 -> 0 | N213: =J213+L213 -> 0
B214: Plānoto darbu izmaksas kopā: | N214: =ROUND(SUM(N18:N213),2) -> 0
B215: PVN (21%): | N215: =ROUND(N214*0.21,2) -> 0
B216: Plānoto darbu izmaksas ar PVN: | N216: =ROUND(SUM(N214:N215),2) -> 0
A217: ND-DSP-0001 | B217: Darbaspēks neparedzētiem darbiem - Remontatslēdznieks 723302 | C217: Neplānots darbs / pakalpojums | D217: h | E217: 4500 | F217: 1 | G217: 0 | H217: =ROUND(F217*G217,2) -> 0 | I217: =IF(D217="-",0,ROUND(E217*F217,2)) -> 4500 | J217: =IF(D217="-",0,ROUND(E217*H217,2)) -> 0 | K217: 0 | L217: =IF(D217="-",K217,ROUND(E217*K217,2)) -> 0 | M217: =H217+K217 -> 0 | N217: =J217+L217 -> 0
A218: ND-DSP-0002 | B218: Darbaspēks neparedzētiem darbiem - Metinātājs 721212, 721209 | C218: Neplānots darbs / pakalpojums | D218: h | E218: 500 | F218: 1 | G218: 0 | H218: =ROUND(F218*G218,2) -> 0 | I218: =IF(D218="-",0,ROUND(E218*F218,2)) -> 500 | J218: =IF(D218="-",0,ROUND(E218*H218,2)) -> 0 | K218: 0 | L218: =IF(D218="-",K218,ROUND(E218*K218,2)) -> 0 | M218: =H218+K218 -> 0 | N218: =J218+L218 -> 0
A219: ND-DSP-0013 | B219: Darbaspēks neparedzētiem darbiem - Sastatņu montētājs 711902 | C219: Neplānots darbs / pakalpojums | D219: h | E219: 300 | F219: 1 | G219: 0 | H219: =ROUND(F219*G219,2) -> 0 | I219: =IF(D219="-",0,ROUND(E219*F219,2)) -> 300 | J219: =IF(D219="-",0,ROUND(E219*H219,2)) -> 0 | K219: 0 | L219: =IF(D219="-",K219,ROUND(E219*K219,2)) -> 0 | M219: =H219+K219 -> 0 | N219: =J219+L219 -> 0
A220: ND-DSP-0015 | B220: Darbaspēks neparedzētiem darbiem - Izolētājs 712404 | C220: Neplānots darbs / pakalpojums | D220: h | E220: 500 | F220: 1 | G220: 0 | H220: =ROUND(F220*G220,2) -> 0 | I220: =IF(D220="-",0,ROUND(E220*F220,2)) -> 500 | J220: =IF(D220="-",0,ROUND(E220*H220,2)) -> 0 | K220: 0 | L220: =IF(D220="-",K220,ROUND(E220*K220,2)) -> 0 | M220: =H220+K220 -> 0 | N220: =J220+L220 -> 0
A221: ND-DSP-0029 | B221: Darbaspēks neparedzētiem darbiem - Skārdnieks 721302 | C221: Neplānots darbs / pakalpojums | D221: h | E221: 250 | F221: 1 | G221: 0 | H221: =ROUND(F221*G221,2) -> 0 | I221: =IF(D221="-",0,ROUND(E221*F221,2)) -> 250 | J221: =IF(D221="-",0,ROUND(E221*H221,2)) -> 0 | K221: 0 | L221: =IF(D221="-",K221,ROUND(E221*K221,2)) -> 0 | M221: =H221+K221 -> 0 | N221: =J221+L221 -> 0
A222: ND-MAT-0001 | B222: Materiālu izmaksas neparedzētiem darbiem un defektu novēršanai | C222: Neplānots darbs / pakalpojums | D222: - | E222: - | F222: 0 | G222: 0 | H222: =ROUND(F222*G222,2) -> 0 | I222: =IF(D222="-",0,ROUND(E222*F222,2)) -> 0 | J222: =IF(D222="-",0,ROUND(E222*H222,2)) -> 0 | K222: =ROUND(SUM(N217:N221)*0.3,2) -> 0 | L222: =IF(D222="-",K222,ROUND(E222*K222,2)) -> 0 | M222: =H222+K222 -> 0 | N222: =J222+L222 -> 0
A223: ND-MEH-0001 | B223: Mehānismi neparedzētiem darbiem - Elektropacēlājs | C223: Neplānots darbs / pakalpojums | D223: h | E223: 40 | F223: 0 | G223: 0 | H223: =ROUND(F223*G223,2) -> 0 | I223: =IF(D223="-",0,ROUND(E223*F223,2)) -> 0 | J223: =IF(D223="-",0,ROUND(E223*H223,2)) -> 0 | K223: 0 | L223: =IF(D223="-",K223,ROUND(E223*K223,2)) -> 0 | M223: =H223+K223 -> 0 | N223: =J223+L223 -> 0
A224: ND-MEH-0005 | B224: Mehānismi neparedzētiem darbiem - Kravas automašīna | C224: Neplānots darbs / pakalpojums | D224: h | E224: 200 | F224: 0 | G224: 0 | H224: =ROUND(F224*G224,2) -> 0 | I224: =IF(D224="-",0,ROUND(E224*F224,2)) -> 0 | J224: =IF(D224="-",0,ROUND(E224*H224,2)) -> 0 | K224: 0 | L224: =IF(D224="-",K224,ROUND(E224*K224,2)) -> 0 | M224: =H224+K224 -> 0 | N224: =J224+L224 -> 0
A225: ND-MEH-0008 | B225: Mehānismi neparedzētiem darbiem - Sastatnes - 1m³ | C225: Neplānots darbs / pakalpojums | D225: h | E225: 2000 | F225: 0 | G225: 0 | H225: =ROUND(F225*G225,2) -> 0 | I225: =IF(D225="-",0,ROUND(E225*F225,2)) -> 0 | J225: =IF(D225="-",0,ROUND(E225*H225,2)) -> 0 | K225: 0 | L225: =IF(D225="-",K225,ROUND(E225*K225,2)) -> 0 | M225: =H225+K225 -> 0 | N225: =J225+L225 -> 0
B226: Defektu novēršanas darbu izmaksas kopā: | N226: =ROUND(SUM(N217:N225),2) -> 0
B227: PVN (21%): | N227: =ROUND(N226*0.21,2) -> 0
B228: Defektu novēršanas darbu izmaksas ar PVN: | N228: =ROUND(SUM(N226:N227),2) -> 0
A229: Plānoto un defektu novēršanas darbu izmaksas KOPĀ (bez PVN): | N229: =ROUND(N214+N226,2) -> 0
A230: Plānoto un defektu novēršanas darbu izmaksas KOPĀ ar PVN: | N230: =ROUND(N216+N228,2) -> 0

Sheet Plānoto darbu detalizācija
A2: Veicamo plānoto darbu detalizācija
A3: TEC-1 mehānisko iekārtu uzturēšanas remonts 2027.-2028. gadā
A4: Gads | B4: Ražotne | C4: Ražotnes daļa | D4: Iepirkuma vienības Nr. | E4: Iepirkuma vienības apraksts | F4: Objekta kods, ID | G4: Operatīvais apzīmējums | H4: Objekta/iekārtas nosaukums | I4: DU numurs | J4: Struktūrv. | K4: Darba apraksts | L4: Plānotās remontdarbības apraksts | M4: Darba detalizācija / soļi / uzdevumi | N4: Uzsākt no: | O4: Pabeigt līdz: | P4: Materiālu/-s izsniedz Pasūtītājs | Q4: Piezīmes | R4: Vienības cena, EUR | S4: Daudzums | T4: Vienības kopējā cena, EUR
A5: 2027 | B5: TEC1 | D5: T1E-MEH-0038 | E5: Eļļas papildināšana līdz nepieciešamajam līmenim | F5: #T1.U1 =C00 EKA61 BB001 | G5: 0EKA61BB001 | H5: Eļļas separators | I5: 386784 | J5: TEC-1 ED siltumiekārtu inženieru grupa | K5: Eļļas papildināšana | L5: Eļļas papildināšana līdz nepieciešamajam līmenim | M5: 1 Slēgta atloka noņemšana no ielietnes. 2 Ar pārnesamā sūkņa palīdzību eļļas papildināšana separatorā. 3 Slēgta atloka uzstādīšana uz ielietnes. 4 Slēgta atloka savienojuma blīvējumu pārbaude ar slāpekli | N5: 46391.333 | O5: 46416.646 | P5: 0041754 Kompresoreļļa SHELL MADRELA OIL GS68, SHELL Gas Compressor Oil S4 RN68 SHELL GR7501.002 35 l; 0041984 Spirālblīve 2''-300# 316 Spiral Spirālblīve Spiral wound gasket 2''-300# 316 Spiral /C.St outerring/ St.St. innerirring/ Graphite t=4,5/3mm GR6001.004 1 gab | R5: =VLOOKUP(D5,'Izmaksu piedāvājums'!$A$18:$N$213,13) -> 0 | S5: 1 | T5: =R5*S5 -> 0
A6: 2027 | B6: TEC1 | D6: T1E-MEH-0038 | E6: Eļļas papildināšana līdz nepieciešamajam līmenim | F6: #T1.U1 =C00 EKA62 BB001 | G6: 0EKA62BB001 | H6: Rezervuārs. Eļļas separators | I6: 386785 | J6: TEC-1 ED siltumiekārtu inženieru grupa | K6: Eļļas papildināšana | L6: Eļļas papildināšana līdz nepieciešamajam līmenim | M6: 1 Slēgta atloka noņemšana no ielietnes. 2 Ar pārnesamā sūkņa palīdzību eļļas papildināšana separatorā. 3 Slēgta atloka uzstādīšana uz ielietnes. 4 Slēgta atloka savienojuma blīvējumu pārbaude ar slāpekli | N6: 46391.333 | O6: 46416.646 | P6: 0041754 Kompresoreļļa SHELL MADRELA OIL GS68, SHELL Gas Compressor Oil S4 RN68 SHELL GR7501.002 35 l; 0041984 Spirālblīve 2''-300# 316 Spiral Spirālblīve Spiral wound gasket 2''-300# 316 Spiral /C.St outerring/ St.St. innerirring/ Graphite t=4,5/3mm GR6001.004 1 gab | R6: =VLOOKUP(D6,'Izmaksu piedāvājums'!$A$18:$N$213,13) -> 0 | S6: 1 | T6: =R6*S6 -> 0
A7: 2027 | B7: TEC1 | D7: T1E-MEH-0038 | E7: Eļļas papildināšana līdz nepieciešamajam līmenim | F7: #T1.U1 =C00 EKA63 BB001 | G7: 0EKA63BB001 | H7: Rezervuārs. Eļļas separators | I7: 386786 | J7: TEC-1 ED siltumiekārtu inženieru grupa | K7: Eļļas papildināšana | L7: Eļļas papildināšana līdz nepieciešamajam līmenim | M7: 1 Slēgta atloka noņemšana no ielietnes. 2 Ar pārnesamā sūkņa palīdzību eļļas papildināšana separatorā. 3 Slēgta atloka uzstādīšana uz ielietnes. 4 Slēgta atloka savienojuma blīvējumu pārbaude ar slāpekli | N7: 46391.333 | O7: 46416.646 | P7: 0041754 Kompresoreļļa SHELL MADRELA OIL GS68, SHELL Gas Compressor Oil S4 RN68 SHELL GR7501.002 35 l; 0041984 Spirālblīve 2''-300# 316 Spiral Spirālblīve Spiral wound gasket 2''-300# 316 Spiral /C.St outerring/ St.St. innerirring/ Graphite t=4,5/3mm GR6001.004 1 gab | R7: =VLOOKUP(D7,'Izmaksu piedāvājums'!$A$18:$N$213,13) -> 0 | S7: 1 | T7: =R7*S7 -> 0
A8: 2027 | B8: TEC1 | D8: T1E-MEH-0091 | E8: Galvenā kondensāta filtra kartridžu nomaiņa, 42gab. | F8: #T1.U1 =C00 LCA30 AT005 | G8: 0LCA30AT005 | H8: Filtrs | I8: 386788 | J8: TEC-1 ED siltumiekārtu inženieru grupa | K8: Galvenā kondensāta filtra kartridžu nomaiņa, 42gab. | L8: Galvenā kondensāta filtra kartridžu nomaiņa, 42gab. | M8: 1 Siltumizolācijas demontāža. 2 Filtra vāka noņemšana. 3 Kartridžu, 42 gab., izņemšana no filtra korpusa un utilizācija. 4 Filtra korpusa, vāka un skrūvju tīrīšana. 5 Jauno kartrīdžu uzstādīšana, blīvējuma nomaiņa, filtra savākšana. 6 Filtra blīvuma pārbaude. 7 Siltumizolācijas montāža. | N8: 46419.333 | O8: 46444.646 | P8: 0041853 Ūdens filtra elementi Type P 42-4, 40" HECO Filter cartridge, Type P 42-4, Heco drg. No.32529, micr 40" 1.4301, poliester (max +150°C). Pieg.: SIA Termogrupa, Raž.: A/S Heco Filtration GR6001.004 42 gab | R8: =VLOOKUP(D8,'Izmaksu piedāvājums'!$A$18:$N$213,13) -> 0 | S8: 1 | T8: =R8*S8 -> 0
A9: 2027 | B9: TEC1 | D9: T1E-MEH-0200 | E9: Gaisa resīvera drošības vārstu noņemšana, pārbaude uz stenda un uzstādīšana : Pn=11bar | F9: #T1.U1 =C00 QFA55 AA005 | G9: 0QFA55AA005 | H9: Noslēgvārsts | I9: 386789 | J9: TEC-1 ED siltumiekārtu inženieru grupa | K9: Drošības vārsta pārbaude Nr.11 | L9: Gaisa resīvera drošības vārstu noņemšana, pārbaude uz stenda un uzstādīšana : Pn=11bar | M9: 1 Drošības vārsta noņemšana no tvertnes. 2 Drošības vārsta uzstādīšana pārbaudes stendā. 3 Drošības vārsta nostrādes pārbaude, paceļot slāpekļa spiedienu stendā. DV nostrādes spiedienam jābūt, kā norādīts pasē. 4 Ja DV nostrādes spiediens neatbilst ražotāja datiem, veikt DV ieregulēšanu. Pēc ieregulēšanas un atkārtotas pārbaudes DV noņemšana no stenda. 5 Drošības vārsta uzstādīšana uz tvertne (pielietot jaunu blīvējošu starpliku), blīvējumu pārbaude. | N9: 46419.333 | O9: 46444.646 | R9: =VLOOKUP(D9,'Izmaksu piedāvājums'!$A$18:$N$213,13) -> 0 | S9: 1 | T9: =R9*S9 -> 0
A10: 2027 | B10: TEC1 | D10: T1E-MEH-0211 | E10: Rokas-ķēdes bloka sijas trīša apkope 1.5 t | F10: #T1.U1 =B00 SMH10 AE090 | G10: 0SMH10AE090 | H10: Celtnis. Rokas-ķēdes bloka sijas trīsis 1.5 tn. | I10: 386790 | J10: TEC-1 ED siltumiekārtu inženieru grupa | K10: Telfera sliede ar vinču (apkope) | L10: Rokas-ķēdes bloka sijas trīsis 1.5 tn. ( apkope ) | M10: 1 Kravas ķēdes, nodiluma, stāvokļa (pārrāvumi utt.) un stiprinājumu apskate, ieeļļošana. 2 Pacelšanas mehānisma, skrūvju un uzgriežņu fiksācijas apskate un darbības pārbaude. 3 Kāša un fiksācijas apskate, kāša bloka ieeļļošana. 4 Metālkonstrukcijas apskate un uzkopšana. 5 Buferu un strupceļa apskate. 6 Kravas ratiņu apskate. 7 Kravas ratiņu sliežu ceļa apskate. | N10: 46419.333 | O10: 46444.646 | R10: =VLOOKUP(D10,'Izmaksu piedāvājums'!$A$18:$N$213,13) -> 0 | S10: 1 | T10: =R10*S10 -> 0
A11: 2027 | B11: TEC1 | D11: T1E-MEH-0212 | E11: Rokas-ķēdes bloka sijas trīša apkope 2.0 t | F11: #T1.U1 =B00 SMH10 AE095 | G11: 0SMH10AE095 | H11: Celtnis. Rokas-ķēdes bloka sijas trīsis 2.0 tn. | I11: 386791 | J11: TEC-1 ED siltumiekārtu inženieru grupa | K11: Telfera sliede ar vinču (apkope) | L11: Rokas-ķēdes bloka sijas trīsis 2.0 tn. ( apkope ) | M11: 1 Kravas ķēdes, nodiluma, stāvokļa (pārrāvumi utt.) un stiprinājumu apskate, ieeļļošana. 2 Pacelšanas mehānisma, skrūvju un uzgriežņu fiksācijas apskate un darbības pārbaude. 3 Kāša un fiksācijas apskate, kāša bloka ieeļļošana. 4 Metālkonstrukcijas apskate un uzkopšana. 5 Buferu un strupceļa apskate. 6 Kravas ratiņu apskate. 7 Kravas ratiņu sliežu ceļa apskate. | N11: 46419.333 | O11: 46444.646 | R11: =VLOOKUP(D11,'Izmaksu piedāvājums'!$A$18:$N$213,13) -> 0 | S11: 1 | T11: =R11*S11 -> 0
A12: 2027 | B12: TEC1 | D12: T1E-MEH-0279 | E12: Gāzes skaitītāja Fluxi 2080 TZ G160 noņemšana verifikācijai un uzstādīšana | F12: #T1.U1 =C00 EKA24 CF005 | G12: 0EKA24CF005 | H12: Plūsmas mērītājs | I12: 386792 | J12: TEC-1 ED siltumiekārtu inženieru grupa | K12: Gāzes skaitītāja Fluxi 2080 TZ G160 noņemšana verifikācijai un uzstādīšana. | L12: Gāzes skaitītāja Fluxi 2080 TZ G160 noņemšana verifikācijai un uzstādīšana. | M12: 1 Gāzevada atloku atjaukšana, gredzenu izņemšana un slēgplākšņu DN80, 2gab. uzstādīšana. 2 Gāzes skaitītāja noņemšana verifikācijai. 3 Blīvējošo starpliku DN80, 6gab. izgatavošana un uzstādīšana. 4 Gāzes skaitītāja uzstādīšana pēc verifikācijas. 5 Gāzesvada posma hermētiskuma pārbaude ar slāpekli. P=6,5bar. 6 Slēgplākšņu DN80, 2gab. izņemšana no gāzesvada un gredzenu uzstādīšana atloku savienojumā. | N12: 46419.333 | O12: 46444.646 | R12: =VLOOKUP(D12,'Izmaksu piedāvājums'!$A$18:$N$213,13) -> 0 | S12: 1 | T12: =R12*S12 -> 0
A13: 2027 | B13: TEC1 | D13: T1E-MEH-0090 | E13: Kondensāta filtra Dn 300 tīrīšana | F13: #T1.U1 =C00 LCA21 AT005 | G13: 0LCA21AT005 | H13: Filtrs | I13: 386793 | J13: TEC-1 ED siltumiekārtu inženieru grupa | K13: Kondensāta filtra Dn 300 tīrīšana | L13: Kondensāta filtra Dn 300 tīrīšana | M13: 1 Siltumizolācijas demontāža. 2 Filtra vāka noņemšana. 3 Filtrēšanas sieta izņemšana no filtra korpusa, tīrīšana un defektēšana. 4 Filtra korpusa, vāka un skrūvju tīrīšana. 5 Filtrēšanas sieta uzstādīšana, blīvējuma nomaiņa, filtra savākšana. 6 Filtra blīvuma pārbaude. 7 Siltumizolācijas montāža. | N13: 46447.333 | O13: 46477.698 | R13: =VLOOKUP(D13,'Izmaksu piedāvājums'!$A$18:$N$213,13) -> 0 | S13: 1 | T13: =R13*S13 -> 0
A14: 2027 | B14: TEC1 | D14: T1E-MEH-0090 | E14: Kondensāta filtra Dn 300 tīrīšana | F14: #T1.U1 =C00 LCA22 AT005 | G14: 0LCA22AT005 | H14: Filtrs | I14: 386794 | J14: TEC-1 ED siltumiekārtu inženieru grupa | K14: Kondensāta filtra Dn 300 tīrīšana | L14: Kondensāta filtra Dn 300 tīrīšana | M14: 1 Siltumizolācijas demontāža. 2 Filtra vāka noņemšana. 3 Filtrēšanas sieta izņemšana no filtra korpusa, tīrīšana un defektēšana. 4 Filtra korpusa, vāka un skrūvju tīrīšana. 5 Filtrēšanas sieta uzstādīšana, blīvējuma nomaiņa, filtra savākšana. 6 Filtra blīvuma pārbaude. 7 Siltumizolācijas montāža. | N14: 46447.333 | O14: 46477.698 | R14: =VLOOKUP(D14,'Izmaksu piedāvājums'!$A$18:$N$213,13) -> 0 | S14: 1 | T14: =R14*S14 -> 0
A15: 2027 | B15: TEC1 | D15: T1E-MEH-0090 | E15: Kondensāta filtra Dn 300 tīrīšana | F15: #T1.U1 =C00 LCA61 AT005 | G15: 0LCA61AT005 | H15: Filtrs | I15: 386795 | J15: TEC-1 ED siltumiekārtu inženieru grupa | K15: Kondensāta filtra Dn 300 tīrīšana | L15: Kondensāta filtra Dn 300 tīrīšana | M15: 1 Siltumizolācijas demontāža. 2 Filtra vāka noņemšana. 3 Filtrēšanas sieta izņemšana no filtra korpusa, tīrīšana un defektēšana. 4 Filtra korpusa, vāka un skrūvju tīrīšana. 5 Filtrēšanas sieta uzstādīšana, blīvējuma nomaiņa, filtra savākšana. 6 Filtra blīvuma pārbaude. 7 Siltumizolācijas montāža. | N15: 46447.333 | O15: 46477.698 | R15: =VLOOKUP(D15,'Izmaksu piedāvājums'!$A$18:$N$213,13) -> 0 | S15: 1 | T15: =R15*S15 -> 0
A16: 2027 | B16: TEC1 | D16: T1E-MEH-0090 | E16: Kondensāta filtra Dn 300 tīrīšana | F16: #T1.U1 =C00 LCA62 AT005 | G16: 0LCA62AT005 | H16: Filtrs | I16: 386796 | J16: TEC-1 ED siltumiekārtu inženieru grupa | K16: Kondensāta filtra Dn 300 tīrīšana | L16: Kondensāta filtra Dn 300 tīrīšana | M16: 1 Siltumizolācijas demontāža. 2 Filtra vāka noņemšana. 3 Filtrēšanas sieta izņemšana no filtra korpusa, tīrīšana un defektēšana. 4 Filtra korpusa, vāka un skrūvju tīrīšana. 5 Filtrēšanas sieta uzstādīšana, blīvējuma nomaiņa, filtra savākšana. 6 Filtra blīvuma pārbaude. 7 Siltumizolācijas montāža. | N16: 46447.333 | O16: 46477.698 | R16: =VLOOKUP(D16,'Izmaksu piedāvājums'!$A$18:$N$213,13) -> 0 | S16: 1 | T16: =R16*S16 -> 0
A17: 2027 | B17: TEC1 | D17: T1E-MEH-0152 | E17: Telfera sliede ar pārvietojamu ķēdes vinču 0.5 tn. ( apkope ) | F17: #T1.U1 =B00 SMH10 AE015 | G17: 0SMH10AE015 | H17: Celtnis. Telfera sliede ar pārv. ķēdes vinču 0.5 tn. | I17: 386797 | J17: TEC-1 ED siltumiekārtu inženieru grupa | K17: Telfera sliede ar vinču (apkope) | L17: Telfera sliede ar pārvietojamu ķēdes vinču 0.5 tn. ( apkope ) | M17: 1 Kravas ķēdes, nodiluma, stāvokļa (pārrāvumi utt.) un stiprinājumu apskate, ieeļļošana. 2 Pacelšanas mehānisma, skrūvju un uzgriežņu fiksācijas apskate un darbības pārbaude. 3 Kāša un fiksācijas apskate, kāša bloka ieeļļošana. 4 Metālkonstrukcijas apskate un uzkopšana. 5 Buferu un strupceļa apskate. 6 Kravas ratiņu apskate. 7 Kravas ratiņu sliežu ceļa apskate. | N17: 46447.333 | O17: 46477.698 | R17: =VLOOKUP(D17,'Izmaksu piedāvājums'!$A$18:$N$213,13) -> 0 | S17: 1 | T17: =R17*S17 -> 0
A18: 2027 | B18: TEC1 | D18: T1E-MEH-0152 | E18: Telfera sliede ar pārvietojamu ķēdes vinču 0.5 tn. ( apkope ) | F18: #T1.U1 =B00 SMH10 AE020 | G18: 0SMH10AE020 | H18: Celtnis. Telfera sliede ar pārv. ķēdes vinču 0.5 tn. | I18: 386798 | J18: TEC-1 ED siltumiekārtu inženieru grupa | K18: Telfera sliede ar vinču (apkope) | L18: Telfera sliede ar pārvietojamu ķēdes vinču 0.5 tn. ( apkope ) | M18: 1 Kravas ķēdes, nodiluma, stāvokļa (pārrāvumi utt.) un stiprinājumu apskate, ieeļļošana. 2 Pacelšanas mehānisma, skrūvju un uzgriežņu fiksācijas apskate un darbības pārbaude. 3 Kāša un fiksācijas apskate, kāša bloka ieeļļošana. 4 Metālkonstrukcijas apskate un uzkopšana. 5 Buferu un strupceļa apskate. 6 Kravas ratiņu apskate. 7 Kravas ratiņu sliežu ceļa apskate. | N18: 46447.333 | O18: 46477.698 | R18: =VLOOKUP(D18,'Izmaksu piedāvājums'!$A$18:$N$213,13) -> 0 | S18: 1 | T18: =R18*S18 -> 0
A19: 2027 | B19: TEC1 | D19: T1E-MEH-0088 | E19: Drenāžas sūkņa filtra Dn 100 tīrīšana | F19: #T1.U1 =C00 LCM11 AT005 | G19: 0LCM11AT005 | H19: Filtrs | I19: 386799 | J19: TEC-1 ED siltumiekārtu inženieru grupa | K19: Sietfiltru iztīrīšana Nr.12 | L19: Drenāžas sūkņa filtra Dn 100 tīrīšana | M19: 1 Siltumizolācijas demontāža. 2 Ūdens atliekumu izliešana no filtra korpusa. Filtra vāka noņemšana. 3 Filtrēšanas sieta izņemšana no filtra korpusa, tīrīšana un defektēšana. 4 Filtra korpusa, vāka un skrūvju tīrīšana. 5 Filtrēšanas sieta uzstādīšana, blīvējumu nomaiņa, filtra savākšana. 6 Filtra blīvuma pārbaude. 7 Siltumizolācijas montāža. | N19: 46447.333 | O19: 46477.698 | R19: =VLOOKUP(D19,'Izmaksu piedāvājums'!$A$18:$N$213,13) -> 0 | S19: 1 | T19: =R19*S19 -> 0
A20: 2027 | B20: TEC1 | D20: T1E-MEH-0003 | E20: GT eļļas attīrīšanas iekārtas eļļas filtru nomaiņa | F20: #T1.U1 =G02 MBV20 AT010 | G20: 2MBV20AT010 | H20: Eļļas attīrīšanas sistēmas filtrs | I20: 386800 | J20: TEC-1 ED siltumiekārtu inženieru grupa | K20: GT eļļas filtru nomaiņa | L20: GT eļļas attīrīšanas iekārtas eļļas filtru nomaiņa | M20: 1 Filtra vāka noņemšana, filtrēšanas elementu izņemšana, filtra korpusa iekšējās virsmas tīrīšana. 2 Jaunu filtrēšanas elementu uzstādīšana. 3 Blīves defektēšana (nepieciešamības gadījumā blīves nomaiņa), filtra vāka uzstādīšana. 4 Filtra blīvējumu pārbaude. 5 Filtrēšanas elementu utilizācija. | N20: 46447.333 | O20: 46477.698 | P20: 0041923 Eļļas filtra elements 2xA 27/27 Article PA5600318 CJC GR6001.004 2 kom | R20: =VLOOKUP(D20,'Izmaksu piedāvājums'!$A$18:$N$213,13) -> 0 | S20: 1 | T20: =R20*S20 -> 0
A21: 2027 | B21: TEC1 | D21: T1E-MEH-0139 | E21: Drošības vārstu noņemšana, pārbaude uz stenda un uzstādīšana Pn=20 bar | F21: #T1.U1 =P00 QHA10 AA005 | G21: 0QHA10AA005 | H21: Drošības vārsts | I21: 386801 | J21: TEC-1 ED siltumiekārtu inženieru grupa | K21: Drošības vārsta pārbaude Nr.5 | L21: Drošības vārstu noņemšana, pārbaude uz stenda un uzstādīšana Pn=20 bar | M21: 1 Drošības vārsta noņemšana no cauruļvada. 2 Drošības vārsta uzstādīšana pārbaudes stendā. 3 Drošības vārsta nostrādes pārbaude, paceļot slāpekļa spiedienu stendā. DV nostrādes spiedienam jābūt, kā norādīts pasē. 4 Ja DV nostrādes spiediens neatbilst pases datiem, veikt DV ieregulēšanu. Pēc ieregulēšanas un atkārtotas pārbaudes DV noņemšana no stenda. 5 Drošības vārsta uzstādīšana cauruļvadā (pielietot jaunu blīvējošu starpliku), blīvējumu pārbaude. | N21: 46447.333 | O21: 46477.698 | R21: =VLOOKUP(D21,'Izmaksu piedāvājums'!$A$18:$N$213,13) -> 0 | S21: 1 | T21: =R21*S21 -> 0
A22: 2027 | B22: TEC1 | D22: T1E-MEH-0139 | E22: Drošības vārstu noņemšana, pārbaude uz stenda un uzstādīšana Pn=20 bar | F22: #T1.U1 =P00 QHA10 AA010 | G22: 0QHA10AA010 | H22: Drošības vārsts | I22: 386802 | J22: TEC-1 ED siltumiekārtu inženieru grupa | K22: Drošības vārsta pārbaude Nr.5 | L22: Drošības vārstu noņemšana, pārbaude uz stenda un uzstādīšana Pn=20 bar | M22: 1 Drošības vārsta noņemšana no cauruļvada. 2 Drošības vārsta uzstādīšana pārbaudes stendā. 3 Drošības vārsta nostrādes pārbaude, paceļot slāpekļa spiedienu stendā. DV nostrādes spiedienam jābūt, kā norādīts pasē. 4 Ja DV nostrādes spiediens neatbilst pases datiem, veikt DV ieregulēšanu. Pēc ieregulēšanas un atkārtotas pārbaudes DV noņemšana no stenda. 5 Drošības vārsta uzstādīšana cauruļvadā (pielietot jaunu blīvējošu starpliku), blīvējumu pārbaude. | N22: 46447.333 | O22: 46477.698 | R22: =VLOOKUP(D22,'Izmaksu piedāvājums'!$A$18:$N$213,13) -> 0 | S22: 1 | T22: =R22*S22 -> 0
A23: 2027 | B23: TEC1 | D23: T1E-MEH-0140 | E23: Lūku atvēršana un aizvēršana katla iekšējai apskatei | F23: #T1.U1 =P00 QHA10 AC005 | G23: 0QHA10AC005 | H23: Sildvirsma. Tvaika katls | I23: 386803 | J23: TEC-1 ED siltumiekārtu inženieru grupa | K23: Lūku atvēršana katla iekšējai apskatei | L23: Lūku atvēršana un aizvēršana katla iekšējai apskatei | M23: 1 Apšuvuma un siltumizolācijas noņemšana no katla lūkām (3 vietas). 2 Lūku (3 gab.) atvēršana. 3 Blīvējošas starplikas izgatavošana. 4 Lūku (3 gab.) aizvēršana. 5 Apšuvuma un siltumizolācijas atjaunošana. | N23: 46447.333 | O23: 46477.698 | R23: =VLOOKUP(D23,'Izmaksu piedāvājums'!$A$18:$N$213,13) -> 0 | S23: 1 | T23: =R23*S23 -> 0
A24: 2027 | B24: TEC1 | D24: T1E-MEH-0138 | E24: Drošības vārstu noņemšana, pārbaude uz stenda un uzstādīšana Pn=2,5 bar | F24: #T1.U1 =P00 QLA10 AA010 | G24: 0QLA10AA010 | H24: Drošības vārsts | I24: 386804 | J24: TEC-1 ED siltumiekārtu inženieru grupa | K24: Drošības vārsta pārbaude Nr.5 | L24: Drošības vārstu noņemšana, pārbaude uz stenda un uzstādīšana Pn=2,5 bar | M24: 1 Drošības vārsta noņemšana no cauruļvada. 2 Drošības vārsta uzstādīšana pārbaudes stendā. 3 Drošības vārsta nostrādes pārbaude, paceļot slāpekļa spiedienu stendā. DV nostrādes spiedienam jābūt, kā norādīts pasē. 4 Ja DV nostrādes spiediens neatbilst pases datiem, veikt DV ieregulēšanu. Pēc ieregulēšanas un atkārtotas pārbaudes DV noņemšana no stenda. 5 Drošības vārsta uzstādīšana cauruļvadā (pielietot jaunu blīvējošu starpliku), blīvējumu pārbaude. | N24: 46447.333 | O24: 46477.698 | R24: =VLOOKUP(D24,'Izmaksu piedāvājums'!$A$18:$N$213,13) -> 0 | S24: 1 | T24: =R24*S24 -> 0
A25: 2027 | B25: TEC1 | D25: T1E-MEH-0141 | E25: Lūku atvēršana un aizvēršana tvertne iekšējai apskatei | F25: #T1.U1 =P00 QLA10 BB005 | G25: 0QLA10BB005 | H25: Piebarošanas ūdens tvertne | I25: 386805 | J25: TEC-1 ED siltumiekārtu inženieru grupa | K25: Lūku atvēršana tvertnes apskatei | L25: Lūku atvēršana un aizvēršana tvertne iekšējai apskatei | M25: 1 Lūkas atvēršana. 2 Blīvējošas starplikas izgatavošana. 3 Lūkas aizvēršana. | N25: 46447.333 | O25: 46477.698 | R25: =VLOOKUP(D25,'Izmaksu piedāvājums'!$A$18:$N$213,13) -> 0 | S25: 1 | T25: =R25*S25 -> 0
A26: 2027 | B26: TEC1 | D26: T1E-MEH-0003 | E26: GT eļļas attīrīšanas iekārtas eļļas filtru nomaiņa | F26: #T1.U1 =G01 MBV20 AT010 | G26: 1MBV20AT010 | H26: Eļļas attīrīšanas sistēmas filtrs | I26: 386806 | J26: TEC-1 ED siltumiekārtu inženieru grupa | K26: GT eļļas filtru nomaiņa | L26: GT eļļas attīrīšanas iekārtas eļļas filtru nomaiņa | M26: 1 Filtra vāka noņemšana, filtrēšanas elementu izņemšana, filtra korpusa iekšējās virsmas tīrīšana. 2 Jaunu filtrēšanas elementu uzstādīšana. 3 Blīves defektēšana (nepieciešamības gadījumā blīves nomaiņa), filtra vāka uzstādīšana. 4 Filtra blīvējumu pārbaude. 5 Filtrēšanas elementu utilizācija. | N26: 46447.333 | O26: 46477.698 | P26: 0041923 Eļļas filtra elements 2xA 27/27 Article PA5600318 CJC GR6001.004 2 kom | R26: =VLOOKUP(D26,'Izmaksu piedāvājums'!$A$18:$N$213,13) -> 0 | S26: 1 | T26: =R26*S26 -> 0
A27: 2027 | B27: TEC1 | D27: T1E-MEH-0020 | E27: Galveno eļļas filtru nomaiņa Dn 150 | F27: #T1.U1 =S00 MAV40 AT005 | G27: 0MAV40AT005 | H27: Filtrs | I27: 386807 | J27: TEC-1 ED siltumiekārtu inženieru grupa | K27: Galveno eļļas filtru nomaiņa Dn 150 | L27: Galveno eļļas filtru nomaiņa Dn 150 | M27: 1 Spiediena noņemšanas kontrole, filtra iztukšošana, eļļas atliekumu izliešana un utilizācija. 2 Eļļas filtra vāka noņemšana. 3 Filtrējošo elementu, 5 gab., izņemšana, apskate un utilizācija. 4 Filtra un filtra vāka iztīrīšana. 5 Filtrējošo elementu un vāka blīvējumu pārbaude un nomaiņa, ja nepieciešams. 6 Jauno filtrējošo elementu, 5 gab., uzstādīšana. Filtra savākšana. 7 Filtra blīvuma pārbaude. | N27: 46447.333 | O27: 46477.698 | P27: 0033987 Eļļas filtra elements 0850 R 020 ON /-KB 20 micron HYDAC GR6001.004 5 gab | R27: =VLOOKUP(D27,'Izmaksu piedāvājums'!$A$18:$N$213,13) -> 0 | S27: 1 | T27: =R27*S27 -> 0
A28: 2027 | B28: TEC1 | D28: T1E-MEH-0023 | E28: Filtra kartridžu nomaiņa | F28: #T1.U1 =S00 MAV90 AT010 | G28: 0MAV90AT010 | H28: Filtrs | I28: 386808 | J28: TEC-1 ED siltumiekārtu inženieru grupa | K28: Filtra kartridžu nomaiņa Nr.1 | L28: Filtra kartridžu nomaiņa | M28: 1 Filtra vāka noņemšana, filtrēšanas elementu izņemšana, filtra korpusa iekšējās virsmas tīrīšana. 2 Jaunu filtrēšanas elementu uzstādīšana. 3 Blīves defektēšana (nepieciešamības gadījumā blīves nomaiņa), filtra vāka uzstādīšana. 4 Filtra blīvējumu pārbaude. 5 Filtrēšanas elementu utilizācija. | N28: 46447.333 | O28: 46477.698 | P28: 0041923 Eļļas filtra elements 2xA 27/27 Article PA5600318 CJC GR6001.004 2 kom | R28: =VLOOKUP(D28,'Izmaksu piedāvājums'!$A$18:$N$213,13) -> 0 | S28: 1 | T28: =R28*S28 -> 0
A29: 2027 | B29: TEC1 | D29: T1E-MEH-0023 | E29: Filtra kartridžu nomaiņa | F29: #T1.U1 =S00 MAV90 AT015 | G29: 0MAV90AT015 | H29: Filtrs | I29: 386809 | J29: TEC-1 ED siltumiekārtu inženieru grupa | K29: Filtra kartridžu nomaiņa Nr.1 | L29: Filtra kartridžu nomaiņa | M29: 1 Filtra vāka noņemšana, filtrēšanas elementu izņemšana, filtra korpusa iekšējās virsmas tīrīšana. 2 Jaunu filtrēšanas elementu uzstādīšana. 3 Blīves defektēšana (nepieciešamības gadījumā blīves nomaiņa), filtra vāka uzstādīšana. 4 Filtra blīvējumu pārbaude. 5 Filtrēšanas elementu utilizācija. | N29: 46447.333 | O29: 46477.698 | P29: 0041923 Eļļas filtra elements 2xA 27/27 Article PA5600318 CJC GR6001.004 2 kom | R29: =VLOOKUP(D29,'Izmaksu piedāvājums'!$A$18:$N$213,13) -> 0 | S29: 1 | T29: =R29*S29 -> 0
A30: 2027 | B30: TEC1 | D30: T1E-MEH-0151 | E30: Telfera sliede ar pārvietojamu ķēdes vinču 0.25 tn. ( apkope ) | F30: #T1.U1 =B00 SMH10 AE070 | G30: 0SMH10AE070 | H30: Celtnis. Telfera sliede ar pārv. ķēdes vinču 0.25 tn. | I30: 386810 | J30: TEC-1 ED siltumiekārtu inženieru grupa | K30: Telfera sliede ar vinču (apkope) | L30: Telfera sliede ar pārvietojamu ķēdes vinču 0.25 tn. ( apkope ) | M30: 1 Kravas ķēdes, nodiluma, stāvokļa (pārrāvumi utt.) un stiprinājumu apskate, ieeļļošana. 2 Pacelšanas mehānisma, skrūvju un uzgriežņu fiksācijas apskate un darbības pārbaude. 3 Kāša un fiksācijas apskate, kāša bloka ieeļļošana. 4 Metālkonstrukcijas apskate un uzkopšana. 5 Buferu un strupceļa apskate. 6 Kravas ratiņu apskate. 7 Kravas ratiņu sliežu ceļa apskate. | N30: 46478.333 | O30: 46507.646 | R30: =VLOOKUP(D30,'Izmaksu piedāvājums'!$A$18:$N$213,13) -> 0 | S30: 1 | T30: =R30*S30 -> 0
A31: 2027 | B31: TEC1 | D31: T1E-MEH-0070 | E31: Drošības vārstu ARMATEC 433 (AT4592D4-10-20) Dn25 Pn10 revīzija, funkcionēšanas pārbaude. | F31: #T1.U1 =C00 GHD50 AA010 | G31: 0GHD50AA010 | H31: Drošības vārsts | I31: 386811 | J31: TEC-1 ED siltumiekārtu inženieru grupa | K31: Drošības vārsta pārbaude Nr.6 | L31: Drošības vārstu ARMATEC 433 (AT4592D4-10-20) Dn25 Pn10 revīzija, funkcionēšanas pārbaude. | M31: 1 Drošības vārsta noņemšana no cauruļvada. 2 Drošības vārsta uzstādīšana pārbaudes stendā. 3 Drošības vārsta nostrādes pārbaude paceļot slāpekļa spiedienu stendā. DV nostrādes spiedienam jābūt 10,0 bari. 4 Ja DV nostrādes spiediens neatbilst pases datos norādītajam veikt DV ieregulēšanu un atkārtotu pārbaudi. 5 Drošības vārsta blīvuma pārbaude stendā. 6 Drošības vārsta uzstādīšana uz cauruļvada (pielietot jaunu blīvējošu materiālu). | N31: 46478.333 | O31: 46507.646 | R31: =VLOOKUP(D31,'Izmaksu piedāvājums'!$A$18:$N$213,13) -> 0 | S31: 1 | T31: =R31*S31 -> 0
A32: 2027 | B32: TEC1 | D32: T1E-MEH-0038 | E32: Eļļas papildināšana līdz nepieciešamajam līmenim | F32: #T1.U1 =C00 EKA61 BB001 | G32: 0EKA61BB001 | H32: Eļļas separators | I32: 386812 | J32: TEC-1 ED siltumiekārtu inženieru grupa | K32: Eļļas papildināšana | L32: Eļļas papildināšana līdz nepieciešamajam līmenim | M32: 1 Slēgta atloka noņemšana no ielietnes. 2 Ar pārnesamā sūkņa palīdzību eļļas papildināšana separatorā. 3 Slēgta atloka uzstādīšana uz ielietnes. 4 Slēgta atloka savienojuma blīvējumu pārbaude ar slāpekli | N32: 46478.333 | O32: 46507.646 | P32: 0041754 Kompresoreļļa SHELL MADRELA OIL GS68, SHELL Gas Compressor Oil S4 RN68 SHELL GR7501.002 35 l; 0041984 Spirālblīve 2''-300# 316 Spiral Spirālblīve Spiral wound gasket 2''-300# 316 Spiral /C.St outerring/ St.St. innerirring/ Graphite t=4,5/3mm GR6001.004 1 gab | R32: =VLOOKUP(D32,'Izmaksu piedāvājums'!$A$18:$N$213,13) -> 0 | S32: 1 | T32: =R32*S32 -> 0
A33: 2027 | B33: TEC1 | D33: T1E-MEH-0038 | E33: Eļļas papildināšana līdz nepieciešamajam līmenim | F33: #T1.U1 =C00 EKA62 BB001 | G33: 0EKA62BB001 | H33: Rezervuārs. Eļļas separators | I33: 386813 | J33: TEC-1 ED siltumiekārtu inženieru grupa | K33: Eļļas papildināšana | L33: Eļļas papildināšana līdz nepieciešamajam līmenim | M33: 1 Slēgta atloka noņemšana no ielietnes. 2 Ar pārnesamā sūkņa palīdzību eļļas papildināšana separatorā. 3 Slēgta atloka uzstādīšana uz ielietnes. 4 Slēgta atloka savienojuma blīvējumu pārbaude ar slāpekli | N33: 46478.333 | O33: 46507.646 | P33: 0041754 Kompresoreļļa SHELL MADRELA OIL GS68, SHELL Gas Compressor Oil S4 RN68 SHELL GR7501.002 35 l; 0041984 Spirālblīve 2''-300# 316 Spiral Spirālblīve Spiral wound gasket 2''-300# 316 Spiral /C.St outerring/ St.St. innerirring/ Graphite t=4,5/3mm GR6001.004 1 gab | R33: =VLOOKUP(D33,'Izmaksu piedāvājums'!$A$18:$N$213,13) -> 0 | S33: 1 | T33: =R33*S33 -> 0
A34: 2027 | B34: TEC1 | D34: T1E-MEH-0038 | E34: Eļļas papildināšana līdz nepieciešamajam līmenim | F34: #T1.U1 =C00 EKA63 BB001 | G34: 0EKA63BB001 | H34: Rezervuārs. Eļļas separators | I34: 386814 | J34: TEC-1 ED siltumiekārtu inženieru grupa | K34: Eļļas papildināšana | L34: Eļļas papildināšana līdz nepieciešamajam līmenim | M34: 1 Slēgta atloka noņemšana no ielietnes. 2 Ar pārnesamā sūkņa palīdzību eļļas papildināšana separatorā. 3 Slēgta atloka uzstādīšana uz ielietnes. 4 Slēgta atloka savienojuma blīvējumu pārbaude ar slāpekli | N34: 46478.333 | O34: 46507.646 | P34: 0041754 Kompresoreļļa SHELL MADRELA OIL GS68, SHELL Gas Compressor Oil S4 RN68 SHELL GR7501.002 35 l; 0041984 Spirālblīve 2''-300# 316 Spiral Spirālblīve Spiral wound gasket 2''-300# 316 Spiral /C.St outerring/ St.St. innerirring/ Graphite t=4,5/3mm GR6001.004 1 gab | R34: =VLOOKUP(D34,'Izmaksu piedāvājums'!$A$18:$N$213,13) -> 0 | S34: 1 | T34: =R34*S34 -> 0
A35: 2027 | B35: TEC1 | D35: T1E-MEH-0149 | E35: Telfera sliede ar pārvietojamu ķēdes vinču 1.25 tn. ( apkope ) | F35: #T1.U1 =B00 SMH10 AE050 | G35: 0SMH10AE050 | H35: Celtnis. Telfera sliede ar pārv. ķēdes vinču 1.25 tn. | I35: 386815 | J35: TEC-1 ED siltumiekārtu inženieru grupa | K35: Telfera sliede ar vinču (apkope) | L35: Telfera sliede ar pārvietojamu ķēdes vinču 1.25 tn. ( apkope ) | M35: 1 Kravas ķēdes, nodiluma, stāvokļa (pārrāvumi utt.) un stiprinājumu apskate, ieeļļošana. 2 Pacelšanas mehānisma, skrūvju un uzgriežņu fiksācijas apskate un darbības pārbaude. 3 Kāša un fiksācijas apskate, kāša bloka ieeļļošana. 4 Metālkonstrukcijas apskate un uzkopšana. 5 Buferu un strupceļa apskate. 6 Kravas ratiņu apskate. 7 Kravas ratiņu sliežu ceļa apskate. | N35: 46478.333 | O35: 46507.646 | R35: =VLOOKUP(D35,'Izmaksu piedāvājums'!$A$18:$N$213,13) -> 0 | S35: 1 | T35: =R35*S35 -> 0
A36: 2027 | B36: TEC1 | D36: T1E-MEH-0152 | E36: Telfera sliede ar pārvietojamu ķēdes vinču 0.5 tn. ( apkope ) | F36: #T1.U1 =B00 SMH10 AE055 | G36: 0SMH10AE055 | H36: Celtnis. Telfera sliede ar pārv. ķēdes vinču 0.5 tn. | I36: 386816 | J36: TEC-1 ED siltumiekārtu inženieru grupa | K36: Telfera sliede ar vinču (apkope) | L36: Telfera sliede ar pārvietojamu ķēdes vinču 0.5 tn. ( apkope ) | M36: 1 Kravas ķēdes, nodiluma, stāvokļa (pārrāvumi utt.) un stiprinājumu apskate, ieeļļošana. 2 Pacelšanas mehānisma, skrūvju un uzgriežņu fiksācijas apskate un darbības pārbaude. 3 Kāša un fiksācijas apskate, kāša bloka ieeļļošana. 4 Metālkonstrukcijas apskate un uzkopšana. 5 Buferu un strupceļa apskate. 6 Kravas ratiņu apskate. 7 Kravas ratiņu sliežu ceļa apskate. | N36: 46478.333 | O36: 46507.646 | R36: =VLOOKUP(D36,'Izmaksu piedāvājums'!$A$18:$N$213,13) -> 0 | S36: 1 | T36: =R36*S36 -> 0
A37: 2027 | B37: TEC1 | D37: T1E-MEH-0150 | E37: Telfera sliede ar pārvietojamu ķēdes vinču 3.5 tn. ( apkope ) | F37: #T1.U1 =B00 SMH10 AE060 | G37: 0SMH10AE060 | H37: Celtnis. Telfera sliede ar pārv. ķēdes vinču 3.5 tn. | I37: 386817 | J37: TEC-1 ED siltumiekārtu inženieru grupa | K37: Telfera sliede ar vinču (apkope) | L37: Telfera sliede ar pārvietojamu ķēdes vinču 3.5 tn. ( apkope ) | M37: 1 Kravas ķēdes, nodiluma, stāvokļa (pārrāvumi utt.) un stiprinājumu apskate, ieeļļošana. 2 Pacelšanas mehānisma, skrūvju un uzgriežņu fiksācijas apskate un darbības pārbaude. 3 Kāša un fiksācijas apskate, kāša bloka ieeļļošana. 4 Metālkonstrukcijas apskate un uzkopšana. 5 Buferu un strupceļa apskate. 6 Kravas ratiņu apskate. 7 Kravas ratiņu sliežu ceļa apskate. | N37: 46478.333 | O37: 46507.646 | R37: =VLOOKUP(D37,'Izmaksu piedāvājums'!$A$18:$N$213,13) -> 0 | S37: 1 | T37: =R37*S37 -> 0
A38: 2027 | B38: TEC1 | D38: T1E-MEH-0152 | E38: Telfera sliede ar pārvietojamu ķēdes vinču 0.5 tn. ( apkope ) | F38: #T1.U1 =B00 SMH10 AE065 | G38: 0SMH10AE065 | H38: Celtnis. Telfera sliede ar pārv. ķēdes vinču 0.5 tn. | I38: 386818 | J38: TEC-1 ED siltumiekārtu inženieru grupa | K38: Telfera sliede ar vinču (apkope) | L38: Telfera sliede ar pārvietojamu ķēdes vinču 0.5 tn. ( apkope ) | M38: 1 Kravas ķēdes, nodiluma, stāvokļa (pārrāvumi utt.) un stiprinājumu apskate, ieeļļošana. 2 Pacelšanas mehānisma, skrūvju un uzgriežņu fiksācijas apskate un darbības pārbaude. 3 Kāša un fiksācijas apskate, kāša bloka ieeļļošana. 4 Metālkonstrukcijas apskate un uzkopšana. 5 Buferu un strupceļa apskate. 6 Kravas ratiņu apskate. 7 Kravas ratiņu sliežu ceļa apskate. | N38: 46478.333 | O38: 46507.646 | R38: =VLOOKUP(D38,'Izmaksu piedāvājums'!$A$18:$N$213,13) -> 0 | S38: 1 | T38: =R38*S38 -> 0
A39: 2027 | B39: TEC1 | D39: T1E-MEH-0108 | E39: Gaisa kompresora ķīļsiksnas nomaiņa (komplekts) | F39: #T1.U1 =C00 QFA40 AN005 | G39: 0QFA40AN005 | H39: Gaisa kompresors Nr.1 | I39: 386819 | J39: TEC-1 ED siltumiekārtu inženieru grupa | K39: Gaisa kompresora ķīļsiksnas nomaiņa | L39: Gaisa kompresora ķīļsiksnas nomaiņa (komplekts) | M39: 1 Ķīļsiksnas aizsardzības korpusa noņemšana. 2 Ķīļsiksnas komplekta noņemšana. 3 Jauna ķīļsiksnas komplekta uzstādīšana. 4 Aizsardzības korpusa uzstādīšana. | N39: 46478.333 | O39: 46507.646 | P39: 0041946 Ķīļsiksna MODELIS: 586000938P BOGE S50-3 GR6001.004 4 gab | R39: =VLOOKUP(D39,'Izmaksu piedāvājums'!$A$18:$N$213,13) -> 0 | S39: 1 | T39: =R39*S39 -> 0
A40: 2027 | B40: TEC1 | D40: T1E-MEH-0116 | E40: Magnētisko vārstu nomaiņa. | F40: #T1.U1 =C00 QFA40 AN005 | G40: 0QFA40AN005 | H40: Gaisa kompresors Nr.1 | I40: 386820 | J40: TEC-1 ED siltumiekārtu inženieru grupa | K40: Magnētisko vāstu nomaiņa | L40: Magnētisko vārstu nomaiņa. | M40: 1 Magnētiskā vārsta noņemšana. 2 Jauna magnētiskā vārsta uzstādīšana. 3 Vārsta blīvējumu pārbaude. | N40: 46478.333 | O40: 46507.646 | P40: 0041964 Magnētiskais vārsts MODELIS: 644006101P BOGE S50-2 GR6001.004 1 gab | R40: =VLOOKUP(D40,'Izmaksu piedāvājums'!$A$18:$N$213,13) -> 0 | S40: 1 | T40: =R40*S40 -> 0
A41: 2027 | B41: TEC1 | D41: T1E-MEH-0117 | E41: Iesūknēšanas vārstu nomaiņa | F41: #T1.U1 =C00 QFA40 AN005 | G41: 0QFA40AN005 | H41: Gaisa kompresors Nr.1 | I41: 386821 | J41: TEC-1 ED siltumiekārtu inženieru grupa | K41: Iesūknēšanas vārstu nomaiņa | L41: Iesūknēšanas vārstu nomaiņa | M41: 1 Iesūknēšanas vārsta noņemšana. 2 Jauna iesūknēšanas vārsta uzstādīšana. 3 Vārsta blīvējumu pārbaude. | N41: 46478.333 | O41: 46507.646 | P41: 0041965 Iesūknēšanas vārsts MODELIS: 2420088671P BOGE S50-3 GR6001.004 1 gab | R41: =VLOOKUP(D41,'Izmaksu piedāvājums'!$A$18:$N$213,13) -> 0 | S41: 1 | T41: =R41*S41 -> 0
A42: 2027 | B42: TEC1 | D42: T1E-MEH-0100 | E42: Gaisa kompresora gaisa ieplūdes filtru nomaiņa | F42: #T1.U1 =C00 QFA45 AN005 | G42: 0QFA45AN005 | H42: Gaisa kompresors Nr.2 | I42: 386822 | J42: TEC-1 ED siltumiekārtu inženieru grupa | K42: Gaisa kompresora gaisa ieplūdes filtru nomaiņa | L42: Gaisa kompresora gaisa ieplūdes filtru nomaiņa | M42: 1 Gaisa kompresora gaisa ieplūdes filtra korpusa atvēršana. 2 Vecā gaisa filtra noņemšana. 3 Gaisa ieplūdes ekrāna un filtra korpusa tīrīšana. 4 Jaunā gaisa filtra uzstādīšana. 5 Filtra uzstādīšanas pārbaude. 6 Filtrēšanas elementa utilizācija. | N42: 46478.333 | O42: 46507.646 | P42: 0041942 Apkalpošanas komplekts MODELIS: 2900003566P BOGE S50-2 GR6001.004 1 gab | R42: =VLOOKUP(D42,'Izmaksu piedāvājums'!$A$18:$N$213,13) -> 0 | S42: 1 | T42: =R42*S42 -> 0
A43: 2027 | B43: TEC1 | D43: T1E-MEH-0101 | E43: Gaisa kompresora eļļas filtru nomaiņa | F43: #T1.U1 =C00 QFA45 AN005 | G43: 0QFA45AN005 | H43: Gaisa kompresors Nr.2 | I43: 386823 | J43: TEC-1 ED siltumiekārtu inženieru grupa | K43: Gaisa kompresora eļļas filtru nomaiņa | L43: Gaisa kompresora eļļas filtru nomaiņa | M43: 1 Filtrēšanas elementa noņemšana. 2 Jauna blīves un filtrēšanas elementa uzstādīšana. 3 Filtra blīvējumu pārbaude. 4 Filtrēšanas elementa utilizācija. | N43: 46478.333 | O43: 46507.646 | R43: =VLOOKUP(D43,'Izmaksu piedāvājums'!$A$18:$N$213,13) -> 0 | S43: 1 | T43: =R43*S43 -> 0
A44: 2027 | B44: TEC1 | D44: T1E-MEH-0102 | E44: Gaisa kompresora eļļas atdalītāju nomaiņa | F44: #T1.U1 =C00 QFA45 AN005 | G44: 0QFA45AN005 | H44: Gaisa kompresors Nr.2 | I44: 386824 | J44: TEC-1 ED siltumiekārtu inženieru grupa | K44: Gaisa kompresora eļļas atdal. nomaiņa | L44: Gaisa kompresora eļļas atdalītāju nomaiņa | M44: 1 Eļļas atdalītāja elementa noņemšana. 2 Jauna blīves un eļļas atdalītāja elementa uzstādīšana. 3 Eļļas atdalītāja blīvējumu pārbaude. 4 Eļļas atdalītāja elementa utilizācija. | N44: 46478.333 | O44: 46507.646 | R44: =VLOOKUP(D44,'Izmaksu piedāvājums'!$A$18:$N$213,13) -> 0 | S44: 1 | T44: =R44*S44 -> 0
A45: 2027 | B45: TEC1 | D45: T1E-MEH-0103 | E45: Gaisa kompresora eļļas maiņa | F45: #T1.U1 =C00 QFA45 AN005 | G45: 0QFA45AN005 | H45: Gaisa kompresors Nr.2 | I45: 386825 | J45: TEC-1 ED siltumiekārtu inženieru grupa | K45: Gaisa kompresora eļļas maiņa | L45: Gaisa kompresora eļļas maiņa | M45: 1 Saspiesta gaisa kompresora eļļas tvertne noliešanas ventiļa atvēršana, eļļas noliešana, izmantojot savākšanas tvertni. 2 Pēc eļļas iztukšošanās noliešanas ventiļa aizvēršana. 3 Uzpildīšanas skrūves atskrūvēšana, eļļas piepildīšana. 4 Pēc eļļas piepildīšanas, uzpildīšanas skrūves ieskrūvēšana. 5 Eļļas noplūdes pārbaude. 6 Eļļas utilizācija. | N45: 46478.333 | O45: 46507.646 | P45: 0041943 Eļļa SHELL CORENA S3 R 46 30 l | R45: =VLOOKUP(D45,'Izmaksu piedāvājums'!$A$18:$N$213,13) -> 0 | S45: 1 | T45: =R45*S45 -> 0
A46: 2027 | B46: TEC1 | D46: T1E-MEH-0104 | E46: Gaisa kompresora drošības vārstu pārbaude | F46: #T1.U1 =C00 QFA45 AN005 | G46: 0QFA45AN005 | H46: Gaisa kompresors Nr.2 | I46: 386826 | J46: TEC-1 ED siltumiekārtu inženieru grupa | K46: Drošības vārsta pārbaude Nr.11 | L46: Gaisa kompresora drošības vārstu pārbaude | M46: 1 Drošības vārsta noņemšana no tvertnes. 2 Drošības vārsta uzstādīšana pārbaudes stendā. 3 Drošības vārsta nostrādes pārbaude, paceļot slāpekļa spiedienu stendā. DV nostrādes spiedienam jābūt, kā norādīts pasē. 4 Ja DV nostrādes spiediens neatbilst ražotāja datiem, veikt DV ieregulēšanu. Pēc ieregulēšanas un atkārtotas pārbaudes DV noņemšana no stenda. 5 Drošības vārsta uzstādīšana uz tvertne (pielietot jaunu blīvējošu starpliku), blīvējumu pārbaude. | N46: 46478.333 | O46: 46507.646 | R46: =VLOOKUP(D46,'Izmaksu piedāvājums'!$A$18:$N$213,13) -> 0 | S46: 1 | T46: =R46*S46 -> 0
A47: 2027 | B47: TEC1 | D47: T1E-MEH-0105 | E47: Minimālā spiediena vārstu nomaiņa | F47: #T1.U1 =C00 QFA45 AN005 | G47: 0QFA45AN005 | H47: Gaisa kompresors Nr.2 | I47: 386827 | J47: TEC-1 ED siltumiekārtu inženieru grupa | K47: Minimālā spiediena vārstu nomaiņa | L47: Minimālā spiediena vārstu nomaiņa | M47: 1 Minimālā spiediena vārsta noņemšana. 2 Jauna minimālā spiediena vārsta uzstādīšana. 3 Vārsta blīvējumu pārbaude. | N47: 46478.333 | O47: 46507.646 | P47: 0041944 Minimālā spiediena vārsts MODELIS: 223044167P BOGE S50-2 GR6001.004 1 gab | R47: =VLOOKUP(D47,'Izmaksu piedāvājums'!$A$18:$N$213,13) -> 0 | S47: 1 | T47: =R47*S47 -> 0
A48: 2027 | B48: TEC1 | D48: T1E-MEH-0106 | E48: Eļļas regulatoru nomaiņa | F48: #T1.U1 =C00 QFA45 AN005 | G48: 0QFA45AN005 | H48: Gaisa kompresors Nr.2 | I48: 386828 | J48: TEC-1 ED siltumiekārtu inženieru grupa | K48: Eļļas regulatoru nomaiņa | L48: Eļļas regulatoru nomaiņa | M48: 1 Eļļas regulatora noņemšana. 2 Jauna eļļas regulatora uzstādīšana. 3 Eļļas regulatora blīvējumu pārbaude. | N48: 46478.333 | O48: 46507.646 | P48: 0041945 Eļļas regulators MODELIS: 2420289671P BOGE S50-2 GR6001.004 1 gab | R48: =VLOOKUP(D48,'Izmaksu piedāvājums'!$A$18:$N$213,13) -> 0 | S48: 1 | T48: =R48*S48 -> 0
A49: 2027 | B49: TEC1 | D49: T1E-MEH-0107 | E49: Eļļas dzesētāju tīrīšana | F49: #T1.U1 =C00 QFA45 AN005 | G49: 0QFA45AN005 | H49: Gaisa kompresors Nr.2 | I49: 386829 | J49: TEC-1 ED siltumiekārtu inženieru grupa | K49: Eļļas dzesētāju tīrīšana | L49: Eļļas dzesētāju tīrīšana | M49: 1 Eļļas dzesētāja korpusa vāka noņemšana, dzesētāja korpusa iekšējas virsmas tīrīšana ar saspiesto gaisu. 2 Eļļas dzesētāja korpusa vāka uzstādīšana. | N49: 46478.333 | O49: 46507.646 | R49: =VLOOKUP(D49,'Izmaksu piedāvājums'!$A$18:$N$213,13) -> 0 | S49: 1 | T49: =R49*S49 -> 0
A50: 2027 | B50: TEC1 | D50: T1E-MEH-0108 | E50: Gaisa kompresora ķīļsiksnas nomaiņa (komplekts) | F50: #T1.U1 =C00 QFA45 AN005 | G50: 0QFA45AN005 | H50: Gaisa kompresors Nr.2 | I50: 386830 | J50: TEC-1 ED siltumiekārtu inženieru grupa | K50: Gaisa kompresora ķīļsiksnas nomaiņa | L50: Gaisa kompresora ķīļsiksnas nomaiņa (komplekts) | M50: 1 Ķīļsiksnas aizsardzības korpusa noņemšana. 2 Ķīļsiksnas komplekta noņemšana. 3 Jauna ķīļsiksnas komplekta uzstādīšana. 4 Aizsardzības korpusa uzstādīšana. | N50: 46478.333 | O50: 46507.646 | P50: 0041946 Ķīļsiksna MODELIS: 586000938P BOGE S50-3 GR6001.004 4 gab | R50: =VLOOKUP(D50,'Izmaksu piedāvājums'!$A$18:$N$213,13) -> 0 | S50: 1 | T50: =R50*S50 -> 0
A51: 2027 | B51: TEC1 | D51: T1E-MEH-0116 | E51: Magnētisko vārstu nomaiņa. | F51: #T1.U1 =C00 QFA45 AN005 | G51: 0QFA45AN005 | H51: Gaisa kompresors Nr.2 | I51: 386831 | J51: TEC-1 ED siltumiekārtu inženieru grupa | K51: Magnētisko vāstu nomaiņa | L51: Magnētisko vārstu nomaiņa. | M51: 1 Magnētiskā vārsta noņemšana. 2 Jauna magnētiskā vārsta uzstādīšana. 3 Vārsta blīvējumu pārbaude. | N51: 46478.333 | O51: 46507.646 | P51: 0041964 Magnētiskais vārsts MODELIS: 644006101P BOGE S50-2 GR6001.004 1 gab | R51: =VLOOKUP(D51,'Izmaksu piedāvājums'!$A$18:$N$213,13) -> 0 | S51: 1 | T51: =R51*S51 -> 0
A52: 2027 | B52: TEC1 | D52: T1E-MEH-0117 | E52: Iesūknēšanas vārstu nomaiņa | F52: #T1.U1 =C00 QFA45 AN005 | G52: 0QFA45AN005 | H52: Gaisa kompresors Nr.2 | I52: 386832 | J52: TEC-1 ED siltumiekārtu inženieru grupa | K52: Iesūknēšanas vārstu nomaiņa | L52: Iesūknēšanas vārstu nomaiņa | M52: 1 Iesūknēšanas vārsta noņemšana. 2 Jauna iesūknēšanas vārsta uzstādīšana. 3 Vārsta blīvējumu pārbaude. | N52: 46478.333 | O52: 46507.646 | P52: 0041965 Iesūknēšanas vārsts MODELIS: 2420088671P BOGE S50-3 GR6001.004 1 gab | R52: =VLOOKUP(D52,'Izmaksu piedāvājums'!$A$18:$N$213,13) -> 0 | S52: 1 | T52: =R52*S52 -> 0
A53: 2027 | B53: TEC1 | D53: T1E-MEH-0008 | E53: GT gaisa ieplūdes filtru nomaiņa | F53: #T1.U1 =G01 MBL10 AT010 | G53: 1MBL10AT010 | H53: Filtrēšanas ierīce. Priekšfiltrs g4 | I53: 386833 | J53: TEC-1 ED siltumiekārtu inženieru grupa | K53: Gaisa ieplūdes filtru nomaiņa Nr.1 | L53: GT gaisa ieplūdes filtru nomaiņa | M53: 1 Gaisa filtru uzcelšana ar konsoles celtni un izvietošana uz GT telpas jumta. 2 Filtru fiksatoru atvienošana, veco gaisa filtru noņemšana, izvietošana uz jumta. 3 Gaisa filtru blīvējumu defektēšana. 4 Gaisa ieplūdes rāmja un filtru telpas tīrīšana. 5 Jaunu gaisa filtru uzstādīšana, filtru fiksatoru pievienošana. Nepieļaut svešu priekšmetu nokļūšanu gaisa ieplūdes ventilācijas sistēmā. 6 Filtru uzstādīšanas pārbaude. 7 Veco gaisa filtru nocelšana no jumta ar konsoles celtni. 8 Gaisa filtru utilizācija. | N53: 46478.333 | O53: 46507.646 | P53: 0041928 Gaisa ieplūdes filtrs GT HI-FLO II P7/520 50+ HFGS-F7-592/592/520-10-25 (WxHxD) CAMFIL FARR GR6001.004 45 gab | R53: =VLOOKUP(D53,'Izmaksu piedāvājums'!$A$18:$N$213,13) -> 0 | S53: 1 | T53: =R53*S53 -> 0
A54: 2027 | B54: TEC1 | D54: T1E-MEH-0008 | E54: GT gaisa ieplūdes filtru nomaiņa | F54: #T1.U1 =G01 MBL10 AT015 | G54: 1MBL10AT015 | H54: Augstas efektivitātes filtrs h9 | I54: 386834 | J54: TEC-1 ED siltumiekārtu inženieru grupa | K54: Gaisa ieplūdes filtru nomaiņa Nr.1 | L54: GT gaisa ieplūdes filtru nomaiņa | M54: 1 Gaisa filtru uzcelšana ar konsoles celtni un izvietošana uz GT telpas jumta. 2 Filtru fiksatoru atvienošana, veco gaisa filtru noņemšana, izvietošana uz jumta. 3 Gaisa filtru blīvējumu defektēšana. 4 Gaisa ieplūdes rāmja un filtru telpas tīrīšana. 5 Jaunu gaisa filtru uzstādīšana, filtru fiksatoru pievienošana. Nepieļaut svešu priekšmetu nokļūšanu gaisa ieplūdes ventilācijas sistēmā. 6 Filtru uzstādīšanas pārbaude. 7 Veco gaisa filtru nocelšana no jumta ar konsoles celtni. 8 Gaisa filtru utilizācija. | N54: 46478.333 | O54: 46507.646 | P54: 0041927 Gaisa ieplūdes filtrs GT CAM GT 4V-300- E10-Std 592x592x292 (WxHxD) CAMFIL FARR GR6001.004 45 gab | R54: =VLOOKUP(D54,'Izmaksu piedāvājums'!$A$18:$N$213,13) -> 0 | S54: 1 | T54: =R54*S54 -> 0
A55: 2027 | B55: TEC1 | D55: T1E-MEH-0088 | E55: Drenāžas sūkņa filtra Dn 100 tīrīšana | F55: #T1.U1 =C00 LCM12 AT005 | G55: 0LCM12AT005 | H55: Filtrs | I55: 386835 | J55: TEC-1 ED siltumiekārtu inženieru grupa | K55: Sietfiltru iztīrīšana Nr.12 | L55: Drenāžas sūkņa filtra Dn 100 tīrīšana | M55: 1 Siltumizolācijas demontāža. 2 Ūdens atliekumu izliešana no filtra korpusa. Filtra vāka noņemšana. 3 Filtrēšanas sieta izņemšana no filtra korpusa, tīrīšana un defektēšana. 4 Filtra korpusa, vāka un skrūvju tīrīšana. 5 Filtrēšanas sieta uzstādīšana, blīvējumu nomaiņa, filtra savākšana. 6 Filtra blīvuma pārbaude. 7 Siltumizolācijas montāža. | N55: 46478.333 | O55: 46507.646 | R55: =VLOOKUP(D55,'Izmaksu piedāvājums'!$A$18:$N$213,13) -> 0 | S55: 1 | T55: =R55*S55 -> 0
A56: 2027 | B56: TEC1 | D56: T1E-MEH-0086 | E56: Blīvripas Dn250 demontāža ar siltumizolācijas demontāžu un montāžu. | F56: #T1.U1 =C00 NDA70 AB005 | G56: 0NDA70AB005 | H56: Blīvripa | I56: 386836 | J56: TEC-1 ED siltumiekārtu inženieru grupa | K56: Blīvripas demontāža un gredzena montāža | L56: Blīvripas Dn250 demontāža ar siltumizolācijas demontāžu un montāžu. | M56: 1 Siltumizolācijas demontāža 2 Blīvripas demontāža 3 Blīvējumu izgatavošana 4 Gredzenu uzstādīšana 5 Atloksavienojuma blīvuma pārbaude un siltumizolācijas montāža | N56: 46478.333 | O56: 46507.646 | R56: =VLOOKUP(D56,'Izmaksu piedāvājums'!$A$18:$N$213,13) -> 0 | S56: 1 | T56: =R56*S56 -> 0
A57: 2027 | B57: TEC1 | D57: T1E-MEH-0086 | E57: Blīvripas Dn250 demontāža ar siltumizolācijas demontāžu un montāžu. | F57: #T1.U1 =C00 NDB70 AB005 | G57: 0NDB70AB005 | H57: Blīvripa | I57: 386837 | J57: TEC-1 ED siltumiekārtu inženieru grupa | K57: Blīvripas demontāža un gredzena montāža | L57: Blīvripas Dn250 demontāža ar siltumizolācijas demontāžu un montāžu. | M57: 1 Siltumizolācijas demontāža 2 Blīvripas demontāža 3 Blīvējumu izgatavošana 4 Gredzenu uzstādīšana 5 Atloksavienojuma blīvuma pārbaude un siltumizolācijas montāža | N57: 46478.333 | O57: 46507.646 | R57: =VLOOKUP(D57,'Izmaksu piedāvājums'!$A$18:$N$213,13) -> 0 | S57: 1 | T57: =R57*S57 -> 0
A58: 2027 | B58: TEC1 | D58: T1E-MEH-0100 | E58: Gaisa kompresora gaisa ieplūdes filtru nomaiņa | F58: #T1.U1 =C00 QFA40 AN005 | G58: 0QFA40AN005 | H58: Gaisa kompresors Nr.1 | I58: 386838 | J58: TEC-1 ED siltumiekārtu inženieru grupa | K58: Gaisa kompresora gaisa ieplūdes filtru nomaiņa | L58: Gaisa kompresora gaisa ieplūdes filtru nomaiņa | M58: 1 Gaisa kompresora gaisa ieplūdes filtra korpusa atvēršana. 2 Vecā gaisa filtra noņemšana. 3 Gaisa ieplūdes ekrāna un filtra korpusa tīrīšana. 4 Jaunā gaisa filtra uzstādīšana. 5 Filtra uzstādīšanas pārbaude. 6 Filtrēšanas elementa utilizācija. | N58: 46478.333 | O58: 46507.646 | P58: 0041942 Apkalpošanas komplekts MODELIS: 2900003566P BOGE S50-2 GR6001.004 1 gab | R58: =VLOOKUP(D58,'Izmaksu piedāvājums'!$A$18:$N$213,13) -> 0 | S58: 1 | T58: =R58*S58 -> 0
A59: 2027 | B59: TEC1 | D59: T1E-MEH-0101 | E59: Gaisa kompresora eļļas filtru nomaiņa | F59: #T1.U1 =C00 QFA40 AN005 | G59: 0QFA40AN005 | H59: Gaisa kompresors Nr.1 | I59: 386839 | J59: TEC-1 ED siltumiekārtu inženieru grupa | K59: Gaisa kompresora eļļas filtru nomaiņa | L59: Gaisa kompresora eļļas filtru nomaiņa | M59: 1 Filtrēšanas elementa noņemšana. 2 Jauna blīves un filtrēšanas elementa uzstādīšana. 3 Filtra blīvējumu pārbaude. 4 Filtrēšanas elementa utilizācija. | N59: 46478.333 | O59: 46507.646 | R59: =VLOOKUP(D59,'Izmaksu piedāvājums'!$A$18:$N$213,13) -> 0 | S59: 1 | T59: =R59*S59 -> 0
A60: 2027 | B60: TEC1 | D60: T1E-MEH-0102 | E60: Gaisa kompresora eļļas atdalītāju nomaiņa | F60: #T1.U1 =C00 QFA40 AN005 | G60: 0QFA40AN005 | H60: Gaisa kompresors Nr.1 | I60: 386840 | J60: TEC-1 ED siltumiekārtu inženieru grupa | K60: Gaisa kompresora eļļas atdal. nomaiņa | L60: Gaisa kompresora eļļas atdalītāju nomaiņa | M60: 1 Eļļas atdalītāja elementa noņemšana. 2 Jauna blīves un eļļas atdalītāja elementa uzstādīšana. 3 Eļļas atdalītāja blīvējumu pārbaude. 4 Eļļas atdalītāja elementa utilizācija. | N60: 46478.333 | O60: 46507.646 | R60: =VLOOKUP(D60,'Izmaksu piedāvājums'!$A$18:$N$213,13) -> 0 | S60: 1 | T60: =R60*S60 -> 0
A61: 2027 | B61: TEC1 | D61: T1E-MEH-0103 | E61: Gaisa kompresora eļļas maiņa | F61: #T1.U1 =C00 QFA40 AN005 | G61: 0QFA40AN005 | H61: Gaisa kompresors Nr.1 | I61: 386841 | J61: TEC-1 ED siltumiekārtu inženieru grupa | K61: Gaisa kompresora eļļas maiņa | L61: Gaisa kompresora eļļas maiņa | M61: 1 Saspiesta gaisa kompresora eļļas tvertne noliešanas ventiļa atvēršana, eļļas noliešana, izmantojot savākšanas tvertni. 2 Pēc eļļas iztukšošanās noliešanas ventiļa aizvēršana. 3 Uzpildīšanas skrūves atskrūvēšana, eļļas piepildīšana. 4 Pēc eļļas piepildīšanas, uzpildīšanas skrūves ieskrūvēšana. 5 Eļļas noplūdes pārbaude. 6 Eļļas utilizācija. | N61: 46478.333 | O61: 46507.646 | P61: 0041943 Eļļa SHELL CORENA S3 R 46 30 l | R61: =VLOOKUP(D61,'Izmaksu piedāvājums'!$A$18:$N$213,13) -> 0 | S61: 1 | T61: =R61*S61 -> 0
A62: 2027 | B62: TEC1 | D62: T1E-MEH-0104 | E62: Gaisa kompresora drošības vārstu pārbaude | F62: #T1.U1 =C00 QFA40 AN005 | G62: 0QFA40AN005 | H62: Gaisa kompresors Nr.1 | I62: 386842 | J62: TEC-1 ED siltumiekārtu inženieru grupa | K62: Drošības vārsta pārbaude Nr.11 | L62: Gaisa kompresora drošības vārstu pārbaude | M62: 1 Drošības vārsta noņemšana no tvertnes. 2 Drošības vārsta uzstādīšana pārbaudes stendā. 3 Drošības vārsta nostrādes pārbaude, paceļot slāpekļa spiedienu stendā. DV nostrādes spiedienam jābūt, kā norādīts pasē. 4 Ja DV nostrādes spiediens neatbilst ražotāja datiem, veikt DV ieregulēšanu. Pēc ieregulēšanas un atkārtotas pārbaudes DV noņemšana no stenda. 5 Drošības vārsta uzstādīšana uz tvertne (pielietot jaunu blīvējošu starpliku), blīvējumu pārbaude. | N62: 46478.333 | O62: 46507.646 | R62: =VLOOKUP(D62,'Izmaksu piedāvājums'!$A$18:$N$213,13) -> 0 | S62: 1 | T62: =R62*S62 -> 0
A63: 2027 | B63: TEC1 | D63: T1E-MEH-0105 | E63: Minimālā spiediena vārstu nomaiņa | F63: #T1.U1 =C00 QFA40 AN005 | G63: 0QFA40AN005 | H63: Gaisa kompresors Nr.1 | I63: 386843 | J63: TEC-1 ED siltumiekārtu inženieru grupa | K63: Minimālā spiediena vārstu nomaiņa | L63: Minimālā spiediena vārstu nomaiņa | M63: 1 Minimālā spiediena vārsta noņemšana. 2 Jauna minimālā spiediena vārsta uzstādīšana. 3 Vārsta blīvējumu pārbaude. | N63: 46478.333 | O63: 46507.646 | P63: 0041944 Minimālā spiediena vārsts MODELIS: 223044167P BOGE S50-2 GR6001.004 1 gab | R63: =VLOOKUP(D63,'Izmaksu piedāvājums'!$A$18:$N$213,13) -> 0 | S63: 1 | T63: =R63*S63 -> 0
A64: 2027 | B64: TEC1 | D64: T1E-MEH-0106 | E64: Eļļas regulatoru nomaiņa | F64: #T1.U1 =C00 QFA40 AN005 | G64: 0QFA40AN005 | H64: Gaisa kompresors Nr.1 | I64: 386844 | J64: TEC-1 ED siltumiekārtu inženieru grupa | K64: Eļļas regulatoru nomaiņa | L64: Eļļas regulatoru nomaiņa | M64: 1 Eļļas regulatora noņemšana. 2 Jauna eļļas regulatora uzstādīšana. 3 Eļļas regulatora blīvējumu pārbaude. | N64: 46478.333 | O64: 46507.646 | P64: 0041945 Eļļas regulators MODELIS: 2420289671P BOGE S50-2 GR6001.004 1 gab | R64: =VLOOKUP(D64,'Izmaksu piedāvājums'!$A$18:$N$213,13) -> 0 | S64: 1 | T64: =R64*S64 -> 0
A65: 2027 | B65: TEC1 | D65: T1E-MEH-0107 | E65: Eļļas dzesētāju tīrīšana | F65: #T1.U1 =C00 QFA40 AN005 | G65: 0QFA40AN005 | H65: Gaisa kompresors Nr.1 | I65: 386845 | J65: TEC-1 ED siltumiekārtu inženieru grupa | K65: Eļļas dzesētāju tīrīšana | L65: Eļļas dzesētāju tīrīšana | M65: 1 Eļļas dzesētāja korpusa vāka noņemšana, dzesētāja korpusa iekšējas virsmas tīrīšana ar saspiesto gaisu. 2 Eļļas dzesētāja korpusa vāka uzstādīšana. | N65: 46478.333 | O65: 46507.646 | R65: =VLOOKUP(D65,'Izmaksu piedāvājums'!$A$18:$N$213,13) -> 0 | S65: 1 | T65: =R65*S65 -> 0
A66: 2027 | B66: TEC1 | D66: T1E-MEH-0057 | E66: Boilera lūku atveršana un aizvēršana iekšējai vīrsmu tīrīšanai un apskatei (2 gab.) | F66: #T1.U1 =H01 HAD20 BB010 | G66: 1HAD20BB010 | H66: Boilers | I66: 386846 | J66: TEC-1 ED siltumiekārtu inženieru grupa | K66: Boilera iekšējā apskate | L66: Boilera lūku atveršana un aizvēršana iekšējai vīrsmu tīrīšanai un apskatei (2 gab.) | M66: 1 Siltumizolācijas noņemšana no boilera lūkām (2 vietas). 2 Lūku (2 gab.) atvēršana. 3 Blīvējošas starplikas (2 gab.) izgatavošana, uzstādīšana. 4 Lūku (2 gab.) aizvēršana. 5 Lūku blīvējumu pārbaude. 6 Siltumizolācijas atjaunošana. | N66: 46478.333 | O66: 46507.646 | R66: =VLOOKUP(D66,'Izmaksu piedāvājums'!$A$18:$N$213,13) -> 0 | S66: 1 | T66: =R66*S66 -> 0
A67: 2027 | B67: TEC1 | D67: T1E-MEH-0055 | E67: Lūku atvēršana un aizvēršana katla iekšējai apskatei ( 4 gab.) | F67: #T1.U1 =H01 HBK10 BR005 | G67: 1HBK10BR005 | H67: Dūmvads | I67: 386847 | J67: TEC-1 ED siltumiekārtu inženieru grupa | K67: Katla iekšējā apskate | L67: Lūku atvēršana un aizvēršana katla iekšējai apskatei ( 4 gab.) | M67: 1 Apšuvuma noņemšana no katla lūkām (4 vietas). 2 Lūku (4 gab.) atvēršana. 3 Blīvējošas starplikas (4 gab.) izgatavošana, uzstādīšana. 4 Lūku (4 gab.) aizvēršana. 5 Apšuvuma uzstādīšana. | N67: 46478.333 | O67: 46507.646 | R67: =VLOOKUP(D67,'Izmaksu piedāvājums'!$A$18:$N$213,13) -> 0 | S67: 1 | T67: =R67*S67 -> 0
A68: 2027 | B68: TEC1 | D68: T1E-MEH-0059 | E68: Dūmeņa aizvaru blīvslēgu pārbaude, tīrīšana, eļļošana un darbības pārbaude | F68: #T1.U1 =H01 HNE10 AA005 | G68: 1HNE10AA005 | H68: Dūmu aizvars | I68: 386848 | J68: TEC-1 ED siltumiekārtu inženieru grupa | K68: Dūmeņa aizvaru blīvslēgu pārbaude | L68: Dūmeņa aizvaru blīvslēgu pārbaude, tīrīšana, eļļošana un darbības pārbaude | M68: 1 Dūmeņa aizvaru blīvslēgu korpusa vāku noņemšana. 2 Blīvslēgu tīrīšana, eļļošana. 3 Dūmeņa aizvaru blīvslēgu korpusa vāku uzstādīšana. 4 Dūmeņa aizvaru darbības pārbaude. | N68: 46478.333 | O68: 46507.646 | R68: =VLOOKUP(D68,'Izmaksu piedāvājums'!$A$18:$N$213,13) -> 0 | S68: 1 | T68: =R68*S68 -> 0
A69: 2027 | B69: TEC1 | D69: T1E-MEH-0056 | E69: Lūku atvēršana un aizvērš. dūmeņa iekšējai un ārējai apskatei (2 gab.) | F69: #T1.U1 =H01 HNE10 BR005 | G69: 1HNE10BR005 | H69: Cauruļvads | I69: 386849 | J69: TEC-1 ED siltumiekārtu inženieru grupa | K69: Dūmeņa iekšējā un ārējā apskate | L69: Lūku atvēršana un aizvērš. dūmeņa iekšējai un ārējai apskatei (2 gab.) | M69: 1 Lūku (2 gab.) atvēršana. 2 Blīvējošas starplikas (2 gab.) izgatavošana, uzstādīšana. 3 Lūku (2 gab.) aizvēršana. 4 Apšuvuma uzstādīšana. | N69: 46478.333 | O69: 46507.646 | R69: =VLOOKUP(D69,'Izmaksu piedāvājums'!$A$18:$N$213,13) -> 0 | S69: 1 | T69: =R69*S69 -> 0
A70: 2027 | B70: TEC1 | D70: T1E-MEH-0057 | E70: Boilera lūku atveršana un aizvēršana iekšējai vīrsmu tīrīšanai un apskatei (2 gab.) | F70: #T1.U1 =H02 HAD20 BB010 | G70: 2HAD20BB010 | H70: Boilers | I70: 386850 | J70: TEC-1 ED siltumiekārtu inženieru grupa | K70: Boilera iekšējā apskate | L70: Boilera lūku atveršana un aizvēršana iekšējai vīrsmu tīrīšanai un apskatei (2 gab.) | M70: 1 Siltumizolācijas noņemšana no boilera lūkām (2 vietas). 2 Lūku (2 gab.) atvēršana. 3 Blīvējošas starplikas (2 gab.) izgatavošana, uzstādīšana. 4 Lūku (2 gab.) aizvēršana. 5 Lūku blīvējumu pārbaude. 6 Siltumizolācijas atjaunošana. | N70: 46478.333 | O70: 46507.646 | R70: =VLOOKUP(D70,'Izmaksu piedāvājums'!$A$18:$N$213,13) -> 0 | S70: 1 | T70: =R70*S70 -> 0
A71: 2027 | B71: TEC1 | D71: T1E-MEH-0055 | E71: Lūku atvēršana un aizvēršana katla iekšējai apskatei ( 4 gab.) | F71: #T1.U1 =H02 HBK10 BR005 | G71: 2HBK10BR005 | H71: Dūmvads | I71: 386851 | J71: TEC-1 ED siltumiekārtu inženieru grupa | K71: Katla iekšējā apskate | L71: Lūku atvēršana un aizvēršana katla iekšējai apskatei ( 4 gab.) | M71: 1 Apšuvuma noņemšana no katla lūkām (4 vietas). 2 Lūku (4 gab.) atvēršana. 3 Blīvējošas starplikas (4 gab.) izgatavošana, uzstādīšana. 4 Lūku (4 gab.) aizvēršana. 5 Apšuvuma uzstādīšana. | N71: 46478.333 | O71: 46507.646 | R71: =VLOOKUP(D71,'Izmaksu piedāvājums'!$A$18:$N$213,13) -> 0 | S71: 1 | T71: =R71*S71 -> 0
A72: 2027 | B72: TEC1 | D72: T1E-MEH-0059 | E72: Dūmeņa aizvaru blīvslēgu pārbaude, tīrīšana, eļļošana un darbības pārbaude | F72: #T1.U1 =H02 HNE10 AA005 | G72: 2HNE10AA005 | H72: Dūmu aizvars | I72: 386852 | J72: TEC-1 ED siltumiekārtu inženieru grupa | K72: Dūmeņa aizvaru blīvslēgu pārbaude | L72: Dūmeņa aizvaru blīvslēgu pārbaude, tīrīšana, eļļošana un darbības pārbaude | M72: 1 Dūmeņa aizvaru blīvslēgu korpusa vāku noņemšana. 2 Blīvslēgu tīrīšana, eļļošana. 3 Dūmeņa aizvaru blīvslēgu korpusa vāku uzstādīšana. 4 Dūmeņa aizvaru darbības pārbaude. | N72: 46478.333 | O72: 46507.646 | R72: =VLOOKUP(D72,'Izmaksu piedāvājums'!$A$18:$N$213,13) -> 0 | S72: 1 | T72: =R72*S72 -> 0
A73: 2027 | B73: TEC1 | D73: T1E-MEH-0056 | E73: Lūku atvēršana un aizvērš. dūmeņa iekšējai un ārējai apskatei (2 gab.) | F73: #T1.U1 =H02 HNE10 BR005 | G73: 2HNE10BR005 | H73: Cauruļvads | I73: 386853 | J73: TEC-1 ED siltumiekārtu inženieru grupa | K73: Dūmeņa iekšējā un ārējā apskate | L73: Lūku atvēršana un aizvērš. dūmeņa iekšējai un ārējai apskatei (2 gab.) | M73: 1 Lūku (2 gab.) atvēršana. 2 Blīvējošas starplikas (2 gab.) izgatavošana, uzstādīšana. 3 Lūku (2 gab.) aizvēršana. 4 Apšuvuma uzstādīšana. | N73: 46478.333 | O73: 46507.646 | R73: =VLOOKUP(D73,'Izmaksu piedāvājums'!$A$18:$N$213,13) -> 0 | S73: 1 | T73: =R73*S73 -> 0
A74: 2027 | B74: TEC1 | D74: T1E-MEH-0008 | E74: GT gaisa ieplūdes filtru nomaiņa | F74: #T1.U1 =G01 MBL10 AT025 | G74: 1MBL10AT025 | H74: Filtrēšanas ierīce. Priekšfiltrs g4 | I74: 386854 | J74: TEC-1 ED siltumiekārtu inženieru grupa | K74: Gaisa ieplūdes filtru nomaiņa Nr.1 | L74: GT gaisa ieplūdes filtru nomaiņa | M74: 1 Gaisa filtru uzcelšana ar konsoles celtni un izvietošana uz GT telpas jumta. 2 Filtru fiksatoru atvienošana, veco gaisa filtru noņemšana, izvietošana uz jumta. 3 Gaisa filtru blīvējumu defektēšana. 4 Gaisa ieplūdes rāmja un filtru telpas tīrīšana. 5 Jaunu gaisa filtru uzstādīšana, filtru fiksatoru pievienošana. Nepieļaut svešu priekšmetu nokļūšanu gaisa ieplūdes ventilācijas sistēmā. 6 Filtru uzstādīšanas pārbaude. 7 Veco gaisa filtru nocelšana no jumta ar konsoles celtni. 8 Gaisa filtru utilizācija. | N74: 46478.333 | O74: 46507.646 | P74: 0041928 Gaisa ieplūdes filtrs GT HI-FLO II P7/520 50+ HFGS-F7-592/592/520-10-25 (WxHxD) CAMFIL FARR GR6001.004 45 gab | R74: =VLOOKUP(D74,'Izmaksu piedāvājums'!$A$18:$N$213,13) -> 0 | S74: 1 | T74: =R74*S74 -> 0
A75: 2027 | B75: TEC1 | D75: T1E-MEH-0008 | E75: GT gaisa ieplūdes filtru nomaiņa | F75: #T1.U1 =G01 MBL10 AT030 | G75: 1MBL10AT030 | H75: Filtrēšanas ierīce. Augstas efektivitātes filtrs h9 | I75: 386855 | J75: TEC-1 ED siltumiekārtu inženieru grupa | K75: Gaisa ieplūdes filtru nomaiņa Nr.1 | L75: GT gaisa ieplūdes filtru nomaiņa | M75: 1 Gaisa filtru uzcelšana ar konsoles celtni un izvietošana uz GT telpas jumta. 2 Filtru fiksatoru atvienošana, veco gaisa filtru noņemšana, izvietošana uz jumta. 3 Gaisa filtru blīvējumu defektēšana. 4 Gaisa ieplūdes rāmja un filtru telpas tīrīšana. 5 Jaunu gaisa filtru uzstādīšana, filtru fiksatoru pievienošana. Nepieļaut svešu priekšmetu nokļūšanu gaisa ieplūdes ventilācijas sistēmā. 6 Filtru uzstādīšanas pārbaude. 7 Veco gaisa filtru nocelšana no jumta ar konsoles celtni. 8 Gaisa filtru utilizācija. | N75: 46478.333 | O75: 46507.646 | P75: 0041927 Gaisa ieplūdes filtrs GT CAM GT 4V-300- E10-Std 592x592x292 (WxHxD) CAMFIL FARR GR6001.004 45 gab | R75: =VLOOKUP(D75,'Izmaksu piedāvājums'!$A$18:$N$213,13) -> 0 | S75: 1 | T75: =R75*S75 -> 0
A76: 2027 | B76: TEC1 | D76: T1E-MEH-0173 | E76: Dūmsūcēja iekšēja apskate | F76: #T1.U1 =U05 HNA25 AN005 | G76: 5HNA25AN005 | H76: UK3 dūmsūcējs | I76: 386856 | J76: TEC-1 ED siltumiekārtu inženieru grupa | K76: Dūmsūcēja iekšēja apskate | L76: Dūmsūcēja iekšēja apskate | M76: 1 Dūmsūcēja lūku (3 gab.) atvēršana. 2 Dūmsūcēja iekšējās virsmas tīrīšana no nosēdumiem. 3 Lūku blīvējoša materiāla (blīvējuma auklas) nomaiņa. 4 Dūmsūcēja lūku (3 gab.) aizvēršana. | N76: 46478.333 | O76: 46507.646 | R76: =VLOOKUP(D76,'Izmaksu piedāvājums'!$A$18:$N$213,13) -> 0 | S76: 1 | T76: =R76*S76 -> 0
A77: 2027 | B77: TEC1 | D77: T1E-MEH-0173 | E77: Dūmsūcēja iekšēja apskate | F77: #T1.U1 =U03 HNA25 AN005 | G77: 3HNA25AN005 | H77: UK1 dūmsūcējs | I77: 386857 | J77: TEC-1 ED siltumiekārtu inženieru grupa | K77: Dūmsūcēja iekšēja apskate | L77: Dūmsūcēja iekšēja apskate | M77: 1 Dūmsūcēja lūku (3 gab.) atvēršana. 2 Dūmsūcēja iekšējās virsmas tīrīšana no nosēdumiem. 3 Lūku blīvējoša materiāla (blīvējuma auklas) nomaiņa. 4 Dūmsūcēja lūku (3 gab.) aizvēršana. | N77: 46478.333 | O77: 46507.646 | R77: =VLOOKUP(D77,'Izmaksu piedāvājums'!$A$18:$N$213,13) -> 0 | S77: 1 | T77: =R77*S77 -> 0
A78: 2027 | B78: TEC1 | D78: T1E-MEH-0173 | E78: Dūmsūcēja iekšēja apskate | F78: #T1.U1 =U04 HNA25 AN005 | G78: 4HNA25AN005 | H78: UK2 dūmsūcējs | I78: 386858 | J78: TEC-1 ED siltumiekārtu inženieru grupa | K78: Dūmsūcēja iekšēja apskate | L78: Dūmsūcēja iekšēja apskate | M78: 1 Dūmsūcēja lūku (3 gab.) atvēršana. 2 Dūmsūcēja iekšējās virsmas tīrīšana no nosēdumiem. 3 Lūku blīvējoša materiāla (blīvējuma auklas) nomaiņa. 4 Dūmsūcēja lūku (3 gab.) aizvēršana. | N78: 46478.333 | O78: 46507.646 | R78: =VLOOKUP(D78,'Izmaksu piedāvājums'!$A$18:$N$213,13) -> 0 | S78: 1 | T78: =R78*S78 -> 0
A79: 2027 | B79: TEC1 | D79: T1E-MEH-0149 | E79: Telfera sliede ar pārvietojamu ķēdes vinču 1.25 tn. ( apkope ) | F79: #T1.U1 =B00 SMH10 AE025 | G79: 0SMH10AE025 | H79: Celtnis. Telfera sliede ar pārv. ķēdes vinču 1.25 tn. | I79: 386859 | J79: TEC-1 ED siltumiekārtu inženieru grupa | K79: Telfera sliede ar vinču (apkope) | L79: Telfera sliede ar pārvietojamu ķēdes vinču 1.25 tn. ( apkope ) | M79: 1 Kravas ķēdes, nodiluma, stāvokļa (pārrāvumi utt.) un stiprinājumu apskate, ieeļļošana. 2 Pacelšanas mehānisma, skrūvju un uzgriežņu fiksācijas apskate un darbības pārbaude. 3 Kāša un fiksācijas apskate, kāša bloka ieeļļošana. 4 Metālkonstrukcijas apskate un uzkopšana. 5 Buferu un strupceļa apskate. 6 Kravas ratiņu apskate. 7 Kravas ratiņu sliežu ceļa apskate. | N79: 46510.333 | O79: 46538.698 | R79: =VLOOKUP(D79,'Izmaksu piedāvājums'!$A$18:$N$213,13) -> 0 | S79: 1 | T79: =R79*S79 -> 0
A80: 2027 | B80: TEC1 | D80: T1E-MEH-0152 | E80: Telfera sliede ar pārvietojamu ķēdes vinču 0.5 tn. ( apkope ) | F80: #T1.U1 =B00 SMH10 AE030 | G80: 0SMH10AE030 | H80: Celtnis. Telfera sliede ar pārv. ķēdes vinču 0.5 tn. | I80: 386860 | J80: TEC-1 ED siltumiekārtu inženieru grupa | K80: Telfera sliede ar vinču (apkope) | L80: Telfera sliede ar pārvietojamu ķēdes vinču 0.5 tn. ( apkope ) | M80: 1 Kravas ķēdes, nodiluma, stāvokļa (pārrāvumi utt.) un stiprinājumu apskate, ieeļļošana. 2 Pacelšanas mehānisma, skrūvju un uzgriežņu fiksācijas apskate un darbības pārbaude. 3 Kāša un fiksācijas apskate, kāša bloka ieeļļošana. 4 Metālkonstrukcijas apskate un uzkopšana. 5 Buferu un strupceļa apskate. 6 Kravas ratiņu apskate. 7 Kravas ratiņu sliežu ceļa apskate. | N80: 46510.333 | O80: 46538.698 | R80: =VLOOKUP(D80,'Izmaksu piedāvājums'!$A$18:$N$213,13) -> 0 | S80: 1 | T80: =R80*S80 -> 0
A81: 2027 | B81: TEC1 | D81: T1E-MEH-0150 | E81: Telfera sliede ar pārvietojamu ķēdes vinču 3.5 tn. ( apkope ) | F81: #T1.U1 =B00 SMH10 AE035 | G81: 0SMH10AE035 | H81: Celtnis. Telfera sliede ar pārv. ķēdes vinču 3.5 tn. | I81: 386861 | J81: TEC-1 ED siltumiekārtu inženieru grupa | K81: Telfera sliede ar vinču (apkope) | L81: Telfera sliede ar pārvietojamu ķēdes vinču 3.5 tn. ( apkope ) | M81: 1 Kravas ķēdes, nodiluma, stāvokļa (pārrāvumi utt.) un stiprinājumu apskate, ieeļļošana. 2 Pacelšanas mehānisma, skrūvju un uzgriežņu fiksācijas apskate un darbības pārbaude. 3 Kāša un fiksācijas apskate, kāša bloka ieeļļošana. 4 Metālkonstrukcijas apskate un uzkopšana. 5 Buferu un strupceļa apskate. 6 Kravas ratiņu apskate. 7 Kravas ratiņu sliežu ceļa apskate. | N81: 46510.333 | O81: 46538.698 | R81: =VLOOKUP(D81,'Izmaksu piedāvājums'!$A$18:$N$213,13) -> 0 | S81: 1 | T81: =R81*S81 -> 0
A82: 2027 | B82: TEC1 | D82: T1E-MEH-0152 | E82: Telfera sliede ar pārvietojamu ķēdes vinču 0.5 tn. ( apkope ) | F82: #T1.U1 =B00 SMH10 AE040 | G82: 0SMH10AE040 | H82: Celtnis. Telfera sliede ar pārv. ķēdes vinču 0.5 tn. | I82: 386862 | J82: TEC-1 ED siltumiekārtu inženieru grupa | K82: Telfera sliede ar vinču (apkope) | L82: Telfera sliede ar pārvietojamu ķēdes vinču 0.5 tn. ( apkope ) | M82: 1 Kravas ķēdes, nodiluma, stāvokļa (pārrāvumi utt.) un stiprinājumu apskate, ieeļļošana. 2 Pacelšanas mehānisma, skrūvju un uzgriežņu fiksācijas apskate un darbības pārbaude. 3 Kāša un fiksācijas apskate, kāša bloka ieeļļošana. 4 Metālkonstrukcijas apskate un uzkopšana. 5 Buferu un strupceļa apskate. 6 Kravas ratiņu apskate. 7 Kravas ratiņu sliežu ceļa apskate. | N82: 46510.333 | O82: 46538.698 | R82: =VLOOKUP(D82,'Izmaksu piedāvājums'!$A$18:$N$213,13) -> 0 | S82: 1 | T82: =R82*S82 -> 0
A83: 2027 | B83: TEC1 | D83: T1E-MEH-0151 | E83: Telfera sliede ar pārvietojamu ķēdes vinču 0.25 tn. ( apkope ) | F83: #T1.U1 =B00 SMH10 AE045 | G83: 0SMH10AE045 | H83: Celtnis. Telfera sliede ar pārv. ķēdes vinču 0.25 tn. | I83: 386863 | J83: TEC-1 ED siltumiekārtu inženieru grupa | K83: Telfera sliede ar vinču (apkope) | L83: Telfera sliede ar pārvietojamu ķēdes vinču 0.25 tn. ( apkope ) | M83: 1 Kravas ķēdes, nodiluma, stāvokļa (pārrāvumi utt.) un stiprinājumu apskate, ieeļļošana. 2 Pacelšanas mehānisma, skrūvju un uzgriežņu fiksācijas apskate un darbības pārbaude. 3 Kāša un fiksācijas apskate, kāša bloka ieeļļošana. 4 Metālkonstrukcijas apskate un uzkopšana. 5 Buferu un strupceļa apskate. 6 Kravas ratiņu apskate. 7 Kravas ratiņu sliežu ceļa apskate. | N83: 46510.333 | O83: 46538.698 | R83: =VLOOKUP(D83,'Izmaksu piedāvājums'!$A$18:$N$213,13) -> 0 | S83: 1 | T83: =R83*S83 -> 0
A84: 2027 | B84: TEC1 | D84: T1E-MEH-0142 | E84: Lūku atvēršana un aizvēršana, s/t ūdens sildītāja Nr1 tvertnes sagatavošana iekšējai apskatei | F84: #T1.U1 =C00 MAG10 AC005 | G84: 0MAG10AC005 | H84: S/t ūdens 1. kondensators | I84: 386864 | J84: TEC-1 ED siltumiekārtu inženieru grupa | K84: Lūku atvēršana un aizvēršana, s/t kondensatora Nr1 tvertnes sagatavošana iekšējai apskatei | L84: Lūku atvēršana un aizvēršana, s/t ūdens sildītāja Nr1 tvertnes sagatavošana iekšējai apskatei | M84: 1 Siltumizolācijas ar metāla pārsegumu noņemšana no tvertnes lūku (2 vietas). 2 Lūku (2 gab.) atvēršana. 3 Pagaidāma pārseguma izgatavošana un uzstādīšana tvertnē. (1 vieta) 4 Caurules plākšņu tīrīšana pirms iekšējai apskatei 5 Blīvējošas starplikas izgatavošana. 6 Lūku (2 gab.) aizvēršana. 7 Siltumizolācijas ar metāla pārsegumu atjaunošana. | N84: 46510.333 | O84: 46538.698 | R84: =VLOOKUP(D84,'Izmaksu piedāvājums'!$A$18:$N$213,13) -> 0 | S84: 1 | T84: =R84*S84 -> 0
A85: 2027 | B85: TEC1 | D85: T1E-MEH-0144 | E85: 0MAG20AC005 drošības vārstu noņemšana, pārbaude uz stenda un uzstādīšana Pn=1.1bar | F85: #T1.U1 =C00 MAG20 AA005 | G85: 0MAG20AA005 | H85: Drošības vārsts | I85: 386865 | J85: TEC-1 ED siltumiekārtu inženieru grupa | K85: Drošības vārsta pārbaude Nr.5 | L85: 0MAG20AC005 drošības vārstu noņemšana, pārbaude uz stenda un uzstādīšana Pn=1.1bar | M85: 1 Drošības vārsta noņemšana no cauruļvada. 2 Drošības vārsta uzstādīšana pārbaudes stendā. 3 Drošības vārsta nostrādes pārbaude, paceļot slāpekļa spiedienu stendā. DV nostrādes spiedienam jābūt, kā norādīts pasē. 4 Ja DV nostrādes spiediens neatbilst pases datiem, veikt DV ieregulēšanu. Pēc ieregulēšanas un atkārtotas pārbaudes DV noņemšana no stenda. 5 Drošības vārsta uzstādīšana cauruļvadā (pielietot jaunu blīvējošu starpliku), blīvējumu pārbaude. | N85: 46510.333 | O85: 46538.698 | R85: =VLOOKUP(D85,'Izmaksu piedāvājums'!$A$18:$N$213,13) -> 0 | S85: 1 | T85: =R85*S85 -> 0
A86: 2027 | B86: TEC1 | D86: T1E-MEH-0143 | E86: Lūku atvēršana un aizvēršana, s/t ūdens sildītāja Nr2 tvertnes sagatavošana iekšējai apskatei | F86: #T1.U1 =C00 MAG20 AC005 | G86: 0MAG20AC005 | H86: S/t ūdens 2. kondensators | I86: 386866 | J86: TEC-1 ED siltumiekārtu inženieru grupa | K86: Lūku atvēršana un aizvēršana, s/t kondensatora Nr2 tvertnes sagatavošana iekšējai apskatei | L86: Lūku atvēršana un aizvēršana, s/t ūdens sildītāja Nr2 tvertnes sagatavošana iekšējai apskatei | M86: 1 Siltumizolācijas ar metāla pārsegumu noņemšana no tvertnes lūku (2 vietas). 2 Lūku (2 gab.) atvēršana. 3 Pagaidāma pārseguma izgatavošana un uzstādīšana tvertnē. (2 vietas) 4 Caurules plākšņu tīrīšana pirms iekšējai apskatei 5 Blīvējošas starplikas izgatavošana. 6 Lūku (2 gab.) aizvēršana. 7 Siltumizolācijas ar metāla pārsegumu atjaunošana. | N86: 46510.333 | O86: 46538.698 | R86: =VLOOKUP(D86,'Izmaksu piedāvājums'!$A$18:$N$213,13) -> 0 | S86: 1 | T86: =R86*S86 -> 0
A87: 2027 | B87: TEC1 | D87: T1E-MEH-0147 | E87: 0MAG30AC005 drošības vārstu noņemšana, pārbaude uz stenda un uzstādīšana Pn=3.25bar | F87: #T1.U1 =C00 MAG30 AA005 | G87: 0MAG30AA005 | H87: Drošības vārsts | I87: 386867 | J87: TEC-1 ED siltumiekārtu inženieru grupa | K87: Drošības vārsta pārbaude Nr.5 | L87: 0MAG30AC005 drošības vārstu noņemšana, pārbaude uz stenda un uzstādīšana Pn=3.25bar | M87: 1 Drošības vārsta noņemšana no cauruļvada. 2 Drošības vārsta uzstādīšana pārbaudes stendā. 3 Drošības vārsta nostrādes pārbaude, paceļot slāpekļa spiedienu stendā. DV nostrādes spiedienam jābūt, kā norādīts pasē. 4 Ja DV nostrādes spiediens neatbilst pases datiem, veikt DV ieregulēšanu. Pēc ieregulēšanas un atkārtotas pārbaudes DV noņemšana no stenda. 5 Drošības vārsta uzstādīšana cauruļvadā (pielietot jaunu blīvējošu starpliku), blīvējumu pārbaude. | N87: 46510.333 | O87: 46538.698 | R87: =VLOOKUP(D87,'Izmaksu piedāvājums'!$A$18:$N$213,13) -> 0 | S87: 1 | T87: =R87*S87 -> 0
... A99: 2027 | B99: TEC1 | D99: T1E-MEH-0093 | E99: Drošības vārstu LASER 441 (AT4547-4-8,0-125) Dn125/200 Pn40/16 revīzija, funkcionēšanas pārbaude | F99: #T1.U1 =C00 LBD40 AA005 | G99: 0LBD40AA005 | H99: Drošības vārsts | I99: 386879 | J99: TEC-1 ED siltumiekārtu inženieru grupa | K99: Drošības vārstu LASER 441 (AT4547-4-8,0-125) Dn125/200 Pn40/16 revīzija, funkcionēšanas pārbaude | L99: Drošības vārstu LASER 441 (AT4547-4-8,0-125) Dn125/200 Pn40/16 revīzija, funkcionēšanas pārbaude | M99: 1 Drošības vārsta noņemšana no cauruļvada. 2 Drošības vārsta uzstādīšana pārbaudes stendā. 3 Drošības vārsta nostrādes pārbaude paceļot slāpekļa spiedienu stendā. DV nostrādes spiedienam jābūt 8,0 bari. 4 Ja DV nostrādes spiediens neatbilst pases datos norādītajam veikt DV ieregulēšanu un atkārtotu pārbaudi. 5 Drošības vārsta blīvuma pārbaude stendā. 6 Drošības vārsta uzstādīšana uz cauruļvada (pielietot jaunu blīvējošu starpliku). | N99: 46539.333 | O99: 46568.698 | R99: =VLOOKUP(D99,'Izmaksu piedāvājums'!$A$18:$N$213,13) -> 0 | S99: 1 | T99: =R99*S99 -> 0
A100: 2027 | B100: TEC1 | D100: T1E-MEH-0063 | E100: Gāzes pieņemšanas stacijas filtra nomaiņa (ELMT1012-2X600) | F100: #T1.U1 =C00 EKA21 AT005 | G100: 0EKA21AT005 | H100: Gāzes filtrs | I100: 386880 | J100: TEC-1 ED siltumiekārtu inženieru grupa | K100: Gāzes pieņemš. stacijas filtra nomaiņa | L100: Gāzes pieņemšanas stacijas filtra nomaiņa (ELMT1012-2X600) | M100: 1 Gāzes filtra vāka noņemšana. 2 Filtrēšanas elementu izņemšana no filtra korpusa. 3 Filtra korpusa iekšējās virsmas attīrīšana no netīrumiem un putekļiem. 4 Jauno filtrēšanas elementu uzstādīšana. 5 Filtra vāka aizvēršana (pielietot jaunu blīvējošu starpliku). 6 Filtra blīvējumu pārbaude ar slāpekli. | N100: 46539.333 | O100: 46568.698 | P100: 0033803 Filtrs gāzes ELT-M1012-2x600 GR6001.004 1 gab; 0041985 Spirālblīve 20''-150# 316 Spiral Spirālblīve Spiral wound gasket 20''-150# 316 Spiral /C.St outerring/ St.St. innerirring/ Graphite t=4,5/3mm GR6001.004 1 gab | R100: =VLOOKUP(D100,'Izmaksu piedāvājums'!$A$18:$N$213,13) -> 0 | S100: 1 | T100: =R100*S100 -> 0
A101: 2027 | B101: TEC1 | D101: T1E-MEH-0063 | E101: Gāzes pieņemšanas stacijas filtra nomaiņa (ELMT1012-2X600) | F101: #T1.U1 =C00 EKA22 AT005 | G101: 0EKA22AT005 | H101: Gāzes filtrs | I101: 386881 | J101: TEC-1 ED siltumiekārtu inženieru grupa | K101: Gāzes pieņemš. stacijas filtra nomaiņa | L101: Gāzes pieņemšanas stacijas filtra nomaiņa (ELMT1012-2X600) | M101: 1 Gāzes filtra vāka noņemšana. 2 Filtrēšanas elementu izņemšana no filtra korpusa. 3 Filtra korpusa iekšējās virsmas attīrīšana no netīrumiem un putekļiem. 4 Jauno filtrēšanas elementu uzstādīšana. 5 Filtra vāka aizvēršana (pielietot jaunu blīvējošu starpliku). 6 Filtra blīvējumu pārbaude ar slāpekli. | N101: 46539.333 | O101: 46568.698 | P101: 0033803 Filtrs gāzes ELT-M1012-2x600 GR6001.004 1 gab; 0041985 Spirālblīve 20''-150# 316 Spiral Spirālblīve Spiral wound gasket 20''-150# 316 Spiral /C.St outerring/ St.St. innerirring/ Graphite t=4,5/3mm GR6001.004 1 gab | R101: =VLOOKUP(D101,'Izmaksu piedāvājums'!$A$18:$N$213,13) -> 0 | S101: 1 | T101: =R101*S101 -> 0
A102: 2027 | B102: TEC1 | D102: T1E-MEH-0063 | E102: Gāzes pieņemšanas stacijas filtra nomaiņa (ELMT1012-2X600) | F102: #T1.U1 =C00 EKA23 AT005 | G102: 0EKA23AT005 | H102: Gāzes filtrs | I102: 386882 | J102: TEC-1 ED siltumiekārtu inženieru grupa | K102: Gāzes pieņemš. stacijas filtra nomaiņa | L102: Gāzes pieņemšanas stacijas filtra nomaiņa (ELMT1012-2X600) | M102: 1 Gāzes filtra vāka noņemšana. 2 Filtrēšanas elementu izņemšana no filtra korpusa. 3 Filtra korpusa iekšējās virsmas attīrīšana no netīrumiem un putekļiem. 4 Jauno filtrēšanas elementu uzstādīšana. 5 Filtra vāka aizvēršana (pielietot jaunu blīvējošu starpliku). 6 Filtra blīvējumu pārbaude ar slāpekli. | N102: 46539.333 | O102: 46568.698 | P102: 0033803 Filtrs gāzes ELT-M1012-2x600 GR6001.004 1 gab; 0041985 Spirālblīve 20''-150# 316 Spiral Spirālblīve Spiral wound gasket 20''-150# 316 Spiral /C.St outerring/ St.St. innerirring/ Graphite t=4,5/3mm GR6001.004 1 gab | R102: =VLOOKUP(D102,'Izmaksu piedāvājums'!$A$18:$N$213,13) -> 0 | S102: 1 | T102: =R102*S102 -> 0
A103: 2027 | B103: TEC1 | D103: T1E-MEH-0064 | E103: Gāzes pieņemšanas stacijas filtra tīrīšana (Dn80) | F103: #T1.U1 =C00 EKA24 AT005 | G103: 0EKA24AT005 | H103: Gāzes filtrs | I103: 386883 | J103: TEC-1 ED siltumiekārtu inženieru grupa | K103: Gāzes pieņemšanas stacijas filtra tīrīšana (Dn80) | L103: Gāzes pieņemšanas stacijas filtra tīrīšana (Dn80) | M103: 1 Gāzes filtra vāka noņemšana. 2 Sietveida filtra tīrīšana, filtra korpusa iekšējās virsmas tīrīšana. 3 Filtra vāka aizvēršana (pielietot jaunu blīvējušu starpliku). 4 Filtra blīvējumu pārbaude ar slāpekli. | N103: 46539.333 | O103: 46568.698 | R103: =VLOOKUP(D103,'Izmaksu piedāvājums'!$A$18:$N$213,13) -> 0 | S103: 1 | T103: =R103*S103 -> 0
A104: 2027 | B104: TEC1 | D104: T1E-MEH-0031 | E104: Sietiņa filtra tīrīšana (Dn250) | F104: #T1.U1 =C00 EKA61 AT001 | G104: 0EKA61AT001 | H104: Sieta filtrs | I104: 386884 | J104: TEC-1 ED siltumiekārtu inženieru grupa | K104: Sietiņa filtra tīrīšana (Dn250) | L104: Sietiņa filtra tīrīšana (Dn250) | M104: 1 Cauruļvada posma ar filtru noņemšana. 2 Sietiņa filtra izņemšana no cauruļvada un iztīrīšana. 3 Cauruļvada posma ar sietiņa filtru uzstādīšana uz vietas (pielietot jaunu blīvējošu starpliku). 4 Cauruļvada atloku blīvējumu pārbaude ar slāpekli. | N104: 46539.333 | O104: 46568.698 | R104: =VLOOKUP(D104,'Izmaksu piedāvājums'!$A$18:$N$213,13) -> 0 | S104: 1 | T104: =R104*S104 -> 0
A105: 2027 | B105: TEC1 | D105: T1E-MEH-0033 | E105: Eļļas pilienu atdalītāja tīrīšana (Dn 490X200) | F105: #T1.U1 =C00 EKA61 AT002 | G105: 0EKA61AT002 | H105: Filtrs | I105: 386885 | J105: TEC-1 ED siltumiekārtu inženieru grupa | K105: Eļļas pilienu atdalītāja tīrīšana | L105: Eļļas pilienu atdalītāja tīrīšana (Dn 490X200) | M105: 1 Darbu jāveic vienlaicīgi ar eļļas separatora filtrēšanas elementu nomaiņu. 2 Tērauda plāksnes Ø565x10 noņemšana eļļas separatora iekšpusē. 3 Eļļas pilienu atdalītāja tīrīšana. 4 Blīvējuma starplikas izgatavošana, tērauda plāksnes uzstādīšana vietā. | N105: 46539.333 | O105: 46568.698 | R105: =VLOOKUP(D105,'Izmaksu piedāvājums'!$A$18:$N$213,13) -> 0 | S105: 1 | T105: =R105*S105 -> 0
A106: 2027 | B106: TEC1 | D106: T1E-MEH-0032 | E106: Eļļas separatora filtra filtrējošo elementu nomaiņa (ELT-920 - 3 gab.) | F106: #T1.U1 =C00 EKA61 AT003 | G106: 0EKA61AT003 | H106: Filtrs | I106: 386886 | J106: TEC-1 ED siltumiekārtu inženieru grupa | K106: Eļļas separatora filtra filtrējošo elementu nomaiņa (ELT-920 - 3 gab.) | L106: Eļļas separatora filtra filtrējošo elementu nomaiņa (ELT-920 - 3 gab.) | M106: 1 Eļļas separatora lūkas atvēršana. 2 Filtrēšanas elementu ar balsteņiem (3 gab.) noņemšana no separatora. 3 Jaunu filtrēšanas elementu pakošana uz balsteņiem un uzstādīšana separatorā. 4 Eļļas separatora lūkas aizvēršana, jaunas blīvējošas starplikas uzstādīšana. 5 Separatora lūkas blīvējumu pārbaude ar slāpekli. | N106: 46539.333 | O106: 46568.698 | P106: 0041978 Filtrēšanas elements ELT-920 ELTACON GR6001.004 3 gab; 0041981 Spirālblīve 24''-300# 316 Spiral Spirālblīve Spiral wound gasket 24''-300# 316 Spiral /C.St outerring/ St.St. innerirring/ Graphite t=4,5/3mm GR6001.004 1 gab | R106: =VLOOKUP(D106,'Izmaksu piedāvājums'!$A$18:$N$213,13) -> 0 | S106: 1 | T106: =R106*S106 -> 0
A107: 2027 | B107: TEC1 | D107: T1E-MEH-0034 | E107: Eļļas separatora filtra filtrējošo elementu nomaiņa (ELT-110 - 7 gab.) | F107: #T1.U1 =C00 EKA61 AT004 | G107: 0EKA61AT004 | H107: Filtrs | I107: 386887 | J107: TEC-1 ED siltumiekārtu inženieru grupa | K107: Eļļas separatora filtra filtrējošo elementu nomaiņa (ELT-110 - 7 gab.) | L107: Eļļas separatora filtra filtrējošo elementu nomaiņa (ELT-110 - 7 gab.) | M107: 1 Eļļas separatora lūkas atvēršana. 2 Filtrēšanas elementu (7 gab.) noņemšana no separatora. 3 Jaunu filtrēšanas elementu uzstādīšana separatorā. 4 Eļļas separatora lūkas aizvēršana, jaunas blīvējošas starplikas uzstādīšana. 5 Separatora lūkas blīvējumu pārbaude ar slāpekli. | N107: 46539.333 | O107: 46568.698 | P107: 0041921 Filtrējošais elements ELT-110 ELTACON gāzes filtriem GR6001.004 7 gab; 0041982 Spirālblīve 14''-300# 316 Spiral Spirālblīve Spiral wound gasket 14''-300# 316 Spiral /C.St outerring/ St.St. innerirring/ Graphite t=4,5/3mm GR6001.004 1 gab | R107: =VLOOKUP(D107,'Izmaksu piedāvājums'!$A$18:$N$213,13) -> 0 | S107: 1 | T107: =R107*S107 -> 0
A108: 2027 | B108: TEC1 | D108: T1E-MEH-0031 | E108: Sietiņa filtra tīrīšana (Dn250) | F108: #T1.U1 =C00 EKA62 AT001 | G108: 0EKA62AT001 | H108: Sieta filtrs | I108: 386888 | J108: TEC-1 ED siltumiekārtu inženieru grupa | K108: Sietiņa filtra tīrīšana (Dn250) | L108: Sietiņa filtra tīrīšana (Dn250) | M108: 1 Cauruļvada posma ar filtru noņemšana. 2 Sietiņa filtra izņemšana no cauruļvada un iztīrīšana. 3 Cauruļvada posma ar sietiņa filtru uzstādīšana uz vietas (pielietot jaunu blīvējošu starpliku). 4 Cauruļvada atloku blīvējumu pārbaude ar slāpekli. | N108: 46539.333 | O108: 46568.698 | R108: =VLOOKUP(D108,'Izmaksu piedāvājums'!$A$18:$N$213,13) -> 0 | S108: 1 | T108: =R108*S108 -> 0
A109: 2027 | B109: TEC1 | D109: T1E-MEH-0033 | E109: Eļļas pilienu atdalītāja tīrīšana (Dn 490X200) | F109: #T1.U1 =C00 EKA62 AT002 | G109: 0EKA62AT002 | H109: Filtrēšanas ierīce | I109: 386889 | J109: TEC-1 ED siltumiekārtu inženieru grupa | K109: Eļļas pilienu atdalītāja tīrīšana | L109: Eļļas pilienu atdalītāja tīrīšana (Dn 490X200) | M109: 1 Darbu jāveic vienlaicīgi ar eļļas separatora filtrēšanas elementu nomaiņu. 2 Tērauda plāksnes Ø565x10 noņemšana eļļas separatora iekšpusē. 3 Eļļas pilienu atdalītāja tīrīšana. 4 Blīvējuma starplikas izgatavošana, tērauda plāksnes uzstādīšana vietā. | N109: 46539.333 | O109: 46568.698 | R109: =VLOOKUP(D109,'Izmaksu piedāvājums'!$A$18:$N$213,13) -> 0 | S109: 1 | T109: =R109*S109 -> 0
A110: 2027 | B110: TEC1 | D110: T1E-MEH-0032 | E110: Eļļas separatora filtra filtrējošo elementu nomaiņa (ELT-920 - 3 gab.) | F110: #T1.U1 =C00 EKA62 AT003 | G110: 0EKA62AT003 | H110: Filtrēšanas ierīce | I110: 386890 | J110: TEC-1 ED siltumiekārtu inženieru grupa | K110: Eļļas separatora filtra filtrējošo elementu nomaiņa (ELT-920 - 3 gab.) | L110: Eļļas separatora filtra filtrējošo elementu nomaiņa (ELT-920 - 3 gab.) | M110: 1 Eļļas separatora lūkas atvēršana. 2 Filtrēšanas elementu ar balsteņiem (3 gab.) noņemšana no separatora. 3 Jaunu filtrēšanas elementu pakošana uz balsteņiem un uzstādīšana separatorā. 4 Eļļas separatora lūkas aizvēršana, jaunas blīvējošas starplikas uzstādīšana. 5 Separatora lūkas blīvējumu pārbaude ar slāpekli. | N110: 46539.333 | O110: 46568.698 | P110: 0041978 Filtrēšanas elements ELT-920 ELTACON GR6001.004 3 gab; 0041981 Spirālblīve 24''-300# 316 Spiral Spirālblīve Spiral wound gasket 24''-300# 316 Spiral /C.St outerring/ St.St. innerirring/ Graphite t=4,5/3mm GR6001.004 1 gab | R110: =VLOOKUP(D110,'Izmaksu piedāvājums'!$A$18:$N$213,13) -> 0 | S110: 1 | T110: =R110*S110 -> 0
A111: 2027 | B111: TEC1 | D111: T1E-MEH-0034 | E111: Eļļas separatora filtra filtrējošo elementu nomaiņa (ELT-110 - 7 gab.) | F111: #T1.U1 =C00 EKA62 AT004 | G111: 0EKA62AT004 | H111: Filtrēšanas ierīce | I111: 386891 | J111: TEC-1 ED siltumiekārtu inženieru grupa | K111: Eļļas separatora filtra filtrējošo elementu nomaiņa (ELT-110 - 7 gab.) | L111: Eļļas separatora filtra filtrējošo elementu nomaiņa (ELT-110 - 7 gab.) | M111: 1 Eļļas separatora lūkas atvēršana. 2 Filtrēšanas elementu (7 gab.) noņemšana no separatora. 3 Jaunu filtrēšanas elementu uzstādīšana separatorā. 4 Eļļas separatora lūkas aizvēršana, jaunas blīvējošas starplikas uzstādīšana. 5 Separatora lūkas blīvējumu pārbaude ar slāpekli. | N111: 46539.333 | O111: 46568.698 | P111: 0041921 Filtrējošais elements ELT-110 ELTACON gāzes filtriem GR6001.004 7 gab; 0041982 Spirālblīve 14''-300# 316 Spiral Spirālblīve Spiral wound gasket 14''-300# 316 Spiral /C.St outerring/ St.St. innerirring/ Graphite t=4,5/3mm GR6001.004 1 gab | R111: =VLOOKUP(D111,'Izmaksu piedāvājums'!$A$18:$N$213,13) -> 0 | S111: 1 | T111: =R111*S111 -> 0
A112: 2027 | B112: TEC1 | D112: T1E-MEH-0031 | E112: Sietiņa filtra tīrīšana (Dn250) | F112: #T1.U1 =C00 EKA63 AT001 | G112: 0EKA63AT001 | H112: Sieta filtrs | I112: 386892 | J112: TEC-1 ED siltumiekārtu inženieru grupa | K112: Sietiņa filtra tīrīšana (Dn250) | L112: Sietiņa filtra tīrīšana (Dn250) | M112: 1 Cauruļvada posma ar filtru noņemšana. 2 Sietiņa filtra izņemšana no cauruļvada un iztīrīšana. 3 Cauruļvada posma ar sietiņa filtru uzstādīšana uz vietas (pielietot jaunu blīvējošu starpliku). 4 Cauruļvada atloku blīvējumu pārbaude ar slāpekli. | N112: 46539.333 | O112: 46568.698 | R112: =VLOOKUP(D112,'Izmaksu piedāvājums'!$A$18:$N$213,13) -> 0 | S112: 1 | T112: =R112*S112 -> 0
...

Sheet Darbu grafiks
A2: Darbu grafiks
A3: TEC-1 mehānisko iekārtu uzturēšanas remonts 2027.-2028. gadā
D6: 2027 | P6: 2028
A7: Iepirkuma vienības Nr. | B7: Iepirkuma vienības apraksts | C7: Ražotne; Ražotnes daļa | D7: 01 | E7: 02 | F7: 03 | G7: 04 | H7: 05 | I7: 06 | J7: 07 | K7: 08 | L7: 09 | M7: 10 | N7: 11 | O7: 12 | P7: 01 | Q7: 02 | R7: 03 | S7: 04 | T7: 05 | U7: 06 | V7: 07 | W7: 08 | X7: 09 | Y7: 10 | Z7: 11 | AA7: 12
A8: T1E-MEH-0001 | B8: GT gāzes filtru nomaiņa | C8: TEC1 | L8: 2 | X8: 2
A9: T1E-MEH-0003 | B9: GT eļļas attīrīšanas iekārtas eļļas filtru nomaiņa | C9: TEC1 | F9: 2 | R9: 2
A10: T1E-MEH-0004 | B10: Skalošanas sūkņa eļļas nomaiņa | C10: TEC1 | Y10: 2
A11: T1E-MEH-0005 | B11: Zobratu parraides sūkņa eļļas nomaiņa | C11: TEC1 | Y11: 2
A12: T1E-MEH-0006 | B12: Sietfiltru iztīrīšana | C12: TEC1 | Y12: 4
A13: T1E-MEH-0007 | B13: GT ventilācijas sistēmas gaisa ieplūdes filtru nomaiņa | C13: TEC1 | J13: 2 | V13: 2
A14: T1E-MEH-0008 | B14: GT gaisa ieplūdes filtru nomaiņa | C14: TEC1 | G14: 4 | K14: 4 | S14: 4 | W14: 4
A15: T1E-MEH-0011 | B15: Konservācijas iekārtas "Munters ML690" piedziņas siksnu un atbalsta riteņus pārbaude | C15: TEC1 | L15: 2 | X15: 2
A16: T1E-MEH-0011P | B16: TT konservācijas iekārtas "Munters ML690" piedziņas siksnu un atbalsta riteņus pārbaude | C16: TEC1 | I16: 1 | U16: 1
A17: T1E-MEH-0012 | B17: Tvaika uztvērēju Dn 25 filtru elementu tīrīšana | C17: TEC1 | I17: 4 | U17: 4
A18: T1E-MEH-0013 | B18: Filtru Dn65 tīrīšana | C18: TEC1 | I18: 2 | U18: 2
A19: T1E-MEH-0014 | B19: Droseļdiafragmas Dn25 revīzija. Siltumizolācijas atjaunošana. | C19: TEC1 | I19: 3 | U19: 3
A20: T1E-MEH-0015 | B20: Tvaika cauruļvada Dn 25 filtra tīrīšana | C20: TEC1 | I20: 2 | U20: 2
A21: T1E-MEH-0016 | B21: Galvenā kondensāta cauruļvada Dn 25 filtra tīrīšana | C21: TEC1 | I21: 1 | U21: 1
A22: T1E-MEH-0017 | B22: Ūdens separatora tīrīšana | C22: TEC1 | I22: 1 | U22: 1
A23: T1E-MEH-0018 | B23: Drošības vārsta Armatec AT4550, Dn80-Pn16/Dn50-Pn40 revīzija, funkcionēšanas pārbaude | C23: TEC1 | I23: 1 | U23: 1
A24: T1E-MEH-0019 | B24: Filtra pirms vītņsūkņa tīrīšana Dn 150 | C24: TEC1 | I24: 1 | U24: 1
A25: T1E-MEH-0020 | B25: Galveno eļļas filtru nomaiņa Dn 150 | C25: TEC1 | F25: 1 | M25: 1 | R25: 1 | Y25: 1
A26: T1E-MEH-0021 | B26: Eļļas tvaiku ventilatora filtra revīzija | C26: TEC1 | I26: 1 | U26: 1
A27: T1E-MEH-0022 | B27: Eļļas filtra tīrīšana | C27: TEC1 | I27: 1 | U27: 1
A28: T1E-MEH-0023 | B28: Filtra kartridžu nomaiņa | C28: TEC1 | F28: 2 | R28: 2
A29: T1E-MEH-0026 | B29: Eļļas dzesētāja tīrīšana ar demontāžu | C29: TEC1 | I29: 1 | U29: 1
A30: T1E-MEH-0029 | B30: Eļļas spiediena ierobežošanas vārsta funkcionēšanas pārbaude | C30: TEC1 | I30: 1 | U30: 1
A31: T1E-MEH-0030 | B31: Blīvtvaika dzesētāja tīrīšana | C31: TEC1 | I31: 1 | U31: 1
A32: T1E-MEH-0031 | B32: Sietiņa filtra tīrīšana (Dn250) | C32: TEC1 | I32: 3 | U32: 3
A33: T1E-MEH-0032 | B33: Eļļas separatora filtra filtrējošo elementu nomaiņa (ELT-920 - 3 gab.) | C33: TEC1 | I33: 3 | U33: 3
A34: T1E-MEH-0033 | B34: Eļļas pilienu atdalītāja tīrīšana (Dn 490X200) | C34: TEC1 | I34: 3 | U34: 3
A35: T1E-MEH-0034 | B35: Eļļas separatora filtra filtrējošo elementu nomaiņa (ELT-110 - 7 gab.) | C35: TEC1 | I35: 3 | U35: 3
A36: T1E-MEH-0035 | B36: Eļļas filtra filtrējošo elementu nomaiņa (ELT-Z-1800-A-CC10V) | C36: TEC1 | J36: 6 | V36: 6
A37: T1E-MEH-0036 | B37: Sietiņa eļļas filtra tīrīšana (Dn100) | C37: TEC1 | J37: 6 | V37: 6
A38: T1E-MEH-0037 | B38: Sietiņa eļļas filtra tīrīšana (Dn15) | C38: TEC1 | J38: 6 | V38: 6
A39: T1E-MEH-0038 | B39: Eļļas papildināšana līdz nepieciešamajam līmenim | C39: TEC1 | D39: 3 | G39: 3 | J39: 3 | M39: 3 | P39: 3 | S39: 3 | V39: 3 | Y39: 3
A40: T1E-MEH-0039 | B40: Drošības vārsta pārbaude | C40: TEC1 | J40: 3 | V40: 3
A41: T1E-MEH-0040 | B41: Gāzes filtra kartridža nomaiņa (Dn100) | C41: TEC1 | V41: 2
A42: T1E-MEH-0041 | B42: Gāzes filtra tīrīšana (Dn100) | C42: TEC1 | V42: 2
A43: T1E-MEH-0042 | B43: Gāzes filtra tīrīšana (Dn40) | C43: TEC1 | V43: 2
A44: T1E-MEH-0048 | B44: Sietiņa filtra tīrīšana (Dn85) | C44: TEC1 | J44: 2 | V44: 2
A45: T1E-MEH-0051 | B45: Fosfāta sūkņa pulsācijas slāpētāja spied. pārbaude | C45: TEC1 | L45: 2 | X45: 2
A46: T1E-MEH-0055 | B46: Lūku atvēršana un aizvēršana katla iekšējai apskatei ( 4 gab.) | C46: TEC1 | G46: 2 | S46: 2
A47: T1E-MEH-0056 | B47: Lūku atvēršana un aizvērš. dūmeņa iekšējai un ārējai apskatei (2 gab.) | C47: TEC1 | G47: 2 | S47: 2
A48: T1E-MEH-0057 | B48: Boilera lūku atveršana un aizvēršana iekšējai vīrsmu tīrīšanai un apskatei (2 gab.) | C48: TEC1 | G48: 2 | S48: 2
A49: T1E-MEH-0058 | B49: Drošības vārsta pneimatiskās spēka pievada sistēmas tehniskā apkope un drošības vārsta darbības pārbaude (ar "SEMPEL" (Vācija) speciālistu piesaisti) | C49: TEC1 | N49: 2 | Z49: 2
A50: T1E-MEH-0059 | B50: Dūmeņa aizvaru blīvslēgu pārbaude, tīrīšana, eļļošana un darbības pārbaude | C50: TEC1 | G50: 2 | S50: 2
A51: T1E-MEH-0060 | B51: Drošības vārstu noņemšana, pārbaude uz stenda un uzstādīšana: Dn=40 mm, Pn = 162.0 bar. | C51: TEC1 | J51: 2 | V51: 2
A52: T1E-MEH-0061 | B52: Drošības vārstu noņemšana, pārbaude uz stenda un uzstādīšana: Dn = 25 mm, Pn = 28.0 bar. | C52: TEC1 | J52: 2 | V52: 2
A53: T1E-MEH-0062 | B53: Drošības vārstu noņemšana, pārbaude uz stenda un uzstādīšana: Dn=15 mm, Pn = 15.0 bar. | C53: TEC1 | J53: 4 | V53: 4
A54: T1E-MEH-0063 | B54: Gāzes pieņemšanas stacijas filtra nomaiņa (ELMT1012-2X600) | C54: TEC1 | I54: 3 | U54: 3
A55: T1E-MEH-0064 | B55: Gāzes pieņemšanas stacijas filtra tīrīšana (Dn80) | C55: TEC1 | I55: 1 | U55: 1
A56: T1E-MEH-0070 | B56: Drošības vārstu ARMATEC 433 (AT4592D4-10-20) Dn25 Pn10 revīzija, funkcionēšanas pārbaude. | C56: TEC1 | G56: 1 | S56: 1
A57: T1E-MEH-0072 | B57: Drošības vārstu LASER 441 Dn25 Pn40 revīzija, funkcionēšanas pārbaude | C57: TEC1 | H57: 2 | T57: 2
A58: T1E-MEH-0073 | B58: Filtra pirms BES tīrīšana (Dn150) | C58: TEC1 | L58: 3 | X58: 3
A59: T1E-MEH-0074 | B59: Eļļas nomaiņa BES gultņos | C59: TEC1 | L59: 3 | X59: 3
A60: T1E-MEH-0075 | B60: Smērvielas nomaiņa sūkņa savienotājuzmavā | C60: TEC1 | L60: 3 | X60: 3
A61: T1E-MEH-0078 | B61: Drošības vārsta noņemšana, pārbaude uz stenda un uzstādīšana: Dn=25 mm, Pn = 5.5 bar | C61: TEC1 | L61: 3 | X61: 3
A62: T1E-MEH-0079 | B62: Drošības vārsta noņemšana, pārbaude uz stenda un uzstādīšana: Dn=25 mm, Pn = 16 bar | C62: TEC1 | K62: 1 | W62: 1
A63: T1E-MEH-0083 | B63: Filtra 0SDA10AT005 gultņu bloka revīzija, smērvielas nomaiņa, blīvējumu nomaiņa. | C63: TEC1 | I63: 1 | U63: 1
A64: T1E-MEH-0084 | B64: Drošības vārsta LASER 433 (AT4520D4-16-50) Dn50 Pn16 revīzija, funkcionēšanas pārbaude | C64: TEC1 | I64: 1 | U64: 1
A65: T1E-MEH-0086 | B65: Blīvripas Dn250 demontāža ar siltumizolācijas demontāžu un montāžu. | C65: TEC1 | G65: 2 | S65: 2
A66: T1E-MEH-0088 | B66: Drenāžas sūkņa filtra Dn 100 tīrīšana | C66: TEC1 | F66: 1 | G66: 1 | R66: 1 | S66: 1
A67: T1E-MEH-0090 | B67: Kondensāta filtra Dn 300 tīrīšana | C67: TEC1 | F67: 4 | R67: 4
A68: T1E-MEH-0091 | B68: Galvenā kondensāta filtra kartridžu nomaiņa, 42gab. | C68: TEC1 | E68: 1 | Q68: 1
A69: T1E-MEH-0093 | B69: Drošības vārstu LASER 441 (AT4547-4-8,0-125) Dn125/200 Pn40/16 revīzija, funkcionēšanas pārbaude | C69: TEC1 | I69: 1 | U69: 1
A70: T1E-MEH-0095 | B70: Kasešu filtru tīrīšana Dn=350mm | C70: TEC1 | J70: 2 | V70: 2
A71: T1E-MEH-0096 | B71: Slēgtās dzesēšanas sistēma siltummaiņu mazgāšana (ārējā) | C71: TEC1 | H71: 3 | T71: 3
A72: T1E-MEH-0099 | B72: Kasešu filtru tīrīšana Dn=150mm | C72: TEC1 | U72: 2
A73: T1E-MEH-0100 | B73: Gaisa kompresora gaisa ieplūdes filtru nomaiņa | C73: TEC1 | G73: 2 | K73: 1 | S73: 2 | W73: 1
A74: T1E-MEH-0101 | B74: Gaisa kompresora eļļas filtru nomaiņa | C74: TEC1 | G74: 2 | K74: 1 | S74: 2 | W74: 1
A75: T1E-MEH-0102 | B75: Gaisa kompresora eļļas atdalītāju nomaiņa | C75: TEC1 | G75: 2 | K75: 1 | S75: 2 | W75: 1
A76: T1E-MEH-0103 | B76: Gaisa kompresora eļļas maiņa | C76: TEC1 | G76: 2 | K76: 1 | S76: 2 | W76: 1
A77: T1E-MEH-0104 | B77: Gaisa kompresora drošības vārstu pārbaude | C77: TEC1 | G77: 2 | K77: 1 | S77: 2 | W77: 1
A78: T1E-MEH-0105 | B78: Minimālā spiediena vārstu nomaiņa | C78: TEC1 | G78: 2 | K78: 1 | S78: 2 | W78: 1
A79: T1E-MEH-0106 | B79: Eļļas regulatoru nomaiņa | C79: TEC1 | G79: 2 | K79: 1 | S79: 2 | W79: 1
A80: T1E-MEH-0107 | B80: Eļļas dzesētāju tīrīšana | C80: TEC1 | G80: 2 | K80: 1 | S80: 2 | W80: 1
A81: T1E-MEH-0108 | B81: Gaisa kompresora ķīļsiksnas nomaiņa (komplekts) | C81: TEC1 | G81: 2 | K81: 1 | S81: 2 | W81: 1
A82: T1E-MEH-0109 | B82: Eļļas /ūdens atdalītāja tīrīšāna un filtru nomaiņa | C82: TEC1 | O82: 1 | AA82: 1
A83: T1E-MEH-0111 | B83: Eļļas atdalītāja filtra elementa nomaiņa | C83: TEC1 | J83: 6 | V83: 6
A84: T1E-MEH-0112 | B84: Izplūdes trokšņa slāpētāju komplekta nomaiņa | C84: TEC1 | J84: 2 | V84: 2
A85: T1E-MEH-0113 | B85: Gaisa resīvera drošības vārstu noņemšana, pārbaude uz stenda un uzstādīšana : Pn=10.5bar | C85: TEC1 | I85: 1 | U85: 1
A86: T1E-MEH-0114 | B86: Gaisa žāvētāju absorbējošā materiāla nomaiņa | C86: TEC1 | V86: 2
A87: T1E-MEH-0115 | B87: Gaisa žāvētāju vārstu(ieplūdes, izplūdes, caurplūdes, pārslēdzes, noplūdes) nomaiņa (5kompl.) | C87: TEC1 | V87: 2
A88: T1E-MEH-0116 | B88: Magnētisko vārstu nomaiņa. | C88: TEC1 | G88: 2 | K88: 1 | S88: 2 | W88: 1
A89: T1E-MEH-0117 | B89: Iesūknēšanas vārstu nomaiņa | C89: TEC1 | G89: 2 | K89: 1 | S89: 2 | W89: 1
A90: T1E-MEH-0118 | B90: Sietiņa filtra tīrīšana (Strainer AT4029A Dn65) | C90: TEC1 | I90: 1 | U90: 1
A91: T1E-MEH-0119 | B91: Degvielas sietiņa filtra tīrīšana (Anello 70502) | C91: TEC1 | I91: 1 | U91: 1
A92: T1E-MEH-0120 | B92: Gāzes filtra (RMG 906-80-16/1/1) kartridža nomaiņa | C92: TEC1 | W92: 1
A93: T1E-MEH-0138 | B93: Drošības vārstu noņemšana, pārbaude uz stenda un uzstādīšana Pn=2,5 bar | C93: TEC1 | F93: 1 | R93: 1
A94: T1E-MEH-0139 | B94: Drošības vārstu noņemšana, pārbaude uz stenda un uzstādīšana Pn=20 bar | C94: TEC1 | F94: 2 | R94: 2
A95: T1E-MEH-0140 | B95: Lūku atvēršana un aizvēršana katla iekšējai apskatei | C95: TEC1 | F95: 1 | R95: 1
A96: T1E-MEH-0141 | B96: Lūku atvēršana un aizvēršana tvertne iekšējai apskatei | C96: TEC1 | F96: 1 | R96: 1
A97: T1E-MEH-0142 | B97: Lūku atvēršana un aizvēršana, s/t ūdens sildītāja Nr1 tvertnes sagatavošana iekšējai apskatei | C97: TEC1 | H97: 1 | T97: 1
A98: T1E-MEH-0143 | B98: Lūku atvēršana un aizvēršana, s/t ūdens sildītāja Nr2 tvertnes sagatavošana iekšējai apskatei | C98: TEC1 | H98: 1 | T98: 1
A99: T1E-MEH-0144 | B99: 0MAG20AC005 drošības vārstu noņemšana, pārbaude uz stenda un uzstādīšana Pn=1.1bar | C99: TEC1 | H99: 1 | T99: 1
A100: T1E-MEH-0145 | B100: 0MAG20AC005 drošības vārstu noņemšana, pārbaude uz stenda un uzstādīšana Pn=16bar | C100: TEC1 | H100: 1 | T100: 1
A101: T1E-MEH-0146 | B101: Lūku atvēršana un aizvēršana, s/t ūdens sildītāja Nr3 tvertnes sagatavošana iekšējai apskatei | C101: TEC1 | H101: 1 | T101: 1
A102: T1E-MEH-0147 | B102: 0MAG30AC005 drošības vārstu noņemšana, pārbaude uz stenda un uzstādīšana Pn=3.25bar | C102: TEC1 | H102: 1 | T102: 1
A103: T1E-MEH-0148 | B103: 0MAG30AC005 drošības vārstu noņemšana, pārbaude uz stenda un uzstādīšana Pn=16bar | C103: TEC1 | H103: 1 | T103: 1
...
