Workbook

Sheet Izmaksu piedāvājums
A1: Atskaite izveidota: | B1: 46189.446
A2: TOPS Projekta Nr.: | B2: 58
A3: Ražotnes: | B3: TEC1
A4: Darbu veidi: | B4: MEH
A5: No: | B5: 46388
A6: Līdz: | B6: 47118
A8: Paskaidrojumi:
B9: Datus ievadīt tikai iekrāsotajos laukos. Uzmanību - cenu noapaļot līdz 2 simboliem aiz komata!
A11: Izmaksu piedāvājums
A12: TEC-1 mehānisko iekārtu uzturēšanas remonts 2027.-2028. gadā
A15: Iepirkuma vienības Nr. | B15: Iepirkuma vienības apraksts | C15: Iepirkuma vienības tips | D15: Mērvienība | E15: Daudzums periodā | F15: Darbietilpība 1 vienībai, c/h | G15: Darbaspēka c/h likme 1 vienībai (t.sk. VSAOI) , EUR | H15: Darbaspēka izmaksas 1 vienībai, EUR | I15: Darbietilpība kopējam daudzumam, c/h | J15: Darbaspēka izmaksas kopējam daudzumam, EUR | K15: Materiālu un mehānismu izmaksas 1 vienībai, EUR | L15: Materiālu un mehānismu izmaksas kopējam daudzumam, EUR | M15: Cena kopā 1 vienībai , EUR | N15: Cena kopējam daudzumam, EUR
F16: ! Noapaļot līdz ne vairāk kā 2 simboli aiz komata! | K16: ! Noapaļot līdz ne vairāk kā 2 simboli aiz komata!
A17: 1 | B17: 2 | C17: 3 | D17: 4 | E17: 5 | F17: 6 | G17: 7 | H17: 8=6*7 | I17: 9=5*6 | J17: 10=5*8 | K17: 11 | L17: 12=5*11 | M17: 13=8+11 | N17: 14=10+12
A18: T1E-MEH-0001 | B18: GT gāzes filtru nomaiņa | C18: Plānots darbs / pakalpojums | D18: gab | E18: 4 | F18: 0 | G18: 0 | H18: =ROUND(F18*G18,2) -> 0 | I18: =ROUND(E18*F18,2) -> 0 | J18: =ROUND(E18*H18,2) -> 0 | K18: 0 | L18: =ROUND(E18*K18,2) -> 0 | M18: =H18+K18 -> 0 | N18: =J18+L18 -> 0
A19: T1E-MEH-0003 | B19: GT eļļas attīrīšanas iekārtas eļļas filtru nomaiņa | C19: Plānots darbs / pakalpojums | D19: gab | E19: 4 | F19: 0 | G19: 0 | H19: =ROUND(F19*G19,2) -> 0 | I19: =ROUND(E19*F19,2) -> 0 | J19: =ROUND(E19*H19,2) -> 0 | K19: 0 | L19: =ROUND(E19*K19,2) -> 0 | M19: =H19+K19 -> 0 | N19: =J19+L19 -> 0
A20: T1E-MEH-0004 | B20: Skalošanas sūkņa eļļas nomaiņa | C20: Plānots darbs / pakalpojums | D20: gab | E20: 2 | F20: 0 | G20: 0 | H20: =ROUND(F20*G20,2) -> 0 | I20: =ROUND(E20*F20,2) -> 0 | J20: =ROUND(E20*H20,2) -> 0 | K20: 0 | L20: =ROUND(E20*K20,2) -> 0 | M20: =H20+K20 -> 0 | N20: =J20+L20 -> 0
A21: T1E-MEH-0005 | B21: Zobratu parraides sūkņa eļļas nomaiņa | C21: Plānots darbs / pakalpojums | D21: gab | E21: 2 | F21: 0 | G21: 0 | H21: =ROUND(F21*G21,2) -> 0 | I21: =ROUND(E21*F21,2) -> 0 | J21: =ROUND(E21*H21,2) -> 0 | K21: 0 | L21: =ROUND(E21*K21,2) -> 0 | M21: =H21+K21 -> 0 | N21: =J21+L21 -> 0
A22: T1E-MEH-0006 | B22: Sietfiltru iztīrīšana | C22: Plānots darbs / pakalpojums | D22: gab | E22: 4 | F22: 0 | G22: 0 | H22: =ROUND(F22*G22,2) -> 0 | I22: =ROUND(E22*F22,2) -> 0 | J22: =ROUND(E22*H22,2) -> 0 | K22: 0 | L22: =ROUND(E22*K22,2) -> 0 | M22: =H22+K22 -> 0 | N22: =J22+L22 -> 0
A23: T1E-MEH-0007 | B23: GT ventilācijas sistēmas gaisa ieplūdes filtru nomaiņa | C23: Plānots darbs / pakalpojums | D23: gab | E23: 4 | F23: 0 | G23: 0 | H23: =ROUND(F23*G23,2) -> 0 | I23: =ROUND(E23*F23,2) -> 0 | J23: =ROUND(E23*H23,2) -> 0 | K23: 0 | L23: =ROUND(E23*K23,2) -> 0 | M23: =H23+K23 -> 0 | N23: =J23+L23 -> 0
A24: T1E-MEH-0008 | B24: GT gaisa ieplūdes filtru nomaiņa | C24: Plānots darbs / pakalpojums | D24: gab | E24: 16 | F24: 0 | G24: 0 | H24: =ROUND(F24*G24,2) -> 0 | I24: =ROUND(E24*F24,2) -> 0 | J24: =ROUND(E24*H24,2) -> 0 | K24: 0 | L24: =ROUND(E24*K24,2) -> 0 | M24: =H24+K24 -> 0 | N24: =J24+L24 -> 0
A25: T1E-MEH-0011 | B25: Konservācijas iekārtas "Munters ML690" piedziņas siksnu un atbalsta riteņus pārbaude | C25: Plānots darbs / pakalpojums | D25: gab | E25: 4 | F25: 0 | G25: 0 | H25: =ROUND(F25*G25,2) -> 0 | I25: =ROUND(E25*F25,2) -> 0 | J25: =ROUND(E25*H25,2) -> 0 | K25: 0 | L25: =ROUND(E25*K25,2) -> 0 | M25: =H25+K25 -> 0 | N25: =J25+L25 -> 0
A26: T1E-MEH-0011P | B26: TT konservācijas iekārtas "Munters ML690" piedziņas siksnu un atbalsta riteņus pārbaude | C26: Plānots darbs / pakalpojums | D26: gab | E26: 2 | F26: 0 | G26: 0 | H26: =ROUND(F26*G26,2) -> 0 | I26: =ROUND(E26*F26,2) -> 0 | J26: =ROUND(E26*H26,2) -> 0 | K26: 0 | L26: =ROUND(E26*K26,2) -> 0 | M26: =H26+K26 -> 0 | N26: =J26+L26 -> 0
A27: T1E-MEH-0012 | B27: Tvaika uztvērēju Dn 25 filtru elementu tīrīšana | C27: Plānots darbs / pakalpojums | D27: gab | E27: 8 | F27: 0 | G27: 0 | H27: =ROUND(F27*G27,2) -> 0 | I27: =ROUND(E27*F27,2) -> 0 | J27: =ROUND(E27*H27,2) -> 0 | K27: 0 | L27: =ROUND(E27*K27,2) -> 0 | M27: =H27+K27 -> 0 | N27: =J27+L27 -> 0
A28: T1E-MEH-0013 | B28: Filtru Dn65 tīrīšana | C28: Plānots darbs / pakalpojums | D28: gab | E28: 4 | F28: 0 | G28: 0 | H28: =ROUND(F28*G28,2) -> 0 | I28: =ROUND(E28*F28,2) -> 0 | J28: =ROUND(E28*H28,2) -> 0 | K28: 0 | L28: =ROUND(E28*K28,2) -> 0 | M28: =H28+K28 -> 0 | N28: =J28+L28 -> 0
A29: T1E-MEH-0014 | B29: Droseļdiafragmas Dn25 revīzija. Siltumizolācijas atjaunošana. | C29: Plānots darbs / pakalpojums | D29: gab | E29: 6 | F29: 0 | G29: 0 | H29: =ROUND(F29*G29,2) -> 0 | I29: =ROUND(E29*F29,2) -> 0 | J29: =ROUND(E29*H29,2) -> 0 | K29: 0 | L29: =ROUND(E29*K29,2) -> 0 | M29: =H29+K29 -> 0 | N29: =J29+L29 -> 0
... A213: T1E-MEH-0305 | B213: Drošības vārsta Dn15 Pn8 nomaiņa (nepieciešama sastatņu montāža un demontāža) | C213: Plānots darbs / pakalpojums | D213: gab | E213: 1 | F213: 0 | G213: 0 | H213: =ROUND(F213*G213,2) -> 0 | I213: =ROUND(E213*F213,2) -> 0 | J213: =ROUND(E213*H213,2) -> 0 | K213: 0 | L213: =ROUND(E213*K213,2) -> 0 | M213: =H213+K213 -> 0 | N213: =J213+L213 -> 0
B214: Plānoto darbu izmaksas kopā: | N214: =ROUND(SUM(N18:N213),2) -> 0
B215: PVN (21%): | N215: =ROUND(N214*0.21,2) -> 0
B216: Plānoto darbu izmaksas ar PVN: | N216: =ROUND(SUM(N214:N215),2) -> 0
A217: ND-DSP-0001 | B217: Darbaspēks neparedzētiem darbiem - Remontatslēdznieks 723302 | C217: Neplānots darbs / pakalpojums | D217: h | E217: 4500 | F217: 1 | G217: 0 | H217: =ROUND(F217*G217,2) -> 0 | I217: =IF(D217="-",0,ROUND(E217*F217,2)) -> 4500 | J217: =IF(D217="-",0,ROUND(E217*H217,2)) -> 0 | K217: 0 | L217: =IF(D217="-",K217,ROUND(E217*K217,2)) -> 0 | M217: =H217+K217 -> 0 | N217: =J217+L217 -> 0
A218: ND-DSP-0002 | B218: Darbaspēks neparedzētiem darbiem - Metinātājs 721212, 721209 | C218: Neplānots darbs / pakalpojums | D218: h | E218: 500 | F218: 1 | G218: 0 | H218: =ROUND(F218*G218,2) -> 0 | I218: =IF(D218="-",0,ROUND(E218*F218,2)) -> 500 | J218: =IF(D218="-",0,ROUND(E218*H218,2)) -> 0 | K218: 0 | L218: =IF(D218="-",K218,ROUND(E218*K218,2)) -> 0 | M218: =H218+K218 -> 0 | N218: =J218+L218 -> 0
A219: ND-DSP-0013 | B219: Darbaspēks neparedzētiem darbiem - Sastatņu montētājs 711902 | C219: Neplānots darbs / pakalpojums | D219: h | E219: 300 | F219: 1 | G219: 0 | H219: =ROUND(F219*G219,2) -> 0 | I219: =IF(D219="-",0,ROUND(E219*F219,2)) -> 300 | J219: =IF(D219="-",0,ROUND(E219*H219,2)) -> 0 | K219: 0 | L219: =IF(D219="-",K219,ROUND(E219*K219,2)) -> 0 | M219: =H219+K219 -> 0 | N219: =J219+L219 -> 0
A220: ND-DSP-0015 | B220: Darbaspēks neparedzētiem darbiem - Izolētājs 712404 | C220: Neplānots darbs / pakalpojums | D220: h | E220: 500 | F220: 1 | G220: 0 | H220: =ROUND(F220*G220,2) -> 0 | I220: =IF(D220="-",0,ROUND(E220*F220,2)) -> 500 | J220: =IF(D220="-",0,ROUND(E220*H220,2)) -> 0 | K220: 0 | L220: =IF(D220="-",K220,ROUND(E220*K220,2)) -> 0 | M220: =H220+K220 -> 0 | N220: =J220+L220 -> 0
A221: ND-DSP-0029 | B221: Darbaspēks neparedzētiem darbiem - Skārdnieks 721302 | C221: Neplānots darbs / pakalpojums | D221: h | E221: 250 | F221: 1 | G221: 0 | H221: =ROUND(F221*G221,2) -> 0 | I221: =IF(D221="-",0,ROUND(E221*F221,2)) -> 250 | J221: =IF(D221="-",0,ROUND(E221*H221,2)) -> 0 | K221: 0 | L221: =IF(D221="-",K221,ROUND(E221*K221,2)) -> 0 | M221: =H221+K221 -> 0 | N221: =J221+L221 -> 0
A222: ND-MAT-0001 | B222: Materiālu izmaksas neparedzētiem darbiem un defektu novēršanai | C222: Neplānots darbs / pakalpojums | D222: - | E222: - | F222: 0 | G222: 0 | H222: =ROUND(F222*G222,2) -> 0 | I222: =IF(D222="-",0,ROUND(E222*F222,2)) -> 0 | J222: =IF(D222="-",0,ROUND(E222*H222,2)) -> 0 | K222: =ROUND(SUM(N217:N221)*0.3,2) -> 0 | L222: =IF(D222="-",K222,ROUND(E222*K222,2)) -> 0 | M222: =H222+K222 -> 0 | N222: =J222+L222 -> 0
A223: ND-MEH-0001 | B223: Mehānismi neparedzētiem darbiem - Elektropacēlājs | C223: Neplānots darbs / pakalpojums | D223: h | E223: 40 | F223: 0 | G223: 0 | H223: =ROUND(F223*G223,2) -> 0 | I223: =IF(D223="-",0,ROUND(E223*F223,2)) -> 0 | J223: =IF(D223="-",0,ROUND(E223*H223,2)) -> 0 | K223: 0 | L223: =IF(D223="-",K223,ROUND(E223*K223,2)) -> 0 | M223: =H223+K223 -> 0 | N223: =J223+L223 -> 0
A224: ND-MEH-0005 | B224: Mehānismi neparedzētiem darbiem - Kravas automašīna | C224: Neplānots darbs / pakalpojums | D224: h | E224: 200 | F224: 0 | G224: 0 | H224: =ROUND(F224*G224,2) -> 0 | I224: =IF(D224="-",0,ROUND(E224*F224,2)) -> 0 | J224: =IF(D224="-",0,ROUND(E224*H224,2)) -> 0 | K224: 0 | L224: =IF(D224="-",K224,ROUND(E224*K224,2)) -> 0 | M224: =H224+K224 -> 0 | N224: =J224+L224 -> 0
A225: ND-MEH-0008 | B225: Mehānismi neparedzētiem darbiem - Sastatnes - 1m³ | C225: Neplānots darbs / pakalpojums | D225: h | E225: 2000 | F225: 0 | G225: 0 | H225: =ROUND(F225*G225,2) -> 0 | I225: =IF(D225="-",0,ROUND(E225*F225,2)) -> 0 | J225: =IF(D225="-",0,ROUND(E225*H225,2)) -> 0 | K225: 0 | L225: =IF(D225="-",K225,ROUND(E225*K225,2)) -> 0 | M225: =H225+K225 -> 0 | N225: =J225+L225 -> 0
B226: Defektu novēršanas darbu izmaksas kopā: | N226: =ROUND(SUM(N217:N225),2) -> 0
B227: PVN (21%): | N227: =ROUND(N226*0.21,2) -> 0
...

Sheet Plānoto darbu detalizācija
A2: Veicamo plānoto darbu detalizācija
A3: TEC-1 mehānisko iekārtu uzturēšanas remonts 2027.-2028. gadā
A4: Gads | B4: Ražotne | C4: Ražotnes daļa | D4: Iepirkuma vienības Nr. | E4: Iepirkuma vienības apraksts | F4: Objekta kods, ID | G4: Operatīvais apzīmējums | H4: Objekta/iekārtas nosaukums | I4: DU numurs | J4: Struktūrv. | K4: Darba apraksts | L4: Plānotās remontdarbības apraksts | M4: Darba detalizācija / soļi / uzdevumi | N4: Uzsākt no: | O4: Pabeigt līdz: | P4: Materiālu/-s izsniedz Pasūtītājs | Q4: Piezīmes | R4: Vienības cena, EUR | S4: Daudzums | T4: Vienības kopējā cena, EUR
A5: 2027 | B5: TEC1 | D5: T1E-MEH-0038 | E5: Eļļas papildināšana līdz nepieciešamajam līmenim | F5: #T1.U1 =C00 EKA61 BB001 | G5: 0EKA61BB001 | H5: Eļļas separators | I5: 386784 | J5: TEC-1 ED siltumiekārtu inženieru grupa | K5: Eļļas papildināšana | L5: Eļļas papildināšana līdz nepieciešamajam līmenim | M5: 1 Slēgta atloka noņemšana no ielietnes. 2 Ar pārnesamā sūkņa palīdzību eļļas papildināšana separatorā. 3 Slēgta atloka uzstādīšana uz ielietnes. 4 Slēgta atloka savienojuma blīvējumu pārbaude ar slāpekli | N5: 46391.333 | O5: 46416.646 | P5: 0041754 Kompresoreļļa SHELL MADRELA OIL GS68, SHELL Gas Compressor Oil S4 RN68 SHELL GR7501.002 35 l; 0041984 Spirālblīve 2''-300# 316 Spiral Spirālblīve Spiral wound gasket 2''-300# 316 Spiral /C.St outerring/ St.St. innerirring/ Graphite t=4,5/3mm GR6001.004 1 gab | R5: =VLOOKUP(D5,'Izmaksu piedāvājums'!$A$18:$N$213,13) -> 0 | S5: 1 | T5: =R5*S5 -> 0
A6: 2027 | B6: TEC1 | D6: T1E-MEH-0038 | E6: Eļļas papildināšana līdz nepieciešamajam līmenim | F6: #T1.U1 =C00 EKA62 BB001 | G6: 0EKA62BB001 | H6: Rezervuārs. Eļļas separators | I6: 386785 | J6: TEC-1 ED siltumiekārtu inženieru grupa | K6: Eļļas papildināšana | L6: Eļļas papildināšana līdz nepieciešamajam līmenim | M6: 1 Slēgta atloka noņemšana no ielietnes. 2 Ar pārnesamā sūkņa palīdzību eļļas papildināšana separatorā. 3 Slēgta atloka uzstādīšana uz ielietnes. 4 Slēgta atloka savienojuma blīvējumu pārbaude ar slāpekli | N6: 46391.333 | O6: 46416.646 | P6: 0041754 Kompresoreļļa SHELL MADRELA OIL GS68, SHELL Gas Compressor Oil S4 RN68 SHELL GR7501.002 35 l; 0041984 Spirālblīve 2''-300# 316 Spiral Spirālblīve Spiral wound gasket 2''-300# 316 Spiral /C.St outerring/ St.St. innerirring/ Graphite t=4,5/3mm GR6001.004 1 gab | R6: =VLOOKUP(D6,'Izmaksu piedāvājums'!$A$18:$N$213,13) -> 0 | S6: 1 | T6: =R6*S6 -> 0
A7: 2027 | B7: TEC1 | D7: T1E-MEH-0038 | E7: Eļļas papildināšana līdz nepieciešamajam līmenim | F7: #T1.U1 =C00 EKA63 BB001 | G7: 0EKA63BB001 | H7: Rezervuārs. Eļļas separators | I7: 386786 | J7: TEC-1 ED siltumiekārtu inženieru grupa | K7: Eļļas papildināšana | L7: Eļļas papildināšana līdz nepieciešamajam līmenim | M7: 1 Slēgta atloka noņemšana no ielietnes. 2 Ar pārnesamā sūkņa palīdzību eļļas papildināšana separatorā. 3 Slēgta atloka uzstādīšana uz ielietnes. 4 Slēgta atloka savienojuma blīvējumu pārbaude ar slāpekli | N7: 46391.333 | O7: 46416.646 | P7: 0041754 Kompresoreļļa SHELL MADRELA OIL GS68, SHELL Gas Compressor Oil S4 RN68 SHELL GR7501.002 35 l; 0041984 Spirālblīve 2''-300# 316 Spiral Spirālblīve Spiral wound gasket 2''-300# 316 Spiral /C.St outerring/ St.St. innerirring/ Graphite t=4,5/3mm GR6001.004 1 gab | R7: =VLOOKUP(D7,'Izmaksu piedāvājums'!$A$18:$N$213,13) -> 0 | S7: 1 | T7: =R7*S7 -> 0
A8: 2027 | B8: TEC1 | D8: T1E-MEH-0091 | E8: Galvenā kondensāta filtra kartridžu nomaiņa, 42gab. | F8: #T1.U1 =C00 LCA30 AT005 | G8: 0LCA30AT005 | H8: Filtrs | I8: 386788 | J8: TEC-1 ED siltumiekārtu inženieru grupa | K8: Galvenā kondensāta filtra kartridžu nomaiņa, 42gab. | L8: Galvenā kondensāta filtra kartridžu nomaiņa, 42gab. | M8: 1 Siltumizolācijas demontāža. 2 Filtra vāka noņemšana. 3 Kartridžu, 42 gab., izņemšana no filtra korpusa un utilizācija. 4 Filtra korpusa, vāka un skrūvju tīrīšana. 5 Jauno kartrīdžu uzstādīšana, blīvējuma nomaiņa, filtra savākšana. 6 Filtra blīvuma pārbaude. 7 Siltumizolācijas montāža. | N8: 46419.333 | O8: 46444.646 | P8: 0041853 Ūdens filtra elementi Type P 42-4, 40" HECO Filter cartridge, Type P 42-4, Heco drg. No.32529, micr 40" 1.4301, poliester (max +150°C). Pieg.: SIA Termogrupa, Raž.: A/S Heco Filtration GR6001.004 42 gab | R8: =VLOOKUP(D8,'Izmaksu piedāvājums'!$A$18:$N$213,13) -> 0 | S8: 1 | T8: =R8*S8 -> 0
A9: 2027 | B9: TEC1 | D9: T1E-MEH-0200 | E9: Gaisa resīvera drošības vārstu noņemšana, pārbaude uz stenda un uzstādīšana : Pn=11bar | F9: #T1.U1 =C00 QFA55 AA005 | G9: 0QFA55AA005 | H9: Noslēgvārsts | I9: 386789 | J9: TEC-1 ED siltumiekārtu inženieru grupa | K9: Drošības vārsta pārbaude Nr.11 | L9: Gaisa resīvera drošības vārstu noņemšana, pārbaude uz stenda un uzstādīšana : Pn=11bar | M9: 1 Drošības vārsta noņemšana no tvertnes. 2 Drošības vārsta uzstādīšana pārbaudes stendā. 3 Drošības vārsta nostrādes pārbaude, paceļot slāpekļa spiedienu stendā. DV nostrādes spiedienam jābūt, kā norādīts pasē. 4 Ja DV nostrādes spiediens neatbilst ražotāja datiem, veikt DV ieregulēšanu. Pēc ieregulēšanas un atkārtotas pārbaudes DV noņemšana no stenda. 5 Drošības vārsta uzstādīšana uz tvertne (pielietot jaunu blīvējošu starpliku), blīvējumu pārbaude. | N9: 46419.333 | O9: 46444.646 | R9: =VLOOKUP(D9,'Izmaksu piedāvājums'!$A$18:$N$213,13) -> 0 | S9: 1 | T9: =R9*S9 -> 0
A10: 2027 | B10: TEC1 | D10: T1E-MEH-0211 | E10: Rokas-ķēdes bloka sijas trīša apkope 1.5 t | F10: #T1.U1 =B00 SMH10 AE090 | G10: 0SMH10AE090 | H10: Celtnis. Rokas-ķēdes bloka sijas trīsis 1.5 tn. | I10: 386790 | J10: TEC-1 ED siltumiekārtu inženieru grupa | K10: Telfera sliede ar vinču (apkope) | L10: Rokas-ķēdes bloka sijas trīsis 1.5 tn. ( apkope ) | M10: 1 Kravas ķēdes, nodiluma, stāvokļa (pārrāvumi utt.) un stiprinājumu apskate, ieeļļošana. 2 Pacelšanas mehānisma, skrūvju un uzgriežņu fiksācijas apskate un darbības pārbaude. 3 Kāša un fiksācijas apskate, kāša bloka ieeļļošana. 4 Metālkonstrukcijas apskate un uzkopšana. 5 Buferu un strupceļa apskate. 6 Kravas ratiņu apskate. 7 Kravas ratiņu sliežu ceļa apskate. | N10: 46419.333 | O10: 46444.646 | R10: =VLOOKUP(D10,'Izmaksu piedāvājums'!$A$18:$N$213,13) -> 0 | S10: 1 | T10: =R10*S10 -> 0
A11: 2027 | B11: TEC1 | D11: T1E-MEH-0212 | E11: Rokas-ķēdes bloka sijas trīša apkope 2.0 t | F11: #T1.U1 =B00 SMH10 AE095 | G11: 0SMH10AE095 | H11: Celtnis. Rokas-ķēdes bloka sijas trīsis 2.0 tn. | I11: 386791 | J11: TEC-1 ED siltumiekārtu inženieru grupa | K11: Telfera sliede ar vinču (apkope) | L11: Rokas-ķēdes bloka sijas trīsis 2.0 tn. ( apkope ) | M11: 1 Kravas ķēdes, nodiluma, stāvokļa (pārrāvumi utt.) un stiprinājumu apskate, ieeļļošana. 2 Pacelšanas mehānisma, skrūvju un uzgriežņu fiksācijas apskate un darbības pārbaude. 3 Kāša un fiksācijas apskate, kāša bloka ieeļļošana. 4 Metālkonstrukcijas apskate un uzkopšana. 5 Buferu un strupceļa apskate. 6 Kravas ratiņu apskate. 7 Kravas ratiņu sliežu ceļa apskate. | N11: 46419.333 | O11: 46444.646 | R11: =VLOOKUP(D11,'Izmaksu piedāvājums'!$A$18:$N$213,13) -> 0 | S11: 1 | T11: =R11*S11 -> 0
A12: 2027 | B12: TEC1 | D12: T1E-MEH-0279 | E12: Gāzes skaitītāja Fluxi 2080 TZ G160 noņemšana verifikācijai un uzstādīšana | F12: #T1.U1 =C00 EKA24 CF005 | G12: 0EKA24CF005 | H12: Plūsmas mērītājs | I12: 386792 | J12: TEC-1 ED siltumiekārtu inženieru grupa | K12: Gāzes skaitītāja Fluxi 2080 TZ G160 noņemšana verifikācijai un uzstādīšana. | L12: Gāzes skaitītāja Fluxi 2080 TZ G160 noņemšana verifikācijai un uzstādīšana. | M12: 1 Gāzevada atloku atjaukšana, gredzenu izņemšana un slēgplākšņu DN80, 2gab. uzstādīšana. 2 Gāzes skaitītāja noņemšana verifikācijai. 3 Blīvējošo starpliku DN80, 6gab. izgatavošana un uzstādīšana. 4 Gāzes skaitītāja uzstādīšana pēc verifikācijas. 5 Gāzesvada posma hermētiskuma pārbaude ar slāpekli. P=6,5bar. 6 Slēgplākšņu DN80, 2gab. izņemšana no gāzesvada un gredzenu uzstādīšana atloku savienojumā. | N12: 46419.333 | O12: 46444.646 | R12: =VLOOKUP(D12,'Izmaksu piedāvājums'!$A$18:$N$213,13) -> 0 | S12: 1 | T12: =R12*S12 -> 0
A13: 2027 | B13: TEC1 | D13: T1E-MEH-0090 | E13: Kondensāta filtra Dn 300 tīrīšana | F13: #T1.U1 =C00 LCA21 AT005 | G13: 0LCA21AT005 | H13: Filtrs | I13: 386793 | J13: TEC-1 ED siltumiekārtu inženieru grupa | K13: Kondensāta filtra Dn 300 tīrīšana | L13: Kondensāta filtra Dn 300 tīrīšana | M13: 1 Siltumizolācijas demontāža. 2 Filtra vāka noņemšana. 3 Filtrēšanas sieta izņemšana no filtra korpusa, tīrīšana un defektēšana. 4 Filtra korpusa, vāka un skrūvju tīrīšana. 5 Filtrēšanas sieta uzstādīšana, blīvējuma nomaiņa, filtra savākšana. 6 Filtra blīvuma pārbaude. 7 Siltumizolācijas montāža. | N13: 46447.333 | O13: 46477.698 | R13: =VLOOKUP(D13,'Izmaksu piedāvājums'!$A$18:$N$213,13) -> 0 | S13: 1 | T13: =R13*S13 -> 0
A14: 2027 | B14: TEC1 | D14: T1E-MEH-0090 | E14: Kondensāta filtra Dn 300 tīrīšana | F14: #T1.U1 =C00 LCA22 AT005 | G14: 0LCA22AT005 | H14: Filtrs | I14: 386794 | J14: TEC-1 ED siltumiekārtu inženieru grupa | K14: Kondensāta filtra Dn 300 tīrīšana | L14: Kondensāta filtra Dn 300 tīrīšana | M14: 1 Siltumizolācijas demontāža. 2 Filtra vāka noņemšana. 3 Filtrēšanas sieta izņemšana no filtra korpusa, tīrīšana un defektēšana. 4 Filtra korpusa, vāka un skrūvju tīrīšana. 5 Filtrēšanas sieta uzstādīšana, blīvējuma nomaiņa, filtra savākšana. 6 Filtra blīvuma pārbaude. 7 Siltumizolācijas montāža. | N14: 46447.333 | O14: 46477.698 | R14: =VLOOKUP(D14,'Izmaksu piedāvājums'!$A$18:$N$213,13) -> 0 | S14: 1 | T14: =R14*S14 -> 0
A15: 2027 | B15: TEC1 | D15: T1E-MEH-0090 | E15: Kondensāta filtra Dn 300 tīrīšana | F15: #T1.U1 =C00 LCA61 AT005 | G15: 0LCA61AT005 | H15: Filtrs | I15: 386795 | J15: TEC-1 ED siltumiekārtu inženieru grupa | K15: Kondensāta filtra Dn 300 tīrīšana | L15: Kondensāta filtra Dn 300 tīrīšana | M15: 1 Siltumizolācijas demontāža. 2 Filtra vāka noņemšana. 3 Filtrēšanas sieta izņemšana no filtra korpusa, tīrīšana un defektēšana. 4 Filtra korpusa, vāka un skrūvju tīrīšana. 5 Filtrēšanas sieta uzstādīšana, blīvējuma nomaiņa, filtra savākšana. 6 Filtra blīvuma pārbaude. 7 Siltumizolācijas montāža. | N15: 46447.333 | O15: 46477.698 | R15: =VLOOKUP(D15,'Izmaksu piedāvājums'!$A$18:$N$213,13) -> 0 | S15: 1 | T15: =R15*S15 -> 0
A16: 2027 | B16: TEC1 | D16: T1E-MEH-0090 | E16: Kondensāta filtra Dn 300 tīrīšana | F16: #T1.U1 =C00 LCA62 AT005 | G16: 0LCA62AT005 | H16: Filtrs | I16: 386796 | J16: TEC-1 ED siltumiekārtu inženieru grupa | K16: Kondensāta filtra Dn 300 tīrīšana | L16: Kondensāta filtra Dn 300 tīrīšana | M16: 1 Siltumizolācijas demontāža. 2 Filtra vāka noņemšana. 3 Filtrēšanas sieta izņemšana no filtra korpusa, tīrīšana un defektēšana. 4 Filtra korpusa, vāka un skrūvju tīrīšana. 5 Filtrēšanas sieta uzstādīšana, blīvējuma nomaiņa, filtra savākšana. 6 Filtra blīvuma pārbaude. 7 Siltumizolācijas montāža. | N16: 46447.333 | O16: 46477.698 | R16: =VLOOKUP(D16,'Izmaksu piedāvājums'!$A$18:$N$213,13) -> 0 | S16: 1 | T16: =R16*S16 -> 0
A17: 2027 | B17: TEC1 | D17: T1E-MEH-0152 | E17: Telfera sliede ar pārvietojamu ķēdes vinču 0.5 tn. ( apkope ) | F17: #T1.U1 =B00 SMH10 AE015 | G17: 0SMH10AE015 | H17: Celtnis. Telfera sliede ar pārv. ķēdes vinču 0.5 tn. | I17: 386797 | J17: TEC-1 ED siltumiekārtu inženieru grupa | K17: Telfera sliede ar vinču (apkope) | L17: Telfera sliede ar pārvietojamu ķēdes vinču 0.5 tn. ( apkope ) | M17: 1 Kravas ķēdes, nodiluma, stāvokļa (pārrāvumi utt.) un stiprinājumu apskate, ieeļļošana. 2 Pacelšanas mehānisma, skrūvju un uzgriežņu fiksācijas apskate un darbības pārbaude. 3 Kāša un fiksācijas apskate, kāša bloka ieeļļošana. 4 Metālkonstrukcijas apskate un uzkopšana. 5 Buferu un strupceļa apskate. 6 Kravas ratiņu apskate. 7 Kravas ratiņu sliežu ceļa apskate. | N17: 46447.333 | O17: 46477.698 | R17: =VLOOKUP(D17,'Izmaksu piedāvājums'!$A$18:$N$213,13) -> 0 | S17: 1 | T17: =R17*S17 -> 0
A18: 2027 | B18: TEC1 | D18: T1E-MEH-0152 | E18: Telfera sliede ar pārvietojamu ķēdes vinču 0.5 tn. ( apkope ) | F18: #T1.U1 =B00 SMH10 AE020 | G18: 0SMH10AE020 | H18: Celtnis. Telfera sliede ar pārv. ķēdes vinču 0.5 tn. | I18: 386798 | J18: TEC-1 ED siltumiekārtu inženieru grupa | K18: Telfera sliede ar vinču (apkope) | L18: Telfera sliede ar pārvietojamu ķēdes vinču 0.5 tn. ( apkope ) | M18: 1 Kravas ķēdes, nodiluma, stāvokļa (pārrāvumi utt.) un stiprinājumu apskate, ieeļļošana. 2 Pacelšanas mehānisma, skrūvju un uzgriežņu fiksācijas apskate un darbības pārbaude. 3 Kāša un fiksācijas apskate, kāša bloka ieeļļošana. 4 Metālkonstrukcijas apskate un uzkopšana. 5 Buferu un strupceļa apskate. 6 Kravas ratiņu apskate. 7 Kravas ratiņu sliežu ceļa apskate. | N18: 46447.333 | O18: 46477.698 | R18: =VLOOKUP(D18,'Izmaksu piedāvājums'!$A$18:$N$213,13) -> 0 | S18: 1 | T18: =R18*S18 -> 0
A19: 2027 | B19: TEC1 | D19: T1E-MEH-0088 | E19: Drenāžas sūkņa filtra Dn 100 tīrīšana | F19: #T1.U1 =C00 LCM11 AT005 | G19: 0LCM11AT005 | H19: Filtrs | I19: 386799 | J19: TEC-1 ED siltumiekārtu inženieru grupa | K19: Sietfiltru iztīrīšana Nr.12 | L19: Drenāžas sūkņa filtra Dn 100 tīrīšana | M19: 1 Siltumizolācijas demontāža. 2 Ūdens atliekumu izliešana no filtra korpusa. Filtra vāka noņemšana. 3 Filtrēšanas sieta izņemšana no filtra korpusa, tīrīšana un defektēšana. 4 Filtra korpusa, vāka un skrūvju tīrīšana. 5 Filtrēšanas sieta uzstādīšana, blīvējumu nomaiņa, filtra savākšana. 6 Filtra blīvuma pārbaude. 7 Siltumizolācijas montāža. | N19: 46447.333 | O19: 46477.698 | R19: =VLOOKUP(D19,'Izmaksu piedāvājums'!$A$18:$N$213,13) -> 0 | S19: 1 | T19: =R19*S19 -> 0
A20: 2027 | B20: TEC1 | D20: T1E-MEH-0003 | E20: GT eļļas attīrīšanas iekārtas eļļas filtru nomaiņa | F20: #T1.U1 =G02 MBV20 AT010 | G20: 2MBV20AT010 | H20: Eļļas attīrīšanas sistēmas filtrs | I20: 386800 | J20: TEC-1 ED siltumiekārtu inženieru grupa | K20: GT eļļas filtru nomaiņa | L20: GT eļļas attīrīšanas iekārtas eļļas filtru nomaiņa | M20: 1 Filtra vāka noņemšana, filtrēšanas elementu izņemšana, filtra korpusa iekšējās virsmas tīrīšana. 2 Jaunu filtrēšanas elementu uzstādīšana. 3 Blīves defektēšana (nepieciešamības gadījumā blīves nomaiņa), filtra vāka uzstādīšana. 4 Filtra blīvējumu pārbaude. 5 Filtrēšanas elementu utilizācija. | N20: 46447.333 | O20: 46477.698 | P20: 0041923 Eļļas filtra elements 2xA 27/27 Article PA5600318 CJC GR6001.004 2 kom | R20: =VLOOKUP(D20,'Izmaksu piedāvājums'!$A$18:$N$213,13) -> 0 | S20: 1 | T20: =R20*S20 -> 0
A21: 2027 | B21: TEC1 | D21: T1E-MEH-0139 | E21: Drošības vārstu noņemšana, pārbaude uz stenda un uzstādīšana Pn=20 bar | F21: #T1.U1 =P00 QHA10 AA005 | G21: 0QHA10AA005 | H21: Drošības vārsts | I21: 386801 | J21: TEC-1 ED siltumiekārtu inženieru grupa | K21: Drošības vārsta pārbaude Nr.5 | L21: Drošības vārstu noņemšana, pārbaude uz stenda un uzstādīšana Pn=20 bar | M21: 1 Drošības vārsta noņemšana no cauruļvada. 2 Drošības vārsta uzstādīšana pārbaudes stendā. 3 Drošības vārsta nostrādes pārbaude, paceļot slāpekļa spiedienu stendā. DV nostrādes spiedienam jābūt, kā norādīts pasē. 4 Ja DV nostrādes spiediens neatbilst pases datiem, veikt DV ieregulēšanu. Pēc ieregulēšanas un atkārtotas pārbaudes DV noņemšana no stenda. 5 Drošības vārsta uzstādīšana cauruļvadā (pielietot jaunu blīvējošu starpliku), blīvējumu pārbaude. | N21: 46447.333 | O21: 46477.698 | R21: =VLOOKUP(D21,'Izmaksu piedāvājums'!$A$18:$N$213,13) -> 0 | S21: 1 | T21: =R21*S21 -> 0
A22: 2027 | B22: TEC1 | D22: T1E-MEH-0139 | E22: Drošības vārstu noņemšana, pārbaude uz stenda un uzstādīšana Pn=20 bar | F22: #T1.U1 =P00 QHA10 AA010 | G22: 0QHA10AA010 | H22: Drošības vārsts | I22: 386802 | J22: TEC-1 ED siltumiekārtu inženieru grupa | K22: Drošības vārsta pārbaude Nr.5 | L22: Drošības vārstu noņemšana, pārbaude uz stenda un uzstādīšana Pn=20 bar | M22: 1 Drošības vārsta noņemšana no cauruļvada. 2 Drošības vārsta uzstādīšana pārbaudes stendā. 3 Drošības vārsta nostrādes pārbaude, paceļot slāpekļa spiedienu stendā. DV nostrādes spiedienam jābūt, kā norādīts pasē. 4 Ja DV nostrādes spiediens neatbilst pases datiem, veikt DV ieregulēšanu. Pēc ieregulēšanas un atkārtotas pārbaudes DV noņemšana no stenda. 5 Drošības vārsta uzstādīšana cauruļvadā (pielietot jaunu blīvējošu starpliku), blīvējumu pārbaude. | N22: 46447.333 | O22: 46477.698 | R22: =VLOOKUP(D22,'Izmaksu piedāvājums'!$A$18:$N$213,13) -> 0 | S22: 1 | T22: =R22*S22 -> 0
A23: 2027 | B23: TEC1 | D23: T1E-MEH-0140 | E23: Lūku atvēršana un aizvēršana katla iekšējai apskatei | F23: #T1.U1 =P00 QHA10 AC005 | G23: 0QHA10AC005 | H23: Sildvirsma. Tvaika katls | I23: 386803 | J23: TEC-1 ED siltumiekārtu inženieru grupa | K23: Lūku atvēršana katla iekšējai apskatei | L23: Lūku atvēršana un aizvēršana katla iekšējai apskatei | M23: 1 Apšuvuma un siltumizolācijas noņemšana no katla lūkām (3 vietas). 2 Lūku (3 gab.) atvēršana. 3 Blīvējošas starplikas izgatavošana. 4 Lūku (3 gab.) aizvēršana. 5 Apšuvuma un siltumizolācijas atjaunošana. | N23: 46447.333 | O23: 46477.698 | R23: =VLOOKUP(D23,'Izmaksu piedāvājums'!$A$18:$N$213,13) -> 0 | S23: 1 | T23: =R23*S23 -> 0
A24: 2027 | B24: TEC1 | D24: T1E-MEH-0138 | E24: Drošības vārstu noņemšana, pārbaude uz stenda un uzstādīšana Pn=2,5 bar | F24: #T1.U1 =P00 QLA10 AA010 | G24: 0QLA10AA010 | H24: Drošības vārsts | I24: 386804 | J24: TEC-1 ED siltumiekārtu inženieru grupa | K24: Drošības vārsta pārbaude Nr.5 | L24: Drošības vārstu noņemšana, pārbaude uz stenda un uzstādīšana Pn=2,5 bar | M24: 1 Drošības vārsta noņemšana no cauruļvada. 2 Drošības vārsta uzstādīšana pārbaudes stendā. 3 Drošības vārsta nostrādes pārbaude, paceļot slāpekļa spiedienu stendā. DV nostrādes spiedienam jābūt, kā norādīts pasē. 4 Ja DV nostrādes spiediens neatbilst pases datiem, veikt DV ieregulēšanu. Pēc ieregulēšanas un atkārtotas pārbaudes DV noņemšana no stenda. 5 Drošības vārsta uzstādīšana cauruļvadā (pielietot jaunu blīvējošu starpliku), blīvējumu pārbaude. | N24: 46447.333 | O24: 46477.698 | R24: =VLOOKUP(D24,'Izmaksu piedāvājums'!$A$18:$N$213,13) -> 0 | S24: 1 | T24: =R24*S24 -> 0
A25: 2027 | B25: TEC1 | D25: T1E-MEH-0141 | E25: Lūku atvēršana un aizvēršana tvertne iekšējai apskatei | F25: #T1.U1 =P00 QLA10 BB005 | G25: 0QLA10BB005 | H25: Piebarošanas ūdens tvertne | I25: 386805 | J25: TEC-1 ED siltumiekārtu inženieru grupa | K25: Lūku atvēršana tvertnes apskatei | L25: Lūku atvēršana un aizvēršana tvertne iekšējai apskatei | M25: 1 Lūkas atvēršana. 2 Blīvējošas starplikas izgatavošana. 3 Lūkas aizvēršana. | N25: 46447.333 | O25: 46477.698 | R25: =VLOOKUP(D25,'Izmaksu piedāvājums'!$A$18:$N$213,13) -> 0 | S25: 1 | T25: =R25*S25 -> 0
A26: 2027 | B26: TEC1 | D26: T1E-MEH-0003 | E26: GT eļļas attīrīšanas iekārtas eļļas filtru nomaiņa | F26: #T1.U1 =G01 MBV20 AT010 | G26: 1MBV20AT010 | H26: Eļļas attīrīšanas sistēmas filtrs | I26: 386806 | J26: TEC-1 ED siltumiekārtu inženieru grupa | K26: GT eļļas filtru nomaiņa | L26: GT eļļas attīrīšanas iekārtas eļļas filtru nomaiņa | M26: 1 Filtra vāka noņemšana, filtrēšanas elementu izņemšana, filtra korpusa iekšējās virsmas tīrīšana. 2 Jaunu filtrēšanas elementu uzstādīšana. 3 Blīves defektēšana (nepieciešamības gadījumā blīves nomaiņa), filtra vāka uzstādīšana. 4 Filtra blīvējumu pārbaude. 5 Filtrēšanas elementu utilizācija. | N26: 46447.333 | O26: 46477.698 | P26: 0041923 Eļļas filtra elements 2xA 27/27 Article PA5600318 CJC GR6001.004 2 kom | R26: =VLOOKUP(D26,'Izmaksu piedāvājums'!$A$18:$N$213,13) -> 0 | S26: 1 | T26: =R26*S26 -> 0
A27: 2027 | B27: TEC1 | D27: T1E-MEH-0020 | E27: Galveno eļļas filtru nomaiņa Dn 150 | F27: #T1.U1 =S00 MAV40 AT005 | G27: 0MAV40AT005 | H27: Filtrs | I27: 386807 | J27: TEC-1 ED siltumiekārtu inženieru grupa | K27: Galveno eļļas filtru nomaiņa Dn 150 | L27: Galveno eļļas filtru nomaiņa Dn 150 | M27: 1 Spiediena noņemšanas kontrole, filtra iztukšošana, eļļas atliekumu izliešana un utilizācija. 2 Eļļas filtra vāka noņemšana. 3 Filtrējošo elementu, 5 gab., izņemšana, apskate un utilizācija. 4 Filtra un filtra vāka iztīrīšana. 5 Filtrējošo elementu un vāka blīvējumu pārbaude un nomaiņa, ja nepieciešams. 6 Jauno filtrējošo elementu, 5 gab., uzstādīšana. Filtra savākšana. 7 Filtra blīvuma pārbaude. | N27: 46447.333 | O27: 46477.698 | P27: 0033987 Eļļas filtra elements 0850 R 020 ON /-KB 20 micron HYDAC GR6001.004 5 gab | R27: =VLOOKUP(D27,'Izmaksu piedāvājums'!$A$18:$N$213,13) -> 0 | S27: 1 | T27: =R27*S27 -> 0
A28: 2027 | B28: TEC1 | D28: T1E-MEH-0023 | E28: Filtra kartridžu nomaiņa | F28: #T1.U1 =S00 MAV90 AT010 | G28: 0MAV90AT010 | H28: Filtrs | I28: 386808 | J28: TEC-1 ED siltumiekārtu inženieru grupa | K28: Filtra kartridžu nomaiņa Nr.1 | L28: Filtra kartridžu nomaiņa | M28: 1 Filtra vāka noņemšana, filtrēšanas elementu izņemšana, filtra korpusa iekšējās virsmas tīrīšana. 2 Jaunu filtrēšanas elementu uzstādīšana. 3 Blīves defektēšana (nepieciešamības gadījumā blīves nomaiņa), filtra vāka uzstādīšana. 4 Filtra blīvējumu pārbaude. 5 Filtrēšanas elementu utilizācija. | N28: 46447.333 | O28: 46477.698 | P28: 0041923 Eļļas filtra elements 2xA 27/27 Article PA5600318 CJC GR6001.004 2 kom | R28: =VLOOKUP(D28,'Izmaksu piedāvājums'!$A$18:$N$213,13) -> 0 | S28: 1 | T28: =R28*S28 -> 0
A29: 2027 | B29: TEC1 | D29: T1E-MEH-0023 | E29: Filtra kartridžu nomaiņa | F29: #T1.U1 =S00 MAV90 AT015 | G29: 0MAV90AT015 | H29: Filtrs | I29: 386809 | J29: TEC-1 ED siltumiekārtu inženieru grupa | K29: Filtra kartridžu nomaiņa Nr.1 | L29: Filtra kartridžu nomaiņa | M29: 1 Filtra vāka noņemšana, filtrēšanas elementu izņemšana, filtra korpusa iekšējās virsmas tīrīšana. 2 Jaunu filtrēšanas elementu uzstādīšana. 3 Blīves defektēšana (nepieciešamības gadījumā blīves nomaiņa), filtra vāka uzstādīšana. 4 Filtra blīvējumu pārbaude. 5 Filtrēšanas elementu utilizācija. | N29: 46447.333 | O29: 46477.698 | P29: 0041923 Eļļas filtra elements 2xA 27/27 Article PA5600318 CJC GR6001.004 2 kom | R29: =VLOOKUP(D29,'Izmaksu piedāvājums'!$A$18:$N$213,13) -> 0 | S29: 1 | T29: =R29*S29 -> 0
A30: 2027 | B30: TEC1 | D30: T1E-MEH-0151 | E30: Telfera sliede ar pārvietojamu ķēdes vinču 0.25 tn. ( apkope ) | F30: #T1.U1 =B00 SMH10 AE070 | G30: 0SMH10AE070 | H30: Celtnis. Telfera sliede ar pārv. ķēdes vinču 0.25 tn. | I30: 386810 | J30: TEC-1 ED siltumiekārtu inženieru grupa | K30: Telfera sliede ar vinču (apkope) | L30: Telfera sliede ar pārvietojamu ķēdes vinču 0.25 tn. ( apkope ) | M30: 1 Kravas ķēdes, nodiluma, stāvokļa (pārrāvumi utt.) un stiprinājumu apskate, ieeļļošana. 2 Pacelšanas mehānisma, skrūvju un uzgriežņu fiksācijas apskate un darbības pārbaude. 3 Kāša un fiksācijas apskate, kāša bloka ieeļļošana. 4 Metālkonstrukcijas apskate un uzkopšana. 5 Buferu un strupceļa apskate. 6 Kravas ratiņu apskate. 7 Kravas ratiņu sliežu ceļa apskate. | N30: 46478.333 | O30: 46507.646 | R30: =VLOOKUP(D30,'Izmaksu piedāvājums'!$A$18:$N$213,13) -> 0 | S30: 1 | T30: =R30*S30 -> 0
A31: 2027 | B31: TEC1 | D31: T1E-MEH-0070 | E31: Drošības vārstu ARMATEC 433 (AT4592D4-10-20) Dn25 Pn10 revīzija, funkcionēšanas pārbaude. | F31: #T1.U1 =C00 GHD50 AA010 | G31: 0GHD50AA010 | H31: Drošības vārsts | I31: 386811 | J31: TEC-1 ED siltumiekārtu inženieru grupa | K31: Drošības vārsta pārbaude Nr.6 | L31: Drošības vārstu ARMATEC 433 (AT4592D4-10-20) Dn25 Pn10 revīzija, funkcionēšanas pārbaude. | M31: 1 Drošības vārsta noņemšana no cauruļvada. 2 Drošības vārsta uzstādīšana pārbaudes stendā. 3 Drošības vārsta nostrādes pārbaude paceļot slāpekļa spiedienu stendā. DV nostrādes spiedienam jābūt 10,0 bari. 4 Ja DV nostrādes spiediens neatbilst pases datos norādītajam veikt DV ieregulēšanu un atkārtotu pārbaudi. 5 Drošības vārsta blīvuma pārbaude stendā. 6 Drošības vārsta uzstādīšana uz cauruļvada (pielietot jaunu blīvējošu materiālu). | N31: 46478.333 | O31: 46507.646 | R31: =VLOOKUP(D31,'Izmaksu piedāvājums'!$A$18:$N$213,13) -> 0 | S31: 1 | T31: =R31*S31 -> 0
A32: 2027 | B32: TEC1 | D32: T1E-MEH-0038 | E32: Eļļas papildināšana līdz nepieciešamajam līmenim | F32: #T1.U1 =C00 EKA61 BB001 | G32: 0EKA61BB001 | H32: Eļļas separators | I32: 386812 | J32: TEC-1 ED siltumiekārtu inženieru grupa | K32: Eļļas papildināšana | L32: Eļļas papildināšana līdz nepieciešamajam līmenim | M32: 1 Slēgta atloka noņemšana no ielietnes. 2 Ar pārnesamā sūkņa palīdzību eļļas papildināšana separatorā. 3 Slēgta atloka uzstādīšana uz ielietnes. 4 Slēgta atloka savienojuma blīvējumu pārbaude ar slāpekli | N32: 46478.333 | O32: 46507.646 | P32: 0041754 Kompresoreļļa SHELL MADRELA OIL GS68, SHELL Gas Compressor Oil S4 RN68 SHELL GR7501.002 35 l; 0041984 Spirālblīve 2''-300# 316 Spiral Spirālblīve Spiral wound gasket 2''-300# 316 Spiral /C.St outerring/ St.St. innerirring/ Graphite t=4,5/3mm GR6001.004 1 gab | R32: =VLOOKUP(D32,'Izmaksu piedāvājums'!$A$18:$N$213,13) -> 0 | S32: 1 | T32: =R32*S32 -> 0
A33: 2027 | B33: TEC1 | D33: T1E-MEH-0038 | E33: Eļļas papildināšana līdz nepieciešamajam līmenim | F33: #T1.U1 =C00 EKA62 BB001 | G33: 0EKA62BB001 | H33: Rezervuārs. Eļļas separators | I33: 386813 | J33: TEC-1 ED siltumiekārtu inženieru grupa | K33: Eļļas papildināšana | L33: Eļļas papildināšana līdz nepieciešamajam līmenim | M33: 1 Slēgta atloka noņemšana no ielietnes. 2 Ar pārnesamā sūkņa palīdzību eļļas papildināšana separatorā. 3 Slēgta atloka uzstādīšana uz ielietnes. 4 Slēgta atloka savienojuma blīvējumu pārbaude ar slāpekli | N33: 46478.333 | O33: 46507.646 | P33: 0041754 Kompresoreļļa SHELL MADRELA OIL GS68, SHELL Gas Compressor Oil S4 RN68 SHELL GR7501.002 35 l; 0041984 Spirālblīve 2''-300# 316 Spiral Spirālblīve Spiral wound gasket 2''-300# 316 Spiral /C.St outerring/ St.St. innerirring/ Graphite t=4,5/3mm GR6001.004 1 gab | R33: =VLOOKUP(D33,'Izmaksu piedāvājums'!$A$18:$N$213,13) -> 0 | S33: 1 | T33: =R33*S33 -> 0
A34: 2027 | B34: TEC1 | D34: T1E-MEH-0038 | E34: Eļļas papildināšana līdz nepieciešamajam līmenim | F34: #T1.U1 =C00 EKA63 BB001 | G34: 0EKA63BB001 | H34: Rezervuārs. Eļļas separators | I34: 386814 | J34: TEC-1 ED siltumiekārtu inženieru grupa | K34: Eļļas papildināšana | L34: Eļļas papildināšana līdz nepieciešamajam līmenim | M34: 1 Slēgta atloka noņemšana no ielietnes. 2 Ar pārnesamā sūkņa palīdzību eļļas papildināšana separatorā. 3 Slēgta atloka uzstādīšana uz ielietnes. 4 Slēgta atloka savienojuma blīvējumu pārbaude ar slāpekli | N34: 46478.333 | O34: 46507.646 | P34: 0041754 Kompresoreļļa SHELL MADRELA OIL GS68, SHELL Gas Compressor Oil S4 RN68 SHELL GR7501.002 35 l; 0041984 Spirālblīve 2''-300# 316 Spiral Spirālblīve Spiral wound gasket 2''-300# 316 Spiral /C.St outerring/ St.St. innerirring/ Graphite t=4,5/3mm GR6001.004 1 gab | R34: =VLOOKUP(D34,'Izmaksu piedāvājums'!$A$18:$N$213,13) -> 0 | S34: 1 | T34: =R34*S34 -> 0
A35: 2027 | B35: TEC1 | D35: T1E-MEH-0149 | E35: Telfera sliede ar pārvietojamu ķēdes vinču 1.25 tn. ( apkope ) | F35: #T1.U1 =B00 SMH10 AE050 | G35: 0SMH10AE050 | H35: Celtnis. Telfera sliede ar pārv. ķēdes vinču 1.25 tn. | I35: 386815 | J35: TEC-1 ED siltumiekārtu inženieru grupa | K35: Telfera sliede ar vinču (apkope) | L35: Telfera sliede ar pārvietojamu ķēdes vinču 1.25 tn. ( apkope ) | M35: 1 Kravas ķēdes, nodiluma, stāvokļa (pārrāvumi utt.) un stiprinājumu apskate, ieeļļošana. 2 Pacelšanas mehānisma, skrūvju un uzgriežņu fiksācijas apskate un darbības pārbaude. 3 Kāša un fiksācijas apskate, kāša bloka ieeļļošana. 4 Metālkonstrukcijas apskate un uzkopšana. 5 Buferu un strupceļa apskate. 6 Kravas ratiņu apskate. 7 Kravas ratiņu sliežu ceļa apskate. | N35: 46478.333 | O35: 46507.646 | R35: =VLOOKUP(D35,'Izmaksu piedāvājums'!$A$18:$N$213,13) -> 0 | S35: 1 | T35: =R35*S35 -> 0
A36: 2027 | B36: TEC1 | D36: T1E-MEH-0152 | E36: Telfera sliede ar pārvietojamu ķēdes vinču 0.5 tn. ( apkope ) | F36: #T1.U1 =B00 SMH10 AE055 | G36: 0SMH10AE055 | H36: Celtnis. Telfera sliede ar pārv. ķēdes vinču 0.5 tn. | I36: 386816 | J36: TEC-1 ED siltumiekārtu inženieru grupa | K36: Telfera sliede ar vinču (apkope) | L36: Telfera sliede ar pārvietojamu ķēdes vinču 0.5 tn. ( apkope ) | M36: 1 Kravas ķēdes, nodiluma, stāvokļa (pārrāvumi utt.) un stiprinājumu apskate, ieeļļošana. 2 Pacelšanas mehānisma, skrūvju un uzgriežņu fiksācijas apskate un darbības pārbaude. 3 Kāša un fiksācijas apskate, kāša bloka ieeļļošana. 4 Metālkonstrukcijas apskate un uzkopšana. 5 Buferu un strupceļa apskate. 6 Kravas ratiņu apskate. 7 Kravas ratiņu sliežu ceļa apskate. | N36: 46478.333 | O36: 46507.646 | R36: =VLOOKUP(D36,'Izmaksu piedāvājums'!$A$18:$N$213,13) -> 0 | S36: 1 | T36: =R36*S36 -> 0
A37: 2027 | B37: TEC1 | D37: T1E-MEH-0150 | E37: Telfera sliede ar pārvietojamu ķēdes vinču 3.5 tn. ( apkope ) | F37: #T1.U1 =B00 SMH10 AE060 | G37: 0SMH10AE060 | H37: Celtnis. Telfera sliede ar pārv. ķēdes vinču 3.5 tn. | I37: 386817 | J37: TEC-1 ED siltumiekārtu inženieru grupa | K37: Telfera sliede ar vinču (apkope) | L37: Telfera sliede ar pārvietojamu ķēdes vinču 3.5 tn. ( apkope ) | M37: 1 Kravas ķēdes, nodiluma, stāvokļa (pārrāvumi utt.) un stiprinājumu apskate, ieeļļošana. 2 Pacelšanas mehānisma, skrūvju un uzgriežņu fiksācijas apskate un darbības pārbaude. 3 Kāša un fiksācijas apskate, kāša bloka ieeļļošana. 4 Metālkonstrukcijas apskate un uzkopšana. 5 Buferu un strupceļa apskate. 6 Kravas ratiņu apskate. 7 Kravas ratiņu sliežu ceļa apskate. | N37: 46478.333 | O37: 46507.646 | R37: =VLOOKUP(D37,'Izmaksu piedāvājums'!$A$18:$N$213,13) -> 0 | S37: 1 | T37: =R37*S37 -> 0
A38: 2027 | B38: TEC1 | D38: T1E-MEH-0152 | E38: Telfera sliede ar pārvietojamu ķēdes vinču 0.5 tn. ( apkope ) | F38: #T1.U1 =B00 SMH10 AE065 | G38: 0SMH10AE065 | H38: Celtnis. Telfera sliede ar pārv. ķēdes vinču 0.5 tn. | I38: 386818 | J38: TEC-1 ED siltumiekārtu inženieru grupa | K38: Telfera sliede ar vinču (apkope) | L38: Telfera sliede ar pārvietojamu ķēdes vinču 0.5 tn. ( apkope ) | M38: 1 Kravas ķēdes, nodiluma, stāvokļa (pārrāvumi utt.) un stiprinājumu apskate, ieeļļošana. 2 Pacelšanas mehānisma, skrūvju un uzgriežņu fiksācijas apskate un darbības pārbaude. 3 Kāša un fiksācijas apskate, kāša bloka ieeļļošana. 4 Metālkonstrukcijas apskate un uzkopšana. 5 Buferu un strupceļa apskate. 6 Kravas ratiņu apskate. 7 Kravas ratiņu sliežu ceļa apskate. | N38: 46478.333 | O38: 46507.646 | R38: =VLOOKUP(D38,'Izmaksu piedāvājums'!$A$18:$N$213,13) -> 0 | S38: 1 | T38: =R38*S38 -> 0
A39: 2027 | B39: TEC1 | D39: T1E-MEH-0108 | E39: Gaisa kompresora ķīļsiksnas nomaiņa (komplekts) | F39: #T1.U1 =C00 QFA40 AN005 | G39: 0QFA40AN005 | H39: Gaisa kompresors Nr.1 | I39: 386819 | J39: TEC-1 ED siltumiekārtu inženieru grupa | K39: Gaisa kompresora ķīļsiksnas nomaiņa | L39: Gaisa kompresora ķīļsiksnas nomaiņa (komplekts) | M39: 1 Ķīļsiksnas aizsardzības korpusa noņemšana. 2 Ķīļsiksnas komplekta noņemšana. 3 Jauna ķīļsiksnas komplekta uzstādīšana. 4 Aizsardzības korpusa uzstādīšana. | N39: 46478.333 | O39: 46507.646 | P39: 0041946 Ķīļsiksna MODELIS: 586000938P BOGE S50-3 GR6001.004 4 gab | R39: =VLOOKUP(D39,'Izmaksu piedāvājums'!$A$18:$N$213,13) -> 0 | S39: 1 | T39: =R39*S39 -> 0
A40: 2027 | B40: TEC1 | D40: T1E-MEH-0116 | E40: Magnētisko vārstu nomaiņa. | F40: #T1.U1 =C00 QFA40 AN005 | G40: 0QFA40AN005 | H40: Gaisa kompresors Nr.1 | I40: 386820 | J40: TEC-1 ED siltumiekārtu inženieru grupa | K40: Magnētisko vāstu nomaiņa | L40: Magnētisko vārstu nomaiņa. | M40: 1 Magnētiskā vārsta noņemšana. 2 Jauna magnētiskā vārsta uzstādīšana. 3 Vārsta blīvējumu pārbaude. | N40: 46478.333 | O40: 46507.646 | P40: 0041964 Magnētiskais vārsts MODELIS: 644006101P BOGE S50-2 GR6001.004 1 gab | R40: =VLOOKUP(D40,'Izmaksu piedāvājums'!$A$18:$N$213,13) -> 0 | S40: 1 | T40: =R40*S40 -> 0
A41: 2027 | B41: TEC1 | D41: T1E-MEH-0117 | E41: Iesūknēšanas vārstu nomaiņa | F41: #T1.U1 =C00 QFA40 AN005 | G41: 0QFA40AN005 | H41: Gaisa kompresors Nr.1 | I41: 386821 | J41: TEC-1 ED siltumiekārtu inženieru grupa | K41: Iesūknēšanas vārstu nomaiņa | L41: Iesūknēšanas vārstu nomaiņa | M41: 1 Iesūknēšanas vārsta noņemšana. 2 Jauna iesūknēšanas vārsta uzstādīšana. 3 Vārsta blīvējumu pārbaude. | N41: 46478.333 | O41: 46507.646 | P41: 0041965 Iesūknēšanas vārsts MODELIS: 2420088671P BOGE S50-3 GR6001.004 1 gab | R41: =VLOOKUP(D41,'Izmaksu piedāvājums'!$A$18:$N$213,13) -> 0 | S41: 1 | T41: =R41*S41 -> 0
...

Sheet Darbu grafiks
A2: Darbu grafiks
A3: TEC-1 mehānisko iekārtu uzturēšanas remonts 2027.-2028. gadā
D6: 2027 | P6: 2028
A7: Iepirkuma vienības Nr. | B7: Iepirkuma vienības apraksts | C7: Ražotne; Ražotnes daļa | D7: 01 | E7: 02 | F7: 03 | G7: 04 | H7: 05 | I7: 06 | J7: 07 | K7: 08 | L7: 09 | M7: 10 | N7: 11 | O7: 12 | P7: 01 | Q7: 02 | R7: 03 | S7: 04 | T7: 05 | U7: 06 | V7: 07 | W7: 08 | X7: 09 | Y7: 10 | Z7: 11 | AA7: 12
A8: T1E-MEH-0001 | B8: GT gāzes filtru nomaiņa | C8: TEC1 | L8: 2 | X8: 2
A9: T1E-MEH-0003 | B9: GT eļļas attīrīšanas iekārtas eļļas filtru nomaiņa | C9: TEC1 | F9: 2 | R9: 2
A10: T1E-MEH-0004 | B10: Skalošanas sūkņa eļļas nomaiņa | C10: TEC1 | Y10: 2
A11: T1E-MEH-0005 | B11: Zobratu parraides sūkņa eļļas nomaiņa | C11: TEC1 | Y11: 2
A12: T1E-MEH-0006 | B12: Sietfiltru iztīrīšana | C12: TEC1 | Y12: 4
A13: T1E-MEH-0007 | B13: GT ventilācijas sistēmas gaisa ieplūdes filtru nomaiņa | C13: TEC1 | J13: 2 | V13: 2
A14: T1E-MEH-0008 | B14: GT gaisa ieplūdes filtru nomaiņa | C14: TEC1 | G14: 4 | K14: 4 | S14: 4 | W14: 4
A15: T1E-MEH-0011 | B15: Konservācijas iekārtas "Munters ML690" piedziņas siksnu un atbalsta riteņus pārbaude | C15: TEC1 | L15: 2 | X15: 2
A16: T1E-MEH-0011P | B16: TT konservācijas iekārtas "Munters ML690" piedziņas siksnu un atbalsta riteņus pārbaude | C16: TEC1 | I16: 1 | U16: 1
A17: T1E-MEH-0012 | B17: Tvaika uztvērēju Dn 25 filtru elementu tīrīšana | C17: TEC1 | I17: 4 | U17: 4
A18: T1E-MEH-0013 | B18: Filtru Dn65 tīrīšana | C18: TEC1 | I18: 2 | U18: 2
A19: T1E-MEH-0014 | B19: Droseļdiafragmas Dn25 revīzija. Siltumizolācijas atjaunošana. | C19: TEC1 | I19: 3 | U19: 3
A20: T1E-MEH-0015 | B20: Tvaika cauruļvada Dn 25 filtra tīrīšana | C20: TEC1 | I20: 2 | U20: 2
A21: T1E-MEH-0016 | B21: Galvenā kondensāta cauruļvada Dn 25 filtra tīrīšana | C21: TEC1 | I21: 1 | U21: 1
A22: T1E-MEH-0017 | B22: Ūdens separatora tīrīšana | C22: TEC1 | I22: 1 | U22: 1
A23: T1E-MEH-0018 | B23: Drošības vārsta Armatec AT4550, Dn80-Pn16/Dn50-Pn40 revīzija, funkcionēšanas pārbaude | C23: TEC1 | I23: 1 | U23: 1
A24: T1E-MEH-0019 | B24: Filtra pirms vītņsūkņa tīrīšana Dn 150 | C24: TEC1 | I24: 1 | U24: 1
A25: T1E-MEH-0020 | B25: Galveno eļļas filtru nomaiņa Dn 150 | C25: TEC1 | F25: 1 | M25: 1 | R25: 1 | Y25: 1
A26: T1E-MEH-0021 | B26: Eļļas tvaiku ventilatora filtra revīzija | C26: TEC1 | I26: 1 | U26: 1
A27: T1E-MEH-0022 | B27: Eļļas filtra tīrīšana | C27: TEC1 | I27: 1 | U27: 1
A28: T1E-MEH-0023 | B28: Filtra kartridžu nomaiņa | C28: TEC1 | F28: 2 | R28: 2
A29: T1E-MEH-0026 | B29: Eļļas dzesētāja tīrīšana ar demontāžu | C29: TEC1 | I29: 1 | U29: 1
A30: T1E-MEH-0029 | B30: Eļļas spiediena ierobežošanas vārsta funkcionēšanas pārbaude | C30: TEC1 | I30: 1 | U30: 1
A31: T1E-MEH-0030 | B31: Blīvtvaika dzesētāja tīrīšana | C31: TEC1 | I31: 1 | U31: 1
A32: T1E-MEH-0031 | B32: Sietiņa filtra tīrīšana (Dn250) | C32: TEC1 | I32: 3 | U32: 3
A33: T1E-MEH-0032 | B33: Eļļas separatora filtra filtrējošo elementu nomaiņa (ELT-920 - 3 gab.) | C33: TEC1 | I33: 3 | U33: 3
A34: T1E-MEH-0033 | B34: Eļļas pilienu atdalītāja tīrīšana (Dn 490X200) | C34: TEC1 | I34: 3 | U34: 3
A35: T1E-MEH-0034 | B35: Eļļas separatora filtra filtrējošo elementu nomaiņa (ELT-110 - 7 gab.) | C35: TEC1 | I35: 3 | U35: 3
A36: T1E-MEH-0035 | B36: Eļļas filtra filtrējošo elementu nomaiņa (ELT-Z-1800-A-CC10V) | C36: TEC1 | J36: 6 | V36: 6
A37: T1E-MEH-0036 | B37: Sietiņa eļļas filtra tīrīšana (Dn100) | C37: TEC1 | J37: 6 | V37: 6
A38: T1E-MEH-0037 | B38: Sietiņa eļļas filtra tīrīšana (Dn15) | C38: TEC1 | J38: 6 | V38: 6
A39: T1E-MEH-0038 | B39: Eļļas papildināšana līdz nepieciešamajam līmenim | C39: TEC1 | D39: 3 | G39: 3 | J39: 3 | M39: 3 | P39: 3 | S39: 3 | V39: 3 | Y39: 3
A40: T1E-MEH-0039 | B40: Drošības vārsta pārbaude | C40: TEC1 | J40: 3 | V40: 3
A41: T1E-MEH-0040 | B41: Gāzes filtra kartridža nomaiņa (Dn100) | C41: TEC1 | V41: 2
A42: T1E-MEH-0041 | B42: Gāzes filtra tīrīšana (Dn100) | C42: TEC1 | V42: 2
A43: T1E-MEH-0042 | B43: Gāzes filtra tīrīšana (Dn40) | C43: TEC1 | V43: 2
...
