Workbook

Sheet PR
A2: PASKAIDROJUMA RAKSTS
A5: P.Valdena ielas 3 telpu pārplānošana ķīmijas tehnoloģijas pamatprocesu un aparātu laboratorijas vajadzībām projekta būvdarbu organizācijas apraksts ietverts objekta paskaidrojuma rakstā. Darba gaitā būvizstrādājumu pagaidu nokraušana jāveic pasūtītāja norādītajās vietās. Celtniecības atkritumus jāsavāc celtniecības atkritumu konteineros un utilizēšana jāveic sertificētā atkritumu izgāztuvē. Darbi notiek 1 kārtā
A7: Tāmju aprēķinā vidējā celtnieka cilvēkstundas likme ir euro/h | B7: ='KS '!F23/'KS '!I23 -> #DIV/0!
A8: Būvniecības izmaksas ar PVN, euro | B8: =KOPT!C23 -> 0
A9: Tiešās izmaksas, euro | B9: ='KS '!E23 -> 0
A11: Kopējā līgumcena sastāv no būvniecības izdevumu kopsummas ar Latvijas Valsts likumdošanā paredzētajiem nodokļiem.
A12: Būvdarbu darbietilpība , c/h | B12: ='KS '!I23 -> 0
A14: Objektā aprēķināts sekojošs līdzekļu sadalījums :
A16: Būvizstrādājumi no tiešo izmaksu summas | B16: ='KS '!G23/'KS '!E23 -> #DIV/0!
A17: Darba alga ar nodoklīem no tiešo izmaksu summas | B17: ='KS '!F23/'KS '!E23 -> #DIV/0!
A18: Mehānismi no tiešo izmaksu summas | B18: ='KS '!H23/'KS '!E23 -> #DIV/0!
A19: Plānotā peļņa no tiešo izmaksu summas | B19: 0.05
A20: Pievienotās vērtības nodoklis no objekta izmaksu summas | B20: 0.21
A25: Sastādīja:
B26: =KOPT!C31 -> /Andis Kalniņš/, 28.05.2026.
B27: (paraksts un tā atšifrējums, datums)

Sheet DA
A1: Būvdarbu apjomu saraksts
A2: P.Valdena ielas 3 telpu pārplānošana ķīmijas tehnoloģijas pamatprocesu un aparātu laboratorijas vajadzībām
A4: Būves nosaukums: P.Valdena ielas 3 telpu pārplānošana ķīmijas tehnoloģijas pamatprocesu un aparātu laboratorijas vajadzībām
A5: Objekta nosaukums: P.Valdena ielas 3 telpu pārplānošana ķīmijas tehnoloģijas pamatprocesu un aparātu laboratorijas vajadzībām
A6: Objekta adrese: Paula Valdena iela 3, Rīga, LV-1048
A7: Pasūtījuma Nr.BD398-2026
A9: Apjomi pamatojoties uz SIA "Būvdizains" projekta Nr.BD398-2026 rasējumiem
A12: Nr. p.k. | B12: Būvdarbu nosaukums | C12: Mērvienība | D12: Daudzums
A14: 1 | B14: 2 | C14: 3 | D14: 4
A16: I | B16: Vispārceltnieciskie darbl
A17: 1.1 | B17: Pārsedzes uzstādīšana (būvkostrukcijas)
A18: 1 | B18: Būvlaukuma sagatavošana | C18: 0 | D18: 0
A19: 1.1 | B19: Pārvietojamās tualetes uzstādīšana un noma | C19: gb | D19: 1
A20: 1.2 | B20: Strādnieku sadzīves vagons, noma | C20: gb | D20: 1
A21: 1.3 | B21: Būvgružu konteineris, uzstādīšana, noma | C21: gb | D21: 1
B22: 0
A23: 2 | B23: Demontāžas darbi
A24: 2.1 | B24: Pagraba pārsegumu dobās dzelszbetona plātnes dobuma aizbetonēšanu ( ar betonu C30/37 XC1). 30 cm uz katru pusi no stūtes centra | C24: m2 | D24: 1.8
A25: 2.2 | B25: Ailas pārsedzes nobalstīšana uz turām pagrabā | C25: kpl | D25: 1
A26: 2.3 | B26: Metāla konstrukciju antikorozijas apstrāde | C26: kpl | D26: 1
A27: 2.4 | B27: Esošās sienas demontāža | C27: m2 | D27: 8.6
A28: 2.5 | B28: Nobalstīt katru montažas IPE 220 ar montažas stutem laboratorijā | C28: gb | D28: 5
A29: 2.6 | B29: Veikt sienas monitoringu Plaisu paradīšanas gadījumā veikt pastiprināšanu | C29: kpl | D29: 1
A30: 2.7 | B30: Velkmes skapja venilācijas vadības skapja atslēgšana | C30: kpl | D30: 1
B31: 0
A32: 3 | B32: Pārsedzes uzstādīšana
A33: 3.1 | B33: Ar M16; 8.8; urb.18 mm ieurbt un ielīmēt ar HILTI HY-200-A, max solis 500mm | C33: kpl | D33: 10
A34: 3.2 | B34: Stiprināt pārsedzes ailu ar □150x150x5, S355 uz skrūvēm, h=2110mm | C34: gb | D34: 4
A35: 3.3 | B35: Montēt pārsedzi 2xUPE270; S355, savienojuma skrūves,montāžas metinājumi, l=3110mm | C35: kpl | D35: 1
A36: 3.4 | B36: Aizpildīt ar briestošo betonu C30/37, XC1 | C36: kpl | D36: 1
A37: 3.5 | B37: IPE220, S355 max solis 750mm pēc UPE270 montāžas nogriezt, noņemt stutes | C37: gb | D37: 5
B38: 0
A39: 4 | B39: Dažādi
A40: 4.1 | B40: Ailas pārsedzes nobalstīšana uz turām pagrabā, demontāža | C40: kpl | D40: 1
A41: 4.2 | B41: Velkmes skapja ventilācijas vadības skapja pieslēgšana laboratorijā | C41: kpl | D41: 1
A42: 4.3 | B42: Pārsedzes un ailas apmetums | C42: gb | D42: 1
B43: cementa java M 200 | C43: m3 | D43: 0.15
B44: cinkots siets | C44: m2 | D44: 3
B45: 0
A46: 1.2 | B46: Vispārceltnieciskie darbl
A47: 1,2,1 | B47: Demontāžas darbi
B48: Demontējamo sienu apjoms (skat. AR-2-01)
A49: 1 | B49: S-1, Ķieģeļu mūra siena, 120 mm | C49: m3 | D49: 2.99
A50: 2 | B50: S-2, Ķieģeļu mūra siena, 250 m | C50: m3 | D50: 1.64
A51: 3 | B51: S-3, Metāla karkasa starpsiena, 150mm | C51: m3 | D51: 3.71
B52: 0
B53: Demontējamo grīdas segumu apjoms (skat. AR-2-01)
A54: 1 | B54: G-E1, Grīdas apdare - vinils 2mm | C54: m2 | D54: 62.1
A55: 2 | B55: G-E2, Saplākšņa loksnes, 16 mm | C55: m2 | D55: 16.2
B56: 0
B57: Demontējamās durvis
A58: 1 | B58: 884x2100mm | C58: gb | D58: 5
A59: 2 | B59: 1390x2090mm | C59: gb | D59: 1
A60: 3 | B60: 1294x3090mm | C60: gb | D60: 1
B61: 0
B62: Demontējami griesti
A63: 1 | B63: GR-E1, Piekaramie griesti | C63: m2 | D63: 63
B64: Dažādi
A65: 1 | B65: Demontēt visu esošo santehniku | C65: kpl | D65: 1
B66: 0
A67: 1,2,2 | B67: Apdares darbi (skat. AR-2-03)
B68: Grīdas
A69: 1 | B69: G-1. Heterogēns vinila grīdas segums Forbo Eternal original vai analogs | C69: m2 | D69: 1486.02
A70: 2 | B70: Grīdlīstes - grīdas seguma uzloces, | C70: m2 | D70: 9
B71: 0
B72: Sienas
A73: 1 | B73: Sienu krāspšana, NCS S 1000-G70Y, sienu virsmas sagatavošana | C73: m2 | D73: 300.6
B74: 0
B75: Griesti
A76: 1 | B76: GR-1, Izlīdzināti un krāsoti esošie betona paneļu griesti, h=3.8m | C76: m2 | D76: 120.26
A77: 2 | B77: GR-2, Krāsoti esošie griesti, h=2,3m | C77: m2 | D77: 3.35
B78: 0
A79: 1,2,3 | B79: Ailu aizpildījums (skat. AR-6-03)
A80: 1 | B80: D-1, koka konstrukcijas durvis, Komplektācija kopā ar rokturiem, slēdzenēm un citu furnitūru, kas paredzēta sabiedriskām ēkām intensīvai lietošanai 900x2000mm | C80: gb | D80: 1
A81: 2 | B81: D-2, koka konstrukcijas durvis, Komplektācija kopā ar rokturiem, slēdzenēm un citu furnitūru, kas paredzēta sabiedriskām ēkām intensīvai lietošanai 750x2000mm | C81: gb | D81: 1
A82: 3 | B82: D-3, koka konstrukcijas divviru durvis, Komplektācija kopā ar rokturiem, slēdzenēm un citu furnitūru, kas paredzēta sabiedriskām ēkām intensīvai lietošanai 1250x2100mm | C82: gb | D82: 2
A83: 4 | B83: D-4, lekšdurvis, lamināta skaidu plāksne 18mm, komplektācija kopā virām un slēdzeni, bez roktura, mitrumizturīgas, 975x2090mm | C83: gb | D83: 1
B84: 0
A85: 1,2,4 | B85: Ruļļveida žalūzujas - loga iekšpusē (skat, AR-2-02)
A86: 1 | B86: Ž-1, 1855x2000mm | C86: gb | D86: 2
A87: 2 | B87: Ž-2, 2770x2000mm | C87: gb | D87: 3
A88: 3 | B88: Ž-3, 2750x2000mm | C88: gb | D88: 1
A89: 4 | B89: Ž-4, 2830x2000mm | C89: gb | D89: 1
A90: 5 | B90: Ž-5, 2250x2000mm | C90: gb | D90: 1
B91: 0
A92: II | B92: Ūdensapgāde Ū1 | C92: 0 | D92: 0
A93: 1 | B93: PP cauruļvads ar stikla šķiedru armēta, komplektā ar veidgabaliem un stiprinājumiem , RPFG PN25. 20x3,4 | C93: m | D93: 25
A94: 2 | B94: PP cauruļvads ar stikla šķiedru armēta, komplektā ar veidgabaliem un stiprinājumiem ,RPFG PN25, 25x4,2 | C94: m | D94: 10
A95: 3 | B95: PP cauruļvads ar stikla šķiedru armēta, komplektā ar veidgabaliem un stiprinājumiem , RPFG PN25, 32x5,4 | C95: m | D95: 10
A96: 4 | B96: Polietilēna izolācija Thermaflex 9 mm, 20x3,4 | C96: m | D96: 25
A97: 5 | B97: Polietilēna izolācija Thermaflex 9 mm, 25x4,2 | C97: m | D97: 10
A98: 6 | B98: Polietilēna izolācija Thermaflex 9 mm, 32x5,4 | C98: m | D98: 10
A99: 7 | B99: Noslēgvārsts pirms izlietnes, hromēts, DN 10 | C99: gb | D99: 5
A100: 8 | B100: Lodveida krāns, DN 25 | C100: gb | D100: 2
A101: 9 | B101: Lodveida krāns, DN 15 | C101: gb | D101: 3
A102: 10 | B102: Roku mazgātnes maisītāja pieslēgšana | C102: kpl | D102: 3
A103: 11 | B103: Pie grīdas stiprināms ūdens ņemšanas krāns (hromēts) | C103: kpl | D103: 2
A104: 12 | B104: Pie sienas stiprināms ūdens ņemšanas krāns (hromēts) | C104: kpl | D104: 2
... A109: 17 | B109: Esošo cauruļvadu demontāža un izvešana | C109: kpl | D109: 1
B110: 0
...

Sheet KOPT
A2: APSTIPRINU
A3: ______________________________________
A4: (pasūtītāja paraksts un ta atšifrējums)
C5: Z.v.
A8: Būvniecības koptāme
A10: Būves nosaukums: P.Valdena ielas 3 telpu pārplānošana ķīmijas tehnoloģijas pamatprocesu un aparātu laboratorijas vajadzībām
A11: Objekta nosaukums: P.Valdena ielas 3 telpu pārplānošana ķīmijas tehnoloģijas pamatprocesu un aparātu laboratorijas vajadzībām
A12: Objekta adrese: Paula Valdena iela 3, Rīga, LV-1048
A13: Pasūtījuma Nr.BD398-2026
A15: Tāme sastādīta: 2026. gada 28, maijā
A17: Nr.p.k. | B17: Darba veids | C17: Objekta izmaksas (euro)
A19: 1 | B19: ='KS '!A2 -> P.Valdena ielas 3 telpu pārplānošana ķīmijas tehnoloģijas pamatprocesu un aparātu laboratorijas vajadzībām | C19: ='KS '!E26 -> 0
B21: Kopā: | C21: =SUM(C19:C20) -> 0
A22: PVN 21%: | C22: =ROUND(C21*0.21,2) -> 0
A23: Pavisam būvniecīcas izmaksas : | C23: =SUM(C21:C22) -> 0
A26: Sastādīja: | C26: /Andrejs Stokmanis /, 28.05.2026.
C27: (paraksts, tā atšifrējums un datums)
A28: Sertifikāta Nr.20-5430
A31: Pārbaudīja: | C31: /Andis Kalniņš/, 28.05.2026.
C32: (paraksts, tā atšifrējums un datums)
B35: (paraksts un tā atšifrējums, datums)

Sheet KS 
A1: Kopsavilkuma aprēķini pa darbu un konstruktīvo elementu veidiem, Nr. 1
A2: P.Valdena ielas 3 telpu pārplānošana ķīmijas tehnoloģijas pamatprocesu un aparātu laboratorijas vajadzībām
A4: Būves nosaukums: P.Valdena ielas 3 telpu pārplānošana ķīmijas tehnoloģijas pamatprocesu un aparātu laboratorijas vajadzībām
A5: Objekta nosaukums: P.Valdena ielas 3 telpu pārplānošana ķīmijas tehnoloģijas pamatprocesu un aparātu laboratorijas vajadzībām
A6: Objekta adrese: Paula Valdena iela 3, Rīga, LV-1048
A7: Pasūtījuma Nr.BD398-2026
A9: Tāme sastādīta 2026. gada tirgus cenās pamatojoties uz SIA "Būvdizains" projekta Nr. BD398-2026 rasējumiem
H10: Kopējā darbietilpība, c/h | I10: =I23 -> 0
A11: =KOPT!A15 -> Tāme sastādīta: 2026. gada 28, maijā
A12: Nr. p. k. | B12: Tāmes Nr. | C12: Darba veids | D12: % | E12: Tāmes izmaksas (EUR) | F12: Tai skaitā | I12: Darba ietilpība (c/h)
F13: Darba alga (EUR) | G13: būvizstrādājumi (EUR) | H13: Mehānismi (EUR)
A15: 1 | B15: 1 | C15: ='1 CMD'!A2 -> Vispārceltnieciskie darbl | E15: =F15+G15+H15 -> 0 | F15: ='1 CMD'!M93 -> 0 | G15: ='1 CMD'!N93 -> 0 | H15: ='1 CMD'!O93 -> 0 | I15: ='1 CMD'!L93 -> 0
A16: 2 | B16: 2 | C16: ='2 Ū1'!A2 -> Ūdensapgāde Ū1 | E16: =F16+G16+H16 -> 0 | F16: ='2 Ū1'!M36 -> 0 | G16: ='2 Ū1'!N36 -> 0 | H16: ='2 Ū1'!O36 -> 0 | I16: ='2 Ū1'!L36 -> 0
A17: 3 | B17: 3 | C17: ='3 K1'!A2 -> Kanalizācija K1 | E17: =F17+G17+H17 -> 0 | F17: ='3 K1'!M27 -> 0 | G17: ='3 K1'!N27 -> 0 | H17: ='3 K1'!O27 -> 0 | I17: ='3 K1'!L27 -> 0
A18: 4 | B18: 4 | C18: ='4 EL'!A2 -> Elektromontāžas darbi | E18: =F18+G18+H18 -> 0 | F18: ='4 EL'!M59 -> 0 | G18: ='4 EL'!N59 -> 0 | H18: ='4 EL'!O59 -> 0 | I18: ='4 EL'!L59 -> 0
A19: 5 | B19: 5 | C19: ='5 V'!A2 -> Ventilācija | E19: =F19+G19+H19 -> 0 | F19: ='5 V'!M32 -> 0 | G19: ='5 V'!N32 -> 0 | H19: ='5 V'!O32 -> 0 | I19: ='5 V'!L32 -> 0
A20: 6 | B20: 6 | C20: ='6 A'!A2 -> Apkure | E20: =F20+G20+H20 -> 0 | F20: ='6 A'!M24 -> 0 | G20: ='6 A'!N24 -> 0 | H20: ='6 A'!O24 -> 0 | I20: ='6 A'!L24 -> 0
A21: 7 | B21: 7 | C21: ='7 TN gaze'!A2 -> TN materiālu specifikācija (gāzu apgāde) | E21: =F21+G21+H21 -> 0 | F21: ='7 TN gaze'!M35 -> 0 | G21: ='7 TN gaze'!N35 -> 0 | H21: ='7 TN gaze'!O35 -> 0 | I21: ='7 TN gaze'!L35 -> 0
E22: =F22+G22+H22 -> 0
C23: Kopā: | E23: =SUM(E15:E22) -> 0 | F23: =SUM(F15:F22) -> 0 | G23: =SUM(G15:G22) -> 0 | H23: =SUM(H15:H22) -> 0 | I23: =SUM(I15:I22) -> 0
C24: Virsizdevumi (%) | D24: 0.08 | E24: =ROUND(E23*D24,2) -> 0
C25: Peļņa (%) | D25: 0.05 | E25: =ROUND(E23*D25,2) -> 0
C26: Kopā, Euro, neskaitot PVN: | E26: =E25+E24+E23 -> 0
A29: Sastādīja: | I29: =[1]KT!C27 -> /Andrejs Stokmanis/,28.04.2026
G30: (paraksts, tā atšifrējums un datums)
A31: Sertifikāta Nr. 20-5430
A34: Pārbaudīja: | I34: =[1]KT!C32 -> /Andis Kalniņš/ 28.04.2026
G35: (paraksts, tā atšifrējums un datums)

Sheet 1 CMD
A1: Lokālā tāme Nr.1.
A2: Vispārceltnieciskie darbl
A5: Būves nosaukums: P.Valdena ielas 3 telpu pārplānošana ķīmijas tehnoloģijas pamatprocesu un aparātu laboratorijas vajadzībām
A6: Objekta nosaukums: P.Valdena ielas 3 telpu pārplānošana ķīmijas tehnoloģijas pamatprocesu un aparātu laboratorijas vajadzībām
A7: Objekta adrese: Paula Valdena iela 3, Rīga, LV-1048
A8: Pasūtījuma Nr.BD398-2026
A10: Tāme sastādīta 2026. gada tirgus cenās pamatojoties uz SIA "Būvdizains" projekta Nr. BD398-2026 rasējumiem
L11: Tāmes izmaksas | N11: =P93 -> 0 | P11: euro
A12: Tāme sastādīta: 2026. gada 28, maijā
A13: Nr. p.k. | B13: Kods | C13: Darba nosaukums | D13: Mērvienība | E13: Daudzums | F13: Vienības izmaksas | L13: Kopā uz visu apjomu
F14: laika norma (c/h). | G14: darba samaksas likme (euro/h) | H14: darba alga (euro) | I14: būvizstrādājumi (euro) | J14: mehānismi (euro) | K14: Kopā (euro) | L14: darbietilpība (c/h) | M14: darba alga (euro) | N14: būvizstrādājumi (euro) | O14: mehānismi (euro) | P14: Summa (euro)
A15: 1 | B15: 2 | C15: 3 | D15: 4 | E15: 5 | F15: 6 | G15: 7 | H15: 8 | I15: 9 | J15: 10 | K15: 11 | L15: 12 | M15: 13 | N15: 14 | O15: 15 | P15: 16
C16: 0
A17: I | B17: 0 | C17: Vispārceltnieciskie darbl | F17: 0 | G17: 0 | H17: =ROUND(F17*G17,2) -> 0 | I17: 0 | J17: 0 | K17: =J17+I17+H17 -> 0 | L17: =ROUND(E17*F17,2) -> 0 | M17: =ROUND(E17*H17,2) -> 0 | N17: =ROUND(E17*I17,2) -> 0 | O17: =ROUND(E17*J17,2) -> 0 | P17: =ROUND(M17+N17+O17,2) -> 0
A18: 1.1 | B18: 0 | C18: Pārsedzes uzstādīšana (būvkostrukcijas) | F18: 0 | G18: 0 | H18: =ROUND(F18*G18,2) -> 0 | I18: 0 | J18: 0 | K18: =J18+I18+H18 -> 0 | L18: =ROUND(E18*F18,2) -> 0 | M18: =ROUND(E18*H18,2) -> 0 | N18: =ROUND(E18*I18,2) -> 0 | O18: =ROUND(E18*J18,2) -> 0 | P18: =ROUND(M18+N18+O18,2) -> 0
A19: 1 | B19: 0 | C19: Būvlaukuma sagatavošana | D19: 0 | E19: 0 | F19: 0 | G19: 0 | H19: =ROUND(F19*G19,2) -> 0 | I19: 0 | J19: 0 | L19: =ROUND(E19*F19,2) -> 0 | M19: =ROUND(E19*H19,2) -> 0 | N19: =ROUND(E19*I19,2) -> 0 | O19: =ROUND(E19*J19,2) -> 0 | P19: =ROUND(M19+N19+O19,2) -> 0
A20: 1.1 | B20: līgumc. | C20: Pārvietojamās tualetes uzstādīšana un noma | D20: gb | E20: 1
A21: 1.2 | B21: līgumc. | C21: Strādnieku sadzīves vagons, noma | D21: gb | E21: 1
A22: 1.3 | B22: līgumc. | C22: Būvgružu konteineris, uzstādīšana, noma | D22: gb | E22: 1
B23: 0 | C23: 0
A24: 2 | B24: 0 | C24: Demontāžas darbi
A25: 2.1 | B25: līgumc. | C25: Pagraba pārsegumu dobās dzelszbetona plātnes dobuma aizbetonēšanu ( ar betonu C30/37 XC1). 30 cm uz katru pusi no stūtes centra | D25: m2 | E25: 1.8
A26: 2.2 | B26: līgumc. | C26: Ailas pārsedzes nobalstīšana uz turām pagrabā | D26: kpl | E26: 1
A27: 2.3 | B27: līgumc. | C27: Metāla konstrukciju antikorozijas apstrāde | D27: kpl | E27: 1
A28: 2.4 | B28: līgumc. | C28: Esošās sienas demontāža | D28: m2 | E28: 8.6
A29: 2.5 | B29: līgumc. | C29: Nobalstīt katru montažas IPE 220 ar montažas stutem laboratorijā | D29: gb | E29: 5
A30: 2.6 | B30: līgumc. | C30: Veikt sienas monitoringu Plaisu paradīšanas gadījumā veikt pastiprināšanu | D30: kpl | E30: 1
A31: 2.7 | B31: līgumc. | C31: Velkmes skapja venilācijas vadības skapja atslēgšana | D31: kpl | E31: 1
B32: 0 | C32: 0
A33: 3 | B33: 0 | C33: Pārsedzes uzstādīšana
A34: 3.1 | B34: līgumc. | C34: Ar M16; 8.8; urb.18 mm ieurbt un ielīmēt ar HILTI HY-200-A, max solis 500mm | D34: kpl | E34: 10
A35: 3.2 | B35: līgumc. | C35: Stiprināt pārsedzes ailu ar □150x150x5, S355 uz skrūvēm, h=2110mm | D35: gb | E35: 4
A36: 3.3 | B36: līgumc. | C36: Montēt pārsedzi 2xUPE270; S355, savienojuma skrūves,montāžas metinājumi, l=3110mm | D36: kpl | E36: 1
A37: 3.4 | B37: līgumc. | C37: Aizpildīt ar briestošo betonu C30/37, XC1 | D37: kpl | E37: 1
A38: 3.5 | B38: līgumc. | C38: IPE220, S355 max solis 750mm pēc UPE270 montāžas nogriezt, noņemt stutes | D38: gb | E38: 5
B39: 0 | C39: 0
A40: 4 | B40: 0 | C40: Dažādi
A41: 4.1 | B41: līgumc. | C41: Ailas pārsedzes nobalstīšana uz turām pagrabā, demontāža | D41: kpl | E41: 1
A42: 4.2 | B42: līgumc. | C42: Velkmes skapja ventilācijas vadības skapja pieslēgšana laboratorijā | D42: kpl | E42: 1
A43: 4.3 | B43: līgumc. | C43: Pārsedzes un ailas apmetums | D43: gb | E43: 1
B44: 0 | C44: cementa java M 200 | D44: m3 | E44: 0.15
B45: 0 | C45: cinkots siets | D45: m2 | E45: 3
B46: 0 | C46: 0
A47: 1.2 | B47: 0 | C47: Vispārceltnieciskie darbl
A48: 1,2,1 | B48: 0 | C48: Demontāžas darbi
B49: 0 | C49: Demontējamo sienu apjoms (skat. AR-2-01)
A50: 1 | B50: līgumc. | C50: S-1, Ķieģeļu mūra siena, 120 mm | D50: m3 | E50: 2.99
A51: 2 | B51: līgumc. | C51: S-2, Ķieģeļu mūra siena, 250 m | D51: m3 | E51: 1.64
A52: 3 | B52: līgumc. | C52: S-3, Metāla karkasa starpsiena, 150mm | D52: m3 | E52: 3.71
B53: 0 | C53: 0
B54: 0 | C54: Demontējamo grīdas segumu apjoms (skat. AR-2-01)
A55: 1 | B55: līgumc. | C55: G-E1, Grīdas apdare - vinils 2mm | D55: m2 | E55: 62.1
A56: 2 | B56: līgumc. | C56: G-E2, Saplākšņa loksnes, 16 mm | D56: m2 | E56: 16.2
B57: 0 | C57: 0
B58: 0 | C58: Demontējamās durvis
A59: 1 | B59: līgumc. | C59: 884x2100mm | D59: gb | E59: 5
A60: 2 | B60: līgumc. | C60: 1390x2090mm | D60: gb | E60: 1
A61: 3 | B61: līgumc. | C61: 1294x3090mm | D61: gb | E61: 1
B62: 0 | C62: 0
B63: 0 | C63: Demontējami griesti
A64: 1 | B64: līgumc. | C64: GR-E1, Piekaramie griesti | D64: m2 | E64: 63
B65: 0 | C65: Dažādi
A66: 1 | B66: līgumc. | C66: Demontēt visu esošo santehniku | D66: kpl | E66: 1
B67: 0 | C67: 0
A68: 1,2,2 | B68: 0 | C68: Apdares darbi (skat. AR-2-03)
B69: 0 | C69: Grīdas
A70: 1 | B70: līgumc. | C70: G-1. Heterogēns vinila grīdas segums Forbo Eternal original vai analogs | D70: m2 | E70: 1486.02
A71: 2 | B71: līgumc. | C71: Grīdlīstes - grīdas seguma uzloces, | D71: m2 | E71: 9
B72: 0 | C72: 0
B73: 0 | C73: Sienas
A74: 1 | B74: līgumc. | C74: Sienu krāspšana, NCS S 1000-G70Y, sienu virsmas sagatavošana | D74: m2 | E74: 300.6
B75: 0 | C75: 0
B76: 0 | C76: Griesti
A77: 1 | B77: līgumc. | C77: GR-1, Izlīdzināti un krāsoti esošie betona paneļu griesti, h=3.8m | D77: m2 | E77: 120.26
A78: 2 | B78: līgumc. | C78: GR-2, Krāsoti esošie griesti, h=2,3m | D78: m2 | E78: 3.35
B79: 0 | C79: 0
A80: 1,2,3 | B80: 0 | C80: Ruļļveida žalūzujas - loga iekšpusē (skat, AR-2-02)
A81: 1 | B81: līgumc. | C81: D-1, koka konstrukcijas durvis, Komplektācija kopā ar rokturiem, slēdzenēm un citu furnitūru, kas paredzēta sabiedriskām ēkām intensīvai lietošanai 900x2000mm | D81: gb | E81: 1
A82: 2 | B82: līgumc. | C82: D-2, koka konstrukcijas durvis, Komplektācija kopā ar rokturiem, slēdzenēm un citu furnitūru, kas paredzēta sabiedriskām ēkām intensīvai lietošanai 750x2000mm | D82: gb | E82: 1
A83: 3 | B83: līgumc. | C83: D-3, koka konstrukcijas divviru durvis, Komplektācija kopā ar rokturiem, slēdzenēm un citu furnitūru, kas paredzēta sabiedriskām ēkām intensīvai lietošanai 1250x2100mm | D83: gb | E83: 2
A84: 4 | B84: līgumc. | C84: D-4, lekšdurvis, lamināta skaidu plāksne 18mm, komplektācija kopā virām un slēdzeni, bez roktura, mitrumizturīgas, 975x2090mm | D84: gb | E84: 1
B85: 0 | C85: 0
A86: 1,2,4 | B86: 0 | C86: Ruļļveida žalūzujas - loga iekšpusē (skat, AR-2-02)
A87: 1 | B87: līgumc. | C87: Ž-1, 1855x2000mm | D87: gb | E87: 2
A88: 2 | B88: līgumc. | C88: Ž-2, 2770x2000mm | D88: gb | E88: 3
A89: 3 | B89: līgumc. | C89: Ž-3, 2750x2000mm | D89: gb | E89: 1
A90: 4 | B90: līgumc. | C90: Ž-4, 2830x2000mm | D90: gb | E90: 1
A91: 5 | B91: līgumc. | C91: Ž-5, 2250x2000mm | D91: gb | E91: 1
B92: 0 | C92: 0 | F92: 0 | G92: 0 | H92: =ROUND(F92*G92,2) -> 0 | I92: 0 | J92: 0 | K92: =J92+I92+H92 -> 0 | L92: =ROUND(E92*F92,2) -> 0 | M92: =ROUND(E92*H92,2) -> 0 | N92: =ROUND(E92*I92,2) -> 0 | O92: =ROUND(E92*J92,2) -> 0 | P92: =ROUND(M92+N92+O92,2) -> 0
B93: 0 | C93: Tiešās izmaksas kopā, t.sk. darba devēja sociālais nodoklis (23,59%) | L93: =SUM(L16:L92) -> 0 | M93: =SUM(M16:M92) -> 0 | N93: =SUM(N16:N92) -> 0 | O93: =SUM(O16:O92) -> 0 | P93: =SUM(P16:P92) -> 0
A96: Sastādija: | F96: /Andrejs Stokmanis /, 28.05.2026. | I96: Pārbaudija: | P96: =KOPT!$C$31 -> /Andis Kalniņš/, 28.05.2026.
F97: (paraksts un tā atšifrējums, datums) | P97: (paraksts un tā atšifrējums, datums)
A98: Sertifikāta Nr.20-5430

Sheet 2 Ū1
A1: Lokālā tāme Nr.2
A2: Ūdensapgāde Ū1
I4: 0
A5: Būves nosaukums: P.Valdena ielas 3 telpu pārplānošana ķīmijas tehnoloģijas pamatprocesu un aparātu laboratorijas vajadzībām
A6: Objekta nosaukums: P.Valdena ielas 3 telpu pārplānošana ķīmijas tehnoloģijas pamatprocesu un aparātu laboratorijas vajadzībām
A7: Objekta adrese: Paula Valdena iela 3, Rīga, LV-1048
A8: Pasūtījuma Nr.BD398-2026
A10: Tāme sastādīta 2026. gada tirgus cenās pamatojoties uz SIA "Būvdizains" projekta Nr. BD398-2026 rasējumiem
L11: Tāmes izmaksas | N11: =P36 -> 0 | P11: euro
A12: Tāme sastādīta: 2026. gada 28, maijā
A13: Nr. p.k. | B13: Kods | C13: Darba nosaukums | D13: Mērvienība | E13: Daudzums | F13: Vienības izmaksas | L13: Kopā uz visu apjomu
F14: laika norma (c/h). | G14: darba samaksas likme (euro/h) | H14: darba alga (euro) | I14: būvizstrādājumi (euro) | J14: mehānismi (euro) | K14: Kopā (euro) | L14: darbietilpība (c/h) | M14: darba alga (euro) | N14: būvizstrādājumi (euro) | O14: mehānismi (euro) | P14: Summa (euro)
A15: 1 | B15: 2 | C15: 3 | D15: 4 | E15: 5 | F15: 6 | G15: 7 | H15: 8 | I15: 9 | J15: 10 | K15: 11 | L15: 12 | M15: 13 | N15: 14 | O15: 15 | P15: 16
C16: 0
A17: II | B17: 0 | C17: Ūdensapgāde Ū1 | D17: 0 | E17: 0 | F17: 0 | G17: 0 | H17: =ROUND(F17*G17,2) -> 0 | I17: 0 | J17: 0 | L17: =ROUND(E17*F17,2) -> 0 | M17: =ROUND(E17*H17,2) -> 0 | N17: =ROUND(E17*I17,2) -> 0 | O17: =ROUND(E17*J17,2) -> 0 | P17: =ROUND(M17+N17+O17,2) -> 0
A18: 1 | B18: līgumc. | C18: PP cauruļvads ar stikla šķiedru armēta, komplektā ar veidgabaliem un stiprinājumiem , RPFG PN25. 20x3,4 | D18: m | E18: 25
A19: 2 | B19: līgumc. | C19: PP cauruļvads ar stikla šķiedru armēta, komplektā ar veidgabaliem un stiprinājumiem ,RPFG PN25, 25x4,2 | D19: m | E19: 10
A20: 3 | B20: līgumc. | C20: PP cauruļvads ar stikla šķiedru armēta, komplektā ar veidgabaliem un stiprinājumiem , RPFG PN25, 32x5,4 | D20: m | E20: 10
A21: 4 | B21: līgumc. | C21: Polietilēna izolācija Thermaflex 9 mm, 20x3,4 | D21: m | E21: 25
A22: 5 | B22: līgumc. | C22: Polietilēna izolācija Thermaflex 9 mm, 25x4,2 | D22: m | E22: 10
A23: 6 | B23: līgumc. | C23: Polietilēna izolācija Thermaflex 9 mm, 32x5,4 | D23: m | E23: 10
A24: 7 | B24: līgumc. | C24: Noslēgvārsts pirms izlietnes, hromēts, DN 10 | D24: gb | E24: 5
A25: 8 | B25: līgumc. | C25: Lodveida krāns, DN 25 | D25: gb | E25: 2
A26: 9 | B26: līgumc. | C26: Lodveida krāns, DN 15 | D26: gb | E26: 3
A27: 10 | B27: līgumc. | C27: Roku mazgātnes maisītāja pieslēgšana | D27: kpl | E27: 3
A28: 11 | B28: līgumc. | C28: Pie grīdas stiprināms ūdens ņemšanas krāns (hromēts) | D28: kpl | E28: 2
A29: 12 | B29: līgumc. | C29: Pie sienas stiprināms ūdens ņemšanas krāns (hromēts) | D29: kpl | E29: 2
... A34: 17 | B34: līgumc. | C34: Esošo cauruļvadu demontāža un izvešana | D34: kpl | E34: 1
B35: 0 | C35: 0
B36: 0 | C36: Tiešās izmaksas kopā, t.sk. darba devēja sociālais nodoklis (23,59%) | L36: =SUM(L16:L35) -> 0 | M36: =SUM(M16:M35) -> 0 | N36: =SUM(N16:N35) -> 0 | O36: =SUM(O16:O35) -> 0 | P36: =SUM(P16:P35) -> 0
A39: Sastādija: | F39: /Andrejs Stokmanis /, 28.05.2026. | I39: Pārbaudija: | P39: =KOPT!$C$31 -> /Andis Kalniņš/, 28.05.2026.
F40: (paraksts un tā atšifrējums, datums) | P40: (paraksts un tā atšifrējums, datums)
A41: Sertifikāta Nr.20-5430

Sheet 3 K1
A1: Lokālā tāme Nr.3
A2: Kanalizācija K1
A5: Būves nosaukums: P.Valdena ielas 3 telpu pārplānošana ķīmijas tehnoloģijas pamatprocesu un aparātu laboratorijas vajadzībām
A6: Objekta nosaukums: P.Valdena ielas 3 telpu pārplānošana ķīmijas tehnoloģijas pamatprocesu un aparātu laboratorijas vajadzībām
A7: Objekta adrese: Paula Valdena iela 3, Rīga, LV-1048
A8: Pasūtījuma Nr.BD398-2026
A10: Tāme sastādīta 2026. gada tirgus cenās pamatojoties uz SIA "Būvdizains" projekta Nr. BD398-2026 rasējumiem
L11: Tāmes izmaksas | N11: =P27 -> 0 | P11: euro
A12: Tāme sastādīta: 2026. gada 28, maijā
A13: Nr. p.k. | B13: Kods | C13: Darba nosaukums | D13: Mērvienība | E13: Daudzums | F13: Vienības izmaksas | L13: Kopā uz visu apjomu
F14: laika norma (c/h). | G14: darba samaksas likme (euro/h) | H14: darba alga (euro) | I14: būvizstrādājumi (euro) | J14: mehānismi (euro) | K14: Kopā (euro) | L14: darbietilpība (c/h) | M14: darba alga (euro) | N14: būvizstrādājumi (euro) | O14: mehānismi (euro) | P14: Summa (euro)
A15: 1 | B15: 2 | C15: 3 | D15: 4 | E15: 5 | F15: 6 | G15: 7 | H15: 8 | I15: 9 | J15: 10 | K15: 11 | L15: 12 | M15: 13 | N15: 14 | O15: 15 | P15: 16
C16: 0
A17: III | B17: 0 | C17: Kanalizācija K1 | D17: 0 | E17: 0 | F17: 0 | G17: 0 | H17: =ROUND(F17*G17,2) -> 0 | I17: 0 | J17: 0 | L17: =ROUND(E17*F17,2) -> 0 | M17: =ROUND(E17*H17,2) -> 0 | N17: =ROUND(E17*I17,2) -> 0 | O17: =ROUND(E17*J17,2) -> 0 | P17: =ROUND(M17+N17+O17,2) -> 0
A18: 1 | B18: līgumc. | C18: Kanalizācijas caurule, maģistrāles ar veidgabaliem un stiprinājumiem zem pagraba griestiem, Uponor, PPHT, 50 | D18: m | E18: 30
A19: 2 | B19: līgumc. | C19: Kanalizācijas caurule, pievadi, ar veidgabaliem un stiprinājumiem, Uponor, PPHT, 50 | D19: m | E19: 3
A20: 3 | B20: līgumc. | C20: Roku mazgātnes pieslēgšana ar sifonu un izteku | D20: kpl | E20: 3
A21: 4 | B21: līgumc. | C21: Traps grīdā ar NT resti, sausā tipa sifonu, vertikālais izvads Dn50/75/110, HL | D21: kpl | E21: 4
A22: 5 | B22: līgumc. | C22: Pievienojums pie esoša tīkla, 50 | D22: kpl | E22: 2
A23: 6 | B23: līgumc. | C23: Sistēmas marķēšanas materiāli | D23: kpl | E23: 1
A24: 7 | B24: līgumc. | C24: Caurumu un kanālu veidošana un aizdare ar ugunsizturīgiem materiāliem, 50-110 | D24: kpl | E24: 1
A25: 8 | B25: līgumc. | C25: Esošo cauruļvadu demontāža un izvešana | D25: kpl | E25: 1
B26: 0 | C26: 0
C27: Tiešās izmaksas kopā, t.sk. darba devēja sociālais nodoklis (23,59%) | L27: =SUM(L16:L26) -> 0 | M27: =SUM(M16:M26) -> 0 | N27: =SUM(N16:N26) -> 0 | O27: =SUM(O16:O26) -> 0 | P27: =SUM(P16:P26) -> 0
A30: Sastādija: | F30: /Andrejs Stokmanis /, 28.05.2026. | I30: Pārbaudija: | P30: =KOPT!$C$31 -> /Andis Kalniņš/, 28.05.2026.
F31: (paraksts un tā atšifrējums, datums) | P31: (paraksts un tā atšifrējums, datums)
A32: Sertifikāta Nr.20-5430

Sheet 4 EL
A1: Lokālā tāme Nr.4
A2: Elektromontāžas darbi
A5: Būves nosaukums: P.Valdena ielas 3 telpu pārplānošana ķīmijas tehnoloģijas pamatprocesu un aparātu laboratorijas vajadzībām
A6: Objekta nosaukums: P.Valdena ielas 3 telpu pārplānošana ķīmijas tehnoloģijas pamatprocesu un aparātu laboratorijas vajadzībām
A7: Objekta adrese: Paula Valdena iela 3, Rīga, LV-1048
A8: Pasūtījuma Nr.BD398-2026
A10: Tāme sastādīta 2026. gada tirgus cenās pamatojoties uz SIA "Būvdizains" projekta Nr. BD398-2026 rasējumiem
L11: Tāmes izmaksas | N11: =P59 -> 0 | P11: euro
A12: Tāme sastādīta: 2026. gada 28, maijā
A13: Nr. p.k. | B13: Kods | C13: Darba nosaukums | D13: Mērvienība | E13: Daudzums | F13: Vienības izmaksas | L13: Kopā uz visu apjomu
F14: laika norma (c/h). | G14: darba samaksas likme (euro/h) | H14: darba alga (euro) | I14: būvizstrādājumi (euro) | J14: mehānismi (euro) | K14: Kopā (euro) | L14: darbietilpība (c/h) | M14: darba alga (euro) | N14: būvizstrādājumi (euro) | O14: mehānismi (euro) | P14: Summa (euro)
A15: 1 | B15: 2 | C15: 3 | D15: 4 | E15: 5 | F15: 6 | G15: 7 | H15: 8 | I15: 9 | J15: 10 | K15: 11 | L15: 12 | M15: 13 | N15: 14 | O15: 15 | P15: 16
C16: 0
A17: IV | B17: 0 | C17: Elektromontāžas darbi | D17: 0 | E17: 0 | F17: 0 | G17: 0 | H17: =ROUND(F17*G17,2) -> 0 | I17: 0 | J17: 0 | L17: =ROUND(E17*F17,2) -> 0 | M17: =ROUND(E17*H17,2) -> 0 | N17: =ROUND(E17*I17,2) -> 0 | O17: =ROUND(E17*J17,2) -> 0 | P17: =ROUND(M17+N17+O17,2) -> 0
A18: 4.1 | B18: 0 | C18: Sadalnes un komponenti | F18: 0 | G18: 0 | H18: =ROUND(F18*G18,2) -> 0 | I18: 0 | J18: 0 | K18: =J18+I18+H18 -> 0 | L18: =ROUND(E18*F18,2) -> 0 | M18: =ROUND(E18*H18,2) -> 0 | N18: =ROUND(E18*I18,2) -> 0 | O18: =ROUND(E18*J18,2) -> 0 | P18: =ROUND(M18+N18+O18,2) -> 0
A19: 1 | B19: līgumc. | C19: LS (1. stāva Labaratorijas sadalne) Modulāra sadalne ar montāžas profiliem virs apmetuma izpildījumā ar automātslēdžiem, kopnēm un pārējiem elementi kompl. , Individuāla sk. shēmu lapā EL-5 | D19: kpl | E19: 1
A20: 2 | B20: līgumc. | C20: S6 (0. stāva esošā sadalne) Modulāra sadalne ar montāžas profiliem virs apmetuma izpildījumā veikt pārkomutāciju demontēt 11 grupas ievada slēdzi un papildināt 11 ievadā 100A Automātslēdzi izmantot rūpnieciskā izpildījuma automātslēdzi ar regulējamo elektromagnētisko atkābni un regulējamo termoatkābni. Individuāla sk. shēmu lapā EL-5 | D20: kpl | E20: 1
A21: 4.2 | B21: 0 | C21: Gaismekļi
A22: 3 | B22: līgumc. | C22: virsapmetuma LED gaismeklis 37W IP54 230V 5500m 4000K ar virsapmetuma montāžas rāmi, TRILUX FidescaSD G4 M84 DL 55-940 ETDD | D22: gb | E22: 24
A23: 4 | B23: līgumc. | C23: Pie griestiem stiprināms avārijas gaismeklis LED spuldzi 1x3W; IP65 ar iebūvētu akumulātoru 1h + stāvokļa releju. Glamox | D23: gb | E23: 4
A24: 5 | B24: līgumc. | C24: Pie sienas stiprināms gaismeklis "IZEJA" ar LED spuldzi ar batareju bloku 1h SCREEN BASIC LED 230V 1.2W 156x356mm uzlīme 5.1. Evakuācijas izeja Glamox | D24: gb | E24: 3
A25: 4.3 | B25: 0 | C25: Slēdži
A26: 6 | B26: līgumc. | C26: Vienpola zemapmetuma pārslēdzis 230V; 10A; IP44 | D26: gb | E26: 8
A27: 7 | B27: līgumc. | C27: Divpola zemapmetuma slēdzis 230V; 10A; IP44 | D27: gb | E27: 1
A28: 4.4 | B28: 0 | C28: Kontaktligzdas
A29: 8 | C29: sienas virsapmetuma kontaktligzda 400V, 63A, IP44 3P+N+PE | D29: gb | E29: 2
A30: 9 | C30: sienas virsapmetuma kontaktligzda 400V, 32A, IP44 3P+N+PE | D30: gb | E30: 24
A31: 10 | C31: 1-vietīga sienas virsapmetuma kontaktligzda 230V, 16A, IP44 1P+N+PE | D31: gb | E31: 2
A32: 11 | C32: 4-vietīga sienas virsapmetuma kontaktligzda 230V, 16A, IP44 1P+N+PE | D32: gb | E32: 20
A33: 12 | C33: grīdas kārba komplektā ar 4x230V, 16A un 2x400V, 32A IP55 aizvērtā veidā, IP 20 atvērtā veidā , OBO Bettermann 7410022, 7410134, 7400467, 7408980, 7428140, 7408727, 6120073, 7407667 | D33: kpl | E33: 2
A34: 13 | C34: Montāžas palīgmateriāli rozetēm | D34: kpl | E34: 1
A35: 4.5 | C35: Kabeļi
A36: 14 | C36: Kabelis šķ. 4x70mm2 AXPK | D36: m | E36: 45
A37: 15 | C37: Kabelis šķ. 5x16mm2 XPJ | D37: m | E37: 30
A38: 16 | C38: Kabelis šķ. 5x6mm2 XPJ | D38: m | E38: 450
A39: 17 | C39: Kabelis šķ. 3x2.5mm2 XPJ-HF | D39: m | E39: 860
A40: 18 | C40: Kabelis šķ. 5x1.5mm2 XPJ-HF | D40: m | E40: 25
A41: 19 | C41: Kabelis šķ. 5x1.5mm2 XPJ-HF | D41: m | E41: 30
A42: 20 | C42: Kabelis šķ. 4x1.5mm2 XPJ-HF | D42: m | E42: 100
A43: 21 | C43: Kabelis šķ. 3x1.5mm2 XPJ-HF | D43: m | E43: 45
A44: 22 | C44: Kabelis šķ. 1x6mm2M, Dzeltenzaļš | D44: m | E44: 50
A45: 23 | C45: Kabelis šķ. 1x50mm2, Dzeltenzaļš H07V-K | D45: m | E45: 45
A46: 24 | C46: Stiprinājumi, montāžas materiāli | D46: objekts | E46: 1
A47: 4.6 | C47: Plastmasas caurules
A48: 25 | C48: Plastmasas caurules halogēnbrīva Ø =16mm2 | D48: m | E48: 20
A49: 26 | C49: Plastmasas caurules halogēnbrīva Ø =20mm2 | D49: m | E49: 600
A50: 27 | C50: Plastmasas caurules halogēnbrīva Ø =32mm2 | D50: m | E50: 50
A51: 28 | C51: Plastmasas caurules halogēnbrīva Ø =63mm2 | D51: m | E51: 13
A52: 4.7 | C52: Kabeļu renes
A53: 29 | C53: Kabeļu rene 300x60mm komplektā ar stiprinājumiem un savienojummiem | D53: m | E53: 60
A54: 4.8 | C54: Demontāža
A55: 30 | C55: Demontēt esošo iekšējo elektroinstalāciju | D55: objekts | E55: 1
A56: 4.9 | C56: Uguns aizsardzības materiāli
A57: 31 | C57: Mastika - ugunsdrošā 310ml CFS-F FX -CE, HILTI | D57: gb | E57: 1
B58: 0 | C58: 0 | F58: 0 | G58: 0 | H58: =ROUND(F58*G58,2) -> 0 | I58: 0 | J58: 0 | K58: =J58+I58+H58 -> 0 | L58: =ROUND(E58*F58,2) -> 0 | M58: =ROUND(E58*H58,2) -> 0 | N58: =ROUND(E58*I58,2) -> 0 | O58: =ROUND(E58*J58,2) -> 0 | P58: =ROUND(M58+N58+O58,2) -> 0
C59: Tiešās izmaksas kopā, t.sk. darba devēja sociālais nodoklis (23,59%) | L59: =SUM(L16:L58) -> 0 | M59: =SUM(M16:M58) -> 0 | N59: =SUM(N16:N58) -> 0 | O59: =SUM(O16:O58) -> 0 | P59: =SUM(P16:P58) -> 0
A62: Sastādija: | F62: /Andrejs Stokmanis /, 28.05.2026. | I62: Pārbaudija: | P62: =KOPT!$C$31 -> /Andis Kalniņš/, 28.05.2026.
F63: (paraksts un tā atšifrējums, datums) | P63: (paraksts un tā atšifrējums, datums)
A64: Sertifikāta Nr.20-5430

Sheet 5 V
A1: Lokālā tāme Nr. 5
A2: Ventilācija
A5: Būves nosaukums: P.Valdena ielas 3 telpu pārplānošana ķīmijas tehnoloģijas pamatprocesu un aparātu laboratorijas vajadzībām
A6: Objekta nosaukums: P.Valdena ielas 3 telpu pārplānošana ķīmijas tehnoloģijas pamatprocesu un aparātu laboratorijas vajadzībām
A7: Objekta adrese: Paula Valdena iela 3, Rīga, LV-1048
A8: Pasūtījuma Nr.BD398-2026
A10: Tāme sastādīta 2026. gada tirgus cenās pamatojoties uz SIA "Būvdizains" projekta Nr. BD398-2026 rasējumiem
L11: Tāmes izmaksas | N11: =P32 -> 0 | P11: euro
A12: Tāme sastādīta: 2026. gada 28, maijā
A13: Nr. p.k. | B13: Kods | C13: Darba nosaukums | D13: Mērvienība | E13: Daudzums | F13: Vienības izmaksas | L13: Kopā uz visu apjomu
F14: laika norma (c/h). | G14: darba samaksas likme (euro/h) | H14: darba alga (euro) | I14: būvizstrādājumi (euro) | J14: mehānismi (euro) | K14: Kopā (euro) | L14: darbietilpība (c/h) | M14: darba alga (euro) | N14: būvizstrādājumi (euro) | O14: mehānismi (euro) | P14: Summa (euro)
A15: 1 | B15: 2 | C15: 3 | D15: 4 | E15: 5 | F15: 6 | G15: 7 | H15: 8 | I15: 9 | J15: 10 | K15: 11 | L15: 12 | M15: 13 | N15: 14 | O15: 15 | P15: 16
C16: 0
A17: V | B17: 0 | C17: Ventilācija | D17: 0 | E17: 0 | F17: 0 | G17: 0 | H17: =ROUND(F17*G17,2) -> 0 | I17: 0 | J17: 0 | L17: =ROUND(E17*F17,2) -> 0 | M17: =ROUND(E17*H17,2) -> 0 | N17: =ROUND(E17*I17,2) -> 0 | O17: =ROUND(E17*J17,2) -> 0 | P17: =ROUND(M17+N17+O17,2) -> 0
B18: 0 | C18: Sistēma PN4 | F18: 0 | G18: 0 | H18: =ROUND(F18*G18,2) -> 0 | I18: 0 | J18: 0 | K18: =J18+I18+H18 -> 0 | L18: =ROUND(E18*F18,2) -> 0 | M18: =ROUND(E18*H18,2) -> 0 | N18: =ROUND(E18*I18,2) -> 0 | O18: =ROUND(E18*J18,2) -> 0 | P18: =ROUND(M18+N18+O18,2) -> 0
B19: 0 | C19: demontāža un pārnešana | F19: 0 | G19: 0 | H19: =ROUND(F19*G19,2) -> 0 | I19: 0 | J19: 0 | K19: =J19+I19+H19 -> 0 | L19: =ROUND(E19*F19,2) -> 0 | M19: =ROUND(E19*H19,2) -> 0 | N19: =ROUND(E19*I19,2) -> 0 | O19: =ROUND(E19*J19,2) -> 0 | P19: =ROUND(M19+N19+O19,2) -> 0
A20: 1 | B20: līgumc. | C20: Demontējams gaisa vads Ø100 | D20: m
A21: 2 | B21: līgumc. | C21: Demontējams gaisa vads Ø125 | D21: m
A22: 3 | B22: līgumc. | C22: Pārnesamais difuzors PD1-100 | D22: gb
A23: 4 | B23: līgumc. | C23: Pārnesamais difuzors PD1-125 | D23: gb
A24: 5 | B24: līgumc. | C24: Pārnesamais difuzors ND1-125 | D24: gb
B25: 0
B26: 0 | C26: Sistēma NV107
A27: 1 | B27: līgumc. | C27: Cinkota skārda gaisa vads Ø200 | D27: m
A28: 2 | B28: līgumc. | C28: Gaisa vadu stiprinājumi | D28: kpl
A29: 3 | B29: līgumc. | C29: Gaisa vadu veidgabali | D29: kpl
A30: 4 | B30: līgumc. | C30: Montāžas komplekts | D30: kpl
B31: 0 | C31: 0 | F31: 0 | G31: 0 | H31: =ROUND(F31*G31,2) -> 0 | I31: 0 | J31: 0 | K31: =J31+I31+H31 -> 0 | L31: =ROUND(E31*F31,2) -> 0 | M31: =ROUND(E31*H31,2) -> 0 | N31: =ROUND(E31*I31,2) -> 0 | O31: =ROUND(E31*J31,2) -> 0 | P31: =ROUND(M31+N31+O31,2) -> 0
C32: Tiešās izmaksas kopā, t.sk. darba devēja sociālais nodoklis (23,59%) | L32: =SUM(L16:L31) -> 0 | M32: =SUM(M16:M31) -> 0 | N32: =SUM(N16:N31) -> 0 | O32: =SUM(O16:O31) -> 0 | P32: =SUM(P16:P31) -> 0
A35: Sastādija: | F35: /Andrejs Stokmanis /, 28.05.2026. | I35: Pārbaudija: | P35: =KOPT!$C$31 -> /Andis Kalniņš/, 28.05.2026.
F36: (paraksts un tā atšifrējums, datums) | P36: (paraksts un tā atšifrējums, datums)
A37: Sertifikāta Nr.20-5430

Sheet 6 A
A1: Lokālā tāme Nr. 6
A2: Apkure
A5: Būves nosaukums: P.Valdena ielas 3 telpu pārplānošana ķīmijas tehnoloģijas pamatprocesu un aparātu laboratorijas vajadzībām
A6: Objekta nosaukums: P.Valdena ielas 3 telpu pārplānošana ķīmijas tehnoloģijas pamatprocesu un aparātu laboratorijas vajadzībām
A7: Objekta adrese: Paula Valdena iela 3, Rīga, LV-1048
A8: Pasūtījuma Nr.BD398-2026
A10: Tāme sastādīta 2026. gada tirgus cenās pamatojoties uz SIA "Būvdizains" projekta Nr. BD398-2026 rasējumiem
L11: Tāmes izmaksas | N11: =P24 -> 0 | P11: euro
A12: Tāme sastādīta: 2026. gada 28, maijā
A13: Nr. p.k. | B13: Kods | C13: Darba nosaukums | D13: Mērvienība | E13: Daudzums | F13: Vienības izmaksas | L13: Kopā uz visu apjomu
F14: laika norma (c/h). | G14: darba samaksas likme (euro/h) | H14: darba alga (euro) | I14: būvizstrādājumi (euro) | J14: mehānismi (euro) | K14: Kopā (euro) | L14: darbietilpība (c/h) | M14: darba alga (euro) | N14: būvizstrādājumi (euro) | O14: mehānismi (euro) | P14: Summa (euro)
A15: 1 | B15: 2 | C15: 3 | D15: 4 | E15: 5 | F15: 6 | G15: 7 | H15: 8 | I15: 9 | J15: 10 | K15: 11 | L15: 12 | M15: 13 | N15: 14 | O15: 15 | P15: 16
C16: 0
A17: VI | B17: 0 | C17: Apkure
A18: 1 | B18: līgumc. | C18: Cauruļvada pārnešana no sienas uz griestiem DN15 | D18: m | E18: 10
A19: 2 | B19: līgumc. | C19: Cauruļvadu stiprinājumi | D19: kpl | E19: 1
A20: 3 | B20: līgumc. | C20: Veidgabali veidgabali | D20: kpl | E20: 1
A21: 4 | B21: līgumc. | C21: Montāžas komplekts | D21: kpl | E21: 1
A22: 5 | B22: līgumc. | C22: Sistēmas presēšana un marķēšana | D22: kpl | E22: 1
B23: 0 | C23: 0
C24: Tiešās izmaksas kopā, t.sk. darba devēja sociālais nodoklis (23,59%) | L24: =SUM(L16:L23) -> 0 | M24: =SUM(M16:M23) -> 0 | N24: =SUM(N16:N23) -> 0 | O24: =SUM(O16:O23) -> 0 | P24: =SUM(P16:P23) -> 0
A27: Sastādija: | F27: /Andrejs Stokmanis /, 28.05.2026. | I27: Pārbaudija: | P27: =KOPT!$C$31 -> /Andis Kalniņš/, 28.05.2026.
F28: (paraksts un tā atšifrējums, datums) | P28: (paraksts un tā atšifrējums, datums)
A29: Sertifikāta Nr.20-5430

Sheet 7 TN gaze
A1: Lokālā tāme Nr. 7
A2: TN materiālu specifikācija (gāzu apgāde)
I4: 0
A5: Būves nosaukums: P.Valdena ielas 3 telpu pārplānošana ķīmijas tehnoloģijas pamatprocesu un aparātu laboratorijas vajadzībām
A6: Objekta nosaukums: P.Valdena ielas 3 telpu pārplānošana ķīmijas tehnoloģijas pamatprocesu un aparātu laboratorijas vajadzībām
A7: Objekta adrese: Paula Valdena iela 3, Rīga, LV-1048
A8: Pasūtījuma Nr.BD398-2026
A10: Tāme sastādīta 2026. gada tirgus cenās pamatojoties uz SIA "Būvdizains" projekta Nr. BD398-2026 rasējumiem
L11: Tāmes izmaksas | N11: =P35 -> 0 | P11: euro
A12: Tāme sastādīta: 2026. gada 28, maijā
A13: Nr. p.k. | B13: Kods | C13: Darba nosaukums | D13: Mērvienība | E13: Daudzums | F13: Vienības izmaksas | L13: Kopā uz visu apjomu
F14: laika norma (c/h). | G14: darba samaksas likme (euro/h) | H14: darba alga (euro) | I14: būvizstrādājumi (euro) | J14: mehānismi (euro) | K14: Kopā (euro) | L14: darbietilpība (c/h) | M14: darba alga (euro) | N14: būvizstrādājumi (euro) | O14: mehānismi (euro) | P14: Summa (euro)
A15: 1 | B15: 2 | C15: 3 | D15: 4 | E15: 5 | F15: 6 | G15: 7 | H15: 8 | I15: 9 | J15: 10 | K15: 11 | L15: 12 | M15: 13 | N15: 14 | O15: 15 | P15: 16
C16: 0
A17: VII | B17: 0 | C17: TN materiālu specifikācija (gāzu apgāde) | D17: 0 | E17: 0 | F17: 0 | G17: 0 | H17: =ROUND(F17*G17,2) -> 0 | I17: 0 | J17: 0 | L17: =ROUND(E17*F17,2) -> 0 | M17: =ROUND(E17*H17,2) -> 0 | N17: =ROUND(E17*I17,2) -> 0 | O17: =ROUND(E17*J17,2) -> 0 | P17: =ROUND(M17+N17+O17,2) -> 0
A18: 1 | B18: līgumc. | C18: Vara caurule 12x1,0mm | D18: m | E18: 58
A19: 2 | B19: līgumc. | C19: Vara mufe 12mm | D19: gb | E19: 24
A20: 3 | B20: līgumc. | C20: Vara līkums 90 12mm | D20: gb | E20: 16
A21: 4 | B21: līgumc. | C21: Vara trejgabals 12x12x12mm | D21: gb | E21: 5
A22: 5 | B22: līgumc. | C22: Enkurskrūve HUS3-A6 6X35 Hilti vai ekvivslents | D22: gb | E22: 24
A23: 6 | B23: līgumc. | C23: Cauruļskava MP-L-1 10-14 M8/M10 Hilri vai ekvivslents | D23: gb | E23: 24
A24: 7 | B24: līgumc. | C24: Tehnoloģiskie urbumi | D24: gb | E24: 3
A25: 8 | B25: līgumc. | C25: Noslēgventilis 1/2" | D25: gb | E25: 5
A26: 9 | B26: līgumc. | C26: Lodējamais veidgabals lokanās armētās caurules pievienošanai (eglīte) | D26: gb | E26: 2
A27: 10 | B27: līgumc. | C27: Gāzu analizators | D27: gb | E27: 1
A28: 11 | B28: līgumc. | C28: Gāzu balona turētājs | D28: gb | E28: 1
A29: 12 | B29: līgumc. | C29: Gāzu sistēmas marķējumi | D29: kpl | E29: 1
... A33: 16 | B33: līgumc. | C33: Palīgmateriāli | D33: kpl | E33: 1
B34: 0 | C34: 0 | F34: 0 | G34: 0 | H34: =ROUND(F34*G34,2) -> 0 | I34: 0 | J34: 0 | K34: =J34+I34+H34 -> 0 | L34: =ROUND(E34*F34,2) -> 0 | M34: =ROUND(E34*H34,2) -> 0 | N34: =ROUND(E34*I34,2) -> 0 | O34: =ROUND(E34*J34,2) -> 0 | P34: =ROUND(M34+N34+O34,2) -> 0
C35: Tiešās izmaksas kopā, t.sk. darba devēja sociālais nodoklis (23,59%) | L35: =SUM(L16:L34) -> 0 | M35: =SUM(M16:M34) -> 0 | N35: =SUM(N16:N34) -> 0 | O35: =SUM(O16:O34) -> 0 | P35: =SUM(P16:P34) -> 0
A38: Sastādija: | F38: /Andrejs Stokmanis /, 28.05.2026. | I38: Pārbaudija: | P38: =KOPT!$C$31 -> /Andis Kalniņš/, 28.05.2026.
F39: (paraksts un tā atšifrējums, datums) | P39: (paraksts un tā atšifrējums, datums)
A40: Sertifikāta Nr.20-5430

Sheet Lapa2
