Workbook
Name A: '[1]2'!$A$1
Name P: #REF!
Name P: #REF!
Name P: #REF!
Name P: #REF!
Name P: #REF!
Name P: #REF!
Name P: #REF!
Name P: #REF!
Name P: #REF!
Name P: #REF!
Name P: #REF!
Name P: #REF!
Name P: #REF!
Name P: #REF!
Name P: #REF!
Name P: #REF!
Name P: #REF!
Name P: #REF!
Name P: #REF!
Name P: #REF!
Name P: #REF!
Name P: #REF!
Name P: #REF!
Name P: #REF!
Name P: #REF!
Name P: #REF!
Name P: #REF!
Name P: #REF!
Name P: #REF!
Name P: #REF!

Sheet Koptame_VNI
D2: APSTIPRINU
D3: ________________________________________
D4: (pasūtītāja paraksts un tā atšifrējums)
D6: Z.v.
D7: ______.gada ____.____________
B9: Būvniecības koptāme_VNI
B11: Būves nosaukums: | C11: Ēkas pārbūve un teritorijas labiekārtošana
B12: Objekta nosaukums: | C12: Ēkas pārbūve un teritorijas labiekārtošana( VNĪ līdzekļi)
B13: Objekta adrese: | C13: Citadeles iela 7, Rīga
B14: Pasūtījuma Nr. | C14: n
D16: Tāme sastādīta:
B17: Tāme sastādīta 2023.gada tirgus cenās, pamatojoties uz SIA „Baltex Group” būvprojekta rasējumiem un darbu apjomiem
B18: Kopsav.tāmes Nr | C18: Objekta nosaukums | D18: Objekta izmaksas (euro)
B21: 1 | C21: Vispārējie būvdarbi | D21: =kops1_VNI!E33 -> #VALUE!
B22: 2 | C22: Specializētie darbi-iekšējie tīkli, sistēmas | D22: =kops2_VNI!E38 -> #VALUE!
B23: 3 | C23: Specializētie darbi-ārējie tīkli, sistēmas | D23: =kops3_VNI!E30 -> #VALUE!
B24: 4 | C24: Teritorijas labiekārtošana | D24: =kops4_VNI!E27 -> #VALUE!
C25: Kopā( bez PVN) | D25: =SUM(D20:D24) -> #VALUE!
C26: Kopā | D26: =SUM(D25:D25) -> #VALUE!
C29: PVN 21 % | D29: =0.21*D26 -> #VALUE!
B34: Sastādīja:
B40: Pārbaudīja:

Sheet kops1_VNI
A2: Kopsavilkuma aprēķins Nr. 1_VNI
A6: =Koptame_VNI!C21 -> Vispārējie būvdarbi
A8: Būves nosaukums: | C8: =Koptame_VNI!C11 -> Ēkas pārbūve un teritorijas labiekārtošana
A9: Objekta nosaukums: | C9: =Koptame_VNI!C12 -> Ēkas pārbūve un teritorijas labiekārtošana( VNĪ līdzekļi)
A10: Objekta adrese: | C10: =Koptame_VNI!C13 -> Citadeles iela 7, Rīga
A11: =Koptame_VNI!B14 -> Pasūtījuma Nr. | C11: =Koptame_VNI!C14 -> n
F13: Par kopējo summu, euro | H13: =E33 -> #VALUE!
F14: Kopējā darbietilpība, c/h | H14: =I29 -> 0
H15: =H14+kops2_VNI!H14+kops3_VNI!H14+kops4_VNI!H14 -> 0
H16: =Koptame_VNI!D16 -> Tāme sastādīta:
A18: Nr.p.k. | B18: Kods, tāmes Nr. | C18: Būvdarbu veids vai konstruktīvā elementa nosaukums | E18: Tāmes izmaksas (euro) | F18: Tai skaitā | I18: Darbietilpība (c/h)
F19: darba alga (euro) | G19: būvizstrādājumi (euro) | H19: mehānismi (euro)
A21: 1 | B21: 1.2._VNI | C21: Zemes darbi | E21: ='1.2._VNI'!P21 -> 0 | F21: ='1.2._VNI'!M21 -> 0 | G21: ='1.2._VNI'!N21 -> 0 | H21: ='1.2._VNI'!O21 -> 0 | I21: ='1.2._VNI'!L21 -> 0
A22: 2 | B22: 1.3._VNI | C22: Pamati | E22: ='1.3._VNI'!P21 -> 0 | F22: ='1.3._VNI'!M21 -> 0 | G22: ='1.3._VNI'!N21 -> 0 | H22: ='1.3._VNI'!O21 -> 0 | I22: ='1.3._VNI'!L21 -> 0
A23: 3 | B23: 1.4._VNI | C23: Sienas | E23: ='1.4._VNI'!P21 -> 0 | F23: ='1.4._VNI'!M21 -> 0 | G23: ='1.4._VNI'!N21 -> 0 | H23: ='1.4._VNI'!O21 -> 0 | I23: ='1.4._VNI'!L21 -> 0
A24: 4 | B24: 1.5._VNI | C24: Pārsegumi | E24: ='1.5._VNI'!P20 -> 0 | F24: ='1.5._VNI'!M20 -> 0 | G24: ='1.5._VNI'!N20 -> 0 | H24: ='1.5._VNI'!O20 -> 0 | I24: ='1.5._VNI'!L20 -> 0
A25: 5 | B25: 1.6._VNI | C25: Jumts | E25: ='1.6._VNI'!P20 -> 0 | F25: ='1.6._VNI'!M20 -> 0 | G25: ='1.6._VNI'!N20 -> 0 | H25: ='1.6._VNI'!O20 -> 0 | I25: ='1.6._VNI'!L20 -> 0
A26: 6 | B26: 1.7._VNI | C26: Kāpnes | E26: ='1.7._VNI'!P17 -> 0 | F26: ='1.7._VNI'!M17 -> 0 | G26: ='1.7._VNI'!N17 -> 0 | H26: ='1.7._VNI'!O17 -> 0 | I26: ='1.7._VNI'!L17 -> 0
A27: 8 | B27: 1.11._VNI | C27: Fasāde | E27: ='1.11._VNI'!P19 -> 0 | F27: ='1.11._VNI'!M19 -> 0 | G27: ='1.11._VNI'!N19 -> 0 | H27: ='1.11._VNI'!O19 -> 0 | I27: ='1.11._VNI'!L19 -> 0
A28: 9 | B28: 1.12._VNI | C28: Dažādi darbi | E28: ='1.12._VNI'!P17 -> 0 | F28: ='1.12._VNI'!M17 -> 0 | G28: ='1.12._VNI'!N17 -> 0 | H28: ='1.12._VNI'!O17 -> 0 | I28: ='1.12._VNI'!L17 -> 0
C29: Kopā | E29: =SUM(E21:E28) -> 0 | F29: =SUM(F21:F28) -> 0 | G29: =SUM(G21:G28) -> 0 | H29: =SUM(H21:H28) -> 0 | I29: =SUM(I21:I28) -> 0
A30: Virsizdevumi | D30: %
C31: tai skaitā darba aizsardzība
A32: Peļņa | D32: % | E32: =ROUND(E29*D32,2) -> #VALUE!
C33: Kopā bez PVN | E33: =E32+E30+E29 -> #VALUE!
B36: Sastādīja:
C37: =Koptame_VNI!C35 -> 0
C38: =Koptame_VNI!C36 -> 0
B42: =Koptame_VNI!B40 -> Pārbaudīja:
C43: =Koptame_VNI!C41 -> 0
C44: =Koptame_VNI!C42 -> 0

Sheet 1.2._VNI
G1: Lokālā tāme Nr. | H1: =kops1_VNI!B21 -> 1.2._VNI
A2: =C13 -> Zemes darbi
C3: Būves nosaukums: | D3: =Koptame_VNI!C11 -> Ēkas pārbūve un teritorijas labiekārtošana
C4: Objekta nosaukums: | D4: =Koptame_VNI!C12 -> Ēkas pārbūve un teritorijas labiekārtošana( VNĪ līdzekļi)
C5: Objekta adrese: | D5: =Koptame_VNI!C13 -> Citadeles iela 7, Rīga
C6: =Koptame_VNI!B14 -> Pasūtījuma Nr. | D6: =Koptame_VNI!C14 -> n
A7: =Koptame_VNI!B17 -> Tāme sastādīta 2023.gada tirgus cenās, pamatojoties uz SIA „Baltex Group” būvprojekta rasējumiem un darbu apjomiem | O7: Tāmes izmaksas euro: | P7: =P21 -> 0
L9: =Koptame_VNI!D16 -> Tāme sastādīta:
A11: Nr.p.k. | B11: Kods | C11: Būvdarbu nosaukums | D11: Mērvienība | E11: Daudzums | F11: Vienības izmaksas | L11: Kopā uz visu apjomu
F12: Laika norma (c/h) | G12: Darba samaksas likme (euro/h) | H12: Darba alga (euro) | I12: Būvizstrādājumi (euro) | J12: Mehānismi (euro) | K12: Kopā (euro) | L12: Darbietilpība (c/h) | M12: Darba alga (euro) | N12: Būvizstrādājumi (euro) | O12: Mehānismi (euro) | P12: Summa (euro)
B13: 0 | C13: =kops1_VNI!C21 -> Zemes darbi | F13: 0 | G13: 0 | H13: 0 | I13: 0 | J13: 0 | K13: =SUM(H13:J13) -> 0 | L13: =ROUND(F13*E13,2) -> 0 | M13: =ROUND(H13*E13,2) -> 0 | N13: =ROUND(I13*E13,2) -> 0 | O13: =ROUND(J13*E13,2) -> 0 | P13: =SUM(M13:O13) -> 0
A14: 1 | C14: Gruntsūdens līmeņa pazemināšana (Nepieciešamību precizēt būvniecības laikā!) | D14: kpl | E14: 1 | K14: =SUM(H14:J14) -> 0 | L14: =ROUND(F14*E14,2) -> 0 | M14: =ROUND(H14*E14,2) -> 0 | N14: =ROUND(I14*E14,2) -> 0 | O14: =ROUND(J14*E14,2) -> 0 | P14: =SUM(M14:O14) -> 0
A15: 2 | C15: Grunts rakšana mehanizēti, iekraujot grunti automašīnā-pašizgāzējā | D15: m3 | E15: 30 | K15: =SUM(H15:J15) -> 0 | L15: =ROUND(F15*E15,2) -> 0 | M15: =ROUND(H15*E15,2) -> 0 | N15: =ROUND(I15*E15,2) -> 0 | O15: =ROUND(J15*E15,2) -> 0 | P15: =SUM(M15:O15) -> 0
A16: 3 | C16: Grunts rakšana ar rokām | D16: m3 | E16: 3 | K16: =SUM(H16:J16) -> 0 | L16: =ROUND(F16*E16,2) -> 0 | M16: =ROUND(H16*E16,2) -> 0 | N16: =ROUND(I16*E16,2) -> 0 | O16: =ROUND(J16*E16,2) -> 0 | P16: =SUM(M16:O16) -> 0
A17: 4 | C17: Būvbedres un tranšejas aizbēršana mehanizēti ar pievesto smilti ar blietēšanu | D17: m3 | E17: 19.5 | K17: =SUM(H17:J17) -> 0 | L17: =ROUND(F17*E17,2) -> 0 | M17: =ROUND(H17*E17,2) -> 0 | N17: =ROUND(I17*E17,2) -> 0 | O17: =ROUND(J17*E17,2) -> 0 | P17: =SUM(M17:O17) -> 0
A18: 5 | C18: Būvbedres un tranšejas aizbēršana ar rokām ar pievesto smilti ar blietēšanu t.sk. | D18: m3 | E18: 2.5 | K18: =SUM(H18:J18) -> 0 | L18: =ROUND(F18*E18,2) -> 0 | M18: =ROUND(H18*E18,2) -> 0 | N18: =ROUND(I18*E18,2) -> 0 | O18: =ROUND(J18*E18,2) -> 0 | P18: =SUM(M18:O18) -> 0
A19: 6 | C19: Liekās grunts aizvešana | D19: m3 | E19: 33 | K19: =SUM(H19:J19) -> 0 | L19: =ROUND(F19*E19,2) -> 0 | M19: =ROUND(H19*E19,2) -> 0 | N19: =ROUND(I19*E19,2) -> 0 | O19: =ROUND(J19*E19,2) -> 0 | P19: =SUM(M19:O19) -> 0
C21: Tiešās izmaksas kopā t.sk. darba devēja sociālais nodoklis(23,59%) | L21: =SUM(L13:L20) -> 0 | M21: =SUM(M13:M20) -> 0 | N21: =SUM(N13:N20) -> 0 | O21: =SUM(O13:O20) -> 0 | P21: =SUM(P13:P20) -> 0
B23: Piezīmes
A24: Visas atsauces uz materiālu un izstrādājumu izgatavotaj firmām, kuras norādītas būvprojektā, liecina tikai par šo materiālu un izstrādājumu tehniskajiem parametriem un kvalitātes līmeni, to nomaiņa ir iespējama ar citiem tehniski un kvalitatīvi ekvivalentiem būvizstrādājumiem, iepriekš saskaņojot tos ar projekta autoriem un uzrādot atbilstības sertifikātus.
B28: Sastādīja: | L28: =Koptame_VNI!B40 -> Pārbaudīja:
C29: =Koptame_VNI!C35 -> 0 | M29: =Koptame_VNI!C41 -> 0
C30: =Koptame_VNI!C36 -> 0 | M30: =Koptame_VNI!C42 -> 0

Sheet 1.3._VNI
G1: Lokālā tāme Nr. | H1: =kops1_VNI!$B$22 -> 1.3._VNI
A2: =C13 -> Pamati
C3: Būves nosaukums: | D3: =Koptame_VNI!C11 -> Ēkas pārbūve un teritorijas labiekārtošana
C4: Objekta nosaukums: | D4: =Koptame_VNI!C12 -> Ēkas pārbūve un teritorijas labiekārtošana( VNĪ līdzekļi)
C5: Objekta adrese: | D5: =Koptame_VNI!C13 -> Citadeles iela 7, Rīga
C6: =Koptame_VNI!B14 -> Pasūtījuma Nr. | D6: =Koptame_VNI!C14 -> n
A7: =Koptame_VNI!B17 -> Tāme sastādīta 2023.gada tirgus cenās, pamatojoties uz SIA „Baltex Group” būvprojekta rasējumiem un darbu apjomiem | O7: Tāmes izmaksas euro: | P7: =P21 -> 0
L9: =Koptame_VNI!D16 -> Tāme sastādīta:
A11: Nr.p.k. | B11: Kods | C11: Būvdarbu nosaukums | D11: Mērvienība | E11: Daudzums | F11: Vienības izmaksas | L11: Kopā uz visu apjomu
F12: Laika norma (c/h) | G12: Darba samaksas likme (euro/h) | H12: Darba alga (euro) | I12: Būvizstrādājumi (euro) | J12: Mehānismi (euro) | K12: Kopā (euro) | L12: Darbietilpība (c/h) | M12: Darba alga (euro) | N12: Būvizstrādājumi (euro) | O12: Mehānismi (euro) | P12: Summa (euro)
B13: 0 | C13: =kops1_VNI!C22 -> Pamati | F13: 0 | G13: 0 | H13: 0 | I13: 0 | J13: 0 | K13: =SUM(H13:J13) -> 0 | L13: =ROUND(F13*E13,2) -> 0 | M13: =ROUND(H13*E13,2) -> 0 | N13: =ROUND(I13*E13,2) -> 0 | O13: =ROUND(J13*E13,2) -> 0 | P13: =SUM(M13:O13) -> 0
A14: 0 | C14: BK Pamati pie kāpnēm un jaunais kāpņu posms BK-2001 | H14: =ROUND(F14*G14,2) -> 0 | K14: =SUM(H14:J14) -> 0 | L14: =ROUND(F14*E14,2) -> 0 | M14: =ROUND(H14*E14,2) -> 0 | N14: =ROUND(I14*E14,2) -> 0 | O14: =ROUND(J14*E14,2) -> 0 | P14: =SUM(M14:O14) -> 0
A15: 1 | C15: Inventāro veidņu uzstādīšana,eļļošana pamatiem un nojaukšana ,noma | D15: m2 | E15: 23 | K15: =SUM(H15:J15) -> 0 | L15: =ROUND(F15*E15,2) -> 0 | M15: =ROUND(H15*E15,2) -> 0 | N15: =ROUND(I15*E15,2) -> 0 | O15: =ROUND(J15*E15,2) -> 0 | P15: =SUM(M15:O15) -> 0
A16: 2 | C16: Šķembu pamatojuma ierīkošana fr.20-40 mm,blīvā veidā | D16: m3 | E16: 1.451 | K16: =SUM(H16:J16) -> 0 | L16: =ROUND(F16*E16,2) -> 0 | M16: =ROUND(H16*E16,2) -> 0 | N16: =ROUND(I16*E16,2) -> 0 | O16: =ROUND(J16*E16,2) -> 0 | P16: =SUM(M16:O16) -> 0
A17: 3 | C17: Betona iestrādāšana pamatu konstrukcijās-pamatu pēda C12/15+XC2 novibrējot, betonu padod ar sūkni | D17: m3 | E17: 0.364 | K17: =SUM(H17:J17) -> 0 | L17: =ROUND(F17*E17,2) -> 0 | M17: =ROUND(H17*E17,2) -> 0 | N17: =ROUND(I17*E17,2) -> 0 | O17: =ROUND(J17*E17,2) -> 0 | P17: =SUM(M17:O17) -> 0
A18: 4 | C18: Armatūras sietu izgatavošana, uzstādīšana, fiksatoru uzstādīšana. Armatūra B500B | D18: t | E18: 0.284 | K18: =SUM(H18:J18) -> 0 | L18: =ROUND(F18*E18,2) -> 0 | M18: =ROUND(H18*E18,2) -> 0 | N18: =ROUND(I18*E18,2) -> 0 | O18: =ROUND(J18*E18,2) -> 0 | P18: =SUM(M18:O18) -> 0
A19: 5 | C19: Betona iestrādāšana pamatu konstrukcijās-pamatu pēda C30/37+XC2 novibrējot,betonu padod ar sūkni | D19: m3 | E19: 2.78 | K19: =SUM(H19:J19) -> 0 | L19: =ROUND(F19*E19,2) -> 0 | M19: =ROUND(H19*E19,2) -> 0 | N19: =ROUND(I19*E19,2) -> 0 | O19: =ROUND(J19*E19,2) -> 0 | P19: =SUM(M19:O19) -> 0
C21: Tiešās izmaksas kopā t.sk. darba devēja sociālais nodoklis(23,59%) | L21: =SUM(L13:L20) -> 0 | M21: =SUM(M13:M20) -> 0 | N21: =SUM(N13:N20) -> 0 | O21: =SUM(O13:O20) -> 0 | P21: =SUM(P13:P20) -> 0
B23: Piezīmes:
A24: Visas atsauces uz materiālu un izstrādājumu izgatavotaj firmām, kuras norādītas būvprojektā, liecina tikai par šo materiālu un izstrādājumu tehniskajiem parametriem un kvalitātes līmeni, to nomaiņa ir iespējama ar citiem tehniski un kvalitatīvi ekvivalentiem būvizstrādājumiem, iepriekš saskaņojot tos ar projekta autoriem un uzrādot atbilstības sertifikātus.
B28: Sastādīja: | L28: =Koptame_VNI!B40 -> Pārbaudīja:
C29: =Koptame_VNI!C35 -> 0 | M29: =Koptame_VNI!C41 -> 0
C30: =Koptame_VNI!C36 -> 0 | M30: =Koptame_VNI!C42 -> 0

Sheet 1.4._VNI
G1: Lokālā tāme Nr. | H1: =kops1_VNI!B23 -> 1.4._VNI
A2: =C13 -> Sienas
C3: Būves nosaukums: | D3: =Koptame_VNI!C11 -> Ēkas pārbūve un teritorijas labiekārtošana
C4: Objekta nosaukums: | D4: =Koptame_VNI!C12 -> Ēkas pārbūve un teritorijas labiekārtošana( VNĪ līdzekļi)
C5: Objekta adrese: | D5: =Koptame_VNI!C13 -> Citadeles iela 7, Rīga
C6: =Koptame_VNI!B14 -> Pasūtījuma Nr. | D6: =Koptame_VNI!C14 -> n
A7: =Koptame_VNI!B17 -> Tāme sastādīta 2023.gada tirgus cenās, pamatojoties uz SIA „Baltex Group” būvprojekta rasējumiem un darbu apjomiem | O7: Tāmes izmaksas euro: | P7: =P21 -> 0
L9: =Koptame_VNI!D16 -> Tāme sastādīta:
A11: Nr.p.k. | B11: Kods | C11: Būvdarbu nosaukums | D11: Mērvienība | E11: Daudzums | F11: Vienības izmaksas | L11: Kopā uz visu apjomu
F12: Laika norma (c/h) | G12: Darba samaksas likme (euro/h) | H12: Darba alga (euro) | I12: Būvizstrādājumi (euro) | J12: Mehānismi (euro) | K12: Kopā (euro) | L12: Darbietilpība (c/h) | M12: Darba alga (euro) | N12: Būvizstrādājumi (euro) | O12: Mehānismi (euro) | P12: Summa (euro)
B13: 0 | C13: =kops1_VNI!C23 -> Sienas | F13: 0 | G13: 0 | H13: 0 | I13: 0 | J13: 0 | K13: =SUM(H13:J13) -> 0 | L13: =ROUND(F13*E13,2) -> 0 | M13: =ROUND(H13*E13,2) -> 0 | N13: =ROUND(I13*E13,2) -> 0 | O13: =ROUND(J13*E13,2) -> 0 | P13: =SUM(M13:O13) -> 0
A14: 0 | C14: BK Ailu izveide un pastiprināšana BK-3001, BK-4001, BK-5003, BK-5004 | H14: =ROUND(F14*G14,2) -> 0 | K14: =SUM(H14:J14) -> 0 | L14: =ROUND(F14*E14,2) -> 0 | M14: =ROUND(H14*E14,2) -> 0 | N14: =ROUND(I14*E14,2) -> 0 | O14: =ROUND(J14*E14,2) -> 0 | P14: =SUM(M14:O14) -> 0
A15: 1 | C15: Pagaidu pārseguma stiprinājumi uzstādīšana,nojaukšana pārsedžu izbūves laikā no kokmateriāliem, izmantojot atkārtoti | D15: kpl | E15: 1 | K15: =SUM(H15:J15) -> 0 | L15: =ROUND(F15*E15,2) -> 0 | M15: =ROUND(H15*E15,2) -> 0 | N15: =ROUND(I15*E15,2) -> 0 | O15: =ROUND(J15*E15,2) -> 0 | P15: =SUM(M15:O15) -> 0
A16: 2 | C16: Tērauda konstrukciju-pārsedzes izgatavošana,piegāde,montāža t.sk. Palīgmateriāli. Metāla konstrukcijas apstrādātas atbilstoši BK norādījumiem | D16: t | E16: =1.143+0.114 -> 1.257 | K16: =SUM(H16:J16) -> 0 | L16: =ROUND(F16*E16,2) -> 0 | M16: =ROUND(H16*E16,2) -> 0 | N16: =ROUND(I16*E16,2) -> 0 | O16: =ROUND(J16*E16,2) -> 0 | P16: =SUM(M16:O16) -> 0
A17: 3 | C17: Metāla aiļu pārsedžu apmešana 30 mm ,aptinot ar apmetuma sietu | D17: m | E17: 45 | K17: =SUM(H17:J17) -> 0 | L17: =ROUND(F17*E17,2) -> 0 | M17: =ROUND(H17*E17,2) -> 0 | N17: =ROUND(I17*E17,2) -> 0 | O17: =ROUND(J17*E17,2) -> 0 | P17: =SUM(M17:O17) -> 0
A18: 4 | C18: Mūra noķīlēšana un aizpildīšana zem spiediena ar smalkgraudainu betonu ar bezrukuma piedevu. Smalkgraudains betons C30/37+XC1 | D18: m3 | E18: 0.555 | K18: =SUM(H18:J18) -> 0 | L18: =ROUND(F18*E18,2) -> 0 | M18: =ROUND(H18*E18,2) -> 0 | N18: =ROUND(I18*E18,2) -> 0 | O18: =ROUND(J18*E18,2) -> 0 | P18: =SUM(M18:O18) -> 0
A19: 5 | C19: Gropes izkalšana pārsedzēm vid.~100x200mm | D19: m | E19: =E17 -> 45 | K19: =SUM(H19:J19) -> 0 | L19: =ROUND(F19*E19,2) -> 0 | M19: =ROUND(H19*E19,2) -> 0 | N19: =ROUND(I19*E19,2) -> 0 | O19: =ROUND(J19*E19,2) -> 0 | P19: =SUM(M19:O19) -> 0
C21: Tiešās izmaksas kopā t.sk. darba devēja sociālais nodoklis(23,59%) | L21: =SUM(L13:L20) -> 0 | M21: =SUM(M13:M20) -> 0 | N21: =SUM(N13:N20) -> 0 | O21: =SUM(O13:O20) -> 0 | P21: =SUM(P13:P20) -> 0
B23: Piezīmes:
A24: Visas atsauces uz materiālu un izstrādājumu izgatavotaj firmām, kuras norādītas būvprojektā, liecina tikai par šo materiālu un izstrādājumu tehniskajiem parametriem un kvalitātes līmeni, to nomaiņa ir iespējama ar citiem tehniski un kvalitatīvi ekvivalentiem būvizstrādājumiem, iepriekš saskaņojot tos ar projekta autoriem un uzrādot atbilstības sertifikātus.
B28: Sastādīja: | L28: =Koptame_VNI!B40 -> Pārbaudīja:
C29: =Koptame_VNI!C35 -> 0 | M29: =Koptame_VNI!C41 -> 0
C30: =Koptame_VNI!C36 -> 0 | M30: =Koptame_VNI!C42 -> 0

Sheet 1.5._VNI
G1: Lokālā tāme Nr. | H1: =kops1_VNI!B24 -> 1.5._VNI
A2: =C13 -> Pārsegumi
C3: Būves nosaukums: | D3: =Koptame_VNI!C11 -> Ēkas pārbūve un teritorijas labiekārtošana
C4: Objekta nosaukums: | D4: =Koptame_VNI!C12 -> Ēkas pārbūve un teritorijas labiekārtošana( VNĪ līdzekļi)
C5: Objekta adrese: | D5: =Koptame_VNI!C13 -> Citadeles iela 7, Rīga
C6: =Koptame_VNI!B14 -> Pasūtījuma Nr. | D6: =Koptame_VNI!C14 -> n
A7: =Koptame_VNI!B17 -> Tāme sastādīta 2023.gada tirgus cenās, pamatojoties uz SIA „Baltex Group” būvprojekta rasējumiem un darbu apjomiem | O7: Tāmes izmaksas euro: | P7: =P20 -> 0
L9: =Koptame_VNI!D16 -> Tāme sastādīta:
A11: Nr.p.k. | B11: Kods | C11: Būvdarbu nosaukums | D11: Mērvienība | E11: Daudzums | F11: Vienības izmaksas | L11: Kopā uz visu apjomu
F12: Laika norma (c/h) | G12: Darba samaksas likme (euro/h) | H12: Darba alga (euro) | I12: Būvizstrādājumi (euro) | J12: Mehānismi (euro) | K12: Kopā (euro) | L12: Darbietilpība (c/h) | M12: Darba alga (euro) | N12: Būvizstrādājumi (euro) | O12: Mehānismi (euro) | P12: Summa (euro)
B13: 0 | C13: =kops1_VNI!C24 -> Pārsegumi | F13: 0 | G13: 0 | H13: 0 | I13: 0 | J13: 0 | K13: =SUM(H13:J13) -> 0 | L13: =ROUND(F13*E13,2) -> 0 | M13: =ROUND(H13*E13,2) -> 0 | N13: =ROUND(I13*E13,2) -> 0 | O13: =ROUND(J13*E13,2) -> 0 | P13: =SUM(M13:O13) -> 0
A14: 0 | C14: BK-4001 | H14: =ROUND(F14*G14,2) -> 0 | K14: =SUM(H14:J14) -> 0 | L14: =ROUND(F14*E14,2) -> 0 | M14: =ROUND(H14*E14,2) -> 0 | N14: =ROUND(I14*E14,2) -> 0 | O14: =ROUND(J14*E14,2) -> 0 | P14: =SUM(M14:O14) -> 0
A15: 1 | C15: Nesošo koka konstrukciju izgatavošana un montāža sagatavotas atbilstoši BK norādījumiem t.sk. Palīgmateriāli. T.sk. Apstrāde 240x330 mm GL24c | D15: m3 | E15: 1.552 | J15: =0.15*H15 -> 0 | K15: =SUM(H15:J15) -> 0 | L15: =ROUND(F15*E15,2) -> 0 | M15: =ROUND(H15*E15,2) -> 0 | N15: =ROUND(I15*E15,2) -> 0 | O15: =ROUND(J15*E15,2) -> 0 | P15: =SUM(M15:O15) -> 0
A16: 2 | C16: Tērauda konstrukciju izgatavošana , piegāde,montāža t.sk. Palīgmateriāli. Metāla konstrukcijas apstrādātas atbilstoši BK norādījumiem t.sk. Pārklājumi t.sk. Ugunsdrošais pārklājums | D16: t | E16: 0.39 | K16: =SUM(H16:J16) -> 0 | L16: =ROUND(F16*E16,2) -> 0 | M16: =ROUND(H16*E16,2) -> 0 | N16: =ROUND(I16*E16,2) -> 0 | O16: =ROUND(J16*E16,2) -> 0 | P16: =SUM(M16:O16) -> 0
A17: 3 | C17: Lewis loksnes ieklāšana 16 mm t.sk. Palīgmateriāli | D17: m2 | E17: 285 | K17: =SUM(H17:J17) -> 0 | L17: =ROUND(F17*E17,2) -> 0 | M17: =ROUND(H17*E17,2) -> 0 | N17: =ROUND(I17*E17,2) -> 0 | O17: =ROUND(J17*E17,2) -> 0 | P17: =SUM(M17:O17) -> 0
A18: 4 | C18: Betona iestrādāšana konstrukcijās C20/25+XC1 smalkgraudains novibrējot,betonu padod ar sūkni | D18: m3 | E18: 20.52 | K18: =SUM(H18:J18) -> 0 | L18: =ROUND(F18*E18,2) -> 0 | M18: =ROUND(H18*E18,2) -> 0 | N18: =ROUND(I18*E18,2) -> 0 | O18: =ROUND(J18*E18,2) -> 0 | P18: =SUM(M18:O18) -> 0
C20: Tiešās izmaksas kopā t.sk. darba devēja sociālais nodoklis(23,59%) | L20: =SUM(L13:L19) -> 0 | M20: =SUM(M13:M19) -> 0 | N20: =SUM(N13:N19) -> 0 | O20: =SUM(O13:O19) -> 0 | P20: =SUM(P13:P19) -> 0
B22: Piezīmes:
A23: Visas atsauces uz materiālu un izstrādājumu izgatavotaj firmām, kuras norādītas būvprojektā, liecina tikai par šo materiālu un izstrādājumu tehniskajiem parametriem un kvalitātes līmeni, to nomaiņa ir iespējama ar citiem tehniski un kvalitatīvi ekvivalentiem būvizstrādājumiem, iepriekš saskaņojot tos ar projekta autoriem un uzrādot atbilstības sertifikātus.
B27: Sastādīja: | L27: =Koptame_VNI!B40 -> Pārbaudīja:
C28: =Koptame_VNI!C35 -> 0 | M28: =Koptame_VNI!C41 -> 0
C29: =Koptame_VNI!C36 -> 0 | M29: =Koptame_VNI!C42 -> 0

Sheet 1.6._VNI
G1: Lokālā tāme Nr. | H1: =kops1_VNI!B25 -> 1.6._VNI
A2: =C13 -> Jumts
C3: Būves nosaukums: | D3: =Koptame_VNI!C11 -> Ēkas pārbūve un teritorijas labiekārtošana
C4: Objekta nosaukums: | D4: =Koptame_VNI!C12 -> Ēkas pārbūve un teritorijas labiekārtošana( VNĪ līdzekļi)
C5: Objekta adrese: | D5: =Koptame_VNI!C13 -> Citadeles iela 7, Rīga
C6: =Koptame_VNI!B14 -> Pasūtījuma Nr. | D6: =Koptame_VNI!C14 -> n
A7: =Koptame_VNI!B17 -> Tāme sastādīta 2023.gada tirgus cenās, pamatojoties uz SIA „Baltex Group” būvprojekta rasējumiem un darbu apjomiem | O7: Tāmes izmaksas euro: | P7: =P20 -> 0
L9: =Koptame_VNI!D16 -> Tāme sastādīta:
A11: Nr.p.k. | B11: Kods | C11: Būvdarbu nosaukums | D11: Mērvienība | E11: Daudzums | F11: Vienības izmaksas | L11: Kopā uz visu apjomu
F12: Laika norma (c/h) | G12: Darba samaksas likme (euro/h) | H12: Darba alga (euro) | I12: Būvizstrādājumi (euro) | J12: Mehānismi (euro) | K12: Kopā (euro) | L12: Darbietilpība (c/h) | M12: Darba alga (euro) | N12: Būvizstrādājumi (euro) | O12: Mehānismi (euro) | P12: Summa (euro)
B13: 0 | C13: =kops1_VNI!C25 -> Jumts | F13: 0 | G13: 0 | H13: 0 | I13: 0 | J13: 0 | K13: =SUM(H13:J13) -> 0 | L13: =ROUND(F13*E13,2) -> 0 | M13: =ROUND(H13*E13,2) -> 0 | N13: =ROUND(I13*E13,2) -> 0 | O13: =ROUND(J13*E13,2) -> 0 | P13: =SUM(M13:O13) -> 0
A14: 0 | C14: BK-4001 | H14: =ROUND(F14*G14,2) -> 0 | K14: =SUM(H14:J14) -> 0 | L14: =ROUND(F14*E14,2) -> 0 | M14: =ROUND(H14*E14,2) -> 0 | N14: =ROUND(I14*E14,2) -> 0 | O14: =ROUND(J14*E14,2) -> 0 | P14: =SUM(M14:O14) -> 0
A15: 1 | C15: Nesošo koka konstrukciju izgatavošana un montāža sagatavotas atbilstoši BK norādījumiem t.sk. Palīgmateriāli. T.sk. Apstrāde | D15: m3 | E15: 0.045 | J15: =0.15*H15 -> 0 | K15: =SUM(H15:J15) -> 0 | L15: =ROUND(F15*E15,2) -> 0 | M15: =ROUND(H15*E15,2) -> 0 | N15: =ROUND(I15*E15,2) -> 0 | O15: =ROUND(J15*E15,2) -> 0 | P15: =SUM(M15:O15) -> 0
A16: 2 | C16: Saplākšņa ieklāšana 30 mm, stiprinājumi | D16: m2 | E16: 6.72 | K16: =SUM(H16:J16) -> 0 | L16: =ROUND(F16*E16,2) -> 0 | M16: =ROUND(H16*E16,2) -> 0 | N16: =ROUND(I16*E16,2) -> 0 | O16: =ROUND(J16*E16,2) -> 0 | P16: =SUM(M16:O16) -> 0
A17: 3 | C17: Projektētā jumta izbūve ventilācijas gaisa ieņemšanai, analoga demontētajai AR 2.9 | D17: gb | E17: 4 | J17: =0.15*H17 -> 0 | K17: =SUM(H17:J17) -> 0 | L17: =ROUND(F17*E17,2) -> 0 | M17: =ROUND(H17*E17,2) -> 0 | N17: =ROUND(I17*E17,2) -> 0 | O17: =ROUND(J17*E17,2) -> 0 | P17: =SUM(M17:O17) -> 0
A18: 4 | C18: Projektētā jumta izbūve t.sk. Jaunajām izbūvēm analoga esošajam (Apjomu precizēt būvniecības laikā pēc fakta!) | D18: m2 | E18: 12 | J18: =0.05*H18 -> 0 | K18: =SUM(H18:J18) -> 0 | L18: =ROUND(F18*E18,2) -> 0 | M18: =ROUND(H18*E18,2) -> 0 | N18: =ROUND(I18*E18,2) -> 0 | O18: =ROUND(J18*E18,2) -> 0 | P18: =SUM(M18:O18) -> 0
F19: 0 | G19: 0
C20: Tiešās izmaksas kopā t.sk. darba devēja sociālais nodoklis(23,59%) | L20: =SUM(L13:L19) -> 0 | M20: =SUM(M13:M19) -> 0 | N20: =SUM(N13:N19) -> 0 | O20: =SUM(O13:O19) -> 0 | P20: =SUM(P13:P19) -> 0
B22: Piezīmes:
A23: Visas atsauces uz materiālu un izstrādājumu izgatavotaj firmām, kuras norādītas būvprojektā, liecina tikai par šo materiālu un izstrādājumu tehniskajiem parametriem un kvalitātes līmeni, to nomaiņa ir iespējama ar citiem tehniski un kvalitatīvi ekvivalentiem būvizstrādājumiem, iepriekš saskaņojot tos ar projekta autoriem un uzrādot atbilstības sertifikātus.
B27: Sastādīja: | L27: =Koptame_VNI!B40 -> Pārbaudīja:
C28: =Koptame_VNI!C35 -> 0 | M28: =Koptame_VNI!C41 -> 0
C29: =Koptame_VNI!C36 -> 0 | M29: =Koptame_VNI!C42 -> 0

Sheet 1.7._VNI
G1: Lokālā tāme Nr. | H1: =kops1_VNI!B26 -> 1.7._VNI
A2: =C13 -> Kāpnes
C3: Būves nosaukums: | D3: =Koptame_VNI!C11 -> Ēkas pārbūve un teritorijas labiekārtošana
C4: Objekta nosaukums: | D4: =Koptame_VNI!C12 -> Ēkas pārbūve un teritorijas labiekārtošana( VNĪ līdzekļi)
C5: Objekta adrese: | D5: =Koptame_VNI!C13 -> Citadeles iela 7, Rīga
C6: =Koptame_VNI!B14 -> Pasūtījuma Nr. | D6: =Koptame_VNI!C14 -> n
A7: =Koptame_VNI!B17 -> Tāme sastādīta 2023.gada tirgus cenās, pamatojoties uz SIA „Baltex Group” būvprojekta rasējumiem un darbu apjomiem | O7: Tāmes izmaksas euro: | P7: =P17 -> 0
L9: =Koptame_VNI!D16 -> Tāme sastādīta:
A11: Nr.p.k. | B11: Kods | C11: Būvdarbu nosaukums | D11: Mērvienība | E11: Daudzums | F11: Vienības izmaksas | L11: Kopā uz visu apjomu
F12: Laika norma (c/h) | G12: Darba samaksas likme (euro/h) | H12: Darba alga (euro) | I12: Būvizstrādājumi (euro) | J12: Mehānismi (euro) | K12: Kopā (euro) | L12: Darbietilpība (c/h) | M12: Darba alga (euro) | N12: Būvizstrādājumi (euro) | O12: Mehānismi (euro) | P12: Summa (euro)
A13: 0 | C13: =kops1_VNI!C26 -> Kāpnes | H13: =ROUND(G13*F13,2) -> 0 | K13: =SUM(H13:J13) -> 0 | L13: =ROUND(F13*E13,2) -> 0 | M13: =ROUND(H13*E13,2) -> 0 | N13: =ROUND(I13*E13,2) -> 0 | O13: =ROUND(J13*E13,2) -> 0 | P13: =SUM(M13:O13) -> 0
A14: 0 | C14: BK Tērauda kāpņu konstrukcijas BK 5001; 5002; 5003;5004 | H14: =ROUND(F14*G14,2) -> 0 | K14: =SUM(H14:J14) -> 0 | L14: =ROUND(F14*E14,2) -> 0 | M14: =ROUND(H14*E14,2) -> 0 | N14: =ROUND(I14*E14,2) -> 0 | O14: =ROUND(J14*E14,2) -> 0 | P14: =SUM(M14:O14) -> 0
A15: 1 | C15: Tērauda konstrukciju izgatavošana , piegāde,montāža t.sk. Palīgmateriāli. Metāla konstrukcijas apstrādātas atbilstoši BK norādījumiem t.sk. Pārklājumi t.sk. Hilti dībeļi, vītņstienis, ugunsdrošais pārklājums | D15: t | E15: =0.0494+0.02 -> 0.0694 | K15: =SUM(H15:J15) -> 0 | L15: =ROUND(F15*E15,2) -> 0 | M15: =ROUND(H15*E15,2) -> 0 | N15: =ROUND(I15*E15,2) -> 0 | O15: =ROUND(J15*E15,2) -> 0 | P15: =SUM(M15:O15) -> 0
F16: =IFERROR(ROUND(H16/G16,2),0) -> 0 | G16: =IF(H16>0,3.75,0) -> 0
C17: Tiešās izmaksas kopā t.sk. darba devēja sociālais nodoklis(23,59%) | L17: =SUM(L13:L16) -> 0 | M17: =SUM(M13:M16) -> 0 | N17: =SUM(N13:N16) -> 0 | O17: =SUM(O13:O16) -> 0 | P17: =SUM(P13:P16) -> 0
B19: Piezīmes:
A20: Visas atsauces uz materiālu un izstrādājumu izgatavotaj firmām, kuras norādītas būvprojektā, liecina tikai par šo materiālu un izstrādājumu tehniskajiem parametriem un kvalitātes līmeni, to nomaiņa ir iespējama ar citiem tehniski un kvalitatīvi ekvivalentiem būvizstrādājumiem, iepriekš saskaņojot tos ar projekta autoriem un uzrādot atbilstības sertifikātus.
B24: Sastādīja: | L24: =Koptame_VNI!B40 -> Pārbaudīja:
C25: =Koptame_VNI!C35 -> 0 | M25: =Koptame_VNI!C41 -> 0
C26: =Koptame_VNI!C36 -> 0 | M26: =Koptame_VNI!C42 -> 0

Sheet 1.11._VNI
G1: Lokālā tāme Nr. | H1: =kops1_VNI!B27 -> 1.11._VNI
A2: =C13 -> Fasāde
C3: Būves nosaukums: | D3: =Koptame_VNI!C11 -> Ēkas pārbūve un teritorijas labiekārtošana
C4: Objekta nosaukums: | D4: =Koptame_VNI!C12 -> Ēkas pārbūve un teritorijas labiekārtošana( VNĪ līdzekļi)
C5: Objekta adrese: | D5: =Koptame_VNI!C13 -> Citadeles iela 7, Rīga
C6: =Koptame_VNI!B14 -> Pasūtījuma Nr. | D6: =Koptame_VNI!C14 -> n
A7: =Koptame_VNI!B17 -> Tāme sastādīta 2023.gada tirgus cenās, pamatojoties uz SIA „Baltex Group” būvprojekta rasējumiem un darbu apjomiem | O7: Tāmes izmaksas euro: | P7: =P19 -> 0
L9: =Koptame_VNI!D16 -> Tāme sastādīta:
A11: Nr.p.k. | B11: Kods | C11: Būvdarbu nosaukums | D11: Mērvienība | E11: Daudzums | F11: Vienības izmaksas | L11: Kopā uz visu apjomu
F12: Laika norma (c/h) | G12: Darba samaksas likme (euro/h) | H12: Darba alga (euro) | I12: Būvizstrādājumi (euro) | J12: Mehānismi (euro) | K12: Kopā (euro) | L12: Darbietilpība (c/h) | M12: Darba alga (euro) | N12: Būvizstrādājumi (euro) | O12: Mehānismi (euro) | P12: Summa (euro)
B13: 0 | C13: =kops1_VNI!C27 -> Fasāde | F13: 0 | G13: 0 | K13: =SUM(H13:J13) -> 0 | L13: =ROUND(F13*E13,2) -> 0 | M13: =ROUND(H13*E13,2) -> 0 | N13: =ROUND(I13*E13,2) -> 0 | O13: =ROUND(J13*E13,2) -> 0 | P13: =SUM(M13:O13) -> 0
A14: 0 | C14: Kolonnu hidroizolācijas atjaunošana | H14: =ROUND(F14*G14,2) -> 0 | K14: =SUM(H14:J14) -> 0 | L14: =ROUND(F14*E14,2) -> 0 | M14: =ROUND(H14*E14,2) -> 0 | N14: =ROUND(I14*E14,2) -> 0 | O14: =ROUND(J14*E14,2) -> 0 | P14: =SUM(M14:O14) -> 0
A15: 1 | C15: Kolonnu horizontālās un vertikālās hidroizolācijas atjaunošana saskaņā ar AR-6.1 | D15: gb | E15: 6 | K15: =SUM(H15:J15) -> 0 | L15: =ROUND(F15*E15,2) -> 0 | M15: =ROUND(H15*E15,2) -> 0 | N15: =ROUND(I15*E15,2) -> 0 | O15: =ROUND(J15*E15,2) -> 0 | P15: =SUM(M15:O15) -> 0
A16: 0 | C16: Fasādes apmetuma atjaunošana un krāsošana | H16: =ROUND(F16*G16,2) -> 0 | K16: =SUM(H16:J16) -> 0 | L16: =ROUND(F16*E16,2) -> 0 | M16: =ROUND(H16*E16,2) -> 0 | N16: =ROUND(I16*E16,2) -> 0 | O16: =ROUND(J16*E16,2) -> 0 | P16: =SUM(M16:O16) -> 0
A17: 2 | C17: Fasādes tīrīšana, gruntēšana, sanācijas apmetuma ierīkošana, špaktelēšana, krāsošana. Jauns sanācijas vairākslāņu apmetums un krāsojums pēc sistēmas POROMAP RINZAFFO - Ūdenī šķistošu sāļu izsturīga saķeres kārta, max. 5mm; POROMAP INTONACO - Mūri žāvējošs apmetums, min. 20mm; POROMAP FINITURA - Sanācijas sistēmas finiša špaktele; SILANCOLOR Primer plus- Grunts slānis; SILANCOLOR Paint plus - Silikona bāzes, tvaika caurlaidīga ūdens dispersijas krāsa; palīgmateriāli AR-4.1 | D17: m2 | E17: 82 | K17: =SUM(H17:J17) -> 0 | L17: =ROUND(F17*E17,2) -> 0 | M17: =ROUND(H17*E17,2) -> 0 | N17: =ROUND(I17*E17,2) -> 0 | O17: =ROUND(J17*E17,2) -> 0 | P17: =SUM(M17:O17) -> 0
F18: 0 | G18: 0
C19: Tiešās izmaksas kopā t.sk. darba devēja sociālais nodoklis(23,59%) | L19: =SUM(L13:L18) -> 0 | M19: =SUM(M13:M18) -> 0 | N19: =SUM(N13:N18) -> 0 | O19: =SUM(O13:O18) -> 0 | P19: =SUM(P13:P18) -> 0
B21: Piezīmes:
A22: Visas atsauces uz materiālu un izstrādājumu izgatavotaj firmām, kuras norādītas būvprojektā, liecina tikai par šo materiālu un izstrādājumu tehniskajiem parametriem un kvalitātes līmeni, to nomaiņa ir iespējama ar citiem tehniski un kvalitatīvi ekvivalentiem būvizstrādājumiem, iepriekš saskaņojot tos ar projekta autoriem un uzrādot atbilstības sertifikātus.
B26: Sastādīja: | L26: =Koptame_VNI!B40 -> Pārbaudīja:
C27: =Koptame_VNI!C35 -> 0 | M27: =Koptame_VNI!C41 -> 0
C28: =Koptame_VNI!C36 -> 0 | M28: =Koptame_VNI!C42 -> 0

Sheet 1.12._VNI
G1: Lokālā tāme Nr. | H1: 1.12._VNI
A2: =C13 -> Dažādi darbi
C3: Būves nosaukums: | D3: =Koptame_VNI!C11 -> Ēkas pārbūve un teritorijas labiekārtošana
C4: Objekta nosaukums: | D4: =Koptame_VNI!C12 -> Ēkas pārbūve un teritorijas labiekārtošana( VNĪ līdzekļi)
C5: Objekta adrese: | D5: =Koptame_VNI!C13 -> Citadeles iela 7, Rīga
C6: =Koptame_VNI!B14 -> Pasūtījuma Nr. | D6: =Koptame_VNI!C14 -> n
A7: =Koptame_VNI!B17 -> Tāme sastādīta 2023.gada tirgus cenās, pamatojoties uz SIA „Baltex Group” būvprojekta rasējumiem un darbu apjomiem | O7: Tāmes izmaksas euro: | P7: =P17 -> 0
L9: =Koptame_VNI!D16 -> Tāme sastādīta:
A11: Nr.p.k. | B11: Kods | C11: Būvdarbu nosaukums | D11: Mērvienība | E11: Daudzums | F11: Vienības izmaksas | L11: Kopā uz visu apjomu
F12: Laika norma (c/h) | G12: Darba samaksas likme (euro/h) | H12: Darba alga (euro) | I12: Būvizstrādājumi (euro) | J12: Mehānismi (euro) | K12: Kopā (euro) | L12: Darbietilpība (c/h) | M12: Darba alga (euro) | N12: Būvizstrādājumi (euro) | O12: Mehānismi (euro) | P12: Summa (euro)
B13: 0 | C13: =kops1_VNI!C28 -> Dažādi darbi | F13: 0 | G13: 0 | K13: =SUM(H13:J13) -> 0 | L13: =ROUND(F13*E13,2) -> 0 | M13: =ROUND(H13*E13,2) -> 0 | N13: =ROUND(I13*E13,2) -> 0 | O13: =ROUND(J13*E13,2) -> 0 | P13: =SUM(M13:O13) -> 0
A14: 1 | C14: Projektētā diagonālā pacēlāja uzstādīšana | D14: gb | E14: 1 | J14: =0.15*F14 -> 0 | K14: =SUM(H14:J14) -> 0 | L14: =ROUND(F14*E14,2) -> 0 | M14: =ROUND(H14*E14,2) -> 0 | N14: =ROUND(I14*E14,2) -> 0 | O14: =ROUND(J14*E14,2) -> 0 | P14: =SUM(M14:O14) -> 0
A15: 2 | C15: Logu ailu uzzīmēšana fasādē saskaņā ar AR 4.3 | D15: gb | E15: 3 | K15: =SUM(H15:J15) -> 0 | L15: =ROUND(F15*E15,2) -> 0 | M15: =ROUND(H15*E15,2) -> 0 | N15: =ROUND(I15*E15,2) -> 0 | O15: =ROUND(J15*E15,2) -> 0 | P15: =SUM(M15:O15) -> 0
F16: 0 | G16: 0
C17: Tiešās izmaksas kopā t.sk. darba devēja sociālais nodoklis(23,59%) | L17: =SUM(L13:L16) -> 0 | M17: =SUM(M13:M16) -> 0 | N17: =SUM(N13:N16) -> 0 | O17: =SUM(O13:O16) -> 0 | P17: =SUM(P13:P16) -> 0
B19: Piezīmes:
A20: Visas atsauces uz materiālu un izstrādājumu izgatavotaj firmām, kuras norādītas būvprojektā, liecina tikai par šo materiālu un izstrādājumu tehniskajiem parametriem un kvalitātes līmeni, to nomaiņa ir iespējama ar citiem tehniski un kvalitatīvi ekvivalentiem būvizstrādājumiem, iepriekš saskaņojot tos ar projekta autoriem un uzrādot atbilstības sertifikātus.
B24: Sastādīja: | L24: =Koptame_VNI!B40 -> Pārbaudīja:
C25: =Koptame_VNI!C35 -> 0 | M25: =Koptame_VNI!C41 -> 0
C26: =Koptame_VNI!C36 -> 0 | M26: =Koptame_VNI!C42 -> 0

Sheet kops2_VNI
A2: Kopsavilkuma aprēķins Nr. 2_VNI
A6: =Koptame_VNI!C22 -> Specializētie darbi-iekšējie tīkli, sistēmas
A8: Būves nosaukums: | C8: =Koptame_VNI!C11 -> Ēkas pārbūve un teritorijas labiekārtošana
A9: Objekta nosaukums: | C9: =Koptame_VNI!C12 -> Ēkas pārbūve un teritorijas labiekārtošana( VNĪ līdzekļi)
A10: Objekta adrese: | C10: =Koptame_VNI!C13 -> Citadeles iela 7, Rīga
A11: =Koptame_VNI!B14 -> Pasūtījuma Nr. | C11: =Koptame_VNI!C14 -> n
F13: Par kopējo summu, euro | H13: =E38 -> #VALUE!
F14: Kopējā darbietilpība, c/h | H14: =I34 -> 0
H16: =Koptame_VNI!D16 -> Tāme sastādīta:
A18: Nr.p.k. | B18: Kods, tāmes Nr. | C18: Būvdarbu veids vai konstruktīvā elementa nosaukums | E18: Tāmes izmaksas (euro) | F18: Tai skaitā | I18: Darbietilpība (c/h)
F19: darba alga (euro) | G19: materiāli (euro) | H19: mehānismi (euro)
A21: 1 | B21: 2.1._VNI | C21: Iekšējais ūdensvads | E21: ='2.1._VNI'!P44 -> 0 | F21: ='2.1._VNI'!M44 -> 0 | G21: ='2.1._VNI'!N44 -> 0 | H21: ='2.1._VNI'!O44 -> 0 | I21: ='2.1._VNI'!L44 -> 0
A22: 2 | B22: 2.2._VNI | C22: Iekšējā kanalizācija | E22: ='2.2._VNI'!P45 -> 0 | F22: ='2.2._VNI'!M45 -> 0 | G22: ='2.2._VNI'!N45 -> 0 | H22: ='2.2._VNI'!O45 -> 0 | I22: ='2.2._VNI'!L45 -> 0
A23: 3 | B23: 2.3._VNI | C23: Apkure | E23: ='2.3._VNI'!Q119 -> 0 | F23: ='2.3._VNI'!N119 -> 0 | G23: ='2.3._VNI'!O119 -> 0 | H23: ='2.3._VNI'!P119 -> 0 | I23: ='2.3._VNI'!M119 -> 0
A24: 4 | B24: 2.4._VNI | C24: Ventilācija | E24: ='2.4._VNI'!Q233 -> 0 | F24: ='2.4._VNI'!N233 -> 0 | G24: ='2.4._VNI'!O233 -> 0 | H24: ='2.4._VNI'!P233 -> 0 | I24: ='2.4._VNI'!M233 -> 0
A25: 5 | B25: 2.5._VNI | C25: Gaisa kondicionēšana | E25: ='2.5._VNI'!Q116 -> 0 | F25: ='2.5._VNI'!N116 -> 0 | G25: ='2.5._VNI'!O116 -> 0 | H25: ='2.5._VNI'!P116 -> 0 | I25: ='2.5._VNI'!M116 -> 0
A26: 6 | B26: 2.6._VNI | C26: Siltummezgls | E26: ='2.6._VNI'!Q86 -> 0 | F26: ='2.6._VNI'!N86 -> 0 | G26: ='2.6._VNI'!O86 -> 0 | H26: ='2.6._VNI'!P86 -> 0 | I26: ='2.6._VNI'!M86 -> 0
A27: 7 | B27: 2.7._VNI | C27: Elektroinstalācija | E27: ='2.7._VNI'!Q103 -> 0 | F27: ='2.7._VNI'!N103 -> 0 | G27: ='2.7._VNI'!O103 -> 0 | H27: ='2.7._VNI'!P103 -> 0 | I27: ='2.7._VNI'!M103 -> 0
A28: 8 | B28: 2.8._VNI | C28: Ugunsgrēka signalizācijas sistēma | E28: ='2.8._VNI'!Q42 -> 0 | F28: ='2.8._VNI'!N42 -> 0 | G28: ='2.8._VNI'!O42 -> 0 | H28: ='2.8._VNI'!P42 -> 0 | I28: ='2.8._VNI'!M42 -> 0
A29: 9 | B29: 2.9._VNI | C29: Piekļuves kontroles sistēma | E29: ='2.9._VNI'!Q38 -> 0 | F29: ='2.9._VNI'!N38 -> 0 | G29: ='2.9._VNI'!O38 -> 0 | H29: ='2.9._VNI'!P38 -> 0 | I29: ='2.9._VNI'!M38 -> 0
A30: 10 | B30: 2.10._VNI | C30: Elektronisko sakaru sistēma | E30: ='2.10._VNI'!Q39 -> 0 | F30: ='2.10._VNI'!N39 -> 0 | G30: ='2.10._VNI'!O39 -> 0 | H30: ='2.10._VNI'!P39 -> 0 | I30: ='2.10._VNI'!M39 -> 0
A31: 11 | B31: 2.11._VNI | C31: Videonovērošanas un apsardzes sistēma | E31: ='2.11._VNI'!Q46 -> 0 | F31: ='2.11._VNI'!N46 -> 0 | G31: ='2.11._VNI'!O46 -> 0 | H31: ='2.11._VNI'!P46 -> 0 | I31: ='2.11._VNI'!M46 -> 0
A32: 12 | B32: 2.12._VNI | C32: Palīdzības pogas | E32: ='2.12._VNI'!Q23 -> 0 | F32: ='2.12._VNI'!N23 -> 0 | G32: ='2.12._VNI'!O23 -> 0 | H32: ='2.12._VNI'!P23 -> 0 | I32: ='2.12._VNI'!M23 -> 0
C34: Kopā | E34: =SUM(E21:E33) -> 0 | F34: =SUM(F21:F33) -> 0 | G34: =SUM(G21:G33) -> 0 | H34: =SUM(H21:H33) -> 0 | I34: =SUM(I21:I33) -> 0
A35: Virsizdevumi | D35: =kops1_VNI!$D$30 -> % | E35: =ROUND(E34*D35,2) -> #VALUE!
C36: tai skaitā darba aizsardzība | E36: =E35*0.1 -> #VALUE!
A37: Peļņa | D37: =kops1_VNI!$D$32 -> % | E37: =ROUND(E34*D37,2) -> #VALUE!
C38: Kopā bez PVN | E38: =E37+E35+E34 -> #VALUE!
B41: Sastādīja:
C42: =Koptame_VNI!C35 -> 0
C43: =Koptame_VNI!C36 -> 0
B47: =Koptame_VNI!B40 -> Pārbaudīja:
C48: =Koptame_VNI!C41 -> 0
C49: =Koptame_VNI!C42 -> 0

Sheet 2.1._VNI
G1: Lokālā tāme Nr. | H1: =kops2_VNI!B21 -> 2.1._VNI
A2: =C13 -> Iekšējais ūdensvads
C3: Būves nosaukums: | D3: =Koptame_VNI!C11 -> Ēkas pārbūve un teritorijas labiekārtošana
C4: Objekta nosaukums: | D4: =Koptame_VNI!C12 -> Ēkas pārbūve un teritorijas labiekārtošana( VNĪ līdzekļi)
C5: Objekta adrese: | D5: =Koptame_VNI!C13 -> Citadeles iela 7, Rīga
C6: =Koptame_VNI!B14 -> Pasūtījuma Nr. | D6: =Koptame_VNI!C14 -> n
A7: =Koptame_VNI!B17 -> Tāme sastādīta 2023.gada tirgus cenās, pamatojoties uz SIA „Baltex Group” būvprojekta rasējumiem un darbu apjomiem | O7: Tāmes izmaksas euro: | P7: =P44 -> 0
L9: =Koptame_VNI!D16 -> Tāme sastādīta:
A11: Nr.p.k. | B11: Kods | C11: Būvdarbu nosaukums | D11: Mērvienība | E11: Daudzums | F11: Vienības izmaksas | L11: Kopā uz visu apjomu
F12: Laika norma (c/h) | G12: Darba samaksas likme (euro/h) | H12: Darba alga (euro) | I12: Būvizstrādājumi (euro) | J12: Mehānismi (euro) | K12: Kopā (euro) | L12: Darbietilpība (c/h) | M12: Darba alga (euro) | N12: Būvizstrādājumi (euro) | O12: Mehānismi (euro) | P12: Summa (euro)
C13: =kops2_VNI!C21 -> Iekšējais ūdensvads | K13: =SUM(H13:J13) -> 0 | L13: =ROUND(F13*E13,2) -> 0 | M13: =ROUND(H13*E13,2) -> 0 | N13: =ROUND(I13*E13,2) -> 0 | O13: =ROUND(J13*E13,2) -> 0 | P13: =SUM(M13:O13) -> 0
C14: Montāžas un palaišanas darbi
A15: 1 | C15: Daudzslāņu caurule MLC OD16x2.0 | D15: m | E15: 59 | J15: =H15*0.15 -> 0 | K15: =SUM(H15:J15) -> 0 | L15: =ROUND(F15*E15,2) -> 0 | M15: =ROUND(H15*E15,2) -> 0 | N15: =ROUND(I15*E15,2) -> 0 | O15: =ROUND(J15*E15,2) -> 0 | P15: =SUM(M15:O15) -> 0
A16: 2 | C16: Daudzslāņu caurule MLC OD20x2.25 | D16: m | E16: 57 | J16: =H16*0.15 -> 0 | K16: =SUM(H16:J16) -> 0 | L16: =ROUND(F16*E16,2) -> 0 | M16: =ROUND(H16*E16,2) -> 0 | N16: =ROUND(I16*E16,2) -> 0 | O16: =ROUND(J16*E16,2) -> 0 | P16: =SUM(M16:O16) -> 0
A17: 3 | C17: Daudzslāņu caurule MLC OD25x2.5 | D17: m | E17: 21 | J17: =H17*0.15 -> 0 | K17: =SUM(H17:J17) -> 0 | L17: =ROUND(F17*E17,2) -> 0 | M17: =ROUND(H17*E17,2) -> 0 | N17: =ROUND(I17*E17,2) -> 0 | O17: =ROUND(J17*E17,2) -> 0 | P17: =SUM(M17:O17) -> 0
A18: 4 | C18: Daudzslāņu caurule MLC OD32x3.0 | D18: m | E18: 56 | J18: =H18*0.15 -> 0 | K18: =SUM(H18:J18) -> 0 | L18: =ROUND(F18*E18,2) -> 0 | M18: =ROUND(H18*E18,2) -> 0 | N18: =ROUND(I18*E18,2) -> 0 | O18: =ROUND(J18*E18,2) -> 0 | P18: =SUM(M18:O18) -> 0
A19: 5 | C19: Presējams kompozītmateriāla līkums 90˚ OD16 | D19: gb | E19: 75 | J19: =H19*0.15 -> 0 | K19: =SUM(H19:J19) -> 0 | L19: =ROUND(F19*E19,2) -> 0 | M19: =ROUND(H19*E19,2) -> 0 | N19: =ROUND(I19*E19,2) -> 0 | O19: =ROUND(J19*E19,2) -> 0 | P19: =SUM(M19:O19) -> 0
A20: 6 | C20: Presējams kompozītmateriāla līkums 90˚ OD20 | D20: gb | E20: 24 | J20: =H20*0.15 -> 0 | K20: =SUM(H20:J20) -> 0 | L20: =ROUND(F20*E20,2) -> 0 | M20: =ROUND(H20*E20,2) -> 0 | N20: =ROUND(I20*E20,2) -> 0 | O20: =ROUND(J20*E20,2) -> 0 | P20: =SUM(M20:O20) -> 0
A21: 7 | C21: Presējams kompozītmateriāla līkums 90˚ OD25 | D21: gb | E21: 7 | J21: =H21*0.15 -> 0 | K21: =SUM(H21:J21) -> 0 | L21: =ROUND(F21*E21,2) -> 0 | M21: =ROUND(H21*E21,2) -> 0 | N21: =ROUND(I21*E21,2) -> 0 | O21: =ROUND(J21*E21,2) -> 0 | P21: =SUM(M21:O21) -> 0
A22: 8 | C22: Presējams kompozītmateriāla līkums 90˚ OD32 | D22: gb | E22: 19 | J22: =H22*0.15 -> 0 | K22: =SUM(H22:J22) -> 0 | L22: =ROUND(F22*E22,2) -> 0 | M22: =ROUND(H22*E22,2) -> 0 | N22: =ROUND(I22*E22,2) -> 0 | O22: =ROUND(J22*E22,2) -> 0 | P22: =SUM(M22:O22) -> 0
A23: 9 | C23: Presējams kompozītmateriāla trejgabals OD16/16 | D23: gb | E23: 2 | J23: =H23*0.15 -> 0 | K23: =SUM(H23:J23) -> 0 | L23: =ROUND(F23*E23,2) -> 0 | M23: =ROUND(H23*E23,2) -> 0 | N23: =ROUND(I23*E23,2) -> 0 | O23: =ROUND(J23*E23,2) -> 0 | P23: =SUM(M23:O23) -> 0
A24: 10 | C24: Presējams kompozītmateriāla trejgabals OD20/20/16 | D24: gb | E24: 7 | J24: =H24*0.15 -> 0 | K24: =SUM(H24:J24) -> 0 | L24: =ROUND(F24*E24,2) -> 0 | M24: =ROUND(H24*E24,2) -> 0 | N24: =ROUND(I24*E24,2) -> 0 | O24: =ROUND(J24*E24,2) -> 0 | P24: =SUM(M24:O24) -> 0
A25: 11 | C25: Presējams kompozītmateriāla trejgabals OD20/20 | D25: gb | E25: 4 | J25: =H25*0.15 -> 0 | K25: =SUM(H25:J25) -> 0 | L25: =ROUND(F25*E25,2) -> 0 | M25: =ROUND(H25*E25,2) -> 0 | N25: =ROUND(I25*E25,2) -> 0 | O25: =ROUND(J25*E25,2) -> 0 | P25: =SUM(M25:O25) -> 0
A26: 12 | C26: Presējams kompozītmateriāla trejgabals OD25/25/16 | D26: gb | E26: 10 | J26: =H26*0.15 -> 0 | K26: =SUM(H26:J26) -> 0 | L26: =ROUND(F26*E26,2) -> 0 | M26: =ROUND(H26*E26,2) -> 0 | N26: =ROUND(I26*E26,2) -> 0 | O26: =ROUND(J26*E26,2) -> 0 | P26: =SUM(M26:O26) -> 0
... A39: 25 | C39: Porgumijas pretkondensāta/ siltuma izolācija 9 mm caurulei OD32 | D39: m | E39: 56 | J39: =H39*0.15 -> 0 | K39: =SUM(H39:J39) -> 0 | L39: =ROUND(F39*E39,2) -> 0 | M39: =ROUND(H39*E39,2) -> 0 | N39: =ROUND(I39*E39,2) -> 0 | O39: =ROUND(J39*E39,2) -> 0 | P39: =SUM(M39:O39) -> 0
A40: 26 | C40: Atvērumu aizdare ar atbilstošiem ugunsdrošiem materiāliem | D40: kpl | E40: 1 | K40: =SUM(H40:J40) -> 0 | L40: =ROUND(F40*E40,2) -> 0 | M40: =ROUND(H40*E40,2) -> 0 | N40: =ROUND(I40*E40,2) -> 0 | O40: =ROUND(J40*E40,2) -> 0 | P40: =SUM(M40:O40) -> 0
A41: 27 | C41: Cauruļvadu montāža sienas kanālos un grīdās | D41: kpl | E41: 1 | K41: =SUM(H41:J41) -> 0 | L41: =ROUND(F41*E41,2) -> 0 | M41: =ROUND(H41*E41,2) -> 0 | N41: =ROUND(I41*E41,2) -> 0 | O41: =ROUND(J41*E41,2) -> 0 | P41: =SUM(M41:O41) -> 0
A42: 28 | C42: Montāžas palīgmateriāli | D42: kpl | E42: 1 | K42: =SUM(H42:J42) -> 0 | L42: =ROUND(F42*E42,2) -> 0 | M42: =ROUND(H42*E42,2) -> 0 | N42: =ROUND(I42*E42,2) -> 0 | O42: =ROUND(J42*E42,2) -> 0 | P42: =SUM(M42:O42) -> 0
F43: 0 | G43: 0
C44: Tiešās izmaksas kopā, t.sk. darba devēja sociālais nodoklis(23,59%) | L44: =SUM(L13:L43) -> 0 | M44: =SUM(M13:M43) -> 0 | N44: =SUM(N13:N43) -> 0 | O44: =SUM(O13:O43) -> 0 | P44: =SUM(P13:P43) -> 0
B46: Piezīmes:
A47: Visas atsauces uz materiālu un izstrādājumu izgatavotaj firmām, kuras norādītas būvprojektā, liecina tikai par šo materiālu un izstrādājumu tehniskajiem parametriem un kvalitātes līmeni, to nomaiņa ir iespējama ar citiem tehniski un kvalitatīvi ekvivalentiem būvizstrādājumiem, iepriekš saskaņojot tos ar projekta autoriem un uzrādot atbilstības sertifikātus.
B51: Sastādīja: | L51: =Koptame_VNI!B40 -> Pārbaudīja:
C52: =Koptame_VNI!C35 -> 0 | M52: =Koptame_VNI!C41 -> 0
C53: =Koptame_VNI!C36 -> 0 | M53: =Koptame_VNI!C42 -> 0

Sheet 2.2._VNI
G1: Lokālā tāme Nr. | H1: =kops2_VNI!B22 -> 2.2._VNI
A2: =C13 -> Iekšējā kanalizācija
C3: Būves nosaukums: | D3: =Koptame_VNI!C11 -> Ēkas pārbūve un teritorijas labiekārtošana
C4: Objekta nosaukums: | D4: =Koptame_VNI!C12 -> Ēkas pārbūve un teritorijas labiekārtošana( VNĪ līdzekļi)
C5: Objekta adrese: | D5: =Koptame_VNI!C13 -> Citadeles iela 7, Rīga
C6: =Koptame_VNI!B14 -> Pasūtījuma Nr. | D6: =Koptame_VNI!C14 -> n
A7: =Koptame_VNI!B17 -> Tāme sastādīta 2023.gada tirgus cenās, pamatojoties uz SIA „Baltex Group” būvprojekta rasējumiem un darbu apjomiem | O7: Tāmes izmaksas euro: | P7: =P45 -> 0
L9: =Koptame_VNI!D16 -> Tāme sastādīta:
A11: Nr.p.k. | B11: Kods | C11: Būvdarbu nosaukums | D11: Mērvienība | E11: Daudzums | F11: Vienības izmaksas | L11: Kopā uz visu apjomu
F12: Laika norma (c/h) | G12: Darba samaksas likme (euro/h) | H12: Darba alga (euro) | I12: Būvizstrādājumi (euro) | J12: Mehānismi (euro) | K12: Kopā (euro) | L12: Darbietilpība (c/h) | M12: Darba alga (euro) | N12: Būvizstrādājumi (euro) | O12: Mehānismi (euro) | P12: Summa (euro)
B13: 0 | C13: =kops2_VNI!C22 -> Iekšējā kanalizācija | F13: 0 | G13: 0 | H13: 0 | I13: 0 | J13: 0 | K13: =SUM(H13:J13) -> 0 | L13: =ROUND(F13*E13,2) -> 0 | M13: =ROUND(H13*E13,2) -> 0 | N13: =ROUND(I13*E13,2) -> 0 | O13: =ROUND(J13*E13,2) -> 0 | P13: =SUM(M13:O13) -> 0
C14: Montāžas un palaišanas darbi
C15: Saimnieciski fekālā kanalizācija K-1 | K15: =SUM(H15:J15) -> 0 | L15: =ROUND(F15*E15,2) -> 0 | M15: =ROUND(H15*E15,2) -> 0 | N15: =ROUND(I15*E15,2) -> 0 | O15: =ROUND(J15*E15,2) -> 0 | P15: =SUM(M15:O15) -> 0
A16: 1 | C16: Kanalizācijas caurule PVC OD32 | D16: m | E16: 102 | J16: =0.15*H16 -> 0 | K16: =SUM(H16:J16) -> 0 | L16: =ROUND(F16*E16,2) -> 0 | M16: =ROUND(H16*E16,2) -> 0 | N16: =ROUND(I16*E16,2) -> 0 | O16: =ROUND(J16*E16,2) -> 0 | P16: =SUM(M16:O16) -> 0
A17: 2 | C17: Kanalizācijas caurule PVC OD40 | D17: m | E17: 2 | J17: =0.15*H17 -> 0 | K17: =SUM(H17:J17) -> 0 | L17: =ROUND(F17*E17,2) -> 0 | M17: =ROUND(H17*E17,2) -> 0 | N17: =ROUND(I17*E17,2) -> 0 | O17: =ROUND(J17*E17,2) -> 0 | P17: =SUM(M17:O17) -> 0
A18: 3 | C18: Kanalizācijas caurule PVCOD50 | D18: m | E18: 29 | J18: =0.15*H18 -> 0 | K18: =SUM(H18:J18) -> 0 | L18: =ROUND(F18*E18,2) -> 0 | M18: =ROUND(H18*E18,2) -> 0 | N18: =ROUND(I18*E18,2) -> 0 | O18: =ROUND(J18*E18,2) -> 0 | P18: =SUM(M18:O18) -> 0
A19: 4 | C19: Kanalizācijas caurule PVC OD110 | D19: m | E19: 20 | J19: =0.15*H19 -> 0 | K19: =SUM(H19:J19) -> 0 | L19: =ROUND(F19*E19,2) -> 0 | M19: =ROUND(H19*E19,2) -> 0 | N19: =ROUND(I19*E19,2) -> 0 | O19: =ROUND(J19*E19,2) -> 0 | P19: =SUM(M19:O19) -> 0
A20: 5 | C20: Kanalizācijas caurule Rigid multi OD110 | D20: m | E20: 66 | J20: =0.15*H20 -> 0 | K20: =SUM(H20:J20) -> 0 | L20: =ROUND(F20*E20,2) -> 0 | M20: =ROUND(H20*E20,2) -> 0 | N20: =ROUND(I20*E20,2) -> 0 | O20: =ROUND(J20*E20,2) -> 0 | P20: =SUM(M20:O20) -> 0
A21: 6 | C21: Pašteces kanalizācijas cauruļvadu veidgabali | D21: kpl | E21: 1 | J21: =0.15*H21 -> 0 | K21: =SUM(H21:J21) -> 0 | L21: =ROUND(F21*E21,2) -> 0 | M21: =ROUND(H21*E21,2) -> 0 | N21: =ROUND(I21*E21,2) -> 0 | O21: =ROUND(J21*E21,2) -> 0 | P21: =SUM(M21:O21) -> 0
A22: 7 | C22: Sausā tipa traps vai ar pretsmakas membrānu OD110 ar vertikālu izvadu | D22: kpl | E22: 3 | J22: =0.15*H22 -> 0 | K22: =SUM(H22:J22) -> 0 | L22: =ROUND(F22*E22,2) -> 0 | M22: =ROUND(H22*E22,2) -> 0 | N22: =ROUND(I22*E22,2) -> 0 | O22: =ROUND(J22*E22,2) -> 0 | P22: =SUM(M22:O22) -> 0
A23: 8 | C23: Tīrīšanas lūka ACO Finor G bez pildījuma DN100 mm | D23: kpl | E23: 4 | J23: =0.15*H23 -> 0 | K23: =SUM(H23:J23) -> 0 | L23: =ROUND(F23*E23,2) -> 0 | M23: =ROUND(H23*E23,2) -> 0 | N23: =ROUND(I23*E23,2) -> 0 | O23: =ROUND(J23*E23,2) -> 0 | P23: =SUM(M23:O23) -> 0
A24: 9 | C24: Vēdināšana stāvvada izvads Vilpe Ø110P/300 | D24: kpl | E24: 2 | J24: =0.15*H24 -> 0 | K24: =SUM(H24:J24) -> 0 | L24: =ROUND(F24*E24,2) -> 0 | M24: =ROUND(H24*E24,2) -> 0 | N24: =ROUND(I24*E24,2) -> 0 | O24: =ROUND(J24*E24,2) -> 0 | P24: =SUM(M24:O24) -> 0
A25: 10 | C25: Revīzija OD110 | D25: gb | E25: 3 | J25: =0.15*H25 -> 0 | K25: =SUM(H25:J25) -> 0 | L25: =ROUND(F25*E25,2) -> 0 | M25: =ROUND(H25*E25,2) -> 0 | N25: =ROUND(I25*E25,2) -> 0 | O25: =ROUND(J25*E25,2) -> 0 | P25: =SUM(M25:O25) -> 0
A26: 11 | C26: Iebetonējamas ugunsdrošā manžete OD50 mm | D26: gb | E26: 2 | J26: =0.15*H26 -> 0 | K26: =SUM(H26:J26) -> 0 | L26: =ROUND(F26*E26,2) -> 0 | M26: =ROUND(H26*E26,2) -> 0 | N26: =ROUND(I26*E26,2) -> 0 | O26: =ROUND(J26*E26,2) -> 0 | P26: =SUM(M26:O26) -> 0
A27: 12 | C27: Iebetonējamas ugunsdrošā manžete OD110 mm | D27: gb | E27: 7 | J27: =0.15*H27 -> 0 | K27: =SUM(H27:J27) -> 0 | L27: =ROUND(F27*E27,2) -> 0 | M27: =ROUND(H27*E27,2) -> 0 | N27: =ROUND(I27*E27,2) -> 0 | O27: =ROUND(J27*E27,2) -> 0 | P27: =SUM(M27:O27) -> 0
A28: 13 | C28: Sifons Wavin HEVPO DN32 | D28: gb | E28: 7 | J28: =0.15*H28 -> 0 | K28: =SUM(H28:J28) -> 0 | L28: =ROUND(F28*E28,2) -> 0 | M28: =ROUND(H28*E28,2) -> 0 | N28: =ROUND(I28*E28,2) -> 0 | O28: =ROUND(J28*E28,2) -> 0 | P28: =SUM(M28:O28) -> 0
A29: 14 | C29: Porgumijas pretkondensāta/ siltuma izolācija 19 mm caurulei OD32 | D29: m | E29: 102 | J29: =H29*0.15 -> 0 | K29: =SUM(H29:J29) -> 0 | L29: =ROUND(F29*E29,2) -> 0 | M29: =ROUND(H29*E29,2) -> 0 | N29: =ROUND(I29*E29,2) -> 0 | O29: =ROUND(J29*E29,2) -> 0 | P29: =SUM(M29:O29) -> 0
A30: 15 | C30: Porgumijas pretkondensāta/ siltuma izolācija 19 mm caurulei OD50 | D30: m | E30: 12 | J30: =H30*0.15 -> 0 | K30: =SUM(H30:J30) -> 0 | L30: =ROUND(F30*E30,2) -> 0 | M30: =ROUND(H30*E30,2) -> 0 | N30: =ROUND(I30*E30,2) -> 0 | O30: =ROUND(J30*E30,2) -> 0 | P30: =SUM(M30:O30) -> 0
A31: 16 | C31: Porgumijas pretkondensāta/ siltuma izolācija 19 mm caurulei OD110 | D31: m | E31: 4 | J31: =H31*0.15 -> 0 | K31: =SUM(H31:J31) -> 0 | L31: =ROUND(F31*E31,2) -> 0 | M31: =ROUND(H31*E31,2) -> 0 | N31: =ROUND(I31*E31,2) -> 0 | O31: =ROUND(J31*E31,2) -> 0 | P31: =SUM(M31:O31) -> 0
A32: 17 | C32: Ārpu pārseguma montājam ugunsdrošā manžete DN100 | D32: gb | E32: 1 | J32: =H32*0.15 -> 0 | K32: =SUM(H32:J32) -> 0 | L32: =ROUND(F32*E32,2) -> 0 | M32: =ROUND(H32*E32,2) -> 0 | N32: =ROUND(I32*E32,2) -> 0 | O32: =ROUND(J32*E32,2) -> 0 | P32: =SUM(M32:O32) -> 0
A33: 18 | C33: Atvērumu aizdare ar atbilstošiem ugunsdrošiem materiāliem | D33: kpl | E33: 1 | J33: =0.15*H33 -> 0 | K33: =SUM(H33:J33) -> 0 | L33: =ROUND(F33*E33,2) -> 0 | M33: =ROUND(H33*E33,2) -> 0 | N33: =ROUND(I33*E33,2) -> 0 | O33: =ROUND(J33*E33,2) -> 0 | P33: =SUM(M33:O33) -> 0
A34: 19 | C34: Kanalizācijas cauruļu stiprinājumi | D34: kpl | E34: 1 | J34: =0.15*H34 -> 0 | K34: =SUM(H34:J34) -> 0 | L34: =ROUND(F34*E34,2) -> 0 | M34: =ROUND(H34*E34,2) -> 0 | N34: =ROUND(I34*E34,2) -> 0 | O34: =ROUND(J34*E34,2) -> 0 | P34: =SUM(M34:O34) -> 0
A35: 20 | C35: Montāžas palīgmateriāli | D35: kpl | E35: 1 | J35: =0.15*H35 -> 0 | K35: =SUM(H35:J35) -> 0 | L35: =ROUND(F35*E35,2) -> 0 | M35: =ROUND(H35*E35,2) -> 0 | N35: =ROUND(I35*E35,2) -> 0 | O35: =ROUND(J35*E35,2) -> 0 | P35: =SUM(M35:O35) -> 0
C36: Sanitārtehniskās ierīces | K36: =SUM(H36:J36) -> 0 | L36: =ROUND(F36*E36,2) -> 0 | M36: =ROUND(H36*E36,2) -> 0 | N36: =ROUND(I36*E36,2) -> 0 | O36: =ROUND(J36*E36,2) -> 0 | P36: =SUM(M36:O36) -> 0
A37: 21 | C37: Roku mazgātne cilvēkiem ar īpašām vajadzībām komplektā ar jaucējkrānu ar garo rokturi, sifonu, stiprinājumiem, pievadiem | D37: kpl | E37: 1 | J37: =0.15*H37 -> 0 | K37: =SUM(H37:J37) -> 0 | L37: =ROUND(F37*E37,2) -> 0 | M37: =ROUND(H37*E37,2) -> 0 | N37: =ROUND(I37*E37,2) -> 0 | O37: =ROUND(J37*E37,2) -> 0 | P37: =SUM(M37:O37) -> 0
A38: 22 | C38: Roku mazgātne komplektā ar jaucējkrānu, sifonu, stiprinājumiem, pievadiem | D38: kpl | E38: 6 | J38: =0.15*H38 -> 0 | K38: =SUM(H38:J38) -> 0 | L38: =ROUND(F38*E38,2) -> 0 | M38: =ROUND(H38*E38,2) -> 0 | N38: =ROUND(I38*E38,2) -> 0 | O38: =ROUND(J38*E38,2) -> 0 | P38: =SUM(M38:O38) -> 0
A39: 23 | C39: Nerūsējošā tērauda trauku mazgātne komplektā ar sifonu, trauku mazgātnes jaucējkrānu, stiprinājumiem, pievadiem | D39: kpl | E39: 2 | J39: =0.15*H39 -> 0 | K39: =SUM(H39:J39) -> 0 | L39: =ROUND(F39*E39,2) -> 0 | M39: =ROUND(H39*E39,2) -> 0 | N39: =ROUND(I39*E39,2) -> 0 | O39: =ROUND(J39*E39,2) -> 0 | P39: =SUM(M39:O39) -> 0
A40: 24 | C40: Klozetpods ar skalošanas kasti (divi skalošanas režīmi), stiprinājumiem, klozetpoda pievienojumu | D40: kpl | E40: 4 | J40: =0.15*H40 -> 0 | K40: =SUM(H40:J40) -> 0 | L40: =ROUND(F40*E40,2) -> 0 | M40: =ROUND(H40*E40,2) -> 0 | N40: =ROUND(I40*E40,2) -> 0 | O40: =ROUND(J40*E40,2) -> 0 | P40: =SUM(M40:O40) -> 0
A41: 25 | C41: Piekaramais klozetpods ar skalošanas kasti (divi skalošanas režīmi), stiprinājumiem, klozetpoda pievienojumu | D41: kpl | E41: 2 | J41: =0.15*H41 -> 0 | K41: =SUM(H41:J41) -> 0 | L41: =ROUND(F41*E41,2) -> 0 | M41: =ROUND(H41*E41,2) -> 0 | N41: =ROUND(I41*E41,2) -> 0 | O41: =ROUND(J41*E41,2) -> 0 | P41: =SUM(M41:O41) -> 0
A42: 26 | C42: Klozetpods cilvēkiem ar īpašām vajadzībām ar skalošanas kasti (divi skalošanas režīmi), stiprinājumiem, klozetpoda pievienojumu | D42: kpl | E42: 1 | J42: =0.15*H42 -> 0 | K42: =SUM(H42:J42) -> 0 | L42: =ROUND(F42*E42,2) -> 0 | M42: =ROUND(H42*E42,2) -> 0 | N42: =ROUND(I42*E42,2) -> 0 | O42: =ROUND(J42*E42,2) -> 0 | P42: =SUM(M42:O42) -> 0
A43: 27 | C43: Dušas kanāls ACO Showrdrain S L=800 mmkomplektā ar sifonu ar horizontālu izvadu DN50 mm un dušas termostatisko jaucējkrānu ar dušas galvu un klausuli | D43: kpl | E43: 1 | J43: =0.15*H43 -> 0 | K43: =SUM(H43:J43) -> 0 | L43: =ROUND(F43*E43,2) -> 0 | M43: =ROUND(H43*E43,2) -> 0 | N43: =ROUND(I43*E43,2) -> 0 | O43: =ROUND(J43*E43,2) -> 0 | P43: =SUM(M43:O43) -> 0
F44: 0 | G44: 0
C45: Tiešās izmaksas kopā, t.sk. darba devēja sociālais nodoklis(23,59%) | L45: =SUM(L13:L44) -> 0 | M45: =SUM(M13:M44) -> 0 | N45: =SUM(N13:N44) -> 0 | O45: =SUM(O13:O44) -> 0 | P45: =SUM(P13:P44) -> 0
B47: Piezīmes:
A48: Visas atsauces uz materiālu un izstrādājumu izgatavotaj firmām, kuras norādītas būvprojektā, liecina tikai par šo materiālu un izstrādājumu tehniskajiem parametriem un kvalitātes līmeni, to nomaiņa ir iespējama ar citiem tehniski un kvalitatīvi ekvivalentiem būvizstrādājumiem, iepriekš saskaņojot tos ar projekta autoriem un uzrādot atbilstības sertifikātus.
B52: Sastādīja: | L52: =Koptame_VNI!B40 -> Pārbaudīja:
C53: =Koptame_VNI!C35 -> 0 | M53: =Koptame_VNI!C41 -> 0
C54: =Koptame_VNI!C36 -> 0 | M54: =Koptame_VNI!C42 -> 0

Sheet 2.3._VNI
H1: Lokālā tāme Nr. | I1: =kops2_VNI!$B$23 -> 2.3._VNI
A2: =C13 -> Apkure
C3: Būves nosaukums: | E3: =Koptame_VNI!C11 -> Ēkas pārbūve un teritorijas labiekārtošana
C4: Objekta nosaukums: | E4: =Koptame_VNI!C12 -> Ēkas pārbūve un teritorijas labiekārtošana( VNĪ līdzekļi)
C5: Objekta adrese: | E5: =Koptame_VNI!C13 -> Citadeles iela 7, Rīga
C6: =Koptame_VNI!B14 -> Pasūtījuma Nr. | E6: =Koptame_VNI!C14 -> n
A7: =Koptame_VNI!B17 -> Tāme sastādīta 2023.gada tirgus cenās, pamatojoties uz SIA „Baltex Group” būvprojekta rasējumiem un darbu apjomiem | P7: Tāmes izmaksas euro: | Q7: =Q119 -> 0
M9: =Koptame_VNI!D16 -> Tāme sastādīta:
A11: Nr.p.k. | B11: Kods | C11: Būvdarbu nosaukums | E11: Mērvienība | F11: Daudzums | G11: Vienības izmaksas | M11: Kopā uz visu apjomu
G12: Laika norma (c/h) | H12: Darba samaksas likme (euro/h) | I12: Darba alga (euro) | J12: Būvizstrādājumi (euro) | K12: Mehānismi (euro) | L12: Kopā (euro) | M12: Darbietilpība (c/h) | N12: Darba alga (euro) | O12: Būvizstrādājumi (euro) | P12: Mehānismi (euro) | Q12: Summa (euro)
B13: 0 | C13: =kops2_VNI!C23 -> Apkure | G13: 0 | H13: 0 | I13: 0 | J13: 0 | K13: 0 | L13: =SUM(I13:K13) -> 0 | M13: =ROUND(G13*F13,2) -> 0 | N13: =ROUND(I13*F13,2) -> 0 | O13: =ROUND(J13*F13,2) -> 0 | P13: =ROUND(K13*F13,2) -> 0 | Q13: =SUM(N13:P13) -> 0
C14: Montāžas un palaišanas darbi
C15: Apkures sistēma A1.1 un A1.2 | L15: =SUM(I15:K15) -> 0 | M15: =ROUND(G15*F15,2) -> 0 | N15: =ROUND(I15*F15,2) -> 0 | O15: =ROUND(J15*F15,2) -> 0 | P15: =ROUND(K15*F15,2) -> 0 | Q15: =SUM(N15:P15) -> 0
A16: 1.1 | C16: Tērauda tipa paneļu radiators komplektā ar termostatisko vārstu un galvu, montāžas stiprinājumiem, atpakaļgaitas regulējošos ieskrūvi un iztukšošanas ventili. Pieslēgums no apakšas CV11-500-800 Ventil Compact | E16: kpl | F16: 1 | K16: =I16*0.15 -> 0 | L16: =SUM(I16:K16) -> 0 | M16: =ROUND(G16*F16,2) -> 0 | N16: =ROUND(I16*F16,2) -> 0 | O16: =ROUND(J16*F16,2) -> 0 | P16: =ROUND(K16*F16,2) -> 0 | Q16: =SUM(N16:P16) -> 0
A17: 1.2 | C17: Tērauda tipa paneļu radiators komplektā ar termostatisko vārstu un galvu, montāžas stiprinājumiem, atpakaļgaitas regulējošos ieskrūvi un iztukšošanas ventili. Pieslēgums no apakšas CV22-500-700 Ventil Compact | E17: kpl | F17: 1 | K17: =I17*0.15 -> 0 | L17: =SUM(I17:K17) -> 0 | M17: =ROUND(G17*F17,2) -> 0 | N17: =ROUND(I17*F17,2) -> 0 | O17: =ROUND(J17*F17,2) -> 0 | P17: =ROUND(K17*F17,2) -> 0 | Q17: =SUM(N17:P17) -> 0
A18: 1.3 | C18: Tērauda tipa paneļu radiators komplektā ar termostatisko vārstu un galvu, montāžas stiprinājumiem, atpakaļgaitas regulējošos ieskrūvi un iztukšošanas ventili. Pieslēgums no apakšas CV22-500-800 Ventil Compact | E18: kpl | F18: 1 | K18: =I18*0.15 -> 0 | L18: =SUM(I18:K18) -> 0 | M18: =ROUND(G18*F18,2) -> 0 | N18: =ROUND(I18*F18,2) -> 0 | O18: =ROUND(J18*F18,2) -> 0 | P18: =ROUND(K18*F18,2) -> 0 | Q18: =SUM(N18:P18) -> 0
A19: 1.4 | C19: Tērauda tipa paneļu radiators komplektā ar termostatisko vārstu un galvu, montāžas stiprinājumiem, atpakaļgaitas regulējošos ieskrūvi un iztukšošanas ventili. Pieslēgums no apakšas CV22-500-1000 Ventil Compact | E19: kpl | F19: 1 | K19: =I19*0.15 -> 0 | L19: =SUM(I19:K19) -> 0 | M19: =ROUND(G19*F19,2) -> 0 | N19: =ROUND(I19*F19,2) -> 0 | O19: =ROUND(J19*F19,2) -> 0 | P19: =ROUND(K19*F19,2) -> 0 | Q19: =SUM(N19:P19) -> 0
A20: 1.5 | C20: Tērauda tipa paneļu radiators komplektā ar termostatisko vārstu un galvu, montāžas stiprinājumiem, atpakaļgaitas regulējošos ieskrūvi un iztukšošanas ventili. Pieslēgums no apakšas CV33-500-600 Ventil Compact | E20: kpl | F20: 1 | K20: =I20*0.15 -> 0 | L20: =SUM(I20:K20) -> 0 | M20: =ROUND(G20*F20,2) -> 0 | N20: =ROUND(I20*F20,2) -> 0 | O20: =ROUND(J20*F20,2) -> 0 | P20: =ROUND(K20*F20,2) -> 0 | Q20: =SUM(N20:P20) -> 0
A21: 1.6 | C21: Tērauda tipa paneļu radiators komplektā ar termostatisko vārstu un galvu, montāžas stiprinājumiem, atpakaļgaitas regulējošos ieskrūvi un iztukšošanas ventili. Pieslēgums no apakšas CV33-500-900 Ventil Compact | E21: kpl | F21: 1 | K21: =I21*0.15 -> 0 | L21: =SUM(I21:K21) -> 0 | M21: =ROUND(G21*F21,2) -> 0 | N21: =ROUND(I21*F21,2) -> 0 | O21: =ROUND(J21*F21,2) -> 0 | P21: =ROUND(K21*F21,2) -> 0 | Q21: =SUM(N21:P21) -> 0
A22: 1.7 | C22: Tērauda tipa paneļu radiators komplektā ar termostatisko vārstu un galvu, montāžas stiprinājumiem, atpakaļgaitas regulējošos ieskrūvi un iztukšošanas ventili. Pieslēgums no apakšas CV33-500-1200 Ventil Compact | E22: kpl | F22: 1 | K22: =I22*0.15 -> 0 | L22: =SUM(I22:K22) -> 0 | M22: =ROUND(G22*F22,2) -> 0 | N22: =ROUND(I22*F22,2) -> 0 | O22: =ROUND(J22*F22,2) -> 0 | P22: =ROUND(K22*F22,2) -> 0 | Q22: =SUM(N22:P22) -> 0
A23: 1.8 | C23: Tērauda tipa paneļu radiators komplektā ar termostatisko vārstu un galvu, montāžas stiprinājumiem, atpakaļgaitas regulējošos ieskrūvi un iztukšošanas ventili. Pieslēgums no apakšas CV33-900-900 Ventil Compact | E23: kpl | F23: 1 | K23: =I23*0.15 -> 0 | L23: =SUM(I23:K23) -> 0 | M23: =ROUND(G23*F23,2) -> 0 | N23: =ROUND(I23*F23,2) -> 0 | O23: =ROUND(J23*F23,2) -> 0 | P23: =ROUND(K23*F23,2) -> 0 | Q23: =SUM(N23:P23) -> 0
A24: 1.9 | C24: Tērauda tipa paneļu radiators komplektā ar termostatisko vārstu un galvu, montāžas stiprinājumiem, atpakaļgaitas regulējošos ieskrūvi un iztukšošanas ventili. Pieslēgums no apakšas CV33-900-1200 Ventil Compact | E24: kpl | F24: 1 | K24: =I24*0.15 -> 0 | L24: =SUM(I24:K24) -> 0 | M24: =ROUND(G24*F24,2) -> 0 | N24: =ROUND(I24*F24,2) -> 0 | O24: =ROUND(J24*F24,2) -> 0 | P24: =ROUND(K24*F24,2) -> 0 | Q24: =SUM(N24:P24) -> 0
A25: 1.10 | C25: Tērauda tipa paneļu radiators komplektā ar termostatisko vārstu un galvu, montāžas stiprinājumiem, atpakaļgaitas regulējošos ieskrūvi un iztukšošanas ventili. Pieslēgums no apakšas KON34-142-2600 | E25: kpl | F25: 4 | K25: =I25*0.15 -> 0 | L25: =SUM(I25:K25) -> 0 | M25: =ROUND(G25*F25,2) -> 0 | N25: =ROUND(I25*F25,2) -> 0 | O25: =ROUND(J25*F25,2) -> 0 | P25: =ROUND(K25*F25,2) -> 0 | Q25: =SUM(N25:P25) -> 0
A26: 1.11 | C26: Tērauda tipa paneļu radiators komplektā ar termostatisko vārstu un galvu, montāžas stiprinājumiem, atpakaļgaitas regulējošos ieskrūvi un iztukšošanas ventili. Pieslēgums no apakšas KON34-142-800 | E26: kpl | F26: 2 | K26: =I26*0.15 -> 0 | L26: =SUM(I26:K26) -> 0 | M26: =ROUND(G26*F26,2) -> 0 | N26: =ROUND(I26*F26,2) -> 0 | O26: =ROUND(J26*F26,2) -> 0 | P26: =ROUND(K26*F26,2) -> 0 | Q26: =SUM(N26:P26) -> 0
A27: 1.12 | C27: Tērauda tipa paneļu radiators komplektā ar termostatisko vārstu un galvu, montāžas stiprinājumiem, atpakaļgaitas regulējošos ieskrūvi un iztukšošanas ventili. Pieslēgums no apakšas CV22-500-800 Ventil Compact | E27: kpl | F27: 5 | K27: =I27*0.15 -> 0 | L27: =SUM(I27:K27) -> 0 | M27: =ROUND(G27*F27,2) -> 0 | N27: =ROUND(I27*F27,2) -> 0 | O27: =ROUND(J27*F27,2) -> 0 | P27: =ROUND(K27*F27,2) -> 0 | Q27: =SUM(N27:P27) -> 0
... A83: 1.68 | C83: Ugunsdrošā blīvējuma šķērsojumi | E83: kpl | F83: 1 | K83: =I83*0.15 -> 0 | L83: =SUM(I83:K83) -> 0 | M83: =ROUND(G83*F83,2) -> 0 | N83: =ROUND(I83*F83,2) -> 0 | O83: =ROUND(J83*F83,2) -> 0 | P83: =ROUND(K83*F83,2) -> 0 | Q83: =SUM(N83:P83) -> 0
A84: 1.69 | C84: Hidrauliskā pārbaude | E84: kpl | F84: 1 | L84: =SUM(I84:K84) -> 0 | M84: =ROUND(G84*F84,2) -> 0 | N84: =ROUND(I84*F84,2) -> 0 | O84: =ROUND(J84*F84,2) -> 0 | P84: =ROUND(K84*F84,2) -> 0 | Q84: =SUM(N84:P84) -> 0
A85: 1.70 | C85: Elektroinstalācijas un vadības automātikas materiāli | E85: kpl | F85: 1 | K85: =I85*0.15 -> 0 | L85: =SUM(I85:K85) -> 0 | M85: =ROUND(G85*F85,2) -> 0 | N85: =ROUND(I85*F85,2) -> 0 | O85: =ROUND(J85*F85,2) -> 0 | P85: =ROUND(K85*F85,2) -> 0 | Q85: =SUM(N85:P85) -> 0
A86: 1.71 | C86: Cauruļvadu stiprinājumi un balsti | E86: kpl | F86: 1 | K86: =I86*0.15 -> 0 | L86: =SUM(I86:K86) -> 0 | M86: =ROUND(G86*F86,2) -> 0 | N86: =ROUND(I86*F86,2) -> 0 | O86: =ROUND(J86*F86,2) -> 0 | P86: =ROUND(K86*F86,2) -> 0 | Q86: =SUM(N86:P86) -> 0
A87: 1.72 | C87: Montāžas komplekts | E87: kpl | F87: 1 | K87: =I87*0.15 -> 0 | L87: =SUM(I87:K87) -> 0 | M87: =ROUND(G87*F87,2) -> 0 | N87: =ROUND(I87*F87,2) -> 0 | O87: =ROUND(J87*F87,2) -> 0 | P87: =ROUND(K87*F87,2) -> 0 | Q87: =SUM(N87:P87) -> 0
A88: 1.73 | C88: Palīgmateriāli | E88: kpl | F88: 1 | K88: =I88*0.15 -> 0 | L88: =SUM(I88:K88) -> 0 | M88: =ROUND(G88*F88,2) -> 0 | N88: =ROUND(I88*F88,2) -> 0 | O88: =ROUND(J88*F88,2) -> 0 | P88: =ROUND(K88*F88,2) -> 0 | Q88: =SUM(N88:P88) -> 0
L89: =SUM(I89:K89) -> 0 | M89: =ROUND(G89*F89,2) -> 0 | N89: =ROUND(I89*F89,2) -> 0 | O89: =ROUND(J89*F89,2) -> 0 | P89: =ROUND(K89*F89,2) -> 0 | Q89: =SUM(N89:P89) -> 0
C90: Apkures sistēma A2 | L90: =SUM(I90:K90) -> 0 | M90: =ROUND(G90*F90,2) -> 0 | N90: =ROUND(I90*F90,2) -> 0 | O90: =ROUND(J90*F90,2) -> 0 | P90: =ROUND(K90*F90,2) -> 0 | Q90: =SUM(N90:P90) -> 0
A91: 2.1 | C91: Siltumapgādes apsaistes mezgla komplekts ar sūkni, trīsgaitas vārstu, noslēgvārstiem, vienvirziena vārstu, filtru, termometru un manometru, kopā ar siltumizolāciju 2xDN20; 4.0 kW WPG-25-060-2.5; Kvs-2.5 | E91: kpl | F91: 2 | K91: =I91*0.15 -> 0 | L91: =SUM(I91:K91) -> 0 | M91: =ROUND(G91*F91,2) -> 0 | N91: =ROUND(I91*F91,2) -> 0 | O91: =ROUND(J91*F91,2) -> 0 | P91: =ROUND(K91*F91,2) -> 0 | Q91: =SUM(N91:P91) -> 0
A92: 2.2 | C92: Siltumapgādes apsaistes mezgla komplekts ar sūkni, trīsgaitas vārstu, noslēgvārstiem, vienvirziena vārstu, filtru, termometru un manometru, kopā ar siltumizolāciju 2xDN25; 11.5 kW WPG-25-060-4.0; Kvs-4 | E92: kpl | F92: 1 | K92: =I92*0.15 -> 0 | L92: =SUM(I92:K92) -> 0 | M92: =ROUND(G92*F92,2) -> 0 | N92: =ROUND(I92*F92,2) -> 0 | O92: =ROUND(J92*F92,2) -> 0 | P92: =ROUND(K92*F92,2) -> 0 | Q92: =SUM(N92:P92) -> 0
A93: 2.3 | C93: Lodveida krāns DN20 | E93: gb | F93: 2 | K93: =I93*0.15 -> 0 | L93: =SUM(I93:K93) -> 0 | M93: =ROUND(G93*F93,2) -> 0 | N93: =ROUND(I93*F93,2) -> 0 | O93: =ROUND(J93*F93,2) -> 0 | P93: =ROUND(K93*F93,2) -> 0 | Q93: =SUM(N93:P93) -> 0
A94: 2.4 | C94: Lodveida krāns DN25 | E94: gb | F94: 1 | K94: =I94*0.15 -> 0 | L94: =SUM(I94:K94) -> 0 | M94: =ROUND(G94*F94,2) -> 0 | N94: =ROUND(I94*F94,2) -> 0 | O94: =ROUND(J94*F94,2) -> 0 | P94: =ROUND(K94*F94,2) -> 0 | Q94: =SUM(N94:P94) -> 0
A95: 2.5 | C95: Automātiskie atgaisotāji komplektā ar noslēgvārstu DN15 | E95: kpl | F95: 4 | K95: =I95*0.15 -> 0 | L95: =SUM(I95:K95) -> 0 | M95: =ROUND(G95*F95,2) -> 0 | N95: =ROUND(I95*F95,2) -> 0 | O95: =ROUND(J95*F95,2) -> 0 | P95: =ROUND(K95*F95,2) -> 0 | Q95: =SUM(N95:P95) -> 0
A96: 2.6 | C96: Sistēmas iztukšošanas krāns DN15 | E96: gb | F96: 6 | K96: =I96*0.15 -> 0 | L96: =SUM(I96:K96) -> 0 | M96: =ROUND(G96*F96,2) -> 0 | N96: =ROUND(I96*F96,2) -> 0 | O96: =ROUND(J96*F96,2) -> 0 | P96: =ROUND(K96*F96,2) -> 0 | Q96: =SUM(N96:P96) -> 0
A97: 2.7 | C97: Balansēšanas vārsts DN15 STAD-15 | E97: gb | F97: 7 | K97: =I97*0.15 -> 0 | L97: =SUM(I97:K97) -> 0 | M97: =ROUND(G97*F97,2) -> 0 | N97: =ROUND(I97*F97,2) -> 0 | O97: =ROUND(J97*F97,2) -> 0 | P97: =ROUND(K97*F97,2) -> 0 | Q97: =SUM(N97:P97) -> 0
A98: 2.8 | C98: Balansēšanas vārsts DN20 STAD-20 | E98: gb | F98: 2 | K98: =I98*0.15 -> 0 | L98: =SUM(I98:K98) -> 0 | M98: =ROUND(G98*F98,2) -> 0 | N98: =ROUND(I98*F98,2) -> 0 | O98: =ROUND(J98*F98,2) -> 0 | P98: =ROUND(K98*F98,2) -> 0 | Q98: =SUM(N98:P98) -> 0
A99: 2.9 | C99: Manometrs 0-10 bar | E99: gb | F99: 4 | K99: =I99*0.15 -> 0 | L99: =SUM(I99:K99) -> 0 | M99: =ROUND(G99*F99,2) -> 0 | N99: =ROUND(I99*F99,2) -> 0 | O99: =ROUND(J99*F99,2) -> 0 | P99: =ROUND(K99*F99,2) -> 0 | Q99: =SUM(N99:P99) -> 0
A100: 2.10 | C100: Termometrs 0-120 oC | E100: gb | F100: 4 | K100: =I100*0.15 -> 0 | L100: =SUM(I100:K100) -> 0 | M100: =ROUND(G100*F100,2) -> 0 | N100: =ROUND(I100*F100,2) -> 0 | O100: =ROUND(J100*F100,2) -> 0 | P100: =ROUND(K100*F100,2) -> 0 | Q100: =SUM(N100:P100) -> 0
A101: 2.11 | C101: Daudzslāņu plastmasas caurule Ø25 | E101: m | F101: 16 | K101: =I101*0.15 -> 0 | L101: =SUM(I101:K101) -> 0 | M101: =ROUND(G101*F101,2) -> 0 | N101: =ROUND(I101*F101,2) -> 0 | O101: =ROUND(J101*F101,2) -> 0 | P101: =ROUND(K101*F101,2) -> 0 | Q101: =SUM(N101:P101) -> 0
A102: 2.12 | C102: Daudzslāņu plastmasas caurule Ø40 | E102: m | F102: 13 | K102: =I102*0.15 -> 0 | L102: =SUM(I102:K102) -> 0 | M102: =ROUND(G102*F102,2) -> 0 | N102: =ROUND(I102*F102,2) -> 0 | O102: =ROUND(J102*F102,2) -> 0 | P102: =ROUND(K102*F102,2) -> 0 | Q102: =SUM(N102:P102) -> 0
... A112: 2.22 | C112: Ugunsdrošā blīvējuma šķērsojums | E112: kpl | F112: 1 | K112: =I112*0.15 -> 0 | L112: =SUM(I112:K112) -> 0 | M112: =ROUND(G112*F112,2) -> 0 | N112: =ROUND(I112*F112,2) -> 0 | O112: =ROUND(J112*F112,2) -> 0 | P112: =ROUND(K112*F112,2) -> 0 | Q112: =SUM(N112:P112) -> 0
A113: 2.23 | C113: Hidrauliskā pārbaude | E113: kpl | F113: 1 | L113: =SUM(I113:K113) -> 0 | M113: =ROUND(G113*F113,2) -> 0 | N113: =ROUND(I113*F113,2) -> 0 | O113: =ROUND(J113*F113,2) -> 0 | P113: =ROUND(K113*F113,2) -> 0 | Q113: =SUM(N113:P113) -> 0
A114: 2.24 | C114: Elektroinstalācijas un vadības automātikas materiāli | E114: kpl | F114: 1 | K114: =I114*0.15 -> 0 | L114: =SUM(I114:K114) -> 0 | M114: =ROUND(G114*F114,2) -> 0 | N114: =ROUND(I114*F114,2) -> 0 | O114: =ROUND(J114*F114,2) -> 0 | P114: =ROUND(K114*F114,2) -> 0 | Q114: =SUM(N114:P114) -> 0
A115: 2.25 | C115: Cauruļvadu stiprinājumi un balsti | E115: kpl | F115: 1 | K115: =I115*0.15 -> 0 | L115: =SUM(I115:K115) -> 0 | M115: =ROUND(G115*F115,2) -> 0 | N115: =ROUND(I115*F115,2) -> 0 | O115: =ROUND(J115*F115,2) -> 0 | P115: =ROUND(K115*F115,2) -> 0 | Q115: =SUM(N115:P115) -> 0
A116: 2.26 | C116: Montāžas komplekts | E116: kpl | F116: 1 | K116: =I116*0.15 -> 0 | L116: =SUM(I116:K116) -> 0 | M116: =ROUND(G116*F116,2) -> 0 | N116: =ROUND(I116*F116,2) -> 0 | O116: =ROUND(J116*F116,2) -> 0 | P116: =ROUND(K116*F116,2) -> 0 | Q116: =SUM(N116:P116) -> 0
A117: 2.27 | C117: Palīgmateriāli | E117: kpl | F117: 1 | K117: =I117*0.15 -> 0 | L117: =SUM(I117:K117) -> 0 | M117: =ROUND(G117*F117,2) -> 0 | N117: =ROUND(I117*F117,2) -> 0 | O117: =ROUND(J117*F117,2) -> 0 | P117: =ROUND(K117*F117,2) -> 0 | Q117: =SUM(N117:P117) -> 0
C119: Tiešās izmaksas kopā, t.sk. darba devēja sociālais nodoklis(23,59%) | M119: =SUM(M13:M118) -> 0 | N119: =SUM(N13:N118) -> 0 | O119: =SUM(O13:O118) -> 0 | P119: =SUM(P13:P118) -> 0 | Q119: =SUM(Q13:Q118) -> 0
B121: Piezīmes:
A122: Visas atsauces uz materiālu un izstrādājumu izgatavotaj firmām, kuras norādītas būvprojektā, liecina tikai par šo materiālu un izstrādājumu tehniskajiem parametriem un kvalitātes līmeni, to nomaiņa ir iespējama ar citiem tehniski un kvalitatīvi ekvivalentiem būvizstrādājumiem, iepriekš saskaņojot tos ar projekta autoriem un uzrādot atbilstības sertifikātus.
B126: Sastādīja: | M126: =Koptame_VNI!B40 -> Pārbaudīja:
C127: =Koptame_VNI!C35 -> 0 | N127: =Koptame_VNI!C41 -> 0
C128: =Koptame_VNI!C36 -> 0 | N128: =Koptame_VNI!C42 -> 0

Sheet 2.4._VNI
H1: Lokālā tāme Nr. | I1: =kops2_VNI!B24 -> 2.4._VNI
A2: =C13 -> Ventilācija
C3: Būves nosaukums: | E3: =Koptame_VNI!C11 -> Ēkas pārbūve un teritorijas labiekārtošana
C4: Objekta nosaukums: | E4: =Koptame_VNI!C12 -> Ēkas pārbūve un teritorijas labiekārtošana( VNĪ līdzekļi)
C5: Objekta adrese: | E5: =Koptame_VNI!C13 -> Citadeles iela 7, Rīga
C6: =Koptame_VNI!B14 -> Pasūtījuma Nr. | E6: =Koptame_VNI!C14 -> n
A7: =Koptame_VNI!B17 -> Tāme sastādīta 2023.gada tirgus cenās, pamatojoties uz SIA „Baltex Group” būvprojekta rasējumiem un darbu apjomiem | P7: Tāmes izmaksas euro: | Q7: =Q233 -> 0
M9: =Koptame_VNI!D16 -> Tāme sastādīta:
A11: Nr.p.k. | B11: Kods | C11: Būvdarbu nosaukums | E11: Mērvienība | F11: Daudzums | G11: Vienības izmaksas | M11: Kopā uz visu apjomu
G12: Laika norma (c/h) | H12: Darba samaksas likme (euro/h) | I12: Darba alga (euro) | J12: Būvizstrādājumi (euro) | K12: Mehānismi (euro) | L12: Kopā (euro) | M12: Darbietilpība (c/h) | N12: Darba alga (euro) | O12: Būvizstrādājumi (euro) | P12: Mehānismi (euro) | Q12: Summa (euro)
B13: 0 | C13: =kops2_VNI!C24 -> Ventilācija | G13: 0 | H13: 0 | I13: 0 | J13: 0 | K13: 0 | L13: =SUM(I13:K13) -> 0 | M13: =ROUND(G13*F13,2) -> 0 | N13: =ROUND(I13*F13,2) -> 0 | O13: =ROUND(J13*F13,2) -> 0 | P13: =ROUND(K13*F13,2) -> 0 | Q13: =SUM(N13:P13) -> 0
C14: Montāžas un palaišanas darbi
A15: 1.1 | C15: Ventilācijas iekārta ar rotora tipa siltummaini ar mitruma atgūšanas funkciju, ūdens/glikola sildītāju, ūdens/glikola dzesēšanas sekciju, filtriem, ventilatoriem, noslēgvārstiem un automātiku. Qp=1200 m3/h, 250 Pa; Qn=1200 m3/h, 250 Pa VVS021-R-FRCVH + VVS021-L-FVR | E15: kpl | F15: 1 | K15: =I15*0.15 -> 0 | L15: =SUM(I15:K15) -> 0 | M15: =ROUND(G15*F15,2) -> 0 | N15: =ROUND(I15*F15,2) -> 0 | O15: =ROUND(J15*F15,2) -> 0 | P15: =ROUND(K15*F15,2) -> 0 | Q15: =SUM(N15:P15) -> 0
A16: 1.2 | C16: Ventilācijas iekārta ar rotora tipa siltummaini ar mitruma atgūšanas funkciju, ūdens/glikola sildītāju, ūdens/glikola dzesēšanas sekciju, filtriem, ventilatoriem, noslēgvārstiem un automātiku. Qp=2700 m3/h, 250 Pa; Qn=2700 m3/h, 250 Pa VVS030-R-FRCVH + VVS030-L-FVR | E16: kpl | F16: 1 | K16: =I16*0.15 -> 0 | L16: =SUM(I16:K16) -> 0 | M16: =ROUND(G16*F16,2) -> 0 | N16: =ROUND(I16*F16,2) -> 0 | O16: =ROUND(J16*F16,2) -> 0 | P16: =ROUND(K16*F16,2) -> 0 | Q16: =SUM(N16:P16) -> 0
A17: 1.3 | C17: Ventilācijas iekārta ar rotora tipa siltummaini ar mitruma atgūšanas funkciju, ūdens/glikola sildītāju, ūdens/glikola dzesēšanas sekciju, filtriem, ventilatoriem, noslēgvārstiem un automātiku. Qp=1200 m3/h, 250 Pa; Qn=1200 m3/h, 250 Pa VVS021-R-FRCVH + VVS021-L-FVR | E17: kpl | F17: 1 | K17: =I17*0.15 -> 0 | L17: =SUM(I17:K17) -> 0 | M17: =ROUND(G17*F17,2) -> 0 | N17: =ROUND(I17*F17,2) -> 0 | O17: =ROUND(J17*F17,2) -> 0 | P17: =ROUND(K17*F17,2) -> 0 | Q17: =SUM(N17:P17) -> 0
A18: 1.4 | C18: Kanāla ventilators komplektā ar vadības automātiku. Qp=800 m3/h, 250 Pa; TD-1300/250 Silent | E18: kpl | F18: 1 | K18: =0.15*I18 -> 0 | L18: =SUM(I18:K18) -> 0 | M18: =ROUND(G18*F18,2) -> 0 | N18: =ROUND(I18*F18,2) -> 0 | O18: =ROUND(J18*F18,2) -> 0 | P18: =ROUND(K18*F18,2) -> 0 | Q18: =SUM(N18:P18) -> 0
A19: 1.5 | C19: Kanāla ventilators komplektā ar vadības automātiku. Qn=800 m3/h, 250 Pa; TD-1300/250 Silent | E19: kpl | F19: 1 | K19: =0.15*I19 -> 0 | L19: =SUM(I19:K19) -> 0 | M19: =ROUND(G19*F19,2) -> 0 | N19: =ROUND(I19*F19,2) -> 0 | O19: =ROUND(J19*F19,2) -> 0 | P19: =ROUND(K19*F19,2) -> 0 | Q19: =SUM(N19:P19) -> 0
A20: 1.6 | C20: Kanāla filtra kasetne komplektā ar filtru M5 FKAK-250 | E20: kpl | F20: 1 | K20: =0.15*I20 -> 0 | L20: =SUM(I20:K20) -> 0 | M20: =ROUND(G20*F20,2) -> 0 | N20: =ROUND(I20*F20,2) -> 0 | O20: =ROUND(J20*F20,2) -> 0 | P20: =ROUND(K20*F20,2) -> 0 | Q20: =SUM(N20:P20) -> 0
A21: 1.7 | C21: Kanāla filtra kasetne komplektā ar filtru G4 FKAP-250 | E21: kpl | F21: 1 | K21: =0.15*I21 -> 0 | L21: =SUM(I21:K21) -> 0 | M21: =ROUND(G21*F21,2) -> 0 | N21: =ROUND(I21*F21,2) -> 0 | O21: =ROUND(J21*F21,2) -> 0 | P21: =ROUND(K21*F21,2) -> 0 | Q21: =SUM(N21:P21) -> 0
A22: 1.8 | C22: Gaisa vads no cinkotā skārda Ø125 | E22: m. | F22: 12 | K22: =0.15*I22 -> 0 | L22: =SUM(I22:K22) -> 0 | M22: =ROUND(G22*F22,2) -> 0 | N22: =ROUND(I22*F22,2) -> 0 | O22: =ROUND(J22*F22,2) -> 0 | P22: =ROUND(K22*F22,2) -> 0 | Q22: =SUM(N22:P22) -> 0
A23: 1.9 | C23: Gaisa vads no cinkotā skārda Ø160 | E23: m. | F23: 9 | K23: =0.15*I23 -> 0 | L23: =SUM(I23:K23) -> 0 | M23: =ROUND(G23*F23,2) -> 0 | N23: =ROUND(I23*F23,2) -> 0 | O23: =ROUND(J23*F23,2) -> 0 | P23: =ROUND(K23*F23,2) -> 0 | Q23: =SUM(N23:P23) -> 0
A24: 1.10 | C24: Gaisa vads no cinkotā skārda Ø200 | E24: m. | F24: 36 | K24: =0.15*I24 -> 0 | L24: =SUM(I24:K24) -> 0 | M24: =ROUND(G24*F24,2) -> 0 | N24: =ROUND(I24*F24,2) -> 0 | O24: =ROUND(J24*F24,2) -> 0 | P24: =ROUND(K24*F24,2) -> 0 | Q24: =SUM(N24:P24) -> 0
A25: 1.11 | C25: Gaisa vads no cinkotā skārda Ø250 | E25: m. | F25: 16 | K25: =0.15*I25 -> 0 | L25: =SUM(I25:K25) -> 0 | M25: =ROUND(G25*F25,2) -> 0 | N25: =ROUND(I25*F25,2) -> 0 | O25: =ROUND(J25*F25,2) -> 0 | P25: =ROUND(K25*F25,2) -> 0 | Q25: =SUM(N25:P25) -> 0
A26: 1.12 | C26: Gaisa vads no cinkotā skārda Ø315 | E26: m. | F26: 19 | K26: =0.15*I26 -> 0 | L26: =SUM(I26:K26) -> 0 | M26: =ROUND(G26*F26,2) -> 0 | N26: =ROUND(I26*F26,2) -> 0 | O26: =ROUND(J26*F26,2) -> 0 | P26: =ROUND(K26*F26,2) -> 0 | Q26: =SUM(N26:P26) -> 0
A27: 1.13 | C27: Līkums-45 no cinkotā skārda Ø200 | E27: gb | F27: 8 | K27: =0.15*I27 -> 0 | L27: =SUM(I27:K27) -> 0 | M27: =ROUND(G27*F27,2) -> 0 | N27: =ROUND(I27*F27,2) -> 0 | O27: =ROUND(J27*F27,2) -> 0 | P27: =ROUND(K27*F27,2) -> 0 | Q27: =SUM(N27:P27) -> 0
A28: 1.14 | C28: Līkums-45 no cinkotā skārda Ø250 | E28: gb | F28: 4 | K28: =0.15*I28 -> 0 | L28: =SUM(I28:K28) -> 0 | M28: =ROUND(G28*F28,2) -> 0 | N28: =ROUND(I28*F28,2) -> 0 | O28: =ROUND(J28*F28,2) -> 0 | P28: =ROUND(K28*F28,2) -> 0 | Q28: =SUM(N28:P28) -> 0
A29: 1.15 | C29: Līkums-45 no cinkotā skārda Ø315 | E29: gb | F29: 4 | K29: =0.15*I29 -> 0 | L29: =SUM(I29:K29) -> 0 | M29: =ROUND(G29*F29,2) -> 0 | N29: =ROUND(I29*F29,2) -> 0 | O29: =ROUND(J29*F29,2) -> 0 | P29: =ROUND(K29*F29,2) -> 0 | Q29: =SUM(N29:P29) -> 0
... A46: 1.32 | C46: Pāreja no cinkotā skārda 315/250 | E46: gb | F46: 2 | K46: =0.15*I46 -> 0 | L46: =SUM(I46:K46) -> 0 | M46: =ROUND(G46*F46,2) -> 0 | N46: =ROUND(I46*F46,2) -> 0 | O46: =ROUND(J46*F46,2) -> 0 | P46: =ROUND(K46*F46,2) -> 0 | Q46: =SUM(N46:P46) -> 0
A47: 1.33 | C47: Pieplūdes / nosūces difuzors LCS-2-160 4-way | E47: gb | F47: 3 | K47: =I47*0.15 -> 0 | L47: =SUM(I47:K47) -> 0 | M47: =ROUND(G47*F47,2) -> 0 | N47: =ROUND(I47*F47,2) -> 0 | O47: =ROUND(J47*F47,2) -> 0 | P47: =ROUND(K47*F47,2) -> 0 | Q47: =SUM(N47:P47) -> 0
A48: 1.34 | C48: Pieplūdes / nosūces difuzors LCS-2-200 4-way | E48: gb | F48: 4 | K48: =I48*0.15 -> 0 | L48: =SUM(I48:K48) -> 0 | M48: =ROUND(G48*F48,2) -> 0 | N48: =ROUND(I48*F48,2) -> 0 | O48: =ROUND(J48*F48,2) -> 0 | P48: =ROUND(K48*F48,2) -> 0 | Q48: =SUM(N48:P48) -> 0
A49: 1.35 | C49: Pieplūdes / nosūces difuzors LCS-2-250 4-way | E49: gb | F49: 3 | K49: =I49*0.15 -> 0 | L49: =SUM(I49:K49) -> 0 | M49: =ROUND(G49*F49,2) -> 0 | N49: =ROUND(I49*F49,2) -> 0 | O49: =ROUND(J49*F49,2) -> 0 | P49: =ROUND(K49*F49,2) -> 0 | Q49: =SUM(N49:P49) -> 0
A50: 1.36 | C50: Nosūces difuzors KWI-125 | E50: gb | F50: 2 | K50: =I50*0.15 -> 0 | L50: =SUM(I50:K50) -> 0 | M50: =ROUND(G50*F50,2) -> 0 | N50: =ROUND(I50*F50,2) -> 0 | O50: =ROUND(J50*F50,2) -> 0 | P50: =ROUND(K50*F50,2) -> 0 | Q50: =SUM(N50:P50) -> 0
A51: 1.37 | C51: Nosūces difuzors KWI-160 | E51: gb | F51: 1 | K51: =I51*0.15 -> 0 | L51: =SUM(I51:K51) -> 0 | M51: =ROUND(G51*F51,2) -> 0 | N51: =ROUND(I51*F51,2) -> 0 | O51: =ROUND(J51*F51,2) -> 0 | P51: =ROUND(K51*F51,2) -> 0 | Q51: =SUM(N51:P51) -> 0
A52: 1.38 | C52: Regulēšanas vārsts IRIS-Ø125 | E52: gb | F52: 2 | K52: =0.15*I52 -> 0 | L52: =SUM(I52:K52) -> 0 | M52: =ROUND(G52*F52,2) -> 0 | N52: =ROUND(I52*F52,2) -> 0 | O52: =ROUND(J52*F52,2) -> 0 | P52: =ROUND(K52*F52,2) -> 0 | Q52: =SUM(N52:P52) -> 0
A53: 1.39 | C53: Regulēšanas vārsts IRIS-Ø160 | E53: gb | F53: 5 | K53: =0.15*I53 -> 0 | L53: =SUM(I53:K53) -> 0 | M53: =ROUND(G53*F53,2) -> 0 | N53: =ROUND(I53*F53,2) -> 0 | O53: =ROUND(J53*F53,2) -> 0 | P53: =ROUND(K53*F53,2) -> 0 | Q53: =SUM(N53:P53) -> 0
A54: 1.40 | C54: Regulēšanas vārsts IRIS-Ø200 | E54: gb | F54: 6 | K54: =0.15*I54 -> 0 | L54: =SUM(I54:K54) -> 0 | M54: =ROUND(G54*F54,2) -> 0 | N54: =ROUND(I54*F54,2) -> 0 | O54: =ROUND(J54*F54,2) -> 0 | P54: =ROUND(K54*F54,2) -> 0 | Q54: =SUM(N54:P54) -> 0
A55: 1.41 | C55: Ugunsdrošais reste sienā 150x150 | E55: gb | F55: 2 | K55: =0.15*I55 -> 0 | L55: =SUM(I55:K55) -> 0 | M55: =ROUND(G55*F55,2) -> 0 | N55: =ROUND(I55*F55,2) -> 0 | O55: =ROUND(J55*F55,2) -> 0 | P55: =ROUND(K55*F55,2) -> 0 | Q55: =SUM(N55:P55) -> 0
A56: 1.42 | C56: Ugunsdrošais vārsts EI-120 UVA-120H-Ø100 | E56: gb | F56: 2 | K56: =0.15*I56 -> 0 | L56: =SUM(I56:K56) -> 0 | M56: =ROUND(G56*F56,2) -> 0 | N56: =ROUND(I56*F56,2) -> 0 | O56: =ROUND(J56*F56,2) -> 0 | P56: =ROUND(K56*F56,2) -> 0 | Q56: =SUM(N56:P56) -> 0
A57: 1.43 | C57: Tvaika pretkondensāta izolācija K-flex ST 13 mm | E57: m2 | F57: 58 | K57: =0.15*I57 -> 0 | L57: =SUM(I57:K57) -> 0 | M57: =ROUND(G57*F57,2) -> 0 | N57: =ROUND(I57*F57,2) -> 0 | O57: =ROUND(J57*F57,2) -> 0 | P57: =ROUND(K57*F57,2) -> 0 | Q57: =SUM(N57:P57) -> 0
A58: 1.44 | C58: Gaisa vads no cinkotā skārda Ø315 | E58: m. | F58: 7 | K58: =0.15*I58 -> 0 | L58: =SUM(I58:K58) -> 0 | M58: =ROUND(G58*F58,2) -> 0 | N58: =ROUND(I58*F58,2) -> 0 | O58: =ROUND(J58*F58,2) -> 0 | P58: =ROUND(K58*F58,2) -> 0 | Q58: =SUM(N58:P58) -> 0
A59: 1.45 | C59: Līkums-45 no cinkotā skārda Ø315 | E59: gb | F59: 2 | K59: =0.15*I59 -> 0 | L59: =SUM(I59:K59) -> 0 | M59: =ROUND(G59*F59,2) -> 0 | N59: =ROUND(I59*F59,2) -> 0 | O59: =ROUND(J59*F59,2) -> 0 | P59: =ROUND(K59*F59,2) -> 0 | Q59: =SUM(N59:P59) -> 0
A60: 1.46 | C60: Ugunsdrošais vārsts EI-120 UVA-120H-Ø315 | E60: gb | F60: 2 | K60: =0.15*I60 -> 0 | L60: =SUM(I60:K60) -> 0 | M60: =ROUND(G60*F60,2) -> 0 | N60: =ROUND(I60*F60,2) -> 0 | O60: =ROUND(J60*F60,2) -> 0 | P60: =ROUND(K60*F60,2) -> 0 | Q60: =SUM(N60:P60) -> 0
A61: 1.47 | C61: Tvaika pretkondensāta izolācija K-flex ST 13 mm | E61: m2 | F61: 6 | K61: =0.15*I61 -> 0 | L61: =SUM(I61:K61) -> 0 | M61: =ROUND(G61*F61,2) -> 0 | N61: =ROUND(I61*F61,2) -> 0 | O61: =ROUND(J61*F61,2) -> 0 | P61: =ROUND(K61*F61,2) -> 0 | Q61: =SUM(N61:P61) -> 0
A62: 1.48 | C62: Gaisa vads no cinkotā skārda Ø315 | E62: m. | F62: 5 | K62: =0.15*I62 -> 0 | L62: =SUM(I62:K62) -> 0 | M62: =ROUND(G62*F62,2) -> 0 | N62: =ROUND(I62*F62,2) -> 0 | O62: =ROUND(J62*F62,2) -> 0 | P62: =ROUND(K62*F62,2) -> 0 | Q62: =SUM(N62:P62) -> 0
A63: 1.49 | C63: Līkums-45 no cinkotā skārda Ø315 | E63: gb | F63: 4 | K63: =0.15*I63 -> 0 | L63: =SUM(I63:K63) -> 0 | M63: =ROUND(G63*F63,2) -> 0 | N63: =ROUND(I63*F63,2) -> 0 | O63: =ROUND(J63*F63,2) -> 0 | P63: =ROUND(K63*F63,2) -> 0 | Q63: =SUM(N63:P63) -> 0
... A101: 1.87 | C101: Pāreja no cinkotā skārda 315/315/250 | E101: gb | F101: 4 | K101: =0.15*I101 -> 0 | L101: =SUM(I101:K101) -> 0 | M101: =ROUND(G101*F101,2) -> 0 | N101: =ROUND(I101*F101,2) -> 0 | O101: =ROUND(J101*F101,2) -> 0 | P101: =ROUND(K101*F101,2) -> 0 | Q101: =SUM(N101:P101) -> 0
A102: 1.88 | C102: Pieplūdes / nosūces difuzors LCS-2-160 4-way | E102: gb | F102: 6 | K102: =I102*0.15 -> 0 | L102: =SUM(I102:K102) -> 0 | M102: =ROUND(G102*F102,2) -> 0 | N102: =ROUND(I102*F102,2) -> 0 | O102: =ROUND(J102*F102,2) -> 0 | P102: =ROUND(K102*F102,2) -> 0 | Q102: =SUM(N102:P102) -> 0
A103: 1.89 | C103: Pieplūdes / nosūces difuzors LCS-2-200 4-way | E103: gb | F103: 7 | K103: =I103*0.15 -> 0 | L103: =SUM(I103:K103) -> 0 | M103: =ROUND(G103*F103,2) -> 0 | N103: =ROUND(I103*F103,2) -> 0 | O103: =ROUND(J103*F103,2) -> 0 | P103: =ROUND(K103*F103,2) -> 0 | Q103: =SUM(N103:P103) -> 0
A104: 1.90 | C104: Pieplūdes / nosūces difuzors LCS-2-250 4-way | E104: gb | F104: 3 | K104: =I104*0.15 -> 0 | L104: =SUM(I104:K104) -> 0 | M104: =ROUND(G104*F104,2) -> 0 | N104: =ROUND(I104*F104,2) -> 0 | O104: =ROUND(J104*F104,2) -> 0 | P104: =ROUND(K104*F104,2) -> 0 | Q104: =SUM(N104:P104) -> 0
A105: 1.91 | C105: Nosūces difuzors KWI-125 | E105: gb | F105: 3 | K105: =I105*0.15 -> 0 | L105: =SUM(I105:K105) -> 0 | M105: =ROUND(G105*F105,2) -> 0 | N105: =ROUND(I105*F105,2) -> 0 | O105: =ROUND(J105*F105,2) -> 0 | P105: =ROUND(K105*F105,2) -> 0 | Q105: =SUM(N105:P105) -> 0
A106: 1.92 | C106: Gala vāks ar sietu d315 | E106: gb | F106: 1 | K106: =I106*0.15 -> 0 | L106: =SUM(I106:K106) -> 0 | M106: =ROUND(G106*F106,2) -> 0 | N106: =ROUND(I106*F106,2) -> 0 | O106: =ROUND(J106*F106,2) -> 0 | P106: =ROUND(K106*F106,2) -> 0 | Q106: =SUM(N106:P106) -> 0
A107: 1.93 | C107: Regulēšanas vārsts IRIS-Ø125 | E107: gb | F107: 7 | K107: =0.15*I107 -> 0 | L107: =SUM(I107:K107) -> 0 | M107: =ROUND(G107*F107,2) -> 0 | N107: =ROUND(I107*F107,2) -> 0 | O107: =ROUND(J107*F107,2) -> 0 | P107: =ROUND(K107*F107,2) -> 0 | Q107: =SUM(N107:P107) -> 0
A108: 1.94 | C108: Regulēšanas vārsts IRIS-Ø160 | E108: gb | F108: 8 | K108: =0.15*I108 -> 0 | L108: =SUM(I108:K108) -> 0 | M108: =ROUND(G108*F108,2) -> 0 | N108: =ROUND(I108*F108,2) -> 0 | O108: =ROUND(J108*F108,2) -> 0 | P108: =ROUND(K108*F108,2) -> 0 | Q108: =SUM(N108:P108) -> 0
A109: 1.95 | C109: Regulēšanas vārsts IRIS-Ø200 | E109: gb | F109: 7 | K109: =0.15*I109 -> 0 | L109: =SUM(I109:K109) -> 0 | M109: =ROUND(G109*F109,2) -> 0 | N109: =ROUND(I109*F109,2) -> 0 | O109: =ROUND(J109*F109,2) -> 0 | P109: =ROUND(K109*F109,2) -> 0 | Q109: =SUM(N109:P109) -> 0
A110: 1.96 | C110: Regulēšanas vārsts IRIS-Ø250 | E110: gb | F110: 5 | K110: =0.15*I110 -> 0 | L110: =SUM(I110:K110) -> 0 | M110: =ROUND(G110*F110,2) -> 0 | N110: =ROUND(I110*F110,2) -> 0 | O110: =ROUND(J110*F110,2) -> 0 | P110: =ROUND(K110*F110,2) -> 0 | Q110: =SUM(N110:P110) -> 0
A111: 1.97 | C111: Mainīgās plūsmas regulēšanas vārsts (VAV) ar 0-10V vadību OPTIMA-LV-RI-200 | E111: gb | F111: 2 | K111: =0.15*I111 -> 0 | L111: =SUM(I111:K111) -> 0 | M111: =ROUND(G111*F111,2) -> 0 | N111: =ROUND(I111*F111,2) -> 0 | O111: =ROUND(J111*F111,2) -> 0 | P111: =ROUND(K111*F111,2) -> 0 | Q111: =SUM(N111:P111) -> 0
A112: 1.98 | C112: Ugunsdrošais vārsts EI-120 UVA-120H-Ø200 | E112: gb | F112: 1 | K112: =0.15*I112 -> 0 | L112: =SUM(I112:K112) -> 0 | M112: =ROUND(G112*F112,2) -> 0 | N112: =ROUND(I112*F112,2) -> 0 | O112: =ROUND(J112*F112,2) -> 0 | P112: =ROUND(K112*F112,2) -> 0 | Q112: =SUM(N112:P112) -> 0
A113: 1.99 | C113: Ugunsdrošais vārsts EI-120 UVA-120H-Ø315 | E113: gb | F113: 2 | K113: =0.15*I113 -> 0 | L113: =SUM(I113:K113) -> 0 | M113: =ROUND(G113*F113,2) -> 0 | N113: =ROUND(I113*F113,2) -> 0 | O113: =ROUND(J113*F113,2) -> 0 | P113: =ROUND(K113*F113,2) -> 0 | Q113: =SUM(N113:P113) -> 0
A114: 1.100 | C114: Tvaika pretkondensāta izolācija K-flex ST 13 mm | E114: m2 | F114: 71 | K114: =0.15*I114 -> 0 | L114: =SUM(I114:K114) -> 0 | M114: =ROUND(G114*F114,2) -> 0 | N114: =ROUND(I114*F114,2) -> 0 | O114: =ROUND(J114*F114,2) -> 0 | P114: =ROUND(K114*F114,2) -> 0 | Q114: =SUM(N114:P114) -> 0
A115: 1.101 | C115: Trokšņu slāpētājs SLGU-250-1200-100 | E115: gb | F115: 2 | K115: =0.15*I115 -> 0 | L115: =SUM(I115:K115) -> 0 | M115: =ROUND(G115*F115,2) -> 0 | N115: =ROUND(I115*F115,2) -> 0 | O115: =ROUND(J115*F115,2) -> 0 | P115: =ROUND(K115*F115,2) -> 0 | Q115: =SUM(N115:P115) -> 0
A116: 1.102 | C116: Tekstila tipa difuzors ar mikroperforāciju komplektā ar stiprinājumiem Ø250 720 m3/h | E116: kpl | F116: 2 | K116: =0.15*I116 -> 0 | L116: =SUM(I116:K116) -> 0 | M116: =ROUND(G116*F116,2) -> 0 | N116: =ROUND(I116*F116,2) -> 0 | O116: =ROUND(J116*F116,2) -> 0 | P116: =ROUND(K116*F116,2) -> 0 | Q116: =SUM(N116:P116) -> 0
A117: 1.103 | C117: CO2 sensors ar displeju un 0-10V vadību | E117: gb | F117: 2 | K117: =0.15*I117 -> 0 | L117: =SUM(I117:K117) -> 0 | M117: =ROUND(G117*F117,2) -> 0 | N117: =ROUND(I117*F117,2) -> 0 | O117: =ROUND(J117*F117,2) -> 0 | P117: =ROUND(K117*F117,2) -> 0 | Q117: =SUM(N117:P117) -> 0
A118: 1.104 | C118: Gaisa vads no cinkotā skārda Ø315 | E118: m. | F118: 10 | K118: =0.15*I118 -> 0 | L118: =SUM(I118:K118) -> 0 | M118: =ROUND(G118*F118,2) -> 0 | N118: =ROUND(I118*F118,2) -> 0 | O118: =ROUND(J118*F118,2) -> 0 | P118: =ROUND(K118*F118,2) -> 0 | Q118: =SUM(N118:P118) -> 0
... A167: 1.153 | C167: Pāreja no cinkotā skārda 315/250 | E167: gb | F167: 1 | K167: =0.15*I167 -> 0 | L167: =SUM(I167:K167) -> 0 | M167: =ROUND(G167*F167,2) -> 0 | N167: =ROUND(I167*F167,2) -> 0 | O167: =ROUND(J167*F167,2) -> 0 | P167: =ROUND(K167*F167,2) -> 0 | Q167: =SUM(N167:P167) -> 0
A168: 1.154 | C168: Pieplūdes / nosūces difuzors LCS-2-125 4-way | E168: gb | F168: 1 | K168: =I168*0.15 -> 0 | L168: =SUM(I168:K168) -> 0 | M168: =ROUND(G168*F168,2) -> 0 | N168: =ROUND(I168*F168,2) -> 0 | O168: =ROUND(J168*F168,2) -> 0 | P168: =ROUND(K168*F168,2) -> 0 | Q168: =SUM(N168:P168) -> 0
A169: 1.155 | C169: Pieplūdes / nosūces difuzors LCS-2-160 4-way | E169: gb | F169: 14 | K169: =I169*0.15 -> 0 | L169: =SUM(I169:K169) -> 0 | M169: =ROUND(G169*F169,2) -> 0 | N169: =ROUND(I169*F169,2) -> 0 | O169: =ROUND(J169*F169,2) -> 0 | P169: =ROUND(K169*F169,2) -> 0 | Q169: =SUM(N169:P169) -> 0
A170: 1.156 | C170: Pieplūdes / nosūces difuzors LCS-2-200 4-way | E170: gb | F170: 4 | K170: =I170*0.15 -> 0 | L170: =SUM(I170:K170) -> 0 | M170: =ROUND(G170*F170,2) -> 0 | N170: =ROUND(I170*F170,2) -> 0 | O170: =ROUND(J170*F170,2) -> 0 | P170: =ROUND(K170*F170,2) -> 0 | Q170: =SUM(N170:P170) -> 0
A171: 1.157 | C171: Nosūces difuzors KWI-125 | E171: gb | F171: 3 | K171: =I171*0.15 -> 0 | L171: =SUM(I171:K171) -> 0 | M171: =ROUND(G171*F171,2) -> 0 | N171: =ROUND(I171*F171,2) -> 0 | O171: =ROUND(J171*F171,2) -> 0 | P171: =ROUND(K171*F171,2) -> 0 | Q171: =SUM(N171:P171) -> 0
A172: 1.158 | C172: Regulēšanas vārsts IRIS-Ø125 | E172: gb | F172: 10 | K172: =0.15*I172 -> 0 | L172: =SUM(I172:K172) -> 0 | M172: =ROUND(G172*F172,2) -> 0 | N172: =ROUND(I172*F172,2) -> 0 | O172: =ROUND(J172*F172,2) -> 0 | P172: =ROUND(K172*F172,2) -> 0 | Q172: =SUM(N172:P172) -> 0
A173: 1.159 | C173: Regulēšanas vārsts IRIS-Ø160 | E173: gb | F173: 11 | K173: =0.15*I173 -> 0 | L173: =SUM(I173:K173) -> 0 | M173: =ROUND(G173*F173,2) -> 0 | N173: =ROUND(I173*F173,2) -> 0 | O173: =ROUND(J173*F173,2) -> 0 | P173: =ROUND(K173*F173,2) -> 0 | Q173: =SUM(N173:P173) -> 0
A174: 1.160 | C174: Regulēšanas vārsts IRIS-Ø200 | E174: gb | F174: 3 | K174: =0.15*I174 -> 0 | L174: =SUM(I174:K174) -> 0 | M174: =ROUND(G174*F174,2) -> 0 | N174: =ROUND(I174*F174,2) -> 0 | O174: =ROUND(J174*F174,2) -> 0 | P174: =ROUND(K174*F174,2) -> 0 | Q174: =SUM(N174:P174) -> 0
A175: 1.161 | C175: Regulēšanas vārsts IRIS-Ø250 | E175: gb | F175: 1 | K175: =0.15*I175 -> 0 | L175: =SUM(I175:K175) -> 0 | M175: =ROUND(G175*F175,2) -> 0 | N175: =ROUND(I175*F175,2) -> 0 | O175: =ROUND(J175*F175,2) -> 0 | P175: =ROUND(K175*F175,2) -> 0 | Q175: =SUM(N175:P175) -> 0
A176: 1.162 | C176: Regulēšanas vārsts IRIS-Ø315 | E176: gb | F176: 1 | K176: =0.15*I176 -> 0 | L176: =SUM(I176:K176) -> 0 | M176: =ROUND(G176*F176,2) -> 0 | N176: =ROUND(I176*F176,2) -> 0 | O176: =ROUND(J176*F176,2) -> 0 | P176: =ROUND(K176*F176,2) -> 0 | Q176: =SUM(N176:P176) -> 0
A177: 1.163 | C177: Ugunsdrošais vārsts EI-120 UVA-120H-Ø315 | E177: gb | F177: 2 | K177: =0.15*I177 -> 0 | L177: =SUM(I177:K177) -> 0 | M177: =ROUND(G177*F177,2) -> 0 | N177: =ROUND(I177*F177,2) -> 0 | O177: =ROUND(J177*F177,2) -> 0 | P177: =ROUND(K177*F177,2) -> 0 | Q177: =SUM(N177:P177) -> 0
A178: 1.164 | C178: Tvaika pretkondensāta izolācija K-flex ST 13 mm | E178: m2 | F178: 72 | K178: =0.15*I178 -> 0 | L178: =SUM(I178:K178) -> 0 | M178: =ROUND(G178*F178,2) -> 0 | N178: =ROUND(I178*F178,2) -> 0 | O178: =ROUND(J178*F178,2) -> 0 | P178: =ROUND(K178*F178,2) -> 0 | Q178: =SUM(N178:P178) -> 0
A179: 1.165 | C179: Gaisa vads no cinkotā skārda Ø315 | E179: m. | F179: 16 | K179: =0.15*I179 -> 0 | L179: =SUM(I179:K179) -> 0 | M179: =ROUND(G179*F179,2) -> 0 | N179: =ROUND(I179*F179,2) -> 0 | O179: =ROUND(J179*F179,2) -> 0 | P179: =ROUND(K179*F179,2) -> 0 | Q179: =SUM(N179:P179) -> 0
A180: 1.166 | C180: Līkums-45 no cinkotā skārda Ø315 | E180: gb | F180: 13 | K180: =0.15*I180 -> 0 | L180: =SUM(I180:K180) -> 0 | M180: =ROUND(G180*F180,2) -> 0 | N180: =ROUND(I180*F180,2) -> 0 | O180: =ROUND(J180*F180,2) -> 0 | P180: =ROUND(K180*F180,2) -> 0 | Q180: =SUM(N180:P180) -> 0
A181: 1.167 | C181: Līkums-90 no cinkotā skārda Ø315 | E181: gb | F181: 6 | K181: =0.15*I181 -> 0 | L181: =SUM(I181:K181) -> 0 | M181: =ROUND(G181*F181,2) -> 0 | N181: =ROUND(I181*F181,2) -> 0 | O181: =ROUND(J181*F181,2) -> 0 | P181: =ROUND(K181*F181,2) -> 0 | Q181: =SUM(N181:P181) -> 0
A182: 1.168 | C182: Pāreja no cinkotā skārda 315/801x313 | E182: gb | F182: 4 | K182: =0.15*I182 -> 0 | L182: =SUM(I182:K182) -> 0 | M182: =ROUND(G182*F182,2) -> 0 | N182: =ROUND(I182*F182,2) -> 0 | O182: =ROUND(J182*F182,2) -> 0 | P182: =ROUND(K182*F182,2) -> 0 | Q182: =SUM(N182:P182) -> 0
A183: 1.169 | C183: Trokšņu slāpētājs SLBGU-315-1200-100 | E183: gb | F183: 4 | K183: =0.15*I183 -> 0 | L183: =SUM(I183:K183) -> 0 | M183: =ROUND(G183*F183,2) -> 0 | N183: =ROUND(I183*F183,2) -> 0 | O183: =ROUND(J183*F183,2) -> 0 | P183: =ROUND(K183*F183,2) -> 0 | Q183: =SUM(N183:P183) -> 0
... A216: 1.202 | C216: Gaisa izmešanas elements ar sietu AHIA-250 | E216: gb | F216: 1 | K216: =0.15*I216 -> 0 | L216: =SUM(I216:K216) -> 0 | M216: =ROUND(G216*F216,2) -> 0 | N216: =ROUND(I216*F216,2) -> 0 | O216: =ROUND(J216*F216,2) -> 0 | P216: =ROUND(K216*F216,2) -> 0 | Q216: =SUM(N216:P216) -> 0
A217: 1.203 | C217: Pieplūdes / nosūces elements ar sietu AKTT-160 | E217: gb | F217: 4 | K217: =I217*0.15 -> 0 | L217: =SUM(I217:K217) -> 0 | M217: =ROUND(G217*F217,2) -> 0 | N217: =ROUND(I217*F217,2) -> 0 | O217: =ROUND(J217*F217,2) -> 0 | P217: =ROUND(K217*F217,2) -> 0 | Q217: =SUM(N217:P217) -> 0
A218: 1.204 | C218: Regulēšanas vārsts IRIS-Ø160 | E218: gb | F218: 4 | K218: =0.15*I218 -> 0 | L218: =SUM(I218:K218) -> 0 | M218: =ROUND(G218*F218,2) -> 0 | N218: =ROUND(I218*F218,2) -> 0 | O218: =ROUND(J218*F218,2) -> 0 | P218: =ROUND(K218*F218,2) -> 0 | Q218: =SUM(N218:P218) -> 0
A219: 1.205 | C219: Ugunsdrošais vārsts EI-120 UVA-120H-Ø250 | E219: gb | F219: 1 | K219: =0.15*I219 -> 0 | L219: =SUM(I219:K219) -> 0 | M219: =ROUND(G219*F219,2) -> 0 | N219: =ROUND(I219*F219,2) -> 0 | O219: =ROUND(J219*F219,2) -> 0 | P219: =ROUND(K219*F219,2) -> 0 | Q219: =SUM(N219:P219) -> 0
A220: 1.206 | C220: Āra reste YGAV-1000 | E220: gb | F220: 4 | K220: =0.15*I220 -> 0 | L220: =SUM(I220:K220) -> 0 | M220: =ROUND(G220*F220,2) -> 0 | N220: =ROUND(I220*F220,2) -> 0 | O220: =ROUND(J220*F220,2) -> 0 | P220: =ROUND(K220*F220,2) -> 0 | Q220: =SUM(N220:P220) -> 0
A221: 1.207 | C221: Ugunsdrošais blīvējums EI120 | E221: kpl | F221: 1 | K221: =0.15*I221 -> 0 | L221: =SUM(I221:K221) -> 0 | M221: =ROUND(G221*F221,2) -> 0 | N221: =ROUND(I221*F221,2) -> 0 | O221: =ROUND(J221*F221,2) -> 0 | P221: =ROUND(K221*F221,2) -> 0 | Q221: =SUM(N221:P221) -> 0
A222: 1.208 | C222: Caurumu urbšana | E222: kpl | F222: 1 | L222: =SUM(I222:K222) -> 0 | M222: =ROUND(G222*F222,2) -> 0 | N222: =ROUND(I222*F222,2) -> 0 | O222: =ROUND(J222*F222,2) -> 0 | P222: =ROUND(K222*F222,2) -> 0 | Q222: =SUM(N222:P222) -> 0
A223: 1.209 | C223: Tīrīšanas lūkas gaisa vadam | E223: kpl | F223: 1 | K223: =0.15*I223 -> 0 | L223: =SUM(I223:K223) -> 0 | M223: =ROUND(G223*F223,2) -> 0 | N223: =ROUND(I223*F223,2) -> 0 | O223: =ROUND(J223*F223,2) -> 0 | P223: =ROUND(K223*F223,2) -> 0 | Q223: =SUM(N223:P223) -> 0
A224: 1.210 | C224: Armētā lenta | E224: kpl | F224: 1 | K224: =0.15*I224 -> 0 | L224: =SUM(I224:K224) -> 0 | M224: =ROUND(G224*F224,2) -> 0 | N224: =ROUND(I224*F224,2) -> 0 | O224: =ROUND(J224*F224,2) -> 0 | P224: =ROUND(K224*F224,2) -> 0 | Q224: =SUM(N224:P224) -> 0
A225: 1.211 | C225: Pretkondensāta izolācijas palīgmateriāli | E225: kpl | F225: 1 | K225: =0.15*I225 -> 0 | L225: =SUM(I225:K225) -> 0 | M225: =ROUND(G225*F225,2) -> 0 | N225: =ROUND(I225*F225,2) -> 0 | O225: =ROUND(J225*F225,2) -> 0 | P225: =ROUND(K225*F225,2) -> 0 | Q225: =SUM(N225:P225) -> 0
A226: 1.212 | C226: Stiprināšanas materiāli | E226: kpl | F226: 1 | K226: =0.15*I226 -> 0 | L226: =SUM(I226:K226) -> 0 | M226: =ROUND(G226*F226,2) -> 0 | N226: =ROUND(I226*F226,2) -> 0 | O226: =ROUND(J226*F226,2) -> 0 | P226: =ROUND(K226*F226,2) -> 0 | Q226: =SUM(N226:P226) -> 0
A227: 1.213 | C227: Blīvēšanas materiāli | E227: kpl | F227: 1 | K227: =0.15*I227 -> 0 | L227: =SUM(I227:K227) -> 0 | M227: =ROUND(G227*F227,2) -> 0 | N227: =ROUND(I227*F227,2) -> 0 | O227: =ROUND(J227*F227,2) -> 0 | P227: =ROUND(K227*F227,2) -> 0 | Q227: =SUM(N227:P227) -> 0
A228: 1.214 | C228: Gaisa vadu stiprinājumi | E228: kpl | F228: 1 | K228: =0.15*I228 -> 0 | L228: =SUM(I228:K228) -> 0 | M228: =ROUND(G228*F228,2) -> 0 | N228: =ROUND(I228*F228,2) -> 0 | O228: =ROUND(J228*F228,2) -> 0 | P228: =ROUND(K228*F228,2) -> 0 | Q228: =SUM(N228:P228) -> 0
A229: 1.215 | C229: Elektroinstalācijas materiāli | E229: kpl | F229: 1 | K229: =0.15*I229 -> 0 | L229: =SUM(I229:K229) -> 0 | M229: =ROUND(G229*F229,2) -> 0 | N229: =ROUND(I229*F229,2) -> 0 | O229: =ROUND(J229*F229,2) -> 0 | P229: =ROUND(K229*F229,2) -> 0 | Q229: =SUM(N229:P229) -> 0
A230: 1.216 | C230: Marķēšanas materiāli | E230: kpl | F230: 1 | K230: =0.15*I230 -> 0 | L230: =SUM(I230:K230) -> 0 | M230: =ROUND(G230*F230,2) -> 0 | N230: =ROUND(I230*F230,2) -> 0 | O230: =ROUND(J230*F230,2) -> 0 | P230: =ROUND(K230*F230,2) -> 0 | Q230: =SUM(N230:P230) -> 0
A231: 1.217 | C231: Palīgmateriāli | E231: kpl | F231: 1 | K231: =0.15*I231 -> 0 | L231: =SUM(I231:K231) -> 0 | M231: =ROUND(G231*F231,2) -> 0 | N231: =ROUND(I231*F231,2) -> 0 | O231: =ROUND(J231*F231,2) -> 0 | P231: =ROUND(K231*F231,2) -> 0 | Q231: =SUM(N231:P231) -> 0
G232: 0 | H232: 0
C233: Tiešās izmaksas kopā, t.sk. darba devēja sociālais nodoklis(23,59%) | M233: =SUM(M13:M232) -> 0 | N233: =SUM(N13:N232) -> 0 | O233: =SUM(O13:O232) -> 0 | P233: =SUM(P13:P232) -> 0 | Q233: =SUM(Q13:Q232) -> 0
B235: Piezīmes:
A236: Visas atsauces uz materiālu un izstrādājumu izgatavotaj firmām, kuras norādītas būvprojektā, liecina tikai par šo materiālu un izstrādājumu tehniskajiem parametriem un kvalitātes līmeni, to nomaiņa ir iespējama ar citiem tehniski un kvalitatīvi ekvivalentiem būvizstrādājumiem, iepriekš saskaņojot tos ar projekta autoriem un uzrādot atbilstības sertifikātus.
...

Sheet 2.5._VNI
H1: Lokālā tāme Nr. | I1: =kops2_VNI!B25 -> 2.5._VNI
A2: =C13 -> Gaisa kondicionēšana
C3: Būves nosaukums: | E3: =Koptame_VNI!C11 -> Ēkas pārbūve un teritorijas labiekārtošana
C4: Objekta nosaukums: | E4: =Koptame_VNI!C12 -> Ēkas pārbūve un teritorijas labiekārtošana( VNĪ līdzekļi)
C5: Objekta adrese: | E5: =Koptame_VNI!C13 -> Citadeles iela 7, Rīga
C6: =Koptame_VNI!B14 -> Pasūtījuma Nr. | E6: =Koptame_VNI!C14 -> n
A7: =Koptame_VNI!B17 -> Tāme sastādīta 2023.gada tirgus cenās, pamatojoties uz SIA „Baltex Group” būvprojekta rasējumiem un darbu apjomiem | P7: Tāmes izmaksas euro: | Q7: =Q116 -> 0
M9: =Koptame_VNI!D16 -> Tāme sastādīta:
A11: Nr.p.k. | B11: Kods | C11: Būvdarbu nosaukums | E11: Mērvienība | F11: Daudzums | G11: Vienības izmaksas | M11: Kopā uz visu apjomu
G12: Laika norma (c/h) | H12: Darba samaksas likme (euro/h) | I12: Darba alga (euro) | J12: Būvizstrādājumi (euro) | K12: Mehānismi (euro) | L12: Kopā (euro) | M12: Darbietilpība (c/h) | N12: Darba alga (euro) | O12: Būvizstrādājumi (euro) | P12: Mehānismi (euro) | Q12: Summa (euro)
B13: 0 | C13: =kops2_VNI!C25 -> Gaisa kondicionēšana | G13: 0 | H13: 0 | I13: 0 | J13: 0 | K13: 0 | L13: =SUM(I13:K13) -> 0 | M13: =ROUND(G13*F13,2) -> 0 | N13: =ROUND(I13*F13,2) -> 0 | O13: =ROUND(J13*F13,2) -> 0 | P13: =ROUND(K13*F13,2) -> 0 | Q13: =SUM(N13:P13) -> 0
C14: Montāžas un palaišanas darbi
C15: Klimata kontroles sistēma KF1; KF2; KF3 | G15: =IFERROR(ROUND(I15/H15,2),0) -> 0 | H15: =IF(I15>0,5,0) -> 0 | L15: =SUM(I15:K15) -> 0 | M15: =ROUND(G15*F15,2) -> 0 | N15: =ROUND(I15*F15,2) -> 0 | O15: =ROUND(J15*F15,2) -> 0 | P15: =ROUND(K15*F15,2) -> 0 | Q15: =SUM(N15:P15) -> 0
A16: 1 | C16: Āra freona / ūdens glikola maisījuma dzesēšanas iekārta komplektā ar vadības automātiku, siltummaini, ventilatoriem, temperatūras sensoriem, sūkni, izplešanās tvertni un stiprināšanas rāmi ar amortizatoriem Qdzes.=146 kW TA T 065 | E16: kpl | F16: 1 | K16: =I16*0.15 -> 0 | L16: =SUM(I16:K16) -> 0 | M16: =ROUND(G16*F16,2) -> 0 | N16: =ROUND(I16*F16,2) -> 0 | O16: =ROUND(J16*F16,2) -> 0 | P16: =ROUND(K16*F16,2) -> 0 | Q16: =SUM(N16:P16) -> 0
A17: 2 | C17: Telpu kasetes tipa ūdens glikola maisījuma dzesēšanas iekārta, fankoils komplektā ar vadības automātiku, temperatūras sensoriem, trīsgaitas vārstu, stiprinājumiem un dekoratīvo apvalku atklāta veida montāžai Qdzes.=3.3 kW SK22 | E17: kpl | F17: 1 | K17: =0.15*I17 -> 0 | L17: =SUM(I17:K17) -> 0 | M17: =ROUND(G17*F17,2) -> 0 | N17: =ROUND(I17*F17,2) -> 0 | O17: =ROUND(J17*F17,2) -> 0 | P17: =ROUND(K17*F17,2) -> 0 | Q17: =SUM(N17:P17) -> 0
A18: 3 | C18: Telpu kasetes tipa ūdens glikola maisījuma dzesēšanas iekārta, fankoils komplektā ar vadības automātiku, temperatūras sensoriem, trīsgaitas vārstu, stiprinājumiem un dekoratīvo apvalku atklāta veida montāžai Qdzes.=4.86 kW SK42 | E18: kpl | F18: 3 | K18: =0.15*I18 -> 0 | L18: =SUM(I18:K18) -> 0 | M18: =ROUND(G18*F18,2) -> 0 | N18: =ROUND(I18*F18,2) -> 0 | O18: =ROUND(J18*F18,2) -> 0 | P18: =ROUND(K18*F18,2) -> 0 | Q18: =SUM(N18:P18) -> 0
A19: 4 | C19: Telpu kasetes tipa ūdens glikola maisījuma dzesēšanas iekārta, fankoils komplektā ar vadības automātiku, temperatūras sensoriem, trīsgaitas vārstu, stiprinājumiem un dekoratīvo apvalku atklāta veida montāžai Qdzes.=3.3 kW SK22 | E19: kpl | F19: 5 | K19: =0.15*I19 -> 0 | L19: =SUM(I19:K19) -> 0 | M19: =ROUND(G19*F19,2) -> 0 | N19: =ROUND(I19*F19,2) -> 0 | O19: =ROUND(J19*F19,2) -> 0 | P19: =ROUND(K19*F19,2) -> 0 | Q19: =SUM(N19:P19) -> 0
A20: 5 | C20: Telpu kasetes tipa ūdens glikola maisījuma dzesēšanas iekārta, fankoils komplektā ar vadības automātiku, temperatūras sensoriem, trīsgaitas vārstu, stiprinājumiem un dekoratīvo apvalku atklāta veida montāžai Qdzes.=4.86 kW SK42 | E20: kpl | F20: 4 | K20: =0.15*I20 -> 0 | L20: =SUM(I20:K20) -> 0 | M20: =ROUND(G20*F20,2) -> 0 | N20: =ROUND(I20*F20,2) -> 0 | O20: =ROUND(J20*F20,2) -> 0 | P20: =ROUND(K20*F20,2) -> 0 | Q20: =SUM(N20:P20) -> 0
A21: 6 | C21: Telpu kasetes tipa ūdens glikola maisījuma dzesēšanas iekārta, fankoils komplektā ar vadības automātiku, temperatūras sensoriem, trīsgaitas vārstu, stiprinājumiem un dekoratīvo apvalku atklāta veida montāžai Qdzes.=3.3 kW SK22 | E21: kpl | F21: 5 | K21: =0.15*I21 -> 0 | L21: =SUM(I21:K21) -> 0 | M21: =ROUND(G21*F21,2) -> 0 | N21: =ROUND(I21*F21,2) -> 0 | O21: =ROUND(J21*F21,2) -> 0 | P21: =ROUND(K21*F21,2) -> 0 | Q21: =SUM(N21:P21) -> 0
A22: 7 | C22: Telpu kasetes tipa ūdens glikola maisījuma dzesēšanas iekārta, fankoils komplektā ar vadības automātiku, temperatūras sensoriem, trīsgaitas vārstu, stiprinājumiem un dekoratīvo apvalku atklāta veida montāžai Qdzes.=4.86 kW SK42 | E22: kpl | F22: 4 | K22: =0.15*I22 -> 0 | L22: =SUM(I22:K22) -> 0 | M22: =ROUND(G22*F22,2) -> 0 | N22: =ROUND(I22*F22,2) -> 0 | O22: =ROUND(J22*F22,2) -> 0 | P22: =ROUND(K22*F22,2) -> 0 | Q22: =SUM(N22:P22) -> 0
A23: 8 | C23: Āra freona dzesēšanas bloks komplektā ar vadības automātiku, temperatūras sensoriem un stiprināšanas rāmi (h=500 mm no zemes, dubultais stiprinājuma rāmis diviem blokiem, viens virs otra) Qdzes.=3.50 kW RZAG-35A | E23: kpl | F23: 2 | K23: =0.15*I23 -> 0 | L23: =SUM(I23:K23) -> 0 | M23: =ROUND(G23*F23,2) -> 0 | N23: =ROUND(I23*F23,2) -> 0 | O23: =ROUND(J23*F23,2) -> 0 | P23: =ROUND(K23*F23,2) -> 0 | Q23: =SUM(N23:P23) -> 0
A24: 9 | C24: Telpu freona dzesēšanas bloks komplektā ar vadības automātiku, temperatūras sensoriem un stiprinājumiem pie sienas Qdzes.=3.50 kW FTXM-35R | E24: kpl | F24: 2 | K24: =0.15*I24 -> 0 | L24: =SUM(I24:K24) -> 0 | M24: =ROUND(G24*F24,2) -> 0 | N24: =ROUND(I24*F24,2) -> 0 | O24: =ROUND(J24*F24,2) -> 0 | P24: =ROUND(K24*F24,2) -> 0 | Q24: =SUM(N24:P24) -> 0
A25: 10 | C25: Rūpnieciski izolēta vara caurule 1/4" | E25: m | F25: 70 | K25: =I25*0.15 -> 0 | L25: =SUM(I25:K25) -> 0 | M25: =ROUND(G25*F25,2) -> 0 | N25: =ROUND(I25*F25,2) -> 0 | O25: =ROUND(J25*F25,2) -> 0 | P25: =ROUND(K25*F25,2) -> 0 | Q25: =SUM(N25:P25) -> 0
A26: 11 | C26: Rūpnieciski izolēta vara caurule 3/8" | E26: m | F26: 70 | K26: =I26*0.15 -> 0 | L26: =SUM(I26:K26) -> 0 | M26: =ROUND(G26*F26,2) -> 0 | N26: =ROUND(I26*F26,2) -> 0 | O26: =ROUND(J26*F26,2) -> 0 | P26: =ROUND(K26*F26,2) -> 0 | Q26: =SUM(N26:P26) -> 0
A27: 12 | C27: PVC aizsargčaula caurulēm āra daļā 1/4" | E27: m | F27: 6 | K27: =I27*0.15 -> 0 | L27: =SUM(I27:K27) -> 0 | M27: =ROUND(G27*F27,2) -> 0 | N27: =ROUND(I27*F27,2) -> 0 | O27: =ROUND(J27*F27,2) -> 0 | P27: =ROUND(K27*F27,2) -> 0 | Q27: =SUM(N27:P27) -> 0
A28: 13 | C28: PVC aizsargčaula caurulēm āra daļā 3/8" | E28: m | F28: 6 | K28: =I28*0.15 -> 0 | L28: =SUM(I28:K28) -> 0 | M28: =ROUND(G28*F28,2) -> 0 | N28: =ROUND(I28*F28,2) -> 0 | O28: =ROUND(J28*F28,2) -> 0 | P28: =ROUND(K28*F28,2) -> 0 | Q28: =SUM(N28:P28) -> 0
A29: 14 | C29: Cauruļvadu veidgabali | E29: kpl | F29: 1 | K29: =I29*0.15 -> 0 | L29: =SUM(I29:K29) -> 0 | M29: =ROUND(G29*F29,2) -> 0 | N29: =ROUND(I29*F29,2) -> 0 | O29: =ROUND(J29*F29,2) -> 0 | P29: =ROUND(K29*F29,2) -> 0 | Q29: =SUM(N29:P29) -> 0
A30: 15 | C30: Kanalizācijas caurule inženierkomunikāciju ievietošanai OD110 | E30: m | F30: 30 | K30: =I30*0.15 -> 0 | L30: =SUM(I30:K30) -> 0 | M30: =ROUND(G30*F30,2) -> 0 | N30: =ROUND(I30*F30,2) -> 0 | O30: =ROUND(J30*F30,2) -> 0 | P30: =ROUND(K30*F30,2) -> 0 | Q30: =SUM(N30:P30) -> 0
A31: 16 | C31: Kanalizācijas caurules līkums-90 OD110 | E31: gb | F31: 6 | K31: =I31*0.15 -> 0 | L31: =SUM(I31:K31) -> 0 | M31: =ROUND(G31*F31,2) -> 0 | N31: =ROUND(I31*F31,2) -> 0 | O31: =ROUND(J31*F31,2) -> 0 | P31: =ROUND(K31*F31,2) -> 0 | Q31: =SUM(N31:P31) -> 0
A32: 17 | C32: Trīsceļu vārsts komplektā ar izpildmehānismu DN20; Kvs=8 CV 316 RGA + TA Slider 750 | E32: kpl | F32: 2 | K32: =0.15*I32 -> 0 | L32: =SUM(I32:K32) -> 0 | M32: =ROUND(G32*F32,2) -> 0 | N32: =ROUND(I32*F32,2) -> 0 | O32: =ROUND(J32*F32,2) -> 0 | P32: =ROUND(K32*F32,2) -> 0 | Q32: =SUM(N32:P32) -> 0
A33: 18 | C33: Trīsceļu vārsts komplektā ar izpildmehānismu DN32; Kvs=16 CV 316 RGA + TA Slider 750 | E33: kpl | F33: 1 | K33: =0.15*I33 -> 0 | L33: =SUM(I33:K33) -> 0 | M33: =ROUND(G33*F33,2) -> 0 | N33: =ROUND(I33*F33,2) -> 0 | O33: =ROUND(J33*F33,2) -> 0 | P33: =ROUND(K33*F33,2) -> 0 | Q33: =SUM(N33:P33) -> 0
A34: 19 | C34: Manometrs P=0-6 bar | E34: gb | F34: 16 | K34: =I34*0.15 -> 0 | L34: =SUM(I34:K34) -> 0 | M34: =ROUND(G34*F34,2) -> 0 | N34: =ROUND(I34*F34,2) -> 0 | O34: =ROUND(J34*F34,2) -> 0 | P34: =ROUND(K34*F34,2) -> 0 | Q34: =SUM(N34:P34) -> 0
A35: 20 | C35: Termometrs T=0-60 oC | E35: gb | F35: 16 | K35: =I35*0.15 -> 0 | L35: =SUM(I35:K35) -> 0 | M35: =ROUND(G35*F35,2) -> 0 | N35: =ROUND(I35*F35,2) -> 0 | O35: =ROUND(J35*F35,2) -> 0 | P35: =ROUND(K35*F35,2) -> 0 | Q35: =SUM(N35:P35) -> 0
A36: 21 | C36: Balansēšanas vārsts DN20 STAD-20 | E36: gb | F36: 4 | K36: =I36*0.15 -> 0 | L36: =SUM(I36:K36) -> 0 | M36: =ROUND(G36*F36,2) -> 0 | N36: =ROUND(I36*F36,2) -> 0 | O36: =ROUND(J36*F36,2) -> 0 | P36: =ROUND(K36*F36,2) -> 0 | Q36: =SUM(N36:P36) -> 0
A37: 22 | C37: Balansēšanas vārsts DN20 STAD-20 | E37: gb | F37: 9 | K37: =I37*0.15 -> 0 | L37: =SUM(I37:K37) -> 0 | M37: =ROUND(G37*F37,2) -> 0 | N37: =ROUND(I37*F37,2) -> 0 | O37: =ROUND(J37*F37,2) -> 0 | P37: =ROUND(K37*F37,2) -> 0 | Q37: =SUM(N37:P37) -> 0
A38: 23 | C38: Balansēšanas vārsts DN20 STAD-20 | E38: gb | F38: 9 | K38: =I38*0.15 -> 0 | L38: =SUM(I38:K38) -> 0 | M38: =ROUND(G38*F38,2) -> 0 | N38: =ROUND(I38*F38,2) -> 0 | O38: =ROUND(J38*F38,2) -> 0 | P38: =ROUND(K38*F38,2) -> 0 | Q38: =SUM(N38:P38) -> 0
A39: 24 | C39: Balansēšanas vārsts DN32 STAD-32 | E39: gb | F39: 4 | K39: =I39*0.15 -> 0 | L39: =SUM(I39:K39) -> 0 | M39: =ROUND(G39*F39,2) -> 0 | N39: =ROUND(I39*F39,2) -> 0 | O39: =ROUND(J39*F39,2) -> 0 | P39: =ROUND(K39*F39,2) -> 0 | Q39: =SUM(N39:P39) -> 0
A40: 25 | C40: Balansēšanas vārsts DN40 STAD-40 | E40: gb | F40: 2 | K40: =I40*0.15 -> 0 | L40: =SUM(I40:K40) -> 0 | M40: =ROUND(G40*F40,2) -> 0 | N40: =ROUND(I40*F40,2) -> 0 | O40: =ROUND(J40*F40,2) -> 0 | P40: =ROUND(K40*F40,2) -> 0 | Q40: =SUM(N40:P40) -> 0
A41: 26 | C41: Balansēšanas vārsts DN40 STAD-40 | E41: gb | F41: 1 | K41: =I41*0.15 -> 0 | L41: =SUM(I41:K41) -> 0 | M41: =ROUND(G41*F41,2) -> 0 | N41: =ROUND(I41*F41,2) -> 0 | O41: =ROUND(J41*F41,2) -> 0 | P41: =ROUND(K41*F41,2) -> 0 | Q41: =SUM(N41:P41) -> 0
A42: 27 | C42: Balansēšanas vārsts DN50 STAD-50 | E42: gb | F42: 1 | K42: =I42*0.15 -> 0 | L42: =SUM(I42:K42) -> 0 | M42: =ROUND(G42*F42,2) -> 0 | N42: =ROUND(I42*F42,2) -> 0 | O42: =ROUND(J42*F42,2) -> 0 | P42: =ROUND(K42*F42,2) -> 0 | Q42: =SUM(N42:P42) -> 0
A43: 28 | C43: Balansēšanas vārsts DN65 STAF-65 | E43: gb | F43: 2 | K43: =I43*0.15 -> 0 | L43: =SUM(I43:K43) -> 0 | M43: =ROUND(G43*F43,2) -> 0 | N43: =ROUND(I43*F43,2) -> 0 | O43: =ROUND(J43*F43,2) -> 0 | P43: =ROUND(K43*F43,2) -> 0 | Q43: =SUM(N43:P43) -> 0
A44: 29 | C44: Balansēšanas vārsts DN80 STAF-80 | E44: gb | F44: 1 | K44: =I44*0.15 -> 0 | L44: =SUM(I44:K44) -> 0 | M44: =ROUND(G44*F44,2) -> 0 | N44: =ROUND(I44*F44,2) -> 0 | O44: =ROUND(J44*F44,2) -> 0 | P44: =ROUND(K44*F44,2) -> 0 | Q44: =SUM(N44:P44) -> 0
A45: 30 | C45: Balansēšanas vārsts DN50 STAD-50 | E45: gb | F45: 1 | K45: =I45*0.15 -> 0 | L45: =SUM(I45:K45) -> 0 | M45: =ROUND(G45*F45,2) -> 0 | N45: =ROUND(I45*F45,2) -> 0 | O45: =ROUND(J45*F45,2) -> 0 | P45: =ROUND(K45*F45,2) -> 0 | Q45: =SUM(N45:P45) -> 0
... A82: 67 | C82: Melnā tērauda cauruļu veidgabali | E82: kpl | F82: 1 | K82: =I82*0.15 -> 0 | L82: =SUM(I82:K82) -> 0 | M82: =ROUND(G82*F82,2) -> 0 | N82: =ROUND(I82*F82,2) -> 0 | O82: =ROUND(J82*F82,2) -> 0 | P82: =ROUND(K82*F82,2) -> 0 | Q82: =SUM(N82:P82) -> 0
A83: 68 | C83: Armaflex porgumijas tvaika izolācija, b=13 mm DN20 | E83: m | F83: 6 | K83: =0.15*I83 -> 0 | L83: =SUM(I83:K83) -> 0 | M83: =ROUND(G83*F83,2) -> 0 | N83: =ROUND(I83*F83,2) -> 0 | O83: =ROUND(J83*F83,2) -> 0 | P83: =ROUND(K83*F83,2) -> 0 | Q83: =SUM(N83:P83) -> 0
A84: 69 | C84: Armaflex porgumijas tvaika izolācija, b=19mm DN25 | E84: m | F84: 50 | K84: =0.15*I84 -> 0 | L84: =SUM(I84:K84) -> 0 | M84: =ROUND(G84*F84,2) -> 0 | N84: =ROUND(I84*F84,2) -> 0 | O84: =ROUND(J84*F84,2) -> 0 | P84: =ROUND(K84*F84,2) -> 0 | Q84: =SUM(N84:P84) -> 0
A85: 70 | C85: Armaflex porgumijas tvaika izolācija, b=19mm DN32 | E85: m | F85: 24 | K85: =0.15*I85 -> 0 | L85: =SUM(I85:K85) -> 0 | M85: =ROUND(G85*F85,2) -> 0 | N85: =ROUND(I85*F85,2) -> 0 | O85: =ROUND(J85*F85,2) -> 0 | P85: =ROUND(K85*F85,2) -> 0 | Q85: =SUM(N85:P85) -> 0
A86: 71 | C86: Armaflex porgumijas tvaika izolācija, b=32mm DN50 | E86: m | F86: 14 | K86: =0.15*I86 -> 0 | L86: =SUM(I86:K86) -> 0 | M86: =ROUND(G86*F86,2) -> 0 | N86: =ROUND(I86*F86,2) -> 0 | O86: =ROUND(J86*F86,2) -> 0 | P86: =ROUND(K86*F86,2) -> 0 | Q86: =SUM(N86:P86) -> 0
A87: 72 | C87: Armaflex porgumijas tvaika izolācijaa, b=32mm DN65 | E87: m | F87: 6 | K87: =0.15*I87 -> 0 | L87: =SUM(I87:K87) -> 0 | M87: =ROUND(G87*F87,2) -> 0 | N87: =ROUND(I87*F87,2) -> 0 | O87: =ROUND(J87*F87,2) -> 0 | P87: =ROUND(K87*F87,2) -> 0 | Q87: =SUM(N87:P87) -> 0
A88: 73 | C88: Armaflex porgumijas tvaika izolācija, b=32mm DN80 | E88: m | F88: 6 | K88: =0.15*I88 -> 0 | L88: =SUM(I88:K88) -> 0 | M88: =ROUND(G88*F88,2) -> 0 | N88: =ROUND(I88*F88,2) -> 0 | O88: =ROUND(J88*F88,2) -> 0 | P88: =ROUND(K88*F88,2) -> 0 | Q88: =SUM(N88:P88) -> 0
A89: 74 | C89: Armaflex porgumijas tvaika izolācija, b=32mm DN100 | E89: m | F89: 26 | K89: =0.15*I89 -> 0 | L89: =SUM(I89:K89) -> 0 | M89: =ROUND(G89*F89,2) -> 0 | N89: =ROUND(I89*F89,2) -> 0 | O89: =ROUND(J89*F89,2) -> 0 | P89: =ROUND(K89*F89,2) -> 0 | Q89: =SUM(N89:P89) -> 0
A90: 75 | C90: Melnā tērauda cauruļvads DN25 | E90: m | F90: 58 | K90: =I90*0.15 -> 0 | L90: =SUM(I90:K90) -> 0 | M90: =ROUND(G90*F90,2) -> 0 | N90: =ROUND(I90*F90,2) -> 0 | O90: =ROUND(J90*F90,2) -> 0 | P90: =ROUND(K90*F90,2) -> 0 | Q90: =SUM(N90:P90) -> 0
A91: 76 | C91: Melnā tērauda cauruļvads DN32 | E91: m | F91: 30 | K91: =I91*0.15 -> 0 | L91: =SUM(I91:K91) -> 0 | M91: =ROUND(G91*F91,2) -> 0 | N91: =ROUND(I91*F91,2) -> 0 | O91: =ROUND(J91*F91,2) -> 0 | P91: =ROUND(K91*F91,2) -> 0 | Q91: =SUM(N91:P91) -> 0
A92: 77 | C92: Melnā tērauda cauruļvads DN65 | E92: m | F92: 44 | K92: =I92*0.15 -> 0 | L92: =SUM(I92:K92) -> 0 | M92: =ROUND(G92*F92,2) -> 0 | N92: =ROUND(I92*F92,2) -> 0 | O92: =ROUND(J92*F92,2) -> 0 | P92: =ROUND(K92*F92,2) -> 0 | Q92: =SUM(N92:P92) -> 0
A93: 78 | C93: Melnā tērauda cauruļvads DN80 | E93: m | F93: 6 | K93: =I93*0.15 -> 0 | L93: =SUM(I93:K93) -> 0 | M93: =ROUND(G93*F93,2) -> 0 | N93: =ROUND(I93*F93,2) -> 0 | O93: =ROUND(J93*F93,2) -> 0 | P93: =ROUND(K93*F93,2) -> 0 | Q93: =SUM(N93:P93) -> 0
A94: 79 | C94: Melnā tērauda cauruļu veidgabali | E94: kpl | F94: 1 | K94: =I94*0.15 -> 0 | L94: =SUM(I94:K94) -> 0 | M94: =ROUND(G94*F94,2) -> 0 | N94: =ROUND(I94*F94,2) -> 0 | O94: =ROUND(J94*F94,2) -> 0 | P94: =ROUND(K94*F94,2) -> 0 | Q94: =SUM(N94:P94) -> 0
A95: 80 | C95: Armaflex porgumijas tvaika izolācija, b=19mm DN25 | E95: m | F95: 58 | K95: =0.15*I95 -> 0 | L95: =SUM(I95:K95) -> 0 | M95: =ROUND(G95*F95,2) -> 0 | N95: =ROUND(I95*F95,2) -> 0 | O95: =ROUND(J95*F95,2) -> 0 | P95: =ROUND(K95*F95,2) -> 0 | Q95: =SUM(N95:P95) -> 0
A96: 81 | C96: Armaflex porgumijas tvaika izolācija, b=19mm DN32 | E96: m | F96: 30 | K96: =0.15*I96 -> 0 | L96: =SUM(I96:K96) -> 0 | M96: =ROUND(G96*F96,2) -> 0 | N96: =ROUND(I96*F96,2) -> 0 | O96: =ROUND(J96*F96,2) -> 0 | P96: =ROUND(K96*F96,2) -> 0 | Q96: =SUM(N96:P96) -> 0
A97: 82 | C97: Armaflex porgumijas tvaika izolācijaa, b=32mm DN65 | E97: m | F97: 44 | K97: =0.15*I97 -> 0 | L97: =SUM(I97:K97) -> 0 | M97: =ROUND(G97*F97,2) -> 0 | N97: =ROUND(I97*F97,2) -> 0 | O97: =ROUND(J97*F97,2) -> 0 | P97: =ROUND(K97*F97,2) -> 0 | Q97: =SUM(N97:P97) -> 0
A98: 83 | C98: Armaflex porgumijas tvaika izolācija, b=32mm DN80 | E98: m | F98: 6 | K98: =0.15*I98 -> 0 | L98: =SUM(I98:K98) -> 0 | M98: =ROUND(G98*F98,2) -> 0 | N98: =ROUND(I98*F98,2) -> 0 | O98: =ROUND(J98*F98,2) -> 0 | P98: =ROUND(K98*F98,2) -> 0 | Q98: =SUM(N98:P98) -> 0
A99: 84 | C99: Melnā tērauda cauruļvads DN25 | E99: m | F99: 47 | K99: =I99*0.15 -> 0 | L99: =SUM(I99:K99) -> 0 | M99: =ROUND(G99*F99,2) -> 0 | N99: =ROUND(I99*F99,2) -> 0 | O99: =ROUND(J99*F99,2) -> 0 | P99: =ROUND(K99*F99,2) -> 0 | Q99: =SUM(N99:P99) -> 0
A100: 85 | C100: Melnā tērauda cauruļvads DN32 | E100: m | F100: 8 | K100: =I100*0.15 -> 0 | L100: =SUM(I100:K100) -> 0 | M100: =ROUND(G100*F100,2) -> 0 | N100: =ROUND(I100*F100,2) -> 0 | O100: =ROUND(J100*F100,2) -> 0 | P100: =ROUND(K100*F100,2) -> 0 | Q100: =SUM(N100:P100) -> 0
A101: 86 | C101: Melnā tērauda cauruļvads DN40 | E101: m | F101: 31 | K101: =I101*0.15 -> 0 | L101: =SUM(I101:K101) -> 0 | M101: =ROUND(G101*F101,2) -> 0 | N101: =ROUND(I101*F101,2) -> 0 | O101: =ROUND(J101*F101,2) -> 0 | P101: =ROUND(K101*F101,2) -> 0 | Q101: =SUM(N101:P101) -> 0
A102: 87 | C102: Melnā tērauda cauruļvads DN65 | E102: m | F102: 40 | K102: =I102*0.15 -> 0 | L102: =SUM(I102:K102) -> 0 | M102: =ROUND(G102*F102,2) -> 0 | N102: =ROUND(I102*F102,2) -> 0 | O102: =ROUND(J102*F102,2) -> 0 | P102: =ROUND(K102*F102,2) -> 0 | Q102: =SUM(N102:P102) -> 0
A103: 88 | C103: Melnā tērauda cauruļu veidgabali | E103: kpl | F103: 1 | K103: =I103*0.15 -> 0 | L103: =SUM(I103:K103) -> 0 | M103: =ROUND(G103*F103,2) -> 0 | N103: =ROUND(I103*F103,2) -> 0 | O103: =ROUND(J103*F103,2) -> 0 | P103: =ROUND(K103*F103,2) -> 0 | Q103: =SUM(N103:P103) -> 0
A104: 89 | C104: Armaflex porgumijas tvaika izolācija, b=19mm DN25 | E104: m | F104: 47 | K104: =0.15*I104 -> 0 | L104: =SUM(I104:K104) -> 0 | M104: =ROUND(G104*F104,2) -> 0 | N104: =ROUND(I104*F104,2) -> 0 | O104: =ROUND(J104*F104,2) -> 0 | P104: =ROUND(K104*F104,2) -> 0 | Q104: =SUM(N104:P104) -> 0
A105: 90 | C105: Armaflex porgumijas tvaika izolācija, b=19mm DN32 | E105: m | F105: 8 | K105: =0.15*I105 -> 0 | L105: =SUM(I105:K105) -> 0 | M105: =ROUND(G105*F105,2) -> 0 | N105: =ROUND(I105*F105,2) -> 0 | O105: =ROUND(J105*F105,2) -> 0 | P105: =ROUND(K105*F105,2) -> 0 | Q105: =SUM(N105:P105) -> 0
A106: 91 | C106: Armaflex porgumijas tvaika izolācija, b=32mm DN40 | E106: m | F106: 31 | K106: =0.15*I106 -> 0 | L106: =SUM(I106:K106) -> 0 | M106: =ROUND(G106*F106,2) -> 0 | N106: =ROUND(I106*F106,2) -> 0 | O106: =ROUND(J106*F106,2) -> 0 | P106: =ROUND(K106*F106,2) -> 0 | Q106: =SUM(N106:P106) -> 0
A107: 92 | C107: Armaflex porgumijas tvaika izolācijaa, b=32mm DN65 | E107: m | F107: 40 | K107: =0.15*I107 -> 0 | L107: =SUM(I107:K107) -> 0 | M107: =ROUND(G107*F107,2) -> 0 | N107: =ROUND(I107*F107,2) -> 0 | O107: =ROUND(J107*F107,2) -> 0 | P107: =ROUND(K107*F107,2) -> 0 | Q107: =SUM(N107:P107) -> 0
A108: 93 | C108: Ūdens / etilēnglikola maisījums (35%) | E108: l | F108: 1500 | K108: =0.15*I108 -> 0 | L108: =SUM(I108:K108) -> 0 | M108: =ROUND(G108*F108,2) -> 0 | N108: =ROUND(I108*F108,2) -> 0 | O108: =ROUND(J108*F108,2) -> 0 | P108: =ROUND(K108*F108,2) -> 0 | Q108: =SUM(N108:P108) -> 0
A109: 94 | C109: Ugunsdrošā blīvējuma šķērsojumi | E109: kpl | F109: 1 | K109: =0.15*I109 -> 0 | L109: =SUM(I109:K109) -> 0 | M109: =ROUND(G109*F109,2) -> 0 | N109: =ROUND(I109*F109,2) -> 0 | O109: =ROUND(J109*F109,2) -> 0 | P109: =ROUND(K109*F109,2) -> 0 | Q109: =SUM(N109:P109) -> 0
A110: 95 | C110: Hidrauliskā pārbaude | E110: kpl | F110: 1 | L110: =SUM(I110:K110) -> 0 | M110: =ROUND(G110*F110,2) -> 0 | N110: =ROUND(I110*F110,2) -> 0 | O110: =ROUND(J110*F110,2) -> 0 | P110: =ROUND(K110*F110,2) -> 0 | Q110: =SUM(N110:P110) -> 0
A111: 96 | C111: Elektroinstalācijas un vadības automātikas materiāli | E111: kpl | F111: 1 | K111: =0.15*I111 -> 0 | L111: =SUM(I111:K111) -> 0 | M111: =ROUND(G111*F111,2) -> 0 | N111: =ROUND(I111*F111,2) -> 0 | O111: =ROUND(J111*F111,2) -> 0 | P111: =ROUND(K111*F111,2) -> 0 | Q111: =SUM(N111:P111) -> 0
A112: 97 | C112: Cauruļvadu stiprinājumi un balsti | E112: kpl | F112: 1 | K112: =0.15*I112 -> 0 | L112: =SUM(I112:K112) -> 0 | M112: =ROUND(G112*F112,2) -> 0 | N112: =ROUND(I112*F112,2) -> 0 | O112: =ROUND(J112*F112,2) -> 0 | P112: =ROUND(K112*F112,2) -> 0 | Q112: =SUM(N112:P112) -> 0
A113: 98 | C113: Montāžas komplekts | E113: kpl | F113: 1 | K113: =0.15*I113 -> 0 | L113: =SUM(I113:K113) -> 0 | M113: =ROUND(G113*F113,2) -> 0 | N113: =ROUND(I113*F113,2) -> 0 | O113: =ROUND(J113*F113,2) -> 0 | P113: =ROUND(K113*F113,2) -> 0 | Q113: =SUM(N113:P113) -> 0
A114: 99 | C114: Palīgmateriāli | E114: kpl | F114: 1 | K114: =0.15*I114 -> 0 | L114: =SUM(I114:K114) -> 0 | M114: =ROUND(G114*F114,2) -> 0 | N114: =ROUND(I114*F114,2) -> 0 | O114: =ROUND(J114*F114,2) -> 0 | P114: =ROUND(K114*F114,2) -> 0 | Q114: =SUM(N114:P114) -> 0
G115: 0 | H115: 0
C116: Tiešās izmaksas kopā, t.sk. darba devēja sociālais nodoklis(23,59%) | M116: =SUM(M13:M115) -> 0 | N116: =SUM(N13:N115) -> 0 | O116: =SUM(O13:O115) -> 0 | P116: =SUM(P13:P115) -> 0 | Q116: =SUM(Q13:Q115) -> 0
B118: Piezīmes:
A119: Visas atsauces uz materiālu un izstrādājumu izgatavotaj firmām, kuras norādītas būvprojektā, liecina tikai par šo materiālu un izstrādājumu tehniskajiem parametriem un kvalitātes līmeni, to nomaiņa ir iespējama ar citiem tehniski un kvalitatīvi ekvivalentiem būvizstrādājumiem, iepriekš saskaņojot tos ar projekta autoriem un uzrādot atbilstības sertifikātus.
B123: Sastādīja: | M123: =Koptame_VNI!B40 -> Pārbaudīja:
C124: =Koptame_VNI!C35 -> 0 | N124: =Koptame_VNI!C41 -> 0
C125: =Koptame_VNI!C36 -> 0 | N125: =Koptame_VNI!C42 -> 0

Sheet 2.6._VNI
H1: Lokālā tāme Nr. | I1: =kops2_VNI!B26 -> 2.6._VNI
A2: =C13 -> Siltummezgls
C3: Būves nosaukums: | E3: =Koptame_VNI!C11 -> Ēkas pārbūve un teritorijas labiekārtošana
C4: Objekta nosaukums: | E4: =Koptame_VNI!C12 -> Ēkas pārbūve un teritorijas labiekārtošana( VNĪ līdzekļi)
C5: Objekta adrese: | E5: =Koptame_VNI!C13 -> Citadeles iela 7, Rīga
C6: =Koptame_VNI!B14 -> Pasūtījuma Nr. | E6: =Koptame_VNI!C14 -> n
A7: =Koptame_VNI!B17 -> Tāme sastādīta 2023.gada tirgus cenās, pamatojoties uz SIA „Baltex Group” būvprojekta rasējumiem un darbu apjomiem | P7: Tāmes izmaksas euro: | Q7: =Q86 -> 0
M9: =Koptame_VNI!D16 -> Tāme sastādīta:
A11: Nr.p.k. | B11: Kods | C11: Būvdarbu nosaukums | E11: Mērvienība | F11: Daudzums | G11: Vienības izmaksas | M11: Kopā uz visu apjomu
G12: Laika norma (c/h) | H12: Darba samaksas likme (euro/h) | I12: Darba alga (euro) | J12: Būvizstrādājumi (euro) | K12: Mehānismi (euro) | L12: Kopā (euro) | M12: Darbietilpība (c/h) | N12: Darba alga (euro) | O12: Būvizstrādājumi (euro) | P12: Mehānismi (euro) | Q12: Summa (euro)
B13: 0 | C13: =kops2_VNI!C26 -> Siltummezgls | G13: 0 | H13: 0 | I13: 0 | J13: 0 | K13: 0 | L13: =SUM(I13:K13) -> 0 | M13: =ROUND(G13*F13,2) -> 0 | N13: =ROUND(I13*F13,2) -> 0 | O13: =ROUND(J13*F13,2) -> 0 | P13: =ROUND(K13*F13,2) -> 0 | Q13: =SUM(N13:P13) -> 0
C14: Montāžas un palaišanas darbi
C15: SM, SILTUMMEHĀNIKA | G15: =IFERROR(ROUND(I15/H15,2),0) -> 0 | H15: =IF(I15>0,5,0) -> 0 | L15: =SUM(I15:K15) -> 0 | M15: =ROUND(G15*F15,2) -> 0 | N15: =ROUND(I15*F15,2) -> 0 | O15: =ROUND(J15*F15,2) -> 0 | P15: =ROUND(K15*F15,2) -> 0 | Q15: =SUM(N15:P15) -> 0
A16: 1 | C16: Plākšņu tipa siltummainis S1 apkures sistēmai komplektā ar rūpniecisku izolāciju un stiprinājumiem 64 kW XB12L-1-50 | E16: kpl | F16: 1 | K16: =0.15*I16 -> 0 | L16: =SUM(I16:K16) -> 0 | M16: =ROUND(G16*F16,2) -> 0 | N16: =ROUND(I16*F16,2) -> 0 | O16: =ROUND(J16*F16,2) -> 0 | P16: =ROUND(K16*F16,2) -> 0 | Q16: =SUM(N16:P16) -> 0
A17: 2 | C17: Plākšņu tipa siltummainis S2 ventilācijas siltumapgādes sistēmai komplektā ar rūpniecisku izolāciju un stiprinājumiem 20 kW XB12M-1-20 G1 | E17: kpl | F17: 1 | K17: =0.15*I17 -> 0 | L17: =SUM(I17:K17) -> 0 | M17: =ROUND(G17*F17,2) -> 0 | N17: =ROUND(I17*F17,2) -> 0 | O17: =ROUND(J17*F17,2) -> 0 | P17: =ROUND(K17*F17,2) -> 0 | Q17: =SUM(N17:P17) -> 0
A18: 3 | C18: Plākšņu tipa siltummainis S3 karstā ūdens sistēmai komplektā ar rūpniecisku izolāciju un stiprinājumiem 25 kW XB05H-1-36 | E18: kpl | F18: 1 | K18: =0.15*I18 -> 0 | L18: =SUM(I18:K18) -> 0 | M18: =ROUND(G18*F18,2) -> 0 | N18: =ROUND(I18*F18,2) -> 0 | O18: =ROUND(J18*F18,2) -> 0 | P18: =ROUND(K18*F18,2) -> 0 | Q18: =SUM(N18:P18) -> 0
A19: 4 | C19: Membrānas izplešanās tvertne komplektā ar montāžas stiprinājumiem 80 litri Reflex NG80 | E19: kpl | F19: 1 | K19: =0.15*I19 -> 0 | L19: =SUM(I19:K19) -> 0 | M19: =ROUND(G19*F19,2) -> 0 | N19: =ROUND(I19*F19,2) -> 0 | O19: =ROUND(J19*F19,2) -> 0 | P19: =ROUND(K19*F19,2) -> 0 | Q19: =SUM(N19:P19) -> 0
A20: 5 | C20: Membrānas izplešanās tvertne komplektā ar montāžas stiprinājumiem 25 litri Reflex NG25 | E20: kpl | F20: 1 | K20: =0.15*I20 -> 0 | L20: =SUM(I20:K20) -> 0 | M20: =ROUND(G20*F20,2) -> 0 | N20: =ROUND(I20*F20,2) -> 0 | O20: =ROUND(J20*F20,2) -> 0 | P20: =ROUND(K20*F20,2) -> 0 | Q20: =SUM(N20:P20) -> 0
A21: 6 | C21: Cirkulācijas sūknis komplektā ar vadības bloku 2813 l/h; 80 kPa Stratos MAXO 32/0.5-10 | E21: kpl | F21: 1 | K21: =0.15*I21 -> 0 | L21: =SUM(I21:K21) -> 0 | M21: =ROUND(G21*F21,2) -> 0 | N21: =ROUND(I21*F21,2) -> 0 | O21: =ROUND(J21*F21,2) -> 0 | P21: =ROUND(K21*F21,2) -> 0 | Q21: =SUM(N21:P21) -> 0
A22: 7 | C22: Cirkulācijas sūknis komplektā ar vadības bloku 935 l/h; 80 kPa Stratos PICO 30/0.5-8 | E22: kpl | F22: 1 | K22: =0.15*I22 -> 0 | L22: =SUM(I22:K22) -> 0 | M22: =ROUND(G22*F22,2) -> 0 | N22: =ROUND(I22*F22,2) -> 0 | O22: =ROUND(J22*F22,2) -> 0 | P22: =ROUND(K22*F22,2) -> 0 | Q22: =SUM(N22:P22) -> 0
A23: 8 | C23: Cirkulācijas sūknis karstajam ūdenim komplektā ar vadības bloku Alpha2 25-60N | E23: kpl | F23: 1 | K23: =0.15*I23 -> 0 | L23: =SUM(I23:K23) -> 0 | M23: =ROUND(G23*F23,2) -> 0 | N23: =ROUND(I23*F23,2) -> 0 | O23: =ROUND(J23*F23,2) -> 0 | P23: =ROUND(K23*F23,2) -> 0 | Q23: =SUM(N23:P23) -> 0
A24: 9 | C24: Divgaitas vārsts komplektā ar izpildmehānismu DN20, Kvs=2.5; PN16 VS2 + AME10 | E24: kpl | F24: 1 | K24: =0.15*I24 -> 0 | L24: =SUM(I24:K24) -> 0 | M24: =ROUND(G24*F24,2) -> 0 | N24: =ROUND(I24*F24,2) -> 0 | O24: =ROUND(J24*F24,2) -> 0 | P24: =ROUND(K24*F24,2) -> 0 | Q24: =SUM(N24:P24) -> 0
A25: 10 | C25: Divgaitas vārsts komplektā ar izpildmehānismu DN15, Kvs=0.63; PN16 VS2 + AME10 | E25: kpl | F25: 1 | K25: =0.15*I25 -> 0 | L25: =SUM(I25:K25) -> 0 | M25: =ROUND(G25*F25,2) -> 0 | N25: =ROUND(I25*F25,2) -> 0 | O25: =ROUND(J25*F25,2) -> 0 | P25: =ROUND(K25*F25,2) -> 0 | Q25: =SUM(N25:P25) -> 0
A26: 11 | C26: Divgaitas vārsts komplektā ar izpildmehānismu DN15, Kvs=1.0, PN16 VM2 + AME 30 | E26: kpl | F26: 1 | K26: =0.15*I26 -> 0 | L26: =SUM(I26:K26) -> 0 | M26: =ROUND(G26*F26,2) -> 0 | N26: =ROUND(I26*F26,2) -> 0 | O26: =ROUND(J26*F26,2) -> 0 | P26: =ROUND(K26*F26,2) -> 0 | Q26: =SUM(N26:P26) -> 0
A27: 12 | C27: Siltumenerģijas skaitītājs komplektā ar skaitītāja vadību un 2 gab. temperatūras sensoriem DN20 Kamstrup Multical 603, qp=1.5 m3/h | E27: kpl | F27: 1 | K27: =0.15*I27 -> 0 | L27: =SUM(I27:K27) -> 0 | M27: =ROUND(G27*F27,2) -> 0 | N27: =ROUND(I27*F27,2) -> 0 | O27: =ROUND(J27*F27,2) -> 0 | P27: =ROUND(K27*F27,2) -> 0 | Q27: =SUM(N27:P27) -> 0
... A39: 24 | C39: Mehāniskais filtrs DN40 | E39: gb | F39: 2 | K39: =0.15*I39 -> 0 | L39: =SUM(I39:K39) -> 0 | M39: =ROUND(G39*F39,2) -> 0 | N39: =ROUND(I39*F39,2) -> 0 | O39: =ROUND(J39*F39,2) -> 0 | P39: =ROUND(K39*F39,2) -> 0 | Q39: =SUM(N39:P39) -> 0
A40: 25 | C40: Vienvirziena vārsts DN15 | E40: gb | F40: 1 | K40: =I40*0.15 -> 0 | L40: =SUM(I40:K40) -> 0 | M40: =ROUND(G40*F40,2) -> 0 | N40: =ROUND(I40*F40,2) -> 0 | O40: =ROUND(J40*F40,2) -> 0 | P40: =ROUND(K40*F40,2) -> 0 | Q40: =SUM(N40:P40) -> 0
A41: 26 | C41: Vienvirziena vārsts DN20 | E41: gb | F41: 1 | K41: =I41*0.15 -> 0 | L41: =SUM(I41:K41) -> 0 | M41: =ROUND(G41*F41,2) -> 0 | N41: =ROUND(I41*F41,2) -> 0 | O41: =ROUND(J41*F41,2) -> 0 | P41: =ROUND(K41*F41,2) -> 0 | Q41: =SUM(N41:P41) -> 0
A42: 27 | C42: Lodveida krāns DN15 | E42: gb | F42: 14 | K42: =I42*0.15 -> 0 | L42: =SUM(I42:K42) -> 0 | M42: =ROUND(G42*F42,2) -> 0 | N42: =ROUND(I42*F42,2) -> 0 | O42: =ROUND(J42*F42,2) -> 0 | P42: =ROUND(K42*F42,2) -> 0 | Q42: =SUM(N42:P42) -> 0
A43: 28 | C43: Lodveida krāns DN20 | E43: gb | F43: 8 | K43: =I43*0.15 -> 0 | L43: =SUM(I43:K43) -> 0 | M43: =ROUND(G43*F43,2) -> 0 | N43: =ROUND(I43*F43,2) -> 0 | O43: =ROUND(J43*F43,2) -> 0 | P43: =ROUND(K43*F43,2) -> 0 | Q43: =SUM(N43:P43) -> 0
A44: 29 | C44: Lodveida krāns DN25 | E44: gb | F44: 2 | K44: =I44*0.15 -> 0 | L44: =SUM(I44:K44) -> 0 | M44: =ROUND(G44*F44,2) -> 0 | N44: =ROUND(I44*F44,2) -> 0 | O44: =ROUND(J44*F44,2) -> 0 | P44: =ROUND(K44*F44,2) -> 0 | Q44: =SUM(N44:P44) -> 0
A45: 30 | C45: Lodveida krāns DN32 | E45: gb | F45: 4 | K45: =I45*0.15 -> 0 | L45: =SUM(I45:K45) -> 0 | M45: =ROUND(G45*F45,2) -> 0 | N45: =ROUND(I45*F45,2) -> 0 | O45: =ROUND(J45*F45,2) -> 0 | P45: =ROUND(K45*F45,2) -> 0 | Q45: =SUM(N45:P45) -> 0
A46: 31 | C46: Lodveida krāns DN40 | E46: gb | F46: 4 | K46: =I46*0.15 -> 0 | L46: =SUM(I46:K46) -> 0 | M46: =ROUND(G46*F46,2) -> 0 | N46: =ROUND(I46*F46,2) -> 0 | O46: =ROUND(J46*F46,2) -> 0 | P46: =ROUND(K46*F46,2) -> 0 | Q46: =SUM(N46:P46) -> 0
A47: 32 | C47: Balansējošais vārsts DN20 STAD-20 | E47: gb | F47: 1 | K47: =0.15*I47 -> 0 | L47: =SUM(I47:K47) -> 0 | M47: =ROUND(G47*F47,2) -> 0 | N47: =ROUND(I47*F47,2) -> 0 | O47: =ROUND(J47*F47,2) -> 0 | P47: =ROUND(K47*F47,2) -> 0 | Q47: =SUM(N47:P47) -> 0
A48: 33 | C48: Balansējošais vārsts DN25 STAD-25 | E48: gb | F48: 1 | K48: =0.15*I48 -> 0 | L48: =SUM(I48:K48) -> 0 | M48: =ROUND(G48*F48,2) -> 0 | N48: =ROUND(I48*F48,2) -> 0 | O48: =ROUND(J48*F48,2) -> 0 | P48: =ROUND(K48*F48,2) -> 0 | Q48: =SUM(N48:P48) -> 0
A49: 34 | C49: Manometrs P=0-16 bar | E49: gb | F49: 2 | K49: =I49*0.15 -> 0 | L49: =SUM(I49:K49) -> 0 | M49: =ROUND(G49*F49,2) -> 0 | N49: =ROUND(I49*F49,2) -> 0 | O49: =ROUND(J49*F49,2) -> 0 | P49: =ROUND(K49*F49,2) -> 0 | Q49: =SUM(N49:P49) -> 0
A50: 35 | C50: Manometrs P=0-10 bar | E50: gb | F50: 5 | K50: =I50*0.15 -> 0 | L50: =SUM(I50:K50) -> 0 | M50: =ROUND(G50*F50,2) -> 0 | N50: =ROUND(I50*F50,2) -> 0 | O50: =ROUND(J50*F50,2) -> 0 | P50: =ROUND(K50*F50,2) -> 0 | Q50: =SUM(N50:P50) -> 0
A51: 36 | C51: Termometrs T=0-150 oC | E51: gb | F51: 2 | K51: =I51*0.15 -> 0 | L51: =SUM(I51:K51) -> 0 | M51: =ROUND(G51*F51,2) -> 0 | N51: =ROUND(I51*F51,2) -> 0 | O51: =ROUND(J51*F51,2) -> 0 | P51: =ROUND(K51*F51,2) -> 0 | Q51: =SUM(N51:P51) -> 0
A52: 37 | C52: Termometrs T=0-100 oC | E52: gb | F52: 6 | K52: =I52*0.15 -> 0 | L52: =SUM(I52:K52) -> 0 | M52: =ROUND(G52*F52,2) -> 0 | N52: =ROUND(I52*F52,2) -> 0 | O52: =ROUND(J52*F52,2) -> 0 | P52: =ROUND(K52*F52,2) -> 0 | Q52: =SUM(N52:P52) -> 0
A53: 38 | C53: Iegremdējams temperatūras sensors | E53: gb | F53: 6 | K53: =I53*0.15 -> 0 | L53: =SUM(I53:K53) -> 0 | M53: =ROUND(G53*F53,2) -> 0 | N53: =ROUND(I53*F53,2) -> 0 | O53: =ROUND(J53*F53,2) -> 0 | P53: =ROUND(K53*F53,2) -> 0 | Q53: =SUM(N53:P53) -> 0
A54: 39 | C54: Karstā ūdens temperatūras sensors ESMU-100 | E54: gb | F54: 1 | K54: =0.15*I54 -> 0 | L54: =SUM(I54:K54) -> 0 | M54: =ROUND(G54*F54,2) -> 0 | N54: =ROUND(I54*F54,2) -> 0 | O54: =ROUND(J54*F54,2) -> 0 | P54: =ROUND(K54*F54,2) -> 0 | Q54: =SUM(N54:P54) -> 0
A55: 40 | C55: Vadības kontrolieris komplektā ar āra temperatūras sensoru ECL310 | E55: kpl | F55: 1 | K55: =0.15*I55 -> 0 | L55: =SUM(I55:K55) -> 0 | M55: =ROUND(G55*F55,2) -> 0 | N55: =ROUND(I55*F55,2) -> 0 | O55: =ROUND(J55*F55,2) -> 0 | P55: =ROUND(K55*F55,2) -> 0 | Q55: =SUM(N55:P55) -> 0
A56: 41 | C56: Mehāniskais filtrs (dzeramajam ūdenim) DN20 | E56: gb | F56: 1 | K56: =0.15*I56 -> 0 | L56: =SUM(I56:K56) -> 0 | M56: =ROUND(G56*F56,2) -> 0 | N56: =ROUND(I56*F56,2) -> 0 | O56: =ROUND(J56*F56,2) -> 0 | P56: =ROUND(K56*F56,2) -> 0 | Q56: =SUM(N56:P56) -> 0
A57: 42 | C57: Mehāniskais filtrs (dzeramajam ūdenim) DN25 | E57: gb | F57: 1 | K57: =0.15*I57 -> 0 | L57: =SUM(I57:K57) -> 0 | M57: =ROUND(G57*F57,2) -> 0 | N57: =ROUND(I57*F57,2) -> 0 | O57: =ROUND(J57*F57,2) -> 0 | P57: =ROUND(K57*F57,2) -> 0 | Q57: =SUM(N57:P57) -> 0
A58: 43 | C58: Vienvirziena vārsts (dzeramajam ūdenim) DN20 | E58: gb | F58: 1 | K58: =I58*0.15 -> 0 | L58: =SUM(I58:K58) -> 0 | M58: =ROUND(G58*F58,2) -> 0 | N58: =ROUND(I58*F58,2) -> 0 | O58: =ROUND(J58*F58,2) -> 0 | P58: =ROUND(K58*F58,2) -> 0 | Q58: =SUM(N58:P58) -> 0
A59: 44 | C59: Vienvirziena vārsts (dzeramajam ūdenim) DN25 | E59: gb | F59: 1 | K59: =I59*0.15 -> 0 | L59: =SUM(I59:K59) -> 0 | M59: =ROUND(G59*F59,2) -> 0 | N59: =ROUND(I59*F59,2) -> 0 | O59: =ROUND(J59*F59,2) -> 0 | P59: =ROUND(K59*F59,2) -> 0 | Q59: =SUM(N59:P59) -> 0
A60: 45 | C60: Lodveida krāns (dzeramajam ūdenim) DN15 | E60: gb | F60: 4 | K60: =I60*0.15 -> 0 | L60: =SUM(I60:K60) -> 0 | M60: =ROUND(G60*F60,2) -> 0 | N60: =ROUND(I60*F60,2) -> 0 | O60: =ROUND(J60*F60,2) -> 0 | P60: =ROUND(K60*F60,2) -> 0 | Q60: =SUM(N60:P60) -> 0
A61: 46 | C61: Lodveida krāns (dzeramajam ūdenim) DN20 | E61: gb | F61: 1 | K61: =I61*0.15 -> 0 | L61: =SUM(I61:K61) -> 0 | M61: =ROUND(G61*F61,2) -> 0 | N61: =ROUND(I61*F61,2) -> 0 | O61: =ROUND(J61*F61,2) -> 0 | P61: =ROUND(K61*F61,2) -> 0 | Q61: =SUM(N61:P61) -> 0
A62: 47 | C62: Lodveida krāns (dzeramajam ūdenim) DN25 | E62: gb | F62: 2 | K62: =I62*0.15 -> 0 | L62: =SUM(I62:K62) -> 0 | M62: =ROUND(G62*F62,2) -> 0 | N62: =ROUND(I62*F62,2) -> 0 | O62: =ROUND(J62*F62,2) -> 0 | P62: =ROUND(K62*F62,2) -> 0 | Q62: =SUM(N62:P62) -> 0
A63: 48 | C63: Aukstā ūdens skaitītājs DN15 Itron Almess Qn2.5 | E63: gb | F63: 1 | K63: =I63*0.15 -> 0 | L63: =SUM(I63:K63) -> 0 | M63: =ROUND(G63*F63,2) -> 0 | N63: =ROUND(I63*F63,2) -> 0 | O63: =ROUND(J63*F63,2) -> 0 | P63: =ROUND(K63*F63,2) -> 0 | Q63: =SUM(N63:P63) -> 0
A64: 49 | C64: Nerūsējošā tērauda apkures cauruļvadi DN20 | E64: m | F64: 2 | K64: =I64*0.15 -> 0 | L64: =SUM(I64:K64) -> 0 | M64: =ROUND(G64*F64,2) -> 0 | N64: =ROUND(I64*F64,2) -> 0 | O64: =ROUND(J64*F64,2) -> 0 | P64: =ROUND(K64*F64,2) -> 0 | Q64: =SUM(N64:P64) -> 0
A65: 50 | C65: Nerūsējošā tērauda apkures cauruļvadi DN25 | E65: m | F65: 4 | K65: =I65*0.15 -> 0 | L65: =SUM(I65:K65) -> 0 | M65: =ROUND(G65*F65,2) -> 0 | N65: =ROUND(I65*F65,2) -> 0 | O65: =ROUND(J65*F65,2) -> 0 | P65: =ROUND(K65*F65,2) -> 0 | Q65: =SUM(N65:P65) -> 0
A66: 51 | C66: Nerūsējošā tērauda apkures cauruļu fasondaļas | E66: kpl | F66: 1 | K66: =I66*0.15 -> 0 | L66: =SUM(I66:K66) -> 0 | M66: =ROUND(G66*F66,2) -> 0 | N66: =ROUND(I66*F66,2) -> 0 | O66: =ROUND(J66*F66,2) -> 0 | P66: =ROUND(K66*F66,2) -> 0 | Q66: =SUM(N66:P66) -> 0
A67: 52 | C67: Melnā tērauda apkures cauruļvadi DN15 | E67: m | F67: 2 | K67: =I67*0.15 -> 0 | L67: =SUM(I67:K67) -> 0 | M67: =ROUND(G67*F67,2) -> 0 | N67: =ROUND(I67*F67,2) -> 0 | O67: =ROUND(J67*F67,2) -> 0 | P67: =ROUND(K67*F67,2) -> 0 | Q67: =SUM(N67:P67) -> 0
A68: 53 | C68: Melnā tērauda apkures cauruļvadi DN20 | E68: m | F68: 6 | K68: =I68*0.15 -> 0 | L68: =SUM(I68:K68) -> 0 | M68: =ROUND(G68*F68,2) -> 0 | N68: =ROUND(I68*F68,2) -> 0 | O68: =ROUND(J68*F68,2) -> 0 | P68: =ROUND(K68*F68,2) -> 0 | Q68: =SUM(N68:P68) -> 0
A69: 54 | C69: Melnā tērauda apkures cauruļvadi DN25 | E69: m | F69: 4 | K69: =I69*0.15 -> 0 | L69: =SUM(I69:K69) -> 0 | M69: =ROUND(G69*F69,2) -> 0 | N69: =ROUND(I69*F69,2) -> 0 | O69: =ROUND(J69*F69,2) -> 0 | P69: =ROUND(K69*F69,2) -> 0 | Q69: =SUM(N69:P69) -> 0
... A77: 62 | C77: Akmens vates siltumizolācijas čaula b=30 mm ar PVC apvalku DN40 | E77: m | F77: 6 | K77: =I77*0.15 -> 0 | L77: =SUM(I77:K77) -> 0 | M77: =ROUND(G77*F77,2) -> 0 | N77: =ROUND(I77*F77,2) -> 0 | O77: =ROUND(J77*F77,2) -> 0 | P77: =ROUND(K77*F77,2) -> 0 | Q77: =SUM(N77:P77) -> 0
A78: 63 | C78: Porgumijas tvaika izolācija, b=13 mm DN25 | E78: m | F78: 4 | K78: =0.15*I78 -> 0 | L78: =SUM(I78:K78) -> 0 | M78: =ROUND(G78*F78,2) -> 0 | N78: =ROUND(I78*F78,2) -> 0 | O78: =ROUND(J78*F78,2) -> 0 | P78: =ROUND(K78*F78,2) -> 0 | Q78: =SUM(N78:P78) -> 0
A79: 64 | C79: Ūdens / etilēnglikola maisījums (35%) | E79: l | F79: 150 | K79: =I79*0.15 -> 0 | L79: =SUM(I79:K79) -> 0 | M79: =ROUND(G79*F79,2) -> 0 | N79: =ROUND(I79*F79,2) -> 0 | O79: =ROUND(J79*F79,2) -> 0 | P79: =ROUND(K79*F79,2) -> 0 | Q79: =SUM(N79:P79) -> 0
A80: 65 | C80: Elektroinstalācijas materiāli | E80: kpl | F80: 1 | K80: =0.15*I80 -> 0 | L80: =SUM(I80:K80) -> 0 | M80: =ROUND(G80*F80,2) -> 0 | N80: =ROUND(I80*F80,2) -> 0 | O80: =ROUND(J80*F80,2) -> 0 | P80: =ROUND(K80*F80,2) -> 0 | Q80: =SUM(N80:P80) -> 0
A81: 66 | C81: Antikorozijas krāsa | E81: kpl | F81: 1 | K81: =0.15*I81 -> 0 | L81: =SUM(I81:K81) -> 0 | M81: =ROUND(G81*F81,2) -> 0 | N81: =ROUND(I81*F81,2) -> 0 | O81: =ROUND(J81*F81,2) -> 0 | P81: =ROUND(K81*F81,2) -> 0 | Q81: =SUM(N81:P81) -> 0
A82: 67 | C82: Cauruļvadu stiprinājumi un balsti | E82: kpl | F82: 1 | K82: =0.15*I82 -> 0 | L82: =SUM(I82:K82) -> 0 | M82: =ROUND(G82*F82,2) -> 0 | N82: =ROUND(I82*F82,2) -> 0 | O82: =ROUND(J82*F82,2) -> 0 | P82: =ROUND(K82*F82,2) -> 0 | Q82: =SUM(N82:P82) -> 0
A83: 68 | C83: Montāžas komplekts | E83: kpl | F83: 1 | K83: =0.15*I83 -> 0 | L83: =SUM(I83:K83) -> 0 | M83: =ROUND(G83*F83,2) -> 0 | N83: =ROUND(I83*F83,2) -> 0 | O83: =ROUND(J83*F83,2) -> 0 | P83: =ROUND(K83*F83,2) -> 0 | Q83: =SUM(N83:P83) -> 0
A84: 69 | C84: Palīgmateriāli | E84: kpl | F84: 1 | K84: =0.15*I84 -> 0 | L84: =SUM(I84:K84) -> 0 | M84: =ROUND(G84*F84,2) -> 0 | N84: =ROUND(I84*F84,2) -> 0 | O84: =ROUND(J84*F84,2) -> 0 | P84: =ROUND(K84*F84,2) -> 0 | Q84: =SUM(N84:P84) -> 0
C86: Tiešās izmaksas kopā, t.sk. darba devēja sociālais nodoklis(23,59%) | M86: =SUM(M13:M85) -> 0 | N86: =SUM(N13:N85) -> 0 | O86: =SUM(O13:O85) -> 0 | P86: =SUM(P13:P85) -> 0 | Q86: =SUM(Q13:Q85) -> 0
B88: Piezīmes:
A89: Visas atsauces uz materiālu un izstrādājumu izgatavotaj firmām, kuras norādītas būvprojektā, liecina tikai par šo materiālu un izstrādājumu tehniskajiem parametriem un kvalitātes līmeni, to nomaiņa ir iespējama ar citiem tehniski un kvalitatīvi ekvivalentiem būvizstrādājumiem, iepriekš saskaņojot tos ar projekta autoriem un uzrādot atbilstības sertifikātus.
B93: Sastādīja: | M93: =Koptame_VNI!B40 -> Pārbaudīja:
C94: =Koptame_VNI!C35 -> 0 | N94: =Koptame_VNI!C41 -> 0
C95: =Koptame_VNI!C36 -> 0 | N95: =Koptame_VNI!C42 -> 0

Sheet 2.7._VNI
H1: Lokālā tāme Nr. | I1: =kops2_VNI!B27 -> 2.7._VNI
A2: =C13 -> Elektroinstalācija
C3: Būves nosaukums: | E3: =Koptame_VNI!C11 -> Ēkas pārbūve un teritorijas labiekārtošana
C4: Objekta nosaukums: | E4: =Koptame_VNI!C12 -> Ēkas pārbūve un teritorijas labiekārtošana( VNĪ līdzekļi)
C5: Objekta adrese: | E5: =Koptame_VNI!C13 -> Citadeles iela 7, Rīga
C6: =Koptame_VNI!B14 -> Pasūtījuma Nr. | E6: =Koptame_VNI!C14 -> n
A7: =Koptame_VNI!B17 -> Tāme sastādīta 2023.gada tirgus cenās, pamatojoties uz SIA „Baltex Group” būvprojekta rasējumiem un darbu apjomiem | P7: Tāmes izmaksas euro: | Q7: =Q103 -> 0
M9: =Koptame_VNI!D16 -> Tāme sastādīta:
A11: Nr.p.k. | B11: Kods | C11: Būvdarbu nosaukums | E11: Mērvienība | F11: Daudzums | G11: Vienības izmaksas | M11: Kopā uz visu apjomu
G12: Laika norma (c/h) | H12: Darba samaksas likme (euro/h) | I12: Darba alga (euro) | J12: Būvizstrādājumi (euro) | K12: Mehānismi (euro) | L12: Kopā (euro) | M12: Darbietilpība (c/h) | N12: Darba alga (euro) | O12: Būvizstrādājumi (euro) | P12: Mehānismi (euro) | Q12: Summa (euro)
A13: 0 | C13: =kops2_VNI!C27 -> Elektroinstalācija | I13: =ROUND(H13*G13,2) -> 0 | L13: =SUM(I13:K13) -> 0 | M13: =ROUND(G13*F13,2) -> 0 | N13: =ROUND(I13*F13,2) -> 0 | O13: =ROUND(J13*F13,2) -> 0 | P13: =ROUND(K13*F13,2) -> 0 | Q13: =SUM(N13:P13) -> 0
C14: Montāžas un palaišanas darbi
A15: 1 | C15: Elektriskās sadales | L15: =SUM(I15:K15) -> 0 | M15: =ROUND(G15*F15,2) -> 0 | N15: =ROUND(I15*F15,2) -> 0 | O15: =ROUND(J15*F15,2) -> 0 | P15: =ROUND(K15*F15,2) -> 0 | Q15: =SUM(N15:P15) -> 0
A16: 1.1. | C16: Spēka sadale GS-1, iekštipa, IP54, v/a | E16: kpl. | F16: 1 | K16: =0.15*I16 -> 0 | L16: =SUM(I16:K16) -> 0 | M16: =ROUND(G16*F16,2) -> 0 | N16: =ROUND(I16*F16,2) -> 0 | O16: =ROUND(J16*F16,2) -> 0 | P16: =ROUND(K16*F16,2) -> 0 | Q16: =SUM(N16:P16) -> 0
A17: 1.2. | C17: Spēka sadale GS-2, iekštipa, IP54, v/a | E17: kpl. | F17: 1 | K17: =0.15*I17 -> 0 | L17: =SUM(I17:K17) -> 0 | M17: =ROUND(G17*F17,2) -> 0 | N17: =ROUND(I17*F17,2) -> 0 | O17: =ROUND(J17*F17,2) -> 0 | P17: =ROUND(K17*F17,2) -> 0 | Q17: =SUM(N17:P17) -> 0
A18: 1.3. | C18: El. enerģijas skaitītājs, 63A, 400V, ar Ethernet | E18: gb | F18: 4 | K18: =0.15*I18 -> 0 | L18: =SUM(I18:K18) -> 0 | M18: =ROUND(G18*F18,2) -> 0 | N18: =ROUND(I18*F18,2) -> 0 | O18: =ROUND(J18*F18,2) -> 0 | P18: =ROUND(K18*F18,2) -> 0 | Q18: =SUM(N18:P18) -> 0
A19: 1.4. | C19: El. enerģijas skaitītājs, 50A, 400V, ar Ethernet | E19: gb | F19: 1 | K19: =0.15*I19 -> 0 | L19: =SUM(I19:K19) -> 0 | M19: =ROUND(G19*F19,2) -> 0 | N19: =ROUND(I19*F19,2) -> 0 | O19: =ROUND(J19*F19,2) -> 0 | P19: =ROUND(K19*F19,2) -> 0 | Q19: =SUM(N19:P19) -> 0
A20: 1.5. | C20: El. enerģijas skaitītājs, 20A, 400V, ar Ethernet | E20: gb | F20: 1 | K20: =0.15*I20 -> 0 | L20: =SUM(I20:K20) -> 0 | M20: =ROUND(G20*F20,2) -> 0 | N20: =ROUND(I20*F20,2) -> 0 | O20: =ROUND(J20*F20,2) -> 0 | P20: =ROUND(K20*F20,2) -> 0 | Q20: =SUM(N20:P20) -> 0
A21: 1.6. | C21: El. enerģijas skaitītājs, 16A, 400V, ar Ethernet | E21: gb | F21: 1 | K21: =0.15*I21 -> 0 | L21: =SUM(I21:K21) -> 0 | M21: =ROUND(G21*F21,2) -> 0 | N21: =ROUND(I21*F21,2) -> 0 | O21: =ROUND(J21*F21,2) -> 0 | P21: =ROUND(K21*F21,2) -> 0 | Q21: =SUM(N21:P21) -> 0
A22: 1.7. | C22: Spēka sadale GBS, iekštipa, IP54, v/a | E22: kpl. | F22: 1 | L22: =SUM(I22:K22) -> 0 | M22: =ROUND(G22*F22,2) -> 0 | N22: =ROUND(I22*F22,2) -> 0 | O22: =ROUND(J22*F22,2) -> 0 | P22: =ROUND(K22*F22,2) -> 0 | Q22: =SUM(N22:P22) -> 0
A23: 1.8. | C23: Divpozīciju ARI | E23: kpl. | F23: 1 | L23: =SUM(I23:K23) -> 0 | M23: =ROUND(G23*F23,2) -> 0 | N23: =ROUND(I23*F23,2) -> 0 | O23: =ROUND(J23*F23,2) -> 0 | P23: =ROUND(K23*F23,2) -> 0 | Q23: =SUM(N23:P23) -> 0
A24: 1.9. | C24: Spēka sadale SS-2, iekštipa, IP40, z/a | E24: kpl. | F24: 1 | L24: =SUM(I24:K24) -> 0 | M24: =ROUND(G24*F24,2) -> 0 | N24: =ROUND(I24*F24,2) -> 0 | O24: =ROUND(J24*F24,2) -> 0 | P24: =ROUND(K24*F24,2) -> 0 | Q24: =SUM(N24:P24) -> 0
A25: 1.10. | C25: Spēka sadale SS-3, iekštipa, IP40, z/a | E25: kpl. | F25: 1 | L25: =SUM(I25:K25) -> 0 | M25: =ROUND(G25*F25,2) -> 0 | N25: =ROUND(I25*F25,2) -> 0 | O25: =ROUND(J25*F25,2) -> 0 | P25: =ROUND(K25*F25,2) -> 0 | Q25: =SUM(N25:P25) -> 0
A26: 1.11. | C26: Spēka sadale SS-4, iekštipa, IP40, v/a | E26: kpl. | F26: 1 | L26: =SUM(I26:K26) -> 0 | M26: =ROUND(G26*F26,2) -> 0 | N26: =ROUND(I26*F26,2) -> 0 | O26: =ROUND(J26*F26,2) -> 0 | P26: =ROUND(K26*F26,2) -> 0 | Q26: =SUM(N26:P26) -> 0
L27: =SUM(I27:K27) -> 0 | M27: =ROUND(G27*F27,2) -> 0 | N27: =ROUND(I27*F27,2) -> 0 | O27: =ROUND(J27*F27,2) -> 0 | P27: =ROUND(K27*F27,2) -> 0 | Q27: =SUM(N27:P27) -> 0
A28: 2 | C28: Kabeļu izstrādājumi | L28: =SUM(I28:K28) -> 0 | M28: =ROUND(G28*F28,2) -> 0 | N28: =ROUND(I28*F28,2) -> 0 | O28: =ROUND(J28*F28,2) -> 0 | P28: =ROUND(K28*F28,2) -> 0 | Q28: =SUM(N28:P28) -> 0
A29: 2.1. | C29: Bez halogēna kabelis Cu- 5x35 mm2 | D29: EXQ EASY vai ekvivalnets | E29: m | F29: 35 | K29: =0.15*I29 -> 0 | L29: =SUM(I29:K29) -> 0 | M29: =ROUND(G29*F29,2) -> 0 | N29: =ROUND(I29*F29,2) -> 0 | O29: =ROUND(J29*F29,2) -> 0 | P29: =ROUND(K29*F29,2) -> 0 | Q29: =SUM(N29:P29) -> 0
A30: 2.2. | C30: Bez halogēna kabelis Cu- 5x16 mm2 | D30: EXQ EASY vai ekvivalnets | E30: m | F30: =30+10+10+20 -> 70 | K30: =0.15*I30 -> 0 | L30: =SUM(I30:K30) -> 0 | M30: =ROUND(G30*F30,2) -> 0 | N30: =ROUND(I30*F30,2) -> 0 | O30: =ROUND(J30*F30,2) -> 0 | P30: =ROUND(K30*F30,2) -> 0 | Q30: =SUM(N30:P30) -> 0
A31: 2.3. | C31: Bez halogēna kabelis Cu- 5x10 mm2 | D31: EXQ EASY vai ekvivalnets | E31: m | F31: 15 | K31: =0.15*I31 -> 0 | L31: =SUM(I31:K31) -> 0 | M31: =ROUND(G31*F31,2) -> 0 | N31: =ROUND(I31*F31,2) -> 0 | O31: =ROUND(J31*F31,2) -> 0 | P31: =ROUND(K31*F31,2) -> 0 | Q31: =SUM(N31:P31) -> 0
A32: 2.4. | C32: Bez halogēna kabelis Cu- 5x4 mm2 | D32: EXQ EASY vai ekvivalnets | E32: m | F32: =35+5+10+15+15+15 -> 95 | K32: =0.15*I32 -> 0 | L32: =SUM(I32:K32) -> 0 | M32: =ROUND(G32*F32,2) -> 0 | N32: =ROUND(I32*F32,2) -> 0 | O32: =ROUND(J32*F32,2) -> 0 | P32: =ROUND(K32*F32,2) -> 0 | Q32: =SUM(N32:P32) -> 0
A33: 2.5. | C33: Bez halogēna kabelis Cu- 5x2,5 mm2 | D33: EXQ EASY vai ekvivalnets | E33: m | F33: 20 | K33: =0.15*I33 -> 0 | L33: =SUM(I33:K33) -> 0 | M33: =ROUND(G33*F33,2) -> 0 | N33: =ROUND(I33*F33,2) -> 0 | O33: =ROUND(J33*F33,2) -> 0 | P33: =ROUND(K33*F33,2) -> 0 | Q33: =SUM(N33:P33) -> 0
A34: 2.6. | C34: Bez halogēna kabelis Cu- 3x4 mm2 | D34: EXQ EASY vai ekvivalnets | E34: m | F34: 35 | K34: =0.15*I34 -> 0 | L34: =SUM(I34:K34) -> 0 | M34: =ROUND(G34*F34,2) -> 0 | N34: =ROUND(I34*F34,2) -> 0 | O34: =ROUND(J34*F34,2) -> 0 | P34: =ROUND(K34*F34,2) -> 0 | Q34: =SUM(N34:P34) -> 0
A35: 2.7. | C35: Bez halogēna kabelis Cu- 3x2,5 mm2 | D35: EXQ EASY vai ekvivalnets | E35: m | F35: =30+20+30+30+25+30+30+35+25+30+35+35+50+45+5+75+25+25+25+25+25+20+60+100+25+15+40+30+50+60+90+40+15+25+10+45+40+50+15+45+30+50+50+55+20 -> 1635 | K35: =0.15*I35 -> 0 | L35: =SUM(I35:K35) -> 0 | M35: =ROUND(G35*F35,2) -> 0 | N35: =ROUND(I35*F35,2) -> 0 | O35: =ROUND(J35*F35,2) -> 0 | P35: =ROUND(K35*F35,2) -> 0 | Q35: =SUM(N35:P35) -> 0
A36: 2.8. | C36: Bez halogēna kabelis Cu- 3x1,5 mm2 | D36: EXQ EASY vai ekvivalnets | E36: m | F36: =15+20+20+10+15+25+25+25+50+40+25+20+20+20+20+50+50+10+10+20+20+10+20+25+20+20+25+30+40+50+25+40 -> 815 | K36: =0.15*I36 -> 0 | L36: =SUM(I36:K36) -> 0 | M36: =ROUND(G36*F36,2) -> 0 | N36: =ROUND(I36*F36,2) -> 0 | O36: =ROUND(J36*F36,2) -> 0 | P36: =ROUND(K36*F36,2) -> 0 | Q36: =SUM(N36:P36) -> 0
A37: 2.9. | C37: Ugundrošs kabelis (N)HXH-FE-180/E60-3x1,5 | E37: m | F37: =50+50+20+70+20+70+50+60+25+25+20+20+15 -> 495 | K37: =0.15*I37 -> 0 | L37: =SUM(I37:K37) -> 0 | M37: =ROUND(G37*F37,2) -> 0 | N37: =ROUND(I37*F37,2) -> 0 | O37: =ROUND(J37*F37,2) -> 0 | P37: =ROUND(K37*F37,2) -> 0 | Q37: =SUM(N37:P37) -> 0
A38: 2.10. | C38: Ugundrošs kabelis (N)HXH-FE-180/E60-3x2,5 | E38: m | F38: 25 | K38: =0.15*I38 -> 0 | L38: =SUM(I38:K38) -> 0 | M38: =ROUND(G38*F38,2) -> 0 | N38: =ROUND(I38*F38,2) -> 0 | O38: =ROUND(J38*F38,2) -> 0 | P38: =ROUND(K38*F38,2) -> 0 | Q38: =SUM(N38:P38) -> 0
A39: 2.11. | C39: J-Y(St)Y 2x2x0.8 | E39: m | F39: 20 | K39: =0.15*I39 -> 0 | L39: =SUM(I39:K39) -> 0 | M39: =ROUND(G39*F39,2) -> 0 | N39: =ROUND(I39*F39,2) -> 0 | O39: =ROUND(J39*F39,2) -> 0 | P39: =ROUND(K39*F39,2) -> 0 | Q39: =SUM(N39:P39) -> 0
L40: =SUM(I40:K40) -> 0 | M40: =ROUND(G40*F40,2) -> 0 | N40: =ROUND(I40*F40,2) -> 0 | O40: =ROUND(J40*F40,2) -> 0 | P40: =ROUND(K40*F40,2) -> 0 | Q40: =SUM(N40:P40) -> 0
A41: 3 | C41: Kabeļu nesošās sistēmas / caurules (kab. aizsardzības aprīkojums) | L41: =SUM(I41:K41) -> 0 | M41: =ROUND(G41*F41,2) -> 0 | N41: =ROUND(I41*F41,2) -> 0 | O41: =ROUND(J41*F41,2) -> 0 | P41: =ROUND(K41*F41,2) -> 0 | Q41: =SUM(N41:P41) -> 0
A42: 3.1. | C42: Bez halogēna gofrēta caurule ∅16mm ar stiprinājumiem | D42: EVOEL FL-0H-SMART vai ekvivalnets | E42: m | F42: 300 | K42: =0.15*I42 -> 0 | L42: =SUM(I42:K42) -> 0 | M42: =ROUND(G42*F42,2) -> 0 | N42: =ROUND(I42*F42,2) -> 0 | O42: =ROUND(J42*F42,2) -> 0 | P42: =ROUND(K42*F42,2) -> 0 | Q42: =SUM(N42:P42) -> 0
A43: 3.2. | C43: Bez halogēna gofrēta caurule ∅25mm ar stiprinājumiem | E43: m | F43: 200 | K43: =0.15*I43 -> 0 | L43: =SUM(I43:K43) -> 0 | M43: =ROUND(G43*F43,2) -> 0 | N43: =ROUND(I43*F43,2) -> 0 | O43: =ROUND(J43*F43,2) -> 0 | P43: =ROUND(K43*F43,2) -> 0 | Q43: =SUM(N43:P43) -> 0
A44: 3.3. | C44: Bez halogēna gofrēta caurule ∅32mm ar stiprinājumiem | E44: m | F44: 100 | K44: =0.15*I44 -> 0 | L44: =SUM(I44:K44) -> 0 | M44: =ROUND(G44*F44,2) -> 0 | N44: =ROUND(I44*F44,2) -> 0 | O44: =ROUND(J44*F44,2) -> 0 | P44: =ROUND(K44*F44,2) -> 0 | Q44: =SUM(N44:P44) -> 0
A45: 3.4. | C45: Bez halogēna gofrēta caurule ∅50mm ar stiprinājumiem | E45: m | F45: 50 | K45: =0.15*I45 -> 0 | L45: =SUM(I45:K45) -> 0 | M45: =ROUND(G45*F45,2) -> 0 | N45: =ROUND(I45*F45,2) -> 0 | O45: =ROUND(J45*F45,2) -> 0 | P45: =ROUND(K45*F45,2) -> 0 | Q45: =SUM(N45:P45) -> 0
A46: 3.5. | C46: Kabeļu trepe W=300mm, L=3, ar stiprinājumiem | D46: KS20-300 | E46: gb | F46: 2 | K46: =0.15*I46 -> 0 | L46: =SUM(I46:K46) -> 0 | M46: =ROUND(G46*F46,2) -> 0 | N46: =ROUND(I46*F46,2) -> 0 | O46: =ROUND(J46*F46,2) -> 0 | P46: =ROUND(K46*F46,2) -> 0 | Q46: =SUM(N46:P46) -> 0
A47: 3.6. | C47: Ugunsdrošie stiprinājumi E30 kabeļiem | E47: gb | F47: 400 | K47: =0.15*I47 -> 0 | L47: =SUM(I47:K47) -> 0 | M47: =ROUND(G47*F47,2) -> 0 | N47: =ROUND(I47*F47,2) -> 0 | O47: =ROUND(J47*F47,2) -> 0 | P47: =ROUND(K47*F47,2) -> 0 | Q47: =SUM(N47:P47) -> 0
A48: 3.7. | C48: Cauruļu palīgmateriāli (līkumi, savienojumi, stipr. utt.) | E48: kpl. | F48: 1 | K48: =0.15*I48 -> 0 | L48: =SUM(I48:K48) -> 0 | M48: =ROUND(G48*F48,2) -> 0 | N48: =ROUND(I48*F48,2) -> 0 | O48: =ROUND(J48*F48,2) -> 0 | P48: =ROUND(K48*F48,2) -> 0 | Q48: =SUM(N48:P48) -> 0
A49: 3.8. | C49: Nozarkārba ar spailēm, z/a | E49: gb | F49: 200 | K49: =0.15*I49 -> 0 | L49: =SUM(I49:K49) -> 0 | M49: =ROUND(G49*F49,2) -> 0 | N49: =ROUND(I49*F49,2) -> 0 | O49: =ROUND(J49*F49,2) -> 0 | P49: =ROUND(K49*F49,2) -> 0 | Q49: =SUM(N49:P49) -> 0
A50: 3.9. | C50: Nozarkārba ar spailēm, v/a | E50: gb | F50: 100 | K50: =0.15*I50 -> 0 | L50: =SUM(I50:K50) -> 0 | M50: =ROUND(G50*F50,2) -> 0 | N50: =ROUND(I50*F50,2) -> 0 | O50: =ROUND(J50*F50,2) -> 0 | P50: =ROUND(K50*F50,2) -> 0 | Q50: =SUM(N50:P50) -> 0
A51: 3.10. | C51: Hermetizējošs blīvējums | E51: kpl. | F51: 1 | K51: =0.15*I51 -> 0 | L51: =SUM(I51:K51) -> 0 | M51: =ROUND(G51*F51,2) -> 0 | N51: =ROUND(I51*F51,2) -> 0 | O51: =ROUND(J51*F51,2) -> 0 | P51: =ROUND(K51*F51,2) -> 0 | Q51: =SUM(N51:P51) -> 0
A52: 3.11. | C52: Ugunsdrošs noblīvējums HILTI | E52: kpl. | F52: 1 | K52: =0.15*I52 -> 0 | L52: =SUM(I52:K52) -> 0 | M52: =ROUND(G52*F52,2) -> 0 | N52: =ROUND(I52*F52,2) -> 0 | O52: =ROUND(J52*F52,2) -> 0 | P52: =ROUND(K52*F52,2) -> 0 | Q52: =SUM(N52:P52) -> 0
A53: 3.12. | C53: Ugunsdrošs pārklājums HILTI 20kg | E53: kpl. | F53: 1 | K53: =0.15*I53 -> 0 | L53: =SUM(I53:K53) -> 0 | M53: =ROUND(G53*F53,2) -> 0 | N53: =ROUND(I53*F53,2) -> 0 | O53: =ROUND(J53*F53,2) -> 0 | P53: =ROUND(K53*F53,2) -> 0 | Q53: =SUM(N53:P53) -> 0
A54: 3.13. | C54: Montāžas izstrādājumi un palīgmateriāli | E54: kpl. | F54: 1 | K54: =0.15*I54 -> 0 | L54: =SUM(I54:K54) -> 0 | M54: =ROUND(G54*F54,2) -> 0 | N54: =ROUND(I54*F54,2) -> 0 | O54: =ROUND(J54*F54,2) -> 0 | P54: =ROUND(K54*F54,2) -> 0 | Q54: =SUM(N54:P54) -> 0
A55: 3.14. | C55: Montāžas izstrādājumu palīgmateriālu komplekts (kārbas, klemmes, kronšteini, ķēdes un citi stiprināšanas elementi) | E55: kpl. | F55: 1 | K55: =0.15*I55 -> 0 | L55: =SUM(I55:K55) -> 0 | M55: =ROUND(G55*F55,2) -> 0 | N55: =ROUND(I55*F55,2) -> 0 | O55: =ROUND(J55*F55,2) -> 0 | P55: =ROUND(K55*F55,2) -> 0 | Q55: =SUM(N55:P55) -> 0
C56: * caurules ieguldīšanai pamatu šķērsošanai skat. ELT sadaļā | L56: =SUM(I56:K56) -> 0 | M56: =ROUND(G56*F56,2) -> 0 | N56: =ROUND(I56*F56,2) -> 0 | O56: =ROUND(J56*F56,2) -> 0 | P56: =ROUND(K56*F56,2) -> 0 | Q56: =SUM(N56:P56) -> 0
L57: =SUM(I57:K57) -> 0 | M57: =ROUND(G57*F57,2) -> 0 | N57: =ROUND(I57*F57,2) -> 0 | O57: =ROUND(J57*F57,2) -> 0 | P57: =ROUND(K57*F57,2) -> 0 | Q57: =SUM(N57:P57) -> 0
A58: 4 | C58: Apgaismojuma aprīkojums un rozetes | L58: =SUM(I58:K58) -> 0 | M58: =ROUND(G58*F58,2) -> 0 | N58: =ROUND(I58*F58,2) -> 0 | O58: =ROUND(J58*F58,2) -> 0 | P58: =ROUND(K58*F58,2) -> 0 | Q58: =SUM(N58:P58) -> 0
L59: =SUM(I59:K59) -> 0 | M59: =ROUND(G59*F59,2) -> 0 | N59: =ROUND(I59*F59,2) -> 0 | O59: =ROUND(J59*F59,2) -> 0 | P59: =ROUND(K59*F59,2) -> 0 | Q59: =SUM(N59:P59) -> 0
C60: Apgaismojuma vadības slēdži | L60: =SUM(I60:K60) -> 0 | M60: =ROUND(G60*F60,2) -> 0 | N60: =ROUND(I60*F60,2) -> 0 | O60: =ROUND(J60*F60,2) -> 0 | P60: =ROUND(K60*F60,2) -> 0 | Q60: =SUM(N60:P60) -> 0
C61: Vadības slēdžu ražotājfirmu precizēt saskaņā ar pasūtītāja norādījumiem. | L61: =SUM(I61:K61) -> 0 | M61: =ROUND(G61*F61,2) -> 0 | N61: =ROUND(I61*F61,2) -> 0 | O61: =ROUND(J61*F61,2) -> 0 | P61: =ROUND(K61*F61,2) -> 0 | Q61: =SUM(N61:P61) -> 0
A62: 4.1. | C62: Vienpolīgs z/a slēdzis; ~230V, 10A, IP20 | E62: gb | F62: =3+1+4+1+5+4+4+1 -> 23 | K62: =0.15*I62 -> 0 | L62: =SUM(I62:K62) -> 0 | M62: =ROUND(G62*F62,2) -> 0 | N62: =ROUND(I62*F62,2) -> 0 | O62: =ROUND(J62*F62,2) -> 0 | P62: =ROUND(K62*F62,2) -> 0 | Q62: =SUM(N62:P62) -> 0
A63: 4.2. | C63: Divpolīgs z/a slēdzis; ~230V, 10A, IP20 | E63: gb | F63: 3 | K63: =0.15*I63 -> 0 | L63: =SUM(I63:K63) -> 0 | M63: =ROUND(G63*F63,2) -> 0 | N63: =ROUND(I63*F63,2) -> 0 | O63: =ROUND(J63*F63,2) -> 0 | P63: =ROUND(K63*F63,2) -> 0 | Q63: =SUM(N63:P63) -> 0
A64: 4.3. | C64: Vienpolīgs z/a slēdzis; ~230V, 10A, IP44 | E64: gb | F64: =2+1+3+3+2 -> 11 | K64: =0.15*I64 -> 0 | L64: =SUM(I64:K64) -> 0 | M64: =ROUND(G64*F64,2) -> 0 | N64: =ROUND(I64*F64,2) -> 0 | O64: =ROUND(J64*F64,2) -> 0 | P64: =ROUND(K64*F64,2) -> 0 | Q64: =SUM(N64:P64) -> 0
A65: 4.4. | C65: Pārslēdzis z/a (koridoru sistēma); ~230V,10A,IP20 | E65: gb | F65: 4 | K65: =0.15*I65 -> 0 | L65: =SUM(I65:K65) -> 0 | M65: =ROUND(G65*F65,2) -> 0 | N65: =ROUND(I65*F65,2) -> 0 | O65: =ROUND(J65*F65,2) -> 0 | P65: =ROUND(K65*F65,2) -> 0 | Q65: =SUM(N65:P65) -> 0
A66: 4.5. | C66: Klātbūtnes sensors; ~230V, 10A, IP20 | E66: gb | F66: 4 | K66: =0.15*I66 -> 0 | L66: =SUM(I66:K66) -> 0 | M66: =ROUND(G66*F66,2) -> 0 | N66: =ROUND(I66*F66,2) -> 0 | O66: =ROUND(J66*F66,2) -> 0 | P66: =ROUND(K66*F66,2) -> 0 | Q66: =SUM(N66:P66) -> 0
L67: =SUM(I67:K67) -> 0 | M67: =ROUND(G67*F67,2) -> 0 | N67: =ROUND(I67*F67,2) -> 0 | O67: =ROUND(J67*F67,2) -> 0 | P67: =ROUND(K67*F67,2) -> 0 | Q67: =SUM(N67:P67) -> 0
C68: Kontaktligzdas | L68: =SUM(I68:K68) -> 0 | M68: =ROUND(G68*F68,2) -> 0 | N68: =ROUND(I68*F68,2) -> 0 | O68: =ROUND(J68*F68,2) -> 0 | P68: =ROUND(K68*F68,2) -> 0 | Q68: =SUM(N68:P68) -> 0
C69: Kontaktligzdu ražotājfirmu precizēt saskaņā ar pasūtītāja norādījumiem. | L69: =SUM(I69:K69) -> 0 | M69: =ROUND(G69*F69,2) -> 0 | N69: =ROUND(I69*F69,2) -> 0 | O69: =ROUND(J69*F69,2) -> 0 | P69: =ROUND(K69*F69,2) -> 0 | Q69: =SUM(N69:P69) -> 0
A70: 4.6. | C70: Kontaktligzda (2 gab.), 2-vietīgs rāmis (1 gab.), z/a, 16A; ~230V, IP20 | E70: kpl. | F70: 15 | K70: =0.15*I70 -> 0 | L70: =SUM(I70:K70) -> 0 | M70: =ROUND(G70*F70,2) -> 0 | N70: =ROUND(I70*F70,2) -> 0 | O70: =ROUND(J70*F70,2) -> 0 | P70: =ROUND(K70*F70,2) -> 0 | Q70: =SUM(N70:P70) -> 0
A71: 4.7. | C71: Kontaktligzda (3 gab.), 3-vietīgs rāmis (1 gab.), z/a, 16A; ~230V, IP20 | E71: kpl. | F71: =9+2+6+4+3+4+8+4+8+4+5+2+4+2+5+3+4+5+3+7+2+8+1+2+3+3+4 -> 115 | K71: =0.15*I71 -> 0 | L71: =SUM(I71:K71) -> 0 | M71: =ROUND(G71*F71,2) -> 0 | N71: =ROUND(I71*F71,2) -> 0 | O71: =ROUND(J71*F71,2) -> 0 | P71: =ROUND(K71*F71,2) -> 0 | Q71: =SUM(N71:P71) -> 0
A72: 4.8. | C72: Kontaktligzda (1 gab.), 1-vietīgs rāmis (1 gab.), z/a, 16A; ~230V, IP44 | E72: kpl. | F72: 4 | K72: =0.15*I72 -> 0 | L72: =SUM(I72:K72) -> 0 | M72: =ROUND(G72*F72,2) -> 0 | N72: =ROUND(I72*F72,2) -> 0 | O72: =ROUND(J72*F72,2) -> 0 | P72: =ROUND(K72*F72,2) -> 0 | Q72: =SUM(N72:P72) -> 0
A73: 4.9. | C73: Kontaktligzda (2 gab.), 2-vietīgs rāmis (1 gab.), z/a, 16A; ~230V, IP44 | E73: kpl. | F73: =3+2+3+2 -> 10 | K73: =0.15*I73 -> 0 | L73: =SUM(I73:K73) -> 0 | M73: =ROUND(G73*F73,2) -> 0 | N73: =ROUND(I73*F73,2) -> 0 | O73: =ROUND(J73*F73,2) -> 0 | P73: =ROUND(K73*F73,2) -> 0 | Q73: =SUM(N73:P73) -> 0
A74: 4.10. | C74: Kontaktligzda (3 gab.), 3-vietīgs rāmis (1 gab.), z/a, 16A; ~230V, IP44 | E74: kpl. | F74: 3 | K74: =0.15*I74 -> 0 | L74: =SUM(I74:K74) -> 0 | M74: =ROUND(G74*F74,2) -> 0 | N74: =ROUND(I74*F74,2) -> 0 | O74: =ROUND(J74*F74,2) -> 0 | P74: =ROUND(K74*F74,2) -> 0 | Q74: =SUM(N74:P74) -> 0
A75: 4.11. | C75: Grīdas kārba ar kontaktligzdam (3 gab.), Kārba 4-vietīga (1 gab.), 16A; ~230V, IP44 | E75: kpl. | F75: 1 | K75: =0.15*I75 -> 0 | L75: =SUM(I75:K75) -> 0 | M75: =ROUND(G75*F75,2) -> 0 | N75: =ROUND(I75*F75,2) -> 0 | O75: =ROUND(J75*F75,2) -> 0 | P75: =ROUND(K75*F75,2) -> 0 | Q75: =SUM(N75:P75) -> 0
L76: =SUM(I76:K76) -> 0 | M76: =ROUND(G76*F76,2) -> 0 | N76: =ROUND(I76*F76,2) -> 0 | O76: =ROUND(J76*F76,2) -> 0 | P76: =ROUND(K76*F76,2) -> 0 | Q76: =SUM(N76:P76) -> 0
A77: 5 | C77: Iekšējā potenciālu izlīdzināšanas / zemējuma materiāli | L77: =SUM(I77:K77) -> 0 | M77: =ROUND(G77*F77,2) -> 0 | N77: =ROUND(I77*F77,2) -> 0 | O77: =ROUND(J77*F77,2) -> 0 | P77: =ROUND(K77*F77,2) -> 0 | Q77: =SUM(N77:P77) -> 0
A78: 5.1. | C78: Vara vads lokans šķērsgr. 35mm² (dzelteni-zaļš) iekārtu zemēšanai | E78: m | F78: 20 | K78: =0.15*I78 -> 0 | L78: =SUM(I78:K78) -> 0 | M78: =ROUND(G78*F78,2) -> 0 | N78: =ROUND(I78*F78,2) -> 0 | O78: =ROUND(J78*F78,2) -> 0 | P78: =ROUND(K78*F78,2) -> 0 | Q78: =SUM(N78:P78) -> 0
A79: 5.2. | C79: Vara vads lokans šķērsgr. 25mm² (dzelteni-zaļš) iekārtu zemēšanai | E79: m | F79: =10+80+20+(30*5)+30+120+40+30 -> 480 | K79: =0.15*I79 -> 0 | L79: =SUM(I79:K79) -> 0 | M79: =ROUND(G79*F79,2) -> 0 | N79: =ROUND(I79*F79,2) -> 0 | O79: =ROUND(J79*F79,2) -> 0 | P79: =ROUND(K79*F79,2) -> 0 | Q79: =SUM(N79:P79) -> 0
A80: 5.3. | C80: Vara vads lokans šķērsgr. 16mm² (dzelteni-zaļš) iekārtu zemēšanai | E80: m | F80: 100 | K80: =0.15*I80 -> 0 | L80: =SUM(I80:K80) -> 0 | M80: =ROUND(G80*F80,2) -> 0 | N80: =ROUND(I80*F80,2) -> 0 | O80: =ROUND(J80*F80,2) -> 0 | P80: =ROUND(K80*F80,2) -> 0 | Q80: =SUM(N80:P80) -> 0
A81: 5.4. | C81: Vara vads lokans šķērsgr. 6mm² (dzelteni-zaļš) iekārtu zemēšanai | E81: m | F81: 380 | K81: =0.15*I81 -> 0 | L81: =SUM(I81:K81) -> 0 | M81: =ROUND(G81*F81,2) -> 0 | N81: =ROUND(I81*F81,2) -> 0 | O81: =ROUND(J81*F81,2) -> 0 | P81: =ROUND(K81*F81,2) -> 0 | Q81: =SUM(N81:P81) -> 0
A82: 5.5. | C82: Galvenā zemējuma kopne (GZK) | E82: gb | F82: 1 | K82: =0.15*I82 -> 0 | L82: =SUM(I82:K82) -> 0 | M82: =ROUND(G82*F82,2) -> 0 | N82: =ROUND(I82*F82,2) -> 0 | O82: =ROUND(J82*F82,2) -> 0 | P82: =ROUND(K82*F82,2) -> 0 | Q82: =SUM(N82:P82) -> 0
A83: 5.6. | C83: Zemējuma kopne (PAK) | E83: gb | F83: =5+6+5+3 -> 19 | K83: =0.15*I83 -> 0 | L83: =SUM(I83:K83) -> 0 | M83: =ROUND(G83*F83,2) -> 0 | N83: =ROUND(I83*F83,2) -> 0 | O83: =ROUND(J83*F83,2) -> 0 | P83: =ROUND(K83*F83,2) -> 0 | Q83: =SUM(N83:P83) -> 0
A84: 5.7. | C84: Antikorozijas pārklājums | E84: kpl. | F84: 1 | K84: =0.15*I84 -> 0 | L84: =SUM(I84:K84) -> 0 | M84: =ROUND(G84*F84,2) -> 0 | N84: =ROUND(I84*F84,2) -> 0 | O84: =ROUND(J84*F84,2) -> 0 | P84: =ROUND(K84*F84,2) -> 0 | Q84: =SUM(N84:P84) -> 0
L85: =SUM(I85:K85) -> 0 | M85: =ROUND(G85*F85,2) -> 0 | N85: =ROUND(I85*F85,2) -> 0 | O85: =ROUND(J85*F85,2) -> 0 | P85: =ROUND(K85*F85,2) -> 0 | Q85: =SUM(N85:P85) -> 0
A86: 6 | C86: Zibensaisardzības aprīkojums (OBO vai ekvivalents) | L86: =SUM(I86:K86) -> 0 | M86: =ROUND(G86*F86,2) -> 0 | N86: =ROUND(I86*F86,2) -> 0 | O86: =ROUND(J86*F86,2) -> 0 | P86: =ROUND(K86*F86,2) -> 0 | Q86: =SUM(N86:P86) -> 0
A87: 6.1. | C87: Alumīnija apaļvads Ø8mm | D87: RD 8-ALU-T | E87: m | F87: =12+12+20+30+50+24+26+40+13+130+10 -> 367 | K87: =0.15*I87 -> 0 | L87: =SUM(I87:K87) -> 0 | M87: =ROUND(G87*F87,2) -> 0 | N87: =ROUND(I87*F87,2) -> 0 | O87: =ROUND(J87*F87,2) -> 0 | P87: =ROUND(K87*F87,2) -> 0 | Q87: =SUM(N87:P87) -> 0
A88: 6.2. | C88: Kompensators D=8mm, 600mm alumīnija | E88: gb | F88: 8 | K88: =0.15*I88 -> 0 | L88: =SUM(I88:K88) -> 0 | M88: =ROUND(G88*F88,2) -> 0 | N88: =ROUND(I88*F88,2) -> 0 | O88: =ROUND(J88*F88,2) -> 0 | P88: =ROUND(K88*F88,2) -> 0 | Q88: =SUM(N88:P88) -> 0
A89: 6.3. | C89: Karsti cinkotā tērauda apaļvads Ø8mm | D89: RD 8-FT 125m, Ø8mm | E89: m | F89: 60 | K89: =0.15*I89 -> 0 | L89: =SUM(I89:K89) -> 0 | M89: =ROUND(G89*F89,2) -> 0 | N89: =ROUND(I89*F89,2) -> 0 | O89: =ROUND(J89*F89,2) -> 0 | P89: =ROUND(K89*F89,2) -> 0 | Q89: =SUM(N89:P89) -> 0
A90: 6.4. | C90: Stiprinājums jumta korei | D90: 132 VA | E90: gb | F90: 12 | K90: =0.15*I90 -> 0 | L90: =SUM(I90:K90) -> 0 | M90: =ROUND(G90*F90,2) -> 0 | N90: =ROUND(I90*F90,2) -> 0 | O90: =ROUND(J90*F90,2) -> 0 | P90: =ROUND(K90*F90,2) -> 0 | Q90: =SUM(N90:P90) -> 0
A91: 6.5. | C91: Stiprinājums jumta plaksnei | D91: 157 I-VA | E91: gb | F91: 350 | K91: =0.15*I91 -> 0 | L91: =SUM(I91:K91) -> 0 | M91: =ROUND(G91*F91,2) -> 0 | N91: =ROUND(I91*F91,2) -> 0 | O91: =ROUND(J91*F91,2) -> 0 | P91: =ROUND(K91*F91,2) -> 0 | Q91: =SUM(N91:P91) -> 0
A92: 6.6. | C92: Savienojums stieple/stieple | D92: 249 8-10 ALU | E92: gb | F92: 160 | K92: =0.15*I92 -> 0 | L92: =SUM(I92:K92) -> 0 | M92: =ROUND(G92*F92,2) -> 0 | N92: =ROUND(I92*F92,2) -> 0 | O92: =ROUND(J92*F92,2) -> 0 | P92: =ROUND(K92*F92,2) -> 0 | Q92: =SUM(N92:P92) -> 0
A93: 6.7. | C93: Zibensuztvērējs (500mm) ar pievienojuma spaili | D93: 101 G1500 | E93: gb | F93: 7 | K93: =0.15*I93 -> 0 | L93: =SUM(I93:K93) -> 0 | M93: =ROUND(G93*F93,2) -> 0 | N93: =ROUND(I93*F93,2) -> 0 | O93: =ROUND(J93*F93,2) -> 0 | P93: =ROUND(K93*F93,2) -> 0 | Q93: =SUM(N93:P93) -> 0
A94: 6.8. | C94: Uzgalis zibensuztverējam/ stieplei | D94: 120 A | E94: gb | F94: 8 | K94: =0.15*I94 -> 0 | L94: =SUM(I94:K94) -> 0 | M94: =ROUND(G94*F94,2) -> 0 | N94: =ROUND(I94*F94,2) -> 0 | O94: =ROUND(J94*F94,2) -> 0 | P94: =ROUND(K94*F94,2) -> 0 | Q94: =SUM(N94:P94) -> 0
A95: 6.9. | C95: Zibensuztvereja stiprinājums (gar kanalizācijas ventilācijas) | D95: ISO-A-500 | E95: gb | F95: 2 | K95: =0.15*I95 -> 0 | L95: =SUM(I95:K95) -> 0 | M95: =ROUND(G95*F95,2) -> 0 | N95: =ROUND(I95*F95,2) -> 0 | O95: =ROUND(J95*F95,2) -> 0 | P95: =ROUND(K95*F95,2) -> 0 | Q95: =SUM(N95:P95) -> 0
A96: 6.10. | C96: Savienojums ar notekreni | D96: RK-FIX | E96: gb | F96: 6 | K96: =0.15*I96 -> 0 | L96: =SUM(I96:K96) -> 0 | M96: =ROUND(G96*F96,2) -> 0 | N96: =ROUND(I96*F96,2) -> 0 | O96: =ROUND(J96*F96,2) -> 0 | P96: =ROUND(K96*F96,2) -> 0 | Q96: =SUM(N96:P96) -> 0
A97: 6.11. | C97: Karsti cinkotā tērauda apaļvads Ø10mm | D97: RD 10, 5021103 | E97: m | F97: 15 | K97: =0.15*I97 -> 0 | L97: =SUM(I97:K97) -> 0 | M97: =ROUND(G97*F97,2) -> 0 | N97: =ROUND(I97*F97,2) -> 0 | O97: =ROUND(J97*F97,2) -> 0 | P97: =ROUND(K97*F97,2) -> 0 | Q97: =SUM(N97:P97) -> 0
A98: 6.12. | C98: Stieples stiprinājums pie notekcaurules | D98: 301 V + 324 S-FT | E98: gb | F98: =6*8 -> 48 | K98: =0.15*I98 -> 0 | L98: =SUM(I98:K98) -> 0 | M98: =ROUND(G98*F98,2) -> 0 | N98: =ROUND(I98*F98,2) -> 0 | O98: =ROUND(J98*F98,2) -> 0 | P98: =ROUND(K98*F98,2) -> 0 | Q98: =SUM(N98:P98) -> 0
A99: 6.13. | C99: Pievienojums sniega barjerai | D99: 264 | E99: gb | F99: 8 | K99: =0.15*I99 -> 0 | L99: =SUM(I99:K99) -> 0 | M99: =ROUND(G99*F99,2) -> 0 | N99: =ROUND(I99*F99,2) -> 0 | O99: =ROUND(J99*F99,2) -> 0 | P99: =ROUND(K99*F99,2) -> 0 | Q99: =SUM(N99:P99) -> 0
A100: 6.14. | C100: Mērījuma spaile | D100: 237 N FT | E100: gb | F100: 6 | K100: =0.15*I100 -> 0 | L100: =SUM(I100:K100) -> 0 | M100: =ROUND(G100*F100,2) -> 0 | N100: =ROUND(I100*F100,2) -> 0 | O100: =ROUND(J100*F100,2) -> 0 | P100: =ROUND(K100*F100,2) -> 0 | Q100: =SUM(N100:P100) -> 0
A101: 6.15. | C101: Montāžas izstrādājumu palīgmateriālu komplekts (kārbas, klemmes, kronšteini, ķēdes un citi stiprināšanas elementi) | E101: kpl. | F101: 1 | K101: =0.15*I101 -> 0 | L101: =SUM(I101:K101) -> 0 | M101: =ROUND(G101*F101,2) -> 0 | N101: =ROUND(I101*F101,2) -> 0 | O101: =ROUND(J101*F101,2) -> 0 | P101: =ROUND(K101*F101,2) -> 0 | Q101: =SUM(N101:P101) -> 0
G102: 0 | H102: 0
...

Sheet 2.8._VNI
H1: Lokālā tāme Nr. | I1: =kops2_VNI!B28 -> 2.8._VNI
A2: =C13 -> Ugunsgrēka signalizācijas sistēma
C3: Būves nosaukums: | E3: =Koptame_VNI!C11 -> Ēkas pārbūve un teritorijas labiekārtošana
C4: Objekta nosaukums: | E4: =Koptame_VNI!C12 -> Ēkas pārbūve un teritorijas labiekārtošana( VNĪ līdzekļi)
C5: Objekta adrese: | E5: =Koptame_VNI!C13 -> Citadeles iela 7, Rīga
C6: =Koptame_VNI!B14 -> Pasūtījuma Nr. | E6: =Koptame_VNI!C14 -> n
A7: =Koptame_VNI!B17 -> Tāme sastādīta 2023.gada tirgus cenās, pamatojoties uz SIA „Baltex Group” būvprojekta rasējumiem un darbu apjomiem | P7: Tāmes izmaksas euro: | Q7: =Q42 -> 0
M9: =Koptame_VNI!D16 -> Tāme sastādīta:
A11: Nr.p.k. | B11: Kods | C11: Būvdarbu nosaukums | E11: Mērvienība | F11: Daudzums | G11: Vienības izmaksas | M11: Kopā uz visu apjomu
G12: Laika norma (c/h) | H12: Darba samaksas likme (euro/h) | I12: Darba alga (euro) | J12: Būvizstrādājumi (euro) | K12: Mehānismi (euro) | L12: Kopā (euro) | M12: Darbietilpība (c/h) | N12: Darba alga (euro) | O12: Būvizstrādājumi (euro) | P12: Mehānismi (euro) | Q12: Summa (euro)
C13: =kops2_VNI!C28 -> Ugunsgrēka signalizācijas sistēma | G13: 0 | H13: 0 | L13: =SUM(I13:K13) -> 0 | M13: =ROUND(G13*F13,2) -> 0 | N13: =ROUND(I13*F13,2) -> 0 | O13: =ROUND(J13*F13,2) -> 0 | P13: =ROUND(K13*F13,2) -> 0 | Q13: =SUM(N13:P13) -> 0
C14: Montāžas un palaišanas darbi
A15: 1 | C15: Kontroles panelis | D15: Esmi Sense FDP221 | E15: kpl. | F15: 1 | K15: =0.15*I15 -> 0 | L15: =SUM(I15:K15) -> 0 | M15: =ROUND(G15*F15,2) -> 0 | N15: =ROUND(I15*F15,2) -> 0 | O15: =ROUND(J15*F15,2) -> 0 | P15: =ROUND(K15*F15,2) -> 0 | Q15: =SUM(N15:P15) -> 0
A16: 2 | C16: Skapis papildus baterijām | D16: ESMI FX-BAT | E16: kpl. | F16: 1 | K16: =0.15*I16 -> 0 | L16: =SUM(I16:K16) -> 0 | M16: =ROUND(G16*F16,2) -> 0 | N16: =ROUND(I16*F16,2) -> 0 | O16: =ROUND(J16*F16,2) -> 0 | P16: =ROUND(K16*F16,2) -> 0 | Q16: =SUM(N16:P16) -> 0
A17: 3 | C17: Cilpu modulis | D17: FX-ALC2 (2 cilpas) | E17: gb. | F17: 1 | K17: =0.15*I17 -> 0 | L17: =SUM(I17:K17) -> 0 | M17: =ROUND(G17*F17,2) -> 0 | N17: =ROUND(I17*F17,2) -> 0 | O17: =ROUND(J17*F17,2) -> 0 | P17: =ROUND(K17*F17,2) -> 0 | Q17: =SUM(N17:P17) -> 0
A18: 4 | C18: Kontroles un vadības modulis | D18: MCOX-OB Logic Unit | E18: gb. | F18: 1 | K18: =0.15*I18 -> 0 | L18: =SUM(I18:K18) -> 0 | M18: =ROUND(G18*F18,2) -> 0 | N18: =ROUND(I18*F18,2) -> 0 | O18: =ROUND(J18*F18,2) -> 0 | P18: =ROUND(K18*F18,2) -> 0 | Q18: =SUM(N18:P18) -> 0
A19: 5 | C19: Akumulators | D19: 12V/17 A/h | E19: gb. | F19: 4 | K19: =0.15*I19 -> 0 | L19: =SUM(I19:K19) -> 0 | M19: =ROUND(G19*F19,2) -> 0 | N19: =ROUND(I19*F19,2) -> 0 | O19: =ROUND(J19*F19,2) -> 0 | P19: =ROUND(K19*F19,2) -> 0 | Q19: =SUM(N19:P19) -> 0
A20: 6 | C20: Adrešu dūmu devējs | D20: EDI-20 | E20: gb. | F20: 48 | K20: =0.15*I20 -> 0 | L20: =SUM(I20:K20) -> 0 | M20: =ROUND(G20*F20,2) -> 0 | N20: =ROUND(I20*F20,2) -> 0 | O20: =ROUND(J20*F20,2) -> 0 | P20: =ROUND(K20*F20,2) -> 0 | Q20: =SUM(N20:P20) -> 0
A21: 7 | C21: Adrešu siltuma devējs | D21: EDI-50 | E21: gb. | F21: 6 | K21: =0.15*I21 -> 0 | L21: =SUM(I21:K21) -> 0 | M21: =ROUND(G21*F21,2) -> 0 | N21: =ROUND(I21*F21,2) -> 0 | O21: =ROUND(J21*F21,2) -> 0 | P21: =ROUND(K21*F21,2) -> 0 | Q21: =SUM(N21:P21) -> 0
A22: 8 | C22: Devēju bāze | D22: EBI-10 | E22: gb. | F22: 54 | K22: =0.15*I22 -> 0 | L22: =SUM(I22:K22) -> 0 | M22: =ROUND(G22*F22,2) -> 0 | N22: =ROUND(I22*F22,2) -> 0 | O22: =ROUND(J22*F22,2) -> 0 | P22: =ROUND(K22*F22,2) -> 0 | Q22: =SUM(N22:P22) -> 0
A23: 9 | C23: Rokas adreses trauksmes poga ar izolatoru | D23: EPP-20 | E23: kpl. | F23: 4 | K23: =0.15*I23 -> 0 | L23: =SUM(I23:K23) -> 0 | M23: =ROUND(G23*F23,2) -> 0 | N23: =ROUND(I23*F23,2) -> 0 | O23: =ROUND(J23*F23,2) -> 0 | P23: =ROUND(K23*F23,2) -> 0 | Q23: =SUM(N23:P23) -> 0
A24: 10 | C24: Rokas adreses trauksmes pogas bāze | D24: SR2G | E24: gb. | F24: 4 | K24: =0.15*I24 -> 0 | L24: =SUM(I24:K24) -> 0 | M24: =ROUND(G24*F24,2) -> 0 | N24: =ROUND(I24*F24,2) -> 0 | O24: =ROUND(J24*F24,2) -> 0 | P24: =ROUND(K24*F24,2) -> 0 | Q24: =SUM(N24:P24) -> 0
A25: 11 | C25: Vadības modulis | D25: EME212-I | E25: kpl. | F25: 29 | K25: =0.15*I25 -> 0 | L25: =SUM(I25:K25) -> 0 | M25: =ROUND(G25*F25,2) -> 0 | N25: =ROUND(I25*F25,2) -> 0 | O25: =ROUND(J25*F25,2) -> 0 | P25: =ROUND(K25*F25,2) -> 0 | Q25: =SUM(N25:P25) -> 0
A26: 12 | C26: Adrešu sirēna | D26: ESI-40 | F26: 27 | K26: =0.15*I26 -> 0 | L26: =SUM(I26:K26) -> 0 | M26: =ROUND(G26*F26,2) -> 0 | N26: =ROUND(I26*F26,2) -> 0 | O26: =ROUND(J26*F26,2) -> 0 | P26: =ROUND(K26*F26,2) -> 0 | Q26: =SUM(N26:P26) -> 0
A27: 13 | C27: LED iznesamais indikators | D27: NLY-91200 | E27: gb. | F27: 5 | K27: =0.15*I27 -> 0 | L27: =SUM(I27:K27) -> 0 | M27: =ROUND(G27*F27,2) -> 0 | N27: =ROUND(I27*F27,2) -> 0 | O27: =ROUND(J27*F27,2) -> 0 | P27: =ROUND(K27*F27,2) -> 0 | Q27: =SUM(N27:P27) -> 0
A28: 14 | C28: Kabelis | D28: JE-H(ST)H FE180/PH90 2x1.0 | E28: m | F28: 150 | K28: =0.15*I28 -> 0 | L28: =SUM(I28:K28) -> 0 | M28: =ROUND(G28*F28,2) -> 0 | N28: =ROUND(I28*F28,2) -> 0 | O28: =ROUND(J28*F28,2) -> 0 | P28: =ROUND(K28*F28,2) -> 0 | Q28: =SUM(N28:P28) -> 0
A29: 15 | C29: Kabelis | D29: 1x2x0.8+0.8 (E30) Eurosafe | E29: m | F29: 895 | K29: =0.15*I29 -> 0 | L29: =SUM(I29:K29) -> 0 | M29: =ROUND(G29*F29,2) -> 0 | N29: =ROUND(I29*F29,2) -> 0 | O29: =ROUND(J29*F29,2) -> 0 | P29: =ROUND(K29*F29,2) -> 0 | Q29: =SUM(N29:P29) -> 0
A30: 16 | C30: Kabelis | D30: NHXN-FE180/E30 3x2.5mm2 | E30: m | F30: 100 | K30: =0.15*I30 -> 0 | L30: =SUM(I30:K30) -> 0 | M30: =ROUND(G30*F30,2) -> 0 | N30: =ROUND(I30*F30,2) -> 0 | O30: =ROUND(J30*F30,2) -> 0 | P30: =ROUND(K30*F30,2) -> 0 | Q30: =SUM(N30:P30) -> 0
A31: 17 | C31: Aizsargcaurule PVC d25 mm | E31: m | F31: 450 | K31: =0.15*I31 -> 0 | L31: =SUM(I31:K31) -> 0 | M31: =ROUND(G31*F31,2) -> 0 | N31: =ROUND(I31*F31,2) -> 0 | O31: =ROUND(J31*F31,2) -> 0 | P31: =ROUND(K31*F31,2) -> 0 | Q31: =SUM(N31:P31) -> 0
A32: 18 | C32: Instalācijas materiāli | E32: kpl. | F32: 1 | K32: =0.15*I32 -> 0 | L32: =SUM(I32:K32) -> 0 | M32: =ROUND(G32*F32,2) -> 0 | N32: =ROUND(I32*F32,2) -> 0 | O32: =ROUND(J32*F32,2) -> 0 | P32: =ROUND(K32*F32,2) -> 0 | Q32: =SUM(N32:P32) -> 0
A33: 19 | C33: Starpsienu urbšanas darbi | E33: gb. | F33: 10 | K33: =0.55*I33 -> 0 | L33: =SUM(I33:K33) -> 0 | M33: =ROUND(G33*F33,2) -> 0 | N33: =ROUND(I33*F33,2) -> 0 | O33: =ROUND(J33*F33,2) -> 0 | P33: =ROUND(K33*F33,2) -> 0 | Q33: =SUM(N33:P33) -> 0
A34: 20 | C34: Ugunsdrošās blīves kabeļiem | D34: Promastop IM CJ21 | E34: kpl. | F34: 1 | K34: =0.15*I34 -> 0 | L34: =SUM(I34:K34) -> 0 | M34: =ROUND(G34*F34,2) -> 0 | N34: =ROUND(I34*F34,2) -> 0 | O34: =ROUND(J34*F34,2) -> 0 | P34: =ROUND(K34*F34,2) -> 0 | Q34: =SUM(N34:P34) -> 0
A35: 21 | C35: Ugunsdrošais stiprinājums | D35: UDFB8. E90, d 8mm | E35: gb. | F35: 325 | K35: =0.15*I35 -> 0 | L35: =SUM(I35:K35) -> 0 | M35: =ROUND(G35*F35,2) -> 0 | N35: =ROUND(I35*F35,2) -> 0 | O35: =ROUND(J35*F35,2) -> 0 | P35: =ROUND(K35*F35,2) -> 0 | Q35: =SUM(N35:P35) -> 0
A36: 22 | C36: Detektoru un kabeļu marķēšana | E36: kpl. | F36: 1 | K36: =0.15*I36 -> 0 | L36: =SUM(I36:K36) -> 0 | M36: =ROUND(G36*F36,2) -> 0 | N36: =ROUND(I36*F36,2) -> 0 | O36: =ROUND(J36*F36,2) -> 0 | P36: =ROUND(K36*F36,2) -> 0 | Q36: =SUM(N36:P36) -> 0
A37: 23 | C37: Barošanas bloks ar vietu akumulātoriem | D37: 5A 24v UPS; ZTP2405B | E37: kpl. | F37: 1 | K37: =0.15*I37 -> 0 | L37: =SUM(I37:K37) -> 0 | M37: =ROUND(G37*F37,2) -> 0 | N37: =ROUND(I37*F37,2) -> 0 | O37: =ROUND(J37*F37,2) -> 0 | P37: =ROUND(K37*F37,2) -> 0 | Q37: =SUM(N37:P37) -> 0
A38: 24 | C38: Akumulators | D38: TC7-12, 7Ah 12v akumulators | E38: gb. | F38: 2 | K38: =0.15*I38 -> 0 | L38: =SUM(I38:K38) -> 0 | M38: =ROUND(G38*F38,2) -> 0 | N38: =ROUND(I38*F38,2) -> 0 | O38: =ROUND(J38*F38,2) -> 0 | P38: =ROUND(K38*F38,2) -> 0 | Q38: =SUM(N38:P38) -> 0
A39: 25 | C39: Pārslēdzējrelejs ar bāzi montējams uz DIN sliedes 24VDC <100mA, NC kontakts 10A | D39: 24VDC 10A NC | E39: gb. | F39: 28 | K39: =0.15*I39 -> 0 | L39: =SUM(I39:K39) -> 0 | M39: =ROUND(G39*F39,2) -> 0 | N39: =ROUND(I39*F39,2) -> 0 | O39: =ROUND(J39*F39,2) -> 0 | P39: =ROUND(K39*F39,2) -> 0 | Q39: =SUM(N39:P39) -> 0
A40: 26 | C40: Palaidējs montējams uz DIN sliedes 24VDC <200mA, 3xNC kontakti >20A | D40: 24VDC 20A 3xNC | E40: gb. | F40: 1 | K40: =0.15*I40 -> 0 | L40: =SUM(I40:K40) -> 0 | M40: =ROUND(G40*F40,2) -> 0 | N40: =ROUND(I40*F40,2) -> 0 | O40: =ROUND(J40*F40,2) -> 0 | P40: =ROUND(K40*F40,2) -> 0 | Q40: =SUM(N40:P40) -> 0
G41: 0 | H41: 0
C42: Tiešās izmaksas kopā, t.sk. darba devēja sociālais nodoklis(23,59%) | M42: =SUM(M13:M41) -> 0 | N42: =SUM(N13:N41) -> 0 | O42: =SUM(O13:O41) -> 0 | P42: =SUM(P13:P41) -> 0 | Q42: =SUM(Q13:Q41) -> 0
B44: Piezīmes:
A45: Visas atsauces uz materiālu un izstrādājumu izgatavotaj firmām, kuras norādītas būvprojektā, liecina tikai par šo materiālu un izstrādājumu tehniskajiem parametriem un kvalitātes līmeni, to nomaiņa ir iespējama ar citiem tehniski un kvalitatīvi ekvivalentiem būvizstrādājumiem, iepriekš saskaņojot tos ar projekta autoriem un uzrādot atbilstības sertifikātus.
B49: Sastādīja: | M49: =Koptame_VNI!B40 -> Pārbaudīja:
C50: =Koptame_VNI!C35 -> 0 | N50: =Koptame_VNI!C41 -> 0
C51: =Koptame_VNI!C36 -> 0 | N51: =Koptame_VNI!C42 -> 0

Sheet 2.9._VNI
H1: Lokālā tāme Nr. | I1: =kops2_VNI!B29 -> 2.9._VNI
A2: =C13 -> Piekļuves kontroles sistēma
C3: Būves nosaukums: | E3: =Koptame_VNI!C11 -> Ēkas pārbūve un teritorijas labiekārtošana
C4: Objekta nosaukums: | E4: =Koptame_VNI!C12 -> Ēkas pārbūve un teritorijas labiekārtošana( VNĪ līdzekļi)
C5: Objekta adrese: | E5: =Koptame_VNI!C13 -> Citadeles iela 7, Rīga
C6: =Koptame_VNI!B14 -> Pasūtījuma Nr. | E6: =Koptame_VNI!C14 -> n
A7: =Koptame_VNI!B17 -> Tāme sastādīta 2023.gada tirgus cenās, pamatojoties uz SIA „Baltex Group” būvprojekta rasējumiem un darbu apjomiem | P7: Tāmes izmaksas euro: | Q7: =Q38 -> 0
M9: =Koptame_VNI!D16 -> Tāme sastādīta:
A11: Nr.p.k. | B11: Kods | C11: Būvdarbu nosaukums | E11: Mērvienība | F11: Daudzums | G11: Vienības izmaksas | M11: Kopā uz visu apjomu
G12: Laika norma (c/h) | H12: Darba samaksas likme (euro/h) | I12: Darba alga (euro) | J12: Būvizstrādājumi (euro) | K12: Mehānismi (euro) | L12: Kopā (euro) | M12: Darbietilpība (c/h) | N12: Darba alga (euro) | O12: Būvizstrādājumi (euro) | P12: Mehānismi (euro) | Q12: Summa (euro)
B13: 0 | C13: =kops2_VNI!C29 -> Piekļuves kontroles sistēma | G13: 0 | H13: 0 | L13: =SUM(I13:K13) -> 0 | M13: =ROUND(G13*F13,2) -> 0 | N13: =ROUND(I13*F13,2) -> 0 | O13: =ROUND(J13*F13,2) -> 0 | P13: =ROUND(K13*F13,2) -> 0 | Q13: =SUM(N13:P13) -> 0
C14: Poz. NR 1-21 izmaksas sadalītas aptuveni 50:50 starp VNĪ un Lietotāju | K14: =SUM(H14:J14) -> 0 | L14: =ROUND(F14*E14,2) -> 0 | M14: =ROUND(H14*E14,2) -> 0 | N14: =ROUND(I14*E14,2) -> 0 | O14: =ROUND(J14*E14,2) -> 0 | P14: =SUM(M14:O14) -> 0
C15: Montāžas un palaišanas darbi
A16: 1 | C16: Operatora darbu stacija, tastatūra un pēle | D16: HP DL20 Gen10+ P44115-421, Intel® Xeon® E-2336, 16 GB | E16: kpl. | F16: 1 | K16: =I16*0.15 -> 0 | L16: =SUM(I16:K16) -> 0 | M16: =ROUND(G16*F16,2) -> 0 | N16: =ROUND(I16*F16,2) -> 0 | O16: =ROUND(J16*F16,2) -> 0 | P16: =ROUND(K16*F16,2) -> 0 | Q16: =SUM(N16:P16) -> 0
A17: 2 | C17: SSD disks | D17: 512 GB | E17: kpl. | F17: 1 | K17: =I17*0.15 -> 0 | L17: =SUM(I17:K17) -> 0 | M17: =ROUND(G17*F17,2) -> 0 | N17: =ROUND(I17*F17,2) -> 0 | O17: =ROUND(J17*F17,2) -> 0 | P17: =ROUND(K17*F17,2) -> 0 | Q17: =SUM(N17:P17) -> 0
A18: 3 | C18: Programmatūra | D18: Microsoft® Windows® 10 PRO | E18: kpl. | F18: 1 | K18: =I18*0.15 -> 0 | L18: =SUM(I18:K18) -> 0 | M18: =ROUND(G18*F18,2) -> 0 | N18: =ROUND(I18*F18,2) -> 0 | O18: =ROUND(J18*F18,2) -> 0 | P18: =ROUND(K18*F18,2) -> 0 | Q18: =SUM(N18:P18) -> 0
A19: 4 | C19: Monitors | D19: 24' | E19: kpl. | F19: 1 | K19: =I19*0.15 -> 0 | L19: =SUM(I19:K19) -> 0 | M19: =ROUND(G19*F19,2) -> 0 | N19: =ROUND(I19*F19,2) -> 0 | O19: =ROUND(J19*F19,2) -> 0 | P19: =ROUND(K19*F19,2) -> 0 | Q19: =SUM(N19:P19) -> 0
A20: 5 | C20: Servera programmatūra | D20: Suprema BioStar 2 | E20: kpl. | F20: 1 | K20: =I20*0.15 -> 0 | L20: =SUM(I20:K20) -> 0 | M20: =ROUND(G20*F20,2) -> 0 | N20: =ROUND(I20*F20,2) -> 0 | O20: =ROUND(J20*F20,2) -> 0 | P20: =ROUND(K20*F20,2) -> 0 | Q20: =SUM(N20:P20) -> 0
A21: 6 | C21: PoE switch | D21: CRCRS328-24P-4S+RMS328-24P-4S+RM | E21: gb. | F21: 1 | K21: =I21*0.15 -> 0 | L21: =SUM(I21:K21) -> 0 | M21: =ROUND(G21*F21,2) -> 0 | N21: =ROUND(I21*F21,2) -> 0 | O21: =ROUND(J21*F21,2) -> 0 | P21: =ROUND(K21*F21,2) -> 0 | Q21: =SUM(N21:P21) -> 0
A22: 7 | C22: Patch kabelis 1.0m | D22: Cat6 UTP 1m | E22: gb. | F22: 23 | K22: =I22*0.15 -> 0 | L22: =SUM(I22:K22) -> 0 | M22: =ROUND(G22*F22,2) -> 0 | N22: =ROUND(I22*F22,2) -> 0 | O22: =ROUND(J22*F22,2) -> 0 | P22: =ROUND(K22*F22,2) -> 0 | Q22: =SUM(N22:P22) -> 0
A23: 8 | C23: Barošanas bloks Rackmount 3U ar vietu akumulatoriem 12VDC/8A | D23: Dantech DA457-2 | E23: gb. | F23: 1 | K23: =I23*0.15 -> 0 | L23: =SUM(I23:K23) -> 0 | M23: =ROUND(G23*F23,2) -> 0 | N23: =ROUND(I23*F23,2) -> 0 | O23: =ROUND(J23*F23,2) -> 0 | P23: =ROUND(K23*F23,2) -> 0 | Q23: =SUM(N23:P23) -> 0
A24: 9 | C24: Akumulators 12V/12Ah | D24: TC12-12 | E24: gb. | F24: 2 | K24: =I24*0.15 -> 0 | L24: =SUM(I24:K24) -> 0 | M24: =ROUND(G24*F24,2) -> 0 | N24: =ROUND(I24*F24,2) -> 0 | O24: =ROUND(J24*F24,2) -> 0 | P24: =ROUND(K24*F24,2) -> 0 | Q24: =SUM(N24:P24) -> 0
A25: 10 | C25: UPS sprieguma stabilizators APC 1500VA, 1200 W | D25: APC Smart-UPS X 1500VA RM U2 | E25: gb. | F25: 1 | K25: =I25*0.15 -> 0 | L25: =SUM(I25:K25) -> 0 | M25: =ROUND(G25*F25,2) -> 0 | N25: =ROUND(I25*F25,2) -> 0 | O25: =ROUND(J25*F25,2) -> 0 | P25: =ROUND(K25*F25,2) -> 0 | Q25: =SUM(N25:P25) -> 0
A26: 11 | C26: Durvju kontrolleris ar karšu nolasītāju | D26: Suprema Xpass | E26: gb. | M26: =ROUND(G26*F26,2) -> 0 | N26: =ROUND(I26*F26,2) -> 0 | O26: =ROUND(J26*F26,2) -> 0 | P26: =ROUND(K26*F26,2) -> 0 | Q26: =SUM(N26:P26) -> 0
A27: 12 | C27: Bezvadu poga durvju atvēršanai | E27: gb. | M27: =ROUND(G27*F27,2) -> 0 | N27: =ROUND(I27*F27,2) -> 0 | O27: =ROUND(J27*F27,2) -> 0 | P27: =ROUND(K27*F27,2) -> 0 | Q27: =SUM(N27:P27) -> 0
A28: 13 | C28: Elektromagnētiskais sprūds NO līdz 230mA | D28: ASSA ABLOY E7R--E9139 | E28: gb. | M28: =ROUND(G28*F28,2) -> 0 | N28: =ROUND(I28*F28,2) -> 0 | O28: =ROUND(J28*F28,2) -> 0 | P28: =ROUND(K28*F28,2) -> 0 | Q28: =SUM(N28:P28) -> 0
A29: 14 | C29: Elektromehāniskais sprūds, 12 V, regulējamā mēlīte, diena/nakts | D29: E7E-E4139, EffEff | E29: gb. | M29: =ROUND(G29*F29,2) -> 0 | N29: =ROUND(I29*F29,2) -> 0 | O29: =ROUND(J29*F29,2) -> 0 | P29: =ROUND(K29*F29,2) -> 0 | Q29: =SUM(N29:P29) -> 0
A30: 15 | C30: Magnētiskais kontakts | E30: gb. | M30: =ROUND(G30*F30,2) -> 0 | N30: =ROUND(I30*F30,2) -> 0 | O30: =ROUND(J30*F30,2) -> 0 | P30: =ROUND(K30*F30,2) -> 0 | Q30: =SUM(N30:P30) -> 0
A31: 16 | C31: Durvju aizvērējs | D31: GEZE vai ekvivalents | E31: gb. | F31: 23 | K31: =I31*0.15 -> 0 | L31: =SUM(I31:K31) -> 0 | M31: =ROUND(G31*F31,2) -> 0 | N31: =ROUND(I31*F31,2) -> 0 | O31: =ROUND(J31*F31,2) -> 0 | P31: =ROUND(K31*F31,2) -> 0 | Q31: =SUM(N31:P31) -> 0
A32: 17 | C32: Kabelis | D32: Cat5e UTP | E32: m | M32: =ROUND(G32*F32,2) -> 0 | N32: =ROUND(I32*F32,2) -> 0 | O32: =ROUND(J32*F32,2) -> 0 | P32: =ROUND(K32*F32,2) -> 0 | Q32: =SUM(N32:P32) -> 0
A33: 18 | C33: Kabelis mīksts sprūda barošanai 12VDC | D33: NYM-J 2x0.75 | E33: m | F33: =80+90+100 -> 270 | K33: =I33*0.15 -> 0 | L33: =SUM(I33:K33) -> 0 | M33: =ROUND(G33*F33,2) -> 0 | N33: =ROUND(I33*F33,2) -> 0 | O33: =ROUND(J33*F33,2) -> 0 | P33: =ROUND(K33*F33,2) -> 0 | Q33: =SUM(N33:P33) -> 0
A34: 19 | C34: Piekļuves kontroles kartiņa no cieta materiāla | D34: Mifare 13.56 MH | E34: gb. | F34: 100 | K34: =I34*0.15 -> 0 | L34: =SUM(I34:K34) -> 0 | M34: =ROUND(G34*F34,2) -> 0 | N34: =ROUND(I34*F34,2) -> 0 | O34: =ROUND(J34*F34,2) -> 0 | P34: =ROUND(K34*F34,2) -> 0 | Q34: =SUM(N34:P34) -> 0
A35: 20 | C35: Durvju kontroliera demontāža un montāža atpakaļ | E35: kpl. | F35: 1 | K35: =I35*0.15 -> 0 | L35: =SUM(I35:K35) -> 0 | M35: =ROUND(G35*F35,2) -> 0 | N35: =ROUND(I35*F35,2) -> 0 | O35: =ROUND(J35*F35,2) -> 0 | P35: =ROUND(K35*F35,2) -> 0 | Q35: =SUM(N35:P35) -> 0
A36: 21 | C36: Ugunsdrošās blīves kabeļiem | D36: Promastop IM CJ21 | E36: kpl. | F36: 1 | K36: =0.15*I36 -> 0 | L36: =SUM(I36:K36) -> 0 | M36: =ROUND(G36*F36,2) -> 0 | N36: =ROUND(I36*F36,2) -> 0 | O36: =ROUND(J36*F36,2) -> 0 | P36: =ROUND(K36*F36,2) -> 0 | Q36: =SUM(N36:P36) -> 0
C38: Tiešās izmaksas kopā, t.sk. darba devēja sociālais nodoklis(23,59%) | M38: =SUM(M13:M37) -> 0 | N38: =SUM(N13:N37) -> 0 | O38: =SUM(O13:O37) -> 0 | P38: =SUM(P13:P37) -> 0 | Q38: =SUM(Q13:Q37) -> 0
B40: Piezīmes:
A41: Visas atsauces uz materiālu un izstrādājumu izgatavotaj firmām, kuras norādītas būvprojektā, liecina tikai par šo materiālu un izstrādājumu tehniskajiem parametriem un kvalitātes līmeni, to nomaiņa ir iespējama ar citiem tehniski un kvalitatīvi ekvivalentiem būvizstrādājumiem, iepriekš saskaņojot tos ar projekta autoriem un uzrādot atbilstības sertifikātus.
B45: Sastādīja: | M45: =Koptame_VNI!B40 -> Pārbaudīja:
C46: =Koptame_VNI!C35 -> 0 | N46: =Koptame_VNI!C41 -> 0
C47: =Koptame_VNI!C36 -> 0 | N47: =Koptame_VNI!C42 -> 0

Sheet 2.10._VNI
H1: Lokālā tāme Nr. | I1: =kops2_VNI!B30 -> 2.10._VNI
A2: =C13 -> Elektronisko sakaru sistēma
C3: Būves nosaukums: | E3: =Koptame_VNI!C11 -> Ēkas pārbūve un teritorijas labiekārtošana
C4: Objekta nosaukums: | E4: =Koptame_VNI!C12 -> Ēkas pārbūve un teritorijas labiekārtošana( VNĪ līdzekļi)
C5: Objekta adrese: | E5: =Koptame_VNI!C13 -> Citadeles iela 7, Rīga
C6: =Koptame_VNI!B14 -> Pasūtījuma Nr. | E6: =Koptame_VNI!C14 -> n
A7: =Koptame_VNI!B17 -> Tāme sastādīta 2023.gada tirgus cenās, pamatojoties uz SIA „Baltex Group” būvprojekta rasējumiem un darbu apjomiem | P7: Tāmes izmaksas euro: | Q7: =Q39 -> 0
M9: =Koptame_VNI!D16 -> Tāme sastādīta:
A11: Nr.p.k. | B11: Kods | C11: Būvdarbu nosaukums | E11: Mērvienība | F11: Daudzums | G11: Vienības izmaksas | M11: Kopā uz visu apjomu
G12: Laika norma (c/h) | H12: Darba samaksas likme (euro/h) | I12: Darba alga (euro) | J12: Būvizstrādājumi (euro) | K12: Mehānismi (euro) | L12: Kopā (euro) | M12: Darbietilpība (c/h) | N12: Darba alga (euro) | O12: Būvizstrādājumi (euro) | P12: Mehānismi (euro) | Q12: Summa (euro)
B13: 0 | C13: =kops2_VNI!C30 -> Elektronisko sakaru sistēma | G13: 0 | H13: 0 | L13: =SUM(I13:K13) -> 0 | M13: =ROUND(G13*F13,2) -> 0 | N13: =ROUND(I13*F13,2) -> 0 | O13: =ROUND(J13*F13,2) -> 0 | P13: =ROUND(K13*F13,2) -> 0 | Q13: =SUM(N13:P13) -> 0
C14: Montāžas un palaišanas darbi
A15: 1.1 | C15: Telekomunikāciju skapis ar metāla durvīm un slēdzi | D15: 42U 1000x800mm | E15: kpl. | F15: 1 | K15: =I15*0.15 -> 0 | L15: =SUM(I15:K15) -> 0 | M15: =ROUND(G15*F15,2) -> 0 | N15: =ROUND(I15*F15,2) -> 0 | O15: =ROUND(J15*F15,2) -> 0 | P15: =ROUND(K15*F15,2) -> 0 | Q15: =SUM(N15:P15) -> 0
A16: 1.2 | C16: Zemējuma klemme komutācijas skapim | E16: kpl. | F16: 1 | K16: =I16*0.15 -> 0 | L16: =SUM(I16:K16) -> 0 | M16: =ROUND(G16*F16,2) -> 0 | N16: =ROUND(I16*F16,2) -> 0 | O16: =ROUND(J16*F16,2) -> 0 | P16: =ROUND(K16*F16,2) -> 0 | Q16: =SUM(N16:P16) -> 0
A17: 1.3 | C17: Skrūves - uzgriežņi | D17: M6 | E17: kpl. | F17: 1 | K17: =I17*0.15 -> 0 | L17: =SUM(I17:K17) -> 0 | M17: =ROUND(G17*F17,2) -> 0 | N17: =ROUND(I17*F17,2) -> 0 | O17: =ROUND(J17*F17,2) -> 0 | P17: =ROUND(K17*F17,2) -> 0 | Q17: =SUM(N17:P17) -> 0
A18: 1.4 | C18: Ventilatoru panelis ar termostatu | D18: 19" 1U | E18: kpl. | F18: 1 | K18: =I18*0.15 -> 0 | L18: =SUM(I18:K18) -> 0 | M18: =ROUND(G18*F18,2) -> 0 | N18: =ROUND(I18*F18,2) -> 0 | O18: =ROUND(J18*F18,2) -> 0 | P18: =ROUND(K18*F18,2) -> 0 | Q18: =SUM(N18:P18) -> 0
A19: 1.5 | C19: Rozešu bloks | D19: 1U 9 kontaktligzdas | E19: kpl. | F19: 1 | K19: =I19*0.15 -> 0 | L19: =SUM(I19:K19) -> 0 | M19: =ROUND(G19*F19,2) -> 0 | N19: =ROUND(I19*F19,2) -> 0 | O19: =ROUND(J19*F19,2) -> 0 | P19: =ROUND(K19*F19,2) -> 0 | Q19: =SUM(N19:P19) -> 0
A20: 1.6 | C20: Optiskais patch panelis ar kaseti, pigteiliem un SC adapteri | D20: 24p duplex | E20: gb. | F20: 1 | K20: =I20*0.15 -> 0 | L20: =SUM(I20:K20) -> 0 | M20: =ROUND(G20*F20,2) -> 0 | N20: =ROUND(I20*F20,2) -> 0 | O20: =ROUND(J20*F20,2) -> 0 | P20: =ROUND(K20*F20,2) -> 0 | Q20: =SUM(N20:P20) -> 0
A21: 1.7 | C21: Optiskais patch kabelis | D21: MM LC-LC 1m | E21: gb. | F21: 2 | K21: =I21*0.15 -> 0 | L21: =SUM(I21:K21) -> 0 | M21: =ROUND(G21*F21,2) -> 0 | N21: =ROUND(I21*F21,2) -> 0 | O21: =ROUND(J21*F21,2) -> 0 | P21: =ROUND(K21*F21,2) -> 0 | Q21: =SUM(N21:P21) -> 0
A22: 1.8 | C22: Optiskais patch kabelis | D22: MM SC-LC 1m | E22: gb. | F22: 1 | K22: =I22*0.15 -> 0 | L22: =SUM(I22:K22) -> 0 | M22: =ROUND(G22*F22,2) -> 0 | N22: =ROUND(I22*F22,2) -> 0 | O22: =ROUND(J22*F22,2) -> 0 | P22: =ROUND(K22*F22,2) -> 0 | Q22: =SUM(N22:P22) -> 0
A23: 1.9 | C23: Kabeļu organaizeris horizontālais | D23: 1U 19' | E23: gb. | F23: 6 | K23: =I23*0.15 -> 0 | L23: =SUM(I23:K23) -> 0 | M23: =ROUND(G23*F23,2) -> 0 | N23: =ROUND(I23*F23,2) -> 0 | O23: =ROUND(J23*F23,2) -> 0 | P23: =ROUND(K23*F23,2) -> 0 | Q23: =SUM(N23:P23) -> 0
A24: 1.10 | C24: Patch panelis | D24: 24p Cat6 UTP | E24: gb. | F24: 6 | K24: =I24*0.15 -> 0 | L24: =SUM(I24:K24) -> 0 | M24: =ROUND(G24*F24,2) -> 0 | N24: =ROUND(I24*F24,2) -> 0 | O24: =ROUND(J24*F24,2) -> 0 | P24: =ROUND(K24*F24,2) -> 0 | Q24: =SUM(N24:P24) -> 0
A25: 1.11 | C25: Patch kabelis 1.0m | D25: Cat6 UTP 1m | E25: gb. | F25: =F29+F30*2+F31 -> 134 | K25: =I25*0.15 -> 0 | L25: =SUM(I25:K25) -> 0 | M25: =ROUND(G25*F25,2) -> 0 | N25: =ROUND(I25*F25,2) -> 0 | O25: =ROUND(J25*F25,2) -> 0 | P25: =ROUND(K25*F25,2) -> 0 | Q25: =SUM(N25:P25) -> 0
A26: 1.12 | C26: Centrālais ruteris | D26: 24 PoE output gigabit Ethernet router/switch with four 10Gbps SFP+ ports | E26: gb. | F26: 1 | K26: =I26*0.15 -> 0 | L26: =SUM(I26:K26) -> 0 | M26: =ROUND(G26*F26,2) -> 0 | N26: =ROUND(I26*F26,2) -> 0 | O26: =ROUND(J26*F26,2) -> 0 | P26: =ROUND(K26*F26,2) -> 0 | Q26: =SUM(N26:P26) -> 0
A27: 1.13 | C27: Gigabit switch | D27: 48 porti Gigabit Ethernet switch , 2 SFP+ ports, 1U rackmount case | E27: gb. | F27: 3 | K27: =I27*0.15 -> 0 | L27: =SUM(I27:K27) -> 0 | M27: =ROUND(G27*F27,2) -> 0 | N27: =ROUND(I27*F27,2) -> 0 | O27: =ROUND(J27*F27,2) -> 0 | P27: =ROUND(K27*F27,2) -> 0 | Q27: =SUM(N27:P27) -> 0
A28: 1.14 | C28: WiFi piekļuves punkts | E28: gb. | F28: 3 | K28: =I28*0.15 -> 0 | L28: =SUM(I28:K28) -> 0 | M28: =ROUND(G28*F28,2) -> 0 | N28: =ROUND(I28*F28,2) -> 0 | O28: =ROUND(J28*F28,2) -> 0 | P28: =ROUND(K28*F28,2) -> 0 | Q28: =SUM(N28:P28) -> 0
A29: 1.15 | C29: Datu ligzda z/a 1xRJ44 | D29: Cat6 ar rāmi (saskaņot ar EL sadaļu) | E29: kpl. | F29: 9 | K29: =I29*0.15 -> 0 | L29: =SUM(I29:K29) -> 0 | M29: =ROUND(G29*F29,2) -> 0 | N29: =ROUND(I29*F29,2) -> 0 | O29: =ROUND(J29*F29,2) -> 0 | P29: =ROUND(K29*F29,2) -> 0 | Q29: =SUM(N29:P29) -> 0
A30: 1.16 | C30: Datu ligzda z/a 2xRJ45 | D30: Cat6 ar rāmi (saskaņot ar EL sadaļu) | E30: kpl. | F30: 62 | K30: =I30*0.15 -> 0 | L30: =SUM(I30:K30) -> 0 | M30: =ROUND(G30*F30,2) -> 0 | N30: =ROUND(I30*F30,2) -> 0 | O30: =ROUND(J30*F30,2) -> 0 | P30: =ROUND(K30*F30,2) -> 0 | Q30: =SUM(N30:P30) -> 0
A31: 1.17 | C31: Datu ligzda grīdas kārbā | D31: Cat6 (saskaņot ar EL sadaļu) | E31: kpl. | F31: 1 | K31: =I31*0.15 -> 0 | L31: =SUM(I31:K31) -> 0 | M31: =ROUND(G31*F31,2) -> 0 | N31: =ROUND(I31*F31,2) -> 0 | O31: =ROUND(J31*F31,2) -> 0 | P31: =ROUND(K31*F31,2) -> 0 | Q31: =SUM(N31:P31) -> 0
A32: 1.18 | C32: HDMI kabelis | D32: 20m | E32: gb. | F32: 3 | K32: =I32*0.15 -> 0 | L32: =SUM(I32:K32) -> 0 | M32: =ROUND(G32*F32,2) -> 0 | N32: =ROUND(I32*F32,2) -> 0 | O32: =ROUND(J32*F32,2) -> 0 | P32: =ROUND(K32*F32,2) -> 0 | Q32: =SUM(N32:P32) -> 0
A33: 1.19 | C33: Kabelis | D33: B3 Cat6 4x2x0.5 LSZH (Low Smoke Zero Halogen) | E33: m | F33: 5464 | K33: =I33*0.15 -> 0 | L33: =SUM(I33:K33) -> 0 | M33: =ROUND(G33*F33,2) -> 0 | N33: =ROUND(I33*F33,2) -> 0 | O33: =ROUND(J33*F33,2) -> 0 | P33: =ROUND(K33*F33,2) -> 0 | Q33: =SUM(N33:P33) -> 0
A34: 1.20 | C34: Gluda plānsienu caurule halogenbrīva | D34: D25mm | E34: m | F34: 200 | K34: =I34*0.15 -> 0 | L34: =SUM(I34:K34) -> 0 | M34: =ROUND(G34*F34,2) -> 0 | N34: =ROUND(I34*F34,2) -> 0 | O34: =ROUND(J34*F34,2) -> 0 | P34: =ROUND(K34*F34,2) -> 0 | Q34: =SUM(N34:P34) -> 0
A35: 1.21 | C35: Ugunsdrošās blīves kabeļiem | D35: Promastop IM CJ21 | E35: kpl. | F35: 1 | K35: =I35*0.15 -> 0 | L35: =SUM(I35:K35) -> 0 | M35: =ROUND(G35*F35,2) -> 0 | N35: =ROUND(I35*F35,2) -> 0 | O35: =ROUND(J35*F35,2) -> 0 | P35: =ROUND(K35*F35,2) -> 0 | Q35: =SUM(N35:P35) -> 0
A36: 1.22 | C36: Montāžas un stiprināšanas materiāli | E36: kpl. | F36: 1 | K36: =I36*0.15 -> 0 | L36: =SUM(I36:K36) -> 0 | M36: =ROUND(G36*F36,2) -> 0 | N36: =ROUND(I36*F36,2) -> 0 | O36: =ROUND(J36*F36,2) -> 0 | P36: =ROUND(K36*F36,2) -> 0 | Q36: =SUM(N36:P36) -> 0
A37: 1.23 | C37: Kabeļkanāls | D37: 90x38mm | E37: m | F37: 6 | K37: =I37*0.15 -> 0 | L37: =SUM(I37:K37) -> 0 | M37: =ROUND(G37*F37,2) -> 0 | N37: =ROUND(I37*F37,2) -> 0 | O37: =ROUND(J37*F37,2) -> 0 | P37: =ROUND(K37*F37,2) -> 0 | Q37: =SUM(N37:P37) -> 0
G38: 0 | H38: 0
C39: Tiešās izmaksas kopā, t.sk. darba devēja sociālais nodoklis(23,59%) | M39: =SUM(M13:M38) -> 0 | N39: =SUM(N13:N38) -> 0 | O39: =SUM(O13:O38) -> 0 | P39: =SUM(P13:P38) -> 0 | Q39: =SUM(Q13:Q38) -> 0
B41: Piezīmes:
A42: Visas atsauces uz materiālu un izstrādājumu izgatavotaj firmām, kuras norādītas būvprojektā, liecina tikai par šo materiālu un izstrādājumu tehniskajiem parametriem un kvalitātes līmeni, to nomaiņa ir iespējama ar citiem tehniski un kvalitatīvi ekvivalentiem būvizstrādājumiem, iepriekš saskaņojot tos ar projekta autoriem un uzrādot atbilstības sertifikātus.
B46: Sastādīja: | M46: =Koptame_VNI!B40 -> Pārbaudīja:
C47: =Koptame_VNI!C35 -> 0 | N47: =Koptame_VNI!C41 -> 0
C48: =Koptame_VNI!C36 -> 0 | N48: =Koptame_VNI!C42 -> 0

Sheet 2.11._VNI
H1: Lokālā tāme Nr. | I1: =kops2_VNI!B31 -> 2.11._VNI
A2: =C13 -> Videonovērošanas un apsardzes sistēma
C3: Būves nosaukums: | E3: =Koptame_VNI!C11 -> Ēkas pārbūve un teritorijas labiekārtošana
C4: Objekta nosaukums: | E4: =Koptame_VNI!C12 -> Ēkas pārbūve un teritorijas labiekārtošana( VNĪ līdzekļi)
C5: Objekta adrese: | E5: =Koptame_VNI!C13 -> Citadeles iela 7, Rīga
C6: =Koptame_VNI!B14 -> Pasūtījuma Nr. | E6: =Koptame_VNI!C14 -> n
A7: =Koptame_VNI!B17 -> Tāme sastādīta 2023.gada tirgus cenās, pamatojoties uz SIA „Baltex Group” būvprojekta rasējumiem un darbu apjomiem | P7: Tāmes izmaksas euro: | Q7: =Q46 -> 0
M9: =Koptame_VNI!D16 -> Tāme sastādīta:
A11: Nr.p.k. | B11: Kods | C11: Būvdarbu nosaukums | E11: Mērvienība | F11: Daudzums | G11: Vienības izmaksas | M11: Kopā uz visu apjomu
G12: Laika norma (c/h) | H12: Darba samaksas likme (euro/h) | I12: Darba alga (euro) | J12: Būvizstrādājumi (euro) | K12: Mehānismi (euro) | L12: Kopā (euro) | M12: Darbietilpība (c/h) | N12: Darba alga (euro) | O12: Būvizstrādājumi (euro) | P12: Mehānismi (euro) | Q12: Summa (euro)
B13: 0 | C13: =kops2_VNI!C31 -> Videonovērošanas un apsardzes sistēma | G13: 0 | H13: 0 | L13: =SUM(I13:K13) -> 0 | M13: =ROUND(G13*F13,2) -> 0 | N13: =ROUND(I13*F13,2) -> 0 | O13: =ROUND(J13*F13,2) -> 0 | P13: =ROUND(K13*F13,2) -> 0 | Q13: =SUM(N13:P13) -> 0
C14: Poz. NR 1-29 izmaksas sadalītas 38:62 starp VNĪ un Lietotāju | K14: =SUM(H14:J14) -> 0 | L14: =ROUND(F14*E14,2) -> 0 | M14: =ROUND(H14*E14,2) -> 0 | N14: =ROUND(I14*E14,2) -> 0 | O14: =ROUND(J14*E14,2) -> 0 | P14: =SUM(M14:O14) -> 0 | Q14: =SUM(N14:P14) -> 0
C15: Montāžas un palaišanas darbi
C16: Apsardzes sistēma | G16: =IFERROR(ROUND(I16/H16,2),0) -> 0 | H16: =IF(I16>0,5,0) -> 0 | L16: =SUM(I16:K16) -> 0 | M16: =ROUND(G16*F16,2) -> 0 | N16: =ROUND(I16*F16,2) -> 0 | O16: =ROUND(J16*F16,2) -> 0 | P16: =ROUND(K16*F16,2) -> 0 | Q16: =SUM(N16:P16) -> 0
A17: 1 | C17: Apsardzes panelis | D17: DSC PC-1864 | E17: kpl. | F17: 1 | L17: =SUM(I17:K17) -> 0 | M17: =ROUND(G17*F17,2) -> 0 | N17: =ROUND(I17*F17,2) -> 0 | O17: =ROUND(J17*F17,2) -> 0 | P17: =ROUND(K17*F17,2) -> 0 | Q17: =SUM(N17:P17) -> 0
A18: 2 | C18: Paplašinātājs | D18: PC5108 | E18: gb. | F18: 2 | L18: =SUM(I18:K18) -> 0 | M18: =ROUND(G18*F18,2) -> 0 | N18: =ROUND(I18*F18,2) -> 0 | O18: =ROUND(J18*F18,2) -> 0 | P18: =ROUND(K18*F18,2) -> 0 | Q18: =SUM(N18:P18) -> 0
A19: 3 | C19: Akumulators | D19: 7A/h 12V | E19: gb. | F19: 1 | L19: =SUM(I19:K19) -> 0 | M19: =ROUND(G19*F19,2) -> 0 | N19: =ROUND(I19*F19,2) -> 0 | O19: =ROUND(J19*F19,2) -> 0 | P19: =ROUND(K19*F19,2) -> 0 | Q19: =SUM(N19:P19) -> 0
A20: 4 | C20: Transformators | E20: gb. | F20: 1 | L20: =SUM(I20:K20) -> 0 | M20: =ROUND(G20*F20,2) -> 0 | N20: =ROUND(I20*F20,2) -> 0 | O20: =ROUND(J20*F20,2) -> 0 | P20: =ROUND(K20*F20,2) -> 0 | Q20: =SUM(N20:P20) -> 0
A21: 5 | C21: Kustības detektors | D21: LC-100PI | E21: gb. | F21: 13 | L21: =SUM(I21:K21) -> 0 | M21: =ROUND(G21*F21,2) -> 0 | N21: =ROUND(I21*F21,2) -> 0 | O21: =ROUND(J21*F21,2) -> 0 | P21: =ROUND(K21*F21,2) -> 0 | Q21: =SUM(N21:P21) -> 0
A22: 6 | C22: Magnēta kontakts metāla durvīm | D22: MS-51 | E22: gb. | F22: 3 | L22: =SUM(I22:K22) -> 0 | M22: =ROUND(G22*F22,2) -> 0 | N22: =ROUND(I22*F22,2) -> 0 | O22: =ROUND(J22*F22,2) -> 0 | P22: =ROUND(K22*F22,2) -> 0 | Q22: =SUM(N22:P22) -> 0
A23: 7 | C23: Stikla plīšanas detektors | D23: GBD-PLUS | E23: gb. | F23: 10 | L23: =SUM(I23:K23) -> 0 | M23: =ROUND(G23*F23,2) -> 0 | N23: =ROUND(I23*F23,2) -> 0 | O23: =ROUND(J23*F23,2) -> 0 | P23: =ROUND(K23*F23,2) -> 0 | Q23: =SUM(N23:P23) -> 0
A24: 8 | C24: LCD tastatūra | D24: PK5500 | E24: gb. | F24: 1 | L24: =SUM(I24:K24) -> 0 | M24: =ROUND(G24*F24,2) -> 0 | N24: =ROUND(I24*F24,2) -> 0 | O24: =ROUND(J24*F24,2) -> 0 | P24: =ROUND(K24*F24,2) -> 0 | Q24: =SUM(N24:P24) -> 0
A25: 9 | C25: Kabelis | D25: CQR 6x0.22mm2 | E25: m | F25: =500+185 -> 685 | L25: =SUM(I25:K25) -> 0 | M25: =ROUND(G25*F25,2) -> 0 | N25: =ROUND(I25*F25,2) -> 0 | O25: =ROUND(J25*F25,2) -> 0 | P25: =ROUND(K25*F25,2) -> 0 | Q25: =SUM(N25:P25) -> 0
A26: 10 | C26: Gofrētā caurule | D26: d 20mm | E26: m | F26: 100 | L26: =SUM(I26:K26) -> 0 | M26: =ROUND(G26*F26,2) -> 0 | N26: =ROUND(I26*F26,2) -> 0 | O26: =ROUND(J26*F26,2) -> 0 | P26: =ROUND(K26*F26,2) -> 0 | Q26: =SUM(N26:P26) -> 0
A27: 11 | C27: Ugunsdrošās blīves kabeļiem | D27: Promastop IM CJ21 | E27: kpl. | F27: 1 | L27: =SUM(I27:K27) -> 0 | M27: =ROUND(G27*F27,2) -> 0 | N27: =ROUND(I27*F27,2) -> 0 | O27: =ROUND(J27*F27,2) -> 0 | P27: =ROUND(K27*F27,2) -> 0 | Q27: =SUM(N27:P27) -> 0
A28: 12 | C28: Sirēna ārtelpu | D28: MR-300; 115 dB | E28: gb. | F28: 1 | L28: =SUM(I28:K28) -> 0 | M28: =ROUND(G28*F28,2) -> 0 | N28: =ROUND(I28*F28,2) -> 0 | O28: =ROUND(J28*F28,2) -> 0 | P28: =ROUND(K28*F28,2) -> 0 | Q28: =SUM(N28:P28) -> 0
A29: 13 | C29: Sirēna iekštelpu | D29: PICCOLO/WH/BL | E29: gb. | F29: 1 | L29: =SUM(I29:K29) -> 0 | M29: =ROUND(G29*F29,2) -> 0 | N29: =ROUND(I29*F29,2) -> 0 | O29: =ROUND(J29*F29,2) -> 0 | P29: =ROUND(K29*F29,2) -> 0 | Q29: =SUM(N29:P29) -> 0
A30: 14 | C30: Montāžas materiāli | E30: kpl. | F30: 1 | K30: 0 | L30: =SUM(I30:K30) -> 0 | M30: =ROUND(G30*F30,2) -> 0 | N30: =ROUND(I30*F30,2) -> 0 | O30: =ROUND(J30*F30,2) -> 0 | P30: =ROUND(K30*F30,2) -> 0 | Q30: =SUM(N30:P30) -> 0
C31: Videonovērošana | G31: 0 | H31: =IF(I31>0,5,0) -> 0 | J31: 0 | K31: 0 | L31: =SUM(I31:K31) -> 0 | M31: =ROUND(G31*F31,2) -> 0 | N31: =ROUND(I31*F31,2) -> 0 | O31: =ROUND(J31*F31,2) -> 0 | P31: =ROUND(K31*F31,2) -> 0 | Q31: =SUM(N31:P31) -> 0
A32: 15 | C32: Kabeļu organaizeris horizontālais | D32: 1U 19' | E32: gb.
A33: 16 | C33: Gigabit switch | D33: 24 porti Gigabit Ethernet switch , 2 SFP+ ports, PoE, 1U rackmount case
A34: 17 | C34: Patch panelis Cat6 | D34: 24p Cat6 UTP B3 | E34: gb.
A35: 18 | C35: Videoserveris | E35: gb.
A36: 19 | C36: Cietie Diski HDD | D36: 2TB | E36: gb.
A37: 22 | C37: Cat6 UTP patch kabelis 1.0m | D37: Cat6 UTP 1m | E37: gb.
A38: 23 | C38: Kabelis | D38: B3 Cat6 4x2x0.5 LSZH (Low Smoke Zero Halogen) | E38: m
A39: 24 | C39: Gluda plānsienu caurule halogenbrīva | D39: D25mm | E39: m | F39: 50 | L39: =SUM(I39:K39) -> 0 | M39: =ROUND(G39*F39,2) -> 0 | N39: =ROUND(I39*F39,2) -> 0 | O39: =ROUND(J39*F39,2) -> 0 | P39: =ROUND(K39*F39,2) -> 0 | Q39: =SUM(N39:P39) -> 0
A40: 25 | C40: Ugunsdrošās blīves kabeļiem | D40: Promastop IM CJ21 | E40: kpl. | F40: 1 | L40: =SUM(I40:K40) -> 0 | M40: =ROUND(G40*F40,2) -> 0 | N40: =ROUND(I40*F40,2) -> 0 | O40: =ROUND(J40*F40,2) -> 0 | P40: =ROUND(K40*F40,2) -> 0 | Q40: =SUM(N40:P40) -> 0
A41: 26 | C41: Montāžas un stiprināšanas materiāli | E41: kpl. | F41: 1 | L41: =SUM(I41:K41) -> 0 | M41: =ROUND(G41*F41,2) -> 0 | N41: =ROUND(I41*F41,2) -> 0 | O41: =ROUND(J41*F41,2) -> 0 | P41: =ROUND(K41*F41,2) -> 0 | Q41: =SUM(N41:P41) -> 0
A42: 27 | C42: Esošās ārējās videokameras demontāža | E42: kpl. | F42: 4 | J42: 0 | L42: =SUM(I42:K42) -> 0 | M42: =ROUND(G42*F42,2) -> 0 | N42: =ROUND(I42*F42,2) -> 0 | O42: =ROUND(J42*F42,2) -> 0 | P42: =ROUND(K42*F42,2) -> 0 | Q42: =SUM(N42:P42) -> 0
A43: 28 | C43: Esošās iekšējās videokameras demontāža | E43: kpl. | F43: 8 | J43: 0 | L43: =SUM(I43:K43) -> 0 | M43: =ROUND(G43*F43,2) -> 0 | N43: =ROUND(I43*F43,2) -> 0 | O43: =ROUND(J43*F43,2) -> 0 | P43: =ROUND(K43*F43,2) -> 0 | Q43: =SUM(N43:P43) -> 0
A44: 29 | C44: Cat6 UTP kabeļa pārsprieguma aizsardzības ierīce ar POE | D44: DT-LAN-CAT.6+ | E44: gb.
G45: 0 | H45: 0
C46: Tiešās izmaksas kopā, t.sk. darba devēja sociālais nodoklis(23,59%) | M46: =SUM(M13:M45) -> 0 | N46: =SUM(N13:N45) -> 0 | O46: =SUM(O13:O45) -> 0 | P46: =SUM(P13:P45) -> 0 | Q46: =SUM(Q13:Q45) -> 0
B48: Piezīmes:
A49: Visas atsauces uz materiālu un izstrādājumu izgatavotaj firmām, kuras norādītas būvprojektā, liecina tikai par šo materiālu un izstrādājumu tehniskajiem parametriem un kvalitātes līmeni, to nomaiņa ir iespējama ar citiem tehniski un kvalitatīvi ekvivalentiem būvizstrādājumiem, iepriekš saskaņojot tos ar projekta autoriem un uzrādot atbilstības sertifikātus.
B52: Sastādīja: | M52: =Koptame_VNI!B40 -> Pārbaudīja:
C53: =Koptame_VNI!C35 -> 0 | N53: =Koptame_VNI!C41 -> 0
C54: =Koptame_VNI!C36 -> 0 | N54: =Koptame_VNI!C42 -> 0

Sheet 2.12._VNI
H1: Lokālā tāme Nr. | I1: =kops2_VNI!B32 -> 2.12._VNI
A2: =C13 -> Palīdzības pogas
C3: Būves nosaukums: | E3: =Koptame_VNI!C11 -> Ēkas pārbūve un teritorijas labiekārtošana
C4: Objekta nosaukums: | E4: =Koptame_VNI!C12 -> Ēkas pārbūve un teritorijas labiekārtošana( VNĪ līdzekļi)
C5: Objekta adrese: | E5: =Koptame_VNI!C13 -> Citadeles iela 7, Rīga
C6: =Koptame_VNI!B14 -> Pasūtījuma Nr. | E6: =Koptame_VNI!C14 -> n
A7: =Koptame_VNI!B17 -> Tāme sastādīta 2023.gada tirgus cenās, pamatojoties uz SIA „Baltex Group” būvprojekta rasējumiem un darbu apjomiem | P7: Tāmes izmaksas euro: | Q7: =Q23 -> 0
M9: =Koptame_VNI!D16 -> Tāme sastādīta:
A11: Nr.p.k. | B11: Kods | C11: Būvdarbu nosaukums | E11: Mērvienība | F11: Daudzums | G11: Vienības izmaksas | M11: Kopā uz visu apjomu
G12: Laika norma (c/h) | H12: Darba samaksas likme (euro/h) | I12: Darba alga (euro) | J12: Būvizstrādājumi (euro) | K12: Mehānismi (euro) | L12: Kopā (euro) | M12: Darbietilpība (c/h) | N12: Darba alga (euro) | O12: Būvizstrādājumi (euro) | P12: Mehānismi (euro) | Q12: Summa (euro)
C13: =kops2_VNI!C32 -> Palīdzības pogas | G13: 0 | H13: 0 | L13: =SUM(I13:K13) -> 0 | M13: =ROUND(G13*F13,2) -> 0 | N13: =ROUND(I13*F13,2) -> 0 | O13: =ROUND(J13*F13,2) -> 0 | P13: =ROUND(K13*F13,2) -> 0 | Q13: =SUM(N13:P13) -> 0
C14: Montāžas un palaišanas darbi
A15: 1 | C15: Virsdurvju lampa - kontrolleris | D15: LEV10 BWC | E15: gb. | F15: 1 | K15: =0.15*I15 -> 0 | L15: =SUM(I15:K15) -> 0 | M15: =ROUND(G15*F15,2) -> 0 | N15: =ROUND(I15*F15,2) -> 0 | O15: =ROUND(J15*F15,2) -> 0 | P15: =ROUND(K15*F15,2) -> 0 | Q15: =SUM(N15:P15) -> 0
A16: 2 | C16: Izsaukuma / atsaikuma poga | D16: TAV01-BWC | E16: gb. | F16: 1 | K16: =0.15*I16 -> 0 | L16: =SUM(I16:K16) -> 0 | M16: =ROUND(G16*F16,2) -> 0 | N16: =ROUND(I16*F16,2) -> 0 | O16: =ROUND(J16*F16,2) -> 0 | P16: =ROUND(K16*F16,2) -> 0 | Q16: =SUM(N16:P16) -> 0
A17: 3 | C17: WC aukliņas slēdzis | D17: TAV10 BWC | E17: gb. | F17: 1 | K17: =0.15*I17 -> 0 | L17: =SUM(I17:K17) -> 0 | M17: =ROUND(G17*F17,2) -> 0 | N17: =ROUND(I17*F17,2) -> 0 | O17: =ROUND(J17*F17,2) -> 0 | P17: =ROUND(K17*F17,2) -> 0 | Q17: =SUM(N17:P17) -> 0
A18: 4 | C18: Dežuranta pults | D18: TAV21-BWC | E18: gb. | F18: 1 | K18: =0.15*I18 -> 0 | L18: =SUM(I18:K18) -> 0 | M18: =ROUND(G18*F18,2) -> 0 | N18: =ROUND(I18*F18,2) -> 0 | O18: =ROUND(J18*F18,2) -> 0 | P18: =ROUND(K18*F18,2) -> 0 | Q18: =SUM(N18:P18) -> 0
A19: 5 | C19: Transformatora barošanas bloks ar vietu akumulatoram | E19: gb. | F19: 1 | K19: =0.15*I19 -> 0 | L19: =SUM(I19:K19) -> 0 | M19: =ROUND(G19*F19,2) -> 0 | N19: =ROUND(I19*F19,2) -> 0 | O19: =ROUND(J19*F19,2) -> 0 | P19: =ROUND(K19*F19,2) -> 0 | Q19: =SUM(N19:P19) -> 0
A20: 6 | C20: Akumulātori | D20: 12V 2A | E20: gb. | F20: 2 | K20: =0.15*I20 -> 0 | L20: =SUM(I20:K20) -> 0 | M20: =ROUND(G20*F20,2) -> 0 | N20: =ROUND(I20*F20,2) -> 0 | O20: =ROUND(J20*F20,2) -> 0 | P20: =ROUND(K20*F20,2) -> 0 | Q20: =SUM(N20:P20) -> 0
A21: 7 | C21: Kabelis | D21: 2x2x0,6 | E21: m | F21: 51 | K21: =0.15*I21 -> 0 | L21: =SUM(I21:K21) -> 0 | M21: =ROUND(G21*F21,2) -> 0 | N21: =ROUND(I21*F21,2) -> 0 | O21: =ROUND(J21*F21,2) -> 0 | P21: =ROUND(K21*F21,2) -> 0 | Q21: =SUM(N21:P21) -> 0
G22: 0 | H22: 0
C23: Tiešās izmaksas kopā, t.sk. darba devēja sociālais nodoklis(23,59%) | M23: =SUM(M13:M22) -> 0 | N23: =SUM(N13:N22) -> 0 | O23: =SUM(O13:O22) -> 0 | P23: =SUM(P13:P22) -> 0 | Q23: =SUM(Q13:Q22) -> 0
B25: Piezīmes:
A26: Visas atsauces uz materiālu un izstrādājumu izgatavotaj firmām, kuras norādītas būvprojektā, liecina tikai par šo materiālu un izstrādājumu tehniskajiem parametriem un kvalitātes līmeni, to nomaiņa ir iespējama ar citiem tehniski un kvalitatīvi ekvivalentiem būvizstrādājumiem, iepriekš saskaņojot tos ar projekta autoriem un uzrādot atbilstības sertifikātus.
B30: Sastādīja: | M30: =Koptame_VNI!B40 -> Pārbaudīja:
C31: =Koptame_VNI!C35 -> 0 | N31: =Koptame_VNI!C41 -> 0
C32: =Koptame_VNI!C36 -> 0 | N32: =Koptame_VNI!C42 -> 0

Sheet kops3_VNI
A2: Kopsavilkuma aprēķins Nr. 3_VNI
A6: =Koptame_VNI!C23 -> Specializētie darbi-ārējie tīkli, sistēmas
A8: Būves nosaukums: | C8: =Koptame_VNI!C11 -> Ēkas pārbūve un teritorijas labiekārtošana
A9: Objekta nosaukums: | C9: =Koptame_VNI!C12 -> Ēkas pārbūve un teritorijas labiekārtošana( VNĪ līdzekļi)
A10: Objekta adrese: | C10: =Koptame_VNI!C13 -> Citadeles iela 7, Rīga
A11: =Koptame_VNI!B14 -> Pasūtījuma Nr. | C11: =Koptame_VNI!C14 -> n
F13: Par kopējo summu, euro | H13: =E30 -> #VALUE!
F14: Kopējā darbietilpība, c/h | H14: =I26 -> 0
H16: =Koptame_VNI!D16 -> Tāme sastādīta:
A18: Nr.p.k. | B18: Kods, tāmes Nr. | C18: Būvdarbu veids vai konstruktīvā elementa nosaukums | E18: Tāmes izmaksas (euro) | F18: Tai skaitā | I18: Darbietilpība (c/h)
F19: darba alga (euro) | G19: materiāli (euro) | H19: mehānismi (euro)
A21: 1 | B21: 3.1._VNI | C21: Ārējais ūdensvads | E21: ='3.1._VNI'!P32 -> 0 | F21: ='3.1._VNI'!M32 -> 0 | G21: ='3.1._VNI'!N32 -> 0 | H21: ='3.1._VNI'!O32 -> 0 | I21: ='3.1._VNI'!L32 -> 0
A22: 2 | B22: 3.2._VNI | C22: Ārējā kanalizācija | E22: ='3.2._VNI'!P47 -> 0 | F22: ='3.2._VNI'!M47 -> 0 | G22: ='3.2._VNI'!N47 -> 0 | H22: ='3.2._VNI'!O47 -> 0 | I22: ='3.2._VNI'!L47 -> 0
A23: 3 | B23: 3.3._VNI | C23: Ārējie elektromontāžas darbi | E23: ='3.3._VNI'!P62 -> 0 | F23: ='3.3._VNI'!M62 -> 0 | G23: ='3.3._VNI'!N62 -> 0 | H23: ='3.3._VNI'!O62 -> 0 | I23: ='3.3._VNI'!L62 -> 0
A24: 4 | B24: 3.4._VNI | C24: Ārējie siltumtīkli | E24: ='3.4._VNI'!Q49 -> 0 | F24: ='3.4._VNI'!N49 -> 0 | G24: ='3.4._VNI'!O49 -> 0 | H24: ='3.4._VNI'!P49 -> 0 | I24: ='3.4._VNI'!M49 -> 0
C26: Kopā | E26: =SUM(E21:E25) -> 0 | F26: =SUM(F21:F25) -> 0 | G26: =SUM(G21:G25) -> 0 | H26: =SUM(H21:H25) -> 0 | I26: =SUM(I21:I25) -> 0
A27: Virsizdevumi | D27: =kops1_VNI!$D$30 -> % | E27: =ROUND(E26*D27,2) -> #VALUE!
C28: tai skaitā darba aizsardzība | E28: =E27*0.1 -> #VALUE!
A29: Peļņa | D29: =kops1_VNI!$D$32 -> % | E29: =ROUND(E26*D29,2) -> #VALUE!
C30: Kopā bez PVN | E30: =E29+E27+E26 -> #VALUE!
B33: Sastādīja:
C34: =Koptame_VNI!C35 -> 0
C35: =Koptame_VNI!C36 -> 0
B39: =Koptame_VNI!B40 -> Pārbaudīja:
C40: =Koptame_VNI!C41 -> 0
C41: =Koptame_VNI!C42 -> 0

Sheet 3.1._VNI
G1: Lokālā tāme Nr. | H1: =kops3_VNI!B21 -> 3.1._VNI
A2: =C13 -> Ārējais ūdensvads
C3: Būves nosaukums: | D3: =Koptame_VNI!C11 -> Ēkas pārbūve un teritorijas labiekārtošana
C4: Objekta nosaukums: | D4: =Koptame_VNI!C12 -> Ēkas pārbūve un teritorijas labiekārtošana( VNĪ līdzekļi)
C5: Objekta adrese: | D5: =Koptame_VNI!C13 -> Citadeles iela 7, Rīga
C6: =Koptame_VNI!B14 -> Pasūtījuma Nr. | D6: =Koptame_VNI!C14 -> n
A7: =Koptame_VNI!B17 -> Tāme sastādīta 2023.gada tirgus cenās, pamatojoties uz SIA „Baltex Group” būvprojekta rasējumiem un darbu apjomiem | O7: Tāmes izmaksas euro: | P7: =P32 -> 0
L9: =Koptame_VNI!D16 -> Tāme sastādīta:
A11: Nr.p.k. | B11: Kods | C11: Būvdarbu nosaukums | D11: Mērvienība | E11: Daudzums | F11: Vienības izmaksas | L11: Kopā uz visu apjomu
F12: Laika norma (c/h) | G12: Darba samaksas likme (euro/h) | H12: Darba alga (euro) | I12: Būvizstrādājumi (euro) | J12: Mehānismi (euro) | K12: Kopā (euro) | L12: Darbietilpība (c/h) | M12: Darba alga (euro) | N12: Būvizstrādājumi (euro) | O12: Mehānismi (euro) | P12: Summa (euro)
C13: =kops3_VNI!C21 -> Ārējais ūdensvads | K13: =SUM(H13:J13) -> 0 | L13: =ROUND(F13*E13,2) -> 0 | M13: =ROUND(H13*E13,2) -> 0 | N13: =ROUND(I13*E13,2) -> 0 | O13: =ROUND(J13*E13,2) -> 0 | P13: =SUM(M13:O13) -> 0
C14: Montāžas un palaišanas darbi
A15: 1 | C15: Komercuzskaites mēraparāts (ūdens patēriņa skaitītājs) DN15 R>160, Q3=1.5 m3/h, l=165 mm (uzstāda SIA "Rīgas ūdens"), piegāde un montāža | D15: kpl | E15: 1 | J15: =0.15*H15 -> 0 | K15: =SUM(H15:J15) -> 0 | L15: =ROUND(F15*E15,2) -> 0 | M15: =ROUND(H15*E15,2) -> 0 | N15: =ROUND(I15*E15,2) -> 0 | O15: =ROUND(J15*E15,2) -> 0 | P15: =SUM(M15:O15) -> 0
A16: 2 | C16: Caurule MET DN25, piegāde un montāža | D16: m | E16: 1 | J16: =0.15*H16 -> 0 | K16: =SUM(H16:J16) -> 0 | L16: =ROUND(F16*E16,2) -> 0 | M16: =ROUND(H16*E16,2) -> 0 | N16: =ROUND(I16*E16,2) -> 0 | O16: =ROUND(J16*E16,2) -> 0 | P16: =SUM(M16:O16) -> 0
A17: 3 | C17: CauruleMLC OD32, piegāde un montāža | D17: m | E17: 2 | J17: =0.15*H17 -> 0 | K17: =SUM(H17:J17) -> 0 | L17: =ROUND(F17*E17,2) -> 0 | M17: =ROUND(H17*E17,2) -> 0 | N17: =ROUND(I17*E17,2) -> 0 | O17: =ROUND(J17*E17,2) -> 0 | P17: =SUM(M17:O17) -> 0
A18: 4 | C18: Vītnes pāreja MET DN25/DN15, piegāde un montāža | D18: gb | E18: 1 | J18: =0.15*H18 -> 0 | K18: =SUM(H18:J18) -> 0 | L18: =ROUND(F18*E18,2) -> 0 | M18: =ROUND(H18*E18,2) -> 0 | N18: =ROUND(I18*E18,2) -> 0 | O18: =ROUND(J18*E18,2) -> 0 | P18: =SUM(M18:O18) -> 0
A19: 5 | C19: Vītnes pāreja MET DN15/MLC OD32, piegāde un montāža | D19: gb | E19: 1 | J19: =0.15*H19 -> 0 | K19: =SUM(H19:J19) -> 0 | L19: =ROUND(F19*E19,2) -> 0 | M19: =ROUND(H19*E19,2) -> 0 | N19: =ROUND(I19*E19,2) -> 0 | O19: =ROUND(J19*E19,2) -> 0 | P19: =SUM(M19:O19) -> 0
A20: 6 | C20: Lodveida ventilis DN15, piegāde un montāža | D20: gb | E20: 2 | J20: =0.15*H20 -> 0 | K20: =SUM(H20:J20) -> 0 | L20: =ROUND(F20*E20,2) -> 0 | M20: =ROUND(H20*E20,2) -> 0 | N20: =ROUND(I20*E20,2) -> 0 | O20: =ROUND(J20*E20,2) -> 0 | P20: =SUM(M20:O20) -> 0
A21: 7 | C21: Plūsmas filtrs MET DN15, piegāde un montāža | D21: gb | E21: 1 | J21: =0.15*H21 -> 0 | K21: =SUM(H21:J21) -> 0 | L21: =ROUND(F21*E21,2) -> 0 | M21: =ROUND(H21*E21,2) -> 0 | N21: =ROUND(I21*E21,2) -> 0 | O21: =ROUND(J21*E21,2) -> 0 | P21: =SUM(M21:O21) -> 0
A22: 8 | C22: Trejgabals MET DN15/15/15, piegāde un montāža | D22: gb | E22: 1 | J22: =0.15*H22 -> 0 | K22: =SUM(H22:J22) -> 0 | L22: =ROUND(F22*E22,2) -> 0 | M22: =ROUND(H22*E22,2) -> 0 | N22: =ROUND(I22*E22,2) -> 0 | O22: =ROUND(J22*E22,2) -> 0 | P22: =SUM(M22:O22) -> 0
