Workbook
Name A: '[1]2'!$A$1
Name P: #REF!
Name P: #REF!
Name P: #REF!
Name P: #REF!
Name P: #REF!
Name P: #REF!
Name P: #REF!
Name P: #REF!
Name P: #REF!
Name P: #REF!
Name P: #REF!
Name P: #REF!
Name P: #REF!
Name P: #REF!
Name P: #REF!
Name P: #REF!
Name P: #REF!
Name P: #REF!
Name P: #REF!
Name P: #REF!
Name P: #REF!
Name P: #REF!
Name P: #REF!
Name P: #REF!
Name P: #REF!
Name P: #REF!
Name P: #REF!
Name P: #REF!
Name P: #REF!
Name P: #REF!

Sheet Koptame_VNI
D2: APSTIPRINU
D3: ________________________________________
D4: (pasūtītāja paraksts un tā atšifrējums)
D6: Z.v.
D7: ______.gada ____.____________
B9: Būvniecības koptāme_VNI
B11: Būves nosaukums: | C11: Ēkas pārbūve un teritorijas labiekārtošana
B12: Objekta nosaukums: | C12: Ēkas pārbūve un teritorijas labiekārtošana( VNĪ līdzekļi)
B13: Objekta adrese: | C13: Citadeles iela 7, Rīga
B14: Pasūtījuma Nr. | C14: n
D16: Tāme sastādīta:
B17: Tāme sastādīta 2023.gada tirgus cenās, pamatojoties uz SIA „Baltex Group” būvprojekta rasējumiem un darbu apjomiem
B18: Kopsav.tāmes Nr | C18: Objekta nosaukums | D18: Objekta izmaksas (euro)
B21: 1 | C21: Vispārējie būvdarbi | D21: =kops1_VNI!E33 -> #VALUE!
B22: 2 | C22: Specializētie darbi-iekšējie tīkli, sistēmas | D22: =kops2_VNI!E38 -> #VALUE!
B23: 3 | C23: Specializētie darbi-ārējie tīkli, sistēmas | D23: =kops3_VNI!E30 -> #VALUE!
B24: 4 | C24: Teritorijas labiekārtošana | D24: =kops4_VNI!E27 -> #VALUE!
C25: Kopā( bez PVN) | D25: =SUM(D20:D24) -> #VALUE!
C26: Kopā | D26: =SUM(D25:D25) -> #VALUE!
C29: PVN 21 % | D29: =0.21*D26 -> #VALUE!
B34: Sastādīja:
B40: Pārbaudīja:

Sheet kops1_VNI
A2: Kopsavilkuma aprēķins Nr. 1_VNI
A6: =Koptame_VNI!C21 -> Vispārējie būvdarbi
A8: Būves nosaukums: | C8: =Koptame_VNI!C11 -> Ēkas pārbūve un teritorijas labiekārtošana
A9: Objekta nosaukums: | C9: =Koptame_VNI!C12 -> Ēkas pārbūve un teritorijas labiekārtošana( VNĪ līdzekļi)
A10: Objekta adrese: | C10: =Koptame_VNI!C13 -> Citadeles iela 7, Rīga
A11: =Koptame_VNI!B14 -> Pasūtījuma Nr. | C11: =Koptame_VNI!C14 -> n
F13: Par kopējo summu, euro | H13: =E33 -> #VALUE!
F14: Kopējā darbietilpība, c/h | H14: =I29 -> 0
H15: =H14+kops2_VNI!H14+kops3_VNI!H14+kops4_VNI!H14 -> 0
H16: =Koptame_VNI!D16 -> Tāme sastādīta:
A18: Nr.p.k. | B18: Kods, tāmes Nr. | C18: Būvdarbu veids vai konstruktīvā elementa nosaukums | E18: Tāmes izmaksas (euro) | F18: Tai skaitā | I18: Darbietilpība (c/h)
F19: darba alga (euro) | G19: būvizstrādājumi (euro) | H19: mehānismi (euro)
A21: 1 | B21: 1.2._VNI | C21: Zemes darbi | E21: ='1.2._VNI'!P21 -> 0 | F21: ='1.2._VNI'!M21 -> 0 | G21: ='1.2._VNI'!N21 -> 0 | H21: ='1.2._VNI'!O21 -> 0 | I21: ='1.2._VNI'!L21 -> 0
A22: 2 | B22: 1.3._VNI | C22: Pamati | E22: ='1.3._VNI'!P21 -> 0 | F22: ='1.3._VNI'!M21 -> 0 | G22: ='1.3._VNI'!N21 -> 0 | H22: ='1.3._VNI'!O21 -> 0 | I22: ='1.3._VNI'!L21 -> 0
A23: 3 | B23: 1.4._VNI | C23: Sienas | E23: ='1.4._VNI'!P21 -> 0 | F23: ='1.4._VNI'!M21 -> 0 | G23: ='1.4._VNI'!N21 -> 0 | H23: ='1.4._VNI'!O21 -> 0 | I23: ='1.4._VNI'!L21 -> 0
A24: 4 | B24: 1.5._VNI | C24: Pārsegumi | E24: ='1.5._VNI'!P20 -> 0 | F24: ='1.5._VNI'!M20 -> 0 | G24: ='1.5._VNI'!N20 -> 0 | H24: ='1.5._VNI'!O20 -> 0 | I24: ='1.5._VNI'!L20 -> 0
A25: 5 | B25: 1.6._VNI | C25: Jumts | E25: ='1.6._VNI'!P20 -> 0 | F25: ='1.6._VNI'!M20 -> 0 | G25: ='1.6._VNI'!N20 -> 0 | H25: ='1.6._VNI'!O20 -> 0 | I25: ='1.6._VNI'!L20 -> 0
A26: 6 | B26: 1.7._VNI | C26: Kāpnes | E26: ='1.7._VNI'!P17 -> 0 | F26: ='1.7._VNI'!M17 -> 0 | G26: ='1.7._VNI'!N17 -> 0 | H26: ='1.7._VNI'!O17 -> 0 | I26: ='1.7._VNI'!L17 -> 0
A27: 8 | B27: 1.11._VNI | C27: Fasāde | E27: ='1.11._VNI'!P19 -> 0 | F27: ='1.11._VNI'!M19 -> 0 | G27: ='1.11._VNI'!N19 -> 0 | H27: ='1.11._VNI'!O19 -> 0 | I27: ='1.11._VNI'!L19 -> 0
A28: 9 | B28: 1.12._VNI | C28: Dažādi darbi | E28: ='1.12._VNI'!P17 -> 0 | F28: ='1.12._VNI'!M17 -> 0 | G28: ='1.12._VNI'!N17 -> 0 | H28: ='1.12._VNI'!O17 -> 0 | I28: ='1.12._VNI'!L17 -> 0
C29: Kopā | E29: =SUM(E21:E28) -> 0 | F29: =SUM(F21:F28) -> 0 | G29: =SUM(G21:G28) -> 0 | H29: =SUM(H21:H28) -> 0 | I29: =SUM(I21:I28) -> 0
A30: Virsizdevumi | D30: %
C31: tai skaitā darba aizsardzība
A32: Peļņa | D32: % | E32: =ROUND(E29*D32,2) -> #VALUE!
C33: Kopā bez PVN | E33: =E32+E30+E29 -> #VALUE!
B36: Sastādīja:
C37: =Koptame_VNI!C35 -> 0
C38: =Koptame_VNI!C36 -> 0
B42: =Koptame_VNI!B40 -> Pārbaudīja:
C43: =Koptame_VNI!C41 -> 0
C44: =Koptame_VNI!C42 -> 0

Sheet 1.2._VNI
G1: Lokālā tāme Nr. | H1: =kops1_VNI!B21 -> 1.2._VNI
A2: =C13 -> Zemes darbi
C3: Būves nosaukums: | D3: =Koptame_VNI!C11 -> Ēkas pārbūve un teritorijas labiekārtošana
C4: Objekta nosaukums: | D4: =Koptame_VNI!C12 -> Ēkas pārbūve un teritorijas labiekārtošana( VNĪ līdzekļi)
C5: Objekta adrese: | D5: =Koptame_VNI!C13 -> Citadeles iela 7, Rīga
C6: =Koptame_VNI!B14 -> Pasūtījuma Nr. | D6: =Koptame_VNI!C14 -> n
A7: =Koptame_VNI!B17 -> Tāme sastādīta 2023.gada tirgus cenās, pamatojoties uz SIA „Baltex Group” būvprojekta rasējumiem un darbu apjomiem | O7: Tāmes izmaksas euro: | P7: =P21 -> 0
L9: =Koptame_VNI!D16 -> Tāme sastādīta:
A11: Nr.p.k. | B11: Kods | C11: Būvdarbu nosaukums | D11: Mērvienība | E11: Daudzums | F11: Vienības izmaksas | L11: Kopā uz visu apjomu
F12: Laika norma (c/h) | G12: Darba samaksas likme (euro/h) | H12: Darba alga (euro) | I12: Būvizstrādājumi (euro) | J12: Mehānismi (euro) | K12: Kopā (euro) | L12: Darbietilpība (c/h) | M12: Darba alga (euro) | N12: Būvizstrādājumi (euro) | O12: Mehānismi (euro) | P12: Summa (euro)
B13: 0 | C13: =kops1_VNI!C21 -> Zemes darbi | F13: 0 | G13: 0 | H13: 0 | I13: 0 | J13: 0 | K13: =SUM(H13:J13) -> 0 | L13: =ROUND(F13*E13,2) -> 0 | M13: =ROUND(H13*E13,2) -> 0 | N13: =ROUND(I13*E13,2) -> 0 | O13: =ROUND(J13*E13,2) -> 0 | P13: =SUM(M13:O13) -> 0
A14: 1 | C14: Gruntsūdens līmeņa pazemināšana (Nepieciešamību precizēt būvniecības laikā!) | D14: kpl | E14: 1 | K14: =SUM(H14:J14) -> 0 | L14: =ROUND(F14*E14,2) -> 0 | M14: =ROUND(H14*E14,2) -> 0 | N14: =ROUND(I14*E14,2) -> 0 | O14: =ROUND(J14*E14,2) -> 0 | P14: =SUM(M14:O14) -> 0
A15: 2 | C15: Grunts rakšana mehanizēti, iekraujot grunti automašīnā-pašizgāzējā | D15: m3 | E15: 30 | K15: =SUM(H15:J15) -> 0 | L15: =ROUND(F15*E15,2) -> 0 | M15: =ROUND(H15*E15,2) -> 0 | N15: =ROUND(I15*E15,2) -> 0 | O15: =ROUND(J15*E15,2) -> 0 | P15: =SUM(M15:O15) -> 0
A16: 3 | C16: Grunts rakšana ar rokām | D16: m3 | E16: 3 | K16: =SUM(H16:J16) -> 0 | L16: =ROUND(F16*E16,2) -> 0 | M16: =ROUND(H16*E16,2) -> 0 | N16: =ROUND(I16*E16,2) -> 0 | O16: =ROUND(J16*E16,2) -> 0 | P16: =SUM(M16:O16) -> 0
A17: 4 | C17: Būvbedres un tranšejas aizbēršana mehanizēti ar pievesto smilti ar blietēšanu | D17: m3 | E17: 19.5 | K17: =SUM(H17:J17) -> 0 | L17: =ROUND(F17*E17,2) -> 0 | M17: =ROUND(H17*E17,2) -> 0 | N17: =ROUND(I17*E17,2) -> 0 | O17: =ROUND(J17*E17,2) -> 0 | P17: =SUM(M17:O17) -> 0
A18: 5 | C18: Būvbedres un tranšejas aizbēršana ar rokām ar pievesto smilti ar blietēšanu t.sk. | D18: m3 | E18: 2.5 | K18: =SUM(H18:J18) -> 0 | L18: =ROUND(F18*E18,2) -> 0 | M18: =ROUND(H18*E18,2) -> 0 | N18: =ROUND(I18*E18,2) -> 0 | O18: =ROUND(J18*E18,2) -> 0 | P18: =SUM(M18:O18) -> 0
A19: 6 | C19: Liekās grunts aizvešana | D19: m3 | E19: 33 | K19: =SUM(H19:J19) -> 0 | L19: =ROUND(F19*E19,2) -> 0 | M19: =ROUND(H19*E19,2) -> 0 | N19: =ROUND(I19*E19,2) -> 0 | O19: =ROUND(J19*E19,2) -> 0 | P19: =SUM(M19:O19) -> 0
C21: Tiešās izmaksas kopā t.sk. darba devēja sociālais nodoklis(23,59%) | L21: =SUM(L13:L20) -> 0 | M21: =SUM(M13:M20) -> 0 | N21: =SUM(N13:N20) -> 0 | O21: =SUM(O13:O20) -> 0 | P21: =SUM(P13:P20) -> 0
B23: Piezīmes
A24: Visas atsauces uz materiālu un izstrādājumu izgatavotaj firmām, kuras norādītas būvprojektā, liecina tikai par šo materiālu un izstrādājumu tehniskajiem parametriem un kvalitātes līmeni, to nomaiņa ir iespējama ar citiem tehniski un kvalitatīvi ekvivalentiem būvizstrādājumiem, iepriekš saskaņojot tos ar projekta autoriem un uzrādot atbilstības sertifikātus.
B28: Sastādīja: | L28: =Koptame_VNI!B40 -> Pārbaudīja:
C29: =Koptame_VNI!C35 -> 0 | M29: =Koptame_VNI!C41 -> 0
C30: =Koptame_VNI!C36 -> 0 | M30: =Koptame_VNI!C42 -> 0

Sheet 1.3._VNI
G1: Lokālā tāme Nr. | H1: =kops1_VNI!$B$22 -> 1.3._VNI
A2: =C13 -> Pamati
C3: Būves nosaukums: | D3: =Koptame_VNI!C11 -> Ēkas pārbūve un teritorijas labiekārtošana
C4: Objekta nosaukums: | D4: =Koptame_VNI!C12 -> Ēkas pārbūve un teritorijas labiekārtošana( VNĪ līdzekļi)
C5: Objekta adrese: | D5: =Koptame_VNI!C13 -> Citadeles iela 7, Rīga
C6: =Koptame_VNI!B14 -> Pasūtījuma Nr. | D6: =Koptame_VNI!C14 -> n
A7: =Koptame_VNI!B17 -> Tāme sastādīta 2023.gada tirgus cenās, pamatojoties uz SIA „Baltex Group” būvprojekta rasējumiem un darbu apjomiem | O7: Tāmes izmaksas euro: | P7: =P21 -> 0
L9: =Koptame_VNI!D16 -> Tāme sastādīta:
A11: Nr.p.k. | B11: Kods | C11: Būvdarbu nosaukums | D11: Mērvienība | E11: Daudzums | F11: Vienības izmaksas | L11: Kopā uz visu apjomu
F12: Laika norma (c/h) | G12: Darba samaksas likme (euro/h) | H12: Darba alga (euro) | I12: Būvizstrādājumi (euro) | J12: Mehānismi (euro) | K12: Kopā (euro) | L12: Darbietilpība (c/h) | M12: Darba alga (euro) | N12: Būvizstrādājumi (euro) | O12: Mehānismi (euro) | P12: Summa (euro)
B13: 0 | C13: =kops1_VNI!C22 -> Pamati | F13: 0 | G13: 0 | H13: 0 | I13: 0 | J13: 0 | K13: =SUM(H13:J13) -> 0 | L13: =ROUND(F13*E13,2) -> 0 | M13: =ROUND(H13*E13,2) -> 0 | N13: =ROUND(I13*E13,2) -> 0 | O13: =ROUND(J13*E13,2) -> 0 | P13: =SUM(M13:O13) -> 0
A14: 0 | C14: BK Pamati pie kāpnēm un jaunais kāpņu posms BK-2001 | H14: =ROUND(F14*G14,2) -> 0 | K14: =SUM(H14:J14) -> 0 | L14: =ROUND(F14*E14,2) -> 0 | M14: =ROUND(H14*E14,2) -> 0 | N14: =ROUND(I14*E14,2) -> 0 | O14: =ROUND(J14*E14,2) -> 0 | P14: =SUM(M14:O14) -> 0
A15: 1 | C15: Inventāro veidņu uzstādīšana,eļļošana pamatiem un nojaukšana ,noma | D15: m2 | E15: 23 | K15: =SUM(H15:J15) -> 0 | L15: =ROUND(F15*E15,2) -> 0 | M15: =ROUND(H15*E15,2) -> 0 | N15: =ROUND(I15*E15,2) -> 0 | O15: =ROUND(J15*E15,2) -> 0 | P15: =SUM(M15:O15) -> 0
A16: 2 | C16: Šķembu pamatojuma ierīkošana fr.20-40 mm,blīvā veidā | D16: m3 | E16: 1.451 | K16: =SUM(H16:J16) -> 0 | L16: =ROUND(F16*E16,2) -> 0 | M16: =ROUND(H16*E16,2) -> 0 | N16: =ROUND(I16*E16,2) -> 0 | O16: =ROUND(J16*E16,2) -> 0 | P16: =SUM(M16:O16) -> 0
A17: 3 | C17: Betona iestrādāšana pamatu konstrukcijās-pamatu pēda C12/15+XC2 novibrējot, betonu padod ar sūkni | D17: m3 | E17: 0.364 | K17: =SUM(H17:J17) -> 0 | L17: =ROUND(F17*E17,2) -> 0 | M17: =ROUND(H17*E17,2) -> 0 | N17: =ROUND(I17*E17,2) -> 0 | O17: =ROUND(J17*E17,2) -> 0 | P17: =SUM(M17:O17) -> 0
A18: 4 | C18: Armatūras sietu izgatavošana, uzstādīšana, fiksatoru uzstādīšana. Armatūra B500B | D18: t | E18: 0.284 | K18: =SUM(H18:J18) -> 0 | L18: =ROUND(F18*E18,2) -> 0 | M18: =ROUND(H18*E18,2) -> 0 | N18: =ROUND(I18*E18,2) -> 0 | O18: =ROUND(J18*E18,2) -> 0 | P18: =SUM(M18:O18) -> 0
A19: 5 | C19: Betona iestrādāšana pamatu konstrukcijās-pamatu pēda C30/37+XC2 novibrējot,betonu padod ar sūkni | D19: m3 | E19: 2.78 | K19: =SUM(H19:J19) -> 0 | L19: =ROUND(F19*E19,2) -> 0 | M19: =ROUND(H19*E19,2) -> 0 | N19: =ROUND(I19*E19,2) -> 0 | O19: =ROUND(J19*E19,2) -> 0 | P19: =SUM(M19:O19) -> 0
C21: Tiešās izmaksas kopā t.sk. darba devēja sociālais nodoklis(23,59%) | L21: =SUM(L13:L20) -> 0 | M21: =SUM(M13:M20) -> 0 | N21: =SUM(N13:N20) -> 0 | O21: =SUM(O13:O20) -> 0 | P21: =SUM(P13:P20) -> 0
B23: Piezīmes:
A24: Visas atsauces uz materiālu un izstrādājumu izgatavotaj firmām, kuras norādītas būvprojektā, liecina tikai par šo materiālu un izstrādājumu tehniskajiem parametriem un kvalitātes līmeni, to nomaiņa ir iespējama ar citiem tehniski un kvalitatīvi ekvivalentiem būvizstrādājumiem, iepriekš saskaņojot tos ar projekta autoriem un uzrādot atbilstības sertifikātus.
B28: Sastādīja: | L28: =Koptame_VNI!B40 -> Pārbaudīja:
C29: =Koptame_VNI!C35 -> 0 | M29: =Koptame_VNI!C41 -> 0
C30: =Koptame_VNI!C36 -> 0 | M30: =Koptame_VNI!C42 -> 0

Sheet 1.4._VNI
G1: Lokālā tāme Nr. | H1: =kops1_VNI!B23 -> 1.4._VNI
A2: =C13 -> Sienas
C3: Būves nosaukums: | D3: =Koptame_VNI!C11 -> Ēkas pārbūve un teritorijas labiekārtošana
C4: Objekta nosaukums: | D4: =Koptame_VNI!C12 -> Ēkas pārbūve un teritorijas labiekārtošana( VNĪ līdzekļi)
C5: Objekta adrese: | D5: =Koptame_VNI!C13 -> Citadeles iela 7, Rīga
C6: =Koptame_VNI!B14 -> Pasūtījuma Nr. | D6: =Koptame_VNI!C14 -> n
A7: =Koptame_VNI!B17 -> Tāme sastādīta 2023.gada tirgus cenās, pamatojoties uz SIA „Baltex Group” būvprojekta rasējumiem un darbu apjomiem | O7: Tāmes izmaksas euro: | P7: =P21 -> 0
L9: =Koptame_VNI!D16 -> Tāme sastādīta:
A11: Nr.p.k. | B11: Kods | C11: Būvdarbu nosaukums | D11: Mērvienība | E11: Daudzums | F11: Vienības izmaksas | L11: Kopā uz visu apjomu
F12: Laika norma (c/h) | G12: Darba samaksas likme (euro/h) | H12: Darba alga (euro) | I12: Būvizstrādājumi (euro) | J12: Mehānismi (euro) | K12: Kopā (euro) | L12: Darbietilpība (c/h) | M12: Darba alga (euro) | N12: Būvizstrādājumi (euro) | O12: Mehānismi (euro) | P12: Summa (euro)
B13: 0 | C13: =kops1_VNI!C23 -> Sienas | F13: 0 | G13: 0 | H13: 0 | I13: 0 | J13: 0 | K13: =SUM(H13:J13) -> 0 | L13: =ROUND(F13*E13,2) -> 0 | M13: =ROUND(H13*E13,2) -> 0 | N13: =ROUND(I13*E13,2) -> 0 | O13: =ROUND(J13*E13,2) -> 0 | P13: =SUM(M13:O13) -> 0
A14: 0 | C14: BK Ailu izveide un pastiprināšana BK-3001, BK-4001, BK-5003, BK-5004 | H14: =ROUND(F14*G14,2) -> 0 | K14: =SUM(H14:J14) -> 0 | L14: =ROUND(F14*E14,2) -> 0 | M14: =ROUND(H14*E14,2) -> 0 | N14: =ROUND(I14*E14,2) -> 0 | O14: =ROUND(J14*E14,2) -> 0 | P14: =SUM(M14:O14) -> 0
A15: 1 | C15: Pagaidu pārseguma stiprinājumi uzstādīšana,nojaukšana pārsedžu izbūves laikā no kokmateriāliem, izmantojot atkārtoti | D15: kpl | E15: 1 | K15: =SUM(H15:J15) -> 0 | L15: =ROUND(F15*E15,2) -> 0 | M15: =ROUND(H15*E15,2) -> 0 | N15: =ROUND(I15*E15,2) -> 0 | O15: =ROUND(J15*E15,2) -> 0 | P15: =SUM(M15:O15) -> 0
A16: 2 | C16: Tērauda konstrukciju-pārsedzes izgatavošana,piegāde,montāža t.sk. Palīgmateriāli. Metāla konstrukcijas apstrādātas atbilstoši BK norādījumiem | D16: t | E16: =1.143+0.114 -> 1.257 | K16: =SUM(H16:J16) -> 0 | L16: =ROUND(F16*E16,2) -> 0 | M16: =ROUND(H16*E16,2) -> 0 | N16: =ROUND(I16*E16,2) -> 0 | O16: =ROUND(J16*E16,2) -> 0 | P16: =SUM(M16:O16) -> 0
A17: 3 | C17: Metāla aiļu pārsedžu apmešana 30 mm ,aptinot ar apmetuma sietu | D17: m | E17: 45 | K17: =SUM(H17:J17) -> 0 | L17: =ROUND(F17*E17,2) -> 0 | M17: =ROUND(H17*E17,2) -> 0 | N17: =ROUND(I17*E17,2) -> 0 | O17: =ROUND(J17*E17,2) -> 0 | P17: =SUM(M17:O17) -> 0
A18: 4 | C18: Mūra noķīlēšana un aizpildīšana zem spiediena ar smalkgraudainu betonu ar bezrukuma piedevu. Smalkgraudains betons C30/37+XC1 | D18: m3 | E18: 0.555 | K18: =SUM(H18:J18) -> 0 | L18: =ROUND(F18*E18,2) -> 0 | M18: =ROUND(H18*E18,2) -> 0 | N18: =ROUND(I18*E18,2) -> 0 | O18: =ROUND(J18*E18,2) -> 0 | P18: =SUM(M18:O18) -> 0
A19: 5 | C19: Gropes izkalšana pārsedzēm vid.~100x200mm | D19: m | E19: =E17 -> 45 | K19: =SUM(H19:J19) -> 0 | L19: =ROUND(F19*E19,2) -> 0 | M19: =ROUND(H19*E19,2) -> 0 | N19: =ROUND(I19*E19,2) -> 0 | O19: =ROUND(J19*E19,2) -> 0 | P19: =SUM(M19:O19) -> 0
C21: Tiešās izmaksas kopā t.sk. darba devēja sociālais nodoklis(23,59%) | L21: =SUM(L13:L20) -> 0 | M21: =SUM(M13:M20) -> 0 | N21: =SUM(N13:N20) -> 0 | O21: =SUM(O13:O20) -> 0 | P21: =SUM(P13:P20) -> 0
B23: Piezīmes:
A24: Visas atsauces uz materiālu un izstrādājumu izgatavotaj firmām, kuras norādītas būvprojektā, liecina tikai par šo materiālu un izstrādājumu tehniskajiem parametriem un kvalitātes līmeni, to nomaiņa ir iespējama ar citiem tehniski un kvalitatīvi ekvivalentiem būvizstrādājumiem, iepriekš saskaņojot tos ar projekta autoriem un uzrādot atbilstības sertifikātus.
B28: Sastādīja: | L28: =Koptame_VNI!B40 -> Pārbaudīja:
C29: =Koptame_VNI!C35 -> 0 | M29: =Koptame_VNI!C41 -> 0
C30: =Koptame_VNI!C36 -> 0 | M30: =Koptame_VNI!C42 -> 0

Sheet 1.5._VNI
G1: Lokālā tāme Nr. | H1: =kops1_VNI!B24 -> 1.5._VNI
A2: =C13 -> Pārsegumi
C3: Būves nosaukums: | D3: =Koptame_VNI!C11 -> Ēkas pārbūve un teritorijas labiekārtošana
C4: Objekta nosaukums: | D4: =Koptame_VNI!C12 -> Ēkas pārbūve un teritorijas labiekārtošana( VNĪ līdzekļi)
C5: Objekta adrese: | D5: =Koptame_VNI!C13 -> Citadeles iela 7, Rīga
C6: =Koptame_VNI!B14 -> Pasūtījuma Nr. | D6: =Koptame_VNI!C14 -> n
A7: =Koptame_VNI!B17 -> Tāme sastādīta 2023.gada tirgus cenās, pamatojoties uz SIA „Baltex Group” būvprojekta rasējumiem un darbu apjomiem | O7: Tāmes izmaksas euro: | P7: =P20 -> 0
L9: =Koptame_VNI!D16 -> Tāme sastādīta:
A11: Nr.p.k. | B11: Kods | C11: Būvdarbu nosaukums | D11: Mērvienība | E11: Daudzums | F11: Vienības izmaksas | L11: Kopā uz visu apjomu
F12: Laika norma (c/h) | G12: Darba samaksas likme (euro/h) | H12: Darba alga (euro) | I12: Būvizstrādājumi (euro) | J12: Mehānismi (euro) | K12: Kopā (euro) | L12: Darbietilpība (c/h) | M12: Darba alga (euro) | N12: Būvizstrādājumi (euro) | O12: Mehānismi (euro) | P12: Summa (euro)
B13: 0 | C13: =kops1_VNI!C24 -> Pārsegumi | F13: 0 | G13: 0 | H13: 0 | I13: 0 | J13: 0 | K13: =SUM(H13:J13) -> 0 | L13: =ROUND(F13*E13,2) -> 0 | M13: =ROUND(H13*E13,2) -> 0 | N13: =ROUND(I13*E13,2) -> 0 | O13: =ROUND(J13*E13,2) -> 0 | P13: =SUM(M13:O13) -> 0
A14: 0 | C14: BK-4001 | H14: =ROUND(F14*G14,2) -> 0 | K14: =SUM(H14:J14) -> 0 | L14: =ROUND(F14*E14,2) -> 0 | M14: =ROUND(H14*E14,2) -> 0 | N14: =ROUND(I14*E14,2) -> 0 | O14: =ROUND(J14*E14,2) -> 0 | P14: =SUM(M14:O14) -> 0
A15: 1 | C15: Nesošo koka konstrukciju izgatavošana un montāža sagatavotas atbilstoši BK norādījumiem t.sk. Palīgmateriāli. T.sk. Apstrāde 240x330 mm GL24c | D15: m3 | E15: 1.552 | J15: =0.15*H15 -> 0 | K15: =SUM(H15:J15) -> 0 | L15: =ROUND(F15*E15,2) -> 0 | M15: =ROUND(H15*E15,2) -> 0 | N15: =ROUND(I15*E15,2) -> 0 | O15: =ROUND(J15*E15,2) -> 0 | P15: =SUM(M15:O15) -> 0
A16: 2 | C16: Tērauda konstrukciju izgatavošana , piegāde,montāža t.sk. Palīgmateriāli. Metāla konstrukcijas apstrādātas atbilstoši BK norādījumiem t.sk. Pārklājumi t.sk. Ugunsdrošais pārklājums | D16: t | E16: 0.39 | K16: =SUM(H16:J16) -> 0 | L16: =ROUND(F16*E16,2) -> 0 | M16: =ROUND(H16*E16,2) -> 0 | N16: =ROUND(I16*E16,2) -> 0 | O16: =ROUND(J16*E16,2) -> 0 | P16: =SUM(M16:O16) -> 0
A17: 3 | C17: Lewis loksnes ieklāšana 16 mm t.sk. Palīgmateriāli | D17: m2 | E17: 285 | K17: =SUM(H17:J17) -> 0 | L17: =ROUND(F17*E17,2) -> 0 | M17: =ROUND(H17*E17,2) -> 0 | N17: =ROUND(I17*E17,2) -> 0 | O17: =ROUND(J17*E17,2) -> 0 | P17: =SUM(M17:O17) -> 0
A18: 4 | C18: Betona iestrādāšana konstrukcijās C20/25+XC1 smalkgraudains novibrējot,betonu padod ar sūkni | D18: m3 | E18: 20.52 | K18: =SUM(H18:J18) -> 0 | L18: =ROUND(F18*E18,2) -> 0 | M18: =ROUND(H18*E18,2) -> 0 | N18: =ROUND(I18*E18,2) -> 0 | O18: =ROUND(J18*E18,2) -> 0 | P18: =SUM(M18:O18) -> 0
C20: Tiešās izmaksas kopā t.sk. darba devēja sociālais nodoklis(23,59%) | L20: =SUM(L13:L19) -> 0 | M20: =SUM(M13:M19) -> 0 | N20: =SUM(N13:N19) -> 0 | O20: =SUM(O13:O19) -> 0 | P20: =SUM(P13:P19) -> 0
B22: Piezīmes:
A23: Visas atsauces uz materiālu un izstrādājumu izgatavotaj firmām, kuras norādītas būvprojektā, liecina tikai par šo materiālu un izstrādājumu tehniskajiem parametriem un kvalitātes līmeni, to nomaiņa ir iespējama ar citiem tehniski un kvalitatīvi ekvivalentiem būvizstrādājumiem, iepriekš saskaņojot tos ar projekta autoriem un uzrādot atbilstības sertifikātus.
B27: Sastādīja: | L27: =Koptame_VNI!B40 -> Pārbaudīja:
C28: =Koptame_VNI!C35 -> 0 | M28: =Koptame_VNI!C41 -> 0
C29: =Koptame_VNI!C36 -> 0 | M29: =Koptame_VNI!C42 -> 0

Sheet 1.6._VNI
G1: Lokālā tāme Nr. | H1: =kops1_VNI!B25 -> 1.6._VNI
A2: =C13 -> Jumts
C3: Būves nosaukums: | D3: =Koptame_VNI!C11 -> Ēkas pārbūve un teritorijas labiekārtošana
C4: Objekta nosaukums: | D4: =Koptame_VNI!C12 -> Ēkas pārbūve un teritorijas labiekārtošana( VNĪ līdzekļi)
C5: Objekta adrese: | D5: =Koptame_VNI!C13 -> Citadeles iela 7, Rīga
C6: =Koptame_VNI!B14 -> Pasūtījuma Nr. | D6: =Koptame_VNI!C14 -> n
A7: =Koptame_VNI!B17 -> Tāme sastādīta 2023.gada tirgus cenās, pamatojoties uz SIA „Baltex Group” būvprojekta rasējumiem un darbu apjomiem | O7: Tāmes izmaksas euro: | P7: =P20 -> 0
L9: =Koptame_VNI!D16 -> Tāme sastādīta:
A11: Nr.p.k. | B11: Kods | C11: Būvdarbu nosaukums | D11: Mērvienība | E11: Daudzums | F11: Vienības izmaksas | L11: Kopā uz visu apjomu
F12: Laika norma (c/h) | G12: Darba samaksas likme (euro/h) | H12: Darba alga (euro) | I12: Būvizstrādājumi (euro) | J12: Mehānismi (euro) | K12: Kopā (euro) | L12: Darbietilpība (c/h) | M12: Darba alga (euro) | N12: Būvizstrādājumi (euro) | O12: Mehānismi (euro) | P12: Summa (euro)
B13: 0 | C13: =kops1_VNI!C25 -> Jumts | F13: 0 | G13: 0 | H13: 0 | I13: 0 | J13: 0 | K13: =SUM(H13:J13) -> 0 | L13: =ROUND(F13*E13,2) -> 0 | M13: =ROUND(H13*E13,2) -> 0 | N13: =ROUND(I13*E13,2) -> 0 | O13: =ROUND(J13*E13,2) -> 0 | P13: =SUM(M13:O13) -> 0
A14: 0 | C14: BK-4001 | H14: =ROUND(F14*G14,2) -> 0 | K14: =SUM(H14:J14) -> 0 | L14: =ROUND(F14*E14,2) -> 0 | M14: =ROUND(H14*E14,2) -> 0 | N14: =ROUND(I14*E14,2) -> 0 | O14: =ROUND(J14*E14,2) -> 0 | P14: =SUM(M14:O14) -> 0
A15: 1 | C15: Nesošo koka konstrukciju izgatavošana un montāža sagatavotas atbilstoši BK norādījumiem t.sk. Palīgmateriāli. T.sk. Apstrāde | D15: m3 | E15: 0.045 | J15: =0.15*H15 -> 0 | K15: =SUM(H15:J15) -> 0 | L15: =ROUND(F15*E15,2) -> 0 | M15: =ROUND(H15*E15,2) -> 0 | N15: =ROUND(I15*E15,2) -> 0 | O15: =ROUND(J15*E15,2) -> 0 | P15: =SUM(M15:O15) -> 0
A16: 2 | C16: Saplākšņa ieklāšana 30 mm, stiprinājumi | D16: m2 | E16: 6.72 | K16: =SUM(H16:J16) -> 0 | L16: =ROUND(F16*E16,2) -> 0 | M16: =ROUND(H16*E16,2) -> 0 | N16: =ROUND(I16*E16,2) -> 0 | O16: =ROUND(J16*E16,2) -> 0 | P16: =SUM(M16:O16) -> 0
A17: 3 | C17: Projektētā jumta izbūve ventilācijas gaisa ieņemšanai, analoga demontētajai AR 2.9 | D17: gb | E17: 4 | J17: =0.15*H17 -> 0 | K17: =SUM(H17:J17) -> 0 | L17: =ROUND(F17*E17,2) -> 0 | M17: =ROUND(H17*E17,2) -> 0 | N17: =ROUND(I17*E17,2) -> 0 | O17: =ROUND(J17*E17,2) -> 0 | P17: =SUM(M17:O17) -> 0
A18: 4 | C18: Projektētā jumta izbūve t.sk. Jaunajām izbūvēm analoga esošajam (Apjomu precizēt būvniecības laikā pēc fakta!) | D18: m2 | E18: 12 | J18: =0.05*H18 -> 0 | K18: =SUM(H18:J18) -> 0 | L18: =ROUND(F18*E18,2) -> 0 | M18: =ROUND(H18*E18,2) -> 0 | N18: =ROUND(I18*E18,2) -> 0 | O18: =ROUND(J18*E18,2) -> 0 | P18: =SUM(M18:O18) -> 0
F19: 0 | G19: 0
C20: Tiešās izmaksas kopā t.sk. darba devēja sociālais nodoklis(23,59%) | L20: =SUM(L13:L19) -> 0 | M20: =SUM(M13:M19) -> 0 | N20: =SUM(N13:N19) -> 0 | O20: =SUM(O13:O19) -> 0 | P20: =SUM(P13:P19) -> 0
B22: Piezīmes:
A23: Visas atsauces uz materiālu un izstrādājumu izgatavotaj firmām, kuras norādītas būvprojektā, liecina tikai par šo materiālu un izstrādājumu tehniskajiem parametriem un kvalitātes līmeni, to nomaiņa ir iespējama ar citiem tehniski un kvalitatīvi ekvivalentiem būvizstrādājumiem, iepriekš saskaņojot tos ar projekta autoriem un uzrādot atbilstības sertifikātus.
B27: Sastādīja: | L27: =Koptame_VNI!B40 -> Pārbaudīja:
C28: =Koptame_VNI!C35 -> 0 | M28: =Koptame_VNI!C41 -> 0
C29: =Koptame_VNI!C36 -> 0 | M29: =Koptame_VNI!C42 -> 0

Sheet 1.7._VNI
G1: Lokālā tāme Nr. | H1: =kops1_VNI!B26 -> 1.7._VNI
A2: =C13 -> Kāpnes
C3: Būves nosaukums: | D3: =Koptame_VNI!C11 -> Ēkas pārbūve un teritorijas labiekārtošana
C4: Objekta nosaukums: | D4: =Koptame_VNI!C12 -> Ēkas pārbūve un teritorijas labiekārtošana( VNĪ līdzekļi)
C5: Objekta adrese: | D5: =Koptame_VNI!C13 -> Citadeles iela 7, Rīga
C6: =Koptame_VNI!B14 -> Pasūtījuma Nr. | D6: =Koptame_VNI!C14 -> n
A7: =Koptame_VNI!B17 -> Tāme sastādīta 2023.gada tirgus cenās, pamatojoties uz SIA „Baltex Group” būvprojekta rasējumiem un darbu apjomiem | O7: Tāmes izmaksas euro: | P7: =P17 -> 0
L9: =Koptame_VNI!D16 -> Tāme sastādīta:
A11: Nr.p.k. | B11: Kods | C11: Būvdarbu nosaukums | D11: Mērvienība | E11: Daudzums | F11: Vienības izmaksas | L11: Kopā uz visu apjomu
F12: Laika norma (c/h) | G12: Darba samaksas likme (euro/h) | H12: Darba alga (euro) | I12: Būvizstrādājumi (euro) | J12: Mehānismi (euro) | K12: Kopā (euro) | L12: Darbietilpība (c/h) | M12: Darba alga (euro) | N12: Būvizstrādājumi (euro) | O12: Mehānismi (euro) | P12: Summa (euro)
A13: 0 | C13: =kops1_VNI!C26 -> Kāpnes | H13: =ROUND(G13*F13,2) -> 0 | K13: =SUM(H13:J13) -> 0 | L13: =ROUND(F13*E13,2) -> 0 | M13: =ROUND(H13*E13,2) -> 0 | N13: =ROUND(I13*E13,2) -> 0 | O13: =ROUND(J13*E13,2) -> 0 | P13: =SUM(M13:O13) -> 0
A14: 0 | C14: BK Tērauda kāpņu konstrukcijas BK 5001; 5002; 5003;5004 | H14: =ROUND(F14*G14,2) -> 0 | K14: =SUM(H14:J14) -> 0 | L14: =ROUND(F14*E14,2) -> 0 | M14: =ROUND(H14*E14,2) -> 0 | N14: =ROUND(I14*E14,2) -> 0 | O14: =ROUND(J14*E14,2) -> 0 | P14: =SUM(M14:O14) -> 0
A15: 1 | C15: Tērauda konstrukciju izgatavošana , piegāde,montāža t.sk. Palīgmateriāli. Metāla konstrukcijas apstrādātas atbilstoši BK norādījumiem t.sk. Pārklājumi t.sk. Hilti dībeļi, vītņstienis, ugunsdrošais pārklājums | D15: t | E15: =0.0494+0.02 -> 0.0694 | K15: =SUM(H15:J15) -> 0 | L15: =ROUND(F15*E15,2) -> 0 | M15: =ROUND(H15*E15,2) -> 0 | N15: =ROUND(I15*E15,2) -> 0 | O15: =ROUND(J15*E15,2) -> 0 | P15: =SUM(M15:O15) -> 0
F16: =IFERROR(ROUND(H16/G16,2),0) -> 0 | G16: =IF(H16>0,3.75,0) -> 0
C17: Tiešās izmaksas kopā t.sk. darba devēja sociālais nodoklis(23,59%) | L17: =SUM(L13:L16) -> 0 | M17: =SUM(M13:M16) -> 0 | N17: =SUM(N13:N16) -> 0 | O17: =SUM(O13:O16) -> 0 | P17: =SUM(P13:P16) -> 0
B19: Piezīmes:
A20: Visas atsauces uz materiālu un izstrādājumu izgatavotaj firmām, kuras norādītas būvprojektā, liecina tikai par šo materiālu un izstrādājumu tehniskajiem parametriem un kvalitātes līmeni, to nomaiņa ir iespējama ar citiem tehniski un kvalitatīvi ekvivalentiem būvizstrādājumiem, iepriekš saskaņojot tos ar projekta autoriem un uzrādot atbilstības sertifikātus.
B24: Sastādīja: | L24: =Koptame_VNI!B40 -> Pārbaudīja:
C25: =Koptame_VNI!C35 -> 0 | M25: =Koptame_VNI!C41 -> 0
C26: =Koptame_VNI!C36 -> 0 | M26: =Koptame_VNI!C42 -> 0

Sheet 1.11._VNI
G1: Lokālā tāme Nr. | H1: =kops1_VNI!B27 -> 1.11._VNI
A2: =C13 -> Fasāde
C3: Būves nosaukums: | D3: =Koptame_VNI!C11 -> Ēkas pārbūve un teritorijas labiekārtošana
C4: Objekta nosaukums: | D4: =Koptame_VNI!C12 -> Ēkas pārbūve un teritorijas labiekārtošana( VNĪ līdzekļi)
C5: Objekta adrese: | D5: =Koptame_VNI!C13 -> Citadeles iela 7, Rīga
C6: =Koptame_VNI!B14 -> Pasūtījuma Nr. | D6: =Koptame_VNI!C14 -> n
A7: =Koptame_VNI!B17 -> Tāme sastādīta 2023.gada tirgus cenās, pamatojoties uz SIA „Baltex Group” būvprojekta rasējumiem un darbu apjomiem | O7: Tāmes izmaksas euro: | P7: =P19 -> 0
L9: =Koptame_VNI!D16 -> Tāme sastādīta:
A11: Nr.p.k. | B11: Kods | C11: Būvdarbu nosaukums | D11: Mērvienība | E11: Daudzums | F11: Vienības izmaksas | L11: Kopā uz visu apjomu
F12: Laika norma (c/h) | G12: Darba samaksas likme (euro/h) | H12: Darba alga (euro) | I12: Būvizstrādājumi (euro) | J12: Mehānismi (euro) | K12: Kopā (euro) | L12: Darbietilpība (c/h) | M12: Darba alga (euro) | N12: Būvizstrādājumi (euro) | O12: Mehānismi (euro) | P12: Summa (euro)
B13: 0 | C13: =kops1_VNI!C27 -> Fasāde | F13: 0 | G13: 0 | K13: =SUM(H13:J13) -> 0 | L13: =ROUND(F13*E13,2) -> 0 | M13: =ROUND(H13*E13,2) -> 0 | N13: =ROUND(I13*E13,2) -> 0 | O13: =ROUND(J13*E13,2) -> 0 | P13: =SUM(M13:O13) -> 0
A14: 0 | C14: Kolonnu hidroizolācijas atjaunošana | H14: =ROUND(F14*G14,2) -> 0 | K14: =SUM(H14:J14) -> 0 | L14: =ROUND(F14*E14,2) -> 0 | M14: =ROUND(H14*E14,2) -> 0 | N14: =ROUND(I14*E14,2) -> 0 | O14: =ROUND(J14*E14,2) -> 0 | P14: =SUM(M14:O14) -> 0
A15: 1 | C15: Kolonnu horizontālās un vertikālās hidroizolācijas atjaunošana saskaņā ar AR-6.1 | D15: gb | E15: 6 | K15: =SUM(H15:J15) -> 0 | L15: =ROUND(F15*E15,2) -> 0 | M15: =ROUND(H15*E15,2) -> 0 | N15: =ROUND(I15*E15,2) -> 0 | O15: =ROUND(J15*E15,2) -> 0 | P15: =SUM(M15:O15) -> 0
A16: 0 | C16: Fasādes apmetuma atjaunošana un krāsošana | H16: =ROUND(F16*G16,2) -> 0 | K16: =SUM(H16:J16) -> 0 | L16: =ROUND(F16*E16,2) -> 0 | M16: =ROUND(H16*E16,2) -> 0 | N16: =ROUND(I16*E16,2) -> 0 | O16: =ROUND(J16*E16,2) -> 0 | P16: =SUM(M16:O16) -> 0
A17: 2 | C17: Fasādes tīrīšana, gruntēšana, sanācijas apmetuma ierīkošana, špaktelēšana, krāsošana. Jauns sanācijas vairākslāņu apmetums un krāsojums pēc sistēmas POROMAP RINZAFFO - Ūdenī šķistošu sāļu izsturīga saķeres kārta, max. 5mm; POROMAP INTONACO - Mūri žāvējošs apmetums, min. 20mm; POROMAP FINITURA - Sanācijas sistēmas finiša špaktele; SILANCOLOR Primer plus- Grunts slānis; SILANCOLOR Paint plus - Silikona bāzes, tvaika caurlaidīga ūdens dispersijas krāsa; palīgmateriāli AR-4.1 | D17: m2 | E17: 82 | K17: =SUM(H17:J17) -> 0 | L17: =ROUND(F17*E17,2) -> 0 | M17: =ROUND(H17*E17,2) -> 0 | N17: =ROUND(I17*E17,2) -> 0 | O17: =ROUND(J17*E17,2) -> 0 | P17: =SUM(M17:O17) -> 0
F18: 0 | G18: 0
C19: Tiešās izmaksas kopā t.sk. darba devēja sociālais nodoklis(23,59%) | L19: =SUM(L13:L18) -> 0 | M19: =SUM(M13:M18) -> 0 | N19: =SUM(N13:N18) -> 0 | O19: =SUM(O13:O18) -> 0 | P19: =SUM(P13:P18) -> 0
B21: Piezīmes:
A22: Visas atsauces uz materiālu un izstrādājumu izgatavotaj firmām, kuras norādītas būvprojektā, liecina tikai par šo materiālu un izstrādājumu tehniskajiem parametriem un kvalitātes līmeni, to nomaiņa ir iespējama ar citiem tehniski un kvalitatīvi ekvivalentiem būvizstrādājumiem, iepriekš saskaņojot tos ar projekta autoriem un uzrādot atbilstības sertifikātus.
B26: Sastādīja: | L26: =Koptame_VNI!B40 -> Pārbaudīja:
C27: =Koptame_VNI!C35 -> 0 | M27: =Koptame_VNI!C41 -> 0
C28: =Koptame_VNI!C36 -> 0 | M28: =Koptame_VNI!C42 -> 0

Sheet 1.12._VNI
G1: Lokālā tāme Nr. | H1: 1.12._VNI
A2: =C13 -> Dažādi darbi
C3: Būves nosaukums: | D3: =Koptame_VNI!C11 -> Ēkas pārbūve un teritorijas labiekārtošana
C4: Objekta nosaukums: | D4: =Koptame_VNI!C12 -> Ēkas pārbūve un teritorijas labiekārtošana( VNĪ līdzekļi)
C5: Objekta adrese: | D5: =Koptame_VNI!C13 -> Citadeles iela 7, Rīga
C6: =Koptame_VNI!B14 -> Pasūtījuma Nr. | D6: =Koptame_VNI!C14 -> n
A7: =Koptame_VNI!B17 -> Tāme sastādīta 2023.gada tirgus cenās, pamatojoties uz SIA „Baltex Group” būvprojekta rasējumiem un darbu apjomiem | O7: Tāmes izmaksas euro: | P7: =P17 -> 0
L9: =Koptame_VNI!D16 -> Tāme sastādīta:
A11: Nr.p.k. | B11: Kods | C11: Būvdarbu nosaukums | D11: Mērvienība | E11: Daudzums | F11: Vienības izmaksas | L11: Kopā uz visu apjomu
F12: Laika norma (c/h) | G12: Darba samaksas likme (euro/h) | H12: Darba alga (euro) | I12: Būvizstrādājumi (euro) | J12: Mehānismi (euro) | K12: Kopā (euro) | L12: Darbietilpība (c/h) | M12: Darba alga (euro) | N12: Būvizstrādājumi (euro) | O12: Mehānismi (euro) | P12: Summa (euro)
B13: 0 | C13: =kops1_VNI!C28 -> Dažādi darbi | F13: 0 | G13: 0 | K13: =SUM(H13:J13) -> 0 | L13: =ROUND(F13*E13,2) -> 0 | M13: =ROUND(H13*E13,2) -> 0 | N13: =ROUND(I13*E13,2) -> 0 | O13: =ROUND(J13*E13,2) -> 0 | P13: =SUM(M13:O13) -> 0
A14: 1 | C14: Projektētā diagonālā pacēlāja uzstādīšana | D14: gb | E14: 1 | J14: =0.15*F14 -> 0 | K14: =SUM(H14:J14) -> 0 | L14: =ROUND(F14*E14,2) -> 0 | M14: =ROUND(H14*E14,2) -> 0 | N14: =ROUND(I14*E14,2) -> 0 | O14: =ROUND(J14*E14,2) -> 0 | P14: =SUM(M14:O14) -> 0
A15: 2 | C15: Logu ailu uzzīmēšana fasādē saskaņā ar AR 4.3 | D15: gb | E15: 3 | K15: =SUM(H15:J15) -> 0 | L15: =ROUND(F15*E15,2) -> 0 | M15: =ROUND(H15*E15,2) -> 0 | N15: =ROUND(I15*E15,2) -> 0 | O15: =ROUND(J15*E15,2) -> 0 | P15: =SUM(M15:O15) -> 0
F16: 0 | G16: 0
C17: Tiešās izmaksas kopā t.sk. darba devēja sociālais nodoklis(23,59%) | L17: =SUM(L13:L16) -> 0 | M17: =SUM(M13:M16) -> 0 | N17: =SUM(N13:N16) -> 0 | O17: =SUM(O13:O16) -> 0 | P17: =SUM(P13:P16) -> 0
B19: Piezīmes:
A20: Visas atsauces uz materiālu un izstrādājumu izgatavotaj firmām, kuras norādītas būvprojektā, liecina tikai par šo materiālu un izstrādājumu tehniskajiem parametriem un kvalitātes līmeni, to nomaiņa ir iespējama ar citiem tehniski un kvalitatīvi ekvivalentiem būvizstrādājumiem, iepriekš saskaņojot tos ar projekta autoriem un uzrādot atbilstības sertifikātus.
B24: Sastādīja: | L24: =Koptame_VNI!B40 -> Pārbaudīja:
C25: =Koptame_VNI!C35 -> 0 | M25: =Koptame_VNI!C41 -> 0
C26: =Koptame_VNI!C36 -> 0 | M26: =Koptame_VNI!C42 -> 0

Sheet kops2_VNI
A2: Kopsavilkuma aprēķins Nr. 2_VNI
A6: =Koptame_VNI!C22 -> Specializētie darbi-iekšējie tīkli, sistēmas
A8: Būves nosaukums: | C8: =Koptame_VNI!C11 -> Ēkas pārbūve un teritorijas labiekārtošana
A9: Objekta nosaukums: | C9: =Koptame_VNI!C12 -> Ēkas pārbūve un teritorijas labiekārtošana( VNĪ līdzekļi)
A10: Objekta adrese: | C10: =Koptame_VNI!C13 -> Citadeles iela 7, Rīga
A11: =Koptame_VNI!B14 -> Pasūtījuma Nr. | C11: =Koptame_VNI!C14 -> n
F13: Par kopējo summu, euro | H13: =E38 -> #VALUE!
F14: Kopējā darbietilpība, c/h | H14: =I34 -> 0
H16: =Koptame_VNI!D16 -> Tāme sastādīta:
A18: Nr.p.k. | B18: Kods, tāmes Nr. | C18: Būvdarbu veids vai konstruktīvā elementa nosaukums | E18: Tāmes izmaksas (euro) | F18: Tai skaitā | I18: Darbietilpība (c/h)
F19: darba alga (euro) | G19: materiāli (euro) | H19: mehānismi (euro)
A21: 1 | B21: 2.1._VNI | C21: Iekšējais ūdensvads | E21: ='2.1._VNI'!P44 -> 0 | F21: ='2.1._VNI'!M44 -> 0 | G21: ='2.1._VNI'!N44 -> 0 | H21: ='2.1._VNI'!O44 -> 0 | I21: ='2.1._VNI'!L44 -> 0
A22: 2 | B22: 2.2._VNI | C22: Iekšējā kanalizācija | E22: ='2.2._VNI'!P45 -> 0 | F22: ='2.2._VNI'!M45 -> 0 | G22: ='2.2._VNI'!N45 -> 0 | H22: ='2.2._VNI'!O45 -> 0 | I22: ='2.2._VNI'!L45 -> 0
A23: 3 | B23: 2.3._VNI | C23: Apkure | E23: ='2.3._VNI'!Q119 -> 0 | F23: ='2.3._VNI'!N119 -> 0 | G23: ='2.3._VNI'!O119 -> 0 | H23: ='2.3._VNI'!P119 -> 0 | I23: ='2.3._VNI'!M119 -> 0
A24: 4 | B24: 2.4._VNI | C24: Ventilācija | E24: ='2.4._VNI'!Q233 -> 0 | F24: ='2.4._VNI'!N233 -> 0 | G24: ='2.4._VNI'!O233 -> 0 | H24: ='2.4._VNI'!P233 -> 0 | I24: ='2.4._VNI'!M233 -> 0
A25: 5 | B25: 2.5._VNI | C25: Gaisa kondicionēšana | E25: ='2.5._VNI'!Q116 -> 0 | F25: ='2.5._VNI'!N116 -> 0 | G25: ='2.5._VNI'!O116 -> 0 | H25: ='2.5._VNI'!P116 -> 0 | I25: ='2.5._VNI'!M116 -> 0
A26: 6 | B26: 2.6._VNI | C26: Siltummezgls | E26: ='2.6._VNI'!Q86 -> 0 | F26: ='2.6._VNI'!N86 -> 0 | G26: ='2.6._VNI'!O86 -> 0 | H26: ='2.6._VNI'!P86 -> 0 | I26: ='2.6._VNI'!M86 -> 0
A27: 7 | B27: 2.7._VNI | C27: Elektroinstalācija | E27: ='2.7._VNI'!Q103 -> 0 | F27: ='2.7._VNI'!N103 -> 0 | G27: ='2.7._VNI'!O103 -> 0 | H27: ='2.7._VNI'!P103 -> 0 | I27: ='2.7._VNI'!M103 -> 0
A28: 8 | B28: 2.8._VNI | C28: Ugunsgrēka signalizācijas sistēma | E28: ='2.8._VNI'!Q42 -> 0 | F28: ='2.8._VNI'!N42 -> 0 | G28: ='2.8._VNI'!O42 -> 0 | H28: ='2.8._VNI'!P42 -> 0 | I28: ='2.8._VNI'!M42 -> 0
A29: 9 | B29: 2.9._VNI | C29: Piekļuves kontroles sistēma | E29: ='2.9._VNI'!Q38 -> 0 | F29: ='2.9._VNI'!N38 -> 0 | G29: ='2.9._VNI'!O38 -> 0 | H29: ='2.9._VNI'!P38 -> 0 | I29: ='2.9._VNI'!M38 -> 0
A30: 10 | B30: 2.10._VNI | C30: Elektronisko sakaru sistēma | E30: ='2.10._VNI'!Q39 -> 0 | F30: ='2.10._VNI'!N39 -> 0 | G30: ='2.10._VNI'!O39 -> 0 | H30: ='2.10._VNI'!P39 -> 0 | I30: ='2.10._VNI'!M39 -> 0
A31: 11 | B31: 2.11._VNI | C31: Videonovērošanas un apsardzes sistēma | E31: ='2.11._VNI'!Q46 -> 0 | F31: ='2.11._VNI'!N46 -> 0 | G31: ='2.11._VNI'!O46 -> 0 | H31: ='2.11._VNI'!P46 -> 0 | I31: ='2.11._VNI'!M46 -> 0
A32: 12 | B32: 2.12._VNI | C32: Palīdzības pogas | E32: ='2.12._VNI'!Q23 -> 0 | F32: ='2.12._VNI'!N23 -> 0 | G32: ='2.12._VNI'!O23 -> 0 | H32: ='2.12._VNI'!P23 -> 0 | I32: ='2.12._VNI'!M23 -> 0
C34: Kopā | E34: =SUM(E21:E33) -> 0 | F34: =SUM(F21:F33) -> 0 | G34: =SUM(G21:G33) -> 0 | H34: =SUM(H21:H33) -> 0 | I34: =SUM(I21:I33) -> 0
A35: Virsizdevumi | D35: =kops1_VNI!$D$30 -> % | E35: =ROUND(E34*D35,2) -> #VALUE!
C36: tai skaitā darba aizsardzība | E36: =E35*0.1 -> #VALUE!
A37: Peļņa | D37: =kops1_VNI!$D$32 -> % | E37: =ROUND(E34*D37,2) -> #VALUE!
C38: Kopā bez PVN | E38: =E37+E35+E34 -> #VALUE!
B41: Sastādīja:
C42: =Koptame_VNI!C35 -> 0
C43: =Koptame_VNI!C36 -> 0
B47: =Koptame_VNI!B40 -> Pārbaudīja:
C48: =Koptame_VNI!C41 -> 0
C49: =Koptame_VNI!C42 -> 0

Sheet 2.1._VNI
G1: Lokālā tāme Nr. | H1: =kops2_VNI!B21 -> 2.1._VNI
A2: =C13 -> Iekšējais ūdensvads
C3: Būves nosaukums: | D3: =Koptame_VNI!C11 -> Ēkas pārbūve un teritorijas labiekārtošana
C4: Objekta nosaukums: | D4: =Koptame_VNI!C12 -> Ēkas pārbūve un teritorijas labiekārtošana( VNĪ līdzekļi)
C5: Objekta adrese: | D5: =Koptame_VNI!C13 -> Citadeles iela 7, Rīga
C6: =Koptame_VNI!B14 -> Pasūtījuma Nr. | D6: =Koptame_VNI!C14 -> n
A7: =Koptame_VNI!B17 -> Tāme sastādīta 2023.gada tirgus cenās, pamatojoties uz SIA „Baltex Group” būvprojekta rasējumiem un darbu apjomiem | O7: Tāmes izmaksas euro: | P7: =P44 -> 0
L9: =Koptame_VNI!D16 -> Tāme sastādīta:
A11: Nr.p.k. | B11: Kods | C11: Būvdarbu nosaukums | D11: Mērvienība | E11: Daudzums | F11: Vienības izmaksas | L11: Kopā uz visu apjomu
F12: Laika norma (c/h) | G12: Darba samaksas likme (euro/h) | H12: Darba alga (euro) | I12: Būvizstrādājumi (euro) | J12: Mehānismi (euro) | K12: Kopā (euro) | L12: Darbietilpība (c/h) | M12: Darba alga (euro) | N12: Būvizstrādājumi (euro) | O12: Mehānismi (euro) | P12: Summa (euro)
C13: =kops2_VNI!C21 -> Iekšējais ūdensvads | K13: =SUM(H13:J13) -> 0 | L13: =ROUND(F13*E13,2) -> 0 | M13: =ROUND(H13*E13,2) -> 0 | N13: =ROUND(I13*E13,2) -> 0 | O13: =ROUND(J13*E13,2) -> 0 | P13: =SUM(M13:O13) -> 0
C14: Montāžas un palaišanas darbi
A15: 1 | C15: Daudzslāņu caurule MLC OD16x2.0 | D15: m | E15: 59 | J15: =H15*0.15 -> 0 | K15: =SUM(H15:J15) -> 0 | L15: =ROUND(F15*E15,2) -> 0 | M15: =ROUND(H15*E15,2) -> 0 | N15: =ROUND(I15*E15,2) -> 0 | O15: =ROUND(J15*E15,2) -> 0 | P15: =SUM(M15:O15) -> 0
A16: 2 | C16: Daudzslāņu caurule MLC OD20x2.25 | D16: m | E16: 57 | J16: =H16*0.15 -> 0 | K16: =SUM(H16:J16) -> 0 | L16: =ROUND(F16*E16,2) -> 0 | M16: =ROUND(H16*E16,2) -> 0 | N16: =ROUND(I16*E16,2) -> 0 | O16: =ROUND(J16*E16,2) -> 0 | P16: =SUM(M16:O16) -> 0
A17: 3 | C17: Daudzslāņu caurule MLC OD25x2.5 | D17: m | E17: 21 | J17: =H17*0.15 -> 0 | K17: =SUM(H17:J17) -> 0 | L17: =ROUND(F17*E17,2) -> 0 | M17: =ROUND(H17*E17,2) -> 0 | N17: =ROUND(I17*E17,2) -> 0 | O17: =ROUND(J17*E17,2) -> 0 | P17: =SUM(M17:O17) -> 0
A18: 4 | C18: Daudzslāņu caurule MLC OD32x3.0 | D18: m | E18: 56 | J18: =H18*0.15 -> 0 | K18: =SUM(H18:J18) -> 0 | L18: =ROUND(F18*E18,2) -> 0 | M18: =ROUND(H18*E18,2) -> 0 | N18: =ROUND(I18*E18,2) -> 0 | O18: =ROUND(J18*E18,2) -> 0 | P18: =SUM(M18:O18) -> 0
A19: 5 | C19: Presējams kompozītmateriāla līkums 90˚ OD16 | D19: gb | E19: 75 | J19: =H19*0.15 -> 0 | K19: =SUM(H19:J19) -> 0 | L19: =ROUND(F19*E19,2) -> 0 | M19: =ROUND(H19*E19,2) -> 0 | N19: =ROUND(I19*E19,2) -> 0 | O19: =ROUND(J19*E19,2) -> 0 | P19: =SUM(M19:O19) -> 0
A20: 6 | C20: Presējams kompozītmateriāla līkums 90˚ OD20 | D20: gb | E20: 24 | J20: =H20*0.15 -> 0 | K20: =SUM(H20:J20) -> 0 | L20: =ROUND(F20*E20,2) -> 0 | M20: =ROUND(H20*E20,2) -> 0 | N20: =ROUND(I20*E20,2) -> 0 | O20: =ROUND(J20*E20,2) -> 0 | P20: =SUM(M20:O20) -> 0
A21: 7 | C21: Presējams kompozītmateriāla līkums 90˚ OD25 | D21: gb | E21: 7 | J21: =H21*0.15 -> 0 | K21: =SUM(H21:J21) -> 0 | L21: =ROUND(F21*E21,2) -> 0 | M21: =ROUND(H21*E21,2) -> 0 | N21: =ROUND(I21*E21,2) -> 0 | O21: =ROUND(J21*E21,2) -> 0 | P21: =SUM(M21:O21) -> 0
A22: 8 | C22: Presējams kompozītmateriāla līkums 90˚ OD32 | D22: gb | E22: 19 | J22: =H22*0.15 -> 0 | K22: =SUM(H22:J22) -> 0 | L22: =ROUND(F22*E22,2) -> 0 | M22: =ROUND(H22*E22,2) -> 0 | N22: =ROUND(I22*E22,2) -> 0 | O22: =ROUND(J22*E22,2) -> 0 | P22: =SUM(M22:O22) -> 0
A23: 9 | C23: Presējams kompozītmateriāla trejgabals OD16/16 | D23: gb | E23: 2 | J23: =H23*0.15 -> 0 | K23: =SUM(H23:J23) -> 0 | L23: =ROUND(F23*E23,2) -> 0 | M23: =ROUND(H23*E23,2) -> 0 | N23: =ROUND(I23*E23,2) -> 0 | O23: =ROUND(J23*E23,2) -> 0 | P23: =SUM(M23:O23) -> 0
A24: 10 | C24: Presējams kompozītmateriāla trejgabals OD20/20/16 | D24: gb | E24: 7 | J24: =H24*0.15 -> 0 | K24: =SUM(H24:J24) -> 0 | L24: =ROUND(F24*E24,2) -> 0 | M24: =ROUND(H24*E24,2) -> 0 | N24: =ROUND(I24*E24,2) -> 0 | O24: =ROUND(J24*E24,2) -> 0 | P24: =SUM(M24:O24) -> 0
A25: 11 | C25: Presējams kompozītmateriāla trejgabals OD20/20 | D25: gb | E25: 4 | J25: =H25*0.15 -> 0 | K25: =SUM(H25:J25) -> 0 | L25: =ROUND(F25*E25,2) -> 0 | M25: =ROUND(H25*E25,2) -> 0 | N25: =ROUND(I25*E25,2) -> 0 | O25: =ROUND(J25*E25,2) -> 0 | P25: =SUM(M25:O25) -> 0
A26: 12 | C26: Presējams kompozītmateriāla trejgabals OD25/25/16 | D26: gb | E26: 10 | J26: =H26*0.15 -> 0 | K26: =SUM(H26:J26) -> 0 | L26: =ROUND(F26*E26,2) -> 0 | M26: =ROUND(H26*E26,2) -> 0 | N26: =ROUND(I26*E26,2) -> 0 | O26: =ROUND(J26*E26,2) -> 0 | P26: =SUM(M26:O26) -> 0
... A39: 25 | C39: Porgumijas pretkondensāta/ siltuma izolācija 9 mm caurulei OD32 | D39: m | E39: 56 | J39: =H39*0.15 -> 0 | K39: =SUM(H39:J39) -> 0 | L39: =ROUND(F39*E39,2) -> 0 | M39: =ROUND(H39*E39,2) -> 0 | N39: =ROUND(I39*E39,2) -> 0 | O39: =ROUND(J39*E39,2) -> 0 | P39: =SUM(M39:O39) -> 0
A40: 26 | C40: Atvērumu aizdare ar atbilstošiem ugunsdrošiem materiāliem | D40: kpl | E40: 1 | K40: =SUM(H40:J40) -> 0 | L40: =ROUND(F40*E40,2) -> 0 | M40: =ROUND(H40*E40,2) -> 0 | N40: =ROUND(I40*E40,2) -> 0 | O40: =ROUND(J40*E40,2) -> 0 | P40: =SUM(M40:O40) -> 0
A41: 27 | C41: Cauruļvadu montāža sienas kanālos un grīdās | D41: kpl | E41: 1 | K41: =SUM(H41:J41) -> 0 | L41: =ROUND(F41*E41,2) -> 0 | M41: =ROUND(H41*E41,2) -> 0 | N41: =ROUND(I41*E41,2) -> 0 | O41: =ROUND(J41*E41,2) -> 0 | P41: =SUM(M41:O41) -> 0
A42: 28 | C42: Montāžas palīgmateriāli | D42: kpl | E42: 1 | K42: =SUM(H42:J42) -> 0 | L42: =ROUND(F42*E42,2) -> 0 | M42: =ROUND(H42*E42,2) -> 0 | N42: =ROUND(I42*E42,2) -> 0 | O42: =ROUND(J42*E42,2) -> 0 | P42: =SUM(M42:O42) -> 0
F43: 0 | G43: 0
C44: Tiešās izmaksas kopā, t.sk. darba devēja sociālais nodoklis(23,59%) | L44: =SUM(L13:L43) -> 0 | M44: =SUM(M13:M43) -> 0 | N44: =SUM(N13:N43) -> 0 | O44: =SUM(O13:O43) -> 0 | P44: =SUM(P13:P43) -> 0
B46: Piezīmes:
A47: Visas atsauces uz materiālu un izstrādājumu izgatavotaj firmām, kuras norādītas būvprojektā, liecina tikai par šo materiālu un izstrādājumu tehniskajiem parametriem un kvalitātes līmeni, to nomaiņa ir iespējama ar citiem tehniski un kvalitatīvi ekvivalentiem būvizstrādājumiem, iepriekš saskaņojot tos ar projekta autoriem un uzrādot atbilstības sertifikātus.
B51: Sastādīja: | L51: =Koptame_VNI!B40 -> Pārbaudīja:
C52: =Koptame_VNI!C35 -> 0 | M52: =Koptame_VNI!C41 -> 0
C53: =Koptame_VNI!C36 -> 0 | M53: =Koptame_VNI!C42 -> 0

Sheet 2.2._VNI
G1: Lokālā tāme Nr. | H1: =kops2_VNI!B22 -> 2.2._VNI
A2: =C13 -> Iekšējā kanalizācija
C3: Būves nosaukums: | D3: =Koptame_VNI!C11 -> Ēkas pārbūve un teritorijas labiekārtošana
C4: Objekta nosaukums: | D4: =Koptame_VNI!C12 -> Ēkas pārbūve un teritorijas labiekārtošana( VNĪ līdzekļi)
C5: Objekta adrese: | D5: =Koptame_VNI!C13 -> Citadeles iela 7, Rīga
C6: =Koptame_VNI!B14 -> Pasūtījuma Nr. | D6: =Koptame_VNI!C14 -> n
A7: =Koptame_VNI!B17 -> Tāme sastādīta 2023.gada tirgus cenās, pamatojoties uz SIA „Baltex Group” būvprojekta rasējumiem un darbu apjomiem | O7: Tāmes izmaksas euro: | P7: =P45 -> 0
L9: =Koptame_VNI!D16 -> Tāme sastādīta:
A11: Nr.p.k. | B11: Kods | C11: Būvdarbu nosaukums | D11: Mērvienība | E11: Daudzums | F11: Vienības izmaksas | L11: Kopā uz visu apjomu
F12: Laika norma (c/h) | G12: Darba samaksas likme (euro/h) | H12: Darba alga (euro) | I12: Būvizstrādājumi (euro) | J12: Mehānismi (euro) | K12: Kopā (euro) | L12: Darbietilpība (c/h) | M12: Darba alga (euro) | N12: Būvizstrādājumi (euro) | O12: Mehānismi (euro) | P12: Summa (euro)
B13: 0 | C13: =kops2_VNI!C22 -> Iekšējā kanalizācija | F13: 0 | G13: 0 | H13: 0 | I13: 0 | J13: 0 | K13: =SUM(H13:J13) -> 0 | L13: =ROUND(F13*E13,2) -> 0 | M13: =ROUND(H13*E13,2) -> 0 | N13: =ROUND(I13*E13,2) -> 0 | O13: =ROUND(J13*E13,2) -> 0 | P13: =SUM(M13:O13) -> 0
C14: Montāžas un palaišanas darbi
C15: Saimnieciski fekālā kanalizācija K-1 | K15: =SUM(H15:J15) -> 0 | L15: =ROUND(F15*E15,2) -> 0 | M15: =ROUND(H15*E15,2) -> 0 | N15: =ROUND(I15*E15,2) -> 0 | O15: =ROUND(J15*E15,2) -> 0 | P15: =SUM(M15:O15) -> 0
A16: 1 | C16: Kanalizācijas caurule PVC OD32 | D16: m | E16: 102 | J16: =0.15*H16 -> 0 | K16: =SUM(H16:J16) -> 0 | L16: =ROUND(F16*E16,2) -> 0 | M16: =ROUND(H16*E16,2) -> 0 | N16: =ROUND(I16*E16,2) -> 0 | O16: =ROUND(J16*E16,2) -> 0 | P16: =SUM(M16:O16) -> 0
A17: 2 | C17: Kanalizācijas caurule PVC OD40 | D17: m | E17: 2 | J17: =0.15*H17 -> 0 | K17: =SUM(H17:J17) -> 0 | L17: =ROUND(F17*E17,2) -> 0 | M17: =ROUND(H17*E17,2) -> 0 | N17: =ROUND(I17*E17,2) -> 0 | O17: =ROUND(J17*E17,2) -> 0 | P17: =SUM(M17:O17) -> 0
A18: 3 | C18: Kanalizācijas caurule PVCOD50 | D18: m | E18: 29 | J18: =0.15*H18 -> 0 | K18: =SUM(H18:J18) -> 0 | L18: =ROUND(F18*E18,2) -> 0 | M18: =ROUND(H18*E18,2) -> 0 | N18: =ROUND(I18*E18,2) -> 0 | O18: =ROUND(J18*E18,2) -> 0 | P18: =SUM(M18:O18) -> 0
A19: 4 | C19: Kanalizācijas caurule PVC OD110 | D19: m | E19: 20 | J19: =0.15*H19 -> 0 | K19: =SUM(H19:J19) -> 0 | L19: =ROUND(F19*E19,2) -> 0 | M19: =ROUND(H19*E19,2) -> 0 | N19: =ROUND(I19*E19,2) -> 0 | O19: =ROUND(J19*E19,2) -> 0 | P19: =SUM(M19:O19) -> 0
A20: 5 | C20: Kanalizācijas caurule Rigid multi OD110 | D20: m | E20: 66 | J20: =0.15*H20 -> 0 | K20: =SUM(H20:J20) -> 0 | L20: =ROUND(F20*E20,2) -> 0 | M20: =ROUND(H20*E20,2) -> 0 | N20: =ROUND(I20*E20,2) -> 0 | O20: =ROUND(J20*E20,2) -> 0 | P20: =SUM(M20:O20) -> 0
A21: 6 | C21: Pašteces kanalizācijas cauruļvadu veidgabali | D21: kpl | E21: 1 | J21: =0.15*H21 -> 0 | K21: =SUM(H21:J21) -> 0 | L21: =ROUND(F21*E21,2) -> 0 | M21: =ROUND(H21*E21,2) -> 0 | N21: =ROUND(I21*E21,2) -> 0 | O21: =ROUND(J21*E21,2) -> 0 | P21: =SUM(M21:O21) -> 0
A22: 7 | C22: Sausā tipa traps vai ar pretsmakas membrānu OD110 ar vertikālu izvadu | D22: kpl | E22: 3 | J22: =0.15*H22 -> 0 | K22: =SUM(H22:J22) -> 0 | L22: =ROUND(F22*E22,2) -> 0 | M22: =ROUND(H22*E22,2) -> 0 | N22: =ROUND(I22*E22,2) -> 0 | O22: =ROUND(J22*E22,2) -> 0 | P22: =SUM(M22:O22) -> 0
A23: 8 | C23: Tīrīšanas lūka ACO Finor G bez pildījuma DN100 mm | D23: kpl | E23: 4 | J23: =0.15*H23 -> 0 | K23: =SUM(H23:J23) -> 0 | L23: =ROUND(F23*E23,2) -> 0 | M23: =ROUND(H23*E23,2) -> 0 | N23: =ROUND(I23*E23,2) -> 0 | O23: =ROUND(J23*E23,2) -> 0 | P23: =SUM(M23:O23) -> 0
A24: 9 | C24: Vēdināšana stāvvada izvads Vilpe Ø110P/300 | D24: kpl | E24: 2 | J24: =0.15*H24 -> 0 | K24: =SUM(H24:J24) -> 0 | L24: =ROUND(F24*E24,2) -> 0 | M24: =ROUND(H24*E24,2) -> 0 | N24: =ROUND(I24*E24,2) -> 0 | O24: =ROUND(J24*E24,2) -> 0 | P24: =SUM(M24:O24) -> 0
A25: 10 | C25: Revīzija OD110 | D25: gb | E25: 3 | J25: =0.15*H25 -> 0 | K25: =SUM(H25:J25) -> 0 | L25: =ROUND(F25*E25,2) -> 0 | M25: =ROUND(H25*E25,2) -> 0 | N25: =ROUND(I25*E25,2) -> 0 | O25: =ROUND(J25*E25,2) -> 0 | P25: =SUM(M25:O25) -> 0
A26: 11 | C26: Iebetonējamas ugunsdrošā manžete OD50 mm | D26: gb | E26: 2 | J26: =0.15*H26 -> 0 | K26: =SUM(H26:J26) -> 0 | L26: =ROUND(F26*E26,2) -> 0 | M26: =ROUND(H26*E26,2) -> 0 | N26: =ROUND(I26*E26,2) -> 0 | O26: =ROUND(J26*E26,2) -> 0 | P26: =SUM(M26:O26) -> 0
A27: 12 | C27: Iebetonējamas ugunsdrošā manžete OD110 mm | D27: gb | E27: 7 | J27: =0.15*H27 -> 0 | K27: =SUM(H27:J27) -> 0 | L27: =ROUND(F27*E27,2) -> 0 | M27: =ROUND(H27*E27,2) -> 0 | N27: =ROUND(I27*E27,2) -> 0 | O27: =ROUND(J27*E27,2) -> 0 | P27: =SUM(M27:O27) -> 0
A28: 13 | C28: Sifons Wavin HEVPO DN32 | D28: gb | E28: 7 | J28: =0.15*H28 -> 0 | K28: =SUM(H28:J28) -> 0 | L28: =ROUND(F28*E28,2) -> 0 | M28: =ROUND(H28*E28,2) -> 0 | N28: =ROUND(I28*E28,2) -> 0 | O28: =ROUND(J28*E28,2) -> 0 | P28: =SUM(M28:O28) -> 0
A29: 14 | C29: Porgumijas pretkondensāta/ siltuma izolācija 19 mm caurulei OD32 | D29: m | E29: 102 | J29: =H29*0.15 -> 0 | K29: =SUM(H29:J29) -> 0 | L29: =ROUND(F29*E29,2) -> 0 | M29: =ROUND(H29*E29,2) -> 0 | N29: =ROUND(I29*E29,2) -> 0 | O29: =ROUND(J29*E29,2) -> 0 | P29: =SUM(M29:O29) -> 0
A30: 15 | C30: Porgumijas pretkondensāta/ siltuma izolācija 19 mm caurulei OD50 | D30: m | E30: 12 | J30: =H30*0.15 -> 0 | K30: =SUM(H30:J30) -> 0 | L30: =ROUND(F30*E30,2) -> 0 | M30: =ROUND(H30*E30,2) -> 0 | N30: =ROUND(I30*E30,2) -> 0 | O30: =ROUND(J30*E30,2) -> 0 | P30: =SUM(M30:O30) -> 0
A31: 16 | C31: Porgumijas pretkondensāta/ siltuma izolācija 19 mm caurulei OD110 | D31: m | E31: 4 | J31: =H31*0.15 -> 0 | K31: =SUM(H31:J31) -> 0 | L31: =ROUND(F31*E31,2) -> 0 | M31: =ROUND(H31*E31,2) -> 0 | N31: =ROUND(I31*E31,2) -> 0 | O31: =ROUND(J31*E31,2) -> 0 | P31: =SUM(M31:O31) -> 0
A32: 17 | C32: Ārpu pārseguma montājam ugunsdrošā manžete DN100 | D32: gb | E32: 1 | J32: =H32*0.15 -> 0 | K32: =SUM(H32:J32) -> 0 | L32: =ROUND(F32*E32,2) -> 0 | M32: =ROUND(H32*E32,2) -> 0 | N32: =ROUND(I32*E32,2) -> 0 | O32: =ROUND(J32*E32,2) -> 0 | P32: =SUM(M32:O32) -> 0
A33: 18 | C33: Atvērumu aizdare ar atbilstošiem ugunsdrošiem materiāliem | D33: kpl | E33: 1 | J33: =0.15*H33 -> 0 | K33: =SUM(H33:J33) -> 0 | L33: =ROUND(F33*E33,2) -> 0 | M33: =ROUND(H33*E33,2) -> 0 | N33: =ROUND(I33*E33,2) -> 0 | O33: =ROUND(J33*E33,2) -> 0 | P33: =SUM(M33:O33) -> 0
A34: 19 | C34: Kanalizācijas cauruļu stiprinājumi | D34: kpl | E34: 1 | J34: =0.15*H34 -> 0 | K34: =SUM(H34:J34) -> 0 | L34: =ROUND(F34*E34,2) -> 0 | M34: =ROUND(H34*E34,2) -> 0 | N34: =ROUND(I34*E34,2) -> 0 | O34: =ROUND(J34*E34,2) -> 0 | P34: =SUM(M34:O34) -> 0
A35: 20 | C35: Montāžas palīgmateriāli | D35: kpl | E35: 1 | J35: =0.15*H35 -> 0 | K35: =SUM(H35:J35) -> 0 | L35: =ROUND(F35*E35,2) -> 0 | M35: =ROUND(H35*E35,2) -> 0 | N35: =ROUND(I35*E35,2) -> 0 | O35: =ROUND(J35*E35,2) -> 0 | P35: =SUM(M35:O35) -> 0
C36: Sanitārtehniskās ierīces | K36: =SUM(H36:J36) -> 0 | L36: =ROUND(F36*E36,2) -> 0 | M36: =ROUND(H36*E36,2) -> 0 | N36: =ROUND(I36*E36,2) -> 0 | O36: =ROUND(J36*E36,2) -> 0 | P36: =SUM(M36:O36) -> 0
A37: 21 | C37: Roku mazgātne cilvēkiem ar īpašām vajadzībām komplektā ar jaucējkrānu ar garo rokturi, sifonu, stiprinājumiem, pievadiem | D37: kpl | E37: 1 | J37: =0.15*H37 -> 0 | K37: =SUM(H37:J37) -> 0 | L37: =ROUND(F37*E37,2) -> 0 | M37: =ROUND(H37*E37,2) -> 0 | N37: =ROUND(I37*E37,2) -> 0 | O37: =ROUND(J37*E37,2) -> 0 | P37: =SUM(M37:O37) -> 0
A38: 22 | C38: Roku mazgātne komplektā ar jaucējkrānu, sifonu, stiprinājumiem, pievadiem | D38: kpl | E38: 6 | J38: =0.15*H38 -> 0 | K38: =SUM(H38:J38) -> 0 | L38: =ROUND(F38*E38,2) -> 0 | M38: =ROUND(H38*E38,2) -> 0 | N38: =ROUND(I38*E38,2) -> 0 | O38: =ROUND(J38*E38,2) -> 0 | P38: =SUM(M38:O38) -> 0
A39: 23 | C39: Nerūsējošā tērauda trauku mazgātne komplektā ar sifonu, trauku mazgātnes jaucējkrānu, stiprinājumiem, pievadiem | D39: kpl | E39: 2 | J39: =0.15*H39 -> 0 | K39: =SUM(H39:J39) -> 0 | L39: =ROUND(F39*E39,2) -> 0 | M39: =ROUND(H39*E39,2) -> 0 | N39: =ROUND(I39*E39,2) -> 0 | O39: =ROUND(J39*E39,2) -> 0 | P39: =SUM(M39:O39) -> 0
A40: 24 | C40: Klozetpods ar skalošanas kasti (divi skalošanas režīmi), stiprinājumiem, klozetpoda pievienojumu | D40: kpl | E40: 4 | J40: =0.15*H40 -> 0 | K40: =SUM(H40:J40) -> 0 | L40: =ROUND(F40*E40,2) -> 0 | M40: =ROUND(H40*E40,2) -> 0 | N40: =ROUND(I40*E40,2) -> 0 | O40: =ROUND(J40*E40,2) -> 0 | P40: =SUM(M40:O40) -> 0
A41: 25 | C41: Piekaramais klozetpods ar skalošanas kasti (divi skalošanas režīmi), stiprinājumiem, klozetpoda pievienojumu | D41: kpl | E41: 2 | J41: =0.15*H41 -> 0 | K41: =SUM(H41:J41) -> 0 | L41: =ROUND(F41*E41,2) -> 0 | M41: =ROUND(H41*E41,2) -> 0 | N41: =ROUND(I41*E41,2) -> 0 | O41: =ROUND(J41*E41,2) -> 0 | P41: =SUM(M41:O41) -> 0
A42: 26 | C42: Klozetpods cilvēkiem ar īpašām vajadzībām ar skalošanas kasti (divi skalošanas režīmi), stiprinājumiem, klozetpoda pievienojumu | D42: kpl | E42: 1 | J42: =0.15*H42 -> 0 | K42: =SUM(H42:J42) -> 0 | L42: =ROUND(F42*E42,2) -> 0 | M42: =ROUND(H42*E42,2) -> 0 | N42: =ROUND(I42*E42,2) -> 0 | O42: =ROUND(J42*E42,2) -> 0 | P42: =SUM(M42:O42) -> 0
...

Sheet 2.3._VNI
H1: Lokālā tāme Nr. | I1: =kops2_VNI!$B$23 -> 2.3._VNI
A2: =C13 -> Apkure
C3: Būves nosaukums: | E3: =Koptame_VNI!C11 -> Ēkas pārbūve un teritorijas labiekārtošana
C4: Objekta nosaukums: | E4: =Koptame_VNI!C12 -> Ēkas pārbūve un teritorijas labiekārtošana( VNĪ līdzekļi)
C5: Objekta adrese: | E5: =Koptame_VNI!C13 -> Citadeles iela 7, Rīga
C6: =Koptame_VNI!B14 -> Pasūtījuma Nr. | E6: =Koptame_VNI!C14 -> n
A7: =Koptame_VNI!B17 -> Tāme sastādīta 2023.gada tirgus cenās, pamatojoties uz SIA „Baltex Group” būvprojekta rasējumiem un darbu apjomiem | P7: Tāmes izmaksas euro: | Q7: =Q119 -> 0
M9: =Koptame_VNI!D16 -> Tāme sastādīta:
A11: Nr.p.k. | B11: Kods | C11: Būvdarbu nosaukums | E11: Mērvienība | F11: Daudzums | G11: Vienības izmaksas | M11: Kopā uz visu apjomu
G12: Laika norma (c/h) | H12: Darba samaksas likme (euro/h) | I12: Darba alga (euro) | J12: Būvizstrādājumi (euro) | K12: Mehānismi (euro) | L12: Kopā (euro) | M12: Darbietilpība (c/h) | N12: Darba alga (euro) | O12: Būvizstrādājumi (euro) | P12: Mehānismi (euro) | Q12: Summa (euro)
B13: 0 | C13: =kops2_VNI!C23 -> Apkure | G13: 0 | H13: 0 | I13: 0 | J13: 0 | K13: 0 | L13: =SUM(I13:K13) -> 0 | M13: =ROUND(G13*F13,2) -> 0 | N13: =ROUND(I13*F13,2) -> 0 | O13: =ROUND(J13*F13,2) -> 0 | P13: =ROUND(K13*F13,2) -> 0 | Q13: =SUM(N13:P13) -> 0
C14: Montāžas un palaišanas darbi
C15: Apkures sistēma A1.1 un A1.2 | L15: =SUM(I15:K15) -> 0 | M15: =ROUND(G15*F15,2) -> 0 | N15: =ROUND(I15*F15,2) -> 0 | O15: =ROUND(J15*F15,2) -> 0 | P15: =ROUND(K15*F15,2) -> 0 | Q15: =SUM(N15:P15) -> 0
A16: 1.1 | C16: Tērauda tipa paneļu radiators komplektā ar termostatisko vārstu un galvu, montāžas stiprinājumiem, atpakaļgaitas regulējošos ieskrūvi un iztukšošanas ventili. Pieslēgums no apakšas CV11-500-800 Ventil Compact | E16: kpl | F16: 1 | K16: =I16*0.15 -> 0 | L16: =SUM(I16:K16) -> 0 | M16: =ROUND(G16*F16,2) -> 0 | N16: =ROUND(I16*F16,2) -> 0 | O16: =ROUND(J16*F16,2) -> 0 | P16: =ROUND(K16*F16,2) -> 0 | Q16: =SUM(N16:P16) -> 0
A17: 1.2 | C17: Tērauda tipa paneļu radiators komplektā ar termostatisko vārstu un galvu, montāžas stiprinājumiem, atpakaļgaitas regulējošos ieskrūvi un iztukšošanas ventili. Pieslēgums no apakšas CV22-500-700 Ventil Compact | E17: kpl | F17: 1 | K17: =I17*0.15 -> 0 | L17: =SUM(I17:K17) -> 0 | M17: =ROUND(G17*F17,2) -> 0 | N17: =ROUND(I17*F17,2) -> 0 | O17: =ROUND(J17*F17,2) -> 0 | P17: =ROUND(K17*F17,2) -> 0 | Q17: =SUM(N17:P17) -> 0
A18: 1.3 | C18: Tērauda tipa paneļu radiators komplektā ar termostatisko vārstu un galvu, montāžas stiprinājumiem, atpakaļgaitas regulējošos ieskrūvi un iztukšošanas ventili. Pieslēgums no apakšas CV22-500-800 Ventil Compact | E18: kpl | F18: 1 | K18: =I18*0.15 -> 0 | L18: =SUM(I18:K18) -> 0 | M18: =ROUND(G18*F18,2) -> 0 | N18: =ROUND(I18*F18,2) -> 0 | O18: =ROUND(J18*F18,2) -> 0 | P18: =ROUND(K18*F18,2) -> 0 | Q18: =SUM(N18:P18) -> 0
A19: 1.4 | C19: Tērauda tipa paneļu radiators komplektā ar termostatisko vārstu un galvu, montāžas stiprinājumiem, atpakaļgaitas regulējošos ieskrūvi un iztukšošanas ventili. Pieslēgums no apakšas CV22-500-1000 Ventil Compact | E19: kpl | F19: 1 | K19: =I19*0.15 -> 0 | L19: =SUM(I19:K19) -> 0 | M19: =ROUND(G19*F19,2) -> 0 | N19: =ROUND(I19*F19,2) -> 0 | O19: =ROUND(J19*F19,2) -> 0 | P19: =ROUND(K19*F19,2) -> 0 | Q19: =SUM(N19:P19) -> 0
A20: 1.5 | C20: Tērauda tipa paneļu radiators komplektā ar termostatisko vārstu un galvu, montāžas stiprinājumiem, atpakaļgaitas regulējošos ieskrūvi un iztukšošanas ventili. Pieslēgums no apakšas CV33-500-600 Ventil Compact | E20: kpl | F20: 1 | K20: =I20*0.15 -> 0 | L20: =SUM(I20:K20) -> 0 | M20: =ROUND(G20*F20,2) -> 0 | N20: =ROUND(I20*F20,2) -> 0 | O20: =ROUND(J20*F20,2) -> 0 | P20: =ROUND(K20*F20,2) -> 0 | Q20: =SUM(N20:P20) -> 0
A21: 1.6 | C21: Tērauda tipa paneļu radiators komplektā ar termostatisko vārstu un galvu, montāžas stiprinājumiem, atpakaļgaitas regulējošos ieskrūvi un iztukšošanas ventili. Pieslēgums no apakšas CV33-500-900 Ventil Compact | E21: kpl | F21: 1 | K21: =I21*0.15 -> 0 | L21: =SUM(I21:K21) -> 0 | M21: =ROUND(G21*F21,2) -> 0 | N21: =ROUND(I21*F21,2) -> 0 | O21: =ROUND(J21*F21,2) -> 0 | P21: =ROUND(K21*F21,2) -> 0 | Q21: =SUM(N21:P21) -> 0
A22: 1.7 | C22: Tērauda tipa paneļu radiators komplektā ar termostatisko vārstu un galvu, montāžas stiprinājumiem, atpakaļgaitas regulējošos ieskrūvi un iztukšošanas ventili. Pieslēgums no apakšas CV33-500-1200 Ventil Compact | E22: kpl | F22: 1 | K22: =I22*0.15 -> 0 | L22: =SUM(I22:K22) -> 0 | M22: =ROUND(G22*F22,2) -> 0 | N22: =ROUND(I22*F22,2) -> 0 | O22: =ROUND(J22*F22,2) -> 0 | P22: =ROUND(K22*F22,2) -> 0 | Q22: =SUM(N22:P22) -> 0
A23: 1.8 | C23: Tērauda tipa paneļu radiators komplektā ar termostatisko vārstu un galvu, montāžas stiprinājumiem, atpakaļgaitas regulējošos ieskrūvi un iztukšošanas ventili. Pieslēgums no apakšas CV33-900-900 Ventil Compact | E23: kpl | F23: 1 | K23: =I23*0.15 -> 0 | L23: =SUM(I23:K23) -> 0 | M23: =ROUND(G23*F23,2) -> 0 | N23: =ROUND(I23*F23,2) -> 0 | O23: =ROUND(J23*F23,2) -> 0 | P23: =ROUND(K23*F23,2) -> 0 | Q23: =SUM(N23:P23) -> 0
A24: 1.9 | C24: Tērauda tipa paneļu radiators komplektā ar termostatisko vārstu un galvu, montāžas stiprinājumiem, atpakaļgaitas regulējošos ieskrūvi un iztukšošanas ventili. Pieslēgums no apakšas CV33-900-1200 Ventil Compact | E24: kpl | F24: 1 | K24: =I24*0.15 -> 0 | L24: =SUM(I24:K24) -> 0 | M24: =ROUND(G24*F24,2) -> 0 | N24: =ROUND(I24*F24,2) -> 0 | O24: =ROUND(J24*F24,2) -> 0 | P24: =ROUND(K24*F24,2) -> 0 | Q24: =SUM(N24:P24) -> 0
A25: 1.10 | C25: Tērauda tipa paneļu radiators komplektā ar termostatisko vārstu un galvu, montāžas stiprinājumiem, atpakaļgaitas regulējošos ieskrūvi un iztukšošanas ventili. Pieslēgums no apakšas KON34-142-2600 | E25: kpl | F25: 4 | K25: =I25*0.15 -> 0 | L25: =SUM(I25:K25) -> 0 | M25: =ROUND(G25*F25,2) -> 0 | N25: =ROUND(I25*F25,2) -> 0 | O25: =ROUND(J25*F25,2) -> 0 | P25: =ROUND(K25*F25,2) -> 0 | Q25: =SUM(N25:P25) -> 0
A26: 1.11 | C26: Tērauda tipa paneļu radiators komplektā ar termostatisko vārstu un galvu, montāžas stiprinājumiem, atpakaļgaitas regulējošos ieskrūvi un iztukšošanas ventili. Pieslēgums no apakšas KON34-142-800 | E26: kpl | F26: 2 | K26: =I26*0.15 -> 0 | L26: =SUM(I26:K26) -> 0 | M26: =ROUND(G26*F26,2) -> 0 | N26: =ROUND(I26*F26,2) -> 0 | O26: =ROUND(J26*F26,2) -> 0 | P26: =ROUND(K26*F26,2) -> 0 | Q26: =SUM(N26:P26) -> 0
A27: 1.12 | C27: Tērauda tipa paneļu radiators komplektā ar termostatisko vārstu un galvu, montāžas stiprinājumiem, atpakaļgaitas regulējošos ieskrūvi un iztukšošanas ventili. Pieslēgums no apakšas CV22-500-800 Ventil Compact | E27: kpl | F27: 5 | K27: =I27*0.15 -> 0 | L27: =SUM(I27:K27) -> 0 | M27: =ROUND(G27*F27,2) -> 0 | N27: =ROUND(I27*F27,2) -> 0 | O27: =ROUND(J27*F27,2) -> 0 | P27: =ROUND(K27*F27,2) -> 0 | Q27: =SUM(N27:P27) -> 0
... A83: 1.68 | C83: Ugunsdrošā blīvējuma šķērsojumi | E83: kpl | F83: 1 | K83: =I83*0.15 -> 0 | L83: =SUM(I83:K83) -> 0 | M83: =ROUND(G83*F83,2) -> 0 | N83: =ROUND(I83*F83,2) -> 0 | O83: =ROUND(J83*F83,2) -> 0 | P83: =ROUND(K83*F83,2) -> 0 | Q83: =SUM(N83:P83) -> 0
A84: 1.69 | C84: Hidrauliskā pārbaude | E84: kpl | F84: 1 | L84: =SUM(I84:K84) -> 0 | M84: =ROUND(G84*F84,2) -> 0 | N84: =ROUND(I84*F84,2) -> 0 | O84: =ROUND(J84*F84,2) -> 0 | P84: =ROUND(K84*F84,2) -> 0 | Q84: =SUM(N84:P84) -> 0
A85: 1.70 | C85: Elektroinstalācijas un vadības automātikas materiāli | E85: kpl | F85: 1 | K85: =I85*0.15 -> 0 | L85: =SUM(I85:K85) -> 0 | M85: =ROUND(G85*F85,2) -> 0 | N85: =ROUND(I85*F85,2) -> 0 | O85: =ROUND(J85*F85,2) -> 0 | P85: =ROUND(K85*F85,2) -> 0 | Q85: =SUM(N85:P85) -> 0
A86: 1.71 | C86: Cauruļvadu stiprinājumi un balsti | E86: kpl | F86: 1 | K86: =I86*0.15 -> 0 | L86: =SUM(I86:K86) -> 0 | M86: =ROUND(G86*F86,2) -> 0 | N86: =ROUND(I86*F86,2) -> 0 | O86: =ROUND(J86*F86,2) -> 0 | P86: =ROUND(K86*F86,2) -> 0 | Q86: =SUM(N86:P86) -> 0
A87: 1.72 | C87: Montāžas komplekts | E87: kpl | F87: 1 | K87: =I87*0.15 -> 0 | L87: =SUM(I87:K87) -> 0 | M87: =ROUND(G87*F87,2) -> 0 | N87: =ROUND(I87*F87,2) -> 0 | O87: =ROUND(J87*F87,2) -> 0 | P87: =ROUND(K87*F87,2) -> 0 | Q87: =SUM(N87:P87) -> 0
A88: 1.73 | C88: Palīgmateriāli | E88: kpl | F88: 1 | K88: =I88*0.15 -> 0 | L88: =SUM(I88:K88) -> 0 | M88: =ROUND(G88*F88,2) -> 0 | N88: =ROUND(I88*F88,2) -> 0 | O88: =ROUND(J88*F88,2) -> 0 | P88: =ROUND(K88*F88,2) -> 0 | Q88: =SUM(N88:P88) -> 0
L89: =SUM(I89:K89) -> 0 | M89: =ROUND(G89*F89,2) -> 0 | N89: =ROUND(I89*F89,2) -> 0 | O89: =ROUND(J89*F89,2) -> 0 | P89: =ROUND(K89*F89,2) -> 0 | Q89: =SUM(N89:P89) -> 0
C90: Apkures sistēma A2 | L90: =SUM(I90:K90) -> 0 | M90: =ROUND(G90*F90,2) -> 0 | N90: =ROUND(I90*F90,2) -> 0 | O90: =ROUND(J90*F90,2) -> 0 | P90: =ROUND(K90*F90,2) -> 0 | Q90: =SUM(N90:P90) -> 0
