Workbook
Name A: '[1]2'!$A$1
Name P: #REF!
Name P: #REF!
Name P: #REF!

Sheet Koptame
D2: APSTIPRINU
D3: ________________________________________
D4: (pasūtītāja paraksts un tā atšifrējums)
D6: Z.v.
D7: ______.gada ____.____________
B9: Būvniecības koptāme
B11: Būves nosaukums: | C11: Ēkas pārbūve un teritorijas labiekārtošana
B12: Objekta nosaukums: | C12: Elektroapgāde (ārējā). Lietotāja 0,4kV barojošā kabeļu līnija no TP2017 objektam Citadeles iela 7, Rīga
B13: Objekta adrese: | C13: Citadeles iela 7, Rīga
B14: Pasūtījuma Nr. | C14: n
D16: Tāme sastādīta:
B17: Tāme sastādīta 2023.gada tirgus cenās, pamatojoties uz SIA „Baltex Group” būvprojekta rasējumiem un darbu apjomiem
B18: Kopsav.tāmes Nr | C18: Objekta nosaukums | D18: Objekta izmaksas (euro)
B21: 1 | C21: Specializētie darbi-ārējie tīkli, sistēmas | D21: =kops1!E27 -> 0
C23: Kopā( bez PVN) | D23: =SUM(D20:D22) -> 0
C24: Kopā | D24: =SUM(D23:D23) -> 0
C27: PVN 21 % | D27: =0.21*D24 -> 0
B32: Sastādīja:
B38: Pārbaudīja:

Sheet kops1
A2: Kopsavilkuma aprēķins Nr. 1
A6: =Koptame!C21 -> Specializētie darbi-ārējie tīkli, sistēmas
A8: Būves nosaukums: | C8: =Koptame!C11 -> Ēkas pārbūve un teritorijas labiekārtošana
A9: Objekta nosaukums: | C9: =Koptame!C12 -> Elektroapgāde (ārējā). Lietotāja 0,4kV barojošā kabeļu līnija no TP2017 objektam Citadeles iela 7, Rīga
A10: Objekta adrese: | C10: =Koptame!C13 -> Citadeles iela 7, Rīga
A11: =Koptame!B14 -> Pasūtījuma Nr. | C11: =Koptame!C14 -> n
F13: Par kopējo summu, euro | H13: =E27 -> 0
F14: Kopējā darbietilpība, c/h | H14: =I23 -> 0
H15: =H14+#REF!+#REF!+#REF! -> #REF!
H16: =Koptame!D16 -> Tāme sastādīta:
A18: Nr.p.k. | B18: Kods, tāmes Nr. | C18: Būvdarbu veids vai konstruktīvā elementa nosaukums | E18: Tāmes izmaksas (euro) | F18: Tai skaitā | I18: Darbietilpība (c/h)
F19: darba alga (euro) | G19: būvizstrādājumi (euro) | H19: mehānismi (euro)
A21: 1 | B21: 1,1 | C21: Ārējā elektroapgāde | E21: ='1,1'!P52 -> 0 | F21: ='1,1'!M52 -> 0 | G21: ='1,1'!N52 -> 0 | H21: ='1,1'!O52 -> 0 | I21: ='1,1'!L52 -> 0
C23: Kopā | E23: =SUM(E21:E22) -> 0 | F23: =SUM(F21:F22) -> 0 | G23: =SUM(G21:G22) -> 0 | H23: =SUM(H21:H22) -> 0 | I23: =SUM(I21:I22) -> 0
A24: Virsizdevumi | D24: %
C25: tai skaitā darba aizsardzība
A26: Peļņa | D26: %
C27: Kopā bez PVN | E27: =E26+E24+E23 -> 0
B30: Sastādīja:
C31: =Koptame!C33 -> 0
C32: =Koptame!C34 -> 0
B36: =Koptame!B38 -> Pārbaudīja:
C37: =Koptame!C39 -> 0
C38: =Koptame!C40 -> 0

Sheet 1,1
G1: Lokālā tāme Nr. | H1: =kops1!B21 -> 1,1
A2: =C13 -> Ārējā elektroapgāde
C3: Būves nosaukums: | D3: =Koptame!C11 -> Ēkas pārbūve un teritorijas labiekārtošana
C4: Objekta nosaukums: | D4: =Koptame!C12 -> Elektroapgāde (ārējā). Lietotāja 0,4kV barojošā kabeļu līnija no TP2017 objektam Citadeles iela 7, Rīga
C5: Objekta adrese: | D5: =Koptame!C13 -> Citadeles iela 7, Rīga
C6: =Koptame!B14 -> Pasūtījuma Nr. | D6: =Koptame!C14 -> n
A7: =Koptame!B17 -> Tāme sastādīta 2023.gada tirgus cenās, pamatojoties uz SIA „Baltex Group” būvprojekta rasējumiem un darbu apjomiem | O7: Tāmes izmaksas euro: | P7: =P52 -> 0
L9: =Koptame!D16 -> Tāme sastādīta:
A11: Nr.p.k. | B11: Kods | C11: Būvdarbu nosaukums | D11: Mērvienība | E11: Daudzums | F11: Vienības izmaksas | L11: Kopā uz visu apjomu
F12: Laika norma (c/h) | G12: Darba samaksas likme (euro/h) | H12: Darba alga (euro) | I12: Būvizstrādājumi (euro) | J12: Mehānismi (euro) | K12: Kopā (euro) | L12: Darbietilpība (c/h) | M12: Darba alga (euro) | N12: Būvizstrādājumi (euro) | O12: Mehānismi (euro) | P12: Summa (euro)
C13: =kops1!C21 -> Ārējā elektroapgāde | K13: =SUM(H13:J13) -> 0 | L13: =ROUND(F13*E13,2) -> 0 | M13: =ROUND(H13*E13,2) -> 0 | N13: =ROUND(I13*E13,2) -> 0 | O13: =ROUND(J13*E13,2) -> 0 | P13: =SUM(M13:O13) -> 0
C14: Būvizstrādājumi | K14: =SUM(H14:J14) -> 0 | L14: =ROUND(F14*E14,2) -> 0 | M14: =ROUND(H14*E14,2) -> 0 | N14: =ROUND(I14*E14,2) -> 0 | O14: =ROUND(J14*E14,2) -> 0 | P14: =SUM(M14:O14) -> 0
B15: 1 | C15: 0,4kV kabeļu, caurules un uzmavas trases (līdz TP0217) | K15: =SUM(H15:J15) -> 0 | L15: =ROUND(F15*E15,2) -> 0 | M15: =ROUND(H15*E15,2) -> 0 | N15: =ROUND(I15*E15,2) -> 0 | O15: =ROUND(J15*E15,2) -> 0 | P15: =SUM(M15:O15) -> 0
A16: 1.1. | C16: 0,4kV kabelis AXPK-1x4x150mm2 | D16: m | E16: =130*2 -> 260 | K16: =SUM(H16:J16) -> 0 | L16: =ROUND(F16*E16,2) -> 0 | M16: =ROUND(H16*E16,2) -> 0 | N16: =ROUND(I16*E16,2) -> 0 | O16: =ROUND(J16*E16,2) -> 0 | P16: =SUM(M16:O16) -> 0
A17: 1.2. | C17: 0,4kV kabeļa gala apdare 4-dzīslu kabeļim AXPK-1x4x150mm2 | D17: kpl. | E17: 4 | K17: =SUM(H17:J17) -> 0 | L17: =ROUND(F17*E17,2) -> 0 | M17: =ROUND(H17*E17,2) -> 0 | N17: =ROUND(I17*E17,2) -> 0 | O17: =ROUND(J17*E17,2) -> 0 | P17: =SUM(M17:O17) -> 0
A18: 1.3. | C18: Brīdinājuma lenta "Uzmanību kabelis!" | D18: m | E18: 130 | K18: =SUM(H18:J18) -> 0 | L18: =ROUND(F18*E18,2) -> 0 | M18: =ROUND(H18*E18,2) -> 0 | N18: =ROUND(I18*E18,2) -> 0 | O18: =ROUND(J18*E18,2) -> 0 | P18: =SUM(M18:O18) -> 0
A19: 1.4. | C19: Palīgmateriāli | D19: kpl. | E19: 1 | K19: =SUM(H19:J19) -> 0 | L19: =ROUND(F19*E19,2) -> 0 | M19: =ROUND(H19*E19,2) -> 0 | N19: =ROUND(I19*E19,2) -> 0 | O19: =ROUND(J19*E19,2) -> 0 | P19: =SUM(M19:O19) -> 0
A20: 1.5. | C20: Plastmasa aizsargcaurule, ∅110, 750N | D20: m | E20: =80+80+25+25 -> 210 | K20: =SUM(H20:J20) -> 0 | L20: =ROUND(F20*E20,2) -> 0 | M20: =ROUND(H20*E20,2) -> 0 | N20: =ROUND(I20*E20,2) -> 0 | O20: =ROUND(J20*E20,2) -> 0 | P20: =SUM(M20:O20) -> 0
C21: AS Sadales tīkls aizsargcaurules: | K21: =SUM(H21:J21) -> 0 | L21: =ROUND(F21*E21,2) -> 0 | M21: =ROUND(H21*E21,2) -> 0 | N21: =ROUND(I21*E21,2) -> 0 | O21: =ROUND(J21*E21,2) -> 0 | P21: =SUM(M21:O21) -> 0
A22: 1.6. | C22: Dalītā plastmasa aizsargcaurule, ∅160, 750N | D22: m | E22: 22 | K22: =SUM(H22:J22) -> 0 | L22: =ROUND(F22*E22,2) -> 0 | M22: =ROUND(H22*E22,2) -> 0 | N22: =ROUND(I22*E22,2) -> 0 | O22: =ROUND(J22*E22,2) -> 0 | P22: =SUM(M22:O22) -> 0
B23: 2 | C23: Caudure Nr.1 | K23: =SUM(H23:J23) -> 0 | L23: =ROUND(F23*E23,2) -> 0 | M23: =ROUND(H23*E23,2) -> 0 | N23: =ROUND(I23*E23,2) -> 0 | O23: =ROUND(J23*E23,2) -> 0 | P23: =SUM(M23:O23) -> 0
A24: 2.1. | C24: Cieta PE caurule, d=160mm, 1250N (caudurei) | D24: m | E24: 40 | K24: =SUM(H24:J24) -> 0 | L24: =ROUND(F24*E24,2) -> 0 | M24: =ROUND(H24*E24,2) -> 0 | N24: =ROUND(I24*E24,2) -> 0 | O24: =ROUND(J24*E24,2) -> 0 | P24: =SUM(M24:O24) -> 0
C25: Palīgmateriāli | D25: kpl. | E25: 1 | K25: =SUM(H25:J25) -> 0 | L25: =ROUND(F25*E25,2) -> 0 | M25: =ROUND(H25*E25,2) -> 0 | N25: =ROUND(I25*E25,2) -> 0 | O25: =ROUND(J25*E25,2) -> 0 | P25: =SUM(M25:O25) -> 0
C26: Darbu apjomi | K26: =SUM(H26:J26) -> 0 | L26: =ROUND(F26*E26,2) -> 0 | M26: =ROUND(H26*E26,2) -> 0 | N26: =ROUND(I26*E26,2) -> 0 | O26: =ROUND(J26*E26,2) -> 0 | P26: =SUM(M26:O26) -> 0
B27: 3 | C27: 0,4kV kabeļu, caurules un uzmavas trases (līdz TP0217) | K27: =SUM(H27:J27) -> 0 | L27: =ROUND(F27*E27,2) -> 0 | M27: =ROUND(H27*E27,2) -> 0 | N27: =ROUND(I27*E27,2) -> 0 | O27: =ROUND(J27*E27,2) -> 0 | P27: =SUM(M27:O27) -> 0
A28: 3.1. | C28: Tranšeja - bedre kabeļa vai citu apakšzemes komunikāciju apsekošanai (šurfēšana) | D28: gb | E28: 25 | K28: =SUM(H28:J28) -> 0 | L28: =ROUND(F28*E28,2) -> 0 | M28: =ROUND(H28*E28,2) -> 0 | N28: =ROUND(I28*E28,2) -> 0 | O28: =ROUND(J28*E28,2) -> 0 | P28: =SUM(M28:O28) -> 0
A29: 3.2. | C29: Tranšejas rakšana un aizbēršana viena līdz divu kabeļu (caurules) guldīšanai 0.7m dziļumā | D29: m | E29: =3+10+4+5+3 -> 25 | K29: =SUM(H29:J29) -> 0 | L29: =ROUND(F29*E29,2) -> 0 | M29: =ROUND(H29*E29,2) -> 0 | N29: =ROUND(I29*E29,2) -> 0 | O29: =ROUND(J29*E29,2) -> 0 | P29: =SUM(M29:O29) -> 0
A30: 3.3. | C30: Tranšejas rakšana un aizbēršana viena līdz divu kabeļu (caurules) guldīšanai 1.0m dziļumā | D30: m | E30: =22+11+30+7+5 -> 75 | K30: =SUM(H30:J30) -> 0 | L30: =ROUND(F30*E30,2) -> 0 | M30: =ROUND(H30*E30,2) -> 0 | N30: =ROUND(I30*E30,2) -> 0 | O30: =ROUND(J30*E30,2) -> 0 | P30: =SUM(M30:O30) -> 0
A31: 3.4. | C31: Caurules guldīšana gatavā tranšejā | D31: m | E31: =130+130-19 -> 241 | J31: =0.15*H31 -> 0 | K31: =SUM(H31:J31) -> 0 | L31: =ROUND(F31*E31,2) -> 0 | M31: =ROUND(H31*E31,2) -> 0 | N31: =ROUND(I31*E31,2) -> 0 | O31: =ROUND(J31*E31,2) -> 0 | P31: =SUM(M31:O31) -> 0
A32: 3.5. | C32: ZS kabeļa līdz 240 mm² ievēršana caurulē | D32: m | E32: =E31 -> 241 | J32: =0.15*H32 -> 0 | K32: =SUM(H32:J32) -> 0 | L32: =ROUND(F32*E32,2) -> 0 | M32: =ROUND(H32*E32,2) -> 0 | N32: =ROUND(I32*E32,2) -> 0 | O32: =ROUND(J32*E32,2) -> 0 | P32: =SUM(M32:O32) -> 0
A33: 3.6. | C33: VS kabeļa līdz 240 mm² gala apdares montāža | D33: kpl. | E33: 4 | J33: =0.15*H33 -> 0 | K33: =SUM(H33:J33) -> 0 | L33: =ROUND(F33*E33,2) -> 0 | M33: =ROUND(H33*E33,2) -> 0 | N33: =ROUND(I33*E33,2) -> 0 | O33: =ROUND(J33*E33,2) -> 0 | P33: =SUM(M33:O33) -> 0
C34: AS Sadales tīkls aizsargcaurules trases: | K34: =SUM(H34:J34) -> 0 | L34: =ROUND(F34*E34,2) -> 0 | M34: =ROUND(H34*E34,2) -> 0 | N34: =ROUND(I34*E34,2) -> 0 | O34: =ROUND(J34*E34,2) -> 0 | P34: =SUM(M34:O34) -> 0
A35: 3.7. | C35: Tranšejas rakšana un aizbēršana viena līdz divu dalīto aizsargcaurules guldīšanai līdz 1.0m dziļumā | D35: m | E35: =4.3+4 -> 8.3 | K35: =SUM(H35:J35) -> 0 | L35: =ROUND(F35*E35,2) -> 0 | M35: =ROUND(H35*E35,2) -> 0 | N35: =ROUND(I35*E35,2) -> 0 | O35: =ROUND(J35*E35,2) -> 0 | P35: =SUM(M35:O35) -> 0
A36: 3.8. | C36: Dalītas caurules guldīšana gatavā tranšejā | D36: m | E36: =(4*4.3)+4 -> 21.2 | J36: =0.15*H36 -> 0 | K36: =SUM(H36:J36) -> 0 | L36: =ROUND(F36*E36,2) -> 0 | M36: =ROUND(H36*E36,2) -> 0 | N36: =ROUND(I36*E36,2) -> 0 | O36: =ROUND(J36*E36,2) -> 0 | P36: =SUM(M36:O36) -> 0
A37: 3.9. | C37: VS kabeļa līdz 240 mm² aizsardzība ar dalīto aizsargcauruli | D37: m | E37: =E36 -> 21.2 | J37: =0.15*H37 -> 0 | K37: =SUM(H37:J37) -> 0 | L37: =ROUND(F37*E37,2) -> 0 | M37: =ROUND(H37*E37,2) -> 0 | N37: =ROUND(I37*E37,2) -> 0 | O37: =ROUND(J37*E37,2) -> 0 | P37: =SUM(M37:O37) -> 0
K38: =SUM(H38:J38) -> 0 | L38: =ROUND(F38*E38,2) -> 0 | M38: =ROUND(H38*E38,2) -> 0 | N38: =ROUND(I38*E38,2) -> 0 | O38: =ROUND(J38*E38,2) -> 0 | P38: =SUM(M38:O38) -> 0
B39: 4 | C39: Caudures darbi | K39: =SUM(H39:J39) -> 0 | L39: =ROUND(F39*E39,2) -> 0 | M39: =ROUND(H39*E39,2) -> 0 | N39: =ROUND(I39*E39,2) -> 0 | O39: =ROUND(J39*E39,2) -> 0 | P39: =SUM(M39:O39) -> 0
A40: 4.1. | C40: Tranšeja - bedre kabeļa vai citu apakšzemes komunikāciju apsekošanai (šurfēšana) | D40: gb | E40: 10 | K40: =SUM(H40:J40) -> 0 | L40: =ROUND(F40*E40,2) -> 0 | M40: =ROUND(H40*E40,2) -> 0 | N40: =ROUND(I40*E40,2) -> 0 | O40: =ROUND(J40*E40,2) -> 0 | P40: =SUM(M40:O40) -> 0
A41: 4.2. | C41: Bedres rakšana caudures veikšanai (darba bedre) | D41: gb | E41: 1 | K41: =SUM(H41:J41) -> 0 | L41: =ROUND(F41*E41,2) -> 0 | M41: =ROUND(H41*E41,2) -> 0 | N41: =ROUND(I41*E41,2) -> 0 | O41: =ROUND(J41*E41,2) -> 0 | P41: =SUM(M41:O41) -> 0
A42: 4.3. | C42: Bedres rakšana caudures veikšanai (pieņemšanas bedre) | D42: gb | E42: 1 | K42: =SUM(H42:J42) -> 0 | L42: =ROUND(F42*E42,2) -> 0 | M42: =ROUND(H42*E42,2) -> 0 | N42: =ROUND(I42*E42,2) -> 0 | O42: =ROUND(J42*E42,2) -> 0 | P42: =SUM(M42:O42) -> 0
A43: 4.4. | C43: PEHD caurules d=160mm 2 gab. horizontāla urbšana-caurvilkšana | D43: m | E43: 18.8 | K43: =SUM(H43:J43) -> 0 | L43: =ROUND(F43*E43,2) -> 0 | M43: =ROUND(H43*E43,2) -> 0 | N43: =ROUND(I43*E43,2) -> 0 | O43: =ROUND(J43*E43,2) -> 0 | P43: =SUM(M43:O43) -> 0
B44: 5 | C44: Seguma atjanošanas apjoms (veidos), saskaņā ar ELT-04 | K44: =SUM(H44:J44) -> 0 | L44: =ROUND(F44*E44,2) -> 0 | M44: =ROUND(H44*E44,2) -> 0 | N44: =ROUND(I44*E44,2) -> 0 | O44: =ROUND(J44*E44,2) -> 0 | P44: =SUM(M44:O44) -> 0
A45: 5.1. | C45: Ietves asfalta seguma atjaunošana Tips nr.1ai | D45: m2 | E45: 23.9 | K45: =SUM(H45:J45) -> 0 | L45: =ROUND(F45*E45,2) -> 0 | M45: =ROUND(H45*E45,2) -> 0 | N45: =ROUND(I45*E45,2) -> 0 | O45: =ROUND(J45*E45,2) -> 0 | P45: =SUM(M45:O45) -> 0
A46: 5.2. | C46: 4cm -Karstais asfalts AC8 surf (AADTi pievestā ≤500) | D46: m2 | E46: 23.9 | K46: =SUM(H46:J46) -> 0 | L46: =ROUND(F46*E46,2) -> 0 | M46: =ROUND(H46*E46,2) -> 0 | N46: =ROUND(I46*E46,2) -> 0 | O46: =ROUND(J46*E46,2) -> 0 | P46: =SUM(M46:O46) -> 0
A47: 5.3. | C47: 12cm -Minerālmateriāla maisījums 0/45 N-III klase | D47: m2 | E47: 23.9 | K47: =SUM(H47:J47) -> 0 | L47: =ROUND(F47*E47,2) -> 0 | M47: =ROUND(H47*E47,2) -> 0 | N47: =ROUND(I47*E47,2) -> 0 | O47: =ROUND(J47*E47,2) -> 0 | P47: =SUM(M47:O47) -> 0
A48: 5.4. | C48: 30cm -Salturīgā kārta ≥60 Mpa | D48: m2 | E48: 23.9 | K48: =SUM(H48:J48) -> 0 | L48: =ROUND(F48*E48,2) -> 0 | M48: =ROUND(H48*E48,2) -> 0 | N48: =ROUND(I48*E48,2) -> 0 | O48: =ROUND(J48*E48,2) -> 0 | P48: =SUM(M48:O48) -> 0
A49: 5.5. | C49: Zaļās zonas seguma atjaunošana | D49: m2 | E49: 19.3 | K49: =SUM(H49:J49) -> 0 | L49: =ROUND(F49*E49,2) -> 0 | M49: =ROUND(H49*E49,2) -> 0 | N49: =ROUND(I49*E49,2) -> 0 | O49: =ROUND(J49*E49,2) -> 0 | P49: =SUM(M49:O49) -> 0
K50: =SUM(H50:J50) -> 0 | L50: =ROUND(F50*E50,2) -> 0 | M50: =ROUND(H50*E50,2) -> 0 | N50: =ROUND(I50*E50,2) -> 0 | O50: =ROUND(J50*E50,2) -> 0 | P50: =SUM(M50:O50) -> 0
F51: 0 | G51: 0
C52: Tiešās izmaksas kopā t.sk. darba devēja sociālais nodoklis(23,59%) | L52: =SUM(L13:L51) -> 0 | M52: =SUM(M13:M51) -> 0 | N52: =SUM(N13:N51) -> 0 | O52: =SUM(O13:O51) -> 0 | P52: =SUM(P13:P51) -> 0
C54: Piezīmes:
A55: EKVIVALENTU izmantošana pieļaujama tikai būvdarbu līgumā noteiktajos gadījumos. Ekvivalenti jāsaskaņo ar Pasūtītāju un būvprojekta autoru, līgumā noteiktajā kārtībā
B59: Sastādīja: | L59: =Koptame!B38 -> Pārbaudīja:
