Workbook

Sheet Dati
B1: Izpildītājs: | C1: SIA INOVA Reģ. nr. LV40103233035
B2: Būves nosaukums: | C2: Daudzdzīvokļu ēka
B3: Objekta nosaukums: | C3: Vienkāršota renovācija
B4: Objekta adrese: | C4: Liepāja, Dorupes 34 | L4: Tāmes izmaksas (bez PVN):
B5: Tāme sastādīta 2011. gada tirgus cenās | L5: Tāme sastādīta 2011. gada 05. septembrī
B7: Platums (m) | C7: 96.9
B8: Dziļums (m) | C8: 12.8
B9: Augstums (m) | C9: 14
B10: Apbūves laukums (m²) | C10: =C7*C8 -> 1240.32
B11: Perimetrs (m) | C11: =(C7+C8)*2 -> 219.4
B12: Fasādes laukums (m²) | C12: =C11*C9 -> 3071.6
B13: Vecie logi dzīvokļos(m²) | C13: =381.15+8 -> 389.15
B14: Jaunie logi dzīvokļos(m²) | C14: 470.74
B15: Vecie logi koplietošanas telpās (m²) | C15: 225
B16: Jaunie logi koplietošanas telpās (m²)
B17: Logi kopā (m²) | C17: =((C13+C14)+C15)+C16 -> 1084.89
B18: Lodžijas | C18: 0
B19: Cokola augstums (m) | C19: 0.8
B20: Cokola laukums (m²) | C20: =C11*C19 -> 175.52
B21: Pamatu siltinājuma augstums (m) | C21: 1
B22: Pamatu siltinājuma laukums (m²) | C22: =C21*C11 -> 219.4
B23: Ārdurvju skaits (ieskaitot kāpņu telpu, pagrabu u.c.) | C23: 9
B24: Ieejas jumtiņu skaits (gab) | C24: 6
B25: Ieejas jumtiņa platums | C25: 3
B26: Ieejas jumtiņa dziļums | C26: 1.5
B27: Ieejas jumtiņu platība (m²) | C27: =C25*C26 -> 4.5
B28: Jumta kores augstums (m) | C28: 2
B29: Jumta platība | C29: =IF((C28=0),((SQRT(((C28^2)+((C8/2)^2)))*C7)*2),(((SQRT(((C28^2)+((C8/2)^2)))*C7)*2)*1.1)) -> 1429.4192
B30: Pamatu pēdas laukums | C30: =(C11*0.5)+1 -> 110.7
B31: Skursteņi (gab) | C31: 0
B32: Ventilācijas izvadi (gab) | C32: 18
B33: Jumta lūkas (gab) | C33: 2
B34: Radiatori | C34: =84*3 -> 252
B35: Apkures caurules (m) | C35: 400
B36: Karstā ūdens caurules (m) | C36: 400
B40: Darba samaksas likme | C40: 2.5
B41: Transporta izdevumi | C41: 0.05
B42: Pieskaitāmie izdevumi | C42: 0.08
B43: Peļņa | C43: 0.04

Sheet Skadr.apr.
B2: Skaidrojošais apraksts
B3: =Koptāme!D14 -> "Jumta seguma nomaiņa Citadeles ielā 7, Rīgā"
B4: Būves nosaukums | D4: =Koptāme!D15 -> "Jumta seguma nomaiņa Citadeles ielā 7, Rīgā"
B5: Objekta adrese | D5: =Koptāme!D16 -> Citadeles iela 7, Rīga
B6: Izmaksu aprēķins sastādīts pamatojoties uz Noteikumi par Latvijas būvnormatīvu LBN 501-17 "Būvizmaksu noteikšanas kārtība", tehnisko projektu, tajā iekļautajām specifikācijām un dažādās sadaļās iekļautos būvdarbu izpildes visus apstākļu raksturojumu. Saskaņā ar Noteikumi par Latvijas būvnormatīvu LBN 501-17 "Būvizmaksu noteikšanas kārtība" noteikto kārtību noteikta kopējā darbietilpība.Lokālajās tāmēs ievērtētas būvmateriālu, darbaspēka un mehānismu izmaksas valstī 2023.gada sākumā, vadoties pēc Latvijas Ekonomikas ministrijas publicētajiem datiem. Kā izziņas materiāls atsevišķu darbu darbietilpības un mehānismu patēriņa izmaksu noteikšanai pielietots pēc Latvijas republikas Ekonomikas ministrijas pasūtījuma SIA “MV project” izdotais Būvdarbu izcenojumu katalogs 2011. gadam. Būvobjekta izmaksas aprēķinātas tā, lai garantētu visu būvdarbu kvalitatīvu izpildi tehniskajā projektā paredzētajos apjomos un ar tehniskajā projektā norādītajiem būvmateriāliem uz tehniskā projekta izstrādes brīdi. Gadījumā, ja jebkādu no projektētāja neatkarīgu iemeslu dēļ pasūtītājs nevar nodrošināt attiecīgo būvobjekta daļu kvalitatīvai izbūvei nepieciešamo finansējumu, pieļaujams analogas kvalitātes lētāku būvmateriālu pielietojums, to iepriekš saskaņojot ar tehniskā projekta autoru būvniecības autoruzraudzības kārtībā.
B7: Būvprojekta realizācijas izmaksu apēķina izejas dati :
B8: Objekta būvniecības kopējās izmaksas, ieskaitot 21% PVN, (€) | I8: =Koptāme!D22+Koptāme!D25 -> 0
B9: Objekta izbūves kopējā darbietilpība, c/h: | I9: =Kopsavilkums!H11 -> 0
B10: Paredzēts, ka būvdarbus veiks būvorganizācija
B11: virsizdevumi | E11: 0.12
B12: plānotā peļņa | E12: 0.07
B13: Aprēķini sastādīti, lai pasūtītājs orientētos iespējamās darbu izmaksās. Ievērojot dažādos cenu veidojošos faktorus un inflāciju, izmaksas var svārstīties.
B14: Iekārtu, konstrukciju un materiālu kopsavilkuma būvdarbu apjomus skatīt kopā ar būvdarbu apjomu sarakstu, projekta dokumentāciju un grafisko daļu.
B15: Izstrādājot piedāvājumu, būvuzņēmējam rūpīgi jāpārskata projekts un apjomos jāiekļauj arī neuzrādītie darbi un materiāli, lai kvalitatīvi veiktu būvniecību atbilstoši konkrētā būvuzņēmēja pielietotajai tehnoloģijai, un bez kuriem nebūtu iespējama būvdarbu tehnoloģiski pareiza un spēkā esošajiem normatīviem atbilstoša veikšana pilnā apjomā.
B16: Materiālu komplektāciju veikt atbilstoši izstrādātājam projektam, ražotājfirmu un LR normatīvo aktu nosacījumiem.
B17: Projektā rekomendētie materiālu tipi var tikt nomainīti pret izstrādājumiem ar ekvivalentu vai augstāku kvalitāti, saskaņojot to ar projekta autoru un pasūtītāju.
B18: Visi dati iekārtu, konstrukciju un materiālu kopsavilkumā doti orientējoši tāmes sagatavošanai. Būvdarbu apjomi var tikt mainīti, saskaņojot izmaiņas ar pasūtītāju, būvuzraugu un autoruzraugu.
B19: Visas atsauces uz iekārtu, materiālu un izstrādājumu izgatavotāju firmām, kuras norādītas projektā, liecina tikai par šo izstrādājumu un iekārtu kvalitātes un apkalpošanas līmeni. Norādīto iekārtu un materiālu nomaiņa ir iespējama ar citām tehniski analogām vai labākām
B20: Saskaņā ar LBN 501 - 17 "Būvizmaksu noteikšanas kārtība" punktu 3.9. virsizdevumi – papildu izmaksas, kuras saistītas ar būvlaukuma iekārtošanu, uzturēšanu, būvdarbu organizēšanu, vadīšanu, darba aizsardzību un apdrošināšanu, citas ar būvdarbu realizāciju saistītas izmaksas.
B21: Sastādīja: R. Lipšāns | G21: Būvprakses sertifikāta Nr. 4 - 02839
B23: Pārbaudīja: E.Sturmovičs | G23: Būvprakses sertifikāta Nr. 4 - 03199

Sheet Koptāme
D2: APSTIPRINU
D5: (pasūtītāja paraksts un tā atsifrējums)
D7: Z.v.
D10: _____.gada. ___. ___________
B12: Būvniecības koptāme
C14: Objekta nosaukums: | D14: "Jumta seguma nomaiņa Citadeles ielā 7, Rīgā"
C15: Būves nosaukums: | D15: =D14 -> "Jumta seguma nomaiņa Citadeles ielā 7, Rīgā"
C16: Objekta adrese: | D16: Citadeles iela 7, Rīga
C17: Pasūtījuma Nr.
B19: Nr.p.k. | C19: Objekta nosaukums | D19: Objekta izmaksas (euro)
B20: 1 | C20: =CONCATENATE("Jumta seguma nomaiņa Citadeles ielā 7, Rīgā "," ") -> Jumta seguma nomaiņa Citadeles ielā 7, Rīgā | D20: =Kopsavilkums!E20 -> 0
B22: KOPĀ: | D22: =SUM(D20) -> 0
B25: PVN 21% | D25: =ROUND(D22*21%,2) -> 0
B27: Sastādīja
C28: (paraksts un tā atšifrējums, datums)
B30: Sertifikāta Nr.

Sheet Kopsavilkums
C2: Kopsavilkuma aprēķins Nr.1
C3: Vispārceltnieciskie un specializētie darbi
C4: (būvdarbu veids vai konstruktīvā elementa nosaukums)
C6: Objekta nosaukums: | D6: =Koptāme!D14 -> "Jumta seguma nomaiņa Citadeles ielā 7, Rīgā"
C7: Būves nosaukums: | D7: =Koptāme!D15 -> "Jumta seguma nomaiņa Citadeles ielā 7, Rīgā"
C8: Objekta adrese: | D8: =Koptāme!D16 -> Citadeles iela 7, Rīga
C9: Pasūtijuma Nr.
G10: Par kopējo summu bez PVN, EUR | H10: =E20 -> 0
G11: Kopējā darbietilpība, c/h | H11: =SUM(I15:I15) -> 0
B13: Nr.p.k. | C13: Kods, tāmes Nr. | D13: Būvdarbu veids vai konstruktīvā elementa nosaukums | E13: Tāmes izmaksas | F13: Tai skaitā | I13: Darb- ietilpība (c/h)
F14: darba alga | G14: būvizstrādājumi | H14: mehānismi
B15: 1 | C15: =CONCATENATE("Lokālā tāme Nr. ",B15) -> Lokālā tāme Nr. 1 | D15: =Jumts!J2 -> Jumta seguma nomaiņa | E15: =Jumts!Q82 -> 0 | F15: =Jumts!N82 -> 0 | G15: =Jumts!O82 -> 0 | H15: =Jumts!P82 -> 0 | I15: =Jumts!M82 -> 0
B16: Kopā | E16: =SUM(E15:E15) -> 0
B17: Virsizdevumi (%)
B18: t. sk. darba aizsardzība (%)
B19: Peļņa (%)
B20: Pavisam kopā | E20: =E16+E17+E19 -> 0
B22: Sastādīja
D23: (paraksts un tā atšifrējums, datums)
B25: =Koptāme!B32 -> 0
B27: Pārbaudīja
D28: (paraksts un tā atšifrējums, datums)
B30: Sertifikāta Nr.

Sheet Jumts
J1: =Kopsavilkums!C15 -> Lokālā tāme Nr. 1
J2: =D13 -> Jumta seguma nomaiņa
D3: Objekta nosaukums: | E3: =Kopsavilkums!D6 -> "Jumta seguma nomaiņa Citadeles ielā 7, Rīgā"
D4: Būves nosaukums: | E4: =Kopsavilkums!D7 -> "Jumta seguma nomaiņa Citadeles ielā 7, Rīgā"
D5: Objekta adrese: | E5: =Kopsavilkums!D8 -> Citadeles iela 7, Rīga
D6: Pasūtijuma Nr. | N6: Tāmes izmaksas (bez PVN): | Q6: =Q82 -> 0
B7: Tāme sastādīta 2023. gada tirgus cenās, pamatojoties uz AR daļas rasējumiem. | N7: =Kopsavilkums!B25 -> 0
B9: Nr. | C9: Kods | D9: Būvdarbu nosaukums | E9: Mērv. | F9: Daudzums | G9: Laika norma (c/h) | H9: darba samaksas likme* (euro/h) | I9: Vienības izmaksas | M9: Kopā uz visu apjomu
I10: Darba alga | J10: Būvizstrādājumi | K10: Mehānismi | L10: Kopā | M10: Darbietilpība (c/h) | N10: Darba alga | O10: Būvizstrādājumi | P10: Mehānismi | Q10: Summa
B11: 1 | C11: 2 | D11: 3 | E11: 4 | F11: 5 | G11: 6 | H11: 7 | I11: 8 | J11: 9 | K11: 10 | L11: 11 | M11: 12 | N11: 13 | O11: 14 | P11: 15 | Q11: 16
D13: Jumta seguma nomaiņa
D14: Demontāžas darbi | I14: =ROUND(H14*G14,2) -> 0 | K14: =ROUND(0.1*I14,2) -> 0 | L14: =SUM(I14:K14) -> 0 | M14: =ROUND(F14*G14,2) -> 0 | N14: =ROUND(F14*I14,2) -> 0 | O14: =ROUND(J14*F14,2) -> 0 | P14: =ROUND(K14*F14,2) -> 0 | Q14: =SUM(N14:P14) -> 0
B15: 1 | C15: L.c. | D15: Tekņu un noteku un stiprinājumu demontāža | E15: m | F15: 158 | K15: =ROUND(0.1*I15,2) -> 0 | L15: =SUM(I15:K15) -> 0 | M15: =ROUND(F15*G15,2) -> 0 | N15: =ROUND(F15*I15,2) -> 0 | O15: =ROUND(J15*F15,2) -> 0 | P15: =ROUND(K15*F15,2) -> 0 | Q15: =SUM(N15:P15) -> 0
B16: 2 | C16: L.c. | D16: Esoša jumta seguma demontāža un utilizācija | E16: m² | F16: =ROUND(640+65+5,2) -> 710 | K16: =ROUND(0.1*I16,2) -> 0 | L16: =SUM(I16:K16) -> 0 | M16: =ROUND(F16*G16,2) -> 0 | N16: =ROUND(F16*I16,2) -> 0 | O16: =ROUND(J16*F16,2) -> 0 | P16: =ROUND(K16*F16,2) -> 0 | Q16: =SUM(N16:P16) -> 0
B17: 3 | C17: L.c. | D17: Esošā dēļu klāja ar ruberoīda klāju demontāža, t.sk.demontējamie logi, pieslēgumi pie saglabājamajiem logiem un demontētā apjoma utilizācija | E17: m² | F17: =F16 -> 710 | K17: =ROUND(0.1*I17,2) -> 0 | L17: =SUM(I17:K17) -> 0 | M17: =ROUND(F17*G17,2) -> 0 | N17: =ROUND(F17*I17,2) -> 0 | O17: =ROUND(J17*F17,2) -> 0 | P17: =ROUND(K17*F17,2) -> 0 | Q17: =SUM(N17:P17) -> 0
B18: 4 | C18: L.c. | D18: Būvgružu savākšana, izvešana un utilizācija | E18: m³ | F18: 100 | M18: =ROUND(F18*G18,2) -> 0 | N18: =ROUND(F18*I18,2) -> 0 | O18: =ROUND(J18*F18,2) -> 0 | P18: =ROUND(K18*F18,2) -> 0 | Q18: =SUM(N18:P18) -> 0
B19: 5 | I19: =ROUND(H19*G19,2) -> 0 | K19: =ROUND(0.1*I19,2) -> 0 | L19: =SUM(I19:K19) -> 0 | M19: =ROUND(F19*G19,2) -> 0 | N19: =ROUND(F19*I19,2) -> 0 | O19: =ROUND(J19*F19,2) -> 0 | P19: =ROUND(K19*F19,2) -> 0 | Q19: =SUM(N19:P19) -> 0
B20: 6 | D20: Jumts | I20: =ROUND(H20*G20,2) -> 0 | K20: =ROUND(0.1*I20,2) -> 0 | L20: =SUM(I20:K20) -> 0 | M20: =ROUND(F20*G20,2) -> 0 | N20: =ROUND(F20*I20,2) -> 0 | O20: =ROUND(J20*F20,2) -> 0 | P20: =ROUND(K20*F20,2) -> 0 | Q20: =SUM(N20:P20) -> 0
B21: 7 | C21: L.c. | D21: Esošo jumta koka konstrukciju apstrāde ar koksnes aizsardzības līdzekļiem, lokāla protezēšana, atjaunošana pēc nepieciešamības ~10%, t.sk.mūra daļa pie mūrlatas | E21: m² | F21: =ROUND(640+65+5,2) -> 710 | K21: =ROUND(0.1*I21,2) -> 0 | L21: =SUM(I21:K21) -> 0 | M21: =ROUND(F21*G21,2) -> 0 | N21: =ROUND(F21*I21,2) -> 0 | O21: =ROUND(J21*F21,2) -> 0 | P21: =ROUND(K21*F21,2) -> 0 | Q21: =SUM(N21:P21) -> 0
B22: 8 | C22: L.c. | D22: Difūzijas membrānas ieklāšana, piespiedējlatas un retinātu dēļu ieklāsana | E22: m² | F22: 70 | K22: =ROUND(0.1*I22,2) -> 0 | L22: =SUM(I22:K22) -> 0 | M22: =ROUND(F22*G22,2) -> 0 | N22: =ROUND(F22*I22,2) -> 0 | O22: =ROUND(J22*F22,2) -> 0 | P22: =ROUND(K22*F22,2) -> 0 | Q22: =SUM(N22:P22) -> 0
B23: 9 | D23: Latas 25 mm- apstrāde ar antiseptiķi | E23: m² | F23: =F22 -> 70 | I23: =ROUND(H23*G23,2) -> 0 | K23: =ROUND(0.1*I23,2) -> 0 | L23: =SUM(I23:K23) -> 0 | M23: =ROUND(F23*G23,2) -> 0 | N23: =ROUND(F23*I23,2) -> 0 | O23: =ROUND(J23*F23,2) -> 0 | P23: =ROUND(K23*F23,2) -> 0 | Q23: =SUM(N23:P23) -> 0
B24: 10 | D24: Latas 50 mm- apstrāde ar antiseptiķi | E24: m² | F24: =F22 -> 70 | I24: =ROUND(H24*G24,2) -> 0 | K24: =ROUND(0.1*I24,2) -> 0 | L24: =SUM(I24:K24) -> 0 | M24: =ROUND(F24*G24,2) -> 0 | N24: =ROUND(F24*I24,2) -> 0 | O24: =ROUND(J24*F24,2) -> 0 | P24: =ROUND(K24*F24,2) -> 0 | Q24: =SUM(N24:P24) -> 0
B25: 11 | D25: Retināts dēļu klājs 30 mm- apstrāde ar antiseptiķi | E25: m² | F25: =F22 -> 70 | I25: =ROUND(H25*G25,2) -> 0 | K25: =ROUND(0.1*I25,2) -> 0 | L25: =SUM(I25:K25) -> 0 | M25: =ROUND(F25*G25,2) -> 0 | N25: =ROUND(F25*I25,2) -> 0 | O25: =ROUND(J25*F25,2) -> 0 | P25: =ROUND(K25*F25,2) -> 0 | Q25: =SUM(N25:P25) -> 0
B26: 12 | D26: Retināts dēļu klājs 50 mm- apstrāde ar antiseptiķi | E26: m² | F26: =F22 -> 70 | I26: =ROUND(H26*G26,2) -> 0 | K26: =ROUND(0.1*I26,2) -> 0 | L26: =SUM(I26:K26) -> 0 | M26: =ROUND(F26*G26,2) -> 0 | N26: =ROUND(F26*I26,2) -> 0 | O26: =ROUND(J26*F26,2) -> 0 | P26: =ROUND(K26*F26,2) -> 0 | Q26: =SUM(N26:P26) -> 0
B27: 13 | D27: Būvkalumi, stiprinājumi, palīgmateriāli | E27: m² | F27: =F22 -> 70 | I27: =ROUND(H27*G27,2) -> 0 | K27: =ROUND(0.1*I27,2) -> 0 | L27: =SUM(I27:K27) -> 0 | M27: =ROUND(F27*G27,2) -> 0 | N27: =ROUND(F27*I27,2) -> 0 | O27: =ROUND(J27*F27,2) -> 0 | P27: =ROUND(K27*F27,2) -> 0 | Q27: =SUM(N27:P27) -> 0
B28: 14 | C28: L.c. | D28: Ierīkot valcprofila segumu, pieslēgumu vietas | E28: m² | F28: =F22 -> 70 | K28: =ROUND(0.1*I28,2) -> 0 | L28: =SUM(I28:K28) -> 0 | M28: =ROUND(F28*G28,2) -> 0 | N28: =ROUND(F28*I28,2) -> 0 | O28: =ROUND(J28*F28,2) -> 0 | P28: =ROUND(K28*F28,2) -> 0 | Q28: =SUM(N28:P28) -> 0
B29: 15 | D29: Būvkalumi, stiprinājumi, palīgmateriāli | E29: m² | F29: =F28 -> 70 | I29: =ROUND(H29*G29,2) -> 0 | K29: =ROUND(0.1*I29,2) -> 0 | L29: =SUM(I29:K29) -> 0 | M29: =ROUND(F29*G29,2) -> 0 | N29: =ROUND(F29*I29,2) -> 0 | O29: =ROUND(J29*F29,2) -> 0 | P29: =ROUND(K29*F29,2) -> 0 | Q29: =SUM(N29:P29) -> 0
B30: 16 | C30: L.c. | D30: Difīzijas membrānas ieklāšana, piespiedējlatas un koka latojuma ieklāsana, plaknes izlīdzināšana | E30: m² | F30: 640 | K30: =ROUND(0.1*I30,2) -> 0 | L30: =SUM(I30:K30) -> 0 | M30: =ROUND(F30*G30,2) -> 0 | N30: =ROUND(F30*I30,2) -> 0 | O30: =ROUND(J30*F30,2) -> 0 | P30: =ROUND(K30*F30,2) -> 0 | Q30: =SUM(N30:P30) -> 0
B31: 17 | D31: Latas 50 mm- apstrāde ar antiseptiķi | E31: m² | F31: =F30 -> 640 | I31: =ROUND(H31*G31,2) -> 0 | K31: =ROUND(0.1*I31,2) -> 0 | L31: =SUM(I31:K31) -> 0 | M31: =ROUND(F31*G31,2) -> 0 | N31: =ROUND(F31*I31,2) -> 0 | O31: =ROUND(J31*F31,2) -> 0 | P31: =ROUND(K31*F31,2) -> 0 | Q31: =SUM(N31:P31) -> 0
B32: 18 | D32: Latojums 50x50; 50x90 mm, ķīllatas - apstrāde ar antiseptiķi | E32: m² | F32: =F30 -> 640 | I32: =ROUND(H32*G32,2) -> 0 | K32: =ROUND(0.1*I32,2) -> 0 | L32: =SUM(I32:K32) -> 0 | M32: =ROUND(F32*G32,2) -> 0 | N32: =ROUND(F32*I32,2) -> 0 | O32: =ROUND(J32*F32,2) -> 0 | P32: =ROUND(K32*F32,2) -> 0 | Q32: =SUM(N32:P32) -> 0
B33: 19 | D33: Būvkalumi, stiprinājumi, palīgmateriāli | E33: m² | F33: =F30 -> 640 | I33: =ROUND(H33*G33,2) -> 0 | K33: =ROUND(0.1*I33,2) -> 0 | L33: =SUM(I33:K33) -> 0 | M33: =ROUND(F33*G33,2) -> 0 | N33: =ROUND(F33*I33,2) -> 0 | O33: =ROUND(J33*F33,2) -> 0 | P33: =ROUND(K33*F33,2) -> 0 | Q33: =SUM(N33:P33) -> 0
B34: 20 | C34: L.c. | D34: Jauna dakstiņu jumta seguma ieklāšana, pieslēgumu zonu hermetizēšana, kores, sateku utt.,kompleksa jumta atjaunošana | E34: m² | F34: =F30 -> 640 | K34: =ROUND(0.1*I34,2) -> 0 | L34: =SUM(I34:K34) -> 0 | M34: =ROUND(F34*G34,2) -> 0 | N34: =ROUND(F34*I34,2) -> 0 | O34: =ROUND(J34*F34,2) -> 0 | P34: =ROUND(K34*F34,2) -> 0 | Q34: =SUM(N34:P34) -> 0
B35: 21 | D35: Kores brusa 60x40 mm | E35: m | F35: 73.3 | I35: =ROUND(H35*G35,2) -> 0 | K35: =ROUND(0.1*I35,2) -> 0 | L35: =SUM(I35:K35) -> 0 | M35: =ROUND(F35*G35,2) -> 0 | N35: =ROUND(F35*I35,2) -> 0 | O35: =ROUND(J35*F35,2) -> 0 | P35: =ROUND(K35*F35,2) -> 0 | Q35: =SUM(N35:P35) -> 0
B36: 22 | D36: Rindu dakstiņš Erlus E58 | E36: gb. | F36: 9216 | I36: =ROUND(H36*G36,2) -> 0 | K36: =ROUND(0.1*I36,2) -> 0 | L36: =SUM(I36:K36) -> 0 | M36: =ROUND(F36*G36,2) -> 0 | N36: =ROUND(F36*I36,2) -> 0 | O36: =ROUND(J36*F36,2) -> 0 | P36: =ROUND(K36*F36,2) -> 0 | Q36: =SUM(N36:P36) -> 0
B37: 23 | D37: Kores dakstiņš Nr. 18 | E37: gb. | F37: 200 | I37: =ROUND(H37*G37,2) -> 0 | K37: =ROUND(0.1*I37,2) -> 0 | L37: =SUM(I37:K37) -> 0 | M37: =ROUND(F37*G37,2) -> 0 | N37: =ROUND(F37*I37,2) -> 0 | O37: =ROUND(J37*F37,2) -> 0 | P37: =ROUND(K37*F37,2) -> 0 | Q37: =SUM(N37:P37) -> 0
B38: 24 | D38: Gludā loksne RAL 8019 jumta izbūvju vējmalu izveidei | E38: m² | F38: 19 | I38: =ROUND(H38*G38,2) -> 0 | K38: =ROUND(0.1*I38,2) -> 0 | L38: =SUM(I38:K38) -> 0 | M38: =ROUND(F38*G38,2) -> 0 | N38: =ROUND(F38*I38,2) -> 0 | O38: =ROUND(J38*F38,2) -> 0 | P38: =ROUND(K38*F38,2) -> 0 | Q38: =SUM(N38:P38) -> 0
B39: 25 | D39: Valcprofils RAL 8019; 0,5 mm Pural pārklājums (≥25) | E39: m² | F39: 70 | I39: =ROUND(H39*G39,2) -> 0 | K39: =ROUND(0.1*I39,2) -> 0 | L39: =SUM(I39:K39) -> 0 | M39: =ROUND(F39*G39,2) -> 0 | N39: =ROUND(F39*I39,2) -> 0 | O39: =ROUND(J39*F39,2) -> 0 | P39: =ROUND(K39*F39,2) -> 0 | Q39: =SUM(N39:P39) -> 0
B40: 26 | D40: Skārda lāsenis, ķieģeļsarkans RAL 8019 AR-10 | E40: m | F40: 64 | I40: =ROUND(H40*G40,2) -> 0 | K40: =ROUND(0.1*I40,2) -> 0 | L40: =SUM(I40:K40) -> 0 | M40: =ROUND(F40*G40,2) -> 0 | N40: =ROUND(F40*I40,2) -> 0 | O40: =ROUND(J40*F40,2) -> 0 | P40: =ROUND(K40*F40,2) -> 0 | Q40: =SUM(N40:P40) -> 0
B41: 27 | D41: kores dakstiņš Y | E41: gb. | F41: 2 | I41: =ROUND(H41*G41,2) -> 0 | K41: =ROUND(0.1*I41,2) -> 0 | L41: =SUM(I41:K41) -> 0 | M41: =ROUND(F41*G41,2) -> 0 | N41: =ROUND(F41*I41,2) -> 0 | O41: =ROUND(J41*F41,2) -> 0 | P41: =ROUND(K41*F41,2) -> 0 | Q41: =SUM(N41:P41) -> 0
B42: 28 | D42: Slīpās kores sākums | E42: gb. | F42: 8 | I42: =ROUND(H42*G42,2) -> 0 | K42: =ROUND(0.1*I42,2) -> 0 | L42: =SUM(I42:K42) -> 0 | M42: =ROUND(F42*G42,2) -> 0 | N42: =ROUND(F42*I42,2) -> 0 | O42: =ROUND(J42*F42,2) -> 0 | P42: =ROUND(K42*F42,2) -> 0 | Q42: =SUM(N42:P42) -> 0
...
