Workbook
Name A: '[1]2'!$A$1
Name P: #REF!
Name P: #REF!
Name P: #REF!
Name P: #REF!
Name P: #REF!
Name P: #REF!
Name P: #REF!
Name P: #REF!
Name P: #REF!
Name P: #REF!
Name P: #REF!
Name P: #REF!
Name P: #REF!

Sheet 1,1
B1: Būvdarbu apjomu saraksts Nr. | E1: =MID(CELL("filename",B1), FIND("]", CELL("filename",B1))+ 1, 255) -> 1,1
B2: =D13 -> Demontāžas darbi
B3: Būves nosaukums: | D3: Ēkas pārbūve un teritorijas labiekārtošana
B4: Objekta nosaukums: | D4: Ēkas pārbūve un teritorijas labiekārtošana(Lietotāja līdzekļi)
B5: Objekta adrese: | D5: Citadeles iela 7, Rīga
B6: Pasūtījuma Nr. | D6: n
B7: Apjomi sastādīti pamatojoties uz SIA „Baltex Group” būvprojekta rasējumiem un specifikācijām
D9: Apjomi sastādīti: 2023.gada 11. maijs
B11: Nr.p.k. | D11: Darba nosaukums | E11: Mērvienība | F11: Daudzums
D13: Demontāžas darbi
B14: 1 | D14: Sienas demontāža t.sk. Būvgružu izvešana , nodošana pārstrādei | E14: m3 | F14: =27.8+38.2+24.9+9 -> 99.9
B15: 2 | D15: Grīdas(Grīdas izņemšana vestibilā un 1. st WC~ 200mm dziļumā + kāpņu podesta demontāža) demontāža t.sk. Būvgružu izvešana , nodošana pārstrādei | E15: m3 | F15: 21
B16: 3 | D16: Piekārto griesti(Tipveida piekārtie griesti 600x600 paneļi iekārta metāla profilos, ar iebūvētajiem gaismekļiem) demontāža t.sk. Būvgružu izvešana , nodošana pārstrādei | E16: m2 | F16: =207.6+283.2+228.7 -> 719.5
B17: 4 | D17: Grīdas(Grīdas nenesošā slāņa (smiltis, betons), b~ 350mm izņemšana līdz nesošajām betona plātnēm demontāža) t.sk. Būvgružu izvešana , nodošana pārstrādei | E17: m3 | F17: 90
B18: 5 | D18: Grīdas(Koka siju virslatas , grīdas segumu plāksnes,latas 2. stāva melnajiem griestiem, piebērums starp sijām) t.sk. Būvgružu izvešana , nodošana pārstrādei | E18: m3 | F18: 57.2
B19: 6 | D19: Grīdas(Grīdas nenesošā slāņa (keramzīta piebērums, b~ 300mm+ nenesošā betona grīdasplāksnes, b~100mm) izņemšana.) t.sk. Būvgružu izvešana , nodošana pārstrādei | E19: m3 | F19: 110
B20: 7 | D20: Grīdas(Nesošais dzelzsbetons starp nesošajiem metāla profiliem, b~200 mm) izņemšana.) t.sk. Būvgružu izvešana , nodošana pārstrādei | E20: m3 | F20: 55
B21: 8 | D21: Santehnikas iekārtu(7 izlietnes+7 klozetpodi) demontāža t.sk. Būvgružu izvešana , nodošana pārstrādei | E21: gb | F21: 14
B22: 9 | D22: Visu esošo logu iekšējo palodžu demontāža t.sk. Būvgružu izvešana , nodošana pārstrādei | E22: gb | F22: 43
B23: 10 | D23: Visu esošo apkures radiatoru demontāža t.sk. Būvgružu izvešana , nodošana pārstrādei | E23: gb | F23: 43
B24: 11 | D24: Visu esošo durvju demontāža(Vidējais kārbas izmērs ~ 1000x2200 mm) t.sk. Būvgružu izvešana , nodošana pārstrādei | E24: gb | F24: 43
B25: 12 | D25: Dažādu konstrukciju demontāža t.sk. Būvgružu izvešana , nodošana pārstrādei | E25: m3 | F25: 15
B26: 13 | D26: Apmetuma demontāža fasādei, fasādes kolonnām t.sk. Būvgružu izvešana , nodošana pārstrādei | E26: m2 | F26: 82
B27: 14 | D27: Esošo inženierkomunikāciju demontāža(Tai skaitā bēniņos esošās, nefunkcionējošās ventiekārtas. Nav nepieciešams demontēt sienās iebūvētos vadus un cauruļvadus, ja tie netraucē jaunajām inženiertīklu instalācijām.) t.sk. Būvgružu izvešana , nodošana pārstrādei | E27: kpl | F27: 1
E29: Kopā
C31: Piezīmes:
B32: Visas atsauces uz materiālu un izstrādājumu izgatavotaj firmām, kuras norādītas būvprojektā, liecina tikai par šo materiālu un izstrādājumu tehniskajiem parametriem un kvalitātes līmeni, to nomaiņa ir iespējama ar citiem tehniski un kvalitatīvi ekvivalentiem būvizstrādājumiem, iepriekš saskaņojot tos ar projekta autoriem un uzrādot atbilstības sertifikātus.
B35: Sastādīja:
D36: Arnis Gailītis
D37: Sertifikāta Nr.20-5643
B40: Pārbaudīja:
D41: Dzintra Cīrule
D42: Sertifikāta Nr.10-0363

Sheet 1,4
B1: Būvdarbu apjomu saraksts Nr. | E1: =MID(CELL("filename",B1), FIND("]", CELL("filename",B1))+ 1, 255) -> 1,4
B2: =D13 -> Sienas
B3: Būves nosaukums: | D3: ='1,1'!D3 -> Ēkas pārbūve un teritorijas labiekārtošana
B4: Objekta nosaukums: | D4: ='1,1'!D4 -> Ēkas pārbūve un teritorijas labiekārtošana(Lietotāja līdzekļi)
B5: Objekta adrese: | D5: ='1,1'!D5:H5 -> Citadeles iela 7, Rīga
B6: Pasūtījuma Nr. | D6: ='1,1'!D6 -> n
B7: ='1,1'!B7:H7 -> Apjomi sastādīti pamatojoties uz SIA „Baltex Group” būvprojekta rasējumiem un specifikācijām
D9: ='1,1'!D9 -> Apjomi sastādīti: 2023.gada 11. maijs
B11: Nr.p.k. | D11: Darba nosaukums | E11: Mērvienība | F11: Daudzums
D13: Sienas
B14: 0 | D14: S 1.1
B15: 1 | D15: Gipškartona starpsienu karkasa (100mm) izbūve Knauf W626 karkasa sistēma. UW,CW profila , Skrūves, stiprinājumi, | E15: m2 | F15: 255.56
B16: 2 | D16: Vates iestrāde karkasā skaņas izolācijai. Skaņas izolācijas plāksnes 100 mm | E16: m2 | F16: 255.56
B17: 3 | D17: Karkasu apšūšana ar ģipškartonu. Ģipškartona plātne GKB Knauf vai ekvivalents ; Knauf skrūves TN 25, vai ekvivalents | E17: m2 | F17: =F16*2 -> 511.12
B18: 0 | D18: S 1.1a
B19: 4 | D19: Gipškartona starpsienu karkasa (100mm) izbūve Knauf W626 karkasa sistēma. UW,CW profila , Skrūves, stiprinājumi, | E19: m2 | F19: 42.44
B20: 5 | D20: Vates iestrāde karkasā skaņas izolācijai. Skaņas izolācijas plāksnes 100 mm | E20: m2 | F20: 42.44
B21: 6 | D21: Karkasu apšūšana ar ģipškartonu. Ģipškartona plātne Blue GKFI Knauf vai ekvivalents ; Knauf skrūves TN 25, vai ekvivalents | E21: m2 | F21: =F20*2 -> 84.88
B22: 0 | D22: S 1.2
B23: 7 | D23: Gipškartona starpsienu karkasa (75mm) izbūve Knauf W626 karkasa sistēma. UW,CW profila , Skrūves, stiprinājumi, | E23: m2 | F23: 19.59
B24: 8 | D24: Vates iestrāde karkasā skaņas izolācijai. Skaņas izolācijas plāksnes 75 mm | E24: m2 | F24: 19.59
B25: 9 | D25: Karkasu apšūšana ar ģipškartonu. Ģipškartona plātne RED GKF Knauf vai ekvivalents ; Knauf skrūves , vai ekvivalents | E25: m2 | F25: 19.59
E27: Kopā
C29: ='1,1'!C31 -> Piezīmes:
B30: ='1,1'!B32:H32 -> Visas atsauces uz materiālu un izstrādājumu izgatavotaj firmām, kuras norādītas būvprojektā, liecina tikai par šo materiālu un izstrādājumu tehniskajiem parametriem un kvalitātes līmeni, to nomaiņa ir iespējama ar citiem tehniski un kvalitatīvi ekvivalentiem būvizstrādājumiem, iepriekš saskaņojot tos ar projekta autoriem un uzrādot atbilstības sertifikātus.
B33: Sastādīja:
D34: Arnis Gailītis
D35: Sertifikāta Nr.20-5643
B38: ='1,1'!B40 -> Pārbaudīja:
D39: ='1,1'!D41 -> Dzintra Cīrule
D40: ='1,1'!D42 -> Sertifikāta Nr.10-0363

Sheet 1,8
B1: Būvdarbu apjomu saraksts Nr. | E1: =MID(CELL("filename",B1), FIND("]", CELL("filename",B1))+ 1, 255) -> 1,8
B2: =D13 -> Grīdas
B3: Būves nosaukums: | D3: ='1,1'!D3 -> Ēkas pārbūve un teritorijas labiekārtošana
B4: Objekta nosaukums: | D4: ='1,1'!D4 -> Ēkas pārbūve un teritorijas labiekārtošana(Lietotāja līdzekļi)
B5: Objekta adrese: | D5: ='1,1'!D5:H5 -> Citadeles iela 7, Rīga
B6: Pasūtījuma Nr. | D6: ='1,1'!D6 -> n
B7: ='1,1'!B7:H7 -> Apjomi sastādīti pamatojoties uz SIA „Baltex Group” būvprojekta rasējumiem un specifikācijām
D9: ='1,1'!D9 -> Apjomi sastādīti: 2023.gada 11. maijs
B11: Nr.p.k. | D11: Darba nosaukums | E11: Mērvienība | F11: Daudzums
D13: Grīdas
B14: 0 | D14: G1.1 Grīda uz grunts
B15: 1 | D15: Estrich betona klona slāņa ieklāšana 50 mm | E15: m2 | F15: 176.23
B16: 0 | D16: G1.2 Grīda uz grunts siltināta
B17: 2 | D17: Estrich betona klona slāņa ieklāšana 50 mm | E17: m2 | F17: 47.09
B18: 3 | D18: Siltumizolācijas ierīkošana; Ekstrudētais putupolistirols 100 mm | E18: m2 | F18: 47.09
B19: 0 | D19: G2.1 1. stāva pārsegums
B20: 4 | D20: Estrich betona klona slāņa ieklāšana 60 mm | E20: m2 | F20: =242.59+45.41 -> 288
B21: 5 | D21: ThermoWhite izolācijas ierīkošana; 190 mm | E21: m2 | F21: =242.59+45.41 -> 288
B22: 0 | D22: G3.1 2. stāva pārsegums
B23: 6 | D23: Izolācijas no vates ierīkošana, piem., Paroc (b=100)vai ekvivalents | E23: m2 | F23: 302.76
D24: Nesošo koka konstrukciju-sijas izgatavošana un montāža sagatavotas atbilstoši BK norādījumiem t.sk. Palīgmateriāli. Kokmateriālu klase Apstrādātas ar antiseptiķi-antipirēnu | E24: iekļauts sadaļā "pārsegumi" VNĪ daļā
B25: 7 | D25: Latojuma ierīkošana. Latojums 45x45mm s.800 mm, stiprinājumi | E25: m2 | F25: 302.76
B26: 8 | D26: OSB plāksnes apšuvums 15 mm t.sk. Stiprinājumi | E26: m2 | F26: 302.76
B27: 9 | D27: Tvaika caurlaidīga papīra ieklāšana | E27: m2 | F27: 302.76
B28: 10 | D28: Ģipškartona plātnes ieklāšana Knauf Brown vai ekvivalents ; palīgmateriāli | E28: m2 | F28: 302.76
B29: 11 | D29: Ģipškartona plātnes ieklāšana Knauf Brown vai ekvivalents ; palīgmateriāli | E29: m2 | F29: 302.76
B30: 0 | D30: G4.1 3. stāva pārsegums
B31: 12 | D31: Izolācijas no vates ierīkošana, piem., Paroc (b=200)vai ekvivalents | E31: m2 | F31: 285.49
B32: 0 | D32: Lewis loksnes ieklāšana 16 mm t.sk. Palīgmateriāli | E32: iekļauts sadaļā "pārsegumi" VNĪ daļā
B33: 0 | D33: Smalkas frakcijas betona B25 kārtas ierīkošana 64 mm | E33: iekļauts sadaļā "pārsegumi" VNĪ daļā
B34: 0 | D34: Grīdu apdare
B35: 13 | D35: Grīdu izlīdzināšana ar pašizlīdzinošo sastāvu Pašizlīdzinošā masa grīdām (piem., Baumit Nivello 10) ~3mm | E35: m2 | F35: =F36+F37+F38 -> 624.1
B36: 14 | D36: Vinila seguma ieklāšana t.sk. palīgmateriāl,Homogēns, strāvu izkliedējošs vinila grīdas segums Forbo Sphera SD - Biezums 2.0mm, 34/43 klase, - Pretslīde R9, virsmas apstrāde Smart TOP, - Kopējais svars - 2 900g/m² - Paliekošais iespiedums: vidējā izmērītā vērtība 0.03mm - Izmēru stabilitāte 0,20%, Ugunsdrošība Bfl-s1 | E36: m2 | F36: 6.8
B37: 15 | D37: Vinila seguma ieklāšana t.sk. palīgmateriāl,Heterogēns vinila grīdas segums Allura (LVT) - Flīzes izmērs: 500x500mm - Biezums 2.50mm, nodiluma slāņa biezums 0.70mm, 34/43 klase - Kopējais svars - 3600g/m², - Pretslīde R10, izmēru stabilitāte < 0,10% - PUR aizsargslānis, - Ugunsdrošība: Bfl-s1, - Trieciena trokšņa slāpēšana ≤ 6 dB - Paliekošais iespiedums: vidējā izmērītā vērtība 0.10 mm | E37: m2 | F37: =24.68+13.36 -> 38.04
B38: 16 | D38: Paklāja seguma ieklāšana t.sk. palīgmateriāl,Cilpveida Paklājflīžu grīdas segums Modulyss - Pamatne: back2back, 100% pārstrādāts bitumens, - Šķiedras materiāls: 100% PA6 - Šķiedras svars: 605g/m2, - Kopējais augstums: 6.6mm, šķiedru augstums: 3.1mm, dūrienu skaits 218000/m2, - Izmērs 500x500mm, izmēru stabilitāte 0,20%, - Trieciena trokšņa slāpēšana:23dB - Nodilumizturības klase: 33-LC1, - Ugunsdrošība Bfl-s1 | E38: m2 | F38: =90.65+259.6+229.01 -> 579.26
B39: 17 | D39: Hidroizolācija no uzziežamas membrānas Knauf Flachendicht F Kaučuka hidroizolācija vai ekvivalents | E39: m2 | F39: =F42+F41+F40 -> 145.71
B40: 18 | D40: Flīžu seguma ierīkošana. akmens masas grīdas flīzes t.sk.palīgmateriāli Pirmās šķiras akmens masas flīze REFIN Foil - Izmērs 600 x 600mm - Biezums: 9mm, Pretslīde:R10 - Rektificēta - Ķīmiskā izturība – Min. A - Artikuls: NQ40 | E40: m2 | F40: =60.88+21.1 -> 81.98
B41: 19 | D41: Flīžu seguma ierīkošana. akmens masas grīdas flīzes t.sk.palīgmateriāli Pirmās šķiras pilnas akmens masas flīze RAKO Taurus Granit - Izmērs 298 x 298mm - Biezums: 9mm, Pretslīde:R9/A - Noturība pret izlieci – Min. 35N/mm2 - Ķīmiskā izturība – Min. A | E41: m2 | F41: =46.13 -> 46.13
B42: 20 | D42: Flīžu seguma ierīkošana. akmens masas grīdas flīzes t.sk.palīgmateriāli Pirmās šķiras pilnas akmens masas flīze RAKO Taurus color - Izmērs 198 x 198mm - Biezums: 9mm, - Pretslīde:R10/A - Ūdens absorbcija – E < 2.5% - Noturība pret izlieci – Min. 35N/mm2 - Izturība pret netīrumiem – Min. Cl. 3 - Ķīmiskā izturība – Min. A | E42: m2 | F42: =7.58+5.8+4.22 -> 17.6
B43: 21 | D43: Betona grīdas pulēšana un virsmas cietinoša sastāva iestrāde | E43: m2 | F43: 192.97
B44: 22 | D44: Kājslauķa ierīkošana t.sk. palīgmateriāl,Iebūvējamais - Forbo Nuway Connect (closed with ultragrip rubber inserts) - Biezums: 17 mm - Materiāls: anodēts alumīnijs/ 100% EPDM gumija - Max stat.slodze: 100 kg/cm2 - Max din.slodze: 100 kg/cm2 - Rāmja materiāls: Alumīnijs | E44: m2 | F44: 6.64
B45: 23 | D45: Kājslauķa ierīkošana t.sk. palīgmateriāl,Iebūvējamais - Iebūvējamais - Forbo Nuway Connect (closed with bristle & coral classic inserts) - Biezums: 17 mm - Materiāls: anodēts alumīnijs/ 100% BCF poliamīds gan birstēm, gan paklāja joslām - Max stat.slodze: 100 kg/cm2 - Max din.slodze: 50 kg/cm2 - Rāmja materiāls: Alumīnijs - Maks. moduļa platums: 3000mm - Maks. moduļa svars: 23kg - Ugunsdrošības klase: Bfls1 - Konstrukcijas materiāls: Rāmja materiāls – Anodēts alumīnija profils ar PVC savienojumiem un nerūsējošā tērauda stieplēm - Kājslauķa materiāls: 100% poliamīds | E45: m2 | F45: 4.45
B46: 24 | D46: Grīdlīstes uzstādīšana. Krāsotas MDF, vienkārša profila, h=90 mm, tonis - tumši pelēks | E46: m | F46: 389.203
B47: 25 | D47: Grīdlīstes uzstādīšana.100 mm akmens masas grīdas flīzes t.sk.palīgmateriāli | E47: m | F47: =61.34+15.615+19.58 -> 96.535
B48: 26 | D48: Grīdlīstes ierīkošana 100 mm t.sk. palīgmateriāli, vinila grīdas segums | E48: m | F48: =23.9+12.61 -> 36.51
B49: 27 | D49: Grīdlīstes ierīkošana 100 mm t.sk. Palīgmateriāli, strāvu izkliedējošs vinila grīdas segums | E49: m | F49: =23.39 -> 23.39
E51: Kopā
C53: ='1,1'!C31 -> Piezīmes:
B54: ='1,1'!B32:H32 -> Visas atsauces uz materiālu un izstrādājumu izgatavotaj firmām, kuras norādītas būvprojektā, liecina tikai par šo materiālu un izstrādājumu tehniskajiem parametriem un kvalitātes līmeni, to nomaiņa ir iespējama ar citiem tehniski un kvalitatīvi ekvivalentiem būvizstrādājumiem, iepriekš saskaņojot tos ar projekta autoriem un uzrādot atbilstības sertifikātus.
B57: Sastādīja:
D58: Arnis Gailītis
D59: Sertifikāta Nr.20-5643
B62: ='1,1'!B40 -> Pārbaudīja:
D63: ='1,1'!D41 -> Dzintra Cīrule
D64: ='1,1'!D42 -> Sertifikāta Nr.10-0363

Sheet 1,9
B1: Būvdarbu apjomu saraksts Nr. | E1: =MID(CELL("filename",B1), FIND("]", CELL("filename",B1))+ 1, 255) -> 1,9
B2: =D13 -> Ailu aizpildījuma elementi
B3: Būves nosaukums: | D3: ='1,1'!D3 -> Ēkas pārbūve un teritorijas labiekārtošana
B4: Objekta nosaukums: | D4: ='1,1'!D4 -> Ēkas pārbūve un teritorijas labiekārtošana(Lietotāja līdzekļi)
B5: Objekta adrese: | D5: ='1,1'!D5:H5 -> Citadeles iela 7, Rīga
B6: Pasūtījuma Nr. | D6: ='1,1'!D6 -> n
B7: ='1,1'!B7:H7 -> Apjomi sastādīti pamatojoties uz SIA „Baltex Group” būvprojekta rasējumiem un specifikācijām
D9: ='1,1'!D9 -> Apjomi sastādīti: 2023.gada 11. maijs
B11: Nr.p.k. | D11: Darba nosaukums | E11: Mērvienība | F11: Daudzums
C13: 0 | D13: Ailu aizpildījuma elementi
B14: 1 | D14: Iekšējo palodžu montāža t.sk. Stiprinājumi Laminēts mitrumizturīgs finieris ar perforējumu siltā gaisa cirkulācijai, 2900x630x24(b)mm | E14: gb | F14: 4
B15: 2 | D15: Iekšējo palodžu montāža t.sk. Stiprinājumi Laminēts mitrumizturīgs finieris, 950x250x24(b) mm | E15: gb | F15: 2
B16: 3 | D16: Iekšējo palodžu montāža t.sk. Stiprinājumi Dabiska koka palodzes, beicētas, 1300x700x~30(b)mm | E16: gb | F16: 24
B17: 4 | D17: Iekšējo palodžu montāža t.sk. Stiprinājumi Dabiska koka palodzes, beicētas, 1100x600x~30(b)mm, | E17: gb | F17: 13
B18: 5 | D18: Ārējo skārda palodžu montāža t.sk. blīvējums , stiprinājumi, palīgmateriāli | E18: m | F18: 72.7
B19: 6 | D19: Ārdurvju remonts saskaņā ar AR-5.1 AD-01 1,1x2,53m t.sk.Montāžas materiāli (blīvējošs materiāls, stiprinājumi u.c.) Remontēt, atjaunot krāsojumu. Piekļuves kontrole. Evakuācijas durvis - viegli atveramas no telpas iekšpuses bez aizkavējuma un šķēršļiem, aprīkotas ar pašaizvēršanās mehānismu. Ne mazākā kā 4. atkārtotas atvēršanas/aizvēršanas izturības klase. Ūdens necaurlaidības klase ne zemāka par 7B | E19: gb | F19: 1
B20: 7 | D20: Ārdurvju montāža saskaņā ar AR-5.1 AD-02 1,8x3,142m t.sk.Montāžas materiāli (blīvējošs materiāls, stiprinājumi u.c.) Remontēt, atjaunot krāsojumu. Evakuācijas durvis - viegli atveramas no telpas iekšpuses bez aizkavējuma un šķēršļiem, aprīkotas ar pašaizvēršanās mehānismu. Ne mazākā kā 4. atkārtotas atvēršanas/aizvēršanas izturības klase. Ūdens necaurlaidības klase ne zemāka par 7B | E20: gb | F20: 1
B21: 8 | D21: Iekšdurvju montāža saskaņā ar AR-5.2 | E21: gb | F21: 71.4
B22: 0 | D22: D1-01 ( 1,05x2,3 m) | E22: gb. | F22: 1
B23: 0 | D23: D1-02 ( 1x2,1 m) | E23: gb. | F23: 1
B24: 0 | D24: D1-03 ( 1x2,1 m) | E24: gb. | F24: 1
B25: 0 | D25: D1-04 ( 1x2,1 m) | E25: gb. | F25: 1
... B60: 9 | D60: Esošās bēniņu lūkas remonts Vērtnēm un kārbai notīrama esošā krāsa un atjaunojams krāsojums. Tonis RAL 7037 Precizēt autoruzraudzības stadijā veicot paraugkrāsojumu uz vietas. | E60: kpl | F60: 1
E62: Kopā
C64: ='1,1'!C31 -> Piezīmes:
B65: ='1,1'!B32:H32 -> Visas atsauces uz materiālu un izstrādājumu izgatavotaj firmām, kuras norādītas būvprojektā, liecina tikai par šo materiālu un izstrādājumu tehniskajiem parametriem un kvalitātes līmeni, to nomaiņa ir iespējama ar citiem tehniski un kvalitatīvi ekvivalentiem būvizstrādājumiem, iepriekš saskaņojot tos ar projekta autoriem un uzrādot atbilstības sertifikātus.
B68: Sastādīja:
D69: Arnis Gailītis
D70: Sertifikāta Nr.20-5643
B73: ='1,1'!B40 -> Pārbaudīja:
D74: ='1,1'!D41 -> Dzintra Cīrule
D75: ='1,1'!D42 -> Sertifikāta Nr.10-0363

Sheet 1,10
B1: Būvdarbu apjomu saraksts Nr. | E1: =MID(CELL("filename",B1), FIND("]", CELL("filename",B1))+ 1, 255) -> 1,10
B2: =D13 -> Iekšējie apdares darbi
B3: Būves nosaukums: | D3: ='1,1'!D3 -> Ēkas pārbūve un teritorijas labiekārtošana
B4: Objekta nosaukums: | D4: ='1,1'!D4 -> Ēkas pārbūve un teritorijas labiekārtošana(Lietotāja līdzekļi)
B5: Objekta adrese: | D5: ='1,1'!D5:H5 -> Citadeles iela 7, Rīga
B6: Pasūtījuma Nr. | D6: ='1,1'!D6 -> n
B7: ='1,1'!B7:H7 -> Apjomi sastādīti pamatojoties uz SIA „Baltex Group” būvprojekta rasējumiem un specifikācijām
D9: ='1,1'!D9 -> Apjomi sastādīti: 2023.gada 11. maijs
B11: Nr.p.k. | D11: Darba nosaukums | E11: Mērvienība | F11: Daudzums
C13: 0 | D13: Iekšējie apdares darbi
B14: 0 | D14: Griesti
B15: 1 | D15: Griestu metāla karkasa uzstādīšana, Skrūves, stiprinājumi, Knauf sistēma | E15: m2 | F15: =267.65+258.86 -> 526.51
B16: 2 | D16: Karkasu apšūšana ar ģipškartonu (1kārta). Ģipškartona plātne RED GKF Knauf vai ekvivalents ; Knauf skrūves vai ekvivalents | E16: m2 | F16: =F15 -> 526.51
B17: 3 | D17: Griestu apmetuma ierīkošana ar Knauf Vermiplaster | E17: m2 | F17: 196.1
B18: 4 | D18: Griestu špaktelēšana, slīpēšana , Vetonit vai ekvivalents špaktele, smilšpapīrs | E18: m2 | F18: =F17+F16 -> 722.61
B19: 5 | D19: Sagatavotu griestu gruntēšana | E19: m2 | F19: =F18 -> 722.61
B20: 6 | D20: Sagatavotu griestu krāsošana ar krāsām 2k. Balta, matēta t.sk. Visas inženierkomunikācijas un gala iekārtas (atklātās) krāsošana baltas,analogā tonī griestu plaknei | E20: m2 | F20: =F19 -> 722.61
B21: 7 | D21: Piekārto griestu ierīkošana. Balti akustisko griestu paneļi Rockfon® Eclipse, 1160x1160x40mm; t.sk. Stiprinājumi, palīgmateriāli | E21: m2 | F21: =13.86+35.64+30.87 -> 80.37
B22: 0 | D22: Sienas
B23: 8 | D23: Sienu apmetuma ierīkošana ar Baumit MPI 25(b=10) (vai ekvivalentu) | E23: m2 | F23: =F24+F28 -> 2034.79
B24: 9 | D24: Sienu špaktelēšana, slīpēšana t.sk. Ailu apmales. , Vetonit vai ekvivalents špaktele, smilšpapīrs | E24: m2 | F24: =F25 -> 1855.58
B25: 10 | D25: Sagatavotu sienu gruntēšana t.sk. Ailu apmales | E25: m2 | F25: =F26+F27 -> 1855.58
B26: 11 | D26: Sagatavotu sienu krāsošana ar tonētām krāsām 2k. krāsota , Sienu krāsa krāsa pusmatēta (spīduma koeficients 7) ūdens dispersijas akrilāta krāsa, iztur līdz 2000–10000 tīrīšanas ciklus t.sk. Ailu apmales | E26: m2 | F26: =275.57+106.19+95.68 -> 477.44
B27: 12 | D27: Sagatavotu sienu krāsošana ar tonētām krāsām 2k. krāsota , krāsots, pelēks dekoratīvais krāsojums, visās telpās, izņemot sanitārajos mezglos, krāsa pusmatēta (spīduma koeficients 7) ūdens dispersijas akrilāta krāsa, iztur līdz 2000–10000 tīrīšanas ciklus | E27: m2 | F27: =296.85+607.68+473.61 -> 1378.14
B28: 13 | D28: Hidroizolācijas ierīkošana | E28: m2 | F28: =27.05+54.98+48.38+48.8 -> 179.21
B29: 14 | D29: Flīžu seguma ierīkošana saskaņā ar apdares darbu tabulu Pirmās šķiras keramiskās sienas flīze Rako Color One, krāsainas, precizēt IN daļā - Izmērs 198 x 198 - Biezums: 6mm - Ūdens absorbcija – E < 10% - Noturība pret izlieci – Min. 12N/mm2 - Izturība pret netīrumiem – Min. Cl. 3 - Ķīmiskā izturība – Min. GB - Virsma: mat ; Flīžu līme, šuvju mastika, palīgmateriāli | E29: m2 | F29: =F28 -> 179.21
E31: Kopā
C33: ='1,1'!C31 -> Piezīmes:
B34: ='1,1'!B32:H32 -> Visas atsauces uz materiālu un izstrādājumu izgatavotaj firmām, kuras norādītas būvprojektā, liecina tikai par šo materiālu un izstrādājumu tehniskajiem parametriem un kvalitātes līmeni, to nomaiņa ir iespējama ar citiem tehniski un kvalitatīvi ekvivalentiem būvizstrādājumiem, iepriekš saskaņojot tos ar projekta autoriem un uzrādot atbilstības sertifikātus.
B37: Sastādīja:
D38: Arnis Gailītis
D39: Sertifikāta Nr.20-5643
B42: ='1,1'!B40 -> Pārbaudīja:
D43: ='1,1'!D41 -> Dzintra Cīrule
D44: ='1,1'!D42 -> Sertifikāta Nr.10-0363

Sheet 1,12
B1: Būvdarbu apjomu saraksts Nr. | E1: =MID(CELL("filename",B1), FIND("]", CELL("filename",B1))+ 1, 255) -> 1,12
B2: =D13 -> Dažādi darbi
B3: Būves nosaukums: | D3: ='1,1'!D3 -> Ēkas pārbūve un teritorijas labiekārtošana
B4: Objekta nosaukums: | D4: ='1,1'!D4 -> Ēkas pārbūve un teritorijas labiekārtošana(Lietotāja līdzekļi)
B5: Objekta adrese: | D5: ='1,1'!D5:H5 -> Citadeles iela 7, Rīga
B6: Pasūtījuma Nr. | D6: ='1,1'!D6 -> n
B7: ='1,1'!B7:H7 -> Apjomi sastādīti pamatojoties uz SIA „Baltex Group” būvprojekta rasējumiem un specifikācijām
D9: ='1,1'!D9 -> Apjomi sastādīti: 2023.gada 11. maijs
B11: Nr.p.k. | D11: Darba nosaukums | E11: Mērvienība | F11: Daudzums
C13: 0 | D13: Dažādi darbi
B14: 1 | D14: Jaunā kāpņu posma izbūve saskaņā ar ARD- 0,1 | E14: kpl | F14: 1
B15: 2 | D15: Pilnstikla margas uzstādīšana b=10 mm | E15: kpl | F15: 1
B16: 3 | D16: Vertikālo auduma žalūziju uzstādīšana 2,8x2,9m AR 5.9 (atstarojošās) | E16: gb | F16: 4
B17: 4 | D17: Vertikālo auduma žalūziju uzstādīšana 2,5x0,95m AR 5.9 (atstarojošās) | E17: gb | F17: 2
B18: 5 | D18: Vertikālo auduma žalūziju uzstādīšana 2,0x1,3m AR 5.9 | E18: gb | F18: 20
B19: 5.1. | D19: Vertikālo auduma žalūziju uzstādīšana 2,0x1,3m AR 5.9 | E19: gb | F19: 5
B20: 6 | D20: Vertikālo auduma žalūziju uzstādīšana 1,3x1,13m AR 5.9 | E20: gb | F20: 8
B21: 6.1. | D21: Vertikālo auduma žalūziju uzstādīšana 1,3x1,13m AR 5.10 | E21: gb | F21: 5
E23: Kopā
C25: ='1,1'!C31 -> Piezīmes:
B26: ='1,1'!B32:H32 -> Visas atsauces uz materiālu un izstrādājumu izgatavotaj firmām, kuras norādītas būvprojektā, liecina tikai par šo materiālu un izstrādājumu tehniskajiem parametriem un kvalitātes līmeni, to nomaiņa ir iespējama ar citiem tehniski un kvalitatīvi ekvivalentiem būvizstrādājumiem, iepriekš saskaņojot tos ar projekta autoriem un uzrādot atbilstības sertifikātus.
B29: Sastādīja:
D30: Arnis Gailītis
D31: Sertifikāta Nr.20-5643
B34: ='1,1'!B40 -> Pārbaudīja:
D35: ='1,1'!D41 -> Dzintra Cīrule
D36: ='1,1'!D42 -> Sertifikāta Nr.10-0363

Sheet 1,13
B1: Būvdarbu apjomu saraksts Nr. | E1: =MID(CELL("filename",B1), FIND("]", CELL("filename",B1))+ 1, 255) -> 1,13
B2: =D13 -> Stiklotas starpsienas
B3: Būves nosaukums: | D3: ='1,1'!D3 -> Ēkas pārbūve un teritorijas labiekārtošana
B4: Objekta nosaukums: | D4: ='1,1'!D4 -> Ēkas pārbūve un teritorijas labiekārtošana(Lietotāja līdzekļi)
B5: Objekta adrese: | D5: ='1,1'!D5:H5 -> Citadeles iela 7, Rīga
B6: Pasūtījuma Nr. | D6: ='1,1'!D6 -> n
B7: ='1,1'!B7:H7 -> Apjomi sastādīti pamatojoties uz SIA „Baltex Group” būvprojekta rasējumiem un specifikācijām
D9: ='1,1'!D9 -> Apjomi sastādīti: 2023.gada 11. maijs
B11: Nr.p.k. | D11: Darba nosaukums | E11: Mērvienība | F11: Daudzums
C13: 0 | D13: Stiklotas starpsienas
B14: 0 | D14: Stiklotas starpsienas AR 5.3
B15: 1 | D15: SS 01 stiklotas iekšsienas montāža saskaņā ar AR-5.3 t.sk.Montāžas materiāli (blīvējošs materiāls, stiprinājumi u.c.), palīgmateriāli | E15: gb | F15: 1
B16: 2 | D16: SS 02 stiklotas iekšsienas montāža saskaņā ar AR-5.3 t.sk.Montāžas materiāli (blīvējošs materiāls, stiprinājumi u.c.), palīgmateriāli | E16: gb | F16: 1
B17: 3 | D17: SS 03 stiklotas iekšsienas montāža saskaņā ar AR-5.3 t.sk.Montāžas materiāli (blīvējošs materiāls, stiprinājumi u.c.), palīgmateriāli | E17: gb | F17: 1
B18: 4 | D18: SS 04 stiklotas iekšsienas montāža saskaņā ar AR-5.3 t.sk.Montāžas materiāli (blīvējošs materiāls, stiprinājumi u.c.), palīgmateriāli | E18: gb | F18: 1
B19: 5 | D19: SS 05 stiklotas iekšsienas montāža saskaņā ar AR-5.3 t.sk.Montāžas materiāli (blīvējošs materiāls, stiprinājumi u.c.), palīgmateriāli | E19: gb | F19: 1
B20: 6 | D20: SS 06 stiklotas iekšsienas montāža saskaņā ar AR-5.3 t.sk.Montāžas materiāli (blīvējošs materiāls, stiprinājumi u.c.), palīgmateriāli | E20: gb | F20: 1
E22: Kopā
C24: ='1,1'!C31 -> Piezīmes:
B25: ='1,1'!B32:H32 -> Visas atsauces uz materiālu un izstrādājumu izgatavotaj firmām, kuras norādītas būvprojektā, liecina tikai par šo materiālu un izstrādājumu tehniskajiem parametriem un kvalitātes līmeni, to nomaiņa ir iespējama ar citiem tehniski un kvalitatīvi ekvivalentiem būvizstrādājumiem, iepriekš saskaņojot tos ar projekta autoriem un uzrādot atbilstības sertifikātus.
B28: Sastādīja:
D29: Arnis Gailītis
D30: Sertifikāta Nr.20-5643
B33: ='1,1'!B40 -> Pārbaudīja:
D34: ='1,1'!D41 -> Dzintra Cīrule
D35: ='1,1'!D42 -> Sertifikāta Nr.10-0363

Sheet 2,7
B1: Būvdarbu apjomu saraksts Nr. | F1: =MID(CELL("filename",B1), FIND("]", CELL("filename",B1))+ 1, 255) -> 2,7
B2: =D13 -> Elektroinstalācija
B3: Būves nosaukums: | D3: ='1,1'!D3 -> Ēkas pārbūve un teritorijas labiekārtošana
B4: Objekta nosaukums: | D4: ='1,1'!D4 -> Ēkas pārbūve un teritorijas labiekārtošana(Lietotāja līdzekļi)
B5: Objekta adrese: | D5: ='1,1'!D5:H5 -> Citadeles iela 7, Rīga
B6: Pasūtījuma Nr. | D6: ='1,1'!D6 -> n
B7: ='1,1'!B7:H7 -> Apjomi sastādīti pamatojoties uz SIA „Baltex Group” būvprojekta rasējumiem un specifikācijām
D9: ='1,1'!D9 -> Apjomi sastādīti: 2023.gada 11. maijs
B11: Nr.p.k. | D11: Darba nosaukums | F11: Mērvienība | G11: Daudzums
B13: 0 | D13: Elektroinstalācija
D14: Montāžas un palaišanas darbi
B15: B | D15: Gaismekļi
D16: Pirms gaismekļu pasūtīšanas, saskaņot ar pasūtītāju un arhitektu norādījumiem precizēt - gaismekļu vizuālo skatu
B17: 1 | C17: G1 | D17: Iekārts LED ofisa gaismeklis ILO 50-P, 35W 3885Lum, 114Lum/W 4000K, IP20 IK02, 100`000h L80B20, tumši pelēks alumīnija korpuss, L-1546, B-62, W-50mm / vai ekvivalents | E17: Ledluks I500P0P5200E4010 | F17: gab. | G17: =9+4+2+9+15+9+6+4+6+4+3+1+9+9+12+9 -> 111
B18: 2 | C18: G2 | D18: Virsmas montāžas multijaudas hermētisks gaismeklis, Planox ECO LED, 37W, 3050lm/4950lm,4000K, 173°/111°, ar samazinātu virsmas temperatūru, HCCP, L-1369,B-61,H-50mm, IP66/ vai ekvivalents | E18: RZB 451218.009.19 | F18: gab. | G18: =5+1+2+4 -> 12
B19: 3 | C19: G3 | D19: Virsmas montāžas multijaudas hermētisks gaismeklis, Planox ECO LED, 22W, 3050lm/4950lm,4000K, 173°/111°, ar samazinātu virsmas temperatūru, HCCP, L-1369,B-61,H-50mm, IP66 / vai ekvivalents | E19: RZB 451218.009.19 | F19: gab. | G19: 8
B20: 4 | C20: G4 | D20: Iebūves LED gaismeklis Toledo Flat Round, 7.7W, 840Lum 110Lum/W 4000K, IP54 IK06, nedzeltējošs difuzors, tumši pelēks alumīnija korpuss, D-190mm, H-27mm / vai ekvivalents | E20: RZB 901452.002.1 | F20: gab. | G20: 18
B21: 5 | C21: G5 G6 | D21: Iekārts LED ofisa gaismeklis ILO 35-P, 28W 3038Lum 108Lum/W 4000K, IP20 IK02, 100`000h L80B20, tumši pelēks alumīnija korpuss, L-1266, B-62, W-35mm / vai ekvivalents | E21: Ledluks I350P0P4200E4010 | F21: gab. | G21: =8+9+2+6 -> 25
B22: 6 | C22: G7 | D22: Virsmas montāžas LED ofisa gaismeklis ILO 35-C, 14W, 1461Lum, 112Lum/W 4000K, IP20 IK02, 100`000h, L80B20, tumši pelēks alumīnija korpuss, L-846, B-62, W-35mm / vai ekvivalents | E22: Ledluks I350C0P3000L4010 | F22: gab. | G22: 1
B23: 7 | C23: G8 | D23: Iebūves LED gaismeklis Ledona ECO Round, 10W, 780Lum, 78Lum/W, 4000K, IP65, IK07, nedzeltējošs difuzors, tumši pelēks alumīnija korpuss, D-180mm, H-3mm / vai ekvivalents | E23: RZB 901452.002.1 | F23: gab. | G23: 3
B24: 8 | C24: G9 | D24: Virsmas montāžas gaismeklis ģērboņa apgaismošanai komplektācijā ar LED spuldzēm 2x3W 780Lum, 130Lum/W 4000K, IP20, bronzas metāla korpuss, L-250 x H-100 x P-220 mm/ vai ekvivalents | E24: Mirror-20 ap2 | F24: gab. | G24: 1
B25: 9 | C25: G10 | D25: Virsmas montāžas avārijas/evakuācijas izeju izgaismošanas NexiTech LED DOOR CG-S LED 5.5W, 9VA gaismeklis ar virziennorādes piktogrammu, IP40, ar akumulatora bateriju (60 min) | E25: EATON NexiTech LED DOOR | F25: gab. | G25: 15
B26: 10 | C26: G11 | D26: Virsmas montāžas avārijas/evakuācijas apgaismojuma GuideLed SL 1302x CG-S LED 3.9W 8VA gaismekļi antipanikas zonas un evakuācijas ceļu izgaismošanai, simetriska vai asimetriska optika, IP40, ar akumulatora bateriju (60 min) | E26: EATON GuideLed SL 1302x | F26: gab. | G26: 8
B27: 11 | C27: G12 | D27: Virsmas montāžas avārijas/evakuācijas apgaismojuma i- P65 Plus H CG-S, LED 10.7W 21.7VA gaismekļi antipanikas zonas, evakuācijas ceļu un augtsa riska zonu izgaismošanai, simetriska vai asimetriska optika, IP65, ar akumulatora bateriju (60 min) | E27: EATON i-P65 Plus H | F27: gab. | G27: 27
F29: Kopā
C31: ='1,1'!C31 -> Piezīmes:
B32: ='1,1'!B32:H32 -> Visas atsauces uz materiālu un izstrādājumu izgatavotaj firmām, kuras norādītas būvprojektā, liecina tikai par šo materiālu un izstrādājumu tehniskajiem parametriem un kvalitātes līmeni, to nomaiņa ir iespējama ar citiem tehniski un kvalitatīvi ekvivalentiem būvizstrādājumiem, iepriekš saskaņojot tos ar projekta autoriem un uzrādot atbilstības sertifikātus.
B35: Sastādīja:
D36: Arnis Gailītis
D37: Sertifikāta Nr.20-5643
B40: ='1,1'!B40 -> Pārbaudīja:
D41: ='1,1'!D41 -> Dzintra Cīrule
D42: ='1,1'!D42 -> Sertifikāta Nr.10-0363

Sheet 2,9
B1: Būvdarbu apjomu saraksts Nr. | F1: =MID(CELL("filename",B1), FIND("]", CELL("filename",B1))+ 1, 255) -> 2,9
B2: =D13 -> Piekļuves kontroles sistēma
B3: Būves nosaukums: | D3: ='1,1'!D3 -> Ēkas pārbūve un teritorijas labiekārtošana
B4: Objekta nosaukums: | D4: ='1,1'!D4 -> Ēkas pārbūve un teritorijas labiekārtošana(Lietotāja līdzekļi)
B5: Objekta adrese: | D5: ='1,1'!D5:H5 -> Citadeles iela 7, Rīga
B6: Pasūtījuma Nr. | D6: ='1,1'!D6 -> n
B7: ='1,1'!B7:H7 -> Apjomi sastādīti pamatojoties uz SIA „Baltex Group” būvprojekta rasējumiem un specifikācijām
D9: ='1,1'!D9 -> Apjomi sastādīti: 2023.gada 11. maijs
B11: Nr.p.k. | D11: Darba nosaukums | F11: Mērvienība | G11: Daudzums
B13: 0 | D13: Piekļuves kontroles sistēma
D14: Poz. NR 1-21 izmaksas sadalītas 50:50 starp VNĪ un Lietotāju
D15: Montāžas un palaišanas darbi
B16: 1 | D16: Operatora darbu stacija, tastatūra un pēle | E16: HP DL20 Gen10+ P44115-421, Intel® Xeon® E-2336, 16 GB | F16: kpl.
B17: 2 | D17: SSD disks | E17: 512 GB | F17: kpl.
B18: 3 | D18: Programmatūra | E18: Microsoft® Windows® 10 PRO | F18: kpl.
B19: 4 | D19: Monitors | E19: 24' | F19: kpl.
B20: 5 | D20: Servera programmatūra | E20: Suprema BioStar 2 | F20: kpl.
B21: 6 | D21: PoE switch | E21: CRCRS328-24P-4S+RMS328-24P-4S+RM | F21: gb.
B22: 7 | D22: Patch kabelis 1.0m | E22: Cat6 UTP 1m | F22: gb.
B23: 8 | D23: Barošanas bloks Rackmount 3U ar vietu akumulatoriem 12VDC/8A | E23: Dantech DA457-2 | F23: gb.
B24: 9 | D24: Akumulators 12V/12Ah | E24: TC12-12 | F24: gb.
B25: 10 | D25: UPS sprieguma stabilizators APC 1500VA, 1200 W | E25: APC Smart-UPS X 1500VA RM U2 | F25: gb.
B26: 11 | D26: Durvju kontrolleris ar karšu nolasītāju | E26: Suprema Xpass | F26: gb. | G26: 22
B27: 12 | D27: Bezvadu poga durvju atvēršanai | F27: gb. | G27: 1
B28: 13 | D28: Elektromagnētiskais sprūds NO līdz 230mA | E28: ASSA ABLOY E7R--E9139 | F28: gb. | G28: 22
B29: 14 | D29: Elektromehāniskais sprūds, 12 V, regulējamā mēlīte, diena/nakts | E29: E7E-E4139, EffEff | F29: gb. | G29: 1
B30: 15 | D30: Magnētiskais kontakts | F30: gb. | G30: 23
B31: 16 | D31: Durvju aizvērējs | E31: GEZE vai ekvivalents | F31: gb.
B32: 17 | D32: Kabelis | E32: Cat5e UTP | F32: m | G32: 980
B33: 18 | D33: Kabelis mīksts sprūda barošanai 12VDC | E33: NYM-J 2x0.75 | F33: m
B34: 19 | D34: Piekļuves kontroles kartiņa no cieta materiāla | E34: Mifare 13.56 MH | F34: gb.
B35: 20 | D35: Durvju kontroliera demontāža un montāža atpakaļ | F35: kpl.
B36: 21 | D36: Ugunsdrošās blīves kabeļiem | E36: Promastop IM CJ21 | F36: kpl.
F38: Kopā
C40: ='1,1'!C31 -> Piezīmes:
B41: ='1,1'!B32:H32 -> Visas atsauces uz materiālu un izstrādājumu izgatavotaj firmām, kuras norādītas būvprojektā, liecina tikai par šo materiālu un izstrādājumu tehniskajiem parametriem un kvalitātes līmeni, to nomaiņa ir iespējama ar citiem tehniski un kvalitatīvi ekvivalentiem būvizstrādājumiem, iepriekš saskaņojot tos ar projekta autoriem un uzrādot atbilstības sertifikātus.
B44: Sastādīja:
D45: Arnis Gailītis
D46: Sertifikāta Nr.20-5643
B49: ='1,1'!B40 -> Pārbaudīja:
D50: ='1,1'!D41 -> Dzintra Cīrule
D51: ='1,1'!D42 -> Sertifikāta Nr.10-0363

Sheet 2,11
B1: Būvdarbu apjomu saraksts Nr. | F1: =MID(CELL("filename",B1), FIND("]", CELL("filename",B1))+ 1, 255) -> 2,11
B2: =D13 -> Videonovērošanas un apsardzes sistēma
B3: Būves nosaukums: | D3: ='1,1'!D3 -> Ēkas pārbūve un teritorijas labiekārtošana
B4: Objekta nosaukums: | D4: ='1,1'!D4 -> Ēkas pārbūve un teritorijas labiekārtošana(Lietotāja līdzekļi)
B5: Objekta adrese: | D5: ='1,1'!D5:H5 -> Citadeles iela 7, Rīga
B6: Pasūtījuma Nr. | D6: ='1,1'!D6 -> n
B7: ='1,1'!B7:H7 -> Apjomi sastādīti pamatojoties uz SIA „Baltex Group” būvprojekta rasējumiem un specifikācijām
D9: ='1,1'!D9 -> Apjomi sastādīti: 2023.gada 11. maijs
B11: Nr.p.k. | D11: Darba nosaukums | F11: Mērvienība | G11: Daudzums
B13: 0 | D13: Videonovērošanas un apsardzes sistēma
D14: Montāžas un palaišanas darbi
D15: Videonovērošana
B16: 0.1 | D16: Videokamera ārtelpu bullet | E16: Hanwha QNO-8010R | F16: gb. | G16: 8
B17: 0.2 | D17: Videokamera iekštelpu dome | E17: Hanwha | F17: gb. | G17: 8
D18: Poz. NR 1-29 izmaksas sadalītas 38:62 starp VNĪ un Lietotāju
D19: Montāžas un palaišanas darbi
D20: Apsardzes sistēma
B21: 1 | D21: Apsardzes panelis | E21: DSC PC-1864 | F21: kpl.
B22: 2 | D22: Paplašinātājs | E22: PC5108 | F22: gb.
B23: 3 | D23: Akumulators | E23: 7A/h 12V | F23: gb.
B24: 4 | D24: Transformators | F24: gb.
B25: 5 | D25: Kustības detektors | E25: LC-100PI | F25: gb.
B26: 6 | D26: Magnēta kontakts metāla durvīm | E26: MS-51 | F26: gb.
B27: 7 | D27: Stikla plīšanas detektors | E27: GBD-PLUS | F27: gb.
B28: 8 | D28: LCD tastatūra | E28: PK5500 | F28: gb.
B29: 9 | D29: Kabelis | E29: CQR 6x0.22mm2 | F29: m
B30: 10 | D30: Gofrētā caurule | E30: d 20mm | F30: m
B31: 11 | D31: Ugunsdrošās blīves kabeļiem | E31: Promastop IM CJ21 | F31: kpl.
B32: 12 | D32: Sirēna ārtelpu | E32: MR-300; 115 dB | F32: gb.
B33: 13 | D33: Sirēna iekštelpu | E33: PICCOLO/WH/BL | F33: gb.
B34: 14 | D34: Montāžas materiāli | F34: kpl.
D35: Videonovērošana
B36: 15 | D36: Kabeļu organaizeris horizontālais | E36: 1U 19' | F36: gb. | G36: 1
B37: 16 | D37: Gigabit switch | E37: 24 porti Gigabit Ethernet switch , 2 SFP+ ports, PoE, 1U rackmount case | G37: 1
B38: 17 | D38: Patch panelis Cat6 | E38: 24p Cat6 UTP B3 | F38: gb. | G38: 1
B39: 18 | D39: Videoserveris | F39: gb. | G39: 1
B40: 19 | D40: Cietie Diski HDD | E40: 2TB | F40: gb. | G40: 1
B41: 22 | D41: Cat6 UTP patch kabelis 1.0m | E41: Cat6 UTP 1m | F41: gb. | G41: 16
B42: 23 | D42: Kabelis | E42: B3 Cat6 4x2x0.5 LSZH (Low Smoke Zero Halogen) | F42: m | G42: 540
B43: 24 | D43: Gluda plānsienu caurule halogenbrīva | E43: D25mm | F43: m
B44: 25 | D44: Ugunsdrošās blīves kabeļiem | E44: Promastop IM CJ21 | F44: kpl.
B45: 26 | D45: Montāžas un stiprināšanas materiāli | F45: kpl.
B46: 27 | D46: Esošās ārējās videokameras demontāža | F46: kpl.
B47: 28 | D47: Esošās iekšējās videokameras demontāža | F47: kpl.
B48: 29 | D48: Cat6 UTP kabeļa pārsprieguma aizsardzības ierīce ar POE | E48: DT-LAN-CAT.6+ | F48: gb. | G48: 16
F50: Kopā
C52: ='1,1'!C31 -> Piezīmes:
B53: ='1,1'!B32:H32 -> Visas atsauces uz materiālu un izstrādājumu izgatavotaj firmām, kuras norādītas būvprojektā, liecina tikai par šo materiālu un izstrādājumu tehniskajiem parametriem un kvalitātes līmeni, to nomaiņa ir iespējama ar citiem tehniski un kvalitatīvi ekvivalentiem būvizstrādājumiem, iepriekš saskaņojot tos ar projekta autoriem un uzrādot atbilstības sertifikātus.
B56: Sastādīja:
D57: Arnis Gailītis
D58: Sertifikāta Nr.20-5643
B61: ='1,1'!B40 -> Pārbaudīja:
D62: ='1,1'!D41 -> Dzintra Cīrule
D63: ='1,1'!D42 -> Sertifikāta Nr.10-0363

Sheet 2,13
B1: Būvdarbu apjomu saraksts Nr. | E1: =MID(CELL("filename",B1), FIND("]", CELL("filename",B1))+ 1, 255) -> 2,13
B2: =D13 -> Mēbeles
B3: Būves nosaukums: | D3: ='1,1'!D3 -> Ēkas pārbūve un teritorijas labiekārtošana
B4: Objekta nosaukums: | D4: ='1,1'!D4 -> Ēkas pārbūve un teritorijas labiekārtošana(Lietotāja līdzekļi)
B5: Objekta adrese: | D5: ='1,1'!D5:H5 -> Citadeles iela 7, Rīga
B6: Pasūtījuma Nr. | D6: ='1,1'!D6 -> n
B7: ='1,1'!B7:H7 -> Apjomi sastādīti pamatojoties uz SIA „Baltex Group” būvprojekta rasējumiem un specifikācijām
D9: ='1,1'!D9 -> Apjomi sastādīti: 2023.gada 11. maijs
B11: Nr.p.k. | D11: Darba nosaukums | E11: Mērvienība | F11: Daudzums
B13: 0 | D13: Mēbeles
D14: Montāžas un palaišanas darbi
B15: 1 | D15: Atsevišķie darbi Klusuma kabīne Framery O Video Conference Ready. Gatavs, mobils izstrādājums ar elektrības, vājstrāvu un ventilācijas pieslēgumu. Tonis: White Ultramatt&Whiteboard exterior 2210 (h)x1000x1000mm Skaņas izolācija 30dB | E15: gb | F15: 1
B16: 2 | D16: Iebūvēto virtuvju komplekti 1. stāvā AR 5.10 | E16: gb | F16: 2
B17: 3 | D17: Apmeklētāju pieņemšanas lete, Tumši pelēka necaurredzama pamatne, caurspīdīga augšas daļa. Detalizāciju skat. Lapā AR.5.13 | E17: gb | F17: 1
B18: 4 | D18: Noliktavu plaukti, 2500x1065x300mm Plauktu sistēma MIX Bāzes sekcija, 2100x1065x300 mm Art.nr.: 27101 Apskatīt ar papildinātāsrealitātes funkciju Pret skrāpējumiem izturīga virsma intensīvai lietošanai Ar pielāgojamiem plauktiem | E18: gb | F18: 13
E20: Kopā
C22: ='1,1'!C31 -> Piezīmes:
B23: ='1,1'!B32:H32 -> Visas atsauces uz materiālu un izstrādājumu izgatavotaj firmām, kuras norādītas būvprojektā, liecina tikai par šo materiālu un izstrādājumu tehniskajiem parametriem un kvalitātes līmeni, to nomaiņa ir iespējama ar citiem tehniski un kvalitatīvi ekvivalentiem būvizstrādājumiem, iepriekš saskaņojot tos ar projekta autoriem un uzrādot atbilstības sertifikātus.
B26: Sastādīja:
D27: Arnis Gailītis
D28: Sertifikāta Nr.20-5643
B31: ='1,1'!B40 -> Pārbaudīja:
D32: ='1,1'!D41 -> Dzintra Cīrule
D33: ='1,1'!D42 -> Sertifikāta Nr.10-0363

Sheet 4,1
B1: Būvdarbu apjomu saraksts Nr. | E1: =MID(CELL("filename",B1), FIND("]", CELL("filename",B1))+ 1, 255) -> 4,1
B2: =D13 -> Teritorijas labiekārtošana
B3: Būves nosaukums: | D3: ='1,1'!D3 -> Ēkas pārbūve un teritorijas labiekārtošana
B4: Objekta nosaukums: | D4: ='1,1'!D4 -> Ēkas pārbūve un teritorijas labiekārtošana(Lietotāja līdzekļi)
B5: Objekta adrese: | D5: ='1,1'!D5:H5 -> Citadeles iela 7, Rīga
B6: Pasūtījuma Nr. | D6: ='1,1'!D6 -> n
B7: ='1,1'!B7:H7 -> Apjomi sastādīti pamatojoties uz SIA „Baltex Group” būvprojekta rasējumiem un specifikācijām
D9: ='1,1'!D9 -> Apjomi sastādīti: 2023.gada 11. maijs
B11: Nr.p.k. | D11: Darba nosaukums | E11: Mērvienība | F11: Daudzums
D13: Teritorijas labiekārtošana
D14: Poz. NR 1-31 izmaksas sadalītas 50:50 starp VNĪ un Lietotāju (skatīt BA Nr.4.1. VNI)
D15: Sagatavošanas darbi
B16: 1 | D16: Objekta nospraušana un nostiprināšana dabā | E16: kpl
D17: Demontāžas darbi
B18: 2 | D18: Demontējama, patvaļīgi uzmontētā automātiskā barjera t.sk. Būvgružu izvešana , nodošana pārstrādei | E18: kpl
B19: 3 | D19: Pirms siltumtīklu demontāžas, noņemama mūra siena un grunts. Pēc darbu pabeigšanas, atjaunot sākotnējā vietā un veikt mūra labošanas darbu. | E19: kpl
B20: 4 | D20: Demontējamie nožogojuma posmi pārvietojami nomainot esošo trošu nožogojuma posmu | E20: kpl
B21: 5 | D21: Pie ēkas fasādes piestiprinātā kondicioniera demontāža t.sk. Būvgružu izvešana , nodošana pārstrādei | E21: kpl
B22: 6 | D22: Nefunkcionējoši demontējamie siltumtīki t.sk. Būvgružu izvešana , nodošana pārstrādei | E22: m
B23: 7 | D23: Demontējami kanalizācijas tīkli (teritorijā) t.sk. Būvgružu izvešana , nodošana pārstrādei | E23: m
B24: 8 | D24: Noņemams esošs betona bruģakmens segums t.sk. Būvgružu izvešana , nodošana pārstrādei | E24: m2
B25: 9 | D25: Demontējami betona pakāpieni, mūra elemeti (teritorijā) t.sk. Būvgružu izvešana , nodošana pārstrādei | E25: m2
B26: 10 | D26: Demontējami nožogojuma posmi t.sk. Būvgružu izvešana , nodošana pārstrādei | E26: m
D27: Zemes klātne
B28: 11 | D28: Gultnes sagatavošana ceļiem un laukumiem,lieko grunti aizvedot uz atbērtni | E28: m2
B29: 12 | D29: Laukumu planēšana | E29: m2
D30: Ceļi un laukumi
D31: Bruģakmens segums - brauktuves
B32: 13 | D32: Esošā pamatne profilēta, noblīvēta (Ev2≥45MPa) | E32: m2
B33: 14 | D33: Salturīgā kārta no drenējošas smilts (kf>1m/dn, Ev2≥60MPa) h=30 cm | E33: m2
B34: 15 | D34: Minerālmat. maisījums (fr.0/45), N-IV klase (Ev2≥80M h=20cm | E34: m2
B35: 16 | D35: Dolomīta izsijas (fr.2/8) izbūve | E35: m2
B36: 17 | D36: Betona bruģakmens seguma izbūve 8 cm. | E36: m2
D37: Bruģakmens segums - Ietves, panduss
B38: 18 | D38: Esošā pamatne profilēta, noblīvēta (Ev2≥45MPa) | E38: m2
B39: 19 | D39: Salturīgā kārta no drenējošas smilts (kf>1m/dn, Ev2≥60MPa) h=30 cm | E39: m2
B40: 20 | D40: Minerālmat. maisījums (fr.0/45), N-IV klase (Ev2≥80M h=20cm | E40: m2
B41: 21 | D41: Dolomīta izsijas (fr.2/8) izbūve | E41: m2
B42: 22 | D42: Betona bruģakmens seguma izbūve 6 cm. | E42: m2
D43: Bruģakmens segums - brauktuves segums sat, org. vajadzībām
B44: 23 | D44: Esošā pamatne profilēta, noblīvēta (Ev2≥45MPa) | E44: m2
B45: 24 | D45: Salturīgā kārta no drenējošas smilts (kf>1m/dn, Ev2≥60MPa) h=30 cm | E45: m2
B46: 25 | D46: Minerālmat. maisījums (fr.0/45), N-IV klase (Ev2≥80M h=20cm | E46: m2
B47: 26 | D47: Apaļakmens bruģa seguma izbūve ~10cm. | E47: m2
D48: Apzaļumošana
B49: 27 | D49: Zālāja ar melnzemes kārtu b=20 cm ierīkošana t.sk. pazemināmā līdz asfalta līmenim zālāja daļa | E49: m2
D50: Dažādi darbi
B51: 28 | D51: Esošās laukakmens mūra atbalsta sienas remonts. sienas biezums ~ 500mm, augstums ~ 700mm | E51: m
B52: 29 | D52: Projektējami atjaunojamie pakāpieni | E52: m
B53: 30 | D53: Betona apmales 1000x300x150mm uzstādīšana uz betona pamatnes | E53: m
B54: 31 | D54: Ietves betona apmaļu 1000x200x80 mm uzstādīšana uz betona pamatnes | E54: m
D55: Velonojume TS-LB 02 Nojume 1
B56: 32 | D56: Profilēta metāla jumta loksne T45-30-905 ,t=0,6mm montāža | E56: m2 | F56: 20.48
B57: 33 | D57: Profilēta metāla loksne T35,35mm fasādei montāža | E57: m2 | F57: 7.8
B58: 34 | D58: Lietus ūdens tekņu 50x50 mm montāža | E58: t.m. | F58: 11.2
B59: 35 | D59: Lietus ūdens noteku elementi (piem. metāla ķēdes) montāža | E59: t.m. | F59: 4
B60: 36 | D60: Metāla kvadrātveida cauruļu 60x40x3 mm rāmji, cinkoti, krāsoti, tonis RAL 7043 montāža | E60: t.m. | F60: 41
B61: 37 | D61: Diognāli cirsti stiepts metāla siets, cinkots, krāsots montāža | E61: m2 | F61: 15.9
B62: 38 | D62: Nerūsējoša tērauda velostatīvi 1000x750(h) d=70 mm | E62: gb | F62: 7
D63: BK Velonojume
B64: 39 | D64: Grunts rakšana mehanizēti, iekraujot grunti automašīnā-pašizgāzējā | E64: m3 | F64: 43.5
B65: 40 | D65: Grunts rakšana ar rokām | E65: m3 | F65: 3.5
B66: 41 | D66: Būvbedres un tranšejas aizbēršana mehanizēti ar pievesto smilti ar blietēšanu | E66: m3 | F66: 31.741
B67: 42 | D67: Būvbedres un tranšejas aizbēršana ar rokām ar pievesto smilti ar blietēšanu t.sk. | E67: m3 | F67: 3.5
B68: 43 | D68: Liekās grunts aizvešana | E68: m3 | F68: 47
B69: 44 | D69: Inventāro veidņu uzstādīšana,eļļošana pamatiem un nojaukšana ,noma | E69: m2 | F69: 40
B70: 45 | D70: Šķembu pamatojuma ierīkošana fr.20-40 mm,blīvā veidā | E70: m3 | F70: 6.39
B71: 46 | D71: Armatūras sietu izgatavošana ,uzstādīšana,fiksatoru uzstādīšana . Armatūra B500B | E71: t | F71: 0.537
B72: 47 | D72: Betona iestrādāšana pamatu konstrukcijās-pamatu pēda C30/37+XC4,XD3,XF4 novibrējot,betonu padod ar sūkni | E72: m3 | F72: 5.51
B73: 48 | D73: Tērauda konstrukciju izgatavošana,piegāde,montāža t.sk. Palīgmateriāli. Metāla konstrukcijas apstrādātas atbilstoši BK norādījumiem | E73: t | F73: 0.818
D74: Atkritumu nojume TS-LB 03
B75: 49 | D75: Profilēta metāla jumta loksne T35,35mm montāža | E75: m2 | F75: 11.13
B76: 50 | D76: Profilēta metāla loksne T35,35mm fasādei montāža | E76: m2 | F76: 7.8
B77: 51 | D77: Lietus ūdens tekņu 50x50 mm montāža | E77: t.m. | F77: 5.6
B78: 52 | D78: Lietus ūdens noteku elementi (piem. metāla ķēdes) montāža | E78: t.m. | F78: 2
B79: 53 | D79: Metāla kvadrātveida cauruļu 60x40x3 mm rāmji, cinkoti, krāsoti, tonis RAL 7043 montāža | E79: t.m. | F79: 41
B80: 54 | D80: Diognāli cirsti stiepts metāla siets, cinkots, krāsots montāža | E80: m2 | F80: 15.9
B81: 55 | D81: Eņģes vārtiem (2 gab.katrai vērtnei) montāža | E81: gab. | F81: 6
B82: 56 | D82: Slēdzenes montāža | E82: gab. | F82: 3
B83: 57 | D83: Roktura montāža | E83: gab. | F83: 3
D84: BK Atkritumu nojume 2
B85: 58 | D85: Grunts rakšana mehanizēti, iekraujot grunti automašīnā-pašizgāzējā | E85: m3 | F85: 23.5
B86: 59 | D86: Grunts rakšana ar rokām | E86: m3 | F86: 2.5
B87: 60 | D87: Būvbedres un tranšejas aizbēršana mehanizēti ar pievesto smilti ar blietēšanu | E87: m3 | F87: 18.4
B88: 61 | D88: Būvbedres un tranšejas aizbēršana ar rokām ar pievesto smilti ar blietēšanu t.sk. | E88: m3 | F88: 2
B89: 62 | D89: Liekās grunts aizvešana | E89: m3 | F89: 26
B90: 63 | D90: Inventāro veidņu uzstādīšana,eļļošana pamatiem un nojaukšana ,noma | E90: m2 | F90: 22
B91: 64 | D91: Šķembu pamatojuma ierīkošana fr.20-40 mm,blīvā veidā | E91: m3 | F91: 2.74
B92: 65 | D92: Armatūras sietu izgatavošana ,uzstādīšana,fiksatoru uzstādīšana . Armatūra B500B | E92: t | F92: 0.223
B93: 66 | D93: Betona iestrādāšana pamatu konstrukcijās-pamatu pēda C30/37+XC4,XD3,XF4 novibrējot,betonu padod ar sūkni | E93: m3 | F93: 2.12
B94: 67 | D94: Tērauda konstrukciju izgatavošana,piegāde,montāža t.sk. Palīgmateriāli. Metāla konstrukcijas apstrādātas atbilstoši BK norādījumiem | E94: t | F94: 0.377
E96: Kopā
C98: ='1,1'!C31 -> Piezīmes:
B99: ='1,1'!B32:H32 -> Visas atsauces uz materiālu un izstrādājumu izgatavotaj firmām, kuras norādītas būvprojektā, liecina tikai par šo materiālu un izstrādājumu tehniskajiem parametriem un kvalitātes līmeni, to nomaiņa ir iespējama ar citiem tehniski un kvalitatīvi ekvivalentiem būvizstrādājumiem, iepriekš saskaņojot tos ar projekta autoriem un uzrādot atbilstības sertifikātus.
B102: Sastādīja:
D103: Arnis Gailītis
D104: Sertifikāta Nr.20-5643
B107: ='1,1'!B40 -> Pārbaudīja:
D108: ='1,1'!D41 -> Dzintra Cīrule
D109: ='1,1'!D42 -> Sertifikāta Nr.10-0363
