Workbook
Name A: '[1]2'!$A$1
Name P: #REF!
Name P: #REF!
Name P: #REF!
Name P: #REF!
Name P: #REF!
Name P: #REF!
Name P: #REF!
Name P: #REF!
Name P: #REF!
Name P: #REF!
Name P: #REF!
Name P: #REF!
Name P: #REF!
Name P: #REF!
Name P: #REF!
Name P: #REF!

Sheet Koptame_PV
D2: APSTIPRINU
D3: ________________________________________
D4: (pasūtītāja paraksts un tā atšifrējums)
D6: Z.v.
D7: ______.gada ____.____________
B9: Būvniecības koptāme_PV
B11: Būves nosaukums: | C11: Ēkas pārbūve un teritorijas labiekārtošana
B12: Objekta nosaukums: | C12: Ēkas pārbūve un teritorijas labiekārtošana(Lietotāja līdzekļi)
B13: Objekta adrese: | C13: Citadeles iela 7, Rīga
B14: Pasūtījuma Nr. | C14: n
D16: Tāme sastādīta:
B17: Tāme sastādīta 2023.gada tirgus cenās, pamatojoties uz SIA „Baltex Group” būvprojekta rasējumiem un darbu apjomiem
B18: Kopsav.tāmes Nr | C18: Objekta nosaukums | D18: Objekta izmaksas (euro)
B21: 1 | C21: Vispārējie būvdarbi | D21: =kops1_PV!E32 -> #VALUE!
B22: 2 | C22: Specializētie darbi-iekšējie tīkli, sistēmas | D22: =kops2_PV!E29 -> #VALUE!
B23: 4 | C23: Teritorijas labiekārtošana | D23: =kops4_PV!E27 -> #VALUE!
C24: Kopā( bez PVN) | D24: =SUM(D20:D23) -> #VALUE!
C25: Kopā | D25: =SUM(D24:D24) -> #VALUE!
C28: PVN 21 % | D28: =0.21*D25 -> #VALUE!
B33: Sastādīja:
B39: Pārbaudīja:

Sheet kops1_PV
A2: Kopsavilkuma aprēķins Nr. 1_PV
K4: VNĪ komentāri 24.01.2023.
A6: =Koptame_PV!C21 -> Vispārējie būvdarbi
A8: Būves nosaukums: | C8: =Koptame_PV!C11 -> Ēkas pārbūve un teritorijas labiekārtošana
A9: Objekta nosaukums: | C9: =Koptame_PV!C12 -> Ēkas pārbūve un teritorijas labiekārtošana(Lietotāja līdzekļi)
A10: Objekta adrese: | C10: =Koptame_PV!C13 -> Citadeles iela 7, Rīga
A11: =Koptame_PV!B14 -> Pasūtījuma Nr. | C11: =Koptame_PV!C14 -> n
F13: Par kopējo summu, euro | H13: =E32 -> #VALUE!
F14: Kopējā darbietilpība, c/h | H14: =I28 -> 0
H15: =H14+kops2_PV!H14+kops4_PV!H14 -> 0
H16: =Koptame_PV!D16 -> Tāme sastādīta:
A18: Nr.p.k. | B18: Kods, tāmes Nr. | C18: Būvdarbu veids vai konstruktīvā elementa nosaukums | E18: Tāmes izmaksas (euro) | F18: Tai skaitā | I18: Darbietilpība (c/h)
F19: darba alga (euro) | G19: būvizstrādājumi (euro) | H19: mehānismi (euro)
A21: 1 | B21: 1.1._PV | C21: Demontāžas darbi | E21: ='1.1._PV'!P29 -> 0 | F21: ='1.1._PV'!M29 -> 0 | G21: ='1.1._PV'!N29 -> 0 | H21: ='1.1._PV'!O29 -> 0 | I21: ='1.1._PV'!L29 -> 0
A22: 2 | B22: 1.4._PV | C22: Sienas | E22: ='1.4._PV'!P27 -> 0 | F22: ='1.4._PV'!M27 -> 0 | G22: ='1.4._PV'!N27 -> 0 | H22: ='1.4._PV'!O27 -> 0 | I22: ='1.4._PV'!L27 -> 0
A23: 3 | B23: 1.8._PV | C23: Grīdas | E23: ='1.8._PV'!P51 -> 0 | F23: ='1.8._PV'!M51 -> 0 | G23: ='1.8._PV'!N51 -> 0 | H23: ='1.8._PV'!O51 -> 0 | I23: ='1.8._PV'!L51 -> 0
A24: 4 | B24: 1.9._PV | C24: Ailu aizpildījuma elementi | E24: ='1.9._PV'!P62 -> 0 | F24: ='1.9._PV'!M62 -> 0 | G24: ='1.9._PV'!N62 -> 0 | H24: ='1.9._PV'!O62 -> 0 | I24: ='1.9._PV'!L62 -> 0
A25: 5 | B25: 1.10._PV | C25: Iekšējie apdares darbi | E25: ='1.10._PV'!P31 -> 0 | F25: ='1.10._PV'!M31 -> 0 | G25: ='1.10._PV'!N31 -> 0 | H25: ='1.10._PV'!O31 -> 0 | I25: ='1.10._PV'!L31 -> 0
A26: 6 | B26: 1.12._PV | C26: Dažādi darbi | E26: ='1.12._PV'!P23 -> 0 | F26: ='1.12._PV'!M23 -> 0 | G26: ='1.12._PV'!N23 -> 0 | H26: ='1.12._PV'!O23 -> 0 | I26: ='1.12._PV'!L23 -> 0
A27: 7 | B27: 1.13._PV | C27: Stiklotas starpsienas | E27: ='1.13._PV'!P22 -> 0 | F27: ='1.13._PV'!M22 -> 0 | G27: ='1.13._PV'!N22 -> 0 | H27: ='1.13._PV'!O22 -> 0 | I27: ='1.13._PV'!L22 -> 0
C28: Kopā | E28: =SUM(E21:E27) -> 0 | F28: =SUM(F21:F27) -> 0 | G28: =SUM(G21:G27) -> 0 | H28: =SUM(H21:H27) -> 0 | I28: =SUM(I21:I27) -> 0
A29: Virsizdevumi | D29: % | E29: =ROUND(E28*D29,2) -> #VALUE!
C30: tai skaitā darba aizsardzība | E30: =E29*0.1 -> #VALUE!
A31: Peļņa | D31: % | E31: =ROUND(E28*D31,2) -> #VALUE!
C32: Kopā bez PVN | E32: =E31+E29+E28 -> #VALUE!
B35: Sastādīja:
C36: =Koptame_PV!C34 -> 0
C37: =Koptame_PV!C35 -> 0
B41: =Koptame_PV!B39 -> Pārbaudīja:
C42: =Koptame_PV!C40 -> 0
C43: =Koptame_PV!C41 -> 0

Sheet 1.1._PV
G1: Lokālā tāme Nr. | H1: =kops1_PV!B21 -> 1.1._PV
A2: =C13 -> Demontāžas darbi
C3: Būves nosaukums: | D3: =Koptame_PV!C11 -> Ēkas pārbūve un teritorijas labiekārtošana
C4: Objekta nosaukums: | D4: =Koptame_PV!C12 -> Ēkas pārbūve un teritorijas labiekārtošana(Lietotāja līdzekļi)
C5: Objekta adrese: | D5: =Koptame_PV!C13 -> Citadeles iela 7, Rīga
C6: =Koptame_PV!B14 -> Pasūtījuma Nr. | D6: =Koptame_PV!C14 -> n
A7: =Koptame_PV!B17 -> Tāme sastādīta 2023.gada tirgus cenās, pamatojoties uz SIA „Baltex Group” būvprojekta rasējumiem un darbu apjomiem | O7: Tāmes izmaksas euro: | P7: =P29 -> 0
L9: =Koptame_PV!D16 -> Tāme sastādīta:
A11: Nr.p.k. | B11: Kods | C11: Būvdarbu nosaukums | D11: Mērvienība | E11: Daudzums | F11: Vienības izmaksas | L11: Kopā uz visu apjomu
F12: Laika norma (c/h) | G12: Darba samaksas likme (euro/h) | H12: Darba alga (euro) | I12: Būvizstrādājumi (euro) | J12: Mehānismi (euro) | K12: Kopā (euro) | L12: Darbietilpība (c/h) | M12: Darba alga (euro) | N12: Būvizstrādājumi (euro) | O12: Mehānismi (euro) | P12: Summa (euro)
C13: =kops1_PV!C21 -> Demontāžas darbi | K13: =SUM(H13:J13) -> 0 | L13: =ROUND(F13*E13,2) -> 0 | M13: =ROUND(H13*E13,2) -> 0 | N13: =ROUND(I13*E13,2) -> 0 | O13: =ROUND(J13*E13,2) -> 0 | P13: =SUM(M13:O13) -> 0
A14: 1 | C14: Sienas demontāža t.sk. Būvgružu izvešana , nodošana pārstrādei | D14: m3 | E14: =27.8+38.2+24.9+9 -> 99.9 | K14: =SUM(H14:J14) -> 0 | L14: =ROUND(F14*E14,2) -> 0 | M14: =ROUND(H14*E14,2) -> 0 | N14: =ROUND(I14*E14,2) -> 0 | O14: =ROUND(J14*E14,2) -> 0 | P14: =SUM(M14:O14) -> 0
A15: 2 | C15: Grīdas(Grīdas izņemšana vestibilā un 1. st WC~ 200mm dziļumā + kāpņu podesta demontāža) demontāža t.sk. Būvgružu izvešana , nodošana pārstrādei | D15: m3 | E15: 21 | K15: =SUM(H15:J15) -> 0 | L15: =ROUND(F15*E15,2) -> 0 | M15: =ROUND(H15*E15,2) -> 0 | N15: =ROUND(I15*E15,2) -> 0 | O15: =ROUND(J15*E15,2) -> 0 | P15: =SUM(M15:O15) -> 0
A16: 3 | C16: Piekārto griesti(Tipveida piekārtie griesti 600x600 paneļi iekārta metāla profilos, ar iebūvētajiem gaismekļiem) demontāža t.sk. Būvgružu izvešana , nodošana pārstrādei | D16: m2 | E16: =207.6+283.2+228.7 -> 719.5 | K16: =SUM(H16:J16) -> 0 | L16: =ROUND(F16*E16,2) -> 0 | M16: =ROUND(H16*E16,2) -> 0 | N16: =ROUND(I16*E16,2) -> 0 | O16: =ROUND(J16*E16,2) -> 0 | P16: =SUM(M16:O16) -> 0
A17: 4 | C17: Grīdas(Grīdas nenesošā slāņa (smiltis, betons), b~ 350mm izņemšana līdz nesošajām betona plātnēm demontāža) t.sk. Būvgružu izvešana , nodošana pārstrādei | D17: m3 | E17: 90 | K17: =SUM(H17:J17) -> 0 | L17: =ROUND(F17*E17,2) -> 0 | M17: =ROUND(H17*E17,2) -> 0 | N17: =ROUND(I17*E17,2) -> 0 | O17: =ROUND(J17*E17,2) -> 0 | P17: =SUM(M17:O17) -> 0
A18: 5 | C18: Grīdas(Koka siju virslatas , grīdas segumu plāksnes,latas 2. stāva melnajiem griestiem, piebērums starp sijām) t.sk. Būvgružu izvešana , nodošana pārstrādei | D18: m3 | E18: 57.2 | K18: =SUM(H18:J18) -> 0 | L18: =ROUND(F18*E18,2) -> 0 | M18: =ROUND(H18*E18,2) -> 0 | N18: =ROUND(I18*E18,2) -> 0 | O18: =ROUND(J18*E18,2) -> 0 | P18: =SUM(M18:O18) -> 0
A19: 6 | C19: Grīdas(Grīdas nenesošā slāņa (keramzīta piebērums, b~ 300mm+ nenesošā betona grīdasplāksnes, b~100mm) izņemšana.) t.sk. Būvgružu izvešana , nodošana pārstrādei | D19: m3 | E19: 110 | K19: =SUM(H19:J19) -> 0 | L19: =ROUND(F19*E19,2) -> 0 | M19: =ROUND(H19*E19,2) -> 0 | N19: =ROUND(I19*E19,2) -> 0 | O19: =ROUND(J19*E19,2) -> 0 | P19: =SUM(M19:O19) -> 0
A20: 7 | C20: Grīdas(Nesošais dzelzsbetons starp nesošajiem metāla profiliem, b~200 mm) izņemšana.) t.sk. Būvgružu izvešana , nodošana pārstrādei | D20: m3 | E20: 55 | K20: =SUM(H20:J20) -> 0 | L20: =ROUND(F20*E20,2) -> 0 | M20: =ROUND(H20*E20,2) -> 0 | N20: =ROUND(I20*E20,2) -> 0 | O20: =ROUND(J20*E20,2) -> 0 | P20: =SUM(M20:O20) -> 0
A21: 8 | C21: Santehnikas iekārtu(7 izlietnes+7 klozetpodi) demontāža t.sk. Būvgružu izvešana , nodošana pārstrādei | D21: gb | E21: 14 | K21: =SUM(H21:J21) -> 0 | L21: =ROUND(F21*E21,2) -> 0 | M21: =ROUND(H21*E21,2) -> 0 | N21: =ROUND(I21*E21,2) -> 0 | O21: =ROUND(J21*E21,2) -> 0 | P21: =SUM(M21:O21) -> 0
A22: 9 | C22: Visu esošo logu iekšējo palodžu demontāža t.sk. Būvgružu izvešana , nodošana pārstrādei | D22: gb | E22: 43 | K22: =SUM(H22:J22) -> 0 | L22: =ROUND(F22*E22,2) -> 0 | M22: =ROUND(H22*E22,2) -> 0 | N22: =ROUND(I22*E22,2) -> 0 | O22: =ROUND(J22*E22,2) -> 0 | P22: =SUM(M22:O22) -> 0
A23: 10 | C23: Visu esošo apkures radiatoru demontāža t.sk. Būvgružu izvešana , nodošana pārstrādei | D23: gb | E23: 43 | K23: =SUM(H23:J23) -> 0 | L23: =ROUND(F23*E23,2) -> 0 | M23: =ROUND(H23*E23,2) -> 0 | N23: =ROUND(I23*E23,2) -> 0 | O23: =ROUND(J23*E23,2) -> 0 | P23: =SUM(M23:O23) -> 0
A24: 11 | C24: Visu esošo durvju demontāža(Vidējais kārbas izmērs ~ 1000x2200 mm) t.sk. Būvgružu izvešana , nodošana pārstrādei | D24: gb | E24: 43 | K24: =SUM(H24:J24) -> 0 | L24: =ROUND(F24*E24,2) -> 0 | M24: =ROUND(H24*E24,2) -> 0 | N24: =ROUND(I24*E24,2) -> 0 | O24: =ROUND(J24*E24,2) -> 0 | P24: =SUM(M24:O24) -> 0
A25: 12 | C25: Dažādu konstrukciju demontāža t.sk. Būvgružu izvešana , nodošana pārstrādei | D25: m3 | E25: 15 | K25: =SUM(H25:J25) -> 0 | L25: =ROUND(F25*E25,2) -> 0 | M25: =ROUND(H25*E25,2) -> 0 | N25: =ROUND(I25*E25,2) -> 0 | O25: =ROUND(J25*E25,2) -> 0 | P25: =SUM(M25:O25) -> 0
A26: 13 | C26: Apmetuma demontāža fasādei, fasādes kolonnām t.sk. Būvgružu izvešana , nodošana pārstrādei | D26: m2 | E26: 82 | K26: =SUM(H26:J26) -> 0 | L26: =ROUND(F26*E26,2) -> 0 | M26: =ROUND(H26*E26,2) -> 0 | N26: =ROUND(I26*E26,2) -> 0 | O26: =ROUND(J26*E26,2) -> 0 | P26: =SUM(M26:O26) -> 0
A27: 14 | C27: Esošo inženierkomunikāciju demontāža(Tai skaitā bēniņos esošās, nefunkcionējošās ventiekārtas. Nav nepieciešams demontēt sienās iebūvētos vadus un cauruļvadus, ja tie netraucē jaunajām inženiertīklu instalācijām.) t.sk. Būvgružu izvešana , nodošana pārstrādei | D27: kpl | E27: 1 | K27: =SUM(H27:J27) -> 0 | L27: =ROUND(F27*E27,2) -> 0 | M27: =ROUND(H27*E27,2) -> 0 | N27: =ROUND(I27*E27,2) -> 0 | O27: =ROUND(J27*E27,2) -> 0 | P27: =SUM(M27:O27) -> 0
F28: 0 | G28: 0
C29: Tiešās izmaksas kopā t.sk. darba devēja sociālais nodoklis(23,59%) | L29: =SUM(L13:L28) -> 0 | M29: =SUM(M13:M28) -> 0 | N29: =SUM(N13:N28) -> 0 | O29: =SUM(O13:O28) -> 0 | P29: =SUM(P13:P28) -> 0
B31: Piezīmes:
A32: Visas atsauces uz materiālu un izstrādājumu izgatavotaj firmām, kuras norādītas būvprojektā, liecina tikai par šo materiālu un izstrādājumu tehniskajiem parametriem un kvalitātes līmeni, to nomaiņa ir iespējama ar citiem tehniski un kvalitatīvi ekvivalentiem būvizstrādājumiem, iepriekš saskaņojot tos ar projekta autoriem un uzrādot atbilstības sertifikātus.
B36: Sastādīja: | L36: =Koptame_PV!B39 -> Pārbaudīja:
C37: =Koptame_PV!C34 -> 0 | M37: =Koptame_PV!C40 -> 0
C38: =Koptame_PV!C35 -> 0 | M38: =Koptame_PV!C41 -> 0

Sheet 1.4._PV
G1: Lokālā tāme Nr. | H1: 1,4
A2: =C13 -> Sienas
C3: Būves nosaukums: | D3: =Koptame_PV!C11 -> Ēkas pārbūve un teritorijas labiekārtošana
C4: Objekta nosaukums: | D4: =Koptame_PV!C12 -> Ēkas pārbūve un teritorijas labiekārtošana(Lietotāja līdzekļi)
C5: Objekta adrese: | D5: =Koptame_PV!C13 -> Citadeles iela 7, Rīga
C6: =Koptame_PV!B14 -> Pasūtījuma Nr. | D6: =Koptame_PV!C14 -> n
A7: =Koptame_PV!B17 -> Tāme sastādīta 2023.gada tirgus cenās, pamatojoties uz SIA „Baltex Group” būvprojekta rasējumiem un darbu apjomiem | O7: Tāmes izmaksas euro: | P7: =P27 -> 0
L9: =Koptame_PV!D16 -> Tāme sastādīta:
A11: Nr.p.k. | B11: Kods | C11: Būvdarbu nosaukums | D11: Mērvienība | E11: Daudzums | F11: Vienības izmaksas | L11: Kopā uz visu apjomu
F12: Laika norma (c/h) | G12: Darba samaksas likme (euro/h) | H12: Darba alga (euro) | I12: Būvizstrādājumi (euro) | J12: Mehānismi (euro) | K12: Kopā (euro) | L12: Darbietilpība (c/h) | M12: Darba alga (euro) | N12: Būvizstrādājumi (euro) | O12: Mehānismi (euro) | P12: Summa (euro)
C13: =kops1_PV!C22 -> Sienas | K13: =SUM(H13:J13) -> 0 | L13: =ROUND(F13*E13,2) -> 0 | M13: =ROUND(H13*E13,2) -> 0 | N13: =ROUND(I13*E13,2) -> 0 | O13: =ROUND(J13*E13,2) -> 0 | P13: =SUM(M13:O13) -> 0
A14: 0 | C14: S 1.1 | H14: =ROUND(F14*G14,2) -> 0 | K14: =SUM(H14:J14) -> 0 | L14: =ROUND(F14*E14,2) -> 0 | M14: =ROUND(H14*E14,2) -> 0 | N14: =ROUND(I14*E14,2) -> 0 | O14: =ROUND(J14*E14,2) -> 0 | P14: =SUM(M14:O14) -> 0
A15: 1 | C15: Gipškartona starpsienu karkasa (100mm) izbūve Knauf W626 karkasa sistēma. UW,CW profila , Skrūves, stiprinājumi, | D15: m2 | E15: 255.56 | K15: =SUM(H15:J15) -> 0 | L15: =ROUND(F15*E15,2) -> 0 | M15: =ROUND(H15*E15,2) -> 0 | N15: =ROUND(I15*E15,2) -> 0 | O15: =ROUND(J15*E15,2) -> 0 | P15: =SUM(M15:O15) -> 0
A16: 2 | C16: Vates iestrāde karkasā skaņas izolācijai. Skaņas izolācijas plāksnes 100 mm | D16: m2 | E16: 255.56 | K16: =SUM(H16:J16) -> 0 | L16: =ROUND(F16*E16,2) -> 0 | M16: =ROUND(H16*E16,2) -> 0 | N16: =ROUND(I16*E16,2) -> 0 | O16: =ROUND(J16*E16,2) -> 0 | P16: =SUM(M16:O16) -> 0
A17: 3 | C17: Karkasu apšūšana ar ģipškartonu. Ģipškartona plātne GKB Knauf vai ekvivalents ; Knauf skrūves TN 25, vai ekvivalents | D17: m2 | E17: =E16*2 -> 511.12 | J17: =0.15*H17 -> 0 | K17: =SUM(H17:J17) -> 0 | L17: =ROUND(F17*E17,2) -> 0 | M17: =ROUND(H17*E17,2) -> 0 | N17: =ROUND(I17*E17,2) -> 0 | O17: =ROUND(J17*E17,2) -> 0 | P17: =SUM(M17:O17) -> 0
A18: 0 | C18: S 1.1a | K18: =SUM(H18:J18) -> 0 | L18: =ROUND(F18*E18,2) -> 0 | M18: =ROUND(H18*E18,2) -> 0 | N18: =ROUND(I18*E18,2) -> 0 | O18: =ROUND(J18*E18,2) -> 0 | P18: =SUM(M18:O18) -> 0
A19: 4 | C19: Gipškartona starpsienu karkasa (100mm) izbūve Knauf W626 karkasa sistēma. UW,CW profila , Skrūves, stiprinājumi, | D19: m2 | E19: 42.44 | K19: =SUM(H19:J19) -> 0 | L19: =ROUND(F19*E19,2) -> 0 | M19: =ROUND(H19*E19,2) -> 0 | N19: =ROUND(I19*E19,2) -> 0 | O19: =ROUND(J19*E19,2) -> 0 | P19: =SUM(M19:O19) -> 0
A20: 5 | C20: Vates iestrāde karkasā skaņas izolācijai. Skaņas izolācijas plāksnes 100 mm | D20: m2 | E20: 42.44 | K20: =SUM(H20:J20) -> 0 | L20: =ROUND(F20*E20,2) -> 0 | M20: =ROUND(H20*E20,2) -> 0 | N20: =ROUND(I20*E20,2) -> 0 | O20: =ROUND(J20*E20,2) -> 0 | P20: =SUM(M20:O20) -> 0
A21: 6 | C21: Karkasu apšūšana ar ģipškartonu. Ģipškartona plātne Blue GKFI Knauf vai ekvivalents ; Knauf skrūves TN 25, vai ekvivalents | D21: m2 | E21: =E20*2 -> 84.88 | J21: =0.15*H21 -> 0 | K21: =SUM(H21:J21) -> 0 | L21: =ROUND(F21*E21,2) -> 0 | M21: =ROUND(H21*E21,2) -> 0 | N21: =ROUND(I21*E21,2) -> 0 | O21: =ROUND(J21*E21,2) -> 0 | P21: =SUM(M21:O21) -> 0
A22: 0 | C22: S 1.2 | K22: =SUM(H22:J22) -> 0 | L22: =ROUND(F22*E22,2) -> 0 | M22: =ROUND(H22*E22,2) -> 0 | N22: =ROUND(I22*E22,2) -> 0 | O22: =ROUND(J22*E22,2) -> 0 | P22: =SUM(M22:O22) -> 0
A23: 7 | C23: Gipškartona starpsienu karkasa (75mm) izbūve Knauf W626 karkasa sistēma. UW,CW profila , Skrūves, stiprinājumi, | D23: m2 | E23: 19.59 | K23: =SUM(H23:J23) -> 0 | L23: =ROUND(F23*E23,2) -> 0 | M23: =ROUND(H23*E23,2) -> 0 | N23: =ROUND(I23*E23,2) -> 0 | O23: =ROUND(J23*E23,2) -> 0 | P23: =SUM(M23:O23) -> 0
A24: 8 | C24: Vates iestrāde karkasā skaņas izolācijai. Skaņas izolācijas plāksnes 75 mm | D24: m2 | E24: 19.59 | K24: =SUM(H24:J24) -> 0 | L24: =ROUND(F24*E24,2) -> 0 | M24: =ROUND(H24*E24,2) -> 0 | N24: =ROUND(I24*E24,2) -> 0 | O24: =ROUND(J24*E24,2) -> 0 | P24: =SUM(M24:O24) -> 0
A25: 9 | C25: Karkasu apšūšana ar ģipškartonu. Ģipškartona plātne RED GKF Knauf vai ekvivalents ; Knauf skrūves , vai ekvivalents | D25: m2 | E25: 19.59 | J25: =0.15*H25 -> 0 | K25: =SUM(H25:J25) -> 0 | L25: =ROUND(F25*E25,2) -> 0 | M25: =ROUND(H25*E25,2) -> 0 | N25: =ROUND(I25*E25,2) -> 0 | O25: =ROUND(J25*E25,2) -> 0 | P25: =SUM(M25:O25) -> 0
F26: 0 | G26: 0
C27: Tiešās izmaksas kopā t.sk. darba devēja sociālais nodoklis(23,59%) | L27: =SUM(L13:L26) -> 0 | M27: =SUM(M13:M26) -> 0 | N27: =SUM(N13:N26) -> 0 | O27: =SUM(O13:O26) -> 0 | P27: =SUM(P13:P26) -> 0
B29: Piezīmes:
A30: Visas atsauces uz materiālu un izstrādājumu izgatavotaj firmām, kuras norādītas būvprojektā, liecina tikai par šo materiālu un izstrādājumu tehniskajiem parametriem un kvalitātes līmeni, to nomaiņa ir iespējama ar citiem tehniski un kvalitatīvi ekvivalentiem būvizstrādājumiem, iepriekš saskaņojot tos ar projekta autoriem un uzrādot atbilstības sertifikātus.
B34: Sastādīja: | L34: =Koptame_PV!B39 -> Pārbaudīja:
C35: =Koptame_PV!C34 -> 0 | M35: =Koptame_PV!C40 -> 0
C36: =Koptame_PV!C35 -> 0 | M36: =Koptame_PV!C41 -> 0

Sheet 1.8._PV
G1: Lokālā tāme Nr. | H1: =kops1_PV!B23 -> 1.8._PV
A2: =C13 -> Grīdas
C3: Būves nosaukums: | D3: =Koptame_PV!C11 -> Ēkas pārbūve un teritorijas labiekārtošana
C4: Objekta nosaukums: | D4: =Koptame_PV!C12 -> Ēkas pārbūve un teritorijas labiekārtošana(Lietotāja līdzekļi)
C5: Objekta adrese: | D5: =Koptame_PV!C13 -> Citadeles iela 7, Rīga
C6: =Koptame_PV!B14 -> Pasūtījuma Nr. | D6: =Koptame_PV!C14 -> n
A7: =Koptame_PV!B17 -> Tāme sastādīta 2023.gada tirgus cenās, pamatojoties uz SIA „Baltex Group” būvprojekta rasējumiem un darbu apjomiem | O7: Tāmes izmaksas euro: | P7: =P51 -> 0
L9: =Koptame_PV!D16 -> Tāme sastādīta:
A11: Nr.p.k. | B11: Kods | C11: Būvdarbu nosaukums | D11: Mērvienība | E11: Daudzums | F11: Vienības izmaksas | L11: Kopā uz visu apjomu
F12: Laika norma (c/h) | G12: Darba samaksas likme (euro/h) | H12: Darba alga (euro) | I12: Būvizstrādājumi (euro) | J12: Mehānismi (euro) | K12: Kopā (euro) | L12: Darbietilpība (c/h) | M12: Darba alga (euro) | N12: Būvizstrādājumi (euro) | O12: Mehānismi (euro) | P12: Summa (euro)
C13: =kops1_PV!C23 -> Grīdas | F13: 0 | G13: 0 | K13: =SUM(H13:J13) -> 0 | L13: =ROUND(F13*E13,2) -> 0 | M13: =ROUND(H13*E13,2) -> 0 | N13: =ROUND(I13*E13,2) -> 0 | O13: =ROUND(J13*E13,2) -> 0 | P13: =SUM(M13:O13) -> 0
A14: 0 | C14: G1.1 Grīda uz grunts | H14: =ROUND(F14*G14,2) -> 0 | K14: =SUM(H14:J14) -> 0 | L14: =ROUND(F14*E14,2) -> 0 | M14: =ROUND(H14*E14,2) -> 0 | N14: =ROUND(I14*E14,2) -> 0 | O14: =ROUND(J14*E14,2) -> 0 | P14: =SUM(M14:O14) -> 0
A15: 1 | C15: Estrich betona klona slāņa ieklāšana 50 mm | D15: m2 | E15: 176.23 | K15: =SUM(H15:J15) -> 0 | L15: =ROUND(F15*E15,2) -> 0 | M15: =ROUND(H15*E15,2) -> 0 | N15: =ROUND(I15*E15,2) -> 0 | O15: =ROUND(J15*E15,2) -> 0 | P15: =SUM(M15:O15) -> 0
A16: 0 | C16: G1.2 Grīda uz grunts siltināta | K16: =SUM(H16:J16) -> 0 | L16: =ROUND(F16*E16,2) -> 0 | M16: =ROUND(H16*E16,2) -> 0 | N16: =ROUND(I16*E16,2) -> 0 | O16: =ROUND(J16*E16,2) -> 0 | P16: =SUM(M16:O16) -> 0
A17: 2 | C17: Estrich betona klona slāņa ieklāšana 50 mm | D17: m2 | E17: 47.09 | K17: =SUM(H17:J17) -> 0 | L17: =ROUND(F17*E17,2) -> 0 | M17: =ROUND(H17*E17,2) -> 0 | N17: =ROUND(I17*E17,2) -> 0 | O17: =ROUND(J17*E17,2) -> 0 | P17: =SUM(M17:O17) -> 0
A18: 3 | C18: Siltumizolācijas ierīkošana; Ekstrudētais putupolistirols 100 mm | D18: m2 | E18: 47.09 | K18: =SUM(H18:J18) -> 0 | L18: =ROUND(F18*E18,2) -> 0 | M18: =ROUND(H18*E18,2) -> 0 | N18: =ROUND(I18*E18,2) -> 0 | O18: =ROUND(J18*E18,2) -> 0 | P18: =SUM(M18:O18) -> 0
A19: 0 | C19: G2.1 1. stāva pārsegums | K19: =SUM(H19:J19) -> 0 | L19: =ROUND(F19*E19,2) -> 0 | M19: =ROUND(H19*E19,2) -> 0 | N19: =ROUND(I19*E19,2) -> 0 | O19: =ROUND(J19*E19,2) -> 0 | P19: =SUM(M19:O19) -> 0
A20: 4 | C20: Estrich betona klona slāņa ieklāšana 60 mm | D20: m2 | E20: =242.59+45.41 -> 288 | K20: =SUM(H20:J20) -> 0 | L20: =ROUND(F20*E20,2) -> 0 | M20: =ROUND(H20*E20,2) -> 0 | N20: =ROUND(I20*E20,2) -> 0 | O20: =ROUND(J20*E20,2) -> 0 | P20: =SUM(M20:O20) -> 0
A21: 5 | C21: ThermoWhite izolācijas ierīkošana; 190 mm | D21: m2 | E21: =242.59+45.41 -> 288 | K21: =SUM(H21:J21) -> 0 | L21: =ROUND(F21*E21,2) -> 0 | M21: =ROUND(H21*E21,2) -> 0 | N21: =ROUND(I21*E21,2) -> 0 | O21: =ROUND(J21*E21,2) -> 0 | P21: =SUM(M21:O21) -> 0
A22: 0 | C22: G3.1 2. stāva pārsegums | K22: =SUM(H22:J22) -> 0 | L22: =ROUND(F22*E22,2) -> 0 | M22: =ROUND(H22*E22,2) -> 0 | N22: =ROUND(I22*E22,2) -> 0 | O22: =ROUND(J22*E22,2) -> 0 | P22: =SUM(M22:O22) -> 0
A23: 6 | C23: Izolācijas no vates ierīkošana, piem., Paroc (b=100)vai ekvivalents | D23: m2 | E23: 302.76 | K23: =SUM(H23:J23) -> 0 | L23: =ROUND(F23*E23,2) -> 0 | M23: =ROUND(H23*E23,2) -> 0 | N23: =ROUND(I23*E23,2) -> 0 | O23: =ROUND(J23*E23,2) -> 0 | P23: =SUM(M23:O23) -> 0
C24: Nesošo koka konstrukciju-sijas izgatavošana un montāža sagatavotas atbilstoši BK norādījumiem t.sk. Palīgmateriāli. Kokmateriālu klase Apstrādātas ar antiseptiķi-antipirēnu | D24: iekļauts sadaļā "pārsegumi" VNĪ daļā | K24: =SUM(H24:J24) -> 0 | L24: =ROUND(F24*E24,2) -> 0 | M24: =ROUND(H24*E24,2) -> 0 | N24: =ROUND(I24*E24,2) -> 0 | O24: =ROUND(J24*E24,2) -> 0 | P24: =SUM(M24:O24) -> 0
A25: 7 | C25: Latojuma ierīkošana. Latojums 45x45mm s.800 mm, stiprinājumi | D25: m2 | E25: 302.76 | K25: =SUM(H25:J25) -> 0 | L25: =ROUND(F25*E25,2) -> 0 | M25: =ROUND(H25*E25,2) -> 0 | N25: =ROUND(I25*E25,2) -> 0 | O25: =ROUND(J25*E25,2) -> 0 | P25: =SUM(M25:O25) -> 0
A26: 8 | C26: OSB plāksnes apšuvums 15 mm t.sk. Stiprinājumi | D26: m2 | E26: 302.76 | J26: =0.15*H26 -> 0 | K26: =SUM(H26:J26) -> 0 | L26: =ROUND(F26*E26,2) -> 0 | M26: =ROUND(H26*E26,2) -> 0 | N26: =ROUND(I26*E26,2) -> 0 | O26: =ROUND(J26*E26,2) -> 0 | P26: =SUM(M26:O26) -> 0
A27: 9 | C27: Tvaika caurlaidīga papīra ieklāšana | D27: m2 | E27: 302.76 | J27: =0.15*H27 -> 0 | K27: =SUM(H27:J27) -> 0 | L27: =ROUND(F27*E27,2) -> 0 | M27: =ROUND(H27*E27,2) -> 0 | N27: =ROUND(I27*E27,2) -> 0 | O27: =ROUND(J27*E27,2) -> 0 | P27: =SUM(M27:O27) -> 0
A28: 10 | C28: Ģipškartona plātnes ieklāšana Knauf Brown vai ekvivalents ; palīgmateriāli | D28: m2 | E28: 302.76 | J28: =0.15*H28 -> 0 | K28: =SUM(H28:J28) -> 0 | L28: =ROUND(F28*E28,2) -> 0 | M28: =ROUND(H28*E28,2) -> 0 | N28: =ROUND(I28*E28,2) -> 0 | O28: =ROUND(J28*E28,2) -> 0 | P28: =SUM(M28:O28) -> 0
A29: 11 | C29: Ģipškartona plātnes ieklāšana Knauf Brown vai ekvivalents ; palīgmateriāli | D29: m2 | E29: 302.76 | J29: =0.15*H29 -> 0 | K29: =SUM(H29:J29) -> 0 | L29: =ROUND(F29*E29,2) -> 0 | M29: =ROUND(H29*E29,2) -> 0 | N29: =ROUND(I29*E29,2) -> 0 | O29: =ROUND(J29*E29,2) -> 0 | P29: =SUM(M29:O29) -> 0
A30: 0 | C30: G4.1 3. stāva pārsegums | K30: =SUM(H30:J30) -> 0 | L30: =ROUND(F30*E30,2) -> 0 | M30: =ROUND(H30*E30,2) -> 0 | N30: =ROUND(I30*E30,2) -> 0 | O30: =ROUND(J30*E30,2) -> 0 | P30: =SUM(M30:O30) -> 0
A31: 12 | C31: Izolācijas no vates ierīkošana, piem., Paroc (b=200)vai ekvivalents | D31: m2 | E31: 285.49 | K31: =SUM(H31:J31) -> 0 | L31: =ROUND(F31*E31,2) -> 0 | M31: =ROUND(H31*E31,2) -> 0 | N31: =ROUND(I31*E31,2) -> 0 | O31: =ROUND(J31*E31,2) -> 0 | P31: =SUM(M31:O31) -> 0
A32: 0 | C32: Lewis loksnes ieklāšana 16 mm t.sk. Palīgmateriāli | D32: iekļauts sadaļā "pārsegumi" VNĪ daļā | K32: =SUM(H32:J32) -> 0 | L32: =ROUND(F32*E32,2) -> 0 | M32: =ROUND(H32*E32,2) -> 0 | N32: =ROUND(I32*E32,2) -> 0 | O32: =ROUND(J32*E32,2) -> 0 | P32: =SUM(M32:O32) -> 0
A33: 0 | C33: Smalkas frakcijas betona B25 kārtas ierīkošana 64 mm | D33: iekļauts sadaļā "pārsegumi" VNĪ daļā | K33: =SUM(H33:J33) -> 0 | L33: =ROUND(F33*E33,2) -> 0 | M33: =ROUND(H33*E33,2) -> 0 | N33: =ROUND(I33*E33,2) -> 0 | O33: =ROUND(J33*E33,2) -> 0 | P33: =SUM(M33:O33) -> 0
A34: 0 | C34: Grīdu apdare | K34: =SUM(H34:J34) -> 0 | L34: =ROUND(F34*E34,2) -> 0 | M34: =ROUND(H34*E34,2) -> 0 | N34: =ROUND(I34*E34,2) -> 0 | O34: =ROUND(J34*E34,2) -> 0 | P34: =SUM(M34:O34) -> 0
A35: 13 | C35: Grīdu izlīdzināšana ar pašizlīdzinošo sastāvu Pašizlīdzinošā masa grīdām (piem., Baumit Nivello 10) ~3mm | D35: m2 | E35: =E36+E37+E38 -> 624.1 | K35: =SUM(H35:J35) -> 0 | L35: =ROUND(F35*E35,2) -> 0 | M35: =ROUND(H35*E35,2) -> 0 | N35: =ROUND(I35*E35,2) -> 0 | O35: =ROUND(J35*E35,2) -> 0 | P35: =SUM(M35:O35) -> 0
A36: 14 | C36: Vinila seguma ieklāšana t.sk. palīgmateriāl,Homogēns, strāvu izkliedējošs vinila grīdas segums Forbo Sphera SD - Biezums 2.0mm, 34/43 klase, - Pretslīde R9, virsmas apstrāde Smart TOP, - Kopējais svars - 2 900g/m² - Paliekošais iespiedums: vidējā izmērītā vērtība 0.03mm - Izmēru stabilitāte 0,20%, Ugunsdrošība Bfl-s1 | D36: m2 | E36: 6.8 | J36: =0.15*H36 -> 0 | K36: =SUM(H36:J36) -> 0 | L36: =ROUND(F36*E36,2) -> 0 | M36: =ROUND(H36*E36,2) -> 0 | N36: =ROUND(I36*E36,2) -> 0 | O36: =ROUND(J36*E36,2) -> 0 | P36: =SUM(M36:O36) -> 0
A37: 15 | C37: Vinila seguma ieklāšana t.sk. palīgmateriāl,Heterogēns vinila grīdas segums Allura (LVT) - Flīzes izmērs: 500x500mm - Biezums 2.50mm, nodiluma slāņa biezums 0.70mm, 34/43 klase - Kopējais svars - 3600g/m², - Pretslīde R10, izmēru stabilitāte < 0,10% - PUR aizsargslānis, - Ugunsdrošība: Bfl-s1, - Trieciena trokšņa slāpēšana ≤ 6 dB - Paliekošais iespiedums: vidējā izmērītā vērtība 0.10 mm | D37: m2 | E37: =24.68+13.36 -> 38.04 | J37: =0.15*H37 -> 0 | K37: =SUM(H37:J37) -> 0 | L37: =ROUND(F37*E37,2) -> 0 | M37: =ROUND(H37*E37,2) -> 0 | N37: =ROUND(I37*E37,2) -> 0 | O37: =ROUND(J37*E37,2) -> 0 | P37: =SUM(M37:O37) -> 0
A38: 16 | C38: Paklāja seguma ieklāšana t.sk. palīgmateriāl,Cilpveida Paklājflīžu grīdas segums Modulyss - Pamatne: back2back, 100% pārstrādāts bitumens, - Šķiedras materiāls: 100% PA6 - Šķiedras svars: 605g/m2, - Kopējais augstums: 6.6mm, šķiedru augstums: 3.1mm, dūrienu skaits 218000/m2, - Izmērs 500x500mm, izmēru stabilitāte 0,20%, - Trieciena trokšņa slāpēšana:23dB - Nodilumizturības klase: 33-LC1, - Ugunsdrošība Bfl-s1 | D38: m2 | E38: =90.65+259.6+229.01 -> 579.26 | J38: =0.15*H38 -> 0 | K38: =SUM(H38:J38) -> 0 | L38: =ROUND(F38*E38,2) -> 0 | M38: =ROUND(H38*E38,2) -> 0 | N38: =ROUND(I38*E38,2) -> 0 | O38: =ROUND(J38*E38,2) -> 0 | P38: =SUM(M38:O38) -> 0
A39: 17 | C39: Hidroizolācija no uzziežamas membrānas Knauf Flachendicht F Kaučuka hidroizolācija vai ekvivalents | D39: m2 | E39: =E42+E41+E40 -> 145.71 | K39: =SUM(H39:J39) -> 0 | L39: =ROUND(F39*E39,2) -> 0 | M39: =ROUND(H39*E39,2) -> 0 | N39: =ROUND(I39*E39,2) -> 0 | O39: =ROUND(J39*E39,2) -> 0 | P39: =SUM(M39:O39) -> 0
A40: 18 | C40: Flīžu seguma ierīkošana. akmens masas grīdas flīzes t.sk.palīgmateriāli Pirmās šķiras akmens masas flīze REFIN Foil - Izmērs 600 x 600mm - Biezums: 9mm, Pretslīde:R10 - Rektificēta - Ķīmiskā izturība – Min. A - Artikuls: NQ40 | D40: m2 | E40: =60.88+21.1 -> 81.98 | K40: =SUM(H40:J40) -> 0 | L40: =ROUND(F40*E40,2) -> 0 | M40: =ROUND(H40*E40,2) -> 0 | N40: =ROUND(I40*E40,2) -> 0 | O40: =ROUND(J40*E40,2) -> 0 | P40: =SUM(M40:O40) -> 0
A41: 19 | C41: Flīžu seguma ierīkošana. akmens masas grīdas flīzes t.sk.palīgmateriāli Pirmās šķiras pilnas akmens masas flīze RAKO Taurus Granit - Izmērs 298 x 298mm - Biezums: 9mm, Pretslīde:R9/A - Noturība pret izlieci – Min. 35N/mm2 - Ķīmiskā izturība – Min. A | D41: m2 | E41: =46.13 -> 46.13 | K41: =SUM(H41:J41) -> 0 | L41: =ROUND(F41*E41,2) -> 0 | M41: =ROUND(H41*E41,2) -> 0 | N41: =ROUND(I41*E41,2) -> 0 | O41: =ROUND(J41*E41,2) -> 0 | P41: =SUM(M41:O41) -> 0
A42: 20 | C42: Flīžu seguma ierīkošana. akmens masas grīdas flīzes t.sk.palīgmateriāli Pirmās šķiras pilnas akmens masas flīze RAKO Taurus color - Izmērs 198 x 198mm - Biezums: 9mm, - Pretslīde:R10/A - Ūdens absorbcija – E < 2.5% - Noturība pret izlieci – Min. 35N/mm2 - Izturība pret netīrumiem – Min. Cl. 3 - Ķīmiskā izturība – Min. A | D42: m2 | E42: =7.58+5.8+4.22 -> 17.6 | K42: =SUM(H42:J42) -> 0 | L42: =ROUND(F42*E42,2) -> 0 | M42: =ROUND(H42*E42,2) -> 0 | N42: =ROUND(I42*E42,2) -> 0 | O42: =ROUND(J42*E42,2) -> 0 | P42: =SUM(M42:O42) -> 0
...

Sheet 1.9._PV
G1: Lokālā tāme Nr. | H1: =kops1_PV!B24 -> 1.9._PV
A2: =C13 -> Ailu aizpildījuma elementi
C3: Būves nosaukums: | D3: =Koptame_PV!C11 -> Ēkas pārbūve un teritorijas labiekārtošana
C4: Objekta nosaukums: | D4: =Koptame_PV!C12 -> Ēkas pārbūve un teritorijas labiekārtošana(Lietotāja līdzekļi)
C5: Objekta adrese: | D5: =Koptame_PV!C13 -> Citadeles iela 7, Rīga
C6: =Koptame_PV!B14 -> Pasūtījuma Nr. | D6: =Koptame_PV!C14 -> n
A7: =Koptame_PV!B17 -> Tāme sastādīta 2023.gada tirgus cenās, pamatojoties uz SIA „Baltex Group” būvprojekta rasējumiem un darbu apjomiem | O7: Tāmes izmaksas euro: | P7: =P62 -> 0
L9: =Koptame_PV!D16 -> Tāme sastādīta:
A11: Nr.p.k. | B11: Kods | C11: Būvdarbu nosaukums | D11: Mērvienība | E11: Daudzums | F11: Vienības izmaksas | L11: Kopā uz visu apjomu
F12: Laika norma (c/h) | G12: Darba samaksas likme (euro/h) | H12: Darba alga (euro) | I12: Būvizstrādājumi (euro) | J12: Mehānismi (euro) | K12: Kopā (euro) | L12: Darbietilpība (c/h) | M12: Darba alga (euro) | N12: Būvizstrādājumi (euro) | O12: Mehānismi (euro) | P12: Summa (euro)
B13: 0 | C13: =kops1_PV!C24 -> Ailu aizpildījuma elementi | F13: 0 | G13: 0 | K13: =SUM(H13:J13) -> 0 | L13: =ROUND(F13*E13,2) -> 0 | M13: =ROUND(H13*E13,2) -> 0 | N13: =ROUND(I13*E13,2) -> 0 | O13: =ROUND(J13*E13,2) -> 0 | P13: =SUM(M13:O13) -> 0
A14: 1 | C14: Iekšējo palodžu montāža t.sk. Stiprinājumi Laminēts mitrumizturīgs finieris ar perforējumu siltā gaisa cirkulācijai, 2900x630x24(b)mm | D14: gb | E14: 4 | J14: =0.15*H14 -> 0 | K14: =SUM(H14:J14) -> 0 | L14: =ROUND(F14*E14,2) -> 0 | M14: =ROUND(H14*E14,2) -> 0 | N14: =ROUND(I14*E14,2) -> 0 | O14: =ROUND(J14*E14,2) -> 0 | P14: =SUM(M14:O14) -> 0
A15: 2 | C15: Iekšējo palodžu montāža t.sk. Stiprinājumi Laminēts mitrumizturīgs finieris, 950x250x24(b) mm | D15: gb | E15: 2 | J15: =0.15*H15 -> 0 | K15: =SUM(H15:J15) -> 0 | L15: =ROUND(F15*E15,2) -> 0 | M15: =ROUND(H15*E15,2) -> 0 | N15: =ROUND(I15*E15,2) -> 0 | O15: =ROUND(J15*E15,2) -> 0 | P15: =SUM(M15:O15) -> 0
A16: 3 | C16: Iekšējo palodžu montāža t.sk. Stiprinājumi Dabiska koka palodzes, beicētas, 1300x700x~30(b)mm | D16: gb | E16: 24 | J16: =0.15*H16 -> 0 | K16: =SUM(H16:J16) -> 0 | L16: =ROUND(F16*E16,2) -> 0 | M16: =ROUND(H16*E16,2) -> 0 | N16: =ROUND(I16*E16,2) -> 0 | O16: =ROUND(J16*E16,2) -> 0 | P16: =SUM(M16:O16) -> 0
A17: 4 | C17: Iekšējo palodžu montāža t.sk. Stiprinājumi Dabiska koka palodzes, beicētas, 1100x600x~30(b)mm, | D17: gb | E17: 13 | J17: =0.15*H17 -> 0 | K17: =SUM(H17:J17) -> 0 | L17: =ROUND(F17*E17,2) -> 0 | M17: =ROUND(H17*E17,2) -> 0 | N17: =ROUND(I17*E17,2) -> 0 | O17: =ROUND(J17*E17,2) -> 0 | P17: =SUM(M17:O17) -> 0
A18: 5 | C18: Ārējo skārda palodžu montāža t.sk. blīvējums , stiprinājumi, palīgmateriāli | D18: m | E18: 72.7 | J18: =0.15*H18 -> 0 | K18: =SUM(H18:J18) -> 0 | L18: =ROUND(F18*E18,2) -> 0 | M18: =ROUND(H18*E18,2) -> 0 | N18: =ROUND(I18*E18,2) -> 0 | O18: =ROUND(J18*E18,2) -> 0 | P18: =SUM(M18:O18) -> 0
A19: 6 | C19: Ārdurvju remonts saskaņā ar AR-5.1 AD-01 1,1x2,53m t.sk.Montāžas materiāli (blīvējošs materiāls, stiprinājumi u.c.) Remontēt, atjaunot krāsojumu. Piekļuves kontrole. Evakuācijas durvis - viegli atveramas no telpas iekšpuses bez aizkavējuma un šķēršļiem, aprīkotas ar pašaizvēršanās mehānismu. Ne mazākā kā 4. atkārtotas atvēršanas/aizvēršanas izturības klase. Ūdens necaurlaidības klase ne zemāka par 7B | D19: gb | E19: 1 | J19: =0.15*H19 -> 0 | K19: =SUM(H19:J19) -> 0 | L19: =ROUND(F19*E19,2) -> 0 | M19: =ROUND(H19*E19,2) -> 0 | N19: =ROUND(I19*E19,2) -> 0 | O19: =ROUND(J19*E19,2) -> 0 | P19: =SUM(M19:O19) -> 0
A20: 7 | C20: Ārdurvju montāža saskaņā ar AR-5.1 AD-02 1,8x3,142m t.sk.Montāžas materiāli (blīvējošs materiāls, stiprinājumi u.c.) Remontēt, atjaunot krāsojumu. Evakuācijas durvis - viegli atveramas no telpas iekšpuses bez aizkavējuma un šķēršļiem, aprīkotas ar pašaizvēršanās mehānismu. Ne mazākā kā 4. atkārtotas atvēršanas/aizvēršanas izturības klase. Ūdens necaurlaidības klase ne zemāka par 7B | D20: gb | E20: 1 | J20: =0.15*H20 -> 0 | K20: =SUM(H20:J20) -> 0 | L20: =ROUND(F20*E20,2) -> 0 | M20: =ROUND(H20*E20,2) -> 0 | N20: =ROUND(I20*E20,2) -> 0 | O20: =ROUND(J20*E20,2) -> 0 | P20: =SUM(M20:O20) -> 0
A21: 8 | C21: Iekšdurvju montāža saskaņā ar AR-5.2 | D21: gb | E21: 71.4 | J21: =0.15*H21 -> 0 | K21: =SUM(H21:J21) -> 0 | L21: =ROUND(F21*E21,2) -> 0 | M21: =ROUND(H21*E21,2) -> 0 | N21: =ROUND(I21*E21,2) -> 0 | O21: =ROUND(J21*E21,2) -> 0 | P21: =SUM(M21:O21) -> 0
A22: 8.1. | C22: D1-01 ( 1,05x2,3 m) | D22: gb. | E22: 1 | K22: =SUM(H22:J22) -> 0 | L22: =ROUND(F22*E22,2) -> 0 | M22: =ROUND(H22*E22,2) -> 0 | N22: =ROUND(I22*E22,2) -> 0 | O22: =ROUND(J22*E22,2) -> 0 | P22: =SUM(M22:O22) -> 0
A23: 8.2. | C23: D1-02 ( 1x2,1 m) | D23: gb. | E23: 1 | K23: =SUM(H23:J23) -> 0 | L23: =ROUND(F23*E23,2) -> 0 | M23: =ROUND(H23*E23,2) -> 0 | N23: =ROUND(I23*E23,2) -> 0 | O23: =ROUND(J23*E23,2) -> 0 | P23: =SUM(M23:O23) -> 0
A24: 8.3. | C24: D1-03 ( 1x2,1 m) | D24: gb. | E24: 1 | K24: =SUM(H24:J24) -> 0 | L24: =ROUND(F24*E24,2) -> 0 | M24: =ROUND(H24*E24,2) -> 0 | N24: =ROUND(I24*E24,2) -> 0 | O24: =ROUND(J24*E24,2) -> 0 | P24: =SUM(M24:O24) -> 0
A25: 8.4. | C25: D1-04 ( 1x2,1 m) | D25: gb. | E25: 1 | K25: =SUM(H25:J25) -> 0 | L25: =ROUND(F25*E25,2) -> 0 | M25: =ROUND(H25*E25,2) -> 0 | N25: =ROUND(I25*E25,2) -> 0 | O25: =ROUND(J25*E25,2) -> 0 | P25: =SUM(M25:O25) -> 0
A26: 8.5. | C26: D1-05 ( 0,9x2,09 m) | D26: gb. | E26: 1 | K26: =SUM(H26:J26) -> 0 | L26: =ROUND(F26*E26,2) -> 0 | M26: =ROUND(H26*E26,2) -> 0 | N26: =ROUND(I26*E26,2) -> 0 | O26: =ROUND(J26*E26,2) -> 0 | P26: =SUM(M26:O26) -> 0
A27: 8.6. | C27: D1-06 ( 1,05x2 m) | D27: gb. | E27: 1 | K27: =SUM(H27:J27) -> 0 | L27: =ROUND(F27*E27,2) -> 0 | M27: =ROUND(H27*E27,2) -> 0 | N27: =ROUND(I27*E27,2) -> 0 | O27: =ROUND(J27*E27,2) -> 0 | P27: =SUM(M27:O27) -> 0
A28: 8.7. | C28: D1-07 ( 0,8x2 m) | D28: gb. | E28: 1 | K28: =SUM(H28:J28) -> 0 | L28: =ROUND(F28*E28,2) -> 0 | M28: =ROUND(H28*E28,2) -> 0 | N28: =ROUND(I28*E28,2) -> 0 | O28: =ROUND(J28*E28,2) -> 0 | P28: =SUM(M28:O28) -> 0
A29: 8.8. | C29: D1-08 ( 0,9x2,1 m) | D29: gb. | E29: 1 | K29: =SUM(H29:J29) -> 0 | L29: =ROUND(F29*E29,2) -> 0 | M29: =ROUND(H29*E29,2) -> 0 | N29: =ROUND(I29*E29,2) -> 0 | O29: =ROUND(J29*E29,2) -> 0 | P29: =SUM(M29:O29) -> 0
A30: 8.9. | C30: D1-09 ( 1x2,1 m) | D30: gb. | E30: 1 | K30: =SUM(H30:J30) -> 0 | L30: =ROUND(F30*E30,2) -> 0 | M30: =ROUND(H30*E30,2) -> 0 | N30: =ROUND(I30*E30,2) -> 0 | O30: =ROUND(J30*E30,2) -> 0 | P30: =SUM(M30:O30) -> 0
A31: 8.10. | C31: D1-10 ( 0,8x2,1 m) | D31: gb. | E31: 1 | K31: =SUM(H31:J31) -> 0 | L31: =ROUND(F31*E31,2) -> 0 | M31: =ROUND(H31*E31,2) -> 0 | N31: =ROUND(I31*E31,2) -> 0 | O31: =ROUND(J31*E31,2) -> 0 | P31: =SUM(M31:O31) -> 0
A32: 8.11. | C32: D1-11 ( 0,9x2,1 m) | D32: gb. | E32: 1 | K32: =SUM(H32:J32) -> 0 | L32: =ROUND(F32*E32,2) -> 0 | M32: =ROUND(H32*E32,2) -> 0 | N32: =ROUND(I32*E32,2) -> 0 | O32: =ROUND(J32*E32,2) -> 0 | P32: =SUM(M32:O32) -> 0
A33: 8.12. | C33: D1-12 ( 0,9x2,1 m) | D33: gb. | E33: 1 | K33: =SUM(H33:J33) -> 0 | L33: =ROUND(F33*E33,2) -> 0 | M33: =ROUND(H33*E33,2) -> 0 | N33: =ROUND(I33*E33,2) -> 0 | O33: =ROUND(J33*E33,2) -> 0 | P33: =SUM(M33:O33) -> 0
... A57: 8.36. | C57: D3-12 ( 1x2,1 m) | D57: gb. | E57: 1 | K57: =SUM(H57:J57) -> 0 | L57: =ROUND(F57*E57,2) -> 0 | M57: =ROUND(H57*E57,2) -> 0 | N57: =ROUND(I57*E57,2) -> 0 | O57: =ROUND(J57*E57,2) -> 0 | P57: =SUM(M57:O57) -> 0
A58: 8.37. | C58: Montāžas materiāli (blīvējošs materiāls, stiprinājumi u.c.) | D58: m2 | E58: =E21 -> 71.4 | J58: 0 | K58: =SUM(H58:J58) -> 0 | L58: =ROUND(F58*E58,2) -> 0 | M58: =ROUND(H58*E58,2) -> 0 | N58: =ROUND(I58*E58,2) -> 0 | O58: =ROUND(J58*E58,2) -> 0 | P58: =SUM(M58:O58) -> 0
A59: 9 | C59: Bēniņu lūka ar izvelkamām kāpnēm. t.sk. Palīgmateriāli, stiprinājumi Firmas FARKO salokāmās kāpnes LML Lux ar metāla pakāpieniem un lūku 0,7x1,3 m saskaņā ar AR 5.1 | D59: kpl | E59: 1 | J59: =0.15*H59 -> 0 | K59: =SUM(H59:J59) -> 0 | L59: =ROUND(F59*E59,2) -> 0 | M59: =ROUND(H59*E59,2) -> 0 | N59: =ROUND(I59*E59,2) -> 0 | O59: =ROUND(J59*E59,2) -> 0 | P59: =SUM(M59:O59) -> 0
A60: 9 | C60: Esošās bēniņu lūkas remonts Vērtnēm un kārbai notīrama esošā krāsa un atjaunojams krāsojums. Tonis RAL 7037 Precizēt autoruzraudzības stadijā veicot paraugkrāsojumu uz vietas. | D60: kpl | E60: 1 | J60: =0.15*H60 -> 0 | K60: =SUM(H60:J60) -> 0 | L60: =ROUND(F60*E60,2) -> 0 | M60: =ROUND(H60*E60,2) -> 0 | N60: =ROUND(I60*E60,2) -> 0 | O60: =ROUND(J60*E60,2) -> 0 | P60: =SUM(M60:O60) -> 0
F61: 0 | G61: 0
C62: Tiešās izmaksas kopā t.sk. darba devēja sociālais nodoklis(23,59%) | L62: =SUM(L13:L61) -> 0 | M62: =SUM(M13:M61) -> 0 | N62: =SUM(N13:N61) -> 0 | O62: =SUM(O13:O61) -> 0 | P62: =SUM(P13:P61) -> 0
B64: Piezīmes:
A65: ='1.1._PV'!A32:G32 -> Visas atsauces uz materiālu un izstrādājumu izgatavotaj firmām, kuras norādītas būvprojektā, liecina tikai par šo materiālu un izstrādājumu tehniskajiem parametriem un kvalitātes līmeni, to nomaiņa ir iespējama ar citiem tehniski un kvalitatīvi ekvivalentiem būvizstrādājumiem, iepriekš saskaņojot tos ar projekta autoriem un uzrādot atbilstības sertifikātus.
B69: Sastādīja: | L69: =Koptame_PV!B39 -> Pārbaudīja:
...

Sheet 1.10._PV
G1: Lokālā tāme Nr. | H1: =kops1_PV!B25 -> 1.10._PV
A2: =C13 -> Iekšējie apdares darbi
C3: Būves nosaukums: | D3: =Koptame_PV!C11 -> Ēkas pārbūve un teritorijas labiekārtošana
C4: Objekta nosaukums: | D4: =Koptame_PV!C12 -> Ēkas pārbūve un teritorijas labiekārtošana(Lietotāja līdzekļi)
C5: Objekta adrese: | D5: =Koptame_PV!C13 -> Citadeles iela 7, Rīga
C6: =Koptame_PV!B14 -> Pasūtījuma Nr. | D6: =Koptame_PV!C14 -> n
A7: =Koptame_PV!B17 -> Tāme sastādīta 2023.gada tirgus cenās, pamatojoties uz SIA „Baltex Group” būvprojekta rasējumiem un darbu apjomiem | O7: Tāmes izmaksas euro: | P7: =P31 -> 0
L9: =Koptame_PV!D16 -> Tāme sastādīta:
A11: Nr.p.k. | B11: Kods | C11: Būvdarbu nosaukums | D11: Mērvienība | E11: Daudzums | F11: Vienības izmaksas | L11: Kopā uz visu apjomu
F12: Laika norma (c/h) | G12: Darba samaksas likme (euro/h) | H12: Darba alga (euro) | I12: Būvizstrādājumi (euro) | J12: Mehānismi (euro) | K12: Kopā (euro) | L12: Darbietilpība (c/h) | M12: Darba alga (euro) | N12: Būvizstrādājumi (euro) | O12: Mehānismi (euro) | P12: Summa (euro)
B13: 0 | C13: =kops1_PV!C25 -> Iekšējie apdares darbi | F13: 0 | G13: 0 | K13: =SUM(H13:J13) -> 0 | L13: =ROUND(F13*E13,2) -> 0 | M13: =ROUND(H13*E13,2) -> 0 | N13: =ROUND(I13*E13,2) -> 0 | O13: =ROUND(J13*E13,2) -> 0 | P13: =SUM(M13:O13) -> 0
A14: 0 | C14: Griesti | G14: 0 | H14: =ROUND(F14*G14,2) -> 0 | I14: 0 | J14: 0 | K14: =SUM(H14:J14) -> 0 | L14: =ROUND(F14*E14,2) -> 0 | M14: =ROUND(H14*E14,2) -> 0 | N14: =ROUND(I14*E14,2) -> 0 | O14: =ROUND(J14*E14,2) -> 0 | P14: =SUM(M14:O14) -> 0
A15: 1 | C15: Griestu metāla karkasa uzstādīšana, Skrūves, stiprinājumi, Knauf sistēma | D15: m2 | E15: =267.65+258.86 -> 526.51 | K15: =SUM(H15:J15) -> 0 | L15: =ROUND(F15*E15,2) -> 0 | M15: =ROUND(H15*E15,2) -> 0 | N15: =ROUND(I15*E15,2) -> 0 | O15: =ROUND(J15*E15,2) -> 0 | P15: =SUM(M15:O15) -> 0
A16: 2 | C16: Karkasu apšūšana ar ģipškartonu (1kārta). Ģipškartona plātne RED GKF Knauf vai ekvivalents ; Knauf skrūves vai ekvivalents | D16: m2 | E16: =E15 -> 526.51 | K16: =SUM(H16:J16) -> 0 | L16: =ROUND(F16*E16,2) -> 0 | M16: =ROUND(H16*E16,2) -> 0 | N16: =ROUND(I16*E16,2) -> 0 | O16: =ROUND(J16*E16,2) -> 0 | P16: =SUM(M16:O16) -> 0
A17: 3 | C17: Griestu apmetuma ierīkošana ar Knauf Vermiplaster | D17: m2 | E17: 196.1 | K17: =SUM(H17:J17) -> 0 | L17: =ROUND(F17*E17,2) -> 0 | M17: =ROUND(H17*E17,2) -> 0 | N17: =ROUND(I17*E17,2) -> 0 | O17: =ROUND(J17*E17,2) -> 0 | P17: =SUM(M17:O17) -> 0
A18: 4 | C18: Griestu špaktelēšana, slīpēšana , Vetonit vai ekvivalents špaktele, smilšpapīrs | D18: m2 | E18: =E17+E16 -> 722.61 | K18: =SUM(H18:J18) -> 0 | L18: =ROUND(F18*E18,2) -> 0 | M18: =ROUND(H18*E18,2) -> 0 | N18: =ROUND(I18*E18,2) -> 0 | O18: =ROUND(J18*E18,2) -> 0 | P18: =SUM(M18:O18) -> 0
A19: 5 | C19: Sagatavotu griestu gruntēšana | D19: m2 | E19: =E18 -> 722.61 | K19: =SUM(H19:J19) -> 0 | L19: =ROUND(F19*E19,2) -> 0 | M19: =ROUND(H19*E19,2) -> 0 | N19: =ROUND(I19*E19,2) -> 0 | O19: =ROUND(J19*E19,2) -> 0 | P19: =SUM(M19:O19) -> 0
A20: 6 | C20: Sagatavotu griestu krāsošana ar krāsām 2k. Balta, matēta t.sk. Visas inženierkomunikācijas un gala iekārtas (atklātās) krāsošana baltas,analogā tonī griestu plaknei | D20: m2 | E20: =E19 -> 722.61 | K20: =SUM(H20:J20) -> 0 | L20: =ROUND(F20*E20,2) -> 0 | M20: =ROUND(H20*E20,2) -> 0 | N20: =ROUND(I20*E20,2) -> 0 | O20: =ROUND(J20*E20,2) -> 0 | P20: =SUM(M20:O20) -> 0
A21: 7 | C21: Piekārto griestu ierīkošana. Balti akustisko griestu paneļi Rockfon® Eclipse, 1160x1160x40mm; t.sk. Stiprinājumi, palīgmateriāli | D21: m2 | E21: =13.86+35.64+30.87 -> 80.37 | K21: =SUM(H21:J21) -> 0 | L21: =ROUND(F21*E21,2) -> 0 | M21: =ROUND(H21*E21,2) -> 0 | N21: =ROUND(I21*E21,2) -> 0 | O21: =ROUND(J21*E21,2) -> 0 | P21: =SUM(M21:O21) -> 0
A22: 0 | C22: Sienas | K22: =SUM(H22:J22) -> 0 | L22: =ROUND(F22*E22,2) -> 0 | M22: =ROUND(H22*E22,2) -> 0 | N22: =ROUND(I22*E22,2) -> 0 | O22: =ROUND(J22*E22,2) -> 0 | P22: =SUM(M22:O22) -> 0
A23: 8 | C23: Sienu apmetuma ierīkošana ar Baumit MPI 25(b=10) (vai ekvivalentu) | D23: m2 | E23: =E24+E28 -> 2034.79 | K23: =SUM(H23:J23) -> 0 | L23: =ROUND(F23*E23,2) -> 0 | M23: =ROUND(H23*E23,2) -> 0 | N23: =ROUND(I23*E23,2) -> 0 | O23: =ROUND(J23*E23,2) -> 0 | P23: =SUM(M23:O23) -> 0
A24: 9 | C24: Sienu špaktelēšana, slīpēšana t.sk. Ailu apmales. , Vetonit vai ekvivalents špaktele, smilšpapīrs | D24: m2 | E24: =E25 -> 1855.58 | K24: =SUM(H24:J24) -> 0 | L24: =ROUND(F24*E24,2) -> 0 | M24: =ROUND(H24*E24,2) -> 0 | N24: =ROUND(I24*E24,2) -> 0 | O24: =ROUND(J24*E24,2) -> 0 | P24: =SUM(M24:O24) -> 0
A25: 10 | C25: Sagatavotu sienu gruntēšana t.sk. Ailu apmales | D25: m2 | E25: =E26+E27 -> 1855.58 | K25: =SUM(H25:J25) -> 0 | L25: =ROUND(F25*E25,2) -> 0 | M25: =ROUND(H25*E25,2) -> 0 | N25: =ROUND(I25*E25,2) -> 0 | O25: =ROUND(J25*E25,2) -> 0 | P25: =SUM(M25:O25) -> 0
A26: 11 | C26: Sagatavotu sienu krāsošana ar tonētām krāsām 2k. krāsota , Sienu krāsa krāsa pusmatēta (spīduma koeficients 7) ūdens dispersijas akrilāta krāsa, iztur līdz 2000–10000 tīrīšanas ciklus t.sk. Ailu apmales | D26: m2 | E26: =275.57+106.19+95.68 -> 477.44 | K26: =SUM(H26:J26) -> 0 | L26: =ROUND(F26*E26,2) -> 0 | M26: =ROUND(H26*E26,2) -> 0 | N26: =ROUND(I26*E26,2) -> 0 | O26: =ROUND(J26*E26,2) -> 0 | P26: =SUM(M26:O26) -> 0
A27: 12 | C27: Sagatavotu sienu krāsošana ar tonētām krāsām 2k. krāsota , krāsots, pelēks dekoratīvais krāsojums, visās telpās, izņemot sanitārajos mezglos, krāsa pusmatēta (spīduma koeficients 7) ūdens dispersijas akrilāta krāsa, iztur līdz 2000–10000 tīrīšanas ciklus | D27: m2 | E27: =296.85+607.68+473.61 -> 1378.14 | K27: =SUM(H27:J27) -> 0 | L27: =ROUND(F27*E27,2) -> 0 | M27: =ROUND(H27*E27,2) -> 0 | N27: =ROUND(I27*E27,2) -> 0 | O27: =ROUND(J27*E27,2) -> 0 | P27: =SUM(M27:O27) -> 0
A28: 13 | C28: Hidroizolācijas ierīkošana | D28: m2 | E28: =27.05+54.98+48.38+48.8 -> 179.21 | J28: =0.15*H28 -> 0 | K28: =SUM(H28:J28) -> 0 | L28: =ROUND(F28*E28,2) -> 0 | M28: =ROUND(H28*E28,2) -> 0 | N28: =ROUND(I28*E28,2) -> 0 | O28: =ROUND(J28*E28,2) -> 0 | P28: =SUM(M28:O28) -> 0
A29: 14 | C29: Flīžu seguma ierīkošana saskaņā ar apdares darbu tabulu Pirmās šķiras keramiskās sienas flīze Rako Color One, krāsainas, precizēt IN daļā - Izmērs 198 x 198 - Biezums: 6mm - Ūdens absorbcija – E < 10% - Noturība pret izlieci – Min. 12N/mm2 - Izturība pret netīrumiem – Min. Cl. 3 - Ķīmiskā izturība – Min. GB - Virsma: mat ; Flīžu līme, šuvju mastika, palīgmateriāli | D29: m2 | E29: =E28 -> 179.21 | K29: =SUM(H29:J29) -> 0 | L29: =ROUND(F29*E29,2) -> 0 | M29: =ROUND(H29*E29,2) -> 0 | N29: =ROUND(I29*E29,2) -> 0 | O29: =ROUND(J29*E29,2) -> 0 | P29: =SUM(M29:O29) -> 0
F30: 0 | G30: 0
C31: Tiešās izmaksas kopā t.sk. darba devēja sociālais nodoklis(23,59%) | L31: =SUM(L13:L30) -> 0 | M31: =SUM(M13:M30) -> 0 | N31: =SUM(N13:N30) -> 0 | O31: =SUM(O13:O30) -> 0 | P31: =SUM(P13:P30) -> 0
B33: Piezīmes:
A34: ='1.1._PV'!A32:G32 -> Visas atsauces uz materiālu un izstrādājumu izgatavotaj firmām, kuras norādītas būvprojektā, liecina tikai par šo materiālu un izstrādājumu tehniskajiem parametriem un kvalitātes līmeni, to nomaiņa ir iespējama ar citiem tehniski un kvalitatīvi ekvivalentiem būvizstrādājumiem, iepriekš saskaņojot tos ar projekta autoriem un uzrādot atbilstības sertifikātus.
B38: Sastādīja: | L38: =Koptame_PV!B39 -> Pārbaudīja:
C39: =Koptame_PV!C34 -> 0 | M39: =Koptame_PV!C40 -> 0
C40: =Koptame_PV!C35 -> 0 | M40: =Koptame_PV!C41 -> 0

Sheet 1.12._PV
G1: Lokālā tāme Nr. | H1: 1.12._PV
A2: =C13 -> Dažādi darbi
C3: Būves nosaukums: | D3: =Koptame_PV!C11 -> Ēkas pārbūve un teritorijas labiekārtošana
C4: Objekta nosaukums: | D4: =Koptame_PV!C12 -> Ēkas pārbūve un teritorijas labiekārtošana(Lietotāja līdzekļi)
C5: Objekta adrese: | D5: =Koptame_PV!C13 -> Citadeles iela 7, Rīga
C6: =Koptame_PV!B14 -> Pasūtījuma Nr. | D6: =Koptame_PV!C14 -> n
A7: =Koptame_PV!B17 -> Tāme sastādīta 2023.gada tirgus cenās, pamatojoties uz SIA „Baltex Group” būvprojekta rasējumiem un darbu apjomiem | O7: Tāmes izmaksas euro: | P7: =P23 -> 0
L9: =Koptame_PV!D16 -> Tāme sastādīta:
A11: Nr.p.k. | B11: Kods | C11: Būvdarbu nosaukums | D11: Mērvienība | E11: Daudzums | F11: Vienības izmaksas | L11: Kopā uz visu apjomu
F12: Laika norma (c/h) | G12: Darba samaksas likme (euro/h) | H12: Darba alga (euro) | I12: Būvizstrādājumi (euro) | J12: Mehānismi (euro) | K12: Kopā (euro) | L12: Darbietilpība (c/h) | M12: Darba alga (euro) | N12: Būvizstrādājumi (euro) | O12: Mehānismi (euro) | P12: Summa (euro)
B13: 0 | C13: =kops1_PV!C26 -> Dažādi darbi | F13: 0 | G13: 0 | K13: =SUM(H13:J13) -> 0 | L13: =ROUND(F13*E13,2) -> 0 | M13: =ROUND(H13*E13,2) -> 0 | N13: =ROUND(I13*E13,2) -> 0 | O13: =ROUND(J13*E13,2) -> 0 | P13: =SUM(M13:O13) -> 0
A14: 1 | C14: Jaunā kāpņu posma izbūve saskaņā ar ARD- 0,1 | D14: kpl | E14: 1 | J14: =H14*0.15 -> 0 | K14: =SUM(H14:J14) -> 0 | L14: =ROUND(F14*E14,2) -> 0 | M14: =ROUND(H14*E14,2) -> 0 | N14: =ROUND(I14*E14,2) -> 0 | O14: =ROUND(J14*E14,2) -> 0 | P14: =SUM(M14:O14) -> 0
A15: 2 | C15: Pilnstikla margas uzstādīšana b=10 mm | D15: kpl | E15: 1 | J15: =H15*0.15 -> 0 | K15: =SUM(H15:J15) -> 0 | L15: =ROUND(F15*E15,2) -> 0 | M15: =ROUND(H15*E15,2) -> 0 | N15: =ROUND(I15*E15,2) -> 0 | O15: =ROUND(J15*E15,2) -> 0 | P15: =SUM(M15:O15) -> 0
A16: 3 | C16: Vertikālo auduma žalūziju uzstādīšana 2,8x2,9m AR 5.9 (atstarojošās) | D16: gb | E16: 4 | J16: =H16*0.15 -> 0 | K16: =SUM(H16:J16) -> 0 | L16: =ROUND(F16*E16,2) -> 0 | M16: =ROUND(H16*E16,2) -> 0 | N16: =ROUND(I16*E16,2) -> 0 | O16: =ROUND(J16*E16,2) -> 0 | P16: =SUM(M16:O16) -> 0
A17: 4 | C17: Vertikālo auduma žalūziju uzstādīšana 2,5x0,95m AR 5.9 (atstarojošās) | D17: gb | E17: 2 | J17: =H17*0.15 -> 0 | K17: =SUM(H17:J17) -> 0 | L17: =ROUND(F17*E17,2) -> 0 | M17: =ROUND(H17*E17,2) -> 0 | N17: =ROUND(I17*E17,2) -> 0 | O17: =ROUND(J17*E17,2) -> 0 | P17: =SUM(M17:O17) -> 0
A18: 5 | C18: Vertikālo auduma žalūziju uzstādīšana 2,0x1,3m AR 5.9 | D18: gb | E18: 20 | J18: =H18*0.15 -> 0 | K18: =SUM(H18:J18) -> 0 | L18: =ROUND(F18*E18,2) -> 0 | M18: =ROUND(H18*E18,2) -> 0 | N18: =ROUND(I18*E18,2) -> 0 | O18: =ROUND(J18*E18,2) -> 0 | P18: =SUM(M18:O18) -> 0
A19: 5.1. | C19: Vertikālo auduma žalūziju uzstādīšana 2,0x1,3m AR 5.9 | D19: gb | E19: 5 | K19: =SUM(H19:J19) -> 0 | L19: =ROUND(F19*E19,2) -> 0 | M19: =ROUND(H19*E19,2) -> 0 | N19: =ROUND(I19*E19,2) -> 0 | O19: =ROUND(J19*E19,2) -> 0 | P19: =SUM(M19:O19) -> 0
A20: 6 | C20: Vertikālo auduma žalūziju uzstādīšana 1,3x1,13m AR 5.9 | D20: gb | E20: 8 | J20: =H20*0.15 -> 0 | K20: =SUM(H20:J20) -> 0 | L20: =ROUND(F20*E20,2) -> 0 | M20: =ROUND(H20*E20,2) -> 0 | N20: =ROUND(I20*E20,2) -> 0 | O20: =ROUND(J20*E20,2) -> 0 | P20: =SUM(M20:O20) -> 0
A21: 6.1. | C21: Vertikālo auduma žalūziju uzstādīšana 1,3x1,13m AR 5.10 | D21: gb | E21: 5 | K21: =SUM(H21:J21) -> 0 | L21: =ROUND(F21*E21,2) -> 0 | M21: =ROUND(H21*E21,2) -> 0 | N21: =ROUND(I21*E21,2) -> 0 | O21: =ROUND(J21*E21,2) -> 0 | P21: =SUM(M21:O21) -> 0
F22: 0 | G22: 0 | K22: =SUM(H22:J22) -> 0 | L22: =ROUND(F22*E22,2) -> 0 | M22: =ROUND(H22*E22,2) -> 0 | N22: =ROUND(I22*E22,2) -> 0 | O22: =ROUND(J22*E22,2) -> 0 | P22: =SUM(M22:O22) -> 0
C23: Tiešās izmaksas kopā t.sk. darba devēja sociālais nodoklis(23,59%) | L23: =SUM(L13:L22) -> 0 | M23: =SUM(M13:M22) -> 0 | N23: =SUM(N13:N22) -> 0 | O23: =SUM(O13:O22) -> 0 | P23: =SUM(P13:P22) -> 0
B25: Piezīmes:
A26: ='1.1._PV'!A32:G32 -> Visas atsauces uz materiālu un izstrādājumu izgatavotaj firmām, kuras norādītas būvprojektā, liecina tikai par šo materiālu un izstrādājumu tehniskajiem parametriem un kvalitātes līmeni, to nomaiņa ir iespējama ar citiem tehniski un kvalitatīvi ekvivalentiem būvizstrādājumiem, iepriekš saskaņojot tos ar projekta autoriem un uzrādot atbilstības sertifikātus.
B30: Sastādīja: | L30: =Koptame_PV!B39 -> Pārbaudīja:
C31: =Koptame_PV!C34 -> 0 | M31: =Koptame_PV!C40 -> 0
C32: =Koptame_PV!C35 -> 0 | M32: =Koptame_PV!C41 -> 0

Sheet 1.13._PV
G1: Lokālā tāme Nr. | H1: 1.13._PV
A2: =C13 -> Stiklotas starpsienas
C3: Būves nosaukums: | D3: =Koptame_PV!C11 -> Ēkas pārbūve un teritorijas labiekārtošana
C4: Objekta nosaukums: | D4: =Koptame_PV!C12 -> Ēkas pārbūve un teritorijas labiekārtošana(Lietotāja līdzekļi)
C5: Objekta adrese: | D5: =Koptame_PV!C13 -> Citadeles iela 7, Rīga
C6: =Koptame_PV!B14 -> Pasūtījuma Nr. | D6: =Koptame_PV!C14 -> n
A7: =Koptame_PV!B17 -> Tāme sastādīta 2023.gada tirgus cenās, pamatojoties uz SIA „Baltex Group” būvprojekta rasējumiem un darbu apjomiem | O7: Tāmes izmaksas euro: | P7: =P22 -> 0
L9: =Koptame_PV!D16 -> Tāme sastādīta:
A11: Nr.p.k. | B11: Kods | C11: Būvdarbu nosaukums | D11: Mērvienība | E11: Daudzums | F11: Vienības izmaksas | L11: Kopā uz visu apjomu
F12: Laika norma (c/h) | G12: Darba samaksas likme (euro/h) | H12: Darba alga (euro) | I12: Būvizstrādājumi (euro) | J12: Mehānismi (euro) | K12: Kopā (euro) | L12: Darbietilpība (c/h) | M12: Darba alga (euro) | N12: Būvizstrādājumi (euro) | O12: Mehānismi (euro) | P12: Summa (euro)
B13: 0 | C13: =kops1_PV!C27 -> Stiklotas starpsienas | F13: 0 | G13: 0 | K13: =SUM(H13:J13) -> 0 | L13: =ROUND(F13*E13,2) -> 0 | M13: =ROUND(H13*E13,2) -> 0 | N13: =ROUND(I13*E13,2) -> 0 | O13: =ROUND(J13*E13,2) -> 0 | P13: =SUM(M13:O13) -> 0
A14: 0 | C14: Stiklotas starpsienas AR 5.3 | H14: =ROUND(F14*G14,2) -> 0 | K14: =SUM(H14:J14) -> 0 | L14: =ROUND(F14*E14,2) -> 0 | M14: =ROUND(H14*E14,2) -> 0 | N14: =ROUND(I14*E14,2) -> 0 | O14: =ROUND(J14*E14,2) -> 0 | P14: =SUM(M14:O14) -> 0
A15: 1 | C15: SS 01 stiklotas iekšsienas montāža saskaņā ar AR-5.3 t.sk.Montāžas materiāli (blīvējošs materiāls, stiprinājumi u.c.), palīgmateriāli | D15: gb | E15: 1 | J15: =0.15*H15 -> 0 | K15: =SUM(H15:J15) -> 0 | L15: =ROUND(F15*E15,2) -> 0 | M15: =ROUND(H15*E15,2) -> 0 | N15: =ROUND(I15*E15,2) -> 0 | O15: =ROUND(J15*E15,2) -> 0 | P15: =SUM(M15:O15) -> 0
A16: 2 | C16: SS 02 stiklotas iekšsienas montāža saskaņā ar AR-5.3 t.sk.Montāžas materiāli (blīvējošs materiāls, stiprinājumi u.c.), palīgmateriāli | D16: gb | E16: 1 | J16: =0.15*H16 -> 0 | K16: =SUM(H16:J16) -> 0 | L16: =ROUND(F16*E16,2) -> 0 | M16: =ROUND(H16*E16,2) -> 0 | N16: =ROUND(I16*E16,2) -> 0 | O16: =ROUND(J16*E16,2) -> 0 | P16: =SUM(M16:O16) -> 0
A17: 3 | C17: SS 03 stiklotas iekšsienas montāža saskaņā ar AR-5.3 t.sk.Montāžas materiāli (blīvējošs materiāls, stiprinājumi u.c.), palīgmateriāli | D17: gb | E17: 1 | J17: =0.15*H17 -> 0 | K17: =SUM(H17:J17) -> 0 | L17: =ROUND(F17*E17,2) -> 0 | M17: =ROUND(H17*E17,2) -> 0 | N17: =ROUND(I17*E17,2) -> 0 | O17: =ROUND(J17*E17,2) -> 0 | P17: =SUM(M17:O17) -> 0
A18: 4 | C18: SS 04 stiklotas iekšsienas montāža saskaņā ar AR-5.3 t.sk.Montāžas materiāli (blīvējošs materiāls, stiprinājumi u.c.), palīgmateriāli | D18: gb | E18: 1 | J18: =0.15*H18 -> 0 | K18: =SUM(H18:J18) -> 0 | L18: =ROUND(F18*E18,2) -> 0 | M18: =ROUND(H18*E18,2) -> 0 | N18: =ROUND(I18*E18,2) -> 0 | O18: =ROUND(J18*E18,2) -> 0 | P18: =SUM(M18:O18) -> 0
A19: 5 | C19: SS 05 stiklotas iekšsienas montāža saskaņā ar AR-5.3 t.sk.Montāžas materiāli (blīvējošs materiāls, stiprinājumi u.c.), palīgmateriāli | D19: gb | E19: 1 | J19: =0.15*H19 -> 0 | K19: =SUM(H19:J19) -> 0 | L19: =ROUND(F19*E19,2) -> 0 | M19: =ROUND(H19*E19,2) -> 0 | N19: =ROUND(I19*E19,2) -> 0 | O19: =ROUND(J19*E19,2) -> 0 | P19: =SUM(M19:O19) -> 0
A20: 6 | C20: SS 06 stiklotas iekšsienas montāža saskaņā ar AR-5.3 t.sk.Montāžas materiāli (blīvējošs materiāls, stiprinājumi u.c.), palīgmateriāli | D20: gb | E20: 1 | J20: =0.15*H20 -> 0 | K20: =SUM(H20:J20) -> 0 | L20: =ROUND(F20*E20,2) -> 0 | M20: =ROUND(H20*E20,2) -> 0 | N20: =ROUND(I20*E20,2) -> 0 | O20: =ROUND(J20*E20,2) -> 0 | P20: =SUM(M20:O20) -> 0
F21: 0 | G21: 0
C22: Tiešās izmaksas kopā t.sk. darba devēja sociālais nodoklis(23,59%) | L22: =SUM(L13:L21) -> 0 | M22: =SUM(M13:M21) -> 0 | N22: =SUM(N13:N21) -> 0 | O22: =SUM(O13:O21) -> 0 | P22: =SUM(P13:P21) -> 0
B24: Piezīmes:
A25: ='1.1._PV'!A32:G32 -> Visas atsauces uz materiālu un izstrādājumu izgatavotaj firmām, kuras norādītas būvprojektā, liecina tikai par šo materiālu un izstrādājumu tehniskajiem parametriem un kvalitātes līmeni, to nomaiņa ir iespējama ar citiem tehniski un kvalitatīvi ekvivalentiem būvizstrādājumiem, iepriekš saskaņojot tos ar projekta autoriem un uzrādot atbilstības sertifikātus.
B29: Sastādīja: | L29: =Koptame_PV!B39 -> Pārbaudīja:
C30: =Koptame_PV!C34 -> 0 | M30: =Koptame_PV!C40 -> 0
C31: =Koptame_PV!C35 -> 0 | M31: =Koptame_PV!C41 -> 0

Sheet kops2_PV
A2: Kopsavilkuma aprēķins Nr. 2_PV
A6: =Koptame_PV!C22 -> Specializētie darbi-iekšējie tīkli, sistēmas
A8: Būves nosaukums: | C8: =Koptame_PV!C11 -> Ēkas pārbūve un teritorijas labiekārtošana
A9: Objekta nosaukums: | C9: =Koptame_PV!C12 -> Ēkas pārbūve un teritorijas labiekārtošana(Lietotāja līdzekļi)
A10: Objekta adrese: | C10: =Koptame_PV!C13 -> Citadeles iela 7, Rīga
A11: =Koptame_PV!B14 -> Pasūtījuma Nr. | C11: =Koptame_PV!C14 -> n
F13: Par kopējo summu, euro | H13: =E29 -> #VALUE!
F14: Kopējā darbietilpība, c/h | H14: =I25 -> 0
H16: =Koptame_PV!D16 -> Tāme sastādīta:
A18: Nr.p.k. | B18: Kods, tāmes Nr. | C18: Būvdarbu veids vai konstruktīvā elementa nosaukums | E18: Tāmes izmaksas (euro) | F18: Tai skaitā | I18: Darbietilpība (c/h)
F19: darba alga (euro) | G19: materiāli (euro) | H19: mehānismi (euro)
A21: 1 | B21: 2.7._PV | C21: Elektroinstalācija | E21: ='2.7._PV'!Q29 -> 0 | F21: ='2.7._PV'!N29 -> 0 | G21: ='2.7._PV'!O29 -> 0 | H21: ='2.7._PV'!P29 -> 0 | I21: ='2.7._PV'!M29 -> 0
A22: 2 | B22: 2.9_PV | C22: Piekļuves kontroles sistēma | E22: ='2.9._PV'!Q38 -> 0 | F22: ='2.9._PV'!N38 -> 0 | G22: ='2.9._PV'!O38 -> 0 | H22: ='2.9._PV'!P38 -> 0 | I22: ='2.9._PV'!M38 -> 0
A23: 3 | B23: 2.11._PV | C23: Videonovērošanas un apsardzes sistēma | E23: ='2.11._PV'!Q50 -> 0 | F23: ='2.11._PV'!N50 -> 0 | G23: ='2.11._PV'!O50 -> 0 | H23: ='2.11._PV'!P50 -> 0 | I23: ='2.11._PV'!M50 -> 0
A24: 4 | B24: 2.13._PV | C24: Mēbeles | E24: ='2.13._PV'!P20 -> 0 | F24: ='2.13._PV'!M20 -> 0 | G24: ='2.13._PV'!N20 -> 0 | H24: ='2.13._PV'!O20 -> 0 | I24: ='2.13._PV'!L20 -> 0
C25: Kopā | E25: =SUM(E21:E24) -> 0 | F25: =SUM(F21:F24) -> 0 | G25: =SUM(G21:G24) -> 0 | H25: =SUM(H21:H24) -> 0 | I25: =SUM(I21:I24) -> 0
A26: Virsizdevumi | D26: =kops1_PV!$D$29 -> % | E26: =ROUND(E25*D26,2) -> #VALUE!
C27: tai skaitā darba aizsardzība | E27: =E26*0.1 -> #VALUE!
A28: Peļņa | D28: =kops1_PV!$D$31 -> % | E28: =ROUND(E25*D28,2) -> #VALUE!
C29: Kopā bez PVN | E29: =E28+E26+E25 -> #VALUE!
B32: Sastādīja:
C33: =Koptame_PV!C34 -> 0
C34: =Koptame_PV!C35 -> 0
B38: =Koptame_PV!B39 -> Pārbaudīja:
C39: =Koptame_PV!C40 -> 0
C40: =Koptame_PV!C41 -> 0

Sheet 2.7._PV
H1: Lokālā tāme Nr. | I1: =kops2_PV!B21 -> 2.7._PV
A2: =C13 -> Elektroinstalācija
C3: Būves nosaukums: | E3: =Koptame_PV!C11 -> Ēkas pārbūve un teritorijas labiekārtošana
C4: Objekta nosaukums: | E4: =Koptame_PV!C12 -> Ēkas pārbūve un teritorijas labiekārtošana(Lietotāja līdzekļi)
C5: Objekta adrese: | E5: =Koptame_PV!C13 -> Citadeles iela 7, Rīga
C6: =Koptame_PV!B14 -> Pasūtījuma Nr. | E6: =Koptame_PV!C14 -> n
A7: =Koptame_PV!B17 -> Tāme sastādīta 2023.gada tirgus cenās, pamatojoties uz SIA „Baltex Group” būvprojekta rasējumiem un darbu apjomiem | P7: Tāmes izmaksas euro: | Q7: =Q29 -> 0
M9: =Koptame_PV!D16 -> Tāme sastādīta:
A11: Nr.p.k. | B11: Kods | C11: Būvdarbu nosaukums | E11: Mērvienība | F11: Daudzums | G11: Vienības izmaksas | M11: Kopā uz visu apjomu
G12: Laika norma (c/h) | H12: Darba samaksas likme (euro/h) | I12: Darba alga (euro) | J12: Būvizstrādājumi (euro) | K12: Mehānismi (euro) | L12: Kopā (euro) | M12: Darbietilpība (c/h) | N12: Darba alga (euro) | O12: Būvizstrādājumi (euro) | P12: Mehānismi (euro) | Q12: Summa (euro)
A13: 0 | C13: =kops2_PV!C21 -> Elektroinstalācija | I13: =ROUND(H13*G13,2) -> 0 | L13: =SUM(I13:K13) -> 0 | M13: =ROUND(G13*F13,2) -> 0 | N13: =ROUND(I13*F13,2) -> 0 | O13: =ROUND(J13*F13,2) -> 0 | P13: =ROUND(K13*F13,2) -> 0 | Q13: =SUM(N13:P13) -> 0
C14: Montāžas un palaišanas darbi
A15: B | C15: Gaismekļi | H15: =IF(I15>0,5,0) -> 0 | L15: =SUM(I15:K15) -> 0 | M15: =ROUND(G15*F15,2) -> 0 | N15: =ROUND(I15*F15,2) -> 0 | O15: =ROUND(J15*F15,2) -> 0 | P15: =ROUND(K15*F15,2) -> 0 | Q15: =SUM(N15:P15) -> 0
C16: Pirms gaismekļu pasūtīšanas, saskaņot ar pasūtītāju un arhitektu norādījumiem precizēt - gaismekļu vizuālo skatu | L16: =SUM(I16:K16) -> 0 | M16: =ROUND(G16*F16,2) -> 0 | N16: =ROUND(I16*F16,2) -> 0 | O16: =ROUND(J16*F16,2) -> 0 | P16: =ROUND(K16*F16,2) -> 0 | Q16: =SUM(N16:P16) -> 0
A17: 1 | B17: G1 | C17: Iekārts LED ofisa gaismeklis ILO 50-P, 35W 3885Lum, 114Lum/W 4000K, IP20 IK02, 100`000h L80B20, tumši pelēks alumīnija korpuss, L-1546, B-62, W-50mm / vai ekvivalents | D17: Ledluks I500P0P5200E4010 | E17: gab. | F17: =9+4+2+9+15+9+6+4+6+4+3+1+9+9+12+9 -> 111 | K17: =0.15*I17 -> 0 | L17: =SUM(I17:K17) -> 0 | M17: =ROUND(G17*F17,2) -> 0 | N17: =ROUND(I17*F17,2) -> 0 | O17: =ROUND(J17*F17,2) -> 0 | P17: =ROUND(K17*F17,2) -> 0 | Q17: =SUM(N17:P17) -> 0
A18: 2 | B18: G2 | C18: Virsmas montāžas multijaudas hermētisks gaismeklis, Planox ECO LED, 37W, 3050lm/4950lm,4000K, 173°/111°, ar samazinātu virsmas temperatūru, HCCP, L-1369,B-61,H-50mm, IP66/ vai ekvivalents | D18: RZB 451218.009.19 | E18: gab. | F18: =5+1+2+4 -> 12 | K18: =0.15*I18 -> 0 | L18: =SUM(I18:K18) -> 0 | M18: =ROUND(G18*F18,2) -> 0 | N18: =ROUND(I18*F18,2) -> 0 | O18: =ROUND(J18*F18,2) -> 0 | P18: =ROUND(K18*F18,2) -> 0 | Q18: =SUM(N18:P18) -> 0
A19: 3 | B19: G3 | C19: Virsmas montāžas multijaudas hermētisks gaismeklis, Planox ECO LED, 22W, 3050lm/4950lm,4000K, 173°/111°, ar samazinātu virsmas temperatūru, HCCP, L-1369,B-61,H-50mm, IP66 / vai ekvivalents | D19: RZB 451218.009.19 | E19: gab. | F19: 8 | K19: =0.15*I19 -> 0 | L19: =SUM(I19:K19) -> 0 | M19: =ROUND(G19*F19,2) -> 0 | N19: =ROUND(I19*F19,2) -> 0 | O19: =ROUND(J19*F19,2) -> 0 | P19: =ROUND(K19*F19,2) -> 0 | Q19: =SUM(N19:P19) -> 0
A20: 4 | B20: G4 | C20: Iebūves LED gaismeklis Toledo Flat Round, 7.7W, 840Lum 110Lum/W 4000K, IP54 IK06, nedzeltējošs difuzors, tumši pelēks alumīnija korpuss, D-190mm, H-27mm / vai ekvivalents | D20: RZB 901452.002.1 | E20: gab. | F20: 18 | K20: =0.15*I20 -> 0 | L20: =SUM(I20:K20) -> 0 | M20: =ROUND(G20*F20,2) -> 0 | N20: =ROUND(I20*F20,2) -> 0 | O20: =ROUND(J20*F20,2) -> 0 | P20: =ROUND(K20*F20,2) -> 0 | Q20: =SUM(N20:P20) -> 0
A21: 5 | B21: G5 G6 | C21: Iekārts LED ofisa gaismeklis ILO 35-P, 28W 3038Lum 108Lum/W 4000K, IP20 IK02, 100`000h L80B20, tumši pelēks alumīnija korpuss, L-1266, B-62, W-35mm / vai ekvivalents | D21: Ledluks I350P0P4200E4010 | E21: gab. | F21: =8+9+2+6 -> 25 | K21: =0.15*I21 -> 0 | L21: =SUM(I21:K21) -> 0 | M21: =ROUND(G21*F21,2) -> 0 | N21: =ROUND(I21*F21,2) -> 0 | O21: =ROUND(J21*F21,2) -> 0 | P21: =ROUND(K21*F21,2) -> 0 | Q21: =SUM(N21:P21) -> 0
A22: 6 | B22: G7 | C22: Virsmas montāžas LED ofisa gaismeklis ILO 35-C, 14W, 1461Lum, 112Lum/W 4000K, IP20 IK02, 100`000h, L80B20, tumši pelēks alumīnija korpuss, L-846, B-62, W-35mm / vai ekvivalents | D22: Ledluks I350C0P3000L4010 | E22: gab. | F22: 1 | K22: =0.15*I22 -> 0 | L22: =SUM(I22:K22) -> 0 | M22: =ROUND(G22*F22,2) -> 0 | N22: =ROUND(I22*F22,2) -> 0 | O22: =ROUND(J22*F22,2) -> 0 | P22: =ROUND(K22*F22,2) -> 0 | Q22: =SUM(N22:P22) -> 0
A23: 7 | B23: G8 | C23: Iebūves LED gaismeklis Ledona ECO Round, 10W, 780Lum, 78Lum/W, 4000K, IP65, IK07, nedzeltējošs difuzors, tumši pelēks alumīnija korpuss, D-180mm, H-3mm / vai ekvivalents | D23: RZB 901452.002.1 | E23: gab. | F23: 3 | K23: =0.15*I23 -> 0 | L23: =SUM(I23:K23) -> 0 | M23: =ROUND(G23*F23,2) -> 0 | N23: =ROUND(I23*F23,2) -> 0 | O23: =ROUND(J23*F23,2) -> 0 | P23: =ROUND(K23*F23,2) -> 0 | Q23: =SUM(N23:P23) -> 0
