Workbook

Sheet Teh. spec. daļai Nr.1
A1: Iepirkuma daļa Nr.1 | B1: Nolikuma pielikums Nr. 2
A2: Tehniskā specifikācija iepirkumam "Degvielas un elektroenerģijas iegāde mazumtirdzniecībā un vairumtirdzniecībā transportlīdzekļiem", iepirkuma daļa Nr.1 - degvielas iegāde mazumtirdzniecībā
A4: Pretendents:
A5: Iepirkuma identifikācijas numurs: | B5: AS LVM SP_2024_129_Ak
A7: Prasības | B7: Piedāvājums
A8: 1.Degvielai ir jāatbilst spēkā esošo Latvijas nacionālo standartu, Latvijas nacionālā standarta statusā adaptēto Eiropas standartu un citu starptautisko vai reģionālo standartizācijas organizāciju standartu u.c. citu normatīvo dokumentu prasībām, t.sk. MK noteikumiem Nr.332 "Noteikumi par benzīna un dīzeļdegvielas atbilstības novērtēšanu"
A9: 2. Piegādātājam jānodrošina laika apstākļiem atbilstošas dīzeļdegvielas tirdzniecība (atbilstoša klimatiskā kategorija/klase saskaņā ar LVS EN590+A1:2017).
A10: 3. Visās DUS jānodrošina Degvielas iegāde izmantojot vienotu bezskaidras naudas norēķina veidu – Piegādātāja degvielas kredītkarti (vai mobilā tālruņa aplikāciju), turpmāk tekstā – „Kredītkarte”.
A11: 4. Piegādātājam jānodrošina iespēju katrai kredītkartei pievienot „Info lauku” – tekstu ar struktūrvienības nosaukumu, kodu un darbinieka vārdu, uzvārdu - kuru Piegādātājam iesniedz vai izmaina kredītkartes darbības laikā Pasūtītājs.
A12: 5. Piegādātājam jānodrošina iespēju ierobežot viena ar Kredītkarti veicamā maksājuma apjomu un iespēju noteikt katras Kredītkartes dienas / mēneša limitu.
A13: 6. Norādīt valstis ārpus Latvijas, kurās iespējams izmantot Pretendenta kredītkarti degvielas iegādei.
A14: 7. Norādīt cenu atlaidi (procentos) DUS teritorijā esošajā veikalā ar Pretendenta izsniegto norēķinu karti satiksmes produktiem (t.sk. eļļām, logu šķidrumam, AdBlue šķidrumam kanniņās, autospuldzes u.c. preces)
A15: 8. Norādīt cenu atlaidi (procentos) DUS teritorijā vai citās vietās pieejamo pakalpojumu apmaksai ar Pretendenta izsniegto norēķinu karti automašīnas mazgāšanas pakalpojumam.
A16: 9. Samaksa par iegādāto Degvielu tiks veikta 20 (divdesmit) kalendāro dienu laikā pēc Piegādātāja rēķina saņemšanas.
A17: 10. Rēķins par preču un pakalpojumu iegādi ir jāiesniedz elektroniski.
A18: 11. Piegādātājs līdz katra mēneša 7.datumam iesniedz pārskatu par iepriekšējā kalendārajā mēnesī veiktajām Degvielas iegādēm.
A19: 12. Pārskats ir jāiesniedz elektroniski – .pdf un .xlsx vai .csv formātā Pasūtītāja norādītajām kontaktpersonām.
... A30: 13.10. kopējā pirkumu summa, kas sakārtota pēc katras Kredītkartes darījumiem visā pārskata periodā.

Sheet Teh. pied., daļa Nr.1
A1: Nr.p.k. | B1: Pretendents | C1: DUS nosaukums | D1: DUS adrese | E1: Dīzeļdegviela, 20 punkti* | F1: Benzīns, 10 punkti* | G1: AdBlue uzpildes sūknis, 2 punkti* | H1: Autogāze (LPG), 1 punkts* | I1: Norēķinu iespēja pie sūkņa (par degvielu un AdBlue), 2 punkti* | J1: Auto mazgāšana, 0.5 punkti* | K1: Putekļusūcējs, 0.5 punkts* | L1: Riepu spiediena korekcija, 0.5 punkti* | M1: Logu šķidruma uzpildes sūknis, 0.5 punkti* | N1: Satiksmes produkti, 0.5 punkti* | O1: Pārtikas produkti, 0,5 punkti* | P1: Iespēja veikt elektromobiļa ātro uzlādi DUS teritorijā, 0.5 punkti* | Q1: DUS video novērošana**, 0,5 punkti* | R1: Degviela pieejama 24h, 0,5 punkti* | S1: Kopā:
A2: 1 | B2: ='Teh. spec. daļai Nr.1'!B4 -> 0 | S2: =SUM(E2:R2) -> 0
A3: 2 | B3: =B2 -> 0 | S3: =SUM(E3:R3) -> 0
A4: 3 | B4: =B3 -> 0 | S4: =SUM(E4:R4) -> 0
A5: 4 | B5: =B4 -> 0 | S5: =SUM(E5:R5) -> 0
A6: 5 | B6: =B5 -> 0 | S6: =SUM(E6:R6) -> 0
A7: 6 | B7: =B6 -> 0 | S7: =SUM(E7:R7) -> 0
A8: 7 | B8: =B7 -> 0 | S8: =SUM(E8:R8) -> 0
A9: 8 | B9: =B8 -> 0 | S9: =SUM(E9:R9) -> 0
A10: 9 | B10: =B9 -> 0 | S10: =SUM(E10:R10) -> 0
A11: 10 | B11: =B10 -> 0 | S11: =SUM(E11:R11) -> 0
A12: 11 | B12: =B11 -> 0 | S12: =SUM(E12:R12) -> 0
A13: 12 | B13: =B12 -> 0 | S13: =SUM(E13:R13) -> 0
A14: 13 | B14: =B13 -> 0 | S14: =SUM(E14:R14) -> 0
... A71: 70 | B71: =B70 -> 0 | S71: =SUM(E71:R71) -> 0
R72: Kopā, DUS tīkla, preču un pakalpojumu kvantitatīvais vērtējums: | S72: =SUM(S2:S71) -> 0
A73: *Ja attiecīgajā DUS ir pieejamas kolonu virsrakstā minētās preces vai pakalpojumi, ierakstiet attiecīgo punktu skaitu, ja nav - 0 vai atstājiet tukšu
A74: ** Par vērtējumu saņemošu DUS ar video novērošanu jāuzskata tādu, kurā Pretendents pēc Pasūtītāja pieprasījuma spēj sniegt informāciju par degvielas uzpildes apstākļiem

Sheet DD cenas vērtējums
A1: Finanšu piedāvājums iepirkuma daļai Nr.1 | C1: Dīzeļdegvielas cenu piedāvājums | K1: Nolikuma pielikums Nr.2
B3: Pretendents: | C3: ='Teh. spec. daļai Nr.1'!B4 -> 0
B5: Dīzeļdegvielas cena Pretendenta DUS no 2024. gada 3. līdz 9.jūnijam, EUR ar PVN/litrā**
A6: DUS Nr.* | B6: DUS nosaukums | C6: 03.06. | D6: 04.06. | E6: 05.06. | F6: 06.06. | G6: 07.06. | H6: 08.06. | I6: 09.06. | J6: Vienotā atlaide dīzeļdegvielai, EUR ar PVN/litrā*** | K6: Vidējā nedēļas cena, EUR ar PVN
A7: 1 | B7: ='Teh. pied., daļa Nr.1'!C2 -> 0 | K7: =AVERAGE(C7:I7)-J7 -> #DIV/0!
A8: 2 | B8: ='Teh. pied., daļa Nr.1'!C3 -> 0 | J8: =J7 -> 0 | K8: =AVERAGE(C8:I8)-J8 -> #DIV/0!
A9: 3 | B9: ='Teh. pied., daļa Nr.1'!C4 -> 0 | J9: =J8 -> 0 | K9: =AVERAGE(C9:I9)-J9 -> #DIV/0!
A10: 4 | B10: ='Teh. pied., daļa Nr.1'!C5 -> 0 | J10: =J9 -> 0 | K10: =AVERAGE(C10:I10)-J10 -> #DIV/0!
A11: 5 | B11: ='Teh. pied., daļa Nr.1'!C6 -> 0 | J11: =J10 -> 0 | K11: =AVERAGE(C11:I11)-J11 -> #DIV/0!
A12: 6 | B12: ='Teh. pied., daļa Nr.1'!C7 -> 0 | J12: =J11 -> 0 | K12: =AVERAGE(C12:I12)-J12 -> #DIV/0!
A13: 7 | B13: ='Teh. pied., daļa Nr.1'!C8 -> 0 | J13: =J12 -> 0 | K13: =AVERAGE(C13:I13)-J13 -> #DIV/0!
A14: 8 | B14: ='Teh. pied., daļa Nr.1'!C9 -> 0 | J14: =J13 -> 0 | K14: =AVERAGE(C14:I14)-J14 -> #DIV/0!
A15: 9 | B15: ='Teh. pied., daļa Nr.1'!C10 -> 0 | J15: =J14 -> 0 | K15: =AVERAGE(C15:I15)-J15 -> #DIV/0!
A16: 10 | B16: ='Teh. pied., daļa Nr.1'!C11 -> 0 | J16: =J15 -> 0 | K16: =AVERAGE(C16:I16)-J16 -> #DIV/0!
A17: 11 | B17: ='Teh. pied., daļa Nr.1'!C12 -> 0 | J17: =J16 -> 0 | K17: =AVERAGE(C17:I17)-J17 -> #DIV/0!
A18: 12 | B18: ='Teh. pied., daļa Nr.1'!C13 -> 0 | J18: =J17 -> 0 | K18: =AVERAGE(C18:I18)-J18 -> #DIV/0!
A19: 13 | B19: ='Teh. pied., daļa Nr.1'!C14 -> 0 | J19: =J18 -> 0 | K19: =AVERAGE(C19:I19)-J19 -> #DIV/0!
... A76: 70 | B76: ='Teh. pied., daļa Nr.1'!C71 -> 0 | J76: =J75 -> 0 | K76: =AVERAGE(C76:I76)-J76 -> #DIV/0!
J77: Vērtējamā litra cena, EUR/ar PVN: | K77: =AVERAGE(K10:K76) -> #DIV/0!
A78: * DUS numurs ir tāds pats kā Pielikumā Nr.2 minētais, neaizpildītās rindiņas jāizdzēš
A79: ** Ja degvielas cena DUS kādā datumā ir mainījusies, tad jānorāda tās dienas augstākā cena, EUR ar PVN/litrā
A80: *** Vienotā atlaide tiks piemērota jebkura veida dīzeļdegvielas iegādei Pretendenta DUS tīklā

Sheet Benzīna cenas vērtējums
A1: Finanšu piedāvājums iepirkuma daļai Nr.1 | C1: Benzīna cenas piedāvājums | K1: Nolikuma pielikums Nr.2
B3: Pretendents: | C3: ='DD cenas vērtējums'!C3:K3 -> 0
B5: Benzīna ar oktānskaitli 95 cena Pretendenta DUS no 2024. gada 3. līdz 9.jūnijam, EUR ar PVN/litrā**
A6: DUS Nr.* | B6: DUS nosaukums | C6: 03.06. | D6: 04.06. | E6: 05.06. | F6: 06.06. | G6: 07.06. | H6: 08.06. | I6: 09.06. | J6: Vienotā atlaide benzīnam, EUR ar PVN/litrā*** | K6: Vidējā nedēļas cena, EUR ar PVN
A7: 1 | B7: ='DD cenas vērtējums'!B7 -> 0 | K7: =AVERAGE(C7:I7)-J7 -> #DIV/0!
A8: 2 | B8: ='DD cenas vērtējums'!B8 -> 0 | J8: =J7 -> 0 | K8: =AVERAGE(C8:I8)-J8 -> #DIV/0!
A9: 3 | B9: ='DD cenas vērtējums'!B9 -> 0 | J9: =J8 -> 0 | K9: =AVERAGE(C9:I9)-J9 -> #DIV/0!
A10: 4 | B10: ='DD cenas vērtējums'!B10 -> 0 | J10: =J9 -> 0 | K10: =AVERAGE(C10:I10)-J10 -> #DIV/0!
A11: 5 | B11: ='DD cenas vērtējums'!B11 -> 0 | J11: =J10 -> 0 | K11: =AVERAGE(C11:I11)-J11 -> #DIV/0!
A12: 6 | B12: ='DD cenas vērtējums'!B12 -> 0 | J12: =J11 -> 0 | K12: =AVERAGE(C12:I12)-J12 -> #DIV/0!
A13: 7 | B13: ='DD cenas vērtējums'!B13 -> 0 | J13: =J12 -> 0 | K13: =AVERAGE(C13:I13)-J13 -> #DIV/0!
A14: 8 | B14: ='DD cenas vērtējums'!B14 -> 0 | J14: =J13 -> 0 | K14: =AVERAGE(C14:I14)-J14 -> #DIV/0!
A15: 9 | B15: ='DD cenas vērtējums'!B15 -> 0 | J15: =J14 -> 0 | K15: =AVERAGE(C15:I15)-J15 -> #DIV/0!
A16: 10 | B16: ='DD cenas vērtējums'!B16 -> 0 | J16: =J15 -> 0 | K16: =AVERAGE(C16:I16)-J16 -> #DIV/0!
A17: 11 | B17: ='DD cenas vērtējums'!B17 -> 0 | J17: =J16 -> 0 | K17: =AVERAGE(C17:I17)-J17 -> #DIV/0!
A18: 12 | B18: ='DD cenas vērtējums'!B18 -> 0 | J18: =J17 -> 0 | K18: =AVERAGE(C18:I18)-J18 -> #DIV/0!
A19: 13 | B19: ='DD cenas vērtējums'!B19 -> 0 | J19: =J18 -> 0 | K19: =AVERAGE(C19:I19)-J19 -> #DIV/0!
... A76: 70 | B76: ='DD cenas vērtējums'!B76 -> 0 | J76: =J75 -> 0 | K76: =AVERAGE(C76:I76)-J76 -> #DIV/0!
J77: Vērtējamā litra cena, EUR/ar PVN: | K77: =AVERAGE(K10:K76) -> #DIV/0!
A78: * DUS numurs ir tāds pats kā Pielikumā Nr.2 minētais, neaizpildītās rindiņas jāizdzēš
A79: ** Ja degvielas cena DUS kādā datumā ir mainījusies, tad jānorāda tās dienas augstākā cena, EUR ar PVN/litrā
A80: *** Vienotā atlaide tiks piemērota jebkura veida benzīna iegādei Pretendenta DUS tīklā

Sheet LPG cenas vērtējums
A1: Finanšu piedāvājums iepirkuma daļai Nr.1 | C1: Autogāzes (LPG) cenas piedāvājums | K1: Nolikuma pielikums Nr.2
B3: Pretendents: | C3: ='DD cenas vērtējums'!C3:K3 -> 0
B5: Autogāzes (LPG) cena Pretendenta DUS no 2024. gada 3. līdz 9.jūnijam, EUR ar PVN/litrā**
A6: DUS Nr.* | B6: DUS nosaukums | C6: 03.06. | D6: 04.06. | E6: 05.06. | F6: 06.06. | G6: 07.06. | H6: 08.06. | I6: 09.06. | J6: Vienotā atlaide autogāzei (LPG), EUR ar PVN/litrā | K6: Vidējā nedēļas cena, EUR ar PVN
A7: 1 | B7: ='DD cenas vērtējums'!B7 -> 0 | K7: =AVERAGE(C7:I7)-J7 -> #DIV/0!
A8: 2 | B8: ='DD cenas vērtējums'!B8 -> 0 | J8: =J7 -> 0 | K8: =AVERAGE(C8:I8)-J8 -> #DIV/0!
A9: 3 | B9: ='DD cenas vērtējums'!B9 -> 0 | J9: =J8 -> 0 | K9: =AVERAGE(C9:I9)-J9 -> #DIV/0!
A10: 4 | B10: ='DD cenas vērtējums'!B10 -> 0 | J10: =J9 -> 0 | K10: =AVERAGE(C10:I10)-J10 -> #DIV/0!
A11: 5 | B11: ='DD cenas vērtējums'!B11 -> 0 | J11: =J10 -> 0 | K11: =AVERAGE(C11:I11)-J11 -> #DIV/0!
A12: 6 | B12: ='DD cenas vērtējums'!B12 -> 0 | J12: =J11 -> 0 | K12: =AVERAGE(C12:I12)-J12 -> #DIV/0!
A13: 7 | B13: ='DD cenas vērtējums'!B13 -> 0 | J13: =J12 -> 0 | K13: =AVERAGE(C13:I13)-J13 -> #DIV/0!
A14: 8 | B14: ='DD cenas vērtējums'!B14 -> 0 | J14: =J13 -> 0 | K14: =AVERAGE(C14:I14)-J14 -> #DIV/0!
A15: 9 | B15: ='DD cenas vērtējums'!B15 -> 0 | J15: =J14 -> 0 | K15: =AVERAGE(C15:I15)-J15 -> #DIV/0!
A16: 10 | B16: ='DD cenas vērtējums'!B16 -> 0 | J16: =J15 -> 0 | K16: =AVERAGE(C16:I16)-J16 -> #DIV/0!
A17: 11 | B17: ='DD cenas vērtējums'!B17 -> 0 | J17: =J16 -> 0 | K17: =AVERAGE(C17:I17)-J17 -> #DIV/0!
A18: 12 | B18: ='DD cenas vērtējums'!B18 -> 0 | J18: =J17 -> 0 | K18: =AVERAGE(C18:I18)-J18 -> #DIV/0!
A19: 13 | B19: ='DD cenas vērtējums'!B19 -> 0 | J19: =J18 -> 0 | K19: =AVERAGE(C19:I19)-J19 -> #DIV/0!
... A76: 70 | B76: ='DD cenas vērtējums'!B76 -> 0 | J76: =J75 -> 0 | K76: =AVERAGE(C76:I76)-J76 -> #DIV/0!
J77: Vērtējamā litra cena, EUR/ar PVN: | K77: =AVERAGE(K10:K76) -> #DIV/0!
A78: * DUS numurs ir tāds pats kā Pielikumā Nr.2 minētais, neaizpildītās rindiņas jāizdzēš
A79: ** Ja degvielas cena DUS kādā datumā ir mainījusies, tad jānorāda tās dienas augstākā cena, EUR ar PVN/litrā

Sheet AdBlue cenas vērtējums
A1: Finanšu piedāvājums iepirkuma daļai Nr.1 | C1: AdBlue cenas piedāvājums | K1: Nolikuma pielikums Nr.2
B3: Pretendents: | C3: ='DD cenas vērtējums'!C3:K3 -> 0
B5: AdBlue cena no sūkņa Pretendenta DUS no 2024. gada 3. līdz 9.jūnijam, EUR ar PVN/litrā**
A6: DUS Nr.* | B6: DUS nosaukums | C6: 03.06. | D6: 04.06. | E6: 05.06. | F6: 06.06. | G6: 07.06. | H6: 08.06. | I6: 09.06. | J6: Vienotā atlaide AdBlue, EUR ar PVN/litrā | K6: Vidējā nedēļas cena, EUR ar PVN
A7: 1 | B7: ='DD cenas vērtējums'!B7 -> 0 | K7: =AVERAGE(C7:I7)-J7 -> #DIV/0!
A8: 2 | B8: ='DD cenas vērtējums'!B8 -> 0 | J8: =J7 -> 0 | K8: =AVERAGE(C8:I8)-J8 -> #DIV/0!
A9: 3 | B9: ='DD cenas vērtējums'!B9 -> 0 | J9: =J8 -> 0 | K9: =AVERAGE(C9:I9)-J9 -> #DIV/0!
A10: 4 | B10: ='DD cenas vērtējums'!B10 -> 0 | J10: =J9 -> 0 | K10: =AVERAGE(C10:I10)-J10 -> #DIV/0!
A11: 5 | B11: ='DD cenas vērtējums'!B11 -> 0 | J11: =J10 -> 0 | K11: =AVERAGE(C11:I11)-J11 -> #DIV/0!
A12: 6 | B12: ='DD cenas vērtējums'!B12 -> 0 | J12: =J11 -> 0 | K12: =AVERAGE(C12:I12)-J12 -> #DIV/0!
A13: 7 | B13: ='DD cenas vērtējums'!B13 -> 0 | J13: =J12 -> 0 | K13: =AVERAGE(C13:I13)-J13 -> #DIV/0!
A14: 8 | B14: ='DD cenas vērtējums'!B14 -> 0 | J14: =J13 -> 0 | K14: =AVERAGE(C14:I14)-J14 -> #DIV/0!
A15: 9 | B15: ='DD cenas vērtējums'!B15 -> 0 | J15: =J14 -> 0 | K15: =AVERAGE(C15:I15)-J15 -> #DIV/0!
A16: 10 | B16: ='DD cenas vērtējums'!B16 -> 0 | J16: =J15 -> 0 | K16: =AVERAGE(C16:I16)-J16 -> #DIV/0!
A17: 11 | B17: ='DD cenas vērtējums'!B17 -> 0 | J17: =J16 -> 0 | K17: =AVERAGE(C17:I17)-J17 -> #DIV/0!
A18: 12 | B18: ='DD cenas vērtējums'!B18 -> 0 | J18: =J17 -> 0 | K18: =AVERAGE(C18:I18)-J18 -> #DIV/0!
A19: 13 | B19: ='DD cenas vērtējums'!B19 -> 0 | J19: =J18 -> 0 | K19: =AVERAGE(C19:I19)-J19 -> #DIV/0!
... A76: 70 | B76: ='DD cenas vērtējums'!B76 -> 0 | J76: =J75 -> 0 | K76: =AVERAGE(C76:I76)-J76 -> #DIV/0!
J77: Vērtējamā litra cena, EUR/ar PVN: | K77: =AVERAGE(K10:K76) -> #DIV/0!
A78: * DUS numurs ir tāds pats kā Pielikumā Nr.2 minētais, neaizpildītās rindiņas jāizdzēš
A79: ** Ja degvielas cena DUS kādā datumā ir mainījusies, tad jānorāda tās dienas augstākā cena, EUR ar PVN/litrā

Sheet Satiksmes produkti, automazgāša
A1: Finanšu piedāvājums iepirkuma daļai Nr.1 | C1: Satiksmes produktu un automazgāšanas cenu piedāvājums | K1: Nolikuma pielikums Nr.2
B3: Pretendents: | C3: ='DD cenas vērtējums'!C3:K3 -> 0
B5: Satiksmes produktu cenas Pretendenta DUS Nr.1 no 2024. gada 3. līdz 9.jūnijam, EUR ar PVN
A6: Nr. | B6: Satiksmes produkta nosaukums | C6: 03.06. | D6: 04.06. | E6: 05.06. | F6: 06.06. | G6: 07.06. | H6: 08.06. | I6: 09.06. | J6: Vienotā atlaide satiksmes produktiem, % | K6: Vidējā nedēļas cena, EUR ar PVN
A7: 1 | B7: Vasaras vējstikla šķidrums kanniņā, norādīt litra cenu | J7: ='Teh. spec. daļai Nr.1'!B14 -> 0 | K7: =AVERAGE(C7:I7)-AVERAGE(C7:I7)*J7 -> #DIV/0!
A8: 2 | B8: Vasaras vējstikla šķidrums no sūkņa, 1 litrs | J8: =J7 -> 0 | K8: =AVERAGE(C8:I8)-AVERAGE(C8:I8)*J8 -> #DIV/0!
A9: 3 | B9: AdBlue šķidrums kanniņā, norādīt litra cenu | J9: =J8 -> 0 | K9: =AVERAGE(C9:I9)-AVERAGE(C9:I9)*J9 -> #DIV/0!
A10: 4 | B10: Eļļa 5W-30, 1 litrs | J10: =J9 -> 0 | K10: =AVERAGE(C10:I10)-AVERAGE(C10:I10)*J10 -> #DIV/0!
A11: 5 | B11: Ādas cimdi, pāris | J11: =J10 -> 0 | K11: =AVERAGE(C11:I11)-AVERAGE(C11:I11)*J11 -> #DIV/0!
A12: 6 | B12: USB Type C vads | J12: =J11 -> 0 | K12: =AVERAGE(C12:I12)-AVERAGE(C12:I12)*J12 -> #DIV/0!
A13: 7 | B13: Universālais tālruņa turētājs, stiprināms pie stikla | J13: =J12 -> 0 | K13: =AVERAGE(C13:I13)-AVERAGE(C13:I13)*J13 -> #DIV/0!
J14: Vērtējamā summa, EUR/ar PVN: | K14: =SUM(K7:K13) -> #DIV/0!
B16: Vieglo automašīnu automātiskās mazgāšanas cenas Pretendenta DUS Nr.1 no 2024. gada 3. līdz 9.jūnijam, EUR ar PVN
A17: Nr. | B17: Automātiskā automazgāšana | C17: 03.06. | D17: 04.06. | E17: 05.06. | F17: 06.06. | G17: 07.06. | H17: 08.06. | I17: 09.06. | J17: Vienotā atlaide automazgāšanai, % | K17: Vidējā nedēļas cena, EUR ar PVN
A18: 1 | B18: Automātiskā mazgāšana, lētākā programma | J18: ='Teh. spec. daļai Nr.1'!B15 -> 0 | K18: =AVERAGE(C18:I18)-AVERAGE(C18:I18)*J18 -> #DIV/0!
A19: 2 | B19: Automātiskā mazgāšana, vidējā programma | J19: =J18 -> 0 | K19: =AVERAGE(C19:I19)-AVERAGE(C19:I19)*J19 -> #DIV/0!
A20: 3 | B20: Automātiskā mazgāšana, dārgākā programma | J20: =J19 -> 0 | K20: =AVERAGE(C20:I20)-AVERAGE(C20:I20)*J20 -> #DIV/0!
J21: Vērtējamā summa, EUR/ar PVN: | K21: =SUM(K18:K20) -> #DIV/0!
