Workbook

Sheet Tehniskā spec. daļai Nr.3
A1: Iepirkuma daļa Nr.3 | B1: Nolikuma pielikums Nr. 6
A2: Tehniskā specifikācija iepirkumam "Degvielas un elektroenerģijas iegāde mazumtirdzniecībā un vairumtirdzniecībā transportlīdzekļiem", iepirkuma daļa Nr.3 - elektromobiļu uzlāde publiskās uzlādes vietās
A4: Pretendents:
A5: Iepirkuma identifikācijas numurs: | B5: AS LVM SP_2024_129_Ak
A7: Prasības | B7: Piedāvājums
A8: 1.Publiskajām elektromobiļu uzlādes vietām ir jāatbilst spēkā esošajiem Latvijas nacionālajiem standartiem, Latvijas nacionālā standarta statusā adaptētajiem Eiropas standartiem un citu starptautisko vai reģionālo standartizācijas organizāciju standartu u.c. citu normatīvo dokumentu prasībām, t.sk. MK noteikumiem Nr.78 "Prasības elektrotransportlīdzekļu uzlādes, dabasgāzes uzpildes, ūdeņraža uzpildes un krasta elektropadeves iekārtām"
A9: 2. Visās elektromobiļu uzlādes vietās Pretendentam jānodrošina vienots bezskaidras naudas norēķinu veids – autorizācija ar RFID karti vai ar mobilā tālruņa aplikāciju, turpmāk tekstā – „Kredītkarte”.
A10: 3. Piegādātājam jānodrošina iespēju katrai kredītkartei pievienot „Info lauku” – tekstu ar struktūrvienības nosaukumu, kodu un darbinieka vārdu, uzvārdu - kuru Piegādātājam iesniedz vai izmaina kredītkartes darbības laikā Pasūtītājs.
A11: 4. Norādīt valstis Eiropā ārpus Latvijas, kurās iespējams izmantot Pretendenta "Kredītkarti" elektromobiļu uzlādei.
A12: 5. Mēneša pirmajā datumā Pretendents nodrošina piekļuvi atkaitei .xlsx vai .csv formātā par iepriekšējā mēnesī veiktajām uzlādēm - atskaites forma saskaņojama ar Pasūtītāju
A13: 6. Samaksa par elektromobiļu uzlādi tiks veikta 20 (divdesmit) kalendāro dienu laikā pēc Piegādātāja rēķina saņemšanas.
A14: 7. Rēķins par pakalpojumu iegādi ir jāiesniedz elektroniski.

Sheet Tehniskais pied., daļa Nr.3
A1: Nr.p.k. | B1: Pretendents | C1: Uzlādes vietas nosaukums | D1: Uzlādes vietas adrese | E1: DC CCS2 uzlāde ar max jaudu >150kW, 20 punkti* | F1: DC CCS2 uzlāde ar max jaudu >50kW, <150kW, 15 punkti* | G1: DC CCS2 un CHADeMO uzlāde ar max jaudu <50kW, 10 punkti* | H1: AC Type2 uzlāde ar max jaudu <22kW, 5 punkti* | I1: Par katru papildus AC Type2 uzlāde ar max jaudu <22kW, 1 punkti* | J1: Autorizācija ar aplikāciju, 2 punkti* | K1: Autorizēšanās ar RFID karti, 2 punkti* | L1: Uzlādes vietas tuvumā atrodas veikals, kafejnīca, 3 punkti* | M1: Kopā:
A2: 1 | B2: =IF(ISTEXT('Tehniskā spec. daļai Nr.3'!$B$4),'Tehniskā spec. daļai Nr.3'!$B$4,"") | M2: =SUM(E2:L2) -> 0
A3: 2 | B3: =IF(ISTEXT('Tehniskā spec. daļai Nr.3'!$B$4),'Tehniskā spec. daļai Nr.3'!$B$4,"") | M3: =SUM(E3:L3) -> 0
A4: 3 | B4: =IF(ISTEXT('Tehniskā spec. daļai Nr.3'!$B$4),'Tehniskā spec. daļai Nr.3'!$B$4,"") | M4: =SUM(E4:L4) -> 0
A5: 4 | B5: =IF(ISTEXT('Tehniskā spec. daļai Nr.3'!$B$4),'Tehniskā spec. daļai Nr.3'!$B$4,"") | M5: =SUM(E5:L5) -> 0
A6: 5 | B6: =IF(ISTEXT('Tehniskā spec. daļai Nr.3'!$B$4),'Tehniskā spec. daļai Nr.3'!$B$4,"") | M6: =SUM(E6:L6) -> 0
A7: 6 | B7: =IF(ISTEXT('Tehniskā spec. daļai Nr.3'!$B$4),'Tehniskā spec. daļai Nr.3'!$B$4,"") | M7: =SUM(E7:L7) -> 0
A8: 7 | B8: =IF(ISTEXT('Tehniskā spec. daļai Nr.3'!$B$4),'Tehniskā spec. daļai Nr.3'!$B$4,"") | M8: =SUM(E8:L8) -> 0
A9: 8 | B9: =IF(ISTEXT('Tehniskā spec. daļai Nr.3'!$B$4),'Tehniskā spec. daļai Nr.3'!$B$4,"") | M9: =SUM(E9:L9) -> 0
A10: 9 | B10: =IF(ISTEXT('Tehniskā spec. daļai Nr.3'!$B$4),'Tehniskā spec. daļai Nr.3'!$B$4,"") | M10: =SUM(E10:L10) -> 0
A11: 10 | B11: =IF(ISTEXT('Tehniskā spec. daļai Nr.3'!$B$4),'Tehniskā spec. daļai Nr.3'!$B$4,"") | M11: =SUM(E11:L11) -> 0
A12: 11 | B12: =IF(ISTEXT('Tehniskā spec. daļai Nr.3'!$B$4),'Tehniskā spec. daļai Nr.3'!$B$4,"") | M12: =SUM(E12:L12) -> 0
A13: 12 | B13: =IF(ISTEXT('Tehniskā spec. daļai Nr.3'!$B$4),'Tehniskā spec. daļai Nr.3'!$B$4,"") | M13: =SUM(E13:L13) -> 0
... A182: 181 | B182: =IF(ISTEXT('Tehniskā spec. daļai Nr.3'!$B$4),'Tehniskā spec. daļai Nr.3'!$B$4,"") | M182: =SUM(E182:L182) -> 0
M183: =SUM(M2:M182) -> 0
A184: *Ja attiecīgajā Elektromobiļu uzlādes vietā ir pieejamas kolonu virsrakstā minētās preces vai pakalpojumi, ierakstiet attiecīgo punktu skaitu, ja nav - 0 vai atstājiet tukšu
A185: ** Par vērtējumu saņemošu Elektromobiļu uzlādes vietā ar video novērošanu jāuzskata tādu, kurā Pretendents pēc Pasūtītāja pieprasījuma spēj sniegt informāciju par uzlādes apstākļiem, t.sk. var noteikt transportlīdzekļa reģistrācijas numuru

Sheet Finanšu piedāvājums, daļa Nr.3
B1: Iepirkuma daļai Nr.3 | D1: Finanšu piedāvājums iepirkuma daļā Nr.3 - Elektromobiļu uzlādes cenu piedāvājums | Q1: Nolikuma pielikums Nr.6
C2: Pretendents: | D2: =IF(ISTEXT('Tehniskā spec. daļai Nr.3'!B4),'Tehniskā spec. daļai Nr.3'!B4,"") | Q2: Uzlādes cenas 03.06.2024
A4: Nr.p.k. | B4: Uzlādes vietas nosaukums | C4: Uzlādes vietas adrese | D4: Izvēlētais uzlādes veids - AC (Type2) vai DC (CCS)* | E4: Cena par uzlādes apjomu, EUR ar PVN/kWh | F4: Vienotā atlaide, EUR ar PVN/kWh | G4: Cena par uzlādes apjomu ar atlaidi, EUR ar PVN/kWh | H4: Cena par uzlādes laiku, EUR ar PVN/min | I4: Vienotā atlaide, EUR ar PVN/min | J4: Cena par uzlādes laiku ar atlaidi, EUR ar PVN/min | K4: Uzlādes iekārtas maksimālā jauda, kW | L4: Pieņemtais uzlādes laiks, min | M4: Elektromobiļa vidējais enerģijas patēriņš, kWh/100km | N4: Ielādētas kWh | O4: Uzlādes izmaksas, EUR ar PVN | P4: Vērtējamās izmaksas uz 100 km EUR ar PVN | Q4: Piezīmes
A5: 1 | B5: =IF(ISTEXT('Tehniskais pied., daļa Nr.3'!C2),'Tehniskais pied., daļa Nr.3'!C2,"-") -> - | C5: =IF(ISTEXT('Tehniskais pied., daļa Nr.3'!D2),'Tehniskais pied., daļa Nr.3'!D2,"-") -> - | E5: 0 | F5: 0 | G5: =E5-F5 -> 0 | H5: 0 | I5: 0 | J5: =H5-I5 -> 0 | L5: 20 | M5: 20 | N5: =K5*(L5/60) -> 0 | O5: =(L5*J5)+(G5*N5) -> 0 | P5: =O5/N5*M5 -> #DIV/0!
A6: 2 | B6: =IF(ISTEXT('Tehniskais pied., daļa Nr.3'!C3),'Tehniskais pied., daļa Nr.3'!C3,"-") -> - | C6: =IF(ISTEXT('Tehniskais pied., daļa Nr.3'!D3),'Tehniskais pied., daļa Nr.3'!D3,"-") -> - | E6: 0 | F6: 0 | G6: =E6-F6 -> 0 | H6: 0 | I6: =$I$5 -> 0 | J6: =H6-I6 -> 0 | L6: 20 | M6: 20 | N6: =K6*(L6/60) -> 0 | O6: =(L6*J6)+(G6*N6) -> 0 | P6: =O6/N6*M6 -> #DIV/0!
A7: 3 | B7: =IF(ISTEXT('Tehniskais pied., daļa Nr.3'!C4),'Tehniskais pied., daļa Nr.3'!C4,"-") -> - | C7: =IF(ISTEXT('Tehniskais pied., daļa Nr.3'!D4),'Tehniskais pied., daļa Nr.3'!D4,"-") -> - | E7: 0 | F7: =$F$5 -> 0 | G7: =E7-F7 -> 0 | H7: 0 | I7: =$I$5 -> 0 | J7: =H7-I7 -> 0 | L7: 20 | M7: 20 | N7: =K7*(L7/60) -> 0 | O7: =(L7*J7)+(G7*N7) -> 0 | P7: =O7/N7*M7 -> #DIV/0!
A8: 4 | B8: =IF(ISTEXT('Tehniskais pied., daļa Nr.3'!C5),'Tehniskais pied., daļa Nr.3'!C5,"-") -> - | C8: =IF(ISTEXT('Tehniskais pied., daļa Nr.3'!D5),'Tehniskais pied., daļa Nr.3'!D5,"-") -> - | E8: 0 | F8: =$F$5 -> 0 | G8: =E8-F8 -> 0 | H8: 0 | I8: =$I$5 -> 0 | J8: =H8-I8 -> 0 | L8: 20 | M8: 20 | N8: =K8*(L8/60) -> 0 | O8: =(L8*J8)+(G8*N8) -> 0 | P8: =O8/N8*M8 -> #DIV/0!
A9: 5 | B9: =IF(ISTEXT('Tehniskais pied., daļa Nr.3'!C6),'Tehniskais pied., daļa Nr.3'!C6,"-") -> - | C9: =IF(ISTEXT('Tehniskais pied., daļa Nr.3'!D6),'Tehniskais pied., daļa Nr.3'!D6,"-") -> - | E9: 0 | F9: =$F$5 -> 0 | G9: =E9-F9 -> 0 | H9: 0 | I9: =$I$5 -> 0 | J9: =H9-I9 -> 0 | L9: 20 | M9: 20 | N9: =K9*(L9/60) -> 0 | O9: =(L9*J9)+(G9*N9) -> 0 | P9: =O9/N9*M9 -> #DIV/0!
A10: 6 | B10: =IF(ISTEXT('Tehniskais pied., daļa Nr.3'!C7),'Tehniskais pied., daļa Nr.3'!C7,"-") -> - | C10: =IF(ISTEXT('Tehniskais pied., daļa Nr.3'!D7),'Tehniskais pied., daļa Nr.3'!D7,"-") -> - | E10: 0 | F10: =$F$5 -> 0 | G10: =E10-F10 -> 0 | H10: 0 | I10: =$I$5 -> 0 | J10: =H10-I10 -> 0 | L10: 20 | M10: 20 | N10: =K10*(L10/60) -> 0 | O10: =(L10*J10)+(G10*N10) -> 0 | P10: =O10/N10*M10 -> #DIV/0!
A11: 7 | B11: =IF(ISTEXT('Tehniskais pied., daļa Nr.3'!C8),'Tehniskais pied., daļa Nr.3'!C8,"-") -> - | C11: =IF(ISTEXT('Tehniskais pied., daļa Nr.3'!D8),'Tehniskais pied., daļa Nr.3'!D8,"-") -> - | E11: 0 | F11: =$F$5 -> 0 | G11: =E11-F11 -> 0 | H11: 0 | I11: =$I$5 -> 0 | J11: =H11-I11 -> 0 | L11: 20 | M11: 20 | N11: =K11*(L11/60) -> 0 | O11: =(L11*J11)+(G11*N11) -> 0 | P11: =O11/N11*M11 -> #DIV/0!
A12: 8 | B12: =IF(ISTEXT('Tehniskais pied., daļa Nr.3'!C9),'Tehniskais pied., daļa Nr.3'!C9,"-") -> - | C12: =IF(ISTEXT('Tehniskais pied., daļa Nr.3'!D9),'Tehniskais pied., daļa Nr.3'!D9,"-") -> - | E12: 0 | F12: =$F$5 -> 0 | G12: =E12-F12 -> 0 | H12: 0 | I12: =$I$5 -> 0 | J12: =H12-I12 -> 0 | L12: 20 | M12: 20 | N12: =K12*(L12/60) -> 0 | O12: =(L12*J12)+(G12*N12) -> 0 | P12: =O12/N12*M12 -> #DIV/0!
A13: 9 | B13: =IF(ISTEXT('Tehniskais pied., daļa Nr.3'!C10),'Tehniskais pied., daļa Nr.3'!C10,"-") -> - | C13: =IF(ISTEXT('Tehniskais pied., daļa Nr.3'!D10),'Tehniskais pied., daļa Nr.3'!D10,"-") -> - | E13: 0 | F13: =$F$5 -> 0 | G13: =E13-F13 -> 0 | H13: 0 | I13: =$I$5 -> 0 | J13: =H13-I13 -> 0 | L13: 20 | M13: 20 | N13: =K13*(L13/60) -> 0 | O13: =(L13*J13)+(G13*N13) -> 0 | P13: =O13/N13*M13 -> #DIV/0!
A14: 10 | B14: =IF(ISTEXT('Tehniskais pied., daļa Nr.3'!C11),'Tehniskais pied., daļa Nr.3'!C11,"-") -> - | C14: =IF(ISTEXT('Tehniskais pied., daļa Nr.3'!D11),'Tehniskais pied., daļa Nr.3'!D11,"-") -> - | E14: 0 | F14: =$F$5 -> 0 | G14: =E14-F14 -> 0 | H14: 0 | I14: =$I$5 -> 0 | J14: =H14-I14 -> 0 | L14: 20 | M14: 20 | N14: =K14*(L14/60) -> 0 | O14: =(L14*J14)+(G14*N14) -> 0 | P14: =O14/N14*M14 -> #DIV/0!
A15: 11 | B15: =IF(ISTEXT('Tehniskais pied., daļa Nr.3'!C12),'Tehniskais pied., daļa Nr.3'!C12,"-") -> - | C15: =IF(ISTEXT('Tehniskais pied., daļa Nr.3'!D12),'Tehniskais pied., daļa Nr.3'!D12,"-") -> - | E15: 0 | F15: =$F$5 -> 0 | G15: =E15-F15 -> 0 | H15: 0 | I15: =$I$5 -> 0 | J15: =H15-I15 -> 0 | L15: 20 | M15: 20 | N15: =K15*(L15/60) -> 0 | O15: =(L15*J15)+(G15*N15) -> 0 | P15: =O15/N15*M15 -> #DIV/0!
A16: 12 | B16: =IF(ISTEXT('Tehniskais pied., daļa Nr.3'!C13),'Tehniskais pied., daļa Nr.3'!C13,"-") -> - | C16: =IF(ISTEXT('Tehniskais pied., daļa Nr.3'!D13),'Tehniskais pied., daļa Nr.3'!D13,"-") -> - | E16: 0 | F16: =$F$5 -> 0 | G16: =E16-F16 -> 0 | H16: 0 | I16: =$I$5 -> 0 | J16: =H16-I16 -> 0 | L16: 20 | M16: 20 | N16: =K16*(L16/60) -> 0 | O16: =(L16*J16)+(G16*N16) -> 0 | P16: =O16/N16*M16 -> #DIV/0!
A17: 13 | B17: =IF(ISTEXT('Tehniskais pied., daļa Nr.3'!C14),'Tehniskais pied., daļa Nr.3'!C14,"-") -> - | C17: =IF(ISTEXT('Tehniskais pied., daļa Nr.3'!D14),'Tehniskais pied., daļa Nr.3'!D14,"-") -> - | E17: 0 | F17: =$F$5 -> 0 | G17: =E17-F17 -> 0 | H17: 0 | I17: =$I$5 -> 0 | J17: =H17-I17 -> 0 | L17: 20 | M17: 20 | N17: =K17*(L17/60) -> 0 | O17: =(L17*J17)+(G17*N17) -> 0 | P17: =O17/N17*M17 -> #DIV/0!
A18: 14 | B18: =IF(ISTEXT('Tehniskais pied., daļa Nr.3'!C15),'Tehniskais pied., daļa Nr.3'!C15,"-") -> - | C18: =IF(ISTEXT('Tehniskais pied., daļa Nr.3'!D15),'Tehniskais pied., daļa Nr.3'!D15,"-") -> - | E18: 0 | F18: =$F$5 -> 0 | G18: =E18-F18 -> 0 | H18: 0 | I18: =$I$5 -> 0 | J18: =H18-I18 -> 0 | L18: 20 | M18: 20 | N18: =K18*(L18/60) -> 0 | O18: =(L18*J18)+(G18*N18) -> 0 | P18: =O18/N18*M18 -> #DIV/0!
... A186: 182 | B186: =IF(ISTEXT('Tehniskais pied., daļa Nr.3'!C183),'Tehniskais pied., daļa Nr.3'!C183,"-") -> - | C186: =IF(ISTEXT('Tehniskais pied., daļa Nr.3'!D183),'Tehniskais pied., daļa Nr.3'!D183,"-") -> - | E186: 0 | F186: =$F$5 -> 0 | G186: =E186-F186 -> 0 | H186: 0 | I186: =$I$5 -> 0 | J186: =H186-I186 -> 0 | L186: 20 | M186: 20 | N186: =K186*(L186/60) -> 0 | O186: =(L186*J186)+(G186*N186) -> 0 | P186: =O186/N186*M186 -> #DIV/0!
O187: Vērtējamās vidējās izmaksas uz 100 km, EUR ar PVN: | P187: =AVERAGE(P5:P186) -> #DIV/0!
A188: * ja uzlādes adresē ir pieejamas atšķirīgas jaudas un veida iekārtas, pretendents izvēlas vienu no tām vērtējamo izmaksu aprēķinam.
