Workbook

Sheet Sheet1
F1: 5.pielikums
A3: Iepirkuma "Apaļo kokmateriālu un enerģētisko šķeldas tilpuma uzmērīšanas, kvalitātes noteikšanas un šķeldu laboratorisko analīžu nodrošināšanas pakalpojumu sniegšana"
A4: (id. Nr.AS LVM MS RP_2024_134_Ak)
A6: FINANŠU PIEDĀVĀJUMS
B8: Cena, EUR par 1 cilvēkstundu/vienību bez PVN
A9: Pakalpojuma priekšmets | B9: Stacionāra darba vieta | E9: Pēc izsaukuma | H9: Ostas termināls
B10: Dienas darba laiks | C10: Nakts darba laiks | D10: Svētku dienas | E10: Dienas darba laiks | F10: Nakts darba laiks | G10: Svētku dienas | H10: Dienas darba laiks | I10: Nakts darba laiks | J10: Svētku dienas
A11: Apaļo kokmateriālu individuālā uzmērīšana
A12: Apaļo kokmateriālu grupveida uzmērīšana kokmateriālu krautuvē
A13: Apaļo kokmateriālu grupveida uzmērīšana
A14: Enerģētisko šķeldu grupveida uzmērīšana
A15: Apaļo kokmateriālu grupveida uzmērīšana izmantojot foto apstrādes tehnoloģiju, gab.*
A16: Enerģētisko šķeldu grupveida uzmērīšana izmantojot foto apstrādes tehnoloģiju, gab.*
A17: Enerģētisko šķeldu grupveida uzmērīšana izmantojot automatizēto uzmērīšanas ierīci, gab.*
A18: Testēšanas paraugu laboratoriskās analīzes - mitruma saturs šķeldām
A19: Testēšanas paraugu laboratoriskās analīzes - frakciju sadalījums
A20: Testēšanas paraugu laboratoriskās analīzes - pelnu saturs
A21: Testēšanas paraugu laboratoriskās analīzes - siltumspēja
A22: Testēšanas paraugu laboratoriskās analīzes - tilpumblīvums
... A25: Atskaites
A26: * Cena tiek sniegta par 1m3 uzmērīšanu | B26: Vērtējamā cena (EIS ievadlaukā norādāmā cena): | H26: =Sheet2!K23/Sheet2!M23 -> 0
A29: Šī dokumenta parakstīšanas datums ir pievienotā droša elektroniskā paraksta un tā laika zīmoga datums (ja šis dokuments ir parakstīts ar drošu elektronisko parakstu un tam ir laika zīmogs) vai datums, kurā piedāvājums parakstīts ar EIS piedāvāto elektronisko parakstu (ja Pretendents piedāvājuma dokumentus paraksta kopā ar EIS piedāvāto elektronisko parakstu).
A30: Piedāvājumu (t.sk. šo dokumentu) paraksta Pretendenta pārstāvis ar drošu elektronisko parakstu un laika zīmogu vai ar EIS piedāvāto elektronisko parakstu. Pretendents pēc saviem ieskatiem šo dokumentu var parakstīt atsevišķi ar drošu elektronisko parakstu un laika zīmogu.

Sheet Sheet2
A5: Pakalpojuma priekšmets | B5: Apjoma uzmērīšana | D5: Stacionāra darba vieta | E5: Pēc izsaukuma | H5: Ostas termināls | K5: Summa, EUR bez PVN
B6: m3 | C6: ber.m3 | D6: Dienas darba laiks | E6: Dienas darba laiks | F6: Nakts darba laiks | G6: Svētku dienas | H6: Dienas darba laiks | I6: Nakts darba laiks | J6: Svētku dienas
A7: 1.2. Apaļo kokmateriālu individuālā uzmērīšana | E7: 220 | K7: =(Sheet2!B7*Sheet1!B11)+(Sheet2!C7*Sheet1!C11)+(Sheet2!D7*Sheet1!D11)+(Sheet2!E7*Sheet1!E11)+(Sheet2!F7*Sheet1!F11)+(Sheet2!G7*Sheet1!G11)+(Sheet2!H7*Sheet1!H11)+(Sheet2!I7*Sheet1!I11)+(Sheet2!J7*Sheet1!J11) -> 0
A8: 1.3.1. Apaļo kokmateriālu grupveida uzmērīšana kokmateriālu krautuvē | E8: 220 | K8: =(Sheet2!B8*Sheet1!B12)+(Sheet2!C8*Sheet1!C12)+(Sheet2!D8*Sheet1!D12)+(Sheet2!E8*Sheet1!E12)+(Sheet2!F8*Sheet1!F12)+(Sheet2!G8*Sheet1!G12)+(Sheet2!H8*Sheet1!H12)+(Sheet2!I8*Sheet1!I12)+(Sheet2!J8*Sheet1!J12) -> 0
A9: 1.3.2. Apaļo kokmateriālu grupveida uzmērīšana | E9: 110 | K9: =(Sheet2!B9*Sheet1!B13)+(Sheet2!C9*Sheet1!C13)+(Sheet2!D9*Sheet1!D13)+(Sheet2!E9*Sheet1!E13)+(Sheet2!F9*Sheet1!F13)+(Sheet2!G9*Sheet1!G13)+(Sheet2!H9*Sheet1!H13)+(Sheet2!I9*Sheet1!I13)+(Sheet2!J9*Sheet1!J13) -> 0
A10: 1.3.3. Enerģētisko šķeldu grupveida uzmērīšana | D10: 2800 | E10: 2800 | H10: 2800 | K10: =(Sheet2!B10*Sheet1!B14)+(Sheet2!C10*Sheet1!C14)+(Sheet2!D10*Sheet1!B14)+(Sheet2!E10*Sheet1!E14)+(Sheet2!F10*Sheet1!F14)+(Sheet2!G10*Sheet1!G14)+(Sheet2!H10*Sheet1!H14)+(Sheet2!I10*Sheet1!I14)+(Sheet2!J10*Sheet1!J14) -> 0
A11: 1.3.4. Apaļo kokmateriālu grupveida uzmērīšana izmantojot foto apstrādes tehnoloģiju | B11: =13200*2 -> 26400 | K11: =(Sheet2!B11*Sheet1!B15)+(Sheet2!C11*Sheet1!C15)+(Sheet2!D11*Sheet1!D15)+(Sheet2!E11*Sheet1!E15)+(Sheet2!F11*Sheet1!F15)+(Sheet2!G11*Sheet1!G15)+(Sheet2!H11*Sheet1!H15)+(Sheet2!I11*Sheet1!I15)+(Sheet2!J11*Sheet1!J15) -> 0
A12: 1.3.5. Enerģētisko šķeldu grupveida uzmērīšana izmantojot foto apstrādes tehnoloģiju | C12: 32000 | K12: =(Sheet2!B12*Sheet1!B16)+(Sheet2!C12*Sheet1!C16)+(Sheet2!D12*Sheet1!D16)+(Sheet2!E12*Sheet1!E16)+(Sheet2!F12*Sheet1!F16)+(Sheet2!G12*Sheet1!G16)+(Sheet2!H12*Sheet1!H16)+(Sheet2!I12*Sheet1!I16)+(Sheet2!J12*Sheet1!J16) -> 0
A13: 1.3.6. Enerģētisko šķeldu grupveida uzmērīšana izmantojot automātisko uzmērīšanas ierīci | C13: 100000 | K13: =(Sheet2!B13*Sheet1!B17)+(Sheet2!C13*Sheet1!C17)+(Sheet2!D13*Sheet1!D17)+(Sheet2!E13*Sheet1!E17)+(Sheet2!F13*Sheet1!F17)+(Sheet2!G13*Sheet1!G17)+(Sheet2!H13*Sheet1!H17)+(Sheet2!I13*Sheet1!I17)+(Sheet2!J13*Sheet1!J17) -> 0
A14: 1.4.1.2.1. Testēšanas paraugu laboratoriskās analīzes - mitruma saturs šķeldām | E14: 1320 | K14: =(Sheet2!B14*Sheet1!B18)+(Sheet2!C14*Sheet1!C18)+(Sheet2!D14*Sheet1!D18)+(Sheet2!E14*Sheet1!E18)+(Sheet2!F14*Sheet1!F18)+(Sheet2!G14*Sheet1!G18)+(Sheet2!H14*Sheet1!H18)+(Sheet2!I14*Sheet1!I18)+(Sheet2!J14*Sheet1!J18) -> 0
A15: 1.4.1.2.2. Testēšanas paraugu laboratoriskās analīzes - frakciju sadalījums | E15: 220 | K15: =(Sheet2!B15*Sheet1!B19)+(Sheet2!C15*Sheet1!C19)+(Sheet2!D15*Sheet1!D19)+(Sheet2!E15*Sheet1!E19)+(Sheet2!F15*Sheet1!F19)+(Sheet2!G15*Sheet1!G19)+(Sheet2!H15*Sheet1!H19)+(Sheet2!I15*Sheet1!I19)+(Sheet2!J15*Sheet1!J19) -> 0
A16: 1.4.1.2.3. Testēšanas paraugu laboratoriskās analīzes - pelnu saturs | E16: 770 | K16: =(Sheet2!B16*Sheet1!B20)+(Sheet2!C16*Sheet1!C20)+(Sheet2!D16*Sheet1!D20)+(Sheet2!E16*Sheet1!E20)+(Sheet2!F16*Sheet1!F20)+(Sheet2!G16*Sheet1!G20)+(Sheet2!H16*Sheet1!H20)+(Sheet2!I16*Sheet1!I20)+(Sheet2!J16*Sheet1!J20) -> 0
A17: 1.4.1.2.4. Testēšanas paraugu laboratoriskās analīzes - siltumspēja | E17: 44 | K17: =(Sheet2!B17*Sheet1!B21)+(Sheet2!C17*Sheet1!C21)+(Sheet2!D17*Sheet1!D21)+(Sheet2!E17*Sheet1!E21)+(Sheet2!F17*Sheet1!F21)+(Sheet2!G17*Sheet1!G21)+(Sheet2!H17*Sheet1!H21)+(Sheet2!I17*Sheet1!I21)+(Sheet2!J17*Sheet1!J21) -> 0
A18: 1.4.1.2.5. Testēšanas paraugu laboratoriskās analīzes - tilpumblīvums | E18: 44 | K18: =(Sheet2!B18*Sheet1!B22)+(Sheet2!C18*Sheet1!C22)+(Sheet2!D18*Sheet1!D22)+(Sheet2!E18*Sheet1!E22)+(Sheet2!F18*Sheet1!F22)+(Sheet2!G18*Sheet1!G22)+(Sheet2!H18*Sheet1!H22)+(Sheet2!I18*Sheet1!I22)+(Sheet2!J18*Sheet1!J22) -> 0
A19: 1.5. Kuģa kravu kontroles pakalpojumi | E19: 22 | K19: =(Sheet2!B19*Sheet1!B23)+(Sheet2!C19*Sheet1!C23)+(Sheet2!D19*Sheet1!D23)+(Sheet2!E19*Sheet1!E23)+(Sheet2!F19*Sheet1!F23)+(Sheet2!G19*Sheet1!G23)+(Sheet2!H19*Sheet1!H23)+(Sheet2!I19*Sheet1!I23)+(Sheet2!J19*Sheet1!J23) -> 0
A20: 1.6. Konsultācijas | E20: 220 | K20: =(Sheet2!B20*Sheet1!B24)+(Sheet2!C20*Sheet1!C24)+(Sheet2!D20*Sheet1!D24)+(Sheet2!E20*Sheet1!E24)+(Sheet2!F20*Sheet1!F24)+(Sheet2!G20*Sheet1!G24)+(Sheet2!H20*Sheet1!H24)+(Sheet2!I20*Sheet1!I24)+(Sheet2!J20*Sheet1!J24) -> 0
A21: 1.7. Atskaites | E21: 220 | K21: =(Sheet2!B21*Sheet1!B25)+(Sheet2!C21*Sheet1!C25)+(Sheet2!D21*Sheet1!D25)+(Sheet2!E21*Sheet1!E25)+(Sheet2!F21*Sheet1!F25)+(Sheet2!G21*Sheet1!G25)+(Sheet2!H21*Sheet1!H25)+(Sheet2!I21*Sheet1!I25)+(Sheet2!J21*Sheet1!J25) -> 0
A22: Kopā: | B22: =SUM(B7:B21) -> 26400 | C22: =SUM(C7:C21) -> 132000 | D22: =SUM(D7:D21) -> 2800 | E22: =SUM(E7:E21) -> 6210 | F22: =SUM(F7:F21) -> 0 | G22: =SUM(G7:G21) -> 0 | H22: =SUM(H7:H21) -> 2800 | I22: =SUM(I7:I21) -> 0 | ... K22: =SUM(K7:K21) -> 0
K23: =K22 -> 0 | L23: apjoms | M23: =176000*2 -> 352000
M25: =K23/M23 -> 0
K26: =K14+K15+K16+K17+K18+K19 -> 0
