Workbook

Sheet 3.1.piel. LPUAA_normatīvi
A1: 3.1.pielikums_Rīgas KC
A3: Vidēji patērējamais darba laiks administratīvo objektu uzkopšanā Latvijā
A5: Izstrādājusi: Latvijas Profesionālās uzkopšanas un apsaimniekošanas asociācija
B7: Platību veids | E7: Vidēja līmeņa pakalpojumu programmas, kv.m./h
B8: Birojs | E8: 175
B9: Administrācijas telpas | E9: 180
B10: Arhīvs/biroja noliktava | E10: 350
B11: Konferenču telpas | E11: 265
B12: Biroja virtuve | E12: 165
B13: Gaiteņi/ieejas halles | E13: 385
B14: Kāpnes | E14: 120
B15: Lifti | E15: 30
B16: Mācību telpas | E16: 230
B17: Laboratorija | E17: 140
B18: Ēdamzāle | E18: 170
B19: Noliktavu telpas | E19: 315
... B23: Tualetes | E23: 80
A26: Piezīme: normas sastādītas, izmantojot Latvijas, kā arī 10 citu pasaules valstu datus, kas iegūti hronometrējot efektīvām metodēm veikta darba laika patēriņu.

Sheet 3.2.piel. Darba_efektivitāte
A1: 3.2.pielikums_Rīgas KC
A3: Telpu ikdienas uzkopšanas pakalpojuma darba efektivitāte objektos saskaņā ar pasūtītāja noteikto "Telpu uzkopšanas programmu" (1.pielikums).
A4: 1.Telpu ikdienas pamatuzkopšana atbilstoši pasūtītāja uzkopšanas programmai.
A5: Objekts | B5: Telpu pielietojums objektos saskaņā ar LPUAA normatīvos norādīto telpu pielietojuma sadalījumu. | C5: Telpu uzkopjamās platības objektos (m2) | D5: Telpu pamatuz-kopšanas reizes nedēļā | E5: Pasūtītāja noteiktais, saskaņā ar LPUAA normatīviem (vidējā līmeņa pakalpojumu programma) | F5: Pretendentam nepieciešamais uzkopšanas laiks 1reizē (h) saskaņā ar LPUAA normatīviem (vidējā līmeņa pakalpojumu programma) | G5: Pretendentam nepieciešamais uzkopšanas laiks 1reizē (h) | H5: Pretendenta plānotās darba stundas kopā mēnesī noteikto platību ikdienas uzkopšanai * | I5: Pretendenta faktiskais apkopēju skaits noteikto platību uzkopšanai objektā | J5: Darba stundas mēnesī vienai apkopējai, (h/mēnesī)
A6: 1 | B6: 2 | C6: 3 | D6: 4 | E6: 5 | F6: 6 | G6: 7 | H6: 8 | I6: 9 | J6: 10
A7: AS Latvijas valsts meži Vaiņodes iela 1, Rīga | B7: Biroja telpas | C7: =3442.45+390 -> 3832.45 | D7: 5 | E7: 175 | F7: =C7/E7 -> 21.899714 | H7: =(G7*D7*52)/12 -> 0 | I7: 5 | J7: =H21/I7 -> 0
B8: Atpūtas telpa | C8: 119.78 | D8: 5 | E8: 180 | F8: =C8/E8 -> 0.66544444 | H8: =(G8*D8*52)/12 -> 0
B9: Konferenču telpas | C9: 763.55 | D9: 5 | E9: 265 | F9: =C9/E9 -> 2.8813208 | H9: =(G9*D9*52)/12 -> 0
B10: Gaiteņi/ieejas halles | C10: =1561.55+50 -> 1611.55 | D10: 5 | E10: 300 | F10: =C10/E10 -> 5.3718333 | H10: =(G10*D10*52)/12 -> 0
B11: Biroja virtuves | C11: 18.88 | D11: 5 | E11: 165 | F11: =C11/E11 -> 0.11442424 | H11: =(G11*D11*52)/12 -> 0
B12: Kāpnes | C12: =140.78+120 -> 260.78 | D12: 5 | E12: 120 | F12: =C12/E12 -> 2.1731667 | H12: =(G12*D12*52)/12 -> 0
B13: Bērnu rotaļu telpa | C13: 18.1 | D13: 5 | E13: 170 | F13: =C13/E13 -> 0.10647059 | H13: =(G13*D13*52)/12 -> 0
B14: Garderobe | C14: 69.09 | D14: 5 | E14: 210 | F14: =C14/E14 -> 0.329 | H14: =(G14*D14*52)/12 -> 0
B15: Arhīvs | C15: 155.71 | D15: 1 | E15: 350 | F15: =C15/E15 -> 0.44488571 | H15: =(G15*D15*52)/12 -> 0
B16: Veikals "Mamma daba" | C16: 117.94 | D16: 5 | E16: 170 | F16: =C16/E16 -> 0.69376471 | H16: =(G16*D16*52)/12 -> 0
B17: Noliktavu telpas | C17: 247 | D17: 1 | E17: 350 | F17: =C17/E17 -> 0.70571429 | H17: =(G17*D17*52)/12 -> 0
B18: Palīgtelpa | C18: =362.76+30 -> 392.76 | D18: 1 | E18: 350 | F18: =C18/E18 -> 1.1221714 | H18: =(G18*D18*52)/12 -> 0
B19: Ģērbtuve | C19: 25.77 | D19: 5 | E19: 210 | F19: =C19/E19 -> 0.12271429 | H19: =(G19*D19*52)/12 -> 0
B20: Tualetes, dušas | C20: 211.52 | D20: 5 | E20: 100 | F20: =C20/E20 -> 2.1152 | H20: =(G20*D20*52)/12 -> 0
B21: Kopā: | C21: =SUM(C7:C20) -> 7844.88 | F21: =SUM(F7:F20) -> 38.745825 | G21: =SUM(G7:G20) -> 0 | H21: =SUM(H7:H20) -> 0 | J21: =H21/I7 -> 0
A24: 2.Izpildītājam jānodrošina telpu ikdienas uzturēšana (dežūrapkopējas noteiktajos objektos no plkst. 8:00 līdz 17:00) saskaņā pasūtītāja prasībām.
A25: Objekts | C25: Platība objektā (m2) | D25: Telpu ikdienas uzturēšana (dienas nedēļā) | E25: Pasūtītāja noteiktais dežūrapkopēju posteņu skaits telpu uzturēšanas darbu veikšanai no 8:00 līdz 17:30 | F25: Dežūrapkopēju posteņu kopējais darba laiks dienā (h) | G25: Pretendenta plānotās darba stundas kopā mēnesī noteikto platību uzturēšanai
A26: 1 | C26: 2 | D26: 3 | E26: 4 | F26: 5 | G26: 6
A27: AS Latvijas valsts meži, Vaiņodes iela 1, Rīga | C27: =C21 -> 7844.88 | D27: 5 | E27: 1 | F27: 8
A28: Kopā: | C28: =C27 -> 7844.88 | E28: =SUM(E27:E27) -> 1 | F28: =SUM(F27:F27) -> 8 | G28: =SUM(G27:G27) -> 0
A30: Skaidrojumi:
A31: 1.tabula: telpu ikdienas pamatuzkopšana atbilstoši pasūtītāja prasībām (1.pielikums. Tehniskā specifikācija. Telpu uzkopšanas programma).
A32: 1. Kolonna: Pasūtītāja noteikto objektu adreses.
A33: 2. Kolonna: Pasūtītāja norādītās telpu platības pēc to pielietojuma saskaņā ar LPUAA noteiktajiem normatīviem.
A34: 3. Kolonna: Pasūtītāja norādītās telpu uzkopjamās platības objektos.
A35: 4. Kolonna: Pasūtītāja noteiktās uzkopšanas reizes nedēļā.
A36: 5. Kolonna: Pasūtītājs norāda LPUAA atbilstošā uzkopšanas līmeņa normatīvus. Informācija par LPUAA "Vidēji patērējamais darba laiks administratīvo objektu uzkopšanā Latvijā" ir pieejama: Latvijas Profesionālās Uzkopšanas un Apsaimniekošanas Asociācijas (LPUAA) mājas lapā (www.lpuaa.lv) vai Iepirkumu uzraudzības biroja mājas lapā (ww.iub.gov.lv), sadaļā "Nozaru organizāciju ieteikumi". Uzkopjamo platību apjoms vienā stundā nevar būt lielāks, kā LPUAA noteiktajos normatīvos.
A37: 6. Kolonna: To veido 3. un 5. kolonnas, norādot nepieciešamo stundu daudzumu vienā uzkopšanas reizē konkrēti norādītajām telpu platībām pēc to nozīmes.
A38: 7. Kolonna: Aizpilda pretendents, norādot nepieciešamo darba stundu skaitu attiecīgu telpu vienas reizes uzkopsanai.
A39: 8. Kolonna: Aizpilda pretendents, norādot kopējo nepieciešamo darba stundu skaitu mēnesī (aprēķinam par pamatu: 4. un 6. aile, un pieņēmums: 1 gadā ir 52 nedēļas un 12 mēneši). *Vērtēšanas kritērijs ar apzīmējumu B.
A40: 9. Kolonna: Aizpilda pretendents, norādot plānoto apkopēju skaitu, pamatojoties uz pasūtītāja noteikto telpu ikdienas pamatuzkopšanas laiku: no pirmdienas līdz piektdienai 17:00-23:00
A41: 10. Kolonna: Aizpilda pretendents, norādot Darba stundas mēnesī vienai apkopējai, h/mēnesī
... A48: 6. Kolonna: Aizpilda pretendents, norādot kopējo dežūrapkopēju darba stundu skaitu mēnesī, ņemot vērā pasūtītāja noteikto dežūrapkopēju posteņu daudzumu objektos (aprēķinam par pamatu: 1 gadā ir 52 nedēļas un 12 mēneši).

Sheet 3.3._Darbinieku_atalg._veidl.
A1: 3.3.pielikums _Rīgas KC
B3: Iesaistīto darbinieku faktiskais daudzums un atalgojums
B4: (Izvērsta forma - darbinieku atalgojums)
B5: Pretendents aizpilda tabulu, norādot faktisko darbinieku kopējo skaitu, lai nodrošinātu pakalpojuma izpildi
A7: 1.tabula
A8: Objekts | B8: Darbinnieku skaits objektā | C8: Amats | D8: Stundas likme (bruto) EUR/h | E8: Darba stundas mēnesī | F8: Darbinieka atalgojums | L8: Darbinieka izmaksas
F9: Darba alga (bruto) | G9: Uzkrājums atvaļināju-mam | H9: Noteiktais slimības naudas uzkrājums darbiniekam | I9: Atalgojums (bruto) | J9: Darba devēja soc.nodoklis (VSAOI) | K9: Riska nodeva (EUR)
F10: Mēnesī (EUR) | G10: Mēnesī (EUR) | H10: Mēnesī (EUR) | I10: Mēnesī kopā (EUR) | J10: 0.2359 | L10: kopā mēnesī | M10: kopā 48 mēneši
A11: 1 | B11: 2 | C11: 3 | D11: 4 | E11: 5 | F11: 6 | G11: 7 | H11: 8 | I11: 9 | J11: 10 | K11: 11 | L11: 12 | M11: 13
A12: 1. Telpu ikdienas pamatuzkopšana un uzturēšana. | H12: 0
A13: 1.1. Telpu ikdienas uzkopšana.
A14: Latvijas valsts meži, Vaiņodes iela 1, Rīga | B14: 1 | C14: Apkopēja | D14: 0 | E14: ='3.2.piel. Darba_efektivitāte'!$J$21 -> 0 | F14: =D14*E14 -> 0 | G14: =F14/12 -> 0 | H14: =ROUND(F14*$H$12,2) -> 0 | I14: =F14+G14+H14 -> 0 | J14: =ROUND(I14*$J$10,2) -> 0 | K14: 0 | L14: =K14+J14+I14 -> 0 | M14: =L14*48 -> 0
F15: =D15*E15 -> 0 | G15: =F15/12 -> 0 | H15: =ROUND(F15*$H$12,2) -> 0 | I15: =F15+G15+H15 -> 0 | J15: =ROUND(I15*$J$10,2) -> 0 | K15: 0 | L15: =K15+J15+I15 -> 0 | M15: =L15*48 -> 0
F16: =D16*E16 -> 0 | G16: =F16/12 -> 0 | H16: =ROUND(F16*$H$12,2) -> 0 | I16: =F16+G16+H16 -> 0 | J16: =ROUND(I16*$J$10,2) -> 0 | K16: 0 | L16: =K16+J16+I16 -> 0 | M16: =L16*48 -> 0
F17: =D17*E17 -> 0 | G17: =F17/12 -> 0 | H17: =ROUND(F17*$H$12,2) -> 0 | I17: =F17+G17+H17 -> 0 | J17: =ROUND(I17*$J$10,2) -> 0 | K17: 0 | L17: =K17+J17+I17 -> 0 | M17: =L17*48 -> 0
F18: =D18*E18 -> 0 | G18: =F18/12 -> 0 | H18: =ROUND(F18*$H$12,2) -> 0 | I18: =F18+G18+H18 -> 0 | J18: =ROUND(I18*$J$10,2) -> 0 | K18: 0 | L18: =K18+J18+I18 -> 0 | M18: =L18*48 -> 0
F19: =D19*E19 -> 0 | G19: =F19/12 -> 0 | H19: =ROUND(F19*$H$12,2) -> 0 | I19: =F19+G19+H19 -> 0 | J19: =ROUND(I19*$J$10,2) -> 0 | K19: 0 | L19: =K19+J19+I19 -> 0 | M19: =L19*48 -> 0
F20: =D20*E20 -> 0 | G20: =F20/12 -> 0 | H20: =ROUND(F20*$H$12,2) -> 0 | I20: =F20+G20+H20 -> 0 | J20: =ROUND(I20*$J$10,2) -> 0 | K20: 0 | L20: =K20+J20+I20 -> 0 | M20: =L20*48 -> 0
F21: =D21*E21 -> 0 | G21: =F21/12 -> 0 | H21: =ROUND(F21*$H$12,2) -> 0 | I21: =F21+G21+H21 -> 0 | J21: =ROUND(I21*$J$10,2) -> 0 | K21: 0 | L21: =K21+J21+I21 -> 0 | M21: =L21*48 -> 0
F22: =D22*E22 -> 0 | G22: =F22/12 -> 0 | H22: =ROUND(F22*$H$12,2) -> 0 | I22: =F22+G22+H22 -> 0 | J22: =ROUND(I22*$J$10,2) -> 0 | K22: 0 | L22: =K22+J22+I22 -> 0 | M22: =L22*48 -> 0
F23: =D23*E23 -> 0 | G23: =F23/12 -> 0 | H23: =ROUND(F23*$H$12,2) -> 0 | I23: =F23+G23+H23 -> 0 | J23: =ROUND(I23*$J$10,2) -> 0 | K23: 0 | L23: =K23+J23+I23 -> 0 | M23: =L23*48 -> 0
A24: Telpu ikdienas pamatuzkopšana kopā: | E24: =SUM(E14:E23) -> 0 | F24: =SUM(F14:F23) -> 0 | G24: =SUM(G14:G23) -> 0 | H24: =SUM(H14:H23) -> 0 | I24: =SUM(I14:I23) -> 0 | J24: =SUM(J14:J23) -> 0 | K24: =SUM(K14:K23) -> 0 | L24: =SUM(L14:L23) -> 0 | M24: =SUM(M14:M23) -> 0
A25: 1.2. Telpu ikdienas uzturēšana.
A26: Latvijas valsts meži, Vaiņodes iela 1, Rīga | B26: 1 | C26: Dežūrapko-pēja | D26: 0 | E26: 0 | F26: =D26*E26 -> 0 | G26: =F26/12 -> 0 | H26: =ROUND(F26*$H$12,2) -> 0 | I26: =F26+G26+H26 -> 0 | J26: =ROUND(I26*$J$10,2) -> 0 | K26: 0 | L26: =K26+J26+I26 -> 0 | M26: =L26*48 -> 0
A27: Telpu ikdienas uzturēšana kopā: | E27: =SUM(E26:E26) -> 0 | F27: =SUM(F26:F26) -> 0 | G27: =SUM(G26:G26) -> 0 | H27: =SUM(H26:H26) -> 0 | I27: =SUM(I26:I26) -> 0 | J27: =SUM(J26:J26) -> 0 | K27: =SUM(K26:K26) -> 0 | L27: =SUM(L26:L26) -> 0 | M27: =SUM(M26:M26) -> 0
A28: Telpu ikdienas pamatuzkopšana un uzturēšana kopā (B vērtēšanas kritērijs): | E28: =SUM(E24+E27) -> 0 | F28: =SUM(F24+F27) -> 0 | G28: =SUM(G24+G27) -> 0 | H28: =SUM(H24+H27) -> 0 | I28: =SUM(I24+I27) -> 0 | J28: =SUM(J24+J27) -> 0 | K28: =SUM(K24+K27) -> 0 | L28: =SUM(L24+L27) -> 0 | M28: =SUM(M24+M27) -> 0
A29: 3. Pakalpojuma izpildes vadība un atbildība.
B30: 1 | C30: Darbu vadītājs | D30: 0 | E30: 0 | F30: =D30*E30 -> 0 | G30: =F30/12 -> 0 | H30: =ROUND(F30*$H$12,2) -> 0 | I30: =F30+G30+H30 -> 0 | J30: =ROUND(I30*$J$10,2) -> 0 | K30: 0 | L30: =K30+J30+I30 -> 0 | M30: =L30*48 -> 0
A31: Darbu vadītājs kopā (C vērtēšanas kritērijs): | E31: =SUM(E30:E30) -> 0 | F31: =SUM(F30:F30) -> 0 | G31: =SUM(G30:G30) -> 0 | H31: =SUM(H30:H30) -> 0 | I31: =SUM(I30:I30) -> 0 | J31: =SUM(J30:J30) -> 0 | K31: =SUM(K30:K30) -> 0 | L31: =SUM(L30:L30) -> 0 | M31: =SUM(M30:M30) -> 0
A32: Telpu ikdienas pamatuzkopšana un uzturēšana un Darba vadītājs pavisam kopā: | E32: =E28+E31 -> 0 | F32: =F28+F31 -> 0 | G32: =G28+G31 -> 0 | H32: =H28+H31 -> 0 | I32: =I28+I31 -> 0 | J32: =J28+J31 -> 0 | K32: =K28+K31 -> 0 | L32: =L28+L31 -> 0 | M32: =M28+M31 -> 0
A34: Skaidrojumi 3. pielikuma 1.tabulai:
A35: 1. Kolonna: Konkrētā objekta adrese.
A36: 2. Kolonna: Pretendents norāda visus servisa darbiniekus - pēc amatiem: apkopējas, dežūrapkopējas, darbu vadītājs.
A37: 3. Kolonna: Pretendents norāda visus servisa darbiniekus - pēc amatiem: apkopējas, dežūrapkopējas, darbu vadītājs.
A38: 4. Kolonna: Pretendents norāda darbinieka bruto stundas likmi (EUR/h).
A39: 5. Kolonna: Pretendents norāda darbinieka plānotās darba stundas mēnesī. Kopējām darba stundām ikdienas pamatuzkopšanai jāsakrīt ar Darba efektivitātes tabulā (pielikums Nr.4) norādītjām.
A40: 6. Kolonna: Pretendents norāda darbinieka darba algu (bruto) mēnesī.
A41: 7. Kolonna: Tiek aprēķināts ikmēneša uzkrājums darbinieka atvaļinājumam - 1/12 daļa no mēnešalgas.
A42: 8. Kolonna: Tiek aprēķināts ikmēneša slimības naudas uzkrājums darbiniekam slimības gadījumā - 12.rindiņā (šūna H12) jānorāda plānotais uzkrājuma lielums - EUR no mēnešalgas.
A43: 9. Kolonna: Pretendents norāda darbinieka atalgojums (bruto) mēnesī kopā.
A44: 10. Kolonna: Pretendents norāda darba devēja valsts sociālās apdrošināšanas obligāto iemaksu likmi (VSAOI).
A45: 11. Kolonna: Pretendents norāda Uzņēmējdarbības riska valsts nodevu par darbinieku.
... A47: 13. Kolonna: Pretendents norāda kopējās darbinieka/darbinieku izmaksas pasūtītāja noteiktajā laika periodā

Sheet 3.4._Izvērstā_fin_pied__veid_
A1: 3.4.pielikums_Rīgas KC
A3: IZVĒRSTAIS FINANŠU PIEDĀVĀJUMS
A4: /Pretendenta nosaukums/ piedāvā sniegt atklātā konkursā "AS "Latvijas valsts meži" klientu centru telpu ikdienas uzkopšana un ģenerāltīrīšana" tehniskajā specifikācijā minētos darbus par sekojošām izmaksām:
A5: Nr.p.k. | B5: Pakalpojums | C5: Kopējā platība objektos (m2) | D5: Servisa darbinieku algas izmaksas mēnesī, (EUR bez PVN) | E5: Darba vadītāja algas izmaksas mēnesī (EUR bez PVN) | G5: Materiālu (inventārs, līdzekļi, u.c.) izmaksas mēnesī, (EUR bez PVN) | H5: Pamatlīdz. amortizācija mēnesī (EUR bez PVN) | I5: Citas izmaksas mēnesī: administrā-cijas izmaksas, neparedz. izd. u.tml. (EUR bez PVN) | J5: Cena par pakalpojumu mēnesī (EUR/ m2 bez PVN) | K5: Cena par pakalpojumu mēnesī (EUR bez PVN) | L5: Cena par pakalpojumu (EUR bez PVN)
A6: 1. | B6: Telpu ikdienas uzkopšana | C6: ='3.2.piel. Darba_efektivitāte'!C21 -> 7844.88 | D6: ='3.3._Darbinieku_atalg._veidl.'!L28 -> 0 | E6: ='3.3._Darbinieku_atalg._veidl.'!L31 -> 0 | G6: 0 | H6: 0 | I6: 0 | J6: =K6/C6 -> 0 | K6: =SUM(D6:I6) -> 0 | L6: =K6*12 -> 0
B7: Pakalpojuma cena kopā gadā (12 mēneši) (bez PVN): | L7: =SUM(L6:L6) -> 0
B8: Līguma summa kopā (48 mēneši) (bez PVN): | L8: =L7*4 -> 0
A9: 2. | B9: Periodiski veicamie speciālie darbi: Pretendents norāda cenu par 1m2 (EUR bez PVN). Periodiski veicamie speciālie darbi tiks veikti pēc Pasūtītāja pieprasījuma, iepriekš vienojoties ar izpildītāju. Apmaksa par noteiktajiem darbiem tiks veikta atsevišķi saskaņā ar pretendenta norādīto cenu (EUR/1m2 ) bez PVN. | K9: Cena par 1m2 (EUR bez PVN) | L9: Cena par 1 reizi (EUR bez PVN)
A10: 2.1 | B10: Flīžu impregnēšana (ar mēbeļu pārvietošanu), 1 reize | C10: =875.2+39+50 -> 964.2 | K10: 0 | L10: =K10*C10 -> 0
A11: 2.2 | B11: Parketa vaskotās virskārtas atjaunošana (ar mēbeļu pārvietošanu), 1 reize | C11: 3618.39 | K11: 0 | L11: =K11*C11 -> 0
A12: 2.3 | B12: Parketa eļļošana (ar mēbeļu pārvietošanu), 1 reize | C12: =866.6+78 -> 944.6 | K12: 0 | L12: =K12*C12 -> 0
A13: 2.4 | B13: Mīkstā grīdas seguma ķīmiskā tīrīšana, 1 reize | C13: =1500.25+273 -> 1773.25 | K13: 0 | L13: =K13*C13 -> 0
A14: 2.5 | B14: Iekšējo stikla starpsienu mazgāšana no abām pusēm, 1 reize | C14: =736.72+224 -> 960.72 | K14: 0 | L14: =K14*C14 -> 0
A15: 2.6 | B15: Ārējās stiklotās fasādes vai logu mazgāšana no iekšpuses | C15: 1342 | K15: 0 | L15: =K15*C15 -> 0
A16: 2.7 | B16: Betona pretputekļu apstrāde | C16: =394.55+30+120 -> 544.55 | K16: 0 | L16: =K16*C16 -> 0
L17: Cena par 1 stundu (EUR bez PVN)
A18: 3. | B18: Atsevišķos gadījumos (Objekta remonta vai rekonstrukcijas gadījumā, kā arī citos pasākumos) Izpildītājam jānodrošina pakalpojumi ārpus noteiktā darba laika, par ko Pasūtītājs Izpildītāju brīdina iepriekš un norēķinās papildu, bet saglabājot nemainīgu noteikto pakalpojuma stundas likmi (iekļaujot darbinieka atalgojumu, uzkopšanas materiālus, inventāru, iekārtu u.tml. izmaksas). | L18: 0

Sheet 3.5._Finanšu_pied_forma
A1: 3.5.pielikums_Rīgas KC
A3: Finanšu piedāvājuma forma
A5: Telpu uzkopšanai atbilstoši tehniskajā specifikācijā noteiktajiem apjomiem un biežumam
A7: Vērtēšnas kritērijs | D7: Vērtība | F7: Vērtēšanas kritērija apzīmējums
A8: Piedāvātā vērtējamā cena 48 mēn. par telpu ikdienas uzkopšanas pakalpojumiem (EUR bez PVN): | D8: ='3.4._Izvērstā_fin_pied__veid_'!L8 -> 0 | F8: A
A9: Pretendenta plānotās darba stundas kopā mēnesī noteikto platību ikdienas pamatuzkopšanai un uzturēšanai (h): | D9: ='3.3._Darbinieku_atalg._veidl.'!E28 -> 0 | F9: B
A10: Objektu apkalpošanā iesaistītā tiešā vadītāja pakalpojumu izpildei uz vietas objektā patērēto stundu skaits (h): | D10: ='3.3._Darbinieku_atalg._veidl.'!E31 -> 0 | F10: C
A11: Piedāvātā kopējā cena par speciālajiem, periodiski veicamajiem darbiem (EUR bez PVN): | D11: =SUM('3.4._Izvērstā_fin_pied__veid_'!L10:L16) -> 0 | F11: D
A12: Piedāvātā stundas tarifa likme par uzkopšanas pakalpojumu ārpus noteiktā darba laika (EUR bez PVN): | D12: ='3.4._Izvērstā_fin_pied__veid_'!L18 -> 0 | F12: E
A14: Finanšu piedāvājumā ierēķinātas visas izmaksas (darbaspēks, materiāli, tīrāmie līdzekļi, piegāde u.c.), kas nepieciešamas darbu izpildei.
A17: Ar šo apstiprinām un garantējam sniegto ziņu patiesumu un precizitāti, kā arī atbilstību atklāta konkursa noteikumiem.
