Workbook

Sheet Būvniecības koptāme
A2: APSTIPRINU
A4: (pasūtītāja paraksts un ta atšifrējums)
C7: =TEXT(TODAY(), "yyyy. ")& "gada " & DAY(TODAY()) & "." &CHOOSE(MONTH(TODAY()), "janvārī", "februārī", "martā", "aprīlī", "maijā", "jūnijā", "jūlijā", "augustā", "septembrī", "oktobrī", "novembrī", "decembrī") -> 2024. gada 11.decembrī
A9: Būvniecības koptāme
A11: ="Objekta nosaukums: "&'Lokālā tāme'!A2 -> Objekta nosaukums: " 20kV elektropārvades līniju S137, S127 pārbūve, transformatora apakšstacijas T75031 automatizācija Rietekļa un Vaidavas ielās, Valmierā ", IO-259181
A12: Būves nosaukums:
A13: Objekta adrese:
A14: Pasūtījuma Nr.:
A15: Pasūtītājs: AS "Sadales tīkls"
A16: Pretendents:
A18: Nr.p.k. | B18: Objekta nosaukums | C18: Objekta izmaksas (euro)
A19: 1 | B19: ='Lokālā tāme'!A2 -> " 20kV elektropārvades līniju S137, S127 pārbūve, transformatora apakšstacijas T75031 automatizācija Rietekļa un Vaidavas ielās, Valmierā ", IO-259181 | C19: ='Kopsavilkuma aprēķins'!E23 -> 0
B21: Kopā | C21: =SUM(C19:C19) -> 0
A22: * PVN (21%) | C22: -
B23: Pavisam kopā | C23: =C21 -> 0
A24: * PVN apmaksa atbilstoši Pievienotās vērtības nodokļu likumam 142.panta 6.daļas nosacījumiem "nodokļu atgrieztā maksāšana"
A26: Sastādīja:
A27: Sert.Nr.
A29: ='Lokālā tāme'!L12 -> Tāme sastādīta 2024. gada 11.decembrī
A32: ŠIS DOKUMENTS IR ELEKTRONISKI PARAKSTĪTS AR DROŠU ELEKTRONISKO PARAKSTU UN SATUR LAIKA ZĪMOGU

Sheet Kopsavilkuma aprēķins
A1: Kopsavilkuma aprēķins Nr. 1
A2: ='Lokālā tāme'!A2 -> " 20kV elektropārvades līniju S137, S127 pārbūve, transformatora apakšstacijas T75031 automatizācija Rietekļa un Vaidavas ielās, Valmierā ", IO-259181
A3: (būvdarbu veids vai konstruktīvā elementa nosaukums)
A5: ="Objekta nosaukums: "&A2 -> Objekta nosaukums: " 20kV elektropārvades līniju S137, S127 pārbūve, transformatora apakšstacijas T75031 automatizācija Rietekļa un Vaidavas ielās, Valmierā ", IO-259181
A6: Būves nosaukums:
A7: Objekta adrese:
A8: Pasūtījuma Nr.:
A9: Pasūtītājs: AS "Sadales tīkls"
A10: Pretendents:
C13: Par kopējo summu (euro) | D13: =E23 -> 0
C14: Kopējā darbietilpība (c/h) | D14: =I19 -> 0
A16: Nr. p.k. | B16: Kods, tāmes Nr. | C16: Darba veids vai konstruktīvā elementa nosaukums | E16: Tāmes izmaksas (EUR) | F16: Tai skaitā: | I16: Darbietilpība (c/h)
F17: darba alga (EUR) | G17: būvizstrādājumi (EUR) | H17: mehānismi (EUR)
A18: 1 | B18: 1 | C18: =A2 -> " 20kV elektropārvades līniju S137, S127 pārbūve, transformatora apakšstacijas T75031 automatizācija Rietekļa un Vaidavas ielās, Valmierā ", IO-259181 | E18: ='Lokālā tāme'!P202 -> 0 | F18: ='Lokālā tāme'!M202 -> 0 | G18: ='Lokālā tāme'!N202 -> 0 | H18: ='Lokālā tāme'!O202 -> 0 | I18: ='Lokālā tāme'!L202 -> 0
A19: Kopā | E19: =E18 -> 0 | F19: =F18 -> 0 | G19: =G18 -> 0 | H19: =H18 -> 0 | I19: =I18 -> 0
A20: Virsizdevumi | D20: 0 | E20: =ROUND(E19*D20,2) -> 0
A21: t.sk.darba aizsardzība | D21: 0 | E21: =ROUND(E20*D21,2) -> 0
A22: Peļņa | D22: 0 | E22: =ROUND(E19*D22,2) -> 0
A23: Pavisam kopā | E23: =E22+E20+E19 -> 0
A25: Sastādīja: | B25: _______________________________
A26: Sert.Nr. | B26: _______________________________
A28: ="Tāmes izmaksas bez PVN: "&E23 -> Tāmes izmaksas bez PVN: 0
A31: Pārbaudīja: | B31: _______________________________
A32: Sert.Nr. | B32: _______________________________
A34: ='Lokālā tāme'!L12 -> Tāme sastādīta 2024. gada 11.decembrī
A37: ŠIS DOKUMENTS IR ELEKTRONISKI PARAKSTĪTS AR DROŠU ELEKTRONISKO PARAKSTU UN SATUR LAIKA ZĪMOGU

Sheet Lokālā tāme
A1: Lokālā tāme Nr. 1
A2: " 20kV elektropārvades līniju S137, S127 pārbūve, transformatora apakšstacijas T75031 automatizācija Rietekļa un Vaidavas ielās, Valmierā ", IO-259181
A3: (būvdarbu veids vai konstruktīvā elementa nosaukums)
A5: ="Objekta nosaukums: "&A2 -> Objekta nosaukums: " 20kV elektropārvades līniju S137, S127 pārbūve, transformatora apakšstacijas T75031 automatizācija Rietekļa un Vaidavas ielās, Valmierā ", IO-259181
A6: Būves nosaukums:
A7: Objekta adrese:
A8: Pasūtījuma Nr.:
A9: Pasūtītājs: AS "Sadales tīkls"
A10: Pretendents:
L11: ="Tāmes izmaksas bez PVN: "&P202 -> Tāmes izmaksas bez PVN: 0
C12: Tāme sastādīta 2024. gada tirgus cenās, pamatojoties uz projektēšanas uzdevumu. | L12: ="Tāme sastādīta "&TEXT(TODAY(), "yyyy. ")& "gada " & DAY(TODAY()) & "." &CHOOSE(MONTH(TODAY()), "janvārī", "februārī", "martā", "aprīlī", "maijā", "jūnijā", "jūlijā", "augustā", "septembrī", "oktobrī", "novembrī", "decembrī") -> Tāme sastādīta 2024. gada 11.decembrī
A14: Nr.p.k. | B14: Kods* | C14: Būvdarbu nosaukums | D14: Mērvienība | E14: Daudzums | F14: Vienības izmaksas | L14: Kopā uz visu apjomu
F15: laika norma (c/h) | G15: darba samaksas likme (euro/h) | H15: darba alga | I15: būvizstrādājumi | J15: mehānismi | K15: kopā | L15: darbietilpība (c/h) | M15: darba alga | N15: būvizstrādājumi | O15: mehānismi | P15: summa | Q15: MAN* | R15: Piedāvātie materiāli
A16: 1 | B16: 22-00000 | C16: Transformatora apakšstacijas demontāžas darbi Nr.37011#T75031 (T75031 "Olimpiskais centrs"), (Darbu izmaksas)
A17: 1.1 | B17: 13126 | C17: VS 3 dzīslu kabeļa demontāža | D17: m | E17: 12 | H17: =ROUND(F17*G17,2) -> 0 | K17: =SUM(H17:J17) -> 0 | L17: =ROUND(E17*F17,2) -> 0 | M17: =ROUND(E17*H17,2) -> 0 | N17: =ROUND(E17*I17,2) -> 0 | O17: =ROUND(E17*J17,2) -> 0 | P17: =SUM(M17:O17) -> 0
A18: 1.2 | B18: 17442 | C18: VS slēgiekārtas 2 - 5 ligzdu komplekta demontāža | D18: gab. | E18: 1 | H18: =ROUND(F18*G18,2) -> 0 | K18: =SUM(H18:J18) -> 0 | L18: =ROUND(E18*F18,2) -> 0 | M18: =ROUND(E18*H18,2) -> 0 | N18: =ROUND(E18*I18,2) -> 0 | O18: =ROUND(E18*J18,2) -> 0 | P18: =SUM(M18:O18) -> 0
A19: 1.3 | B19: bez koda | C19: Esošās slēgiekārtas metāla rāmja demontāža | D19: kom | E19: 1 | H19: =ROUND(F19*G19,2) -> 0 | K19: =SUM(H19:J19) -> 0 | L19: =ROUND(E19*F19,2) -> 0 | M19: =ROUND(E19*H19,2) -> 0 | N19: =ROUND(E19*I19,2) -> 0 | O19: =ROUND(E19*J19,2) -> 0 | P19: =SUM(M19:O19) -> 0
A20: 2 | B20: 22-00000 | C20: Transformatora apakšstacijas izbūve / pārbūve, t. sk. digitālā nospraušana un uzmērīšana Nr.37011#T75031 (T75031 "Olimpiskais centrs"), (Darbu izmaksas)
A21: 2.1 | B21: 12110 | C21: ZS kabeļa līdz 35 mm2 montāža ar skavām pa sienām, griestiem, uz troses | D21: m | E21: 60 | H21: =ROUND(F21*G21,2) -> 0 | K21: =SUM(H21:J21) -> 0 | L21: =ROUND(E21*F21,2) -> 0 | M21: =ROUND(E21*H21,2) -> 0 | N21: =ROUND(E21*I21,2) -> 0 | O21: =ROUND(E21*J21,2) -> 0 | P21: =SUM(M21:O21) -> 0
A22: 2.2 | B22: 13105 | C22: VS 1 dzīslu kabeļa 35 - 240 mm2 montāža uz plauktiem, kabeļu tuneļos, kanālos | D22: m | E22: 12 | H22: =ROUND(F22*G22,2) -> 0 | K22: =SUM(H22:J22) -> 0 | L22: =ROUND(E22*F22,2) -> 0 | M22: =ROUND(E22*H22,2) -> 0 | N22: =ROUND(E22*I22,2) -> 0 | O22: =ROUND(E22*J22,2) -> 0 | P22: =SUM(M22:O22) -> 0
A23: 2.3 | B23: 13107 | C23: VS 1 dzīslu kabeļa 35 - 240 mm2 montāža ar skavām pa sienu, griestiem, vai iesiet trosē | D23: m | E23: 36 | H23: =ROUND(F23*G23,2) -> 0 | K23: =SUM(H23:J23) -> 0 | L23: =ROUND(E23*F23,2) -> 0 | M23: =ROUND(E23*H23,2) -> 0 | N23: =ROUND(E23*I23,2) -> 0 | O23: =ROUND(E23*J23,2) -> 0 | P23: =SUM(M23:O23) -> 0
A24: 2.4 | B24: 13201 | C24: VS 1 dzīslu plastmasas izolācijas kabeļa līdz 95 mm2 gala apdare | D24: gab. | E24: 6 | H24: =ROUND(F24*G24,2) -> 0 | K24: =SUM(H24:J24) -> 0 | L24: =ROUND(E24*F24,2) -> 0 | M24: =ROUND(E24*H24,2) -> 0 | N24: =ROUND(E24*I24,2) -> 0 | O24: =ROUND(E24*J24,2) -> 0 | P24: =SUM(M24:O24) -> 0
A25: 2.5 | B25: 13205 | C25: VS 1 dzīslu kabeļa līdz 95 mm2 adaptera montāža slēgiekārtās | D25: gab. | E25: 6 | H25: =ROUND(F25*G25,2) -> 0 | K25: =SUM(H25:J25) -> 0 | L25: =ROUND(E25*F25,2) -> 0 | M25: =ROUND(E25*H25,2) -> 0 | N25: =ROUND(E25*I25,2) -> 0 | O25: =ROUND(E25*J25,2) -> 0 | P25: =SUM(M25:O25) -> 0
A26: 2.6 | B26: 13211 | C26: VS kabeļlīnijas pievienošana (atvienošana) | D26: pievienoj. | E26: 2 | H26: =ROUND(F26*G26,2) -> 0 | K26: =SUM(H26:J26) -> 0 | L26: =ROUND(E26*F26,2) -> 0 | M26: =ROUND(E26*H26,2) -> 0 | N26: =ROUND(E26*I26,2) -> 0 | O26: =ROUND(E26*J26,2) -> 0 | P26: =SUM(M26:O26) -> 0
A27: 2.7 | B27: bez koda | C27: Sadalnes kārbas montāža pašpatēriņa panelī | D27: gab | E27: 1 | H27: =ROUND(F27*G27,2) -> 0 | K27: =SUM(H27:J27) -> 0 | L27: =ROUND(E27*F27,2) -> 0 | M27: =ROUND(E27*H27,2) -> 0 | N27: =ROUND(E27*I27,2) -> 0 | O27: =ROUND(E27*J27,2) -> 0 | P27: =SUM(M27:O27) -> 0
A28: 2.8 | B28: 16204 | C28: Automātslēdža montāža sadalnē | D28: gab. | E28: 2 | H28: =ROUND(F28*G28,2) -> 0 | K28: =SUM(H28:J28) -> 0 | L28: =ROUND(E28*F28,2) -> 0 | M28: =ROUND(E28*H28,2) -> 0 | N28: =ROUND(E28*I28,2) -> 0 | O28: =ROUND(E28*J28,2) -> 0 | P28: =SUM(M28:O28) -> 0
A29: 2.9 | B29: bez koda | C29: Metāla rāmja montāža jaunās slēgiekārtas uzstādīšanai | D29: kom | E29: 1 | H29: =ROUND(F29*G29,2) -> 0 | K29: =SUM(H29:J29) -> 0 | L29: =ROUND(E29*F29,2) -> 0 | M29: =ROUND(E29*H29,2) -> 0 | N29: =ROUND(E29*I29,2) -> 0 | O29: =ROUND(E29*J29,2) -> 0 | P29: =SUM(M29:O29) -> 0
A30: 2.1 | B30: 17410 | C30: VS slēgiekārtas 5 ligzdu slēgiekārtas montāža | D30: k-ts | E30: 1 | H30: =ROUND(F30*G30,2) -> 0 | K30: =SUM(H30:J30) -> 0 | L30: =ROUND(E30*F30,2) -> 0 | M30: =ROUND(E30*H30,2) -> 0 | N30: =ROUND(E30*I30,2) -> 0 | O30: =ROUND(E30*J30,2) -> 0 | P30: =SUM(M30:O30) -> 0
A31: 2.11 | B31: 17428 | C31: VS drošinātāju komplekta uzstādīšana | D31: kompl. | E31: 2 | H31: =ROUND(F31*G31,2) -> 0 | K31: =SUM(H31:J31) -> 0 | L31: =ROUND(E31*F31,2) -> 0 | M31: =ROUND(E31*H31,2) -> 0 | N31: =ROUND(E31*I31,2) -> 0 | O31: =ROUND(E31*J31,2) -> 0 | P31: =SUM(M31:O31) -> 0
A32: 2.12 | B32: 22110 | C32: Caurumu lielāka par 30 mm urbšana līdz 1 m | D32: gab. | E32: 1 | H32: =ROUND(F32*G32,2) -> 0 | K32: =SUM(H32:J32) -> 0 | L32: =ROUND(E32*F32,2) -> 0 | M32: =ROUND(E32*H32,2) -> 0 | N32: =ROUND(E32*I32,2) -> 0 | O32: =ROUND(E32*J32,2) -> 0 | P32: =SUM(M32:O32) -> 0
... A38: 2.18 | B38: 20121 | C38: Transformatora termoaizsardzības montāža | D38: k-ts | E38: 1 | H38: =ROUND(F38*G38,2) -> 0 | K38: =SUM(H38:J38) -> 0 | L38: =ROUND(E38*F38,2) -> 0 | M38: =ROUND(E38*H38,2) -> 0 | N38: =ROUND(E38*I38,2) -> 0 | O38: =ROUND(E38*J38,2) -> 0 | P38: =SUM(M38:O38) -> 0
A39: 2.19 | B39: 20123 | C39: Slēgiekārtas ar vadību pieņemšanas pārbaude | D39: k-ts | E39: 1 | H39: =ROUND(F39*G39,2) -> 0 | I39: PP** | K39: =SUM(H39:J39) -> 0 | L39: =ROUND(E39*F39,2) -> 0 | M39: =ROUND(E39*H39,2) -> 0 | N39: PP** | O39: =ROUND(E39*J39,2) -> 0 | P39: =SUM(M39:O39) -> 0
A40: 2.2 | B40: 20124 | C40: Objekta RAA, DVS kompleksā pārbaude | D40: gab. | E40: 1 | H40: =ROUND(F40*G40,2) -> 0 | I40: PP** | K40: =SUM(H40:J40) -> 0 | L40: =ROUND(E40*F40,2) -> 0 | M40: =ROUND(E40*H40,2) -> 0 | N40: PP** | O40: =ROUND(E40*J40,2) -> 0 | P40: =SUM(M40:O40) -> 0
A41: 2.21 | B41: 20125 | C41: Bojājuma virziena uzrādītāja iestatīšana, transformatora termoaizsardzības pārbaude | D41: gab. | E41: 5 | H41: =ROUND(F41*G41,2) -> 0 | I41: PP** | K41: =SUM(H41:J41) -> 0 | L41: =ROUND(E41*F41,2) -> 0 | M41: =ROUND(E41*H41,2) -> 0 | N41: PP** | O41: =ROUND(E41*J41,2) -> 0 | P41: =SUM(M41:O41) -> 0
A42: 2.22 | B42: 20201 | C42: DVS gala iekārtas montāža un ķēžu pievienošana | D42: kompl. | E42: 1 | H42: =ROUND(F42*G42,2) -> 0 | K42: =SUM(H42:J42) -> 0 | L42: =ROUND(E42*F42,2) -> 0 | M42: =ROUND(E42*H42,2) -> 0 | N42: =ROUND(E42*I42,2) -> 0 | O42: =ROUND(E42*J42,2) -> 0 | P42: =SUM(M42:O42) -> 0
A43: 2.23 | B43: 20202 | C43: DVS gala iekārtas pilna apjoma konfigurēšana | D43: kompl. | E43: 1 | H43: =ROUND(F43*G43,2) -> 0 | I43: PP** | K43: =SUM(H43:J43) -> 0 | L43: =ROUND(E43*F43,2) -> 0 | M43: =ROUND(E43*H43,2) -> 0 | N43: PP** | O43: =ROUND(E43*J43,2) -> 0 | P43: =SUM(M43:O43) -> 0
A44: 2.24 | B44: 20204 | C44: Sakaru iekārtas sadalnes montāža un ķēžu pievienošana | D44: ķēde | E44: 3 | H44: =ROUND(F44*G44,2) -> 0 | I44: PP** | K44: =SUM(H44:J44) -> 0 | L44: =ROUND(E44*F44,2) -> 0 | M44: =ROUND(E44*H44,2) -> 0 | N44: PP** | O44: =ROUND(E44*J44,2) -> 0 | P44: =SUM(M44:O44) -> 0
A45: 2.25 | B45: 20205 | C45: Sakaru iekārtu darbaspēju pārbaude | D45: gab. | E45: 1 | H45: =ROUND(F45*G45,2) -> 0 | I45: PP** | K45: =SUM(H45:J45) -> 0 | L45: =ROUND(E45*F45,2) -> 0 | M45: =ROUND(E45*H45,2) -> 0 | N45: PP** | O45: =ROUND(E45*J45,2) -> 0 | P45: =SUM(M45:O45) -> 0
A46: 2.26 | B46: 20206 | C46: Antenas komplekta montāža | D46: gab. | E46: 1 | H46: =ROUND(F46*G46,2) -> 0 | I46: PP** | K46: =SUM(H46:J46) -> 0 | L46: =ROUND(E46*F46,2) -> 0 | M46: =ROUND(E46*H46,2) -> 0 | N46: PP** | O46: =ROUND(E46*J46,2) -> 0 | P46: =SUM(M46:O46) -> 0
B47: 22-00000 | C47: Transformatora apakšstacijas izbūve / pārbūve, t. sk. digitālā nospraušana un uzmērīšana Nr.37011#T75031 (T75031 "Olimpiskais centrs"), (Materiālu izmaksas)
...
