Workbook

Sheet Būvniecības koptāme
A2: APSTIPRINU
A4: (pasūtītāja paraksts un ta atšifrējums)
C7: =TEXT(TODAY(), "yyyy. ")& "gada " & DAY(TODAY()) & "." &CHOOSE(MONTH(TODAY()), "janvārī", "februārī", "martā", "aprīlī", "maijā", "jūnijā", "jūlijā", "augustā", "septembrī", "oktobrī", "novembrī", "decembrī") -> 2024. gada 11.decembrī
A9: Būvniecības koptāme
A11: ="Objekta nosaukums: "&'Lokālā tāme'!A2 -> Objekta nosaukums: " 20kV elektropārvades līniju S137, S127 pārbūve, transformatora apakšstacijas T75031 automatizācija Rietekļa un Vaidavas ielās, Valmierā ", IO-259181
A12: Būves nosaukums:
A13: Objekta adrese:
A14: Pasūtījuma Nr.:
A15: Pasūtītājs: AS "Sadales tīkls"
A16: Pretendents:
A18: Nr.p.k. | B18: Objekta nosaukums | C18: Objekta izmaksas (euro)
A19: 1 | B19: ='Lokālā tāme'!A2 -> " 20kV elektropārvades līniju S137, S127 pārbūve, transformatora apakšstacijas T75031 automatizācija Rietekļa un Vaidavas ielās, Valmierā ", IO-259181 | C19: ='Kopsavilkuma aprēķins'!E23 -> 0
B21: Kopā | C21: =SUM(C19:C19) -> 0
A22: * PVN (21%) | C22: -
B23: Pavisam kopā | C23: =C21 -> 0
A24: * PVN apmaksa atbilstoši Pievienotās vērtības nodokļu likumam 142.panta 6.daļas nosacījumiem "nodokļu atgrieztā maksāšana"
A26: Sastādīja:
A27: Sert.Nr.
A29: ='Lokālā tāme'!L12 -> Tāme sastādīta 2024. gada 11.decembrī
A32: ŠIS DOKUMENTS IR ELEKTRONISKI PARAKSTĪTS AR DROŠU ELEKTRONISKO PARAKSTU UN SATUR LAIKA ZĪMOGU

Sheet Kopsavilkuma aprēķins
A1: Kopsavilkuma aprēķins Nr. 1
A2: ='Lokālā tāme'!A2 -> " 20kV elektropārvades līniju S137, S127 pārbūve, transformatora apakšstacijas T75031 automatizācija Rietekļa un Vaidavas ielās, Valmierā ", IO-259181
A3: (būvdarbu veids vai konstruktīvā elementa nosaukums)
A5: ="Objekta nosaukums: "&A2 -> Objekta nosaukums: " 20kV elektropārvades līniju S137, S127 pārbūve, transformatora apakšstacijas T75031 automatizācija Rietekļa un Vaidavas ielās, Valmierā ", IO-259181
A6: Būves nosaukums:
A7: Objekta adrese:
A8: Pasūtījuma Nr.:
A9: Pasūtītājs: AS "Sadales tīkls"
A10: Pretendents:
C13: Par kopējo summu (euro) | D13: =E23 -> 0
C14: Kopējā darbietilpība (c/h) | D14: =I19 -> 0
A16: Nr. p.k. | B16: Kods, tāmes Nr. | C16: Darba veids vai konstruktīvā elementa nosaukums | E16: Tāmes izmaksas (EUR) | F16: Tai skaitā: | I16: Darbietilpība (c/h)
F17: darba alga (EUR) | G17: būvizstrādājumi (EUR) | H17: mehānismi (EUR)
A18: 1 | B18: 1 | C18: =A2 -> " 20kV elektropārvades līniju S137, S127 pārbūve, transformatora apakšstacijas T75031 automatizācija Rietekļa un Vaidavas ielās, Valmierā ", IO-259181 | E18: ='Lokālā tāme'!P202 -> 0 | F18: ='Lokālā tāme'!M202 -> 0 | G18: ='Lokālā tāme'!N202 -> 0 | H18: ='Lokālā tāme'!O202 -> 0 | I18: ='Lokālā tāme'!L202 -> 0
A19: Kopā | E19: =E18 -> 0 | F19: =F18 -> 0 | G19: =G18 -> 0 | H19: =H18 -> 0 | I19: =I18 -> 0
A20: Virsizdevumi | D20: 0 | E20: =ROUND(E19*D20,2) -> 0
A21: t.sk.darba aizsardzība | D21: 0 | E21: =ROUND(E20*D21,2) -> 0
A22: Peļņa | D22: 0 | E22: =ROUND(E19*D22,2) -> 0
A23: Pavisam kopā | E23: =E22+E20+E19 -> 0
A25: Sastādīja: | B25: _______________________________
A26: Sert.Nr. | B26: _______________________________
A28: ="Tāmes izmaksas bez PVN: "&E23 -> Tāmes izmaksas bez PVN: 0
A31: Pārbaudīja: | B31: _______________________________
A32: Sert.Nr. | B32: _______________________________
A34: ='Lokālā tāme'!L12 -> Tāme sastādīta 2024. gada 11.decembrī
A37: ŠIS DOKUMENTS IR ELEKTRONISKI PARAKSTĪTS AR DROŠU ELEKTRONISKO PARAKSTU UN SATUR LAIKA ZĪMOGU

Sheet Lokālā tāme
A1: Lokālā tāme Nr. 1
A2: " 20kV elektropārvades līniju S137, S127 pārbūve, transformatora apakšstacijas T75031 automatizācija Rietekļa un Vaidavas ielās, Valmierā ", IO-259181
A3: (būvdarbu veids vai konstruktīvā elementa nosaukums)
A5: ="Objekta nosaukums: "&A2 -> Objekta nosaukums: " 20kV elektropārvades līniju S137, S127 pārbūve, transformatora apakšstacijas T75031 automatizācija Rietekļa un Vaidavas ielās, Valmierā ", IO-259181
A6: Būves nosaukums:
A7: Objekta adrese:
A8: Pasūtījuma Nr.:
A9: Pasūtītājs: AS "Sadales tīkls"
A10: Pretendents:
L11: ="Tāmes izmaksas bez PVN: "&P202 -> Tāmes izmaksas bez PVN: 0
C12: Tāme sastādīta 2024. gada tirgus cenās, pamatojoties uz projektēšanas uzdevumu. | L12: ="Tāme sastādīta "&TEXT(TODAY(), "yyyy. ")& "gada " & DAY(TODAY()) & "." &CHOOSE(MONTH(TODAY()), "janvārī", "februārī", "martā", "aprīlī", "maijā", "jūnijā", "jūlijā", "augustā", "septembrī", "oktobrī", "novembrī", "decembrī") -> Tāme sastādīta 2024. gada 11.decembrī
A14: Nr.p.k. | B14: Kods* | C14: Būvdarbu nosaukums | D14: Mērvienība | E14: Daudzums | F14: Vienības izmaksas | L14: Kopā uz visu apjomu
F15: laika norma (c/h) | G15: darba samaksas likme (euro/h) | H15: darba alga | I15: būvizstrādājumi | J15: mehānismi | K15: kopā | L15: darbietilpība (c/h) | M15: darba alga | N15: būvizstrādājumi | O15: mehānismi | P15: summa | Q15: MAN* | R15: Piedāvātie materiāli
A16: 1 | B16: 22-00000 | C16: Transformatora apakšstacijas demontāžas darbi Nr.37011#T75031 (T75031 "Olimpiskais centrs"), (Darbu izmaksas)
A17: 1.1 | B17: 13126 | C17: VS 3 dzīslu kabeļa demontāža | D17: m | E17: 12 | H17: =ROUND(F17*G17,2) -> 0 | K17: =SUM(H17:J17) -> 0 | L17: =ROUND(E17*F17,2) -> 0 | M17: =ROUND(E17*H17,2) -> 0 | N17: =ROUND(E17*I17,2) -> 0 | O17: =ROUND(E17*J17,2) -> 0 | P17: =SUM(M17:O17) -> 0
A18: 1.2 | B18: 17442 | C18: VS slēgiekārtas 2 - 5 ligzdu komplekta demontāža | D18: gab. | E18: 1 | H18: =ROUND(F18*G18,2) -> 0 | K18: =SUM(H18:J18) -> 0 | L18: =ROUND(E18*F18,2) -> 0 | M18: =ROUND(E18*H18,2) -> 0 | N18: =ROUND(E18*I18,2) -> 0 | O18: =ROUND(E18*J18,2) -> 0 | P18: =SUM(M18:O18) -> 0
A19: 1.3 | B19: bez koda | C19: Esošās slēgiekārtas metāla rāmja demontāža | D19: kom | E19: 1 | H19: =ROUND(F19*G19,2) -> 0 | K19: =SUM(H19:J19) -> 0 | L19: =ROUND(E19*F19,2) -> 0 | M19: =ROUND(E19*H19,2) -> 0 | N19: =ROUND(E19*I19,2) -> 0 | O19: =ROUND(E19*J19,2) -> 0 | P19: =SUM(M19:O19) -> 0
A20: 2 | B20: 22-00000 | C20: Transformatora apakšstacijas izbūve / pārbūve, t. sk. digitālā nospraušana un uzmērīšana Nr.37011#T75031 (T75031 "Olimpiskais centrs"), (Darbu izmaksas)
A21: 2.1 | B21: 12110 | C21: ZS kabeļa līdz 35 mm2 montāža ar skavām pa sienām, griestiem, uz troses | D21: m | E21: 60 | H21: =ROUND(F21*G21,2) -> 0 | K21: =SUM(H21:J21) -> 0 | L21: =ROUND(E21*F21,2) -> 0 | M21: =ROUND(E21*H21,2) -> 0 | N21: =ROUND(E21*I21,2) -> 0 | O21: =ROUND(E21*J21,2) -> 0 | P21: =SUM(M21:O21) -> 0
A22: 2.2 | B22: 13105 | C22: VS 1 dzīslu kabeļa 35 - 240 mm2 montāža uz plauktiem, kabeļu tuneļos, kanālos | D22: m | E22: 12 | H22: =ROUND(F22*G22,2) -> 0 | K22: =SUM(H22:J22) -> 0 | L22: =ROUND(E22*F22,2) -> 0 | M22: =ROUND(E22*H22,2) -> 0 | N22: =ROUND(E22*I22,2) -> 0 | O22: =ROUND(E22*J22,2) -> 0 | P22: =SUM(M22:O22) -> 0
A23: 2.3 | B23: 13107 | C23: VS 1 dzīslu kabeļa 35 - 240 mm2 montāža ar skavām pa sienu, griestiem, vai iesiet trosē | D23: m | E23: 36 | H23: =ROUND(F23*G23,2) -> 0 | K23: =SUM(H23:J23) -> 0 | L23: =ROUND(E23*F23,2) -> 0 | M23: =ROUND(E23*H23,2) -> 0 | N23: =ROUND(E23*I23,2) -> 0 | O23: =ROUND(E23*J23,2) -> 0 | P23: =SUM(M23:O23) -> 0
A24: 2.4 | B24: 13201 | C24: VS 1 dzīslu plastmasas izolācijas kabeļa līdz 95 mm2 gala apdare | D24: gab. | E24: 6 | H24: =ROUND(F24*G24,2) -> 0 | K24: =SUM(H24:J24) -> 0 | L24: =ROUND(E24*F24,2) -> 0 | M24: =ROUND(E24*H24,2) -> 0 | N24: =ROUND(E24*I24,2) -> 0 | O24: =ROUND(E24*J24,2) -> 0 | P24: =SUM(M24:O24) -> 0
A25: 2.5 | B25: 13205 | C25: VS 1 dzīslu kabeļa līdz 95 mm2 adaptera montāža slēgiekārtās | D25: gab. | E25: 6 | H25: =ROUND(F25*G25,2) -> 0 | K25: =SUM(H25:J25) -> 0 | L25: =ROUND(E25*F25,2) -> 0 | M25: =ROUND(E25*H25,2) -> 0 | N25: =ROUND(E25*I25,2) -> 0 | O25: =ROUND(E25*J25,2) -> 0 | P25: =SUM(M25:O25) -> 0
A26: 2.6 | B26: 13211 | C26: VS kabeļlīnijas pievienošana (atvienošana) | D26: pievienoj. | E26: 2 | H26: =ROUND(F26*G26,2) -> 0 | K26: =SUM(H26:J26) -> 0 | L26: =ROUND(E26*F26,2) -> 0 | M26: =ROUND(E26*H26,2) -> 0 | N26: =ROUND(E26*I26,2) -> 0 | O26: =ROUND(E26*J26,2) -> 0 | P26: =SUM(M26:O26) -> 0
A27: 2.7 | B27: bez koda | C27: Sadalnes kārbas montāža pašpatēriņa panelī | D27: gab | E27: 1 | H27: =ROUND(F27*G27,2) -> 0 | K27: =SUM(H27:J27) -> 0 | L27: =ROUND(E27*F27,2) -> 0 | M27: =ROUND(E27*H27,2) -> 0 | N27: =ROUND(E27*I27,2) -> 0 | O27: =ROUND(E27*J27,2) -> 0 | P27: =SUM(M27:O27) -> 0
A28: 2.8 | B28: 16204 | C28: Automātslēdža montāža sadalnē | D28: gab. | E28: 2 | H28: =ROUND(F28*G28,2) -> 0 | K28: =SUM(H28:J28) -> 0 | L28: =ROUND(E28*F28,2) -> 0 | M28: =ROUND(E28*H28,2) -> 0 | N28: =ROUND(E28*I28,2) -> 0 | O28: =ROUND(E28*J28,2) -> 0 | P28: =SUM(M28:O28) -> 0
A29: 2.9 | B29: bez koda | C29: Metāla rāmja montāža jaunās slēgiekārtas uzstādīšanai | D29: kom | E29: 1 | H29: =ROUND(F29*G29,2) -> 0 | K29: =SUM(H29:J29) -> 0 | L29: =ROUND(E29*F29,2) -> 0 | M29: =ROUND(E29*H29,2) -> 0 | N29: =ROUND(E29*I29,2) -> 0 | O29: =ROUND(E29*J29,2) -> 0 | P29: =SUM(M29:O29) -> 0
A30: 2.1 | B30: 17410 | C30: VS slēgiekārtas 5 ligzdu slēgiekārtas montāža | D30: k-ts | E30: 1 | H30: =ROUND(F30*G30,2) -> 0 | K30: =SUM(H30:J30) -> 0 | L30: =ROUND(E30*F30,2) -> 0 | M30: =ROUND(E30*H30,2) -> 0 | N30: =ROUND(E30*I30,2) -> 0 | O30: =ROUND(E30*J30,2) -> 0 | P30: =SUM(M30:O30) -> 0
A31: 2.11 | B31: 17428 | C31: VS drošinātāju komplekta uzstādīšana | D31: kompl. | E31: 2 | H31: =ROUND(F31*G31,2) -> 0 | K31: =SUM(H31:J31) -> 0 | L31: =ROUND(E31*F31,2) -> 0 | M31: =ROUND(E31*H31,2) -> 0 | N31: =ROUND(E31*I31,2) -> 0 | O31: =ROUND(E31*J31,2) -> 0 | P31: =SUM(M31:O31) -> 0
A32: 2.12 | B32: 22110 | C32: Caurumu lielāka par 30 mm urbšana līdz 1 m | D32: gab. | E32: 1 | H32: =ROUND(F32*G32,2) -> 0 | K32: =SUM(H32:J32) -> 0 | L32: =ROUND(E32*F32,2) -> 0 | M32: =ROUND(E32*H32,2) -> 0 | N32: =ROUND(E32*I32,2) -> 0 | O32: =ROUND(E32*J32,2) -> 0 | P32: =SUM(M32:O32) -> 0
... A38: 2.18 | B38: 20121 | C38: Transformatora termoaizsardzības montāža | D38: k-ts | E38: 1 | H38: =ROUND(F38*G38,2) -> 0 | K38: =SUM(H38:J38) -> 0 | L38: =ROUND(E38*F38,2) -> 0 | M38: =ROUND(E38*H38,2) -> 0 | N38: =ROUND(E38*I38,2) -> 0 | O38: =ROUND(E38*J38,2) -> 0 | P38: =SUM(M38:O38) -> 0
A39: 2.19 | B39: 20123 | C39: Slēgiekārtas ar vadību pieņemšanas pārbaude | D39: k-ts | E39: 1 | H39: =ROUND(F39*G39,2) -> 0 | I39: PP** | K39: =SUM(H39:J39) -> 0 | L39: =ROUND(E39*F39,2) -> 0 | M39: =ROUND(E39*H39,2) -> 0 | N39: PP** | O39: =ROUND(E39*J39,2) -> 0 | P39: =SUM(M39:O39) -> 0
A40: 2.2 | B40: 20124 | C40: Objekta RAA, DVS kompleksā pārbaude | D40: gab. | E40: 1 | H40: =ROUND(F40*G40,2) -> 0 | I40: PP** | K40: =SUM(H40:J40) -> 0 | L40: =ROUND(E40*F40,2) -> 0 | M40: =ROUND(E40*H40,2) -> 0 | N40: PP** | O40: =ROUND(E40*J40,2) -> 0 | P40: =SUM(M40:O40) -> 0
A41: 2.21 | B41: 20125 | C41: Bojājuma virziena uzrādītāja iestatīšana, transformatora termoaizsardzības pārbaude | D41: gab. | E41: 5 | H41: =ROUND(F41*G41,2) -> 0 | I41: PP** | K41: =SUM(H41:J41) -> 0 | L41: =ROUND(E41*F41,2) -> 0 | M41: =ROUND(E41*H41,2) -> 0 | N41: PP** | O41: =ROUND(E41*J41,2) -> 0 | P41: =SUM(M41:O41) -> 0
A42: 2.22 | B42: 20201 | C42: DVS gala iekārtas montāža un ķēžu pievienošana | D42: kompl. | E42: 1 | H42: =ROUND(F42*G42,2) -> 0 | K42: =SUM(H42:J42) -> 0 | L42: =ROUND(E42*F42,2) -> 0 | M42: =ROUND(E42*H42,2) -> 0 | N42: =ROUND(E42*I42,2) -> 0 | O42: =ROUND(E42*J42,2) -> 0 | P42: =SUM(M42:O42) -> 0
A43: 2.23 | B43: 20202 | C43: DVS gala iekārtas pilna apjoma konfigurēšana | D43: kompl. | E43: 1 | H43: =ROUND(F43*G43,2) -> 0 | I43: PP** | K43: =SUM(H43:J43) -> 0 | L43: =ROUND(E43*F43,2) -> 0 | M43: =ROUND(E43*H43,2) -> 0 | N43: PP** | O43: =ROUND(E43*J43,2) -> 0 | P43: =SUM(M43:O43) -> 0
A44: 2.24 | B44: 20204 | C44: Sakaru iekārtas sadalnes montāža un ķēžu pievienošana | D44: ķēde | E44: 3 | H44: =ROUND(F44*G44,2) -> 0 | I44: PP** | K44: =SUM(H44:J44) -> 0 | L44: =ROUND(E44*F44,2) -> 0 | M44: =ROUND(E44*H44,2) -> 0 | N44: PP** | O44: =ROUND(E44*J44,2) -> 0 | P44: =SUM(M44:O44) -> 0
A45: 2.25 | B45: 20205 | C45: Sakaru iekārtu darbaspēju pārbaude | D45: gab. | E45: 1 | H45: =ROUND(F45*G45,2) -> 0 | I45: PP** | K45: =SUM(H45:J45) -> 0 | L45: =ROUND(E45*F45,2) -> 0 | M45: =ROUND(E45*H45,2) -> 0 | N45: PP** | O45: =ROUND(E45*J45,2) -> 0 | P45: =SUM(M45:O45) -> 0
A46: 2.26 | B46: 20206 | C46: Antenas komplekta montāža | D46: gab. | E46: 1 | H46: =ROUND(F46*G46,2) -> 0 | I46: PP** | K46: =SUM(H46:J46) -> 0 | L46: =ROUND(E46*F46,2) -> 0 | M46: =ROUND(E46*H46,2) -> 0 | N46: PP** | O46: =ROUND(E46*J46,2) -> 0 | P46: =SUM(M46:O46) -> 0
B47: 22-00000 | C47: Transformatora apakšstacijas izbūve / pārbūve, t. sk. digitālā nospraušana un uzmērīšana Nr.37011#T75031 (T75031 "Olimpiskais centrs"), (Materiālu izmaksas)
A48: 2.27 | B48: bez koda | C48: Metāla rāmis slēgiekārtas uzstādīšanai (atbilstoši jaunai slēgiekārtai) | D48: kom | E48: 1 | H48: =ROUND(F48*G48,2) -> 0 | K48: =SUM(H48:J48) -> 0 | L48: =ROUND(E48*F48,2) -> 0 | M48: =ROUND(E48*H48,2) -> 0 | N48: =ROUND(E48*I48,2) -> 0 | O48: =ROUND(E48*J48,2) -> 0 | P48: =SUM(M48:O48) -> 0
A49: 2.28 | B49: bez koda | C49: Sadalnes kārba, 2 moduļi, ar N un PE spailēm | D49: kom | E49: 1 | H49: =ROUND(F49*G49,2) -> 0 | K49: =SUM(H49:J49) -> 0 | L49: =ROUND(E49*F49,2) -> 0 | M49: =ROUND(E49*H49,2) -> 0 | N49: =ROUND(E49*I49,2) -> 0 | O49: =ROUND(E49*J49,2) -> 0 | P49: =SUM(M49:O49) -> 0
A50: 2.29 | B50: 1902.002 | C50: Vadības bloks, SMS ar motorpiedziņu bez RAA, autonoms | D50: kom | E50: 1 | H50: =ROUND(F50*G50,2) -> 0 | I50: PP** | K50: =SUM(H50:J50) -> 0 | L50: =ROUND(E50*F50,2) -> 0 | M50: =ROUND(E50*H50,2) -> 0 | N50: PP** | O50: =ROUND(E50*J50,2) -> 0 | P50: =SUM(M50:O50) -> 0
A51: 2.3 | B51: bez koda | C51: Kabelis NYCY 3x1.5 mm2 | D51: m | E51: 50 | H51: =ROUND(F51*G51,2) -> 0 | K51: =SUM(H51:J51) -> 0 | L51: =ROUND(E51*F51,2) -> 0 | M51: =ROUND(E51*H51,2) -> 0 | N51: =ROUND(E51*I51,2) -> 0 | O51: =ROUND(E51*J51,2) -> 0 | P51: =SUM(M51:O51) -> 0
A52: 2.31 | B52: bez koda | C52: Kabelis NYCY 12x0.75 mm2 | D52: m | E52: 30 | H52: =ROUND(F52*G52,2) -> 0 | K52: =SUM(H52:J52) -> 0 | L52: =ROUND(E52*F52,2) -> 0 | M52: =ROUND(E52*H52,2) -> 0 | N52: =ROUND(E52*I52,2) -> 0 | O52: =ROUND(E52*J52,2) -> 0 | P52: =SUM(M52:O52) -> 0
A53: 2.32 | B53: bez koda | C53: Kabelis 5 cat. | D53: m | E53: 3 | H53: =ROUND(F53*G53,2) -> 0 | K53: =SUM(H53:J53) -> 0 | L53: =ROUND(E53*F53,2) -> 0 | M53: =ROUND(E53*H53,2) -> 0 | N53: =ROUND(E53*I53,2) -> 0 | O53: =ROUND(E53*J53,2) -> 0 | P53: =SUM(M53:O53) -> 0
A54: 2.33 | B54: bez koda | C54: Kabelis 5 cat., garums 0.5m | D54: gab | E54: 1 | H54: =ROUND(F54*G54,2) -> 0 | K54: =SUM(H54:J54) -> 0 | L54: =ROUND(E54*F54,2) -> 0 | M54: =ROUND(E54*H54,2) -> 0 | N54: =ROUND(E54*I54,2) -> 0 | O54: =ROUND(E54*J54,2) -> 0 | P54: =SUM(M54:O54) -> 0
A55: 2.34 | B55: bez koda | C55: GPRS modems (ITT sadalne 500x400x250) komplektā ar stiprinājumiem | D55: kom | E55: 1 | H55: =ROUND(F55*G55,2) -> 0 | I55: PP** | K55: =SUM(H55:J55) -> 0 | L55: =ROUND(E55*F55,2) -> 0 | M55: =ROUND(E55*H55,2) -> 0 | N55: PP** | O55: =ROUND(E55*J55,2) -> 0 | P55: =SUM(M55:O55) -> 0
A56: 2.35 | B56: bez koda | C56: GPRS antena (ITT piegāde) | D56: kom | E56: 1 | H56: =ROUND(F56*G56,2) -> 0 | I56: PP** | K56: =SUM(H56:J56) -> 0 | L56: =ROUND(E56*F56,2) -> 0 | M56: =ROUND(E56*H56,2) -> 0 | N56: PP** | O56: =ROUND(E56*J56,2) -> 0 | P56: =SUM(M56:O56) -> 0
A57: 2.36 | B57: bez koda | C57: APC ProtectNet standalone surge protector for 10/100/1000 Base-T Ethernet lines | D57: gab | E57: 1 | H57: =ROUND(F57*G57,2) -> 0 | K57: =SUM(H57:J57) -> 0 | L57: =ROUND(E57*F57,2) -> 0 | M57: =ROUND(E57*H57,2) -> 0 | N57: =ROUND(E57*I57,2) -> 0 | O57: =ROUND(E57*J57,2) -> 0 | P57: =SUM(M57:O57) -> 0
A58: 2.37 | B58: bez koda | C58: Gala slēdzis N/O+N/C, M20, IP66 XCKJ105 | D58: gab | E58: 3 | H58: =ROUND(F58*G58,2) -> 0 | K58: =SUM(H58:J58) -> 0 | L58: =ROUND(E58*F58,2) -> 0 | M58: =ROUND(E58*H58,2) -> 0 | N58: =ROUND(E58*I58,2) -> 0 | O58: =ROUND(E58*J58,2) -> 0 | P58: =SUM(M58:O58) -> 0
A59: 2.38 | B59: bez koda | C59: Operatīvo apzīmējumu komplekts | D59: kom | E59: 1 | H59: =ROUND(F59*G59,2) -> 0 | K59: =SUM(H59:J59) -> 0 | L59: =ROUND(E59*F59,2) -> 0 | M59: =ROUND(E59*H59,2) -> 0 | N59: =ROUND(E59*I59,2) -> 0 | O59: =ROUND(E59*J59,2) -> 0 | P59: =SUM(M59:O59) -> 0
A60: 2.39 | B60: 0807.004 | C60: Kabelis, instalācijas 1x2.5mm2, iekštipa montāžas vads, monolītais, Cu | D60: m | E60: 2 | H60: =ROUND(F60*G60,2) -> 0 | K60: =SUM(H60:J60) -> 0 | L60: =ROUND(E60*F60,2) -> 0 | M60: =ROUND(E60*H60,2) -> 0 | N60: =ROUND(E60*I60,2) -> 0 | O60: =ROUND(E60*J60,2) -> 0 | P60: =SUM(M60:O60) -> 0
A61: 2.4 | B61: 0810.001 | C61: Kabelis, instalācijas 1x2.5mm2, dz/zaļš | D61: m | E61: 1 | H61: =ROUND(F61*G61,2) -> 0 | K61: =SUM(H61:J61) -> 0 | L61: =ROUND(E61*F61,2) -> 0 | M61: =ROUND(E61*H61,2) -> 0 | N61: =ROUND(E61*I61,2) -> 0 | O61: =ROUND(E61*J61,2) -> 0 | P61: =SUM(M61:O61) -> 0
A62: 2.41 | B62: 0810.005 | C62: Kabelis, instalācijas 1x16.0mm2, dz/zaļš | D62: m | E62: 6 | H62: =ROUND(F62*G62,2) -> 0 | K62: =SUM(H62:J62) -> 0 | L62: =ROUND(E62*F62,2) -> 0 | M62: =ROUND(E62*H62,2) -> 0 | N62: =ROUND(E62*I62,2) -> 0 | O62: =ROUND(E62*J62,2) -> 0 | P62: =SUM(M62:O62) -> 0
A63: 2.42 | B63: 0815.004 | C63: Kabelis 20kV viendzīslas ar stiepļu ekrānu Al 3x1x50/16 | D63: m | E63: 16 | H63: =ROUND(F63*G63,2) -> 0 | I63: PP** | K63: =SUM(H63:J63) -> 0 | L63: =ROUND(E63*F63,2) -> 0 | M63: =ROUND(E63*H63,2) -> 0 | N63: PP** | O63: =ROUND(E63*J63,2) -> 0 | P63: =SUM(M63:O63) -> 0
A64: 2.43 | B64: 0902.007 | C64: Gala apdare 20kV iekštipa, 1-dzīslu kabelim ar stiepļu ekrānu | D64: kom | E64: 2 | H64: =ROUND(F64*G64,2) -> 0 | I64: PP** | K64: =SUM(H64:J64) -> 0 | L64: =ROUND(E64*F64,2) -> 0 | M64: =ROUND(E64*H64,2) -> 0 | N64: PP** | O64: =ROUND(E64*J64,2) -> 0 | P64: =SUM(M64:O64) -> 0
A65: 2.44 | B65: 0906.001 | C65: T-adapters, Interfeiss „A” 20kV viendzīslu kabelim ar stiepļu ekrānu | D65: kom | E65: 2 | H65: =ROUND(F65*G65,2) -> 0 | I65: PP** | K65: =SUM(H65:J65) -> 0 | L65: =ROUND(E65*F65,2) -> 0 | M65: =ROUND(E65*H65,2) -> 0 | N65: PP** | O65: =ROUND(E65*J65,2) -> 0 | P65: =SUM(M65:O65) -> 0
A66: 2.45 | B66: 0910.004 | C66: Kabeļu kurpe 1kV presējama 16mm2 | D66: gab | E66: 6 | H66: =ROUND(F66*G66,2) -> 0 | K66: =SUM(H66:J66) -> 0 | L66: =ROUND(E66*F66,2) -> 0 | M66: =ROUND(E66*H66,2) -> 0 | N66: =ROUND(E66*I66,2) -> 0 | O66: =ROUND(E66*J66,2) -> 0 | P66: =SUM(M66:O66) -> 0 | Q66: MAN
A67: 2.46 | B67: 2503.007 | C67: Drošinātājs 10/24kV 40A EN 60282 442mm | D67: gab | E67: 6 | H67: =ROUND(F67*G67,2) -> 0 | K67: =SUM(H67:J67) -> 0 | L67: =ROUND(E67*F67,2) -> 0 | M67: =ROUND(E67*H67,2) -> 0 | N67: =ROUND(E67*I67,2) -> 0 | O67: =ROUND(E67*J67,2) -> 0 | P67: =SUM(M67:O67) -> 0 | Q67: MAN
A68: 2.47 | B68: 2811.005 | C68: Slēgiekārta, sekundārā ar motorpiedziņu 24kV CCCFF | D68: gab | E68: 1 | H68: =ROUND(F68*G68,2) -> 0 | I68: PP** | K68: =SUM(H68:J68) -> 0 | L68: =ROUND(E68*F68,2) -> 0 | M68: =ROUND(E68*H68,2) -> 0 | N68: PP** | O68: =ROUND(E68*J68,2) -> 0 | P68: =SUM(M68:O68) -> 0
A69: 2.48 | B69: 2906.001 | C69: Zemētājvads Cu-16mm2 (izvadiem, savienošanai) | D69: m | E69: 3 | H69: =ROUND(F69*G69,2) -> 0 | K69: =SUM(H69:J69) -> 0 | L69: =ROUND(E69*F69,2) -> 0 | M69: =ROUND(E69*H69,2) -> 0 | N69: =ROUND(E69*I69,2) -> 0 | O69: =ROUND(E69*J69,2) -> 0 | P69: =SUM(M69:O69) -> 0
A70: 2.49 | B70: 3001.013 | C70: Automātslēdzis 1P, C, 16A | D70: gab | E70: 2 | H70: =ROUND(F70*G70,2) -> 0 | K70: =SUM(H70:J70) -> 0 | L70: =ROUND(E70*F70,2) -> 0 | M70: =ROUND(E70*H70,2) -> 0 | N70: =ROUND(E70*I70,2) -> 0 | O70: =ROUND(E70*J70,2) -> 0 | P70: =SUM(M70:O70) -> 0 | Q70: MAN
A71: 3 | B71: 22-00000 | C71: Transformatora apakšstacijas izbūve / pārbūve, t. sk. digitālā nospraušana un uzmērīšana KKP ar perspektīvu uzstādīt VSU (FSPb-2512), (Darbu izmaksas)
A72: 3.1 | B72: 11101 | C72: Būvbedre pamatnes konteinera tipa sadalēm. piem. KTAb, KTAm u.c. | D72: m2 | E72: 7.7 | H72: =ROUND(F72*G72,2) -> 0 | K72: =SUM(H72:J72) -> 0 | L72: =ROUND(E72*F72,2) -> 0 | M72: =ROUND(E72*H72,2) -> 0 | N72: =ROUND(E72*I72,2) -> 0 | O72: =ROUND(E72*J72,2) -> 0 | P72: =SUM(M72:O72) -> 0
A73: 3.2 | B73: 11106 | C73: Tranšeja horizontālam zemēšanas kontūram | D73: m | E73: 48 | H73: =ROUND(F73*G73,2) -> 0 | K73: =SUM(H73:J73) -> 0 | L73: =ROUND(E73*F73,2) -> 0 | M73: =ROUND(E73*H73,2) -> 0 | N73: =ROUND(E73*I73,2) -> 0 | O73: =ROUND(E73*J73,2) -> 0 | P73: =SUM(M73:O73) -> 0
A74: 3.3 | B74: 11401 | C74: Bruģa (flizes) klājuma ieklāšana | D74: m2 | E74: 11.4 | H74: =ROUND(F74*G74,2) -> 0 | K74: =SUM(H74:J74) -> 0 | L74: =ROUND(E74*F74,2) -> 0 | M74: =ROUND(E74*H74,2) -> 0 | N74: =ROUND(E74*I74,2) -> 0 | O74: =ROUND(E74*J74,2) -> 0 | P74: =SUM(M74:O74) -> 0
A75: 3.4 | B75: 11607 | C75: Teritorijas labiekārtošana | D75: m2 | E75: 27 | H75: =ROUND(F75*G75,2) -> 0 | K75: =SUM(H75:J75) -> 0 | L75: =ROUND(E75*F75,2) -> 0 | M75: =ROUND(E75*H75,2) -> 0 | N75: =ROUND(E75*I75,2) -> 0 | O75: =ROUND(E75*J75,2) -> 0 | P75: =SUM(M75:O75) -> 0
A76: 3.5 | B76: 17114 | C76: Kompaktās TA (ar 1 transformatoru) uzstādīšana gatavā būvbedrē | D76: gab. | E76: 1 | H76: =ROUND(F76*G76,2) -> 0 | K76: =SUM(H76:J76) -> 0 | L76: =ROUND(E76*F76,2) -> 0 | M76: =ROUND(E76*H76,2) -> 0 | N76: =ROUND(E76*I76,2) -> 0 | O76: =ROUND(E76*J76,2) -> 0 | P76: =SUM(M76:O76) -> 0
A77: 3.6 | B77: 17408 | C77: VS slēgiekārtas 3 ligzdu slēgiekārtas montāža | D77: k-ts | E77: 1 | H77: =ROUND(F77*G77,2) -> 0 | K77: =SUM(H77:J77) -> 0 | L77: =ROUND(E77*F77,2) -> 0 | M77: =ROUND(E77*H77,2) -> 0 | N77: =ROUND(E77*I77,2) -> 0 | O77: =ROUND(E77*J77,2) -> 0 | P77: =SUM(M77:O77) -> 0
A78: 3.7 | B78: 18101 | C78: Horizontālā zemētāja montāža tranšejā | D78: m | E78: 48 | H78: =ROUND(F78*G78,2) -> 0 | K78: =SUM(H78:J78) -> 0 | L78: =ROUND(E78*F78,2) -> 0 | M78: =ROUND(E78*H78,2) -> 0 | N78: =ROUND(E78*I78,2) -> 0 | O78: =ROUND(E78*J78,2) -> 0 | P78: =SUM(M78:O78) -> 0
A79: 3.8 | B79: 19301 | C79: EPL vai sarkanās līnijas nospraušana | D79: km | E79: 0.048 | H79: =ROUND(F79*G79,2) -> 0 | K79: =SUM(H79:J79) -> 0 | L79: =ROUND(E79*F79,2) -> 0 | M79: =ROUND(E79*H79,2) -> 0 | N79: =ROUND(E79*I79,2) -> 0 | O79: =ROUND(E79*J79,2) -> 0 | P79: =SUM(M79:O79) -> 0
A80: 3.9 | B80: 19304 | C80: EPL digitālā uzmērīšana | D80: km | E80: 0.048 | H80: =ROUND(F80*G80,2) -> 0 | K80: =SUM(H80:J80) -> 0 | L80: =ROUND(E80*F80,2) -> 0 | M80: =ROUND(E80*H80,2) -> 0 | N80: =ROUND(E80*I80,2) -> 0 | O80: =ROUND(E80*J80,2) -> 0 | P80: =SUM(M80:O80) -> 0
A81: 3.1 | B81: 20101 | C81: Kontrolkabeļu un sekundāro ķēžu montāža | D81: projekts | E81: 1 | H81: =ROUND(F81*G81,2) -> 0 | K81: =SUM(H81:J81) -> 0 | L81: =ROUND(E81*F81,2) -> 0 | M81: =ROUND(E81*H81,2) -> 0 | N81: =ROUND(E81*I81,2) -> 0 | O81: =ROUND(E81*J81,2) -> 0 | P81: =SUM(M81:O81) -> 0
A82: 3.11 | B82: 20102 | C82: Kontrolkabeļu un sekundāro ķēžu pievienošana | D82: ligzda | E82: 2 | H82: =ROUND(F82*G82,2) -> 0 | K82: =SUM(H82:J82) -> 0 | L82: =ROUND(E82*F82,2) -> 0 | M82: =ROUND(E82*H82,2) -> 0 | N82: =ROUND(E82*I82,2) -> 0 | O82: =ROUND(E82*J82,2) -> 0 | P82: =SUM(M82:O82) -> 0
A83: 3.12 | B83: 20119 | C83: Bojājumu virziena uzrādītāja montāža | D83: k-ts | E83: 2 | H83: =ROUND(F83*G83,2) -> 0 | K83: =SUM(H83:J83) -> 0 | L83: =ROUND(E83*F83,2) -> 0 | M83: =ROUND(E83*H83,2) -> 0 | N83: =ROUND(E83*I83,2) -> 0 | O83: =ROUND(E83*J83,2) -> 0 | P83: =SUM(M83:O83) -> 0
A84: 3.13 | B84: 20122 | C84: Objekta RAA, DVS ieregulēšana | D84: 1 ligzda | E84: 1 | H84: =ROUND(F84*G84,2) -> 0 | I84: PP** | K84: =SUM(H84:J84) -> 0 | L84: =ROUND(E84*F84,2) -> 0 | M84: =ROUND(E84*H84,2) -> 0 | N84: PP** | O84: =ROUND(E84*J84,2) -> 0 | P84: =SUM(M84:O84) -> 0
A85: 3.14 | B85: 20124 | C85: Objekta RAA, DVS kompleksā pārbaude | D85: gab. | E85: 1 | H85: =ROUND(F85*G85,2) -> 0 | I85: PP** | K85: =SUM(H85:J85) -> 0 | L85: =ROUND(E85*F85,2) -> 0 | M85: =ROUND(E85*H85,2) -> 0 | N85: PP** | O85: =ROUND(E85*J85,2) -> 0 | P85: =SUM(M85:O85) -> 0
A86: 3.15 | B86: 20125 | C86: Bojājuma virziena uzrādītāja iestatīšana, transformatora termoaizsardzības pārbaude | D86: gab. | E86: 2 | H86: =ROUND(F86*G86,2) -> 0 | I86: PP** | K86: =SUM(H86:J86) -> 0 | L86: =ROUND(E86*F86,2) -> 0 | M86: =ROUND(E86*H86,2) -> 0 | N86: PP** | O86: =ROUND(E86*J86,2) -> 0 | P86: =SUM(M86:O86) -> 0
A87: 3.16 | B87: 18202 | C87: Vertikālā zemētāja dziļumā līdz 5 m montāža | D87: gab. | E87: 14 | H87: =ROUND(F87*G87,2) -> 0 | K87: =SUM(H87:J87) -> 0 | L87: =ROUND(E87*F87,2) -> 0 | M87: =ROUND(E87*H87,2) -> 0 | N87: =ROUND(E87*I87,2) -> 0 | O87: =ROUND(E87*J87,2) -> 0 | P87: =SUM(M87:O87) -> 0
A88: 3.17 | B88: 11421 | C88: Grunts planēšana bez papildus grunts pievešanas | D88: m2 | E88: 21 | H88: =ROUND(F88*G88,2) -> 0 | K88: =SUM(H88:J88) -> 0 | L88: =ROUND(E88*F88,2) -> 0 | M88: =ROUND(E88*H88,2) -> 0 | N88: =ROUND(E88*I88,2) -> 0 | O88: =ROUND(E88*J88,2) -> 0 | P88: =SUM(M88:O88) -> 0
A89: 3.18 | B89: bez koda | C89: Celma(sakņu) izraušana | D89: gab | E89: 1 | H89: =ROUND(F89*G89,2) -> 0 | K89: =SUM(H89:J89) -> 0 | L89: =ROUND(E89*F89,2) -> 0 | M89: =ROUND(E89*H89,2) -> 0 | N89: =ROUND(E89*I89,2) -> 0 | O89: =ROUND(E89*J89,2) -> 0 | P89: =SUM(M89:O89) -> 0
B90: 22-00000 | C90: Transformatora apakšstacijas izbūve / pārbūve, t. sk. digitālā nospraušana un uzmērīšana KKP ar perspektīvu uzstādīt VSU (FSPb-2512), (Materiālu izmaksas)
A91: 3.19 | B91: bez koda | C91: Kabeļu nozarojuma punkta korpuss (FSPb-2512 atbilstoši shēmai ELT-4) | D91: kom | E91: 1 | H91: =ROUND(F91*G91,2) -> 0 | K91: =SUM(H91:J91) -> 0 | L91: =ROUND(E91*F91,2) -> 0 | M91: =ROUND(E91*H91,2) -> 0 | N91: =ROUND(E91*I91,2) -> 0 | O91: =ROUND(E91*J91,2) -> 0 | P91: =SUM(M91:O91) -> 0
A92: 3.2 | B92: bez koda | C92: Kabeļu marķējumi | D92: kom | E92: 1 | H92: =ROUND(F92*G92,2) -> 0 | K92: =SUM(H92:J92) -> 0 | L92: =ROUND(E92*F92,2) -> 0 | M92: =ROUND(E92*H92,2) -> 0 | N92: =ROUND(E92*I92,2) -> 0 | O92: =ROUND(E92*J92,2) -> 0 | P92: =SUM(M92:O92) -> 0
A93: 3.21 | B93: bez koda | C93: Operatīvo apzīmējumu komplekts (KKP) | D93: kom | E93: 1 | H93: =ROUND(F93*G93,2) -> 0 | K93: =SUM(H93:J93) -> 0 | L93: =ROUND(E93*F93,2) -> 0 | M93: =ROUND(E93*H93,2) -> 0 | N93: =ROUND(E93*I93,2) -> 0 | O93: =ROUND(E93*J93,2) -> 0 | P93: =SUM(M93:O93) -> 0
A94: 3.22 | B94: 2810.004 | C94: Slēgiekārta, sekundārā 24kV CCV(T) | D94: gab | E94: 1 | H94: =ROUND(F94*G94,2) -> 0 | I94: PP** | K94: =SUM(H94:J94) -> 0 | L94: =ROUND(E94*F94,2) -> 0 | M94: =ROUND(E94*H94,2) -> 0 | N94: PP** | O94: =ROUND(E94*J94,2) -> 0 | P94: =SUM(M94:O94) -> 0
A95: 3.23 | B95: 2901.003 | C95: Izvads zemējuma , daļēji cinkots tērauds, d=10 mm, 1.5m | D95: gab | E95: 2 | H95: =ROUND(F95*G95,2) -> 0 | K95: =SUM(H95:J95) -> 0 | L95: =ROUND(E95*F95,2) -> 0 | M95: =ROUND(E95*H95,2) -> 0 | N95: =ROUND(E95*I95,2) -> 0 | O95: =ROUND(E95*J95,2) -> 0 | P95: =SUM(M95:O95) -> 0 | Q95: MAN
A96: 3.24 | B96: 2901.004 | C96: Elektrods zemējuma, cinkots tērauds ar iespēju pagarināt, d=16 mm, 1.5m | D96: gab | E96: 28 | H96: =ROUND(F96*G96,2) -> 0 | K96: =SUM(H96:J96) -> 0 | L96: =ROUND(E96*F96,2) -> 0 | M96: =ROUND(E96*H96,2) -> 0 | N96: =ROUND(E96*I96,2) -> 0 | O96: =ROUND(E96*J96,2) -> 0 | P96: =SUM(M96:O96) -> 0
A97: 3.25 | B97: 2902.003 | C97: Zemējuma stieple, cinkota d=10mm | D97: m | E97: 48 | H97: =ROUND(F97*G97,2) -> 0 | K97: =SUM(H97:J97) -> 0 | L97: =ROUND(E97*F97,2) -> 0 | M97: =ROUND(E97*H97,2) -> 0 | N97: =ROUND(E97*I97,2) -> 0 | O97: =ROUND(E97*J97,2) -> 0 | P97: =SUM(M97:O97) -> 0 | Q97: MAN
A98: 3.26 | B98: 2904.001 | C98: Spaile zemējuma, universāla, cinkotam metālam, zemējuma elektroda d=20 mm savienošanai ar stiepli d=8-10 mm vai plakandzelzi 4x40 mm | D98: gab | E98: 14 | H98: =ROUND(F98*G98,2) -> 0 | K98: =SUM(H98:J98) -> 0 | L98: =ROUND(E98*F98,2) -> 0 | M98: =ROUND(E98*H98,2) -> 0 | N98: =ROUND(E98*I98,2) -> 0 | O98: =ROUND(E98*J98,2) -> 0 | P98: =SUM(M98:O98) -> 0
A99: 3.27 | B99: 2905.003 | C99: Lenta zemējuma kontūra savienojumu hermetizācijai | D99: gab | E99: 6 | H99: =ROUND(F99*G99,2) -> 0 | K99: =SUM(H99:J99) -> 0 | L99: =ROUND(E99*F99,2) -> 0 | M99: =ROUND(E99*H99,2) -> 0 | N99: =ROUND(E99*I99,2) -> 0 | O99: =ROUND(E99*J99,2) -> 0 | P99: =SUM(M99:O99) -> 0
A100: 3.28 | B100: 3110.001 | C100: Profilpuscilindrs „Pusmēness” | D100: gab | E100: 2 | H100: =ROUND(F100*G100,2) -> 0 | K100: =SUM(H100:J100) -> 0 | L100: =ROUND(E100*F100,2) -> 0 | M100: =ROUND(E100*H100,2) -> 0 | N100: =ROUND(E100*I100,2) -> 0 | O100: =ROUND(E100*J100,2) -> 0 | P100: =SUM(M100:O100) -> 0 | Q100: MAN
A101: 3.29 | B101: 3210.001 | C101: Smiltis | D101: m3 | E101: 6.8 | H101: =ROUND(F101*G101,2) -> 0 | K101: =SUM(H101:J101) -> 0 | L101: =ROUND(E101*F101,2) -> 0 | M101: =ROUND(E101*H101,2) -> 0 | N101: =ROUND(E101*I101,2) -> 0 | O101: =ROUND(E101*J101,2) -> 0 | P101: =SUM(M101:O101) -> 0
A102: 3.3 | B102: 3210.002 | C102: Grants | D102: m3 | E102: 1.7 | H102: =ROUND(F102*G102,2) -> 0 | K102: =SUM(H102:J102) -> 0 | L102: =ROUND(E102*F102,2) -> 0 | M102: =ROUND(E102*H102,2) -> 0 | N102: =ROUND(E102*I102,2) -> 0 | O102: =ROUND(E102*J102,2) -> 0 | P102: =SUM(M102:O102) -> 0
A103: 3.31 | B103: 3210.003 | C103: Šķembas | D103: m3 | E103: 5.5 | H103: =ROUND(F103*G103,2) -> 0 | K103: =SUM(H103:J103) -> 0 | L103: =ROUND(E103*F103,2) -> 0 | M103: =ROUND(E103*H103,2) -> 0 | N103: =ROUND(E103*I103,2) -> 0 | O103: =ROUND(E103*J103,2) -> 0 | P103: =SUM(M103:O103) -> 0
A104: 3.32 | B104: 3210.004 | C104: Melnzeme | D104: m3 | E104: 3.6 | H104: =ROUND(F104*G104,2) -> 0 | K104: =SUM(H104:J104) -> 0 | L104: =ROUND(E104*F104,2) -> 0 | M104: =ROUND(E104*H104,2) -> 0 | N104: =ROUND(E104*I104,2) -> 0 | O104: =ROUND(E104*J104,2) -> 0 | P104: =SUM(M104:O104) -> 0
A105: 3.33 | B105: 3210.005 | C105: Bruģakmens | D105: m3 | E105: 0.75 | H105: =ROUND(F105*G105,2) -> 0 | K105: =SUM(H105:J105) -> 0 | L105: =ROUND(E105*F105,2) -> 0 | M105: =ROUND(E105*H105,2) -> 0 | N105: =ROUND(E105*I105,2) -> 0 | O105: =ROUND(E105*J105,2) -> 0 | P105: =SUM(M105:O105) -> 0
A106: 4 | B106: 22-00000 | C106: VS GVL (vidējā sprieguma gaisvadu līniju) demontāžas darbi Nr.37011#dem, (Darbu izmaksas)
A107: 4.1 | B107: 13126 | C107: VS 3 dzīslu kabeļa demontāža | D107: m | E107: 17 | H107: =ROUND(F107*G107,2) -> 0 | K107: =SUM(H107:J107) -> 0 | L107: =ROUND(E107*F107,2) -> 0 | M107: =ROUND(E107*H107,2) -> 0 | N107: =ROUND(E107*I107,2) -> 0 | O107: =ROUND(E107*J107,2) -> 0 | P107: =SUM(M107:O107) -> 0
...
