Workbook

Sheet Saturs
A1: Nr. | B1: Nosaukums | C1: Skaits*** | D1: Cena (A), maksimālais punktu skaits | E1: Jānorāda Preces ražotāja noteiktais preces paredzamais lietošanas ilgums (gados) (B), maksimālais punktu skaits | F1: Preces/ iekārtas elektroenerģijas patēriņš vai Preces/Iekārtas energoefektivitāte (C), maksimālais punktu skaits | G1: Kopā
A2: 1 | B2: Valcēšanas iekārta | C2: 1 | D2: 96 | E2: 2 | F2: 2 | G2: =SUM(D2:F2) -> 100
A3: 2 | B3: Transkuānas elektriskās nervu stimulācijas iekārta | C3: 2 | D3: 96 | E3: 2 | F3: 2 | G3: =SUM(D3:F3) -> 100
A4: 3 | B4: Netiešās oftalmoskopijas lāzeris | C4: 1 | D4: 96 | E4: 2 | F4: 2 | G4: =SUM(D4:F4) -> 100
A5: 4 | B5: Portatīvā spraugas lampa | C5: 1 | D5: 96 | E5: 2 | F5: 2 | G5: =SUM(D5:F5) -> 100
A6: 5 | B6: Spirogrāfijas iekārta | C6: 1 | D6: 96 | E6: 2 | F6: 2 | G6: =SUM(D6:F6) -> 100
A7: 6 | B7: Mikrotilpumu UV-redzamās gaismas spektrofotometrs ar fluorometra funkciju | C7: 1 | D7: 96 | E7: 2 | F7: 2 | G7: =SUM(D7:F7) -> 100
A8: 7 | B8: Operāciju brilles | C8: 4 | D8: 100 | E8: - | F8: - | G8: =SUM(D8:F8) -> 100
A12: Tehniskā specifikācija aktualizēta: 2025.gada 22.decembrī.

Sheet Obligātās prasības
A1: nr. | B1: Obligātās prsības iekārtām un iesniegtajam piedāvājumam | C1: Pretendenta piedāvājums, atsauce uz informatīvo materiālu (Informatīvā materiāla nosaukums, lpp.) | D1: Pretendenta piedāvājums, atsauce uz informatīvo materiālu (Informatīvā materiāla nosaukums, lpp.) | E1: Pretendenta piedāvājums, atsauce uz informatīvo materiālu (Informatīvā materiāla nosaukums, lpp.) | F1: Pretendenta piedāvājums, atsauce uz informatīvo materiālu (Informatīvā materiāla nosaukums, lpp.) | G1: Pretendenta piedāvājums, atsauce uz informatīvo materiālu (Informatīvā materiāla nosaukums, lpp.) | H1: Pretendenta piedāvājums, atsauce uz informatīvo materiālu (Informatīvā materiāla nosaukums, lpp.) | I1: Pretendenta piedāvājums, atsauce uz informatīvo materiālu (Informatīvā materiāla nosaukums, lpp.)
C2: 1. pozīcija - Valcēšanas iekārta | D2: 2. pozīcija - Transkutānas nervu elektriskās stimulācijas iekārta | E2: 3. pozīcija - Netiešās oftalmoskopijas lāzeris | F2: 4. pozīcija - Portatīvā spraugas lampa | G2: 5. pozīcija - Spirogrāfijas iekārta | H2: 6. pozīcija - Mikrotilpumu UV-redzamās gaismas spektrofotometrs ar fluorometra funkciju | I2: 7. pozīcija - Operāciju brilles
A3: Piemērs | B3: Piemērs | C3: Ražotāja apliecinājums 1, 1.lpp | D3: Ražotāja apliecinājums 1, 1.lpp | E3: Ražotāja apliecinājums 1, 1.lpp | F3: Ražotāja apliecinājums 1, 1.lpp | G3: Ražotāja apliecinājums 1, 1.lpp | H3: Ražotāja apliecinājums 1, 1.lpp | I3: Ražotāja apliecinājums 1, 1.lpp
A4: Piedāvājumam jāpievieno:
A5: 1 | B5: Preces ražotāja izsniegta autorizācijas vēstule, kas apliecina, ka pretendents ir tiesīgs izplatīt un nodrošināt tehnisko apkalpošanu* piedāvātai Precei Latvijas Republikā.
A6: 2 | B6: Piedāvātas Preces atbilstības deklarācijas kopija.
A7: 3 | B7: Piedāvātas Preces CE sertifikāta kopija, ja attiecināms.
A8: 4 | B8: Ja ražotājs ir paredzējis, ka periodiski veicamos darbus** un/vai remontu var veikt tikai sertificēts inženieris, piesakoties uz atbilstošo pozīciju, jāiesniedz atbilstošs inženiera sertifikāts par apmācībām, kurās norādīta atbilstība veikt konkrētā modeļa ierīču periodiskos darbus un/vai remontu vai iesniegt ražotāja apliecinājumu par Preces garantijas remonta un tehniskās apkalpošanas pasākumu, ja tādi ir nepieciešami, nodrošināšanas iespējām.
A9: 5 | B9: Ražotāja apstiprinātu periodiski veicamo darbu sarakstu, kā arī šo darbu periodiskumu (servisa rokasgrāmatas attiecīgās sadaļas ar ietvertu informāciju par veicamajām darbībām, to periodiskumu, mērāmajiem parametriem, to robežvērtībām, regulāri maināmajām rezerves daļām), ja ražotājs tādus ir paredzējis. Ja ražotājs nav paredzējis periodiski veicamos darbus, par to jāiesniedz ražotāja apliecinājums. Servisa rokasgrāmatas sadaļas var aizstāt ar ražotāja apstiprinātu dokumentu, kas ietver šajā punktā aprakstīto informāciju.
A10: 6 | B10: Piedāvājumā iesniegt iespējamās remontstundas un periodiski veicamo darbu izmaksas pēc garantijas periodā, ja ražotājs tādas ir paredzējis
A11: Prasības precei:
A12: 7 | B12: Piedāvātā Prece ir jauna, iepriekš nelietota un nav izmantota prezentācijās; tā nesatur iepriekš lietotas vai atjaunotas sastāvdaļas vai komponentes. Tā ir ražota ne agrāk kā 12 mēnešus pirms piegādes.
A13: 8 | B13: Piedāvātajām Precēm garantijas termiņš ir vismaz 24 mēneši no pieņemšanas – nodošanas akta abpusējas parakstīšanas brīža.
A14: 9 | B14: Garantijas laikā Piegādātājs bez papildus samaksas nodrošina ierīces remontu un periodiskos darbus atbilstoši ražotāja noteiktajām prasībām, ja ražotājs tādu ir paredzējis.
A15: 10 | B15: Garantijas laikā Piegādātājs bez papildus samaksas nodrošina konsultācijas un atkārtotas apmācības par Preci, ja tādas ir nepieciešamas lietotājam.
A16: 11 | B16: Prece tiek piegādāta 60 dienu laikā pēc pasūtījuma veikšanas. Lūdzam norādīt iekārtas piegādes laiku | C16: Norādīt piegādes laiku: | D16: Norādīt piegādes laiku: | E16: Norādīt piegādes laiku: | F16: Norādīt piegādes laiku: | G16: Norādīt piegādes laiku: | H16: Norādīt piegādes laiku: | I16: Norādīt piegādes laiku:
A17: Preces piegādes nosacījumi:
A18: 12 | B18: Piegādājot Preci, Piegādātājs nodod sekojošu dokumentāciju: medicīniskās ierīces lietošanas instrukcijas un citas dokumentācijas oriģinālvalodā un valsts valodā nodošanu (gan papīra, gan digitālā formātā) un vigilances sistēmas darbības izskaidrošanu lietotājam attiecībā uz konkrēto medicīnisko ierīci | C18: Piedāvājot savu preci pretendents apstiprina preces piegādes nosacījumu izpildi. | D18: Piedāvājot savu preci pretendents apstiprina preces piegādes nosacījumu izpildi. | E18: Piedāvājot savu preci pretendents apstiprina preces piegādes nosacījumu izpildi. | F18: Piedāvājot savu preci pretendents apstiprina preces piegādes nosacījumu izpildi. | G18: Piedāvājot savu preci pretendents apstiprina preces piegādes nosacījumu izpildi. | H18: Piedāvājot savu preci pretendents apstiprina preces piegādes nosacījumu izpildi. | I18: Piedāvājot savu preci pretendents apstiprina preces piegādes nosacījumu izpildi.
A19: 13 | B19: Nododot Preci ekspluatācijā, piegādātājs nodrošina Preces uzstādīšanu, ierīces funkcionālo un elektrodrošības pārbaudi, kā arī funkciju testēšanu un ierīces kalibrēšanu(ja, uzsākot tās ekspluatāciju, tādas prasības paredzētas ierīces tehniskajā dokumentācijā), iesniedz domenentāciju par šo darbu izpildi.
A20: 14 | B20: Piegādājot preci piegādātās veic medicīniskās ierīces lietotāja apmācību un izsniedzot apliecinošu dokumentu, kurā norāda apmācīto personu, personu, kura veikusi apmācību, un apmācības veikšanas datumu; Piegādājot preci piegādātās veic medicīniskās ierīces tehniskajā dokumentācijā pieprasīto ierīces lietošanas vides raksturlielumu un garantētā elektroapgādes režīma pārbaudi un šo pierakstu nodošanu medicīniskās ierīces īpašniekam vai turētājam.
A21: 15 | B21: Piegādājot Preci, Piegādātājs nodrošina medicīniskās ierīces tehniskajā dokumentācijā pieprasīto ierīces lietošanas vides raksturlielumu un garantētā elektroapgādes režīma pārbaudi un šo pierakstu nodošanu pasūtītājam (Attiecināms uz Aktīvām IIa, aktīvām IIb un aktīvām III klases medicīnas ierīcēm ierīcēm, kurām ražotājs šādu pārbaudi ir noteicis)
A22: Tehniskās apkalpošanas nodrošināšanas nosacījumi
A23: 16 | B23: Visu veidu tehniskā apkalpošana tiek veikta tikai pēc Pasūtītāja pieprasījuma. | C23: Piedāvājot savu preci pretendents apstiprina tehniskās apkalpošanas nodrošināšanas nosacījumu izpildi. | D23: Piedāvājot savu preci pretendents apstiprina tehniskās apkalpošanas nodrošināšanas nosacījumu izpildi. | E23: Piedāvājot savu preci pretendents apstiprina tehniskās apkalpošanas nodrošināšanas nosacījumu izpildi. | F23: Piedāvājot savu preci pretendents apstiprina tehniskās apkalpošanas nodrošināšanas nosacījumu izpildi. | G23: Piedāvājot savu preci pretendents apstiprina tehniskās apkalpošanas nodrošināšanas nosacījumu izpildi. | H23: Piedāvājot savu preci pretendents apstiprina tehniskās apkalpošanas nodrošināšanas nosacījumu izpildi. | I23: Piedāvājot savu preci pretendents apstiprina tehniskās apkalpošanas nodrošināšanas nosacījumu izpildi.
A24: 17 | B24: Visu veidu tehniskā apkalpošana tikai izņēmuma gadījumos notiek ārpus Slimnīcas teritorijas, iepriekš to saskaņojot ar Pasūtītāju. Ja autorizētais pārstāvis iekārtas tehnisko apkalpošanu nenodrošina uz vietas, bet ierīce tiek sūtīta ražotājam, tad to norādīt piedāvājumā.
A25: 18 | B25: Tehniskā uzraudzība jādokumentē atbilstoši ražotāja un 2023.gada 15.augusta Ministru kabineta noteikumu nr. 461 "Medicīnisko ierīču noteikumi" punktiem 45., 56., 59., norādot visas izmantotās mēriekārtas un mērīto lielumu robežvērtības, ja attiecināms.
A26: 19 | B26: Visu veidu tehniskā apkalpošana jādokumentē un jānoslēdz ar abpusēji parakstītu pieņemšanas/nodošanas vai servisa aktu.
A27: 20 | B27: Ierīces defektācija tiek veikta trīs darba dienu laikā no pieprasījuma saņemšanas, iesniedzot rakstisku atzinumu par ierīces tehnisko stāvokli. Darbības traucējumi tiek novērsti 5 darba dienu laikā no pieprasījuma saņemšanas vai defektācijas akta apstiprināšanas brīža. Par ilgāku bojājuma novēršanas izpildes laiku jāvienojas atsevišķi.
A28: 21 | B28: Ja iekārtas darbības atjaunošanai nepieciešama rezerves daļu nomaiņa, tad tiek sastādīts defektācijas akts un rezerves daļu nomaiņa tiek veikta tikai pēc defekta akta saskaņošanas ar Pasūtītāju.
A29: 22 | B29: Garantēt veikto darbu atbilstību ierīces ražotāja noteiktajiem standartiem un Latvijas Republikā spēkā esošajiem normatīvajiem aktiem, paredzot ne mazāk kā trīs mēnešu garantiju nomainītajām rezerves daļām, materiāliem un ar to nomaiņu saistītiem remontdarbiem.
A30: 23 | B30: Garantēt, ka tehnisko apkalpošanu veic ražotājs vai ražotāja atbilstoši apmācīts un sertificēts speciālists, ja ražotājs tā paredzējis.
A31: 24 | B31: Informēt Pasūtītāju gadījumos, ja ražotājs plāno pārtraukt tehnisko pavadību un tiklīdz ražotājs ir pārtraucis iekārtas tehnisko pavadību.
A32: 25 | B32: Servisa stundas likme ietver visas izmaksas (administratīvās, transporta, inženiera stundas likmi, servisam nepieciešamo instrumentu un materiālu (salvetes, skrūvju līme u.tml.) u.c.), izņemot rezerves daļu izmaksas, kas nepieciešamas, lai nodrošinātu vienu ierīces remonta/tehniskās apkalpošanas stundu. Laika uzskaites vienības - pusstunda vai stunda.
A33: 26 | B33: Periodiski veicamo darbu cenā ir ietvertas visas elektrodrošības un funkcionālās pārbaudes izmaksas, ja ražotājs tādas pārbaudes ir paredzējis.
A34: 27 | B34: Periodisko veicamo darbu veikšanai nepieciešamo piederumu (vienreizlietojamās sistēmas, kontūri u.tml.) izmaksas jāiekļauj pakalpojuma cenā.
A35: 28 | B35: Jānorāda paredzamais periodiski veicamo darbu ilgums, kas ir nepieciešams, lai varētu plānot ierīces pieejamību. Apmaksa par darba ilgumu tiks veikta pēc pieņemšanas/nodošanas vai servisa aktā minētā laika
... A37: 30 | B37: Uz remonta laiku tiek nodrošināta līdzvērtīga aizvietojošā ierīce
A38: Papildus informācija par iepirkumu un piedāvājuma aizpildīšanas prasībām:
A39: 31 | B39: Pretendents tehniskajā piedāvājumā norāda Preces ražotāju, modeli un atbilstošos parametrus.
A40: 32 | B40: Parametru atbilstību pamatot ar norādi uz tehniskajām datu lapām vai informatīviem materiāliem, norādot atsauci tehniskajā piedāvājumā uz konkrēto lapaspusi un punktu. Informatīvajā materiālā norādīt tehniskās specifikācijas punktu, uz kuru attiecināms.
A41: 33 | B41: Iepirkums ir sadalīts 6 pozīcijās. Tiks vērtēta summa par iekārtu iegādes izmaksām un piederumiem (papildus norādīto jeb citu piederumu/rezerves daļu cena netiek iekļauta vērtējamajā summā). Līguma slēgšanas tiesības tiks piešķirtas par katru pozīciju atsevišķi, parakstot vispārīgo vienošanos. Līguma slēgšanas tiesības saimnieciski izdevīgākajam piedāvājumam.
A42: 34 | B42: Ja iekārtai periodiski veicamo darbu saturs mainās, tad iekārtu tehniskās apkalpošanas piedāvājumā katru periodiski veicamā darba veidu norādīt atsevišķi, veidojot papildus rindas pēc nepieciešamības
B44: Izmantotās definīcijas:
B45: *Tehniskā apkalpošana - ražotāja noteiktie periodiski veicamie darbi un remonts
B46: **Periodiskie veicamie darbi - ražotāja noteiktā apkope (ražotāja noteikts pasākumu kopums attiecībā uz konkrētajai medicīniskajai ierīcei tās ekspluatācijas laikā veicamo apkopes procedūru, ievērojot visas ražotāja noteiktās prasības, iekļaujot regulāri maināmo rezerves daļu klāstu, iestatīšanas vai kalibrēšanas procesus, atbilstoši ražotāja noteiktajiem termiņiem) un tehniskā uzraudzība
B47: ***Tehniskā uzraudzība - ir ražotāja noteikts pasākumu kopums attiecībā uz konkrētajai medicīniskajai ierīcei tās ekspluatācijas laikā veicamajām elektrodrošības un funkcionālajām pārbaudēm, ievērojot visus ražotāja noteiktos atbilstības kritērijus (robežvērtības), kas atbilst ražotāja noteiktajiem termiņiem un pēc katras tādas lietošanas, apkopes un remonta procedūras, kas var ietekmēt ierīces tehniskos parametrus.
B48: ****Vienību skaits ir aptuvens un paredzēts konkursa uzvarētāja noteikšanai; līgumu paredzēts noslēgt par vienības cenu, norādot maksimālo summu, kuru var izmantot līguma darbības laikā.
A50: Tehniskā specifikācija aktualizēta: 2025.gada 22.decembrī.

Sheet 1
A1: 1. pozīcija - Valcēšanas iekārta | D1: Pretendenta piedāvājums, atsauce uz informatīvo materiālu (Informatīvā materiāla nosaukums, lpp.)
A2: Nr. | B2: Preces nosaukums, veicamās funkcijas, tehniskās prasības un komplektācija | C2: Skaits, gab.***
A3: Piemērs | D3: Informatīvais materiāls 2, 4.lpp
A4: 1. | B4: Nosaukums: Valcēšanas iekārta | C4: 1
A5: 1.1. | B5: Veicamās funkcijas:
A6: 1.1.1. | B6: Droši noslēgt un uzraudzīt citotoksisko atkritumu savākšanu, samazinot personāla un vides inficēšanās un ķīmisko vielu iedarbības risku.
A7: 1.2. | B7: Tehniskās prasības:
A8: 1.2.1. | B8: Vismaz divi darba režīmi - valcēšana, valcēšana + nogriešana.
A9: 1.2.2. | B9: Atšķirīgas krāsas LED indikators šādiem stāvokļiem - gatavs darbam, valcēšana, valcēšana + griešana, kļūda
A10: 1.2.3. | B10: Pēc valcēšanas automātiska maisa izvilkšana.
A11: 1.2.4. | B11: Bezkontakta režīmu izvēle un aktivizēšana.
A12: 1.2.5. | B12: Mehānisks iekārtas ieslēgšanas/izslēgšanas slēdzis
A13: 1.2.6. | B13: Rāmis un virsma izgatavoti no nerūsējošā tērauda vai līdzvērtīgi izturīga materiāla.
A14: 1.2.7. | B14: Iekārtas virsma viegli dezinficējama.
A15: 1.2.8. | B15: Iekārta pārvietojama, uz 4 riteņiem.
A16: 1.2.9. | B16: Iekārta ir atvērta tipa, ar iespēju zem virsmas novietot atkritumu konteineri.
... A20: 1.3. | B20: Komplektācija (iekļauta iekārtas cenā, tiek piegādāta ar katru iekārtu):
A21: 1.3.1. | B21: Barošanas kabelis | C21: 1
A22: 1.4. | B22: Piederumi, saderīgi ar piedāvāto iekārtu (tiek norādīta cena par katru piederumu atsevišķi, tiks pasūtīti pēc nepieciešamības, papildu norādīto piederumu cena netiek iekļauta vērtējamajā cenā):
A23: 1.4.1. | B23: Cauruļveida valcējamais maiss (~30m) | C23: 1
A24: 1.4.2. | B24: Citi piederumi, kas nepieciešamas piedāvātajai iekārtai, lai nodrošinātu tehniskajā aprakstā norādīto funkcionalitāti un/vai pieejamie papildinājumi. (rindiņas atļauts papildināt zemāk pēc nepieciešamības, vienā rindiņā ierakstīt ne vairāk kā vienu piederumu) | C24: 1
A27: Saimnieciski visizdevīgākā piedāvājuma vērtēšanai norādāmā papildus informācija | D27: Saimnieciski visizdevīgākā piedāvājuma vērtēšanai norādāmā papildus informācija Pretendenta piedāvājums, atsauce uz informatīvo materiālu vai ražotāja apliecinājumu
A28: B | B28: Jānorāda Preces ražotāja noteiktais preces maksimālais lietošanas ilgums (paredzamais lietošanas ilgums) (gados) | C28: 2
A29: C | B29: Jānorāda Preces ražotāja noteiktais elektroenerģijas patēriņš (voltampēros (VA) vai vatos (W)) | C29: 2
A31: Daļa | B31: VĒRTĒŠANAS KRITĒRIJI | C31: ĪPATSVARS
A32: A | B32: Vērtējamā summa | C32: 96
A33: B | B33: Preces paredzamais lietošanas ilgums | C33: 2
A34: C | B34: Elektroenerģijas patēriņš darba režīmā. Ja netiek norādīta informācija, vai tā ir nepilnīga aplama, tad tiek piešķirti 0 punkti | C34: 2
A35: ∑ | B35: Maksimālais īpatsvars (kopējais punktu skaits) ∑=A+B+C | C35: 100
A37: Komisija katrā daļā piešķir īpatsvaru (punktu skaitu), šādā kārtībā: 1) A (Vērtējamā summa) un C (Elektroenerģijas patēriņš) daļai - viszemākajai vērtība tiek piešķirts maksimālais punktu skaits. Ja piedāvājumā nav norādīta informācija par elektroenerģijas patēriņu tiek piešķirti 0 punkti. Ja tiek norādīts elektroenerģijas patēriņa diapazons, punktu piešķiršanai tiek izmantota augstākā vērtība. 2) Nākamās vērtības A (Vērtējamā summa) un C (Elektroenerģijas patēriņš) daļai tiek aprēķinātas proporcionāli A vai C = (A vai C zemākā iesniegtā vērtība no visiem pretendentiem )/(faktiskā iesniegtā vērtība konkrētajam pretendentam) x Piešķiramais punktu skaits. 3) B (Preces ražotāja noteiktais preces paredzamais lietošanas ilgums) daļai - vislielākajai vērtības tiek piešķirts maksimālais punktu skaits. Ja piedāvājumā nav norādīta informācija par preces lietošanas ilgumu tiek pieņemts, ka lietošanas ilgums ir noteiktais garantijas laiks. Ja tiek norādīts paredzamā lietošanas ilguma diapazons, punktu piešķiršanai tiek izmantota zemākā vērtība. 4) Nākamās vērtības B (Preces ražotāja noteiktais preces paredzamais lietošanas ilgums) daļai tiek aprēķinātas proporcionāli B = (faktiskā iesniegtā vērtība konkrētajam pretendentam)/(B augstākā iesniegtā vērtība no visiem pretendentiem ) x Piešķiramais punktu skaits.

Sheet 2
A1: 2. pozīcija - Transkutānas elektriskās nervu stimulācijas iekārta | D1: Pretendenta piedāvājums, atsauce uz informatīvo materiālu (Informatīvā materiāla nosaukums, lpp.)
A2: Nr. | B2: Preces nosaukums, veicamās funkcijas, tehniskās prasības un komplektācija | C2: Skaits, gab.***
A3: Piemērs | D3: Informatīvais materiāls 2, 4.lpp
A4: 2. | B4: Nosaukums: Transkutānas elektriskās nervu stimulācija iekārta | C4: 2
A5: 2.1. | B5: Veicamās funkcijas:
A6: 2.1.1. | B6: Iekārta paredzēta akūtu un hronisku balsta-kustību sistēmas sāpju atvielogšanai
A7: 2.2. | B7: Tehniskās prasības:
A8: 2.2.1. | B8: Stimulācijas stiprums diapazonā vismaz 1-100 mA
A9: 2.2.2. | B9: Frekvence diapazonā vismaz 1-1000 Hz
A10: 2.2.3. | B10: Impulsa platums diapozonā vismaz 50-400 μs
A11: 2.2.4. | B11: Iespēja pievienot vismaz 8 elektrodus
A12: 2.2.5. | B12: Iekārtas izmēri nepārsniedz 200x100x50 mm
A13: 2.2.6. | B13: Iespēja iestatīt stimulācijas ilgumu
A14: 2.2.7. | B14: Darbojas uz lādējama NiMH vai Li-ion akumulatora
A15: 2.3. | B15: Komplektācija (iekļauta iekārtas cenā, tiek piegādāta ar katru iekārtu):
A16: 2.3.1. | B16: Barošanas kabelis | C16: 1
A17: 2.3.2. | B17: Elektrodu pievienošanas kabeļi | C17: 4
A18: 2.3.3. | B18: Lādējams NiMH vai Li-ion akumulators | C18: 1
A19: 2.3.4. | B19: Pielīmējamu elektrodu komlpekti | C19: 4
A20: 2.4. | B20: Piederumi, saderīgi ar piedāvāto iekārtu (tiek norādīta cena par katru piederumu atsevišķi, tiks pasūtīti pēc nepieciešamības, papildu norādīto piederumu cena netiek iekļauta vērtējamajā cenā):
A21: 2.4.1. | B21: Pielīmējamu elektrodu komplekts | C21: 1
A22: 2.4.2. | B22: Citi piederumi, kas nepieciešamas piedāvātajai iekārtai, lai nodrošinātu tehniskajā aprakstā norādīto funkcionalitāti un/vai pieejamie papildinājumi. (rindiņas atļauts papildināt zemāk pēc nepieciešamības, vienā rindiņā ierakstīt ne vairāk kā vienu piederumu) | C22: 1
A25: Saimnieciski visizdevīgākā piedāvājuma vērtēšanai norādāmā papildus informācija | D25: Saimnieciski visizdevīgākā piedāvājuma vērtēšanai norādāmā papildus informācija Pretendenta piedāvājums, atsauce uz informatīvo materiālu vai ražotāja apliecinājumu
A26: B | B26: Jānorāda Preces ražotāja noteiktais preces maksimālais lietošanas ilgums (paredzamais lietošanas ilgums) (gados) | C26: 2
A27: C | B27: Jānorāda Preces ražotāja noteiktais elektroenerģijas patēriņš (voltampēros (VA) vai vatos (W)) | C27: 2
A29: Daļa | B29: VĒRTĒŠANAS KRITĒRIJI | C29: ĪPATSVARS
A30: A | B30: Vērtējamā summa | C30: 96
A31: B | B31: Preces paredzamais lietošanas ilgums | C31: 2
A32: C | B32: Elektroenerģijas patēriņš darba režīmā. Ja netiek norādīta informācija, vai tā ir nepilnīga aplama, tad tiek piešķirti 0 punkti | C32: 2
A33: ∑ | B33: Maksimālais īpatsvars (kopējais punktu skaits) ∑=A+B+C | C33: 100
A35: Komisija katrā daļā piešķir īpatsvaru (punktu skaitu), šādā kārtībā: 1) A (Vērtējamā summa) un C (Elektroenerģijas patēriņš) daļai - viszemākajai vērtība tiek piešķirts maksimālais punktu skaits. Ja piedāvājumā nav norādīta informācija par elektroenerģijas patēriņu tiek piešķirti 0 punkti. Ja tiek norādīts elektroenerģijas patēriņa diapazons, punktu piešķiršanai tiek izmantota augstākā vērtība. 2) Nākamās vērtības A (Vērtējamā summa) un C (Elektroenerģijas patēriņš) daļai tiek aprēķinātas proporcionāli A vai C = (A vai C zemākā iesniegtā vērtība no visiem pretendentiem )/(faktiskā iesniegtā vērtība konkrētajam pretendentam) x Piešķiramais punktu skaits. 3) B (Preces ražotāja noteiktais preces paredzamais lietošanas ilgums) daļai - vislielākajai vērtības tiek piešķirts maksimālais punktu skaits. Ja piedāvājumā nav norādīta informācija par preces lietošanas ilgumu tiek pieņemts, ka lietošanas ilgums ir noteiktais garantijas laiks. Ja tiek norādīts paredzamā lietošanas ilguma diapazons, punktu piešķiršanai tiek izmantota zemākā vērtība. 4) Nākamās vērtības B (Preces ražotāja noteiktais preces paredzamais lietošanas ilgums) daļai tiek aprēķinātas proporcionāli B = (faktiskā iesniegtā vērtība konkrētajam pretendentam)/(B augstākā iesniegtā vērtība no visiem pretendentiem ) x Piešķiramais punktu skaits.

Sheet 3
A1: 3. pozīcija - Netiešās oftalmoskopijas lāzeris | D1: Pretendenta piedāvājums, atsauce uz informatīvo materiālu (Informatīvā materiāla nosaukums, lpp.)
A2: Nr. | B2: Preces nosaukums, veicamās funkcijas, tehniskās prasības un komplektācija | C2: Skaits, gab.***
A3: Piemērs | B3: Piemērs | C3: Piemērs | D3: Informatīvais materiāls 2, 4.lpp
A4: 3. | B4: Nosaukums: Netiešās oftalmoskopijas lāzeris | C4: 1
A5: 3.1. | B5: Veicamās funkcijas:
A6: 3.1.1. | B6: Veikt priekšlaikus dzimušo bērnu retinopātijas lāzerterapiju
A7: 3.2. | B7: Vispārīgās prasības
A8: 3.2.1. | B8: Lāzera un barošanas bloks integrēts galvas stiprinājumā
A9: 3.2.2. | B9: Lāzeru šķiedras ir integrēta iekārtā, tā nav jāmaina, jāregulē vai jāsavieno
A10: 3.2.3. | B10: Terapijas stars:
A11: 3.2.3.1. | B11: Pusvītāju tipa punktveida lāzeris
A12: 3.2.3.2. | B12: Lāzera stara viļņa garums vismaz robežā no 520 līdz 550 nm
A13: 3.2.3.3. | B13: Maksimālā jauda vismaz 1000 mW
A14: 3.2.3.4. | B14: Lāzeru iespējams izmantot nepārtrauktā vai arī pulsējošā režīmā
A15: 3.2.3.5. | B15: Pulsējošā režīmā pulsu ilgumi regulējami diapazonā vismaz 10-1000 ms
A16: 3.2.3.6. | B16: Pulsējošā režīmā intervāli starp pulsiem regulējami diapazonā vismaz 50-3000 ms
... A27: 3.3. | B27: Komplektācija katrai iekārtai (iekļauta iekārtas cenā, tiek piegādāta kopā ar katru iekārtu):
A28: 3.3.1. | B28: Lāzera bloks | C28: 1
A29: 3.3.2. | B29: Galvas stiprinājums | C29: 1
A30: 3.3.3. | B30: Kājas aktivācijas pedālis | C30: 1
A31: 3.3.4. | B31: Nepieciešamie savienojuma kabeļi | C31: 1
A32: 3.3.5. | B32: Lādēšanas kabelis | C32: 1
A33: 3.3.6. | B33: Pārvietošanas koferis | C33: 1
A34: 3.3.7. | B34: Planšetdators ar nepieciešamo programmu iekārtas vadībai | C34: 1
A35: 3.4. | B35: Piederumi, saderīgi ar piedāvāto iekārtu (tiek norādīta cena par katru piederumu atsevišķi, tiks pasūtīti pēc nepieciešamības, papildus norādīto piederumu cena netiek iekļauta vērtējamajā cenā):
A36: 3.4.1. | B36: Citi piederumi, kas nepieciešamas piedāvātajai ierīcei, lai nodrošinātu tehniskajā aprakstā norādīto funkcionalitāti. (rindiņas atļauts papildināt zemāk pēc nepieciešamības, vienā rindiņā ierakstīt ne vairāk kā vienu piederumu) | C36: 1
A39: Saimnieciski visizdevīgākā piedāvājuma vērtēšanai norādāmā papildus informācija | D39: Saimnieciski visizdevīgākā piedāvājuma vērtēšanai norādāmā papildus informācija Pretendenta piedāvājums, atsauce uz informatīvo materiālu vai ražotāja apliecinājumu
A40: B | B40: Jānorāda Preces ražotāja noteiktais preces maksimālais lietošanas ilgums (paredzamais lietošanas ilgums) (gados)
A41: C | B41: Jānorāda Preces ražotāja noteiktais darbības laiks no akumulatora (stundās)
A43: Daļa | B43: VĒRTĒŠANAS KRITĒRIJI | C43: ĪPATSVARS
A44: A | B44: Vērtējamā summa | C44: 96
A45: B | B45: Preces paredzamais lietošanas ilgums | C45: 2
A46: C | B46: Darbības laiks no akumulatora | C46: 2
A47: ∑ | B47: Maksimālais īpatsvars (kopējais punktu skaits) ∑=A+B+C | C47: 100
A49: Komisija katrā daļā piešķir īpatsvaru (punktu skaitu), šādā kārtībā: 1) A (Vērtējamā summa) un C (Darbības laiks) daļai - viszemākajai vērtība tiek piešķirts maksimālais punktu skaits. Ja piedāvājumā nav norādīta informācija par elektroenerģijas patēriņu tiek piešķirti 0 punkti. Ja tiek norādīts elektroenerģijas patēriņa diapazons, punktu piešķiršanai tiek izmantota augstākā vērtība. 2) Nākamās vērtības A (Vērtējamā summa) un C (Darbības laiks) daļai tiek aprēķinātas proporcionāli A vai C = (A vai C zemākā iesniegtā vērtība no visiem pretendentiem )/(faktiskā iesniegtā vērtība konkrētajam pretendentam) x Piešķiramais punktu skaits. 3) B (Preces ražotāja noteiktais preces paredzamais lietošanas ilgums) daļai - vislielākajai vērtības tiek piešķirts maksimālais punktu skaits. Ja piedāvājumā nav norādīta informācija par preces lietošanas ilgumu tiek pieņemts, ka lietošanas ilgums ir noteiktais garantijas laiks. Ja tiek norādīts paredzamā lietošanas ilguma diapazons, punktu piešķiršanai tiek izmantota zemākā vērtība. 4) Nākamās vērtības B (Preces ražotāja noteiktais preces paredzamais lietošanas ilgums) daļai tiek aprēķinātas proporcionāli B = (faktiskā iesniegtā vērtība konkrētajam pretendentam)/(B augstākā iesniegtā vērtība no visiem pretendentiem ) x Piešķiramais punktu skaits.

Sheet 4
A1: 4. pozīcija - Portatīvā spraugas lampa | D1: Pretendenta piedāvājums, atsauce uz informatīvo materiālu (Informatīvā materiāla nosaukums, lpp.)
A2: Nr. | B2: Preces nosaukums, veicamās funkcijas, tehniskās prasības un komplektācija | C2: Skaits, gab.***
A3: Piemērs | B3: Piemērs | C3: Piemērs | D3: Informatīvais materiāls 2, 4.lpp
A4: 4. | B4: Nosaukums: Portatīvā spraugas lampa | C4: 1
A5: 4.1. | B5: Veicamās funkcijas:
A6: 4.1.1. | B6: Ļauj veikt detalizētu acs priekšējās daļas (radzenes, acs priekšējās kameras, varavīksnenes, lēcas) izmeklēšanu jebkurā atrašanās vietā
A7: 4.2. | B7: Vispārīgās prasības
A8: 4.2.1. | B8: Portatīva spraugas lampa ar biomikroskopu
A9: 4.2.2. | B9: Lampa lādējama, to ievietojot statīvā
A10: 4.2.3. | B10: Lampas svars nepārsniedz 1kg
A11: 4.2.4. | B11: Lampas gabarītizmēri nepārsniedz 250x150x250 mm
A12: 4.2.5. | B12: Statīva svars nepārsniedz 300g
A13: 4.2.6. | B13: Statīva gabarītizmēri nepārsniedz 250x150x50 mm
A14: 4.2.7. | B14: Iespējams regulēt apgaismojuma intensitāti
A15: 4.2.8. | B15: Prasības spraugai:
A16: 4.2.8.1. | B16: Spraugas leņķis no -60⁰ līdz +60⁰
... A28: 4.3. | B28: Komplektācija katrai iekārtai (iekļauta iekārtas cenā, tiek piegādāta kopā ar katru iekārtu):
A29: 4.3.1. | B29: Portatīvā spraugas lampa ar biomikroskopu | C29: 1
A30: 4.3.2. | B30: Lādēšanas statīvs | C30: 1
A31: 4.3.3. | B31: Strāvas kabelis | C31: 1
A32: 4.3.4. | B32: Lēcu tīrīšanas komplekts | C32: 1
A33: 4.4. | B33: Piederumi, saderīgi ar piedāvāto iekārtu (tiek norādīta cena par katru piederumu atsevišķi, tiks pasūtīti pēc nepieciešamības, papildus norādīto piederumu cena netiek iekļauta vērtējamajā cenā):
A34: 4.4.1. | B34: Citi piederumi, kas nepieciešamas piedāvātajai ierīcei, lai nodrošinātu tehniskajā aprakstā norādīto funkcionalitāti. (rindiņas atļauts papildināt zemāk pēc nepieciešamības, vienā rindiņā ierakstīt ne vairāk kā vienu piederumu) | C34: 1
A37: Saimnieciski visizdevīgākā piedāvājuma vērtēšanai norādāmā papildus informācija | D37: Saimnieciski visizdevīgākā piedāvājuma vērtēšanai norādāmā papildus informācija Pretendenta piedāvājums, atsauce uz informatīvo materiālu vai ražotāja apliecinājumu
A38: B | B38: Jānorāda Preces ražotāja noteiktais preces maksimālais lietošanas ilgums (paredzamais lietošanas ilgums) (gados)
A39: C | B39: Jānorāda Preces ražotāja noteiktais darbības laiks no akumulatora (stundās)
A41: Daļa | B41: VĒRTĒŠANAS KRITĒRIJI | C41: ĪPATSVARS
A42: A | B42: Vērtējamā summa | C42: 96
A43: B | B43: Preces paredzamais lietošanas ilgums | C43: 2
A44: C | B44: Darbības laiks no akumulatora | C44: 2
A45: ∑ | B45: Maksimālais īpatsvars (kopējais punktu skaits) ∑=A+B+C | C45: 100
A47: Komisija katrā daļā piešķir īpatsvaru (punktu skaitu), šādā kārtībā: 1) A (Vērtējamā summa) un C (Darbības laiks) daļai - viszemākajai vērtība tiek piešķirts maksimālais punktu skaits. Ja piedāvājumā nav norādīta informācija par elektroenerģijas patēriņu tiek piešķirti 0 punkti. Ja tiek norādīts elektroenerģijas patēriņa diapazons, punktu piešķiršanai tiek izmantota augstākā vērtība. 2) Nākamās vērtības A (Vērtējamā summa) un C (Darbības laiks) daļai tiek aprēķinātas proporcionāli A vai C = (A vai C zemākā iesniegtā vērtība no visiem pretendentiem )/(faktiskā iesniegtā vērtība konkrētajam pretendentam) x Piešķiramais punktu skaits. 3) B (Preces ražotāja noteiktais preces paredzamais lietošanas ilgums) daļai - vislielākajai vērtības tiek piešķirts maksimālais punktu skaits. Ja piedāvājumā nav norādīta informācija par preces lietošanas ilgumu tiek pieņemts, ka lietošanas ilgums ir noteiktais garantijas laiks. Ja tiek norādīts paredzamā lietošanas ilguma diapazons, punktu piešķiršanai tiek izmantota zemākā vērtība. 4) Nākamās vērtības B (Preces ražotāja noteiktais preces paredzamais lietošanas ilgums) daļai tiek aprēķinātas proporcionāli B = (faktiskā iesniegtā vērtība konkrētajam pretendentam)/(B augstākā iesniegtā vērtība no visiem pretendentiem ) x Piešķiramais punktu skaits.

Sheet 5
A1: 5. pozīcija - Spirogrāfijas iekārta | D1: Pretendenta piedāvājums, atsauce uz informatīvo materiālu (Informatīvā materiāla nosaukums, lpp.)
A2: Nr. | B2: Preces nosaukums, veicamās funkcijas, tehniskās prasības un komplektācija | C2: Skaits, gab.***
A3: Piemērs | B3: Piemērs | C3: Piemērs | D3: Informatīvais materiāls 2, 4.lpp
A4: 5. | B4: Nosaukums: Spirogrāfijas iekārta | C4: 1
A5: 5.1. | B5: Veicamās funkcijas:
A6: 5.1.1. | B6: Plaušu funkcijas un elpošanas kapacitātes novērtēšana
A7: 5.1.2. | B7: Datu glabāšana un integrēšana SIS sistēmā
A8: 5.2. | B8: Prasībes iekārtai:
A9: 5.2.1. | B9: Iespējams veikt plūsmas, tilpuma un gāzu analīzes mērījumus
A10: 5.2.2. | B10: Plūsmas mērījumi vismaz līdz 18 l/s
A11: 5.2.3. | B11: Plūsmas mērījumiem līdz vismaz 15 l/s precizitāte ± 2% vai labāka
A12: 5.2.4. | B12: Tilpuma mērījumi vismaz līdz 30 l
A13: 5.2.5. | B13: Tilpuma mērījumiem precizitāte ± 2% vai labāka
A14: 5.2.6. | B14: Iekārtas gabarītizmēri nepārsniedz 200x100x100 mm (neņemot vērā cauruli un iemutni)
A15: 5.2.6. | B15: Iekārtas svars nepārsniedz 1 kg
A16: 5.2.7. | B16: Elpošanas iemutņa pretestība nepārsniedz 0.05 kPa/l/s
... A36: 5.5. | B36: Prasības sistēmas ieviešanai, jānodrošina piegādājot preci:
A37: 5.5.1. | B37: Sistēmas ieviešanas procesā pretendents izmanto pasūtītāja Redmine projektu vadības sistēmu | D37: Piesakoties uz pozīciju pretendents apliecina prasību izpildi
A38: 5.5.2. | B38: Nepieciešamības gadījumā dokumentu tulkošanu nodrošina piegādātājs
A39: 5.5.3. | B39: Piegādātājs shēmas veidā uzzīmē datu plūsmu, ko iekārta ražo, apstrādāšanas un glabāšanas vietu. Piegādātājs definē datu veidus.
A40: 5.5.4. | B40: Piegādātājs norāda visas nepieciešamās datu glabāšanas/pārsūtīšanas tehnoloģijas, nepieciešamos protokolus
A41: 5.5.5. | B41: Piegādātājs visu iekārtu IP adreses un nosaukumus saskaņo ar pasūtītāju
A42: 5.5.6. | B42: Ja iekārtās paredzēti tīkla interfeisi, piegādātājam primāri jāizmanto vadu tehnoloģijas, ja nepieciešama mobilitāte - bezvadu.
A43: 5.5.7. | B43: Piegādātājam visas iekārtas, kas slēdzas tīklā, jāiezīmē shēmā. Ja paredzēti vairāki tīkli, tie jāiezīmē shēmā un jāsaskaņo adresācija.
A44: 5.5.8. | B44: Integrācijas ieviešanas stadijā Pretendentam jāatbild 2 darba dienu laikā uz nosūtītajiem jautājumiem.
A45: 5.6. | B45: Komplektācija katrai iekārtai (iekļauta iekārtas cenā, tiek piegādāta kopā ar katru iekārtu):
A46: 5.6.1. | B46: Spirogrāfijas iekārta | C46: 1
A47: 5.6.2. | B47: Portatīvais dators | C47: 1
A48: 5.6.3. | B48: Izmeklējumu veikšanai paredzēta lietotne | C48: 1
A49: 5.6.4. | B49: Caurule filtriem (daudzreizlietojama, dezinficējama) | C49: 1
A50: 5.6.5. | B50: Iemutnis ar filtru | C50: 50
A51: 5.7. | B51: Piederumi, saderīgi ar piedāvāto iekārtu (tiek norādīta cena par katru piederumu atsevišķi, tiks pasūtīti pēc nepieciešamības, papildus norādīto piederumu cena netiek iekļauta vērtējamajā cenā):
A52: 5.7.1. | B52: Iemutnis ar filtru | C52: 100
A53: 5.7.2. | B53: Citi piederumi, kas nepieciešamas piedāvātajai ierīcei, lai nodrošinātu tehniskajā aprakstā norādīto funkcionalitāti. (rindiņas atļauts papildināt zemāk pēc nepieciešamības, vienā rindiņā ierakstīt ne vairāk kā vienu piederumu) | C53: 1
A56: Saimnieciski visizdevīgākā piedāvājuma vērtēšanai norādāmā papildus informācija | D56: Saimnieciski visizdevīgākā piedāvājuma vērtēšanai norādāmā papildus informācija Pretendenta piedāvājums, atsauce uz informatīvo materiālu vai ražotāja apliecinājumu
A57: B | B57: Jānorāda Preces ražotāja noteiktais preces maksimālais lietošanas ilgums (paredzamais lietošanas ilgums) (gados)
A58: C | B58: Jānorāda Preces ražotāja noteiktais elektroenerģijas patēriņš (voltampēros (VA) vai vatos (W))
A60: Daļa | B60: VĒRTĒŠANAS KRITĒRIJI | C60: ĪPATSVARS
A61: A | B61: Vērtējamā summa | C61: 96
A62: B | B62: Preces paredzamais lietošanas ilgums | C62: 2
A63: C | B63: Darbības laiks no akumulatora | C63: 2
A64: ∑ | B64: Maksimālais īpatsvars (kopējais punktu skaits) ∑=A+B+C | C64: 100
A66: Komisija katrā daļā piešķir īpatsvaru (punktu skaitu), šādā kārtībā: 1) A (Vērtējamā summa) un C (Darbības laiks) daļai - viszemākajai vērtība tiek piešķirts maksimālais punktu skaits. Ja piedāvājumā nav norādīta informācija par elektroenerģijas patēriņu tiek piešķirti 0 punkti. Ja tiek norādīts elektroenerģijas patēriņa diapazons, punktu piešķiršanai tiek izmantota augstākā vērtība. 2) Nākamās vērtības A (Vērtējamā summa) un C (Darbības laiks) daļai tiek aprēķinātas proporcionāli A vai C = (A vai C zemākā iesniegtā vērtība no visiem pretendentiem )/(faktiskā iesniegtā vērtība konkrētajam pretendentam) x Piešķiramais punktu skaits. 3) B (Preces ražotāja noteiktais preces paredzamais lietošanas ilgums) daļai - vislielākajai vērtības tiek piešķirts maksimālais punktu skaits. Ja piedāvājumā nav norādīta informācija par preces lietošanas ilgumu tiek pieņemts, ka lietošanas ilgums ir noteiktais garantijas laiks. Ja tiek norādīts paredzamā lietošanas ilguma diapazons, punktu piešķiršanai tiek izmantota zemākā vērtība. 4) Nākamās vērtības B (Preces ražotāja noteiktais preces paredzamais lietošanas ilgums) daļai tiek aprēķinātas proporcionāli B = (faktiskā iesniegtā vērtība konkrētajam pretendentam)/(B augstākā iesniegtā vērtība no visiem pretendentiem ) x Piešķiramais punktu skaits.

Sheet 6
A1: 6. pozīcija - Mikrotilpumu UV-redzamās gaismas spektrofotometrs ar fluorometra funkciju | D1: Pretendenta piedāvājums, atsauce uz informatīvo materiālu (Informatīvā materiāla nosaukums, lpp.)
A2: Nr. | B2: Preces nosaukums, veicamās funkcijas, tehniskās prasības un komplektācija | C2: Skaits, gab.***
A3: Piemērs | B3: Piemērs | C3: Piemērs | D3: Informatīvais materiāls 2, 4.lpp
A4: 6. | B4: Nosaukums: Mikrotilpumu UV-redzamās gaismas spektrofotometrs ar fluorometra funkciju | C4: 1
A5: 6.1. | B5: Veicamās funkcijas:
A6: 6.1.1. | B6: Mērīt maza tilpuma paraugu absorbāciju un fluoroscenci
A7: 6.1.2 | B7: Noteikt nukleīnskābju, proteīnu un citu biomolekulu koncentrāciju un kvalitāti
A8: 6.2. | B8: Prasības iekārtai:
A9: 6.2.1. | B9: Augstas izšķirtspējas skārienjūtīgs ekrāns
A10: 6.2.2. | B10: Mērījumus var veikt ar kiveti vai pjedestālu
A11: 6.2.3. | B11: Minimālais parauga tilpums 1μL vai mazāks
A12: 6.2.4. | B12: Mērījums sniedz pilnvērtīgus spektrālos datus
A13: 6.2.5. | B13: Parauga biezums mainās robežās vismaz no 0,030 līdz 1mm, automātiski
A14: 6.2.6. | B14: Gaismas avots ir Xe lampa
A15: 6.2.7. | B15: Gaismas avota viļņu diapazons vismaz no 190-850nm
A16: 6.2.8. | B16: Gaismas avota viļņu precizitāte ±1nm
... A49: 6.6. | B49: Komplektācija katrai iekārtai (iekļauta iekārtas cenā, tiek piegādāta kopā ar katru iekārtu):
A50: 6.6.1. | B50: Atbilstošā programmatūra | C50: 1
A51: 6.6.2. | B51: Dators, kas savietojams ar iekārtu | C51: 1
A52: 6.7. | B52: Piederumi, saderīgi ar piedāvāto iekārtu (tiek norādīta cena par katru piederumu atsevišķi, tiks pasūtīti pēc nepieciešamības, papildus norādīto piederumu cena netiek iekļauta vērtējamajā cenā):
A53: 6.7.1. | B53: Kalibrators | C53: 1
A54: 6.7.2. | B54: RNS plaša diapazona fluorescences analīzes komplekts | C54: 1
A55: 6.7.3. | B55: DNS plaša diapazona fluorescences analīzes komplekts | C55: 1
A56: 6.7.4. | B56: Citi piederumi, kas nepieciešamas piedāvātajai ierīcei, lai nodrošinātu tehniskajā aprakstā norādīto funkcionalitāti. (rindiņas atļauts papildināt zemāk pēc nepieciešamības, vienā rindiņā ierakstīt ne vairāk kā vienu piederumu) | C56: 1
A59: Saimnieciski visizdevīgākā piedāvājuma vērtēšanai norādāmā papildus informācija | D59: Saimnieciski visizdevīgākā piedāvājuma vērtēšanai norādāmā papildus informācija Pretendenta piedāvājums, atsauce uz informatīvo materiālu vai ražotāja apliecinājumu
A60: B | B60: Jānorāda Preces ražotāja noteiktais preces maksimālais lietošanas ilgums (paredzamais lietošanas ilgums) (gados)
A61: C | B61: Jānorāda Preces ražotāja noteiktais elektroenerģijas patēriņš (voltampēros (VA) vai vatos (W))
A63: Daļa | B63: VĒRTĒŠANAS KRITĒRIJI | C63: ĪPATSVARS
A64: A | B64: Vērtējamā summa | C64: 96
A65: B | B65: Preces paredzamais lietošanas ilgums | C65: 2
A66: C | B66: Darbības laiks no akumulatora | C66: 2
A67: ∑ | B67: Maksimālais īpatsvars (kopējais punktu skaits) ∑=A+B+C | C67: 100
A69: Komisija katrā daļā piešķir īpatsvaru (punktu skaitu), šādā kārtībā: 1) A (Vērtējamā summa) un C (Darbības laiks) daļai - viszemākajai vērtība tiek piešķirts maksimālais punktu skaits. Ja piedāvājumā nav norādīta informācija par elektroenerģijas patēriņu tiek piešķirti 0 punkti. Ja tiek norādīts elektroenerģijas patēriņa diapazons, punktu piešķiršanai tiek izmantota augstākā vērtība. 2) Nākamās vērtības A (Vērtējamā summa) un C (Darbības laiks) daļai tiek aprēķinātas proporcionāli A vai C = (A vai C zemākā iesniegtā vērtība no visiem pretendentiem )/(faktiskā iesniegtā vērtība konkrētajam pretendentam) x Piešķiramais punktu skaits. 3) B (Preces ražotāja noteiktais preces paredzamais lietošanas ilgums) daļai - vislielākajai vērtības tiek piešķirts maksimālais punktu skaits. Ja piedāvājumā nav norādīta informācija par preces lietošanas ilgumu tiek pieņemts, ka lietošanas ilgums ir noteiktais garantijas laiks. Ja tiek norādīts paredzamā lietošanas ilguma diapazons, punktu piešķiršanai tiek izmantota zemākā vērtība. 4) Nākamās vērtības B (Preces ražotāja noteiktais preces paredzamais lietošanas ilgums) daļai tiek aprēķinātas proporcionāli B = (faktiskā iesniegtā vērtība konkrētajam pretendentam)/(B augstākā iesniegtā vērtība no visiem pretendentiem ) x Piešķiramais punktu skaits.

Sheet 7
A1: 7. pozīcija - Operāciju brilles | D1: Pretendenta piedāvājums, atsauce uz informatīvo materiālu (Informatīvā materiāla nosaukums, lpp.)
A2: Nr. | B2: Preces nosaukums, veicamās funkcijas, tehniskās prasības un komplektācija | C2: Skaits, gab.***
A3: Piemērs | D3: Informatīvais materiāls 2, 4.lpp
A4: 7. | B4: Nosaukums: Operāciju brilles | C4: 4
A5: 7.1. | B5: Veicamās funkcijas:
A6: 7.1.1. | B6: Operāciju brilles paredzētas mazu objektu saskatīšanai un darba precizitātes nodrošināšanai ķirurģisko operāciju laikā
A7: 7.2. | B7: Tehniskās prasības:
A8: 7.2.1. | B8: Operāciju brilles ar lēcās integrētiem teleskopiem ir pielāgotas konkrēta lietotāja sejas ģeometrijai, darba attālumam un darba slīpuma leņķim
A9: 7.2.2. | B9: Operāciju briļļu lēcas un teleskopu lēcas ir pielāgotas konkrēta lietotāja redzei
A10: 7.2.3. | B10: Operāciju brilles ar lēcās integrētiem teleskopiem izgatavotas no ūdensizturīgiem, hipoalerģiskiem un pret koroziju izturīgiem materiāliem
A11: 7.2.4. | B11: Uz operāciju briļļu rāmja vai plāksnes iegravēta lietotāja identifikācija (Vārds, Uzvārds)
A12: 7.3. | B12: Modifikācijas:
A13: 7.3.1. | B13: Lēcās integrētie teleskopi ar 2,5 X ± 0,3 palielinājumu
A14: 7.4. | B14: Komplektācija (iekļauta iekārtas cenā, tiek piegādāta kopā ar katru iekārtu):
A15: 7.4.1. | B15: Operāciju briļļu sānu aizsargekrāni | C15: 1
A16: 7.4.2. | B16: Operāciju briļļu kakla vai galvas lence | C16: 1
A17: 7.4.3. | B17: Operāciju briļļu glabāšanas kaste | C17: 1
A18: 7.5. | B18: Piederumi, saderīgi ar piedāvāto iekārtu (tiek norādīta cena par katru piederumu atsevišķi, tiks pasūtīti pēc nepieciešamības, papildu norādīto piederumu cena netiek iekļauta vērtējamajā cenā):
A19: 7.5.1. | B19: Citi piederumi, kas nepieciešamas piedāvātajai iekārtai, lai nodrošinātu tehniskajā aprakstā norādīto funkcionalitāti un/vai pieejamie papildinājumi. (rindiņas atļauts papildināt zemāk pēc nepieciešamības, vienā rindiņā ierakstīt ne vairāk kā vienu piederumu) | C19: 1

Sheet Iekārtu tehniskā apkalpošana
A2: Ierīcēm, kurām pēcgarantijas periodā periodiski veicamo darbu saturs mainās, Pretendents aizpilda "Iekārtu tehniskā apkalpošana" tabulu, izveidojot papildus rindu/as zem ierīces, katrā jaunā rindā norādot periodiski veicamā darba veidu, pārliecinoties, ka kopumā ir uzskaitīti visi uz ierīci attiecināmie periodiski veicamie darbi pēcgarantijas periodā
A3: Kopējās izmaksas viena periodiski veicamā darba veida veikšanai pēcgarantijas periodā tiek aprēķinātas sekojoši: 13=3*(6*(7+(8*9)) kur norādītie skaitļi ir kolonnas kārtas numurs. 14. kolonnā jānorāda summa par visiem periodiski veicamajiem darbiem visām iekārtām
A4: Iekārtu tehniskā apkalpošana
A5: Iepirkuma daļas numurs | B5: Iekārtas nosaukums | C5: Iekārtu skaits *** | D5: Pēcgarantijas periods, ņemot vērā, ka garantijas periods un pēcgarantijas periods veido piecus gadus | E5: Periodiski veicamā darba veids pēcgarantijas periodā | F5: Periodiski veicamā darba skaits vienai ierīcei pēcgarantijas periodā | G5: Viena periodiski veicamā darba maināmo rezerves daļu izmaksas, ja attiecināms, EUR bez PVN | H5: Viena periodiski veicamā darba paredzamais ilgums, stundas | I5: Periodiski veicamo darbu servisa stundas likme, EUR bez PVN | J5: Remonta servisa stundas likme, EUR bez PVN | K5: Vai ražotājs ir paredzējis elektrodrošības pārbaudes periodiski veicamo darbu ietvaros? (Jā/Nē) | L5: Vai ražotājs ir paredzējis funkcionālās pārbaudes periodiski veicamo darbu ietvaros? (Jā/Nē) | M5: Summa par viena periodiski veicamā darba veidu pēcgarantijas periodā visām iekārtām, EUR bez PVN | N5: Summa par visiem periodiski veicamajiem darbiem pēcgarantijas periodā visām iekārtām, EUR bez PVN | O5: Piezīmes
A6: 1 | B6: 2 | C6: 3 | D6: 4 | E6: 5 | F6: 6 | G6: 7 | H6: 8 | I6: 9 | J6: 10 | K6: 11 | L6: 12 | M6: 13 | N6: 14 | O6: 15
A7: 1. pozīcija | B7: Valcēšanas iekārta | C7: 1 | M7: =C7*(F7*(G7+(H7*I7))) -> 0 | N7: =M7 -> 0
A8: 2. pozīcija | B8: Transkutānas elektriskās nervu stimulācijas iekārta | C8: 2 | M8: =C8*(F8*(G8+(H8*I8))) -> 0 | N8: =M8 -> 0
A9: 3. pozīcija | B9: Netiešās oftalmoskopijas lāzeris | C9: 1 | M9: =C9*(F9*(G9+(H9*I9))) -> 0 | N9: =M9 -> 0
A10: 4. pozīcija | B10: Portatīvā spraugas lampa | C10: 1 | M10: =C10*(F10*(G10+(H10*I10))) -> 0 | N10: =M10 -> 0
A11: 5. pozīcija | B11: Spirogrāfijas iekārta | C11: 1 | M11: =C11*(F11*(G11+(H11*I11))) -> 0 | N11: =M11 -> 0
A12: 6. pozīcija | B12: Mikrotilpumu UV-redzamās gaismas spektrofotometrs ar fluorometra funkciju | C12: 1 | M12: =C12*(F12*(G12+(H12*I12))) -> 0 | N12: =M12 -> 0
A13: 7. pozīcija | B13: Operāciju brilles | C13: 4 | M13: =C13*(F13*(G13+(H13*I13))) -> 0 | N13: =M13 -> 0
A15: Piemērs
A16: Iekārtu tehniskā apkalpošana
A17: Iepirkuma daļas numurs | B17: Iekārtas nosaukums | C17: Iekārtu skaits * | D17: Pēcgarantijas periods, ņemot vērā, ka garantijas periods un pēcgarantijas periods veido piecus gadus | E17: Periodiski veicamā darba veids pēcgarantijas periodā | F17: Periodiski veicamā darba skaits vienai ierīcei pēcgarantijas periodā | G17: Viena periodiski veicamā darba maināmo rezerves daļu izmaksas, ja attiecināms, EUR bez PVN | H17: Viena periodiski veicamā darba paredzamais ilgums, stundas | I17: Periodiski veicamo darbu servisa stundas likme, EUR bez PVN | J17: Remonta servisa stundas likme, EUR bez PVN | K17: Vai ražotājs ir paredzējis elektrodrošības pārbaudes periodiski veicamo darbu ietvaros? (Jā/Nē) | L17: Vai ražotājs ir paredzējis funkcionālās pārbaudes periodiski veicamo darbu ietvaros? (Jā/Nē) | M17: Summa par viena periodiski veicamā darba veidu pēcgarantijas periodā visām iekārtām, EUR bez PVN | N17: Summa par visiem periodiski veicamajiem darbiem pēcgarantijas periodā visām iekārtām, EUR bez PVN | O17: Piezīmes
A18: 1 | B18: 2 | C18: 3 | D18: 4 | E18: 5 | F18: 6 | G18: 7 | H18: 8 | I18: 9 | J18: 10 | K18: 11 | L18: 12 | M18: 13 | N18: 14 | O18: 15
A19: 1. daļa | B19: Mākslīgā plaušu ventilācijas ierīce | C19: 5 | D19: 3 | E19: 1000h apkope | F19: 2 | G19: 500 | H19: 3 | I19: 35 | J19: 35 | K19: JĀ | L19: JĀ | M19: =C19*(F19*(G19+(H19*I19))) -> 6050 | N19: =M19+M20 -> 6312.5
C20: 5 | D20: 3 | E20: 2 gadu pārbaude | F20: 1 | G20: 0 | H20: 1.5 | I20: 35 | J20: 35 | K20: JĀ | L20: JĀ | M20: =C20*(F20*(G20+(H20*I20))) -> 262.5
A22: Tehniskā specifikācija aktualizēta: 2025.gada 22.decembrī.

Sheet Finanšu piedāvājums
A1: Finanšu piedāvājums
A2: Iekārtu iegādes izmaksas
A3: Iepirkuma daļas numurs | B3: Iekārtas nosaukums | C3: Iekārtu skaits *** | D3: Vienas vienības cena, EUR bez PVN | E3: Summa, EUR bez PVN | F3: PVN likme, % | G3: Summa par visiem periodiski veicamajiem darbiem pēcgarantijas periodā visām iekārtām (ja ražotājs tādu ir paredzējis) | H3: Vērtējamā summa
A4: 1. pozīcija | B4: Nosaukums: Vačēšanas iekārta | C4: 1 | E4: =D4*C4 -> 0 | G4: ='Iekārtu tehniskā apkalpošana'!N7 -> 0 | H4: =E4+G4+SUM(E6:E7) -> 0
B5: Piederumi, saderīgi ar piedāvāto iekārtu (tiek norādīta cena par katru piederumu atsevišķi, tiks pasūtīti pēc nepieciešamības, papildus norādīto piederumu cena netiek iekļauta vērtējamajā cenā): | G5: Nav attiecināms
A6: 1.4.1. | B6: Cauruļveida valcējamais maiss (~30m) | C6: 1 | E6: =D6*C6 -> 0
A7: 1.4.2. | B7: Citi piederumi, kas nepieciešamas piedāvātajai iekārtai, lai nodrošinātu tehniskajā aprakstā norādīto funkcionalitāti un/vai pieejamie papildinājumi. (rindiņas atļauts papildināt zemāk pēc nepieciešamības, vienā rindiņā ierakstīt ne vairāk kā vienu piederumu) | C7: 1 | E7: =D7*C7 -> 0
A8: 2. pozīcija | B8: Nosaukums: Transkutānas elektriskās nervu stimulācijas iekārta | C8: 2 | E8: =D8*C8 -> 0 | G8: ='Iekārtu tehniskā apkalpošana'!N8 -> 0 | H8: =E8+G8+SUM(E10:E11) -> 0
B9: Piederumi, saderīgi ar piedāvāto iekārtu (tiek norādīta cena par katru piederumu atsevišķi, tiks pasūtīti pēc nepieciešamības, papildus norādīto piederumu cena netiek iekļauta vērtējamajā cenā): | G9: Nav attiecināms
A10: 2.4.1. | B10: Pielīmējamu elektrodu komplekts | C10: 1 | E10: =D10*C10 -> 0
A11: 2.4.2. | B11: Citi piederumi, kas nepieciešamas piedāvātajai iekārtai, lai nodrošinātu tehniskajā aprakstā norādīto funkcionalitāti un/vai pieejamie papildinājumi. (rindiņas atļauts papildināt zemāk pēc nepieciešamības, vienā rindiņā ierakstīt ne vairāk kā vienu piederumu) | C11: 1 | E11: =D11*C11 -> 0
A12: 3. pozīcija | B12: Nosaukums: Netiešās oftalmoskopijas lāzeris | C12: 1 | E12: =D12*C12 -> 0 | G12: ='Iekārtu tehniskā apkalpošana'!N9 -> 0 | H12: =E12+G12+SUM(E14:E14) -> 0
B13: Piederumi, saderīgi ar piedāvāto iekārtu (tiek norādīta cena par katru piederumu atsevišķi, tiks pasūtīti pēc nepieciešamības, papildus norādīto piederumu cena netiek iekļauta vērtējamajā cenā): | G13: Nav attiecināms
A14: 3.4.2. | B14: Citi piederumi, kas nepieciešamas piedāvātajai ierīcei, lai nodrošinātu tehniskajā aprakstā norādīto funkcionalitāti. (rindiņas atļauts papildināt zemāk pēc nepieciešamības, vienā rindiņā ierakstīt ne vairāk kā vienu piederumu) | C14: 1 | E14: =D14*C14 -> 0
A15: 4. pozīcija | B15: Nosaukums: Portatīvā spraugas lampa | C15: 1 | E15: =D15*C15 -> 0 | G15: ='Iekārtu tehniskā apkalpošana'!N10 -> 0 | H15: =E15+G15+SUM(E17:E17) -> 0
B16: Piederumi, saderīgi ar piedāvāto iekārtu (tiek norādīta cena par katru piederumu atsevišķi, tiks pasūtīti pēc nepieciešamības, papildus norādīto piederumu cena netiek iekļauta vērtējamajā cenā): | G16: Nav attiecināms
A17: 4.4.1. | B17: Citi piederumi, kas nepieciešamas piedāvātajai ierīcei, lai nodrošinātu tehniskajā aprakstā norādīto funkcionalitāti. (rindiņas atļauts papildināt zemāk pēc nepieciešamības, vienā rindiņā ierakstīt ne vairāk kā vienu piederumu) | C17: 1 | E17: =D17*C17 -> 0
A18: 5. pozīcija | B18: Nosaukums: Spirogrāfijas iekārta | C18: 1 | E18: =D18*C18 -> 0 | G18: ='Iekārtu tehniskā apkalpošana'!N11 -> 0 | H18: =E18+G18+SUM(E20:E21) -> 0
B19: Piederumi, saderīgi ar piedāvāto iekārtu (tiek norādīta cena par katru piederumu atsevišķi, tiks pasūtīti pēc nepieciešamības, papildus norādīto piederumu cena netiek iekļauta vērtējamajā cenā): | G19: Nav attiecināms
A20: 5.7.1. | B20: Iemutnis ar filtru | C20: 1 | E20: =D20*C20 -> 0
A21: 5.7.2. | B21: Citi piederumi, kas nepieciešamas piedāvātajai ierīcei, lai nodrošinātu tehniskajā aprakstā norādīto funkcionalitāti. (rindiņas atļauts papildināt zemāk pēc nepieciešamības, vienā rindiņā ierakstīt ne vairāk kā vienu piederumu) | C21: 1 | E21: =D21*C21 -> 0
A22: 6. pozīcija | B22: Nosaukums: Mikrotilpumu UV-redzamās gaismas spektrofotometrs ar fluorometra funkciju | C22: 1 | E22: =D22*C22 -> 0 | G22: ='Iekārtu tehniskā apkalpošana'!N12 -> 0 | H22: =E22+G22+SUM(E24:E27) -> 0
B23: Piederumi, saderīgi ar piedāvāto iekārtu (tiek norādīta cena par katru piederumu atsevišķi, tiks pasūtīti pēc nepieciešamības, papildus norādīto piederumu cena netiek iekļauta vērtējamajā cenā): | G23: Nav attiecināms
A24: 6.7.1. | B24: Kalibrators | C24: 1 | E24: =D24*C24 -> 0
A25: 6.7.2. | B25: RNS plaša diapazona fluorescences analīzes komplekts | C25: 1 | E25: =D25*C25 -> 0
A26: 6.7.3. | B26: DNS plaša diapazona fluorescences analīzes komplekts | C26: 1 | E26: =D26*C26 -> 0
A27: 6.7.4. | B27: Citi piederumi, kas nepieciešamas piedāvātajai ierīcei, lai nodrošinātu tehniskajā aprakstā norādīto funkcionalitāti. (rindiņas atļauts papildināt zemāk pēc nepieciešamības, vienā rindiņā ierakstīt ne vairāk kā vienu piederumu) | C27: 1 | E27: =D27*C27 -> 0
A28: 7. pozīcija | B28: Nosaukums: Operāciju brilles | C28: 4 | E28: =D28*C28 -> 0 | G28: ='Iekārtu tehniskā apkalpošana'!N13 -> 0 | H28: =E28+G28+SUM(E30:E30) -> 0
B29: Piederumi, saderīgi ar piedāvāto iekārtu (tiek norādīta cena par katru piederumu atsevišķi, tiks pasūtīti pēc nepieciešamības, papildus norādīto piederumu cena netiek iekļauta vērtējamajā cenā): | G29: Nav attiecināms
A30: 7.5.1. | B30: Citi piederumi, kas nepieciešamas piedāvātajai iekārtai, lai nodrošinātu tehniskajā aprakstā norādīto funkcionalitāti un/vai pieejamie papildinājumi. (rindiņas atļauts papildināt zemāk pēc nepieciešamības, vienā rindiņā ierakstīt ne vairāk kā vienu piederumu) | C30: 1 | E30: =D30*C30 -> 0
A32: Tehniskā specifikācija aktualizēta: 2025.gada 22.decembrī.
