Workbook
Name OLE_LINK4: 'GAT, 1.daļa'!#REF!
Name OLE_LINK9: 'GAT, 1.daļa'!#REF!

Sheet Būvniecības koptāme, 1.daļa
A2: Būvniecības koptāme
A4: Būves nosaukums: Inčukalna PGK divu šleifu pāreju pārbūves zem autoceļa A3 Inčukalns--Valmiera--Igaunijas robeža
A5: Objekta adrese: “Inčukalna pazemes gāzes krātuve”, Krimuldas pag., Siguldas nov.
A8: Nr. p. k. | C8: Objekta nosaukums | E8: Objekta izmaksas (euro)
A9: 1. | C9: Inčukalna PGK divu šleifu pāreju pārbūves zem autoceļa A3 Inčukalns--Valmiera--Igaunijas robeža | E9: ='kopsavilkums, 1.daļa'!D18 -> 0
A12: Kopā | E12: =SUM(E9:E11) -> 0
A14: PVN (21%) | E14: =ROUND((E12)*0.21,2) -> 0

Sheet kopsavilkums, 1.daļa
A1: Kopsavilkuma aprēķins
A3: Būves nosaukums: Inčukalna PGK divu šleifu pāreju pārbūves zem autoceļa A3 Inčukalns--Valmiera--Igaunijas robeža
A4: Objekta nosaukums: Inčukalna PGK divu šleifu pāreju pārbūves zem autoceļa A3 Inčukalns--Valmiera--Igaunijas robeža
A5: Objekta adrese: “Inčukalna pazemes gāzes krātuve”, Krimuldas pag., Siguldas nov.
A7: Nr.p.k | B7: Tāmes Nr. | C7: Būvdarbu veids vai konstruktīvā elementa nosaukums | D7: Tāmes izmaksas | E7: Tai skaitā | H7: Darbietilpība (c/h)
E8: darba alga | F8: būvizstrādājumi | G8: mehānismi
A9: 1 | B9: Tāme Nr.1 | C9: Būvprojekta ģenerālplans | D9: ='GP, 1.daļa'!O13 -> 0 | E9: ='GP, 1.daļa'!L13 -> 0 | F9: ='GP, 1.daļa'!M13 -> 0 | G9: ='GP, 1.daļa'!N13 -> 0 | H9: ='GP, 1.daļa'!K13 -> 0
A10: 2 | B10: Tāme Nr.2 | C10: Būvkonstrukcijas. | D10: ='BK, 1.daļa'!O25 -> 0 | E10: ='BK, 1.daļa'!L25 -> 0 | F10: ='BK, 1.daļa'!M25 -> 0 | G10: ='BK, 1.daļa'!N25 -> 0 | H10: ='BK, 1.daļa'!K25 -> 0
A11: 3 | B11: Tāme Nr.3 | C11: Gāzesapgāde (ārējā) | D11: ='GAT, 1.daļa'!O103 -> 0 | E11: ='GAT, 1.daļa'!L103 -> 0 | F11: ='GAT, 1.daļa'!M103 -> 0 | G11: ='GAT, 1.daļa'!N103 -> 0 | H11: ='GAT, 1.daļa'!K103 -> 0
A12: 4 | B12: Tāme Nr.4 | C12: Elektroķimiskā aizsardzība. | D12: ='ELKA, 1.daļa'!O46 -> 0 | E12: ='ELKA, 1.daļa'!L46 -> 0 | F12: ='ELKA, 1.daļa'!M46 -> 0 | G12: ='ELKA, 1.daļa'!N46 -> 0 | H12: ='ELKA, 1.daļa'!K46 -> 0
A13: 5 | B13: Tāme Nr.5 | C13: Darbu organizēšanas projekts | D13: ='DOP, 1.daļa'!O78 -> 0 | E13: ='DOP, 1.daļa'!L78 -> 0 | F13: ='DOP, 1.daļa'!M78 -> 0 | G13: ='DOP, 1.daļa'!N78 -> 0 | H13: ='DOP, 1.daļa'!K78 -> 0
C14: Kopā: | D14: =SUM(D9:D13) -> 0 | E14: =SUM(E9:E13) -> 0 | F14: =SUM(F9:F13) -> 0 | G14: =SUM(G9:G13) -> 0 | H14: =SUM(H11:H13) -> 0
C15: Virsizdevumi (x*%) | D15: =D14*0.12 -> 0
C16: t.sk. darba aizardzība
C17: Peļņa 8%) | D17: =D14*0.08 -> 0
C18: Pavisam kopā | D18: =SUM(D14:D17) -> 0
B20: x* | C20: Pretendents izvērtē paredzēto virsizdevumy koeficientu

Sheet GP, 1.daļa
A1: Lokālā tāme Nr.1
A2: Būvprojekta ģenerālplans
A3: Būves nosaukums: Inčukalna PGK divu šleifu pāreju pārbūves zem autoceļa A3 Inčukalns--Valmiera--Igaunijas robeža
A4: Objekta nosaukums: Inčukalna PGK divu šleifu pāreju pārbūves zem autoceļa A3 Inčukalns--Valmiera--Igaunijas robeža
L6: Tāmes izmaksas | N6: EUR | O6: =O13 -> 0
A7: N.p.k. | B7: Darba nosaukums | C7: Mērvienība | D7: Daudzums | E7: Vienības izmaksas, EUR | K7: Kopā uz visu apjomu, EUR
E8: laika norma (c/h) | F8: darba samaksas likme* (euro/h) | G8: darba alga | H8: būvizstrādājumi | I8: mehānismi | J8: kopā | K8: darbietilpība (c/h) | L8: darba alga | M8: būvizstrādājumi | N8: mehānismi | O8: summa
A9: 1 | B9: Virs gāzesvada no minerālās grunts uzbēruma ierīkošana, | C9: m3 | D9: Pasūtītāja piegāde | K9: Pasūtītāja piegāde
A10: 2 | B10: Virs gāzesvada uzbēruma planēšana un nostiprināšana, izsējot sēklu maisījumu pa 0.10 m auglīgās augsnes slāņi, | C10: m2
A11: 3 | B11: Niepieciešamā auglīgā augsne, | C11: m3
A12: 4 | B12: Būvgružu izvešana | C12: m3 | D12: 8 | E12: 0 | F12: 0 | G12: =ROUND(F12*E12,2) -> 0 | H12: 0 | I12: 0 | J12: =SUM(G12:I12) -> 0 | K12: =E12*D12 -> 0 | L12: =ROUND(G12*D12,2) -> 0 | M12: =ROUND(H12*D12,2) -> 0 | N12: =ROUND(I12*D12,2) -> 0 | O12: =SUM(L12:N12) -> 0
B13: Tiešās izmaksas kopā, t. sk. darba devēja sociālais nodoklis 23,59% : | K13: =SUM(K9:K12) -> 0 | L13: =SUM(L9:L12) -> 0 | M13: =SUM(M9:M12) -> 0 | N13: =SUM(N9:N12) -> 0 | O13: =SUM(O9:O12) -> 0
A14: 1. Būvuzņēmējam jāievērtē darbu apjomu sarakstā minēto darbu veikšanai nepieciešamie materiāli un papildus darbi, kas nav minēti šajā sarakstā, bet bez kuriem nebūtu iespējama būvdarbu tehnoloģiski pareiza un spēkā esošiem normatīviem atbilstoša veikšana pilnā apmērā.
A15: 2. Darbu apjomus skatīt kopā ar rasējumiem. Gadījumā, ja darbu apjomi nesakrīt ar rasējumiem, par pareiziem jāuzskata rasējumos esošie darbu apjomi.
A16: 4. Materiālu cenās papildus neatgriezeniskajam materiālu patēriņam, Būvdarbu veicējam ir jāievērtē materiālu atgriezumi, pārlaidumi, to sablīvēšanās u.c. būvražošanas procesa zudumi.

Sheet BK, 1.daļa
A1: Lokālā tāme Nr.2
A2: Būvkonstrukcijas.
A3: Būves nosaukums: Inčukalna PGK divu šleifu pāreju pārbūves zem autoceļa A3 Inčukalns--Valmiera--Igaunijas robeža
A4: Objekta nosaukums: Inčukalna PGK divu šleifu pāreju pārbūves zem autoceļa A3 Inčukalns--Valmiera--Igaunijas robeža
L6: Tāmes izmaksas | N6: EUR | O6: =O25 -> 0
A7: N.p.k. | B7: Darba nosaukums | C7: Mērvienība | D7: Daudzums | E7: Vienības izmaksas, EUR | K7: Kopā uz visu apjomu, EUR
E8: laika norma (c/h) | F8: darba samaksas likme* (euro/h) | G8: darba alga | H8: būvizstrādājumi | I8: mehānismi | J8: kopā | K8: darbietilpība (c/h) | L8: darba alga | M8: būvizstrādājumi | N8: mehānismi | O8: summa
B9: Pamats SA-1
A10: 1 | B10: Būvbedres izstrādē | C10: m3 | D10: 8 | E10: Pasūtītāja piegāde | K10: Pasūtītāja piegāde
A11: 2 | B11: Grunts izvešana | C11: m3 | D11: 8
A12: 3 | B12: Monolītas dzelzbetona pamats SA-1 betonešana betons C30/37 XC4 XF3 CI02, ieskaitot betona sūknēsanu un veidņu uzstādīšanu , nojaukšanu, nomu un palīgmateriālu izmaksu | C12: m3 | D12: 1.42
A13: 4 | B13: Šķembu pamatne fr. 20/40 mm | C13: m3 | D13: 0.25
A14: 5 | B14: Polietilēna plēve (t=0,20 mm) | C14: m2 | D14: 2.3
A15: 6 | B15: Bitumena mastika (2 kārtās) | C15: m2 | D15: 12
A16: 7 | B16: Stiegrojuma ierīkošana ieskatot fiksācijas un stiprinājuma elementu iebūvi | C16: kg | D16: 127
B17: Pamats SB-1
A18: 8 | B18: Būvbedres izstrādē | C18: m3 | D18: 6
A19: 9 | B19: Grunts izvešana | C19: m3 | D19: 6
A20: 10 | B20: Monolītas dzelzbetona pamats SA-1 betonešana betons C30/37 XC4 XF3 CI02, ieskaitot betona sūknēsanu un veidņu uzstādīšanu , nojaukšanu, nomu un palīgmateriālu izmaksu | C20: m3 | D20: 1.42
A21: 11 | B21: Šķembu pamatne fr. 20/40 mm | C21: m3 | D21: 0.25
A22: 12 | B22: Polietilēna plēve (t=0,20 mm) | C22: m2 | D22: 2.3
A23: 13 | B23: Bitumena mastika (2 kārtās) | C23: m2 | D23: 12
A24: 14 | B24: Stiegrojuma ierīkošana ieskatot fiksācijas un stiprinājuma elementu iebūvi | C24: kg | D24: 127
B25: Tiešās izmaksas kopā, t. sk. darba devēja sociālais nodoklis 23,59% : | K25: =SUM(K10:K24) -> 0 | L25: =SUM(L10:L24) -> 0 | M25: =SUM(M10:M24) -> 0 | N25: =SUM(N10:N24) -> 0 | O25: =N25+M25+L25 -> 0
A27: 1. Būvuzņēmējam jāievērtē darbu apjomu sarakstā minēto darbu veikšanai nepieciešamie materiāli un papildus darbi, kas nav minēti šajā sarakstā, bet bez kuriem nebūtu iespējama būvdarbu tehnoloģiski pareiza un spēkā esošiem normatīviem atbilstoša veikšana pilnā apmērā.
A28: 2. Darbu apjomus skatīt kopā ar rasējumiem. Gadījumā, ja darbu apjomi nesakrīt ar rasējumiem, par pareiziem jāuzskata rasējumos esošie darbu apjomi.

Sheet GAT, 1.daļa
A1: Lokālā tāme Nr.3
A2: Gāzesapgāde (ārējā)
A3: Būves nosaukums: Inčukalna PGK divu šleifu pāreju pārbūves zem autoceļa A3 Inčukalns--Valmiera--Igaunijas robeža
A4: Objekta nosaukums: Inčukalna PGK divu šleifu pāreju pārbūves zem autoceļa A3 Inčukalns--Valmiera--Igaunijas robeža
L6: Tāmes izmaksas | N6: EUR | O6: =O103 -> 0
A7: N.p.k. | B7: Darba nosaukums | C7: Mērvienība | D7: Daudzums | E7: Vienības izmaksas, EUR | K7: Kopā uz visu apjomu, EUR
E8: laika norma (c/h) | F8: darba samaksas likme* (euro/h) | G8: darba alga | H8: būvizstrādājumi | I8: mehānismi | J8: kopā | K8: darbietilpība (c/h) | L8: darba alga | M8: būvizstrādājumi | N8: mehānismi | O8: summa
B9: 1.Caurules
B10: Tērauda bezšuvju caurule ar 100% nesagraujošas kontroles metodi pārbaudīta, ar rūpnieciskas pārklājumu 3PLE LVS EN ISO 21809-1 klase B3, biezums 2,7mm, izgatavotas un pārbaudītas saskaņā ar LVS EN ISO 3183:2020 PSL-2. Triecien stigrības izmēģinājuma (ar Šarpī svārsta trieciena metodi) temperatūra: Т= - 40°С. Galu apstrāde: gali slīpināti saskaņā LVS EN ISO 3183:2020, pārklāti ar pretkorozijas krāsu un noslēgti ar plastmasas gala slēgiem:
A11: 1 | B11: Ø168,3x8,8 | C11: m | D11: 1090 | H11: Pasūtītāja piegāde | M11: Pasūtītāja piegāde
A12: 1a | B12: Ø168,3x8,8 montāža | C12: m | D12: 1086.3 | E12: 0 | F12: 0 | G12: =ROUND(F12*E12,2) -> 0 | I12: 0 | J12: =SUM(G12:I12) -> 0 | K12: =ROUND(E12*D12,2) -> 0 | L12: =ROUND(G12*D12,2) -> 0 | N12: =ROUND(I12*D12,2) -> 0 | O12: =SUM(L12:N12) -> 0
B13: Tērauda bezšuvju caurule ar 100% nesagraujošas kontroles metodi pārbaudīta. Triecien stigrības izmēģinājuma (ar Šarpī svārsta trieciena metodi) temperatūra: Т= - 40°С; ar rūpnīcas pretkorozijas krāsas pārklājumu. Pretkorozijas krāsu sistēma С4.11 (pēc LVS EN ISO 12944-5:2020) Galu apstrāde: gali slīpināti saskaņā ar LVS EN ISO 3183:2020 PSL-2, pārklāti ar pretkorozijas krāsu un noslēgti ar plastmasas gala slēgiem:
A14: 2 | B14: Ø168,3x8,8 | C14: m | D14: 10 | H14: Pasūtītāja piegāde | M14: Pasūtītāja piegāde
A15: 2a | B15: Ø168,3x8,8 montāža | C15: m | D15: 6 | E15: 0 | F15: 0 | G15: =ROUND(F15*E15,2) -> 0 | I15: 0 | J15: =SUM(G15:I15) -> 0 | K15: =ROUND(E15*D15,2) -> 0 | L15: =ROUND(G15*D15,2) -> 0 | N15: =ROUND(I15*D15,2) -> 0 | O15: =SUM(L15:N15) -> 0
A16: 3 | B16: Ø60,3х5,6 | C16: m | D16: 10 | H16: Pasūtītāja piegāde | M16: Pasūtītāja piegāde
A17: 3a | B17: Ø60,3х5,6 montāža | C17: m | D17: 0.56 | E17: 0 | F17: 0 | G17: =ROUND(F17*E17,2) -> 0 | I17: 0 | J17: =SUM(G17:I17) -> 0 | K17: =ROUND(E17*D17,2) -> 0 | L17: =ROUND(G17*D17,2) -> 0 | N17: =ROUND(I17*D17,2) -> 0 | O17: =SUM(L17:N17) -> 0
B18: Tērauda garenmetināta caurule ar rūpnīcas 100% nesagraujošas kontroles metodi pārbaudītas. Triecien stigrības izmēģinājuma (ar Šarpī svārsta trieciena metodi) temperatūra: Т= - 40°С,ar rūpnieciskas PE pārklājumu LV S EN 10288:2003, klase 3, tips 2 vai LVS EN ISO 21809-1 klass B3 izgatavotas un pārbaudītas saskaņā ar LVS EN ISO 3183:2020. Galu apstrāde: gali slīpināti saskaņā ar LVS EN ISO 3183:2020 PSL-2, pārklāti ar pretkorozijas krāsu un noslēgti ar plastmasas gala slēgiem:
A19: 4 | B19: Ø273x5 | C19: m | D19: 20 | E19: 0 | F19: 0 | G19: =ROUND(F19*E19,2) -> 0 | H19: Pasūtītāja piegāde | I19: 0 | J19: =SUM(G19:I19) -> 0 | K19: =ROUND(E19*D19,2) -> 0 | L19: =ROUND(G19*D19,2) -> 0 | M19: Pasūtītāja piegāde | N19: =ROUND(I19*D19,2) -> 0 | O19: =SUM(L19:N19) -> 0
B20: 2.Veidgabali
B21: Līkums ar rūpnīcas 100% nesagraujošas kontroles metodi pārbaudīts, ar rūpnieciskas pārklājumu 3PLE LVS EN ISO 21809-1 klase B3, biezums 2,7mm. Triecien stigrības izmēģinājuma (ar Šarpī svārsta trieciena metodi) temperatūra: Т= - 40°С:
A22: 5 | B22: Līkums 2° Modelis 10D (R=5DN), Ø168,3x8,8 L1= L2=650mm | C22: gb. | D22: 1 | E22: 0 | F22: 0 | G22: =ROUND(F22*E22,2) -> 0 | H22: Pasūtītāja piegāde | I22: 0 | J22: =SUM(G22:I22) -> 0 | K22: =ROUND(E22*D22,2) -> 0 | L22: =ROUND(G22*D22,2) -> 0 | M22: Pasūtītāja piegāde | N22: =ROUND(I22*D22,2) -> 0 | O22: =SUM(L22:N22) -> 0
A23: =A22+1 -> 6 | B23: Līkums 4° Modelis 10D (R=5DN), Ø168,3x8,8 L1= L2=650mm | C23: gb. | D23: 2 | E23: 0 | F23: 0 | G23: =ROUND(F23*E23,2) -> 0 | H23: Pasūtītāja piegāde | I23: 0 | J23: =SUM(G23:I23) -> 0 | K23: =ROUND(E23*D23,2) -> 0 | L23: =ROUND(G23*D23,2) -> 0 | M23: Pasūtītāja piegāde | N23: =ROUND(I23*D23,2) -> 0 | O23: =SUM(L23:N23) -> 0
A24: =A23+1 -> 7 | B24: Līkums 5° Modelis 10D (R=5DN), Ø168,3x8,8 L1= L2=650mm | C24: gb. | D24: 1 | E24: 0 | F24: 0 | G24: =ROUND(F24*E24,2) -> 0 | H24: Pasūtītāja piegāde | I24: 0 | J24: =SUM(G24:I24) -> 0 | K24: =ROUND(E24*D24,2) -> 0 | L24: =ROUND(G24*D24,2) -> 0 | M24: Pasūtītāja piegāde | N24: =ROUND(I24*D24,2) -> 0 | O24: =SUM(L24:N24) -> 0
A25: =A24+1 -> 8 | B25: Līkums 6° Modelis 10D (R=5DN), Ø168,3x8,8 L1= L2=650mm | C25: gb. | D25: 1 | E25: 0 | F25: 0 | G25: =ROUND(F25*E25,2) -> 0 | H25: Pasūtītāja piegāde | I25: 0 | J25: =SUM(G25:I25) -> 0 | K25: =ROUND(E25*D25,2) -> 0 | L25: =ROUND(G25*D25,2) -> 0 | M25: Pasūtītāja piegāde | N25: =ROUND(I25*D25,2) -> 0 | O25: =SUM(L25:N25) -> 0
A26: =A25+1 -> 9 | B26: Līkums 8° Modelis 10D (R=5DN), Ø168,3x8,8 L1= L2=650mm | C26: gb. | D26: 1 | E26: 0 | F26: 0 | G26: =ROUND(F26*E26,2) -> 0 | H26: Pasūtītāja piegāde | I26: 0 | J26: =SUM(G26:I26) -> 0 | K26: =ROUND(E26*D26,2) -> 0 | L26: =ROUND(G26*D26,2) -> 0 | M26: Pasūtītāja piegāde | N26: =ROUND(I26*D26,2) -> 0 | O26: =SUM(L26:N26) -> 0
A27: =A26+1 -> 10 | B27: Līkums 11° Modelis 10D (R=5DN), Ø168,3x8,8 L1= L2=650mm | C27: gb. | D27: 2 | E27: 0 | F27: 0 | G27: =ROUND(F27*E27,2) -> 0 | H27: Pasūtītāja piegāde | I27: 0 | J27: =SUM(G27:I27) -> 0 | K27: =ROUND(E27*D27,2) -> 0 | L27: =ROUND(G27*D27,2) -> 0 | M27: Pasūtītāja piegāde | N27: =ROUND(I27*D27,2) -> 0 | O27: =SUM(L27:N27) -> 0
A28: =A27+1 -> 11 | B28: Līkums 13° Modelis 10D (R=5DN), Ø168,3x8,8 L1= L2=650mm | C28: gb. | D28: 2 | E28: 0 | F28: 0 | G28: =ROUND(F28*E28,2) -> 0 | H28: Pasūtītāja piegāde | I28: 0 | J28: =SUM(G28:I28) -> 0 | K28: =ROUND(E28*D28,2) -> 0 | L28: =ROUND(G28*D28,2) -> 0 | M28: Pasūtītāja piegāde | N28: =ROUND(I28*D28,2) -> 0 | O28: =SUM(L28:N28) -> 0
A29: =A28+1 -> 12 | B29: Līkums 16° Modelis 10D (R=5DN), Ø168,3x8,8 L1= L2=650mm | C29: gb. | D29: 1 | E29: 0 | F29: 0 | G29: =ROUND(F29*E29,2) -> 0 | H29: Pasūtītāja piegāde | I29: 0 | J29: =SUM(G29:I29) -> 0 | K29: =ROUND(E29*D29,2) -> 0 | L29: =ROUND(G29*D29,2) -> 0 | M29: Pasūtītāja piegāde | N29: =ROUND(I29*D29,2) -> 0 | O29: =SUM(L29:N29) -> 0
A30: =A29+1 -> 13 | B30: Līkums 17° Modelis 10D (R=5DN), Ø168,3x8,8 L1= L2=650mm | C30: gb. | D30: 1 | E30: 0 | F30: 0 | G30: =ROUND(F30*E30,2) -> 0 | H30: Pasūtītāja piegāde | I30: 0 | J30: =SUM(G30:I30) -> 0 | K30: =ROUND(E30*D30,2) -> 0 | L30: =ROUND(G30*D30,2) -> 0 | M30: Pasūtītāja piegāde | N30: =ROUND(I30*D30,2) -> 0 | O30: =SUM(L30:N30) -> 0
A31: =A30+1 -> 14 | B31: Līkums 18° Modelis 10D (R=5DN), Ø168,3x8,8 L1= L2=650mm | C31: gb. | D31: 1 | E31: 0 | F31: 0 | G31: =ROUND(F31*E31,2) -> 0 | H31: Pasūtītāja piegāde | I31: 0 | J31: =SUM(G31:I31) -> 0 | K31: =ROUND(E31*D31,2) -> 0 | L31: =ROUND(G31*D31,2) -> 0 | M31: Pasūtītāja piegāde | N31: =ROUND(I31*D31,2) -> 0 | O31: =SUM(L31:N31) -> 0
A32: =A31+1 -> 15 | B32: Līkums 20° Modelis 10D (R=5DN), Ø168,3x8,8 L1= L2=650mm | C32: gb. | D32: 1 | E32: 0 | F32: 0 | G32: =ROUND(F32*E32,2) -> 0 | H32: Pasūtītāja piegāde | I32: 0 | J32: =SUM(G32:I32) -> 0 | K32: =ROUND(E32*D32,2) -> 0 | L32: =ROUND(G32*D32,2) -> 0 | M32: Pasūtītāja piegāde | N32: =ROUND(I32*D32,2) -> 0 | O32: =SUM(L32:N32) -> 0
A33: =A32+1 -> 16 | B33: Līkums 21° Modelis 10D (R=5DN), Ø168,3x8,8 L1= L2=650mm | C33: gb. | D33: 2 | E33: 0 | F33: 0 | G33: =ROUND(F33*E33,2) -> 0 | H33: Pasūtītāja piegāde | I33: 0 | J33: =SUM(G33:I33) -> 0 | K33: =ROUND(E33*D33,2) -> 0 | L33: =ROUND(G33*D33,2) -> 0 | M33: Pasūtītāja piegāde | N33: =ROUND(I33*D33,2) -> 0 | O33: =SUM(L33:N33) -> 0
A34: =A33+1 -> 17 | B34: Līkums 22° Modelis 10D (R=5DN), Ø168,3x8,8 L1= L2=650mm | C34: gb. | D34: 1 | E34: 0 | F34: 0 | G34: =ROUND(F34*E34,2) -> 0 | H34: Pasūtītāja piegāde | I34: 0 | J34: =SUM(G34:I34) -> 0 | K34: =ROUND(E34*D34,2) -> 0 | L34: =ROUND(G34*D34,2) -> 0 | M34: Pasūtītāja piegāde | N34: =ROUND(I34*D34,2) -> 0 | O34: =SUM(L34:N34) -> 0
... A54: =A53+1 -> 37 | B54: Līkums 90° Modelis 3D (R=1,5DN), Ø168,3x8,8 | C54: gb. | D54: 4 | E54: 0 | F54: 0 | G54: =ROUND(F54*E54,2) -> 0 | H54: Pasūtītāja piegāde | I54: 0 | J54: =SUM(G54:I54) -> 0 | K54: =ROUND(E54*D54,2) -> 0 | L54: =ROUND(G54*D54,2) -> 0 | M54: Pasūtītāja piegāde | N54: =ROUND(I54*D54,2) -> 0 | O54: =SUM(L54:N54) -> 0
B55: Līkums ar rūpnīcas 100% nesagraujošas kontroles metodi pārbaudīts, ar rūpnieciskas pretkorozijas pārklājumu PUR LVS EN 10290:2003 klase B, tips 2. Triecien stigrības izmēģinājuma (ar Šarpī svārsta trieciena metodi) temperatūra: Т= - 40°С; Pirms pārklājuma uzlikšanas rūpnīcas apstākļos virsma tiek attīrīta vismaz līdz pakāpei Sa 2½ LVS EN ISO 8501-1:2007
A56: 38 | B56: Līkums 30° Modelis 10D (R=5DN), Ø273x5 L1= L2=1000mm | C56: gb | D56: 4 | E56: 0 | F56: 0 | G56: =ROUND(F56*E56,2) -> 0 | H56: Pasūtītāja piegāde | I56: 0 | J56: =SUM(G56:I56) -> 0 | K56: =ROUND(E56*D56,2) -> 0 | L56: =ROUND(G56*D56,2) -> 0 | M56: Pasūtītāja piegāde | N56: =ROUND(I56*D56,2) -> 0 | O56: =SUM(L56:N56) -> 0
A57: =A56+1 -> 39 | B57: Līkums 15° Modelis 10D (R=5DN), Ø273x5 L1= L2=850mm | C57: gb | D57: 6 | E57: 0 | F57: 0 | G57: =ROUND(F57*E57,2) -> 0 | H57: Pasūtītāja piegāde | I57: 0 | J57: =SUM(G57:I57) -> 0 | K57: =ROUND(E57*D57,2) -> 0 | L57: =ROUND(G57*D57,2) -> 0 | M57: Pasūtītāja piegāde | N57: =ROUND(I57*D57,2) -> 0 | O57: =SUM(L57:N57) -> 0
A58: =A57+1 -> 40 | B58: Līkums 30° Modelis 3D (R=1,5DN), Ø273x5 | C58: gb | D58: 4 | E58: 0 | F58: 0 | G58: =ROUND(F58*E58,2) -> 0 | H58: Pasūtītāja piegāde | I58: 0 | J58: =SUM(G58:I58) -> 0 | K58: =ROUND(E58*D58,2) -> 0 | L58: =ROUND(G58*D58,2) -> 0 | M58: Pasūtītāja piegāde | N58: =ROUND(I58*D58,2) -> 0 | O58: =SUM(L58:N58) -> 0
B59: Pāreja ar rūpnīcas 100% nesagraujošas kontroles metodi pārbaudīts ar rūpnieciskas pārklājumu 3PLE LVS EN ISO 21809-1 klase B3
A60: 41 | B60: Pāreja Ø168,3x8,8-Ø159x8 | C60: gb | D60: 20 | E60: 0 | F60: 0 | G60: =ROUND(F60*E60,2) -> 0 | H60: Pasūtītāja piegāde | I60: 0 | J60: =SUM(G60:I60) -> 0 | K60: =ROUND(E60*D60,2) -> 0 | L60: =ROUND(G60*D60,2) -> 0 | M60: Pasūtītāja piegāde | N60: =ROUND(I60*D60,2) -> 0 | O60: =SUM(L60:N60) -> 0
...

Sheet ELKA, 1.daļa
A1: Lokālā tāme Nr.4
A2: Elektroķimiskā aizsardzība.
A3: Būves nosaukums: Inčukalna PGK divu šleifu pāreju pārbūves zem autoceļa A3 Inčukalns--Valmiera--Igaunijas robeža
A4: Objekta nosaukums: Inčukalna PGK divu šleifu pāreju pārbūves zem autoceļa A3 Inčukalns--Valmiera--Igaunijas robeža
L6: Tāmes izmaksas | N6: EUR | O6: =O46 -> 0
A7: N.p.k. | B7: Darba nosaukums | C7: Mērvienība | D7: Daudzums | E7: Vienības izmaksas, EUR | K7: Kopā uz visu apjomu, EUR
E8: laika norma (c/h) | F8: darba samaksas likme* (euro/h) | G8: darba alga | H8: būvizstrādājumi | I8: mehānismi | J8: kopā | K8: darbietilpība (c/h) | L8: darba alga | M8: būvizstrādājumi | N8: mehānismi | O8: summa
A9: =1 -> 1 | B9: Kontroles mērījumu punkts (KMP/MR) Shema 8-8-2,5; cinkots tērauda KMP modelis „CONEXUS” | C9: gb. | D9: 8 | E9: 0 | F9: 0 | G9: =ROUND(E9*F9,2) -> 0 | H9: 0 | I9: 0 | J9: =SUM(G9:I9) -> 0 | K9: =ROUND(E9*D9,2) -> 0 | L9: =ROUND(G9*D9,2) -> 0 | M9: =ROUND(H9*D9,2) -> 0 | N9: =ROUND(I9*D9,2) -> 0 | O9: =SUM(L9:N9) -> 0
A10: =A9+1 -> 2 | B10: Kontroles mērījumu punkts (KMP/MR) Shema 16-8-2,5; cinkots tērauda KMP modelis „CONEXUS” | C10: gb. | D10: 4 | E10: 0 | F10: 0 | G10: =ROUND(E10*F10,2) -> 0 | H10: 0 | I10: 0 | J10: =SUM(G10:I10) -> 0 | K10: =ROUND(E10*D10,2) -> 0 | L10: =ROUND(G10*D10,2) -> 0 | M10: =ROUND(H10*D10,2) -> 0 | N10: =ROUND(I10*D10,2) -> 0 | O10: =SUM(L10:N10) -> 0
A11: =A10+1 -> 3 | B11: Dīvkanalu Diožu-Rezistoru 10A / 0,45 Om katram kanālam (kopumā 2х0,45 Oms) regulēšanas bloks komplektā ar kastīti (BSZ-2/10) | C11: gb. | D11: 4 | E11: 0 | F11: 0 | G11: =ROUND(E11*F11,2) -> 0 | H11: 0 | I11: 0 | J11: =SUM(G11:I11) -> 0 | K11: =ROUND(E11*D11,2) -> 0 | L11: =ROUND(G11*D11,2) -> 0 | M11: =ROUND(H11*D11,2) -> 0 | N11: =ROUND(I11*D11,2) -> 0 | O11: =SUM(L11:N11) -> 0
A12: =A11+1 -> 4 | B12: Trīskanalu Diožu-Rezistoru 10A / 0,45 Om katram kanālam (kopumā 3х0,45 Oms) regulēšanas bloks komplektā ar kastīti (BSZ-3/10) | C12: gb. | D12: 4 | E12: 0 | F12: 0 | G12: =ROUND(E12*F12,2) -> 0 | H12: 0 | I12: 0 | J12: =SUM(G12:I12) -> 0 | K12: =ROUND(E12*D12,2) -> 0 | L12: =ROUND(G12*D12,2) -> 0 | M12: =ROUND(H12*D12,2) -> 0 | N12: =ROUND(I12*D12,2) -> 0 | O12: =SUM(L12:N12) -> 0
A13: =A12+1 -> 5 | B13: Četru kanalu Diožu-Rezistoru 10A / 0,45 Om katram kanālam (kopumā 4х0,45 Oms) regulēšanas bloks komplektā ar kastīti (BSZ-4/10) | C13: gb. | D13: 4 | E13: 0 | F13: 0 | G13: =ROUND(E13*F13,2) -> 0 | H13: 0 | I13: 0 | J13: =SUM(G13:I13) -> 0 | K13: =ROUND(E13*D13,2) -> 0 | L13: =ROUND(G13*D13,2) -> 0 | M13: =ROUND(H13*D13,2) -> 0 | N13: =ROUND(I13*D13,2) -> 0 | O13: =SUM(L13:N13) -> 0
A14: =A13+1 -> 6 | B14: Vara-sulfāta Salīdzināšanas elektrods (MSE), stacionārs; | C14: gb. | D14: 12 | E14: 0 | F14: 0 | G14: =ROUND(E14*F14,2) -> 0 | H14: 0 | I14: 0 | J14: =SUM(G14:I14) -> 0 | K14: =ROUND(E14*D14,2) -> 0 | L14: =ROUND(G14*D14,2) -> 0 | M14: =ROUND(H14*D14,2) -> 0 | N14: =ROUND(I14*D14,2) -> 0 | O14: =SUM(L14:N14) -> 0
B15: Elektroķīmiskā potenciāla devējs komplektā ar MSE; | C15: gb. | D15: 12 | E15: 0 | F15: 0 | G15: =ROUND(E15*F15,2) -> 0 | H15: 0 | I15: 0 | J15: =SUM(G15:I15) -> 0 | K15: =ROUND(E15*D15,2) -> 0 | L15: =ROUND(G15*D15,2) -> 0 | M15: =ROUND(H15*D15,2) -> 0 | N15: =ROUND(I15*D15,2) -> 0 | O15: =SUM(L15:N15) -> 0
A16: 7 | B16: Spaiļu strāvas klemmas M10x25, N=4gab. | C16: kpl. | D16: 24 | E16: 0 | F16: 0 | G16: =ROUND(E16*F16,2) -> 0 | H16: 0 | I16: 0 | J16: =SUM(G16:I16) -> 0 | K16: =ROUND(E16*D16,2) -> 0 | L16: =ROUND(G16*D16,2) -> 0 | M16: =ROUND(H16*D16,2) -> 0 | N16: =ROUND(I16*D16,2) -> 0 | O16: =SUM(L16:N16) -> 0
A17: =A16+1 -> 8 | B17: Spaiļu potenciālu mērīšanas klemmas M10x25, N=4gab. | C17: kpl. | D17: 32 | E17: 0 | F17: 0 | G17: =ROUND(E17*F17,2) -> 0 | H17: 0 | I17: 0 | J17: =SUM(G17:I17) -> 0 | K17: =ROUND(E17*D17,2) -> 0 | L17: =ROUND(G17*D17,2) -> 0 | M17: =ROUND(H17*D17,2) -> 0 | N17: =ROUND(I17*D17,2) -> 0 | O17: =SUM(L17:N17) -> 0
A18: =A17+1 -> 9 | B18: Kabeļu uzgalis SAFETRACK, 6,0mm2, Corrpro, „PINBRAZING” | C18: gb. | D18: 80 | E18: 0 | F18: 0 | G18: =ROUND(E18*F18,2) -> 0 | H18: 0 | I18: 0 | J18: =SUM(G18:I18) -> 0 | K18: =ROUND(E18*D18,2) -> 0 | L18: =ROUND(G18*D18,2) -> 0 | M18: =ROUND(H18*D18,2) -> 0 | N18: =ROUND(I18*D18,2) -> 0 | O18: =SUM(L18:N18) -> 0
A19: =A18+1 -> 10 | B19: Kabeļu uzgalis SAFETRACK, 16,0mm2, Corrpro, „PINBRAZING” | C19: gb. | D19: 48 | E19: 0 | F19: 0 | G19: =ROUND(E19*F19,2) -> 0 | H19: 0 | I19: 0 | J19: =SUM(G19:I19) -> 0 | K19: =ROUND(E19*D19,2) -> 0 | L19: =ROUND(G19*D19,2) -> 0 | M19: =ROUND(H19*D19,2) -> 0 | N19: =ROUND(I19*D19,2) -> 0 | O19: =SUM(L19:N19) -> 0
A20: =A19+1 -> 11 | B20: Metināšanas patrona, ∅8mm, Corrpro-Num.10381, „PINBRAZING” | C20: gb. | D20: 128 | E20: 0 | F20: 0 | G20: =ROUND(E20*F20,2) -> 0 | H20: 0 | I20: 0 | J20: =SUM(G20:I20) -> 0 | K20: =ROUND(E20*D20,2) -> 0 | L20: =ROUND(G20*D20,2) -> 0 | M20: =ROUND(H20*D20,2) -> 0 | N20: =ROUND(I20*D20,2) -> 0 | O20: =SUM(L20:N20) -> 0
B21: Keramiskais ieliktnis, ∅8mm, Corrpro-Num.2003, „PINBRAZING” | C21: gb. | D21: 128 | E21: 0 | F21: 0 | G21: =ROUND(E21*F21,2) -> 0 | H21: 0 | I21: 0 | J21: =SUM(G21:I21) -> 0 | K21: =ROUND(E21*D21,2) -> 0 | L21: =ROUND(G21*D21,2) -> 0 | M21: =ROUND(H21*D21,2) -> 0 | N21: =ROUND(I21*D21,2) -> 0 | O21: =SUM(L21:N21) -> 0
A22: 8 | B22: Pārejas adaptera piedurkne 6/16 mm2; Corrpro-Num.6702, „PINBRAZING” | C22: gb. | D22: 48 | E22: 0 | F22: 0 | G22: =ROUND(E22*F22,2) -> 0 | H22: 0 | I22: 0 | J22: =SUM(G22:I22) -> 0 | K22: =ROUND(E22*D22,2) -> 0 | L22: =ROUND(G22*D22,2) -> 0 | M22: =ROUND(H22*D22,2) -> 0 | N22: =ROUND(I22*D22,2) -> 0 | O22: =SUM(L22:N22) -> 0
A23: =A22+1 -> 9 | B23: Cauruļu izolācijas atjaunošanas komplekts dīvdzīslu kabeļu pievienošanas vietam; Raychem-PERP 425x150mm komplekts; | C23: gb. | D23: 42 | E23: 0 | F23: 0 | G23: =ROUND(E23*F23,2) -> 0 | H23: 0 | I23: 0 | J23: =SUM(G23:I23) -> 0 | K23: =ROUND(E23*D23,2) -> 0 | L23: =ROUND(G23*D23,2) -> 0 | M23: =ROUND(H23*D23,2) -> 0 | N23: =ROUND(I23*D23,2) -> 0 | O23: =SUM(L23:N23) -> 0
A24: =A23+1 -> 10 | B24: PE caurule ar ārējo ∅65, sarkana krāsa EVOCAB FLEX, kods 122050065RD, "EVOPIPES" | C24: m | D24: 1000 | E24: 0 | F24: 0 | G24: =ROUND(E24*F24,2) -> 0 | H24: 0 | I24: 0 | J24: =SUM(G24:I24) -> 0 | K24: =ROUND(E24*D24,2) -> 0 | L24: =ROUND(G24*D24,2) -> 0 | M24: =ROUND(H24*D24,2) -> 0 | N24: =ROUND(I24*D24,2) -> 0 | O24: =SUM(L24:N24) -> 0
A25: =A24+1 -> 11 | B25: Kabeļkurpe Cu 6.0mm2/M10 | C25: gb. | D25: 80 | E25: 0 | F25: 0 | G25: =ROUND(E25*F25,2) -> 0 | H25: 0 | I25: 0 | J25: =SUM(G25:I25) -> 0 | K25: =ROUND(E25*D25,2) -> 0 | L25: =ROUND(G25*D25,2) -> 0 | M25: =ROUND(H25*D25,2) -> 0 | N25: =ROUND(I25*D25,2) -> 0 | O25: =SUM(L25:N25) -> 0
A26: =A25+1 -> 12 | B26: Kabeļkurpe Cu 16mm2/M10 | C26: gb. | D26: 48 | E26: 0 | F26: 0 | G26: =ROUND(E26*F26,2) -> 0 | H26: 0 | I26: 0 | J26: =SUM(G26:I26) -> 0 | K26: =ROUND(E26*D26,2) -> 0 | L26: =ROUND(G26*D26,2) -> 0 | M26: =ROUND(H26*D26,2) -> 0 | N26: =ROUND(I26*D26,2) -> 0 | O26: =SUM(L26:N26) -> 0
B27: Termonosēdināmā caurule, SR2 22-6/1m, L=1m, (6...22mm), vidējsienu, bez līmes, "Cellpack" | C27: gb. | D27: 120 | E27: 0 | F27: 0 | G27: =ROUND(E27*F27,2) -> 0 | H27: 0 | I27: 0 | J27: =SUM(G27:I27) -> 0 | K27: =ROUND(E27*D27,2) -> 0 | L27: =ROUND(G27*D27,2) -> 0 | M27: =ROUND(H27*D27,2) -> 0 | N27: =ROUND(I27*D27,2) -> 0 | O27: =SUM(L27:N27) -> 0
A28: 9 | B28: Vispārēja pielietojuma, liesmu slāpējošas, poliolefīna caurules; Caurule ir izturīga, elastīga, vispārēja pielietojuma poliolefīna caurule; TE CONNECTIVITY CGPT; Maksimālais atgūtais D ir 12,7/6,4 mm priekš 6-25mm2 kabeļiem / L=1m; | C28: gb. | D28: 230 | E28: 0 | F28: 0 | G28: =ROUND(E28*F28,2) -> 0 | H28: 0 | I28: 0 | J28: =SUM(G28:I28) -> 0 | K28: =ROUND(E28*D28,2) -> 0 | L28: =ROUND(G28*D28,2) -> 0 | M28: =ROUND(H28*D28,2) -> 0 | N28: =ROUND(I28*D28,2) -> 0 | O28: =SUM(L28:N28) -> 0
A29: =A28+1 -> 10 | B29: PROTEGOL UR pildījums 32-55/45L Nesatur šķīdinātājus, ar špakteļlāpstiņu uzklāts divkomponentu poliuretāna pārklājuma maisījums, kas paredzēts cauruļu defektu vietu un mehānisku bojājumu labošanai; | C29: gb. | D29: 16 | E29: 0 | F29: 0 | G29: =ROUND(E29*F29,2) -> 0 | H29: 0 | I29: 0 | J29: =SUM(G29:I29) -> 0 | K29: =ROUND(E29*D29,2) -> 0 | L29: =ROUND(G29*D29,2) -> 0 | M29: =ROUND(H29*D29,2) -> 0 | N29: =ROUND(I29*D29,2) -> 0 | O29: =SUM(L29:N29) -> 0
A30: =A29+1 -> 11 | B30: Karstumsarūkoša uzmava neapbruņotiem polimēru kabeļiem līdz 1000V; SMH3 1.5-16; Cellpack Num. 151500; | C30: gb. | D30: 100 | E30: 0 | F30: 0 | G30: =ROUND(E30*F30,2) -> 0 | H30: 0 | I30: 0 | J30: =SUM(G30:I30) -> 0 | K30: =ROUND(E30*D30,2) -> 0 | L30: =ROUND(G30*D30,2) -> 0 | M30: =ROUND(H30*D30,2) -> 0 | N30: =ROUND(I30*D30,2) -> 0 | O30: =SUM(L30:N30) -> 0
A31: =A30+1 -> 12 | B31: Signāllente "Uzmanību! Kabelis!", platums 120mm, rullis 250m, kods 12311120250YL, "EVOPIPES" | C31: rullis | D31: 6 | E31: 0 | F31: 0 | G31: =ROUND(E31*F31,2) -> 0 | H31: 0 | I31: 0 | J31: =SUM(G31:I31) -> 0 | K31: =ROUND(E31*D31,2) -> 0 | L31: =ROUND(G31*D31,2) -> 0 | M31: =ROUND(H31*D31,2) -> 0 | N31: =ROUND(I31*D31,2) -> 0 | O31: =SUM(L31:N31) -> 0
A32: =A31+1 -> 13 | B32: Spēka kabelis 0.6/1kV ar vara dzīslām NYY-J-2x6.0mm2 | C32: m | D32: 600 | E32: 0 | F32: 0 | G32: =ROUND(E32*F32,2) -> 0 | H32: 0 | I32: 0 | J32: =SUM(G32:I32) -> 0 | K32: =ROUND(E32*D32,2) -> 0 | L32: =ROUND(G32*D32,2) -> 0 | M32: =ROUND(H32*D32,2) -> 0 | N32: =ROUND(I32*D32,2) -> 0 | O32: =SUM(L32:N32) -> 0
B33: Spēka kabelis 0.6/1kV ar vara dzīslām NYY-J-1x16.0mm2 | C33: m | D33: 460 | E33: 0 | F33: 0 | G33: =ROUND(E33*F33,2) -> 0 | H33: 0 | I33: 0 | J33: =SUM(G33:I33) -> 0 | K33: =ROUND(E33*D33,2) -> 0 | L33: =ROUND(G33*D33,2) -> 0 | M33: =ROUND(H33*D33,2) -> 0 | N33: =ROUND(I33*D33,2) -> 0 | O33: =SUM(L33:N33) -> 0
A34: 10 | B34: Koksa drupatas maisījums. Aktivatora īpatnējā tilpuma pretestība nav lielāka par 0,06 Ohm*m; Koka minerālu aktivatora blīvums – 800,0 kg/m3; Iepakots 40kg maisījumā; | C34: m3 | D34: 3 | E34: 0 | F34: 0 | G34: =ROUND(E34*F34,2) -> 0 | H34: 0 | I34: 0 | J34: =SUM(G34:I34) -> 0 | K34: =ROUND(E34*D34,2) -> 0 | L34: =ROUND(G34*D34,2) -> 0 | M34: =ROUND(H34*D34,2) -> 0 | N34: =ROUND(I34*D34,2) -> 0 | O34: =SUM(L34:N34) -> 0
A35: =A34+1 -> 11 | B35: Kabeļa markējuma bukses ar D līdz 16mm; Weidmuller; | C35: gb. | D35: 144 | E35: 0 | F35: 0 | G35: =ROUND(E35*F35,2) -> 0 | H35: 0 | I35: 0 | J35: =SUM(G35:I35) -> 0 | K35: =ROUND(E35*D35,2) -> 0 | L35: =ROUND(G35*D35,2) -> 0 | M35: =ROUND(H35*D35,2) -> 0 | N35: =ROUND(I35*D35,2) -> 0 | O35: =SUM(L35:N35) -> 0
A36: =A35+1 -> 12 | B36: ZS kabeļlīnijas pievienošana (atvienošana) | C36: piev | D36: 298 | E36: 0 | F36: 0 | G36: =ROUND(E36*F36,2) -> 0 | H36: 0 | I36: 0 | J36: =SUM(G36:I36) -> 0 | K36: =ROUND(E36*D36,2) -> 0 | L36: =ROUND(G36*D36,2) -> 0 | M36: =ROUND(H36*D36,2) -> 0 | N36: =ROUND(I36*D36,2) -> 0 | O36: =SUM(L36:N36) -> 0
B37: Citi darbi
A38: =A36+1 -> 13 | B38: KA dīvdzīslu PVC kabeļiem kabeļu izoļacijas pretectības mērījumi | C38: kpl. | D38: 144 | E38: 0 | F38: 0 | G38: =ROUND(E38*F38,2) -> 0 | H38: 0 | I38: 0 | J38: =SUM(G38:I38) -> 0 | K38: =ROUND(E38*D38,2) -> 0 | L38: =ROUND(G38*D38,2) -> 0 | M38: =ROUND(H38*D38,2) -> 0 | N38: =ROUND(I38*D38,2) -> 0 | O38: =SUM(L38:N38) -> 0
B39: Spaiļu potenciālo klemmas komplektu uzstādīšana KMP korpusā ar būltskrūvju pievienošanu; spaiļu izoļācijas līdz 1000V pārbaudes mērījumi; | C39: gb. | D39: 56 | E39: 0 | F39: 0 | G39: =ROUND(E39*F39,2) -> 0 | H39: 0 | I39: 0 | J39: =SUM(G39:I39) -> 0 | K39: =ROUND(E39*D39,2) -> 0 | L39: =ROUND(G39*D39,2) -> 0 | M39: =ROUND(H39*D39,2) -> 0 | N39: =ROUND(I39*D39,2) -> 0 | O39: =SUM(L39:N39) -> 0
A40: =A38+1 -> 14 | B40: Gāzesvadu caurulē Katodu aizsardzības polarizācijas potenciālu kontrolmērījums, viens mērīšanas pūnkts; | C40: gb. | D40: 48 | E40: 0 | F40: 0 | G40: =ROUND(E40*F40,2) -> 0 | H40: 0 | I40: 0 | J40: =SUM(G40:I40) -> 0 | K40: =ROUND(E40*D40,2) -> 0 | L40: =ROUND(G40*D40,2) -> 0 | M40: =ROUND(H40*D40,2) -> 0 | N40: =ROUND(I40*D40,2) -> 0 | O40: =SUM(L40:N40) -> 0
B41: Gāzesvadu caurulē Katodu aizsardzības futrāļu strāvas esamības kontrolmērījums, viens mērīšanas pūnkts; | C41: gb. | D41: 48 | E41: 0 | F41: 0 | G41: =ROUND(E41*F41,2) -> 0 | H41: 0 | I41: 0 | J41: =SUM(G41:I41) -> 0 | K41: =ROUND(E41*D41,2) -> 0 | L41: =ROUND(G41*D41,2) -> 0 | M41: =ROUND(H41*D41,2) -> 0 | N41: =ROUND(I41*D41,2) -> 0 | O41: =SUM(L41:N41) -> 0
...

Sheet DOP, 1.daļa
A1: Lokālā tāme Nr.5
A2: Darbu organizēšanas projekts.
A3: Būves nosaukums: Inčukalna PGK divu šleifu pāreju pārbūves zem autoceļa A3 Inčukalns--Valmiera--Igaunijas robeža
A4: Objekta nosaukums: Inčukalna PGK divu šleifu pāreju pārbūves zem autoceļa A3 Inčukalns--Valmiera--Igaunijas robeža
L6: Tāmes izmaksas | N6: EUR | O6: =O78 -> 0
A7: N.p.k. | B7: Darba nosaukums | C7: Mērvienība | D7: Daudzums | E7: Vienības izmaksas, EUR | K7: Kopā uz visu apjomu, EUR
E8: laika norma (c/h) | F8: darba samaksas likme* (euro/h) | G8: darba alga | H8: būvizstrādājumi | I8: mehānismi | J8: kopā | K8: darbietilpība (c/h) | L8: darba alga | M8: būvizstrādājumi | N8: mehānismi | O8: summa
A9: 1. | B9: Celtnieku pagaidu laukums. Pagaidu celtnieku laukuma nožogojuma, moduļu un ietaišu pievešana, uzstādīšana un demontāža
A10: 1 | B10: Sadzīves modulis 2,6 x 6 m (noma uz 12men)* | C10: gb. | D10: 0 | E10: 0 | F10: 0 | G10: =ROUND(E10*F10,2) -> 0 | H10: 0 | I10: 0 | J10: =SUM(G10:I10) -> 0 | K10: =ROUND(E10*D10,2) -> 0 | L10: =ROUND(G10*D10,2) -> 0 | M10: =ROUND(H10*D10,2) -> 0 | N10: =ROUND(I10*D10,2) -> 0 | O10: =SUM(L10:N10) -> 0
A11: 2 | B11: Materiālu un inventāra noliktava konteinera tipa (noma uz 12men)* | C11: gb. | D11: 0 | E11: 0 | F11: 0 | G11: =ROUND(E11*F11,2) -> 0 | H11: 0 | I11: 0 | J11: =SUM(G11:I11) -> 0 | K11: =ROUND(E11*D11,2) -> 0 | L11: =ROUND(G11*D11,2) -> 0 | M11: =ROUND(H11*D11,2) -> 0 | N11: =ROUND(I11*D11,2) -> 0 | O11: =SUM(L11:N11) -> 0
A12: 3 | B12: Biotualete (noma uz 12 men)* | C12: gb. | D12: 0 | E12: 0 | F12: 0 | G12: =ROUND(E12*F12,2) -> 0 | H12: 0 | I12: 0 | J12: =SUM(G12:I12) -> 0 | K12: =ROUND(E12*D12,2) -> 0 | L12: =ROUND(G12*D12,2) -> 0 | M12: =ROUND(H12*D12,2) -> 0 | N12: =ROUND(I12*D12,2) -> 0 | O12: =SUM(L12:N12) -> 0
A13: 4 | B13: Sadzīves atkritumu konteiners* | C13: gb. | D13: 0 | E13: 0 | F13: 0 | G13: =ROUND(E13*F13,2) -> 0 | H13: 0 | I13: 0 | J13: =SUM(G13:I13) -> 0 | K13: =ROUND(E13*D13,2) -> 0 | L13: =ROUND(G13*D13,2) -> 0 | M13: =ROUND(H13*D13,2) -> 0 | N13: =ROUND(I13*D13,2) -> 0 | O13: =SUM(L13:N13) -> 0
A14: 5 | B14: Konteiners būvgružu izvešanai V = 5 m3 | C14: gb. | D14: 2 | E14: 0 | F14: 0 | G14: =ROUND(E14*F14,2) -> 0 | H14: 0 | I14: 0 | J14: =SUM(G14:I14) -> 0 | K14: =ROUND(E14*D14,2) -> 0 | L14: =ROUND(G14*D14,2) -> 0 | M14: =ROUND(H14*D14,2) -> 0 | N14: =ROUND(I14*D14,2) -> 0 | O14: =SUM(L14:N14) -> 0
A15: 5 | B15: Konteiners būvgružu izvešanai V = 4 m3 | C15: gb. | D15: 1 | E15: 0 | F15: 0 | G15: =ROUND(E15*F15,2) -> 0 | H15: 0 | I15: 0 | J15: =SUM(G15:I15) -> 0 | K15: =ROUND(E15*D15,2) -> 0 | L15: =ROUND(G15*D15,2) -> 0 | M15: =ROUND(H15*D15,2) -> 0 | N15: =ROUND(I15*D15,2) -> 0 | O15: =SUM(L15:N15) -> 0
A16: 6 | B16: Informācijas plakāts | C16: gb. | D16: 1 | E16: 0 | F16: 0 | G16: =ROUND(E16*F16,2) -> 0 | H16: 0 | I16: 0 | J16: =SUM(G16:I16) -> 0 | K16: =ROUND(E16*D16,2) -> 0 | L16: =ROUND(G16*D16,2) -> 0 | M16: =ROUND(H16*D16,2) -> 0 | N16: =ROUND(I16*D16,2) -> 0 | O16: =SUM(L16:N16) -> 0
A17: 7 | B17: Pagaidu nožogojums, H=2 m* | C17: m | D17: 0 | E17: 0 | F17: 0 | G17: =ROUND(E17*F17,2) -> 0 | H17: 0 | I17: 0 | J17: =SUM(G17:I17) -> 0 | K17: =ROUND(E17*D17,2) -> 0 | L17: =ROUND(G17*D17,2) -> 0 | M17: =ROUND(H17*D17,2) -> 0 | N17: =ROUND(I17*D17,2) -> 0 | O17: =SUM(L17:N17) -> 0
A18: 2. | B18: Pagaidu elektroapgāde
A19: 2.1. | B19: Dizeļģenerators, jauda 12 kW (Inčukalna PGK nodrošinās pieslēgumu) | C19: gb. | D19: 1 | E19: Pasūtītāja piegāde | K19: Pasūtītāja piegāde
A20: 2.2. | B20: Dizeļģenerators, jauda 32 kW (Inčukalna PGK nodrošinās pieslēgumu) | C20: gb. | D20: 2 | E20: Pasūtītāja piegāde | K20: Pasūtītāja piegāde
A21: 2. | B21: Koku ciršana ar celmu laušanu
A22: 2.1. | B22: Atsevišķi stāvoši koki (bērzi): | E22: Pasūtītāja piegāde | K22: Pasūtītāja piegāde
B23: -stumbra diametrs 35 cm | C23: gb. | D23: 1 | E23: Pasūtītāja piegāde | K23: Pasūtītāja piegāde
B24: -stumbra diametrs 40 cm | C24: gb. | D24: 1 | E24: Pasūtītāja piegāde | K24: Pasūtītāja piegāde
A25: 2.2. | B25: Lapkoku mežs | C25: m2 | D25: 103 | E25: Pasūtītāja piegāde | K25: Pasūtītāja piegāde
B26: Celtnieku pagaidu laukuma ierīkošana
A27: 10 | B27: Grunts izlīdzināšana, slāņu atdaloša ģeotekstila ieklāšana, šķembu kārtas (0,20 m) izlīdzināšana un sablīvēšana | C27: m2 | D27: 168 | E27: 0 | F27: 0 | G27: =ROUND(E27*F27,2) -> 0 | H27: 0 | I27: 0 | J27: =SUM(G27:I27) -> 0 | K27: =ROUND(E27*D27,2) -> 0 | L27: =ROUND(G27*D27,2) -> 0 | M27: =ROUND(H27*D27,2) -> 0 | N27: =ROUND(I27*D27,2) -> 0 | O27: =SUM(L27:N27) -> 0
B28: -Atdaloša kārta. Neaustais ģeotekstils Thrace S10 NW | C28: m2 | D28: 190 | E28: 0 | F28: 0 | G28: =ROUND(E28*F28,2) -> 0 | H28: 0 | I28: 0 | J28: =SUM(G28:I28) -> 0 | K28: =ROUND(E28*D28,2) -> 0 | L28: =ROUND(G28*D28,2) -> 0 | M28: =ROUND(H28*D28,2) -> 0 | N28: =ROUND(I28*D28,2) -> 0 | O28: =SUM(L28:N28) -> 0
B29: Šķembas fr.20/40, δ=0,20 m | C29: m3 | D29: 34 | E29: 0 | F29: 0 | G29: =ROUND(E29*F29,2) -> 0 | H29: 0 | I29: 0 | J29: =SUM(G29:I29) -> 0 | K29: =ROUND(E29*D29,2) -> 0 | L29: =ROUND(G29*D29,2) -> 0 | M29: =ROUND(H29*D29,2) -> 0 | N29: =ROUND(I29*D29,2) -> 0 | O29: =SUM(L29:N29) -> 0
A30: 3.2. | B30: Laukums apvalkcauruļu un gāzesvadu iepriekšējai montāžai
A31: 3.2.2. | B31: Grunts izlīdzināšana, slāņu atdaloša ģeotekstila ieklāšana, šķembu kārtas (0,20 m) izlīdzināšana un sablīvēšana* | C31: m2 | D31: 0 | E31: 0 | F31: 0 | G31: =ROUND(E31*F31,2) -> 0 | H31: 0 | I31: 0 | J31: =SUM(G31:I31) -> 0 | K31: =ROUND(E31*D31,2) -> 0 | L31: =ROUND(G31*D31,2) -> 0 | M31: =ROUND(H31*D31,2) -> 0 | N31: =ROUND(I31*D31,2) -> 0 | O31: =SUM(L31:N31) -> 0
B32: -Atdaloša kārta. Neaustais ģeotekstils Thrace S10 NW | C32: m2 | D32: 0 | E32: 0 | F32: 0 | G32: =ROUND(E32*F32,2) -> 0 | H32: 0 | I32: 0 | J32: =SUM(G32:I32) -> 0 | K32: =ROUND(E32*D32,2) -> 0 | L32: =ROUND(G32*D32,2) -> 0 | M32: =ROUND(H32*D32,2) -> 0 | N32: =ROUND(I32*D32,2) -> 0 | O32: =SUM(L32:N32) -> 0
B33: -Šķembas fr.20/40, δ=0,20 m | C33: m3 | D33: 0 | E33: 0 | F33: 0 | G33: =ROUND(E33*F33,2) -> 0 | H33: 0 | I33: 0 | J33: =SUM(G33:I33) -> 0 | K33: =ROUND(E33*D33,2) -> 0 | L33: =ROUND(G33*D33,2) -> 0 | M33: =ROUND(H33*D33,2) -> 0 | N33: =ROUND(I33*D33,2) -> 0 | O33: =SUM(L33:N33) -> 0
A34: 4. | B34: Esošo inženiertīklu pagaidu aizsardzība
A35: 11 | B35: Smilts sagataves (0,15 m) izlīdzināšana | C35: m2 | D35: 201 | E35: 0 | F35: 0 | G35: =ROUND(E35*F35,2) -> 0 | I35: 0 | J35: =SUM(G35:I35) -> 0 | K35: =ROUND(E35*D35,2) -> 0 | L35: =ROUND(G35*D35,2) -> 0 | N35: =ROUND(I35*D35,2) -> 0 | O35: =SUM(L35:N35) -> 0
B36: -Smilts sagatave (0,20 m) | C36: m3 | D36: 40 | E36: 0 | F36: 0 | G36: =ROUND(E36*F36,2) -> 0 | H36: 0 | I36: 0 | J36: =SUM(G36:I36) -> 0 | K36: =ROUND(E36*D36,2) -> 0 | L36: =ROUND(G36*D36,2) -> 0 | M36: =ROUND(H36*D36,2) -> 0 | N36: =ROUND(I36*D36,2) -> 0 | O36: =SUM(L36:N36) -> 0
B37: -Dzelzsbetona ceļa plātnes (2x6x0,14 m) | C37: gb. | D37: 12 | E37: 0 | F37: 0 | G37: =ROUND(E37*F37,2) -> 0 | H37: 0 | I37: 0 | J37: =SUM(G37:I37) -> 0 | K37: =ROUND(E37*D37,2) -> 0 | L37: =ROUND(G37*D37,2) -> 0 | M37: =ROUND(H37*D37,2) -> 0 | N37: =ROUND(I37*D37,2) -> 0 | O37: =SUM(L37:N37) -> 0
B38: -Dzelzsbetona ceļa plātnes (1,75x3x0,17 m) | C38: gb. | D38: 9 | E38: 0 | F38: 0 | G38: =ROUND(E38*F38,2) -> 0 | H38: 0 | I38: 0 | J38: =SUM(G38:I38) -> 0 | K38: =ROUND(E38*D38,2) -> 0 | L38: =ROUND(G38*D38,2) -> 0 | M38: =ROUND(H38*D38,2) -> 0 | N38: =ROUND(I38*D38,2) -> 0 | O38: =SUM(L38:N38) -> 0
A39: 4.2. | B39: Anodzemējuma kontūrā pagaidu aizsardzība, apvalkcaurules pārvietošanas laikā
A40: 4.2.2. | B40: Atdalošas kārtas ieklāšana | C40: m2 | D40: 95 | E40: 0 | F40: 0 | G40: =ROUND(E40*F40,2) -> 0 | H40: 0 | I40: 0 | J40: =SUM(G40:I40) -> 0 | K40: =ROUND(E40*D40,2) -> 0 | L40: =ROUND(G40*D40,2) -> 0 | M40: =ROUND(H40*D40,2) -> 0 | N40: =ROUND(I40*D40,2) -> 0 | O40: =SUM(L40:N40) -> 0
B41: -Atdaloša kārta. Neaustais ģeotekstils Thrace S10 NW | C41: m2 | D41: 114 | E41: 0 | F41: 0 | G41: =ROUND(E41*F41,2) -> 0 | H41: 0 | I41: 0 | J41: =SUM(G41:I41) -> 0 | K41: =ROUND(E41*D41,2) -> 0 | L41: =ROUND(G41*D41,2) -> 0 | M41: =ROUND(H41*D41,2) -> 0 | N41: =ROUND(I41*D41,2) -> 0 | O41: =SUM(L41:N41) -> 0
...
