Workbook
Name OLE_LINK4: 'GAT, 1.daļa'!#REF!
Name OLE_LINK9: 'GAT, 1.daļa'!#REF!

Sheet Būvniecības koptāme, 1.daļa
A2: Būvniecības koptāme
A4: Būves nosaukums: Inčukalna PGK divu šleifu pāreju pārbūves zem autoceļa A3 Inčukalns--Valmiera--Igaunijas robeža
A5: Objekta adrese: “Inčukalna pazemes gāzes krātuve”, Krimuldas pag., Siguldas nov.
A8: Nr. p. k. | C8: Objekta nosaukums | E8: Objekta izmaksas (euro)
A9: 1. | C9: Inčukalna PGK divu šleifu pāreju pārbūves zem autoceļa A3 Inčukalns--Valmiera--Igaunijas robeža | E9: ='kopsavilkums, 1.daļa'!D18 -> 0
A12: Kopā | E12: =SUM(E9:E11) -> 0
A14: PVN (21%) | E14: =ROUND((E12)*0.21,2) -> 0

Sheet kopsavilkums, 1.daļa
A1: Kopsavilkuma aprēķins
A3: Būves nosaukums: Inčukalna PGK divu šleifu pāreju pārbūves zem autoceļa A3 Inčukalns--Valmiera--Igaunijas robeža
A4: Objekta nosaukums: Inčukalna PGK divu šleifu pāreju pārbūves zem autoceļa A3 Inčukalns--Valmiera--Igaunijas robeža
A5: Objekta adrese: “Inčukalna pazemes gāzes krātuve”, Krimuldas pag., Siguldas nov.
A7: Nr.p.k | B7: Tāmes Nr. | C7: Būvdarbu veids vai konstruktīvā elementa nosaukums | D7: Tāmes izmaksas | E7: Tai skaitā | H7: Darbietilpība (c/h)
E8: darba alga | F8: būvizstrādājumi | G8: mehānismi
A9: 1 | B9: Tāme Nr.1 | C9: Būvprojekta ģenerālplans | D9: ='GP, 1.daļa'!O13 -> 0 | E9: ='GP, 1.daļa'!L13 -> 0 | F9: ='GP, 1.daļa'!M13 -> 0 | G9: ='GP, 1.daļa'!N13 -> 0 | H9: ='GP, 1.daļa'!K13 -> 0
A10: 2 | B10: Tāme Nr.2 | C10: Būvkonstrukcijas. | D10: ='BK, 1.daļa'!O25 -> 0 | E10: ='BK, 1.daļa'!L25 -> 0 | F10: ='BK, 1.daļa'!M25 -> 0 | G10: ='BK, 1.daļa'!N25 -> 0 | H10: ='BK, 1.daļa'!K25 -> 0
A11: 3 | B11: Tāme Nr.3 | C11: Gāzesapgāde (ārējā) | D11: ='GAT, 1.daļa'!O103 -> 0 | E11: ='GAT, 1.daļa'!L103 -> 0 | F11: ='GAT, 1.daļa'!M103 -> 0 | G11: ='GAT, 1.daļa'!N103 -> 0 | H11: ='GAT, 1.daļa'!K103 -> 0
A12: 4 | B12: Tāme Nr.4 | C12: Elektroķimiskā aizsardzība. | D12: ='ELKA, 1.daļa'!O46 -> 0 | E12: ='ELKA, 1.daļa'!L46 -> 0 | F12: ='ELKA, 1.daļa'!M46 -> 0 | G12: ='ELKA, 1.daļa'!N46 -> 0 | H12: ='ELKA, 1.daļa'!K46 -> 0
A13: 5 | B13: Tāme Nr.5 | C13: Darbu organizēšanas projekts | D13: ='DOP, 1.daļa'!O78 -> 0 | E13: ='DOP, 1.daļa'!L78 -> 0 | F13: ='DOP, 1.daļa'!M78 -> 0 | G13: ='DOP, 1.daļa'!N78 -> 0 | H13: ='DOP, 1.daļa'!K78 -> 0
C14: Kopā: | D14: =SUM(D9:D13) -> 0 | E14: =SUM(E9:E13) -> 0 | F14: =SUM(F9:F13) -> 0 | G14: =SUM(G9:G13) -> 0 | H14: =SUM(H11:H13) -> 0
C15: Virsizdevumi (x*%) | D15: =D14*0.12 -> 0
C16: t.sk. darba aizardzība
C17: Peļņa 8%) | D17: =D14*0.08 -> 0
C18: Pavisam kopā | D18: =SUM(D14:D17) -> 0
B20: x* | C20: Pretendents izvērtē paredzēto virsizdevumy koeficientu

Sheet GP, 1.daļa
A1: Lokālā tāme Nr.1
A2: Būvprojekta ģenerālplans
A3: Būves nosaukums: Inčukalna PGK divu šleifu pāreju pārbūves zem autoceļa A3 Inčukalns--Valmiera--Igaunijas robeža
A4: Objekta nosaukums: Inčukalna PGK divu šleifu pāreju pārbūves zem autoceļa A3 Inčukalns--Valmiera--Igaunijas robeža
L6: Tāmes izmaksas | N6: EUR | O6: =O13 -> 0
A7: N.p.k. | B7: Darba nosaukums | C7: Mērvienība | D7: Daudzums | E7: Vienības izmaksas, EUR | K7: Kopā uz visu apjomu, EUR
E8: laika norma (c/h) | F8: darba samaksas likme* (euro/h) | G8: darba alga | H8: būvizstrādājumi | I8: mehānismi | J8: kopā | K8: darbietilpība (c/h) | L8: darba alga | M8: būvizstrādājumi | N8: mehānismi | O8: summa
A9: 1 | B9: Virs gāzesvada no minerālās grunts uzbēruma ierīkošana, | C9: m3 | D9: Pasūtītāja piegāde | K9: Pasūtītāja piegāde
A10: 2 | B10: Virs gāzesvada uzbēruma planēšana un nostiprināšana, izsējot sēklu maisījumu pa 0.10 m auglīgās augsnes slāņi, | C10: m2
A11: 3 | B11: Niepieciešamā auglīgā augsne, | C11: m3
A12: 4 | B12: Būvgružu izvešana | C12: m3 | D12: 8 | E12: 0 | F12: 0 | G12: =ROUND(F12*E12,2) -> 0 | H12: 0 | I12: 0 | J12: =SUM(G12:I12) -> 0 | K12: =E12*D12 -> 0 | L12: =ROUND(G12*D12,2) -> 0 | M12: =ROUND(H12*D12,2) -> 0 | N12: =ROUND(I12*D12,2) -> 0 | O12: =SUM(L12:N12) -> 0
B13: Tiešās izmaksas kopā, t. sk. darba devēja sociālais nodoklis 23,59% : | K13: =SUM(K9:K12) -> 0 | L13: =SUM(L9:L12) -> 0 | M13: =SUM(M9:M12) -> 0 | N13: =SUM(N9:N12) -> 0 | O13: =SUM(O9:O12) -> 0
A14: 1. Būvuzņēmējam jāievērtē darbu apjomu sarakstā minēto darbu veikšanai nepieciešamie materiāli un papildus darbi, kas nav minēti šajā sarakstā, bet bez kuriem nebūtu iespējama būvdarbu tehnoloģiski pareiza un spēkā esošiem normatīviem atbilstoša veikšana pilnā apmērā.
A15: 2. Darbu apjomus skatīt kopā ar rasējumiem. Gadījumā, ja darbu apjomi nesakrīt ar rasējumiem, par pareiziem jāuzskata rasējumos esošie darbu apjomi.
A16: 4. Materiālu cenās papildus neatgriezeniskajam materiālu patēriņam, Būvdarbu veicējam ir jāievērtē materiālu atgriezumi, pārlaidumi, to sablīvēšanās u.c. būvražošanas procesa zudumi.

Sheet BK, 1.daļa
A1: Lokālā tāme Nr.2
A2: Būvkonstrukcijas.
A3: Būves nosaukums: Inčukalna PGK divu šleifu pāreju pārbūves zem autoceļa A3 Inčukalns--Valmiera--Igaunijas robeža
A4: Objekta nosaukums: Inčukalna PGK divu šleifu pāreju pārbūves zem autoceļa A3 Inčukalns--Valmiera--Igaunijas robeža
L6: Tāmes izmaksas | N6: EUR | O6: =O25 -> 0
A7: N.p.k. | B7: Darba nosaukums | C7: Mērvienība | D7: Daudzums | E7: Vienības izmaksas, EUR | K7: Kopā uz visu apjomu, EUR
E8: laika norma (c/h) | F8: darba samaksas likme* (euro/h) | G8: darba alga | H8: būvizstrādājumi | I8: mehānismi | J8: kopā | K8: darbietilpība (c/h) | L8: darba alga | M8: būvizstrādājumi | N8: mehānismi | O8: summa
B9: Pamats SA-1
A10: 1 | B10: Būvbedres izstrādē | C10: m3 | D10: 8 | E10: Pasūtītāja piegāde | K10: Pasūtītāja piegāde
A11: 2 | B11: Grunts izvešana | C11: m3 | D11: 8
A12: 3 | B12: Monolītas dzelzbetona pamats SA-1 betonešana betons C30/37 XC4 XF3 CI02, ieskaitot betona sūknēsanu un veidņu uzstādīšanu , nojaukšanu, nomu un palīgmateriālu izmaksu | C12: m3 | D12: 1.42
A13: 4 | B13: Šķembu pamatne fr. 20/40 mm | C13: m3 | D13: 0.25
A14: 5 | B14: Polietilēna plēve (t=0,20 mm) | C14: m2 | D14: 2.3
A15: 6 | B15: Bitumena mastika (2 kārtās) | C15: m2 | D15: 12
A16: 7 | B16: Stiegrojuma ierīkošana ieskatot fiksācijas un stiprinājuma elementu iebūvi | C16: kg | D16: 127
B17: Pamats SB-1
A18: 8 | B18: Būvbedres izstrādē | C18: m3 | D18: 6
A19: 9 | B19: Grunts izvešana | C19: m3 | D19: 6
A20: 10 | B20: Monolītas dzelzbetona pamats SA-1 betonešana betons C30/37 XC4 XF3 CI02, ieskaitot betona sūknēsanu un veidņu uzstādīšanu , nojaukšanu, nomu un palīgmateriālu izmaksu | C20: m3 | D20: 1.42
A21: 11 | B21: Šķembu pamatne fr. 20/40 mm | C21: m3 | D21: 0.25
A22: 12 | B22: Polietilēna plēve (t=0,20 mm) | C22: m2 | D22: 2.3
A23: 13 | B23: Bitumena mastika (2 kārtās) | C23: m2 | D23: 12
A24: 14 | B24: Stiegrojuma ierīkošana ieskatot fiksācijas un stiprinājuma elementu iebūvi | C24: kg | D24: 127
B25: Tiešās izmaksas kopā, t. sk. darba devēja sociālais nodoklis 23,59% : | K25: =SUM(K10:K24) -> 0 | L25: =SUM(L10:L24) -> 0 | M25: =SUM(M10:M24) -> 0 | N25: =SUM(N10:N24) -> 0 | O25: =N25+M25+L25 -> 0
A27: 1. Būvuzņēmējam jāievērtē darbu apjomu sarakstā minēto darbu veikšanai nepieciešamie materiāli un papildus darbi, kas nav minēti šajā sarakstā, bet bez kuriem nebūtu iespējama būvdarbu tehnoloģiski pareiza un spēkā esošiem normatīviem atbilstoša veikšana pilnā apmērā.
A28: 2. Darbu apjomus skatīt kopā ar rasējumiem. Gadījumā, ja darbu apjomi nesakrīt ar rasējumiem, par pareiziem jāuzskata rasējumos esošie darbu apjomi.

Sheet GAT, 1.daļa
A1: Lokālā tāme Nr.3
A2: Gāzesapgāde (ārējā)
A3: Būves nosaukums: Inčukalna PGK divu šleifu pāreju pārbūves zem autoceļa A3 Inčukalns--Valmiera--Igaunijas robeža
A4: Objekta nosaukums: Inčukalna PGK divu šleifu pāreju pārbūves zem autoceļa A3 Inčukalns--Valmiera--Igaunijas robeža
L6: Tāmes izmaksas | N6: EUR | O6: =O103 -> 0
A7: N.p.k. | B7: Darba nosaukums | C7: Mērvienība | D7: Daudzums | E7: Vienības izmaksas, EUR | K7: Kopā uz visu apjomu, EUR
E8: laika norma (c/h) | F8: darba samaksas likme* (euro/h) | G8: darba alga | H8: būvizstrādājumi | I8: mehānismi | J8: kopā | K8: darbietilpība (c/h) | L8: darba alga | M8: būvizstrādājumi | N8: mehānismi | O8: summa
B9: 1.Caurules
B10: Tērauda bezšuvju caurule ar 100% nesagraujošas kontroles metodi pārbaudīta, ar rūpnieciskas pārklājumu 3PLE LVS EN ISO 21809-1 klase B3, biezums 2,7mm, izgatavotas un pārbaudītas saskaņā ar LVS EN ISO 3183:2020 PSL-2. Triecien stigrības izmēģinājuma (ar Šarpī svārsta trieciena metodi) temperatūra: Т= - 40°С. Galu apstrāde: gali slīpināti saskaņā LVS EN ISO 3183:2020, pārklāti ar pretkorozijas krāsu un noslēgti ar plastmasas gala slēgiem:
A11: 1 | B11: Ø168,3x8,8 | C11: m | D11: 1090 | H11: Pasūtītāja piegāde | M11: Pasūtītāja piegāde
A12: 1a | B12: Ø168,3x8,8 montāža | C12: m | D12: 1086.3 | E12: 0 | F12: 0 | G12: =ROUND(F12*E12,2) -> 0 | I12: 0 | J12: =SUM(G12:I12) -> 0 | K12: =ROUND(E12*D12,2) -> 0 | L12: =ROUND(G12*D12,2) -> 0 | N12: =ROUND(I12*D12,2) -> 0 | O12: =SUM(L12:N12) -> 0
B13: Tērauda bezšuvju caurule ar 100% nesagraujošas kontroles metodi pārbaudīta. Triecien stigrības izmēģinājuma (ar Šarpī svārsta trieciena metodi) temperatūra: Т= - 40°С; ar rūpnīcas pretkorozijas krāsas pārklājumu. Pretkorozijas krāsu sistēma С4.11 (pēc LVS EN ISO 12944-5:2020) Galu apstrāde: gali slīpināti saskaņā ar LVS EN ISO 3183:2020 PSL-2, pārklāti ar pretkorozijas krāsu un noslēgti ar plastmasas gala slēgiem:
A14: 2 | B14: Ø168,3x8,8 | C14: m | D14: 10 | H14: Pasūtītāja piegāde | M14: Pasūtītāja piegāde
A15: 2a | B15: Ø168,3x8,8 montāža | C15: m | D15: 6 | E15: 0 | F15: 0 | G15: =ROUND(F15*E15,2) -> 0 | I15: 0 | J15: =SUM(G15:I15) -> 0 | K15: =ROUND(E15*D15,2) -> 0 | L15: =ROUND(G15*D15,2) -> 0 | N15: =ROUND(I15*D15,2) -> 0 | O15: =SUM(L15:N15) -> 0
A16: 3 | B16: Ø60,3х5,6 | C16: m | D16: 10 | H16: Pasūtītāja piegāde | M16: Pasūtītāja piegāde
A17: 3a | B17: Ø60,3х5,6 montāža | C17: m | D17: 0.56 | E17: 0 | F17: 0 | G17: =ROUND(F17*E17,2) -> 0 | I17: 0 | J17: =SUM(G17:I17) -> 0 | K17: =ROUND(E17*D17,2) -> 0 | L17: =ROUND(G17*D17,2) -> 0 | N17: =ROUND(I17*D17,2) -> 0 | O17: =SUM(L17:N17) -> 0
B18: Tērauda garenmetināta caurule ar rūpnīcas 100% nesagraujošas kontroles metodi pārbaudītas. Triecien stigrības izmēģinājuma (ar Šarpī svārsta trieciena metodi) temperatūra: Т= - 40°С,ar rūpnieciskas PE pārklājumu LV S EN 10288:2003, klase 3, tips 2 vai LVS EN ISO 21809-1 klass B3 izgatavotas un pārbaudītas saskaņā ar LVS EN ISO 3183:2020. Galu apstrāde: gali slīpināti saskaņā ar LVS EN ISO 3183:2020 PSL-2, pārklāti ar pretkorozijas krāsu un noslēgti ar plastmasas gala slēgiem:
A19: 4 | B19: Ø273x5 | C19: m | D19: 20 | E19: 0 | F19: 0 | G19: =ROUND(F19*E19,2) -> 0 | H19: Pasūtītāja piegāde | I19: 0 | J19: =SUM(G19:I19) -> 0 | K19: =ROUND(E19*D19,2) -> 0 | L19: =ROUND(G19*D19,2) -> 0 | M19: Pasūtītāja piegāde | N19: =ROUND(I19*D19,2) -> 0 | O19: =SUM(L19:N19) -> 0
B20: 2.Veidgabali
B21: Līkums ar rūpnīcas 100% nesagraujošas kontroles metodi pārbaudīts, ar rūpnieciskas pārklājumu 3PLE LVS EN ISO 21809-1 klase B3, biezums 2,7mm. Triecien stigrības izmēģinājuma (ar Šarpī svārsta trieciena metodi) temperatūra: Т= - 40°С:
A22: 5 | B22: Līkums 2° Modelis 10D (R=5DN), Ø168,3x8,8 L1= L2=650mm | C22: gb. | D22: 1 | E22: 0 | F22: 0 | G22: =ROUND(F22*E22,2) -> 0 | H22: Pasūtītāja piegāde | I22: 0 | J22: =SUM(G22:I22) -> 0 | K22: =ROUND(E22*D22,2) -> 0 | L22: =ROUND(G22*D22,2) -> 0 | M22: Pasūtītāja piegāde | N22: =ROUND(I22*D22,2) -> 0 | O22: =SUM(L22:N22) -> 0
A23: =A22+1 -> 6 | B23: Līkums 4° Modelis 10D (R=5DN), Ø168,3x8,8 L1= L2=650mm | C23: gb. | D23: 2 | E23: 0 | F23: 0 | G23: =ROUND(F23*E23,2) -> 0 | H23: Pasūtītāja piegāde | I23: 0 | J23: =SUM(G23:I23) -> 0 | K23: =ROUND(E23*D23,2) -> 0 | L23: =ROUND(G23*D23,2) -> 0 | M23: Pasūtītāja piegāde | N23: =ROUND(I23*D23,2) -> 0 | O23: =SUM(L23:N23) -> 0
A24: =A23+1 -> 7 | B24: Līkums 5° Modelis 10D (R=5DN), Ø168,3x8,8 L1= L2=650mm | C24: gb. | D24: 1 | E24: 0 | F24: 0 | G24: =ROUND(F24*E24,2) -> 0 | H24: Pasūtītāja piegāde | I24: 0 | J24: =SUM(G24:I24) -> 0 | K24: =ROUND(E24*D24,2) -> 0 | L24: =ROUND(G24*D24,2) -> 0 | M24: Pasūtītāja piegāde | N24: =ROUND(I24*D24,2) -> 0 | O24: =SUM(L24:N24) -> 0
A25: =A24+1 -> 8 | B25: Līkums 6° Modelis 10D (R=5DN), Ø168,3x8,8 L1= L2=650mm | C25: gb. | D25: 1 | E25: 0 | F25: 0 | G25: =ROUND(F25*E25,2) -> 0 | H25: Pasūtītāja piegāde | I25: 0 | J25: =SUM(G25:I25) -> 0 | K25: =ROUND(E25*D25,2) -> 0 | L25: =ROUND(G25*D25,2) -> 0 | M25: Pasūtītāja piegāde | N25: =ROUND(I25*D25,2) -> 0 | O25: =SUM(L25:N25) -> 0
A26: =A25+1 -> 9 | B26: Līkums 8° Modelis 10D (R=5DN), Ø168,3x8,8 L1= L2=650mm | C26: gb. | D26: 1 | E26: 0 | F26: 0 | G26: =ROUND(F26*E26,2) -> 0 | H26: Pasūtītāja piegāde | I26: 0 | J26: =SUM(G26:I26) -> 0 | K26: =ROUND(E26*D26,2) -> 0 | L26: =ROUND(G26*D26,2) -> 0 | M26: Pasūtītāja piegāde | N26: =ROUND(I26*D26,2) -> 0 | O26: =SUM(L26:N26) -> 0
A27: =A26+1 -> 10 | B27: Līkums 11° Modelis 10D (R=5DN), Ø168,3x8,8 L1= L2=650mm | C27: gb. | D27: 2 | E27: 0 | F27: 0 | G27: =ROUND(F27*E27,2) -> 0 | H27: Pasūtītāja piegāde | I27: 0 | J27: =SUM(G27:I27) -> 0 | K27: =ROUND(E27*D27,2) -> 0 | L27: =ROUND(G27*D27,2) -> 0 | M27: Pasūtītāja piegāde | N27: =ROUND(I27*D27,2) -> 0 | O27: =SUM(L27:N27) -> 0
A28: =A27+1 -> 11 | B28: Līkums 13° Modelis 10D (R=5DN), Ø168,3x8,8 L1= L2=650mm | C28: gb. | D28: 2 | E28: 0 | F28: 0 | G28: =ROUND(F28*E28,2) -> 0 | H28: Pasūtītāja piegāde | I28: 0 | J28: =SUM(G28:I28) -> 0 | K28: =ROUND(E28*D28,2) -> 0 | L28: =ROUND(G28*D28,2) -> 0 | M28: Pasūtītāja piegāde | N28: =ROUND(I28*D28,2) -> 0 | O28: =SUM(L28:N28) -> 0
A29: =A28+1 -> 12 | B29: Līkums 16° Modelis 10D (R=5DN), Ø168,3x8,8 L1= L2=650mm | C29: gb. | D29: 1 | E29: 0 | F29: 0 | G29: =ROUND(F29*E29,2) -> 0 | H29: Pasūtītāja piegāde | I29: 0 | J29: =SUM(G29:I29) -> 0 | K29: =ROUND(E29*D29,2) -> 0 | L29: =ROUND(G29*D29,2) -> 0 | M29: Pasūtītāja piegāde | N29: =ROUND(I29*D29,2) -> 0 | O29: =SUM(L29:N29) -> 0
A30: =A29+1 -> 13 | B30: Līkums 17° Modelis 10D (R=5DN), Ø168,3x8,8 L1= L2=650mm | C30: gb. | D30: 1 | E30: 0 | F30: 0 | G30: =ROUND(F30*E30,2) -> 0 | H30: Pasūtītāja piegāde | I30: 0 | J30: =SUM(G30:I30) -> 0 | K30: =ROUND(E30*D30,2) -> 0 | L30: =ROUND(G30*D30,2) -> 0 | M30: Pasūtītāja piegāde | N30: =ROUND(I30*D30,2) -> 0 | O30: =SUM(L30:N30) -> 0
A31: =A30+1 -> 14 | B31: Līkums 18° Modelis 10D (R=5DN), Ø168,3x8,8 L1= L2=650mm | C31: gb. | D31: 1 | E31: 0 | F31: 0 | G31: =ROUND(F31*E31,2) -> 0 | H31: Pasūtītāja piegāde | I31: 0 | J31: =SUM(G31:I31) -> 0 | K31: =ROUND(E31*D31,2) -> 0 | L31: =ROUND(G31*D31,2) -> 0 | M31: Pasūtītāja piegāde | N31: =ROUND(I31*D31,2) -> 0 | O31: =SUM(L31:N31) -> 0
A32: =A31+1 -> 15 | B32: Līkums 20° Modelis 10D (R=5DN), Ø168,3x8,8 L1= L2=650mm | C32: gb. | D32: 1 | E32: 0 | F32: 0 | G32: =ROUND(F32*E32,2) -> 0 | H32: Pasūtītāja piegāde | I32: 0 | J32: =SUM(G32:I32) -> 0 | K32: =ROUND(E32*D32,2) -> 0 | L32: =ROUND(G32*D32,2) -> 0 | M32: Pasūtītāja piegāde | N32: =ROUND(I32*D32,2) -> 0 | O32: =SUM(L32:N32) -> 0
A33: =A32+1 -> 16 | B33: Līkums 21° Modelis 10D (R=5DN), Ø168,3x8,8 L1= L2=650mm | C33: gb. | D33: 2 | E33: 0 | F33: 0 | G33: =ROUND(F33*E33,2) -> 0 | H33: Pasūtītāja piegāde | I33: 0 | J33: =SUM(G33:I33) -> 0 | K33: =ROUND(E33*D33,2) -> 0 | L33: =ROUND(G33*D33,2) -> 0 | M33: Pasūtītāja piegāde | N33: =ROUND(I33*D33,2) -> 0 | O33: =SUM(L33:N33) -> 0
A34: =A33+1 -> 17 | B34: Līkums 22° Modelis 10D (R=5DN), Ø168,3x8,8 L1= L2=650mm | C34: gb. | D34: 1 | E34: 0 | F34: 0 | G34: =ROUND(F34*E34,2) -> 0 | H34: Pasūtītāja piegāde | I34: 0 | J34: =SUM(G34:I34) -> 0 | K34: =ROUND(E34*D34,2) -> 0 | L34: =ROUND(G34*D34,2) -> 0 | M34: Pasūtītāja piegāde | N34: =ROUND(I34*D34,2) -> 0 | O34: =SUM(L34:N34) -> 0
... A54: =A53+1 -> 37 | B54: Līkums 90° Modelis 3D (R=1,5DN), Ø168,3x8,8 | C54: gb. | D54: 4 | E54: 0 | F54: 0 | G54: =ROUND(F54*E54,2) -> 0 | H54: Pasūtītāja piegāde | I54: 0 | J54: =SUM(G54:I54) -> 0 | K54: =ROUND(E54*D54,2) -> 0 | L54: =ROUND(G54*D54,2) -> 0 | M54: Pasūtītāja piegāde | N54: =ROUND(I54*D54,2) -> 0 | O54: =SUM(L54:N54) -> 0
B55: Līkums ar rūpnīcas 100% nesagraujošas kontroles metodi pārbaudīts, ar rūpnieciskas pretkorozijas pārklājumu PUR LVS EN 10290:2003 klase B, tips 2. Triecien stigrības izmēģinājuma (ar Šarpī svārsta trieciena metodi) temperatūra: Т= - 40°С; Pirms pārklājuma uzlikšanas rūpnīcas apstākļos virsma tiek attīrīta vismaz līdz pakāpei Sa 2½ LVS EN ISO 8501-1:2007
A56: 38 | B56: Līkums 30° Modelis 10D (R=5DN), Ø273x5 L1= L2=1000mm | C56: gb | D56: 4 | E56: 0 | F56: 0 | G56: =ROUND(F56*E56,2) -> 0 | H56: Pasūtītāja piegāde | I56: 0 | J56: =SUM(G56:I56) -> 0 | K56: =ROUND(E56*D56,2) -> 0 | L56: =ROUND(G56*D56,2) -> 0 | M56: Pasūtītāja piegāde | N56: =ROUND(I56*D56,2) -> 0 | O56: =SUM(L56:N56) -> 0
A57: =A56+1 -> 39 | B57: Līkums 15° Modelis 10D (R=5DN), Ø273x5 L1= L2=850mm | C57: gb | D57: 6 | E57: 0 | F57: 0 | G57: =ROUND(F57*E57,2) -> 0 | H57: Pasūtītāja piegāde | I57: 0 | J57: =SUM(G57:I57) -> 0 | K57: =ROUND(E57*D57,2) -> 0 | L57: =ROUND(G57*D57,2) -> 0 | M57: Pasūtītāja piegāde | N57: =ROUND(I57*D57,2) -> 0 | O57: =SUM(L57:N57) -> 0
A58: =A57+1 -> 40 | B58: Līkums 30° Modelis 3D (R=1,5DN), Ø273x5 | C58: gb | D58: 4 | E58: 0 | F58: 0 | G58: =ROUND(F58*E58,2) -> 0 | H58: Pasūtītāja piegāde | I58: 0 | J58: =SUM(G58:I58) -> 0 | K58: =ROUND(E58*D58,2) -> 0 | L58: =ROUND(G58*D58,2) -> 0 | M58: Pasūtītāja piegāde | N58: =ROUND(I58*D58,2) -> 0 | O58: =SUM(L58:N58) -> 0
B59: Pāreja ar rūpnīcas 100% nesagraujošas kontroles metodi pārbaudīts ar rūpnieciskas pārklājumu 3PLE LVS EN ISO 21809-1 klase B3
A60: 41 | B60: Pāreja Ø168,3x8,8-Ø159x8 | C60: gb | D60: 20 | E60: 0 | F60: 0 | G60: =ROUND(F60*E60,2) -> 0 | H60: Pasūtītāja piegāde | I60: 0 | J60: =SUM(G60:I60) -> 0 | K60: =ROUND(E60*D60,2) -> 0 | L60: =ROUND(G60*D60,2) -> 0 | M60: Pasūtītāja piegāde | N60: =ROUND(I60*D60,2) -> 0 | O60: =SUM(L60:N60) -> 0
B61: Sfēriskais noslēgs ar rūpnīcas 100% nesagraujošas kontroles metodi pārbaudīts. Neizolētiem veidgabaliem paredzēt aizsardzību (pagaidu ārējās virsmas pārklājumu) pret koroziju transportēšanas laikā:
A62: 42 | B62: Sfēriskais noslēgs Ø168,3x8,8 | C62: gb | D62: 44 | E62: 0 | F62: 0 | G62: =ROUND(F62*E62,2) -> 0 | H62: Pasūtītāja piegāde | I62: 0 | J62: =SUM(G62:I62) -> 0 | K62: =ROUND(E62*D62,2) -> 0 | L62: =ROUND(G62*D62,2) -> 0 | M62: Pasūtītāja piegāde | N62: =ROUND(I62*D62,2) -> 0 | O62: =SUM(L62:N62) -> 0
A63: =A62+1 -> 43 | B63: Sfēriskais noslēgs Ø57х8 | C63: gb | D63: 2 | E63: 0 | F63: 0 | G63: =ROUND(F63*E63,2) -> 0 | H63: Pasūtītāja piegāde | I63: 0 | J63: =SUM(G63:I63) -> 0 | K63: =ROUND(E63*D63,2) -> 0 | L63: =ROUND(G63*D63,2) -> 0 | M63: Pasūtītāja piegāde | N63: =ROUND(I63*D63,2) -> 0 | O63: =SUM(L63:N63) -> 0
A64: =A63+1 -> 44 | B64: Sfēriskais noslēgs Ø159х8 | C64: gb | D64: 10 | E64: 0 | F64: 0 | G64: =ROUND(F64*E64,2) -> 0 | H64: Pasūtītāja piegāde | I64: 0 | J64: =SUM(G64:I64) -> 0 | K64: =ROUND(E64*D64,2) -> 0 | L64: =ROUND(G64*D64,2) -> 0 | M64: Pasūtītāja piegāde | N64: =ROUND(I64*D64,2) -> 0 | O64: =SUM(L64:N64) -> 0
B65: Sfēriskais noslēgs ar rūpnīcas 100% nesagraujošas kontroles metodi pārbaudīts. Neizolētiem veidgabaliem paredzēt aizsardzību (pagaidu ārējās virsmas pārklājumu) pret koroziju transportēšanas laikā:
A66: 45 | B66: Sfēriskais noslēgs Ø273x5 | C66: gb | D66: 8 | E66: 0 | F66: 0 | G66: =ROUND(F66*E66,2) -> 0 | H66: Pasūtītāja piegāde | I66: 0 | J66: =SUM(G66:I66) -> 0 | K66: =ROUND(E66*D66,2) -> 0 | L66: =ROUND(G66*D66,2) -> 0 | M66: Pasūtītāja piegāde | N66: =ROUND(I66*D66,2) -> 0 | O66: =SUM(L66:N66) -> 0
B67: 4. Materiāli
A68: 46 | B68: Cauruļvadu metināto saduru izoļācija- PE pārklājums DENSOLEN- AS39P/R20HT-EN 12068, klase C50 (biezumā 2.6 mm) saskaņā ar LVS EN12068 «Katodaizsardzība - Ārējie organiskie pārklājumi pazemes vai zemūdens tērauda cauruļvadu korozijaizsardzībai un katodaizsardzībai - Lentes un sarūkošie materiāli». Vai analogs; | C68: m² | D68: 204.2 | E68: 0 | F68: 0 | G68: =ROUND(F68*E68,2) -> 0 | H68: 0 | I68: 0 | J68: =SUM(G68:I68) -> 0 | K68: =ROUND(E68*D68,2) -> 0 | L68: =ROUND(G68*D68,2) -> 0 | M68: =ROUND(H68*D68,2) -> 0 | N68: =ROUND(I68*D68,2) -> 0 | O68: =J68*D68 -> 0
A69: =A68+1 -> 47 | B69: Virszemes cauruļvadu ø168,3x8,8 un cauruļvadu metināto saduru izoļācija. Virsmas sagatavošana- pirms izolācijas uzklāšanas jāsagatavo līdz Sa2½ saskaņā ar LVS EN ISO 8501-1:2007. Pretkorozijas krāsu sistēma С4.11 (pēc LVS EN ISO 12944-5:2020) virszemes neizolētas caurules krāsošanai: “TEKNOS” | C69: m² | D69: 3.17 | E69: 0 | F69: 0 | G69: =ROUND(F69*E69,2) -> 0 | H69: 0 | I69: 0 | J69: =SUM(G69:I69) -> 0 | K69: =ROUND(E69*D69,2) -> 0 | L69: =ROUND(G69*D69,2) -> 0 | M69: =ROUND(H69*D69,2) -> 0 | N69: =ROUND(I69*D69,2) -> 0 | O69: =J69*D69 -> 0
B70: divkomponentu cinku saturoša epoksīda gruntkrāsa – 1 slānis TEKNOZINK-90SE
B71: divkomponentu epoksīda starpkrāsa – 1 slānis INERTA 51 MIOX
B72: divkomponentu poliuretāna virskrāsa – 1 slānis TEKNODUR 50
A73: 48 | B73: Betons C20/25 | C73: m3 | D73: 18.29 | E73: 0 | F73: 0 | G73: =ROUND(F73*E73,2) -> 0 | H73: 0 | I73: 0 | J73: =SUM(G73:I73) -> 0 | K73: =ROUND(E73*D73,2) -> 0 | L73: =ROUND(G73*D73,2) -> 0 | M73: =ROUND(H73*D73,2) -> 0 | N73: =ROUND(I73*D73,2) -> 0 | O73: =SUM(L73:N73) -> 0
A74: 49 | B74: Dielektriskie centrējošie gredzeni Tips TR (5 vienības vienā gredzenu komplektā), komplektā ar 2 neilona vītņstieņiem, caurulei ø168,3 ievietošanai apvalkcaurulē ø273x5 mm. Vienības augstums ar rullīšiem – 30 mm | C74: gb | D74: 170 | E74: 0 | F74: 0 | G74: =ROUND(F74*E74,2) -> 0 | H74: 0 | I74: 0 | J74: =SUM(G74:I74) -> 0 | K74: =ROUND(E74*D74,2) -> 0 | L74: =ROUND(G74*D74,2) -> 0 | M74: =ROUND(H74*D74,2) -> 0 | N74: =ROUND(I74*D74,2) -> 0 | O74: =SUM(L74:N74) -> 0
A75: 50 | B75: Maģistrālā cauruļvada informatīvā zīme | C75: gb | D75: 0 | E75: 0 | F75: 0 | G75: =ROUND(F75*E75,2) -> 0 | H75: 0 | I75: 0 | J75: =SUM(G75:I75) -> 0 | K75: =ROUND(E75*D75,2) -> 0 | L75: =ROUND(G75*D75,2) -> 0 | M75: =ROUND(H75*D75,2) -> 0 | N75: =ROUND(I75*D75,2) -> 0 | O75: =SUM(L75:N75) -> 0
B76: 5. Metināšanas darbi
B77: Metināšanas malu apstrāde, metināšana. Metināšanas šuvju 100% kvalitātes kontrole. Vizuāla apskate un pārbaude ar nesagraujošo kontroles metodēm (100% vizuālo-mēriš. kontrole (VT), 100% metināto šuvju kontrole ar gamma – stariem (radiogrāfijas testēšana (RT):
A78: =A75+1 -> 51 | B78: Metināta šuve Ø168.3x8,8mm, | C78: gb | D78: 257 | E78: 0 | F78: 0 | G78: =ROUND(F78*E78,2) -> 0 | H78: 0 | I78: 0 | J78: =SUM(G78:I78) -> 0 | K78: =ROUND(E78*D78,2) -> 0 | L78: =ROUND(G78*D78,2) -> 0 | M78: =ROUND(H78*D78,2) -> 0 | N78: =ROUND(I78*D78,2) -> 0 | O78: =SUM(L78:N78) -> 0
A79: =A78+1 -> 52 | B79: Metināta šuve Ø159х8mm, | C79: gb | D79: 20 | E79: 0 | F79: 0 | G79: =ROUND(F79*E79,2) -> 0 | H79: 0 | I79: 0 | J79: =SUM(G79:I79) -> 0 | K79: =ROUND(E79*D79,2) -> 0 | L79: =ROUND(G79*D79,2) -> 0 | M79: =ROUND(H79*D79,2) -> 0 | N79: =ROUND(I79*D79,2) -> 0 | O79: =SUM(L79:N79) -> 0
A80: =A79+1 -> 53 | B80: - Metināta šuve Ø273х5 mm | C80: gb | D80: 54 | E80: 0 | F80: 0 | G80: =ROUND(F80*E80,2) -> 0 | H80: 0 | I80: 0 | J80: =SUM(G80:I80) -> 0 | K80: =ROUND(E80*D80,2) -> 0 | L80: =ROUND(G80*D80,2) -> 0 | M80: =ROUND(H80*D80,2) -> 0 | N80: =ROUND(I80*D80,2) -> 0 | O80: =SUM(L80:N80) -> 0
A81: =A80+1 -> 54 | B81: - Metināta šuve (sfēriskais noslēgs) DN50 (d57), gab. | C81: gb | D81: 2 | E81: 0 | F81: 0 | G81: =ROUND(F81*E81,2) -> 0 | H81: 0 | I81: 0 | J81: =SUM(G81:I81) -> 0 | K81: =ROUND(E81*D81,2) -> 0 | L81: =ROUND(G81*D81,2) -> 0 | M81: =ROUND(H81*D81,2) -> 0 | N81: =ROUND(I81*D81,2) -> 0 | O81: =SUM(L81:N81) -> 0
A82: =A81+1 -> 55 | B82: - Metināta šuve (sfēriskais noslēgs) Ø273х5 mm, gab. | C82: gb | D82: 4 | E82: 0 | F82: 0 | G82: =ROUND(F82*E82,2) -> 0 | H82: 0 | I82: 0 | J82: =SUM(G82:I82) -> 0 | K82: =ROUND(E82*D82,2) -> 0 | L82: =ROUND(G82*D82,2) -> 0 | M82: =ROUND(H82*D82,2) -> 0 | N82: =ROUND(I82*D82,2) -> 0 | O82: =SUM(L82:N82) -> 0
B83: Garantijas šuvju izpildi un pārbaude ar nesagraujošo kontroles metodēm: 100% vizuāla apskate (VT), 100% ultraskaņas testēšana (UT) un 100% radiogrāfijas testēšana (RT), (DN150}:
A84: 57 | B84: Metināta šuve Ø168,3х8,8, gab. | C84: gb | D84: 22 | E84: 0 | F84: 0 | G84: =ROUND(F84*E84,2) -> 0 | H84: 0 | I84: 0 | J84: =SUM(G84:I84) -> 0 | K84: =ROUND(E84*D84,2) -> 0 | L84: =ROUND(G84*D84,2) -> 0 | M84: =ROUND(H84*D84,2) -> 0 | N84: =ROUND(I84*D84,2) -> 0 | O84: =SUM(L84:N84) -> 0
A85: =A84+1 -> 58 | B85: Metināta šuve Ø159х8mm, gab. | C85: gb | D85: 20 | E85: 0 | F85: 0 | G85: =ROUND(F85*E85,2) -> 0 | H85: 0 | I85: 0 | J85: =SUM(G85:I85) -> 0 | K85: =ROUND(E85*D85,2) -> 0 | L85: =ROUND(G85*D85,2) -> 0 | M85: =ROUND(H85*D85,2) -> 0 | N85: =ROUND(I85*D85,2) -> 0 | O85: =SUM(L85:N85) -> 0
B86: 7. Izmēģināšanas darbi
B87: Gāzesvada Ø168,3х8,8 dobuma attīrīšana. Stiprības hidraulisko pārbaudi ar spiedienu Pdarb.x1.43 veikt 2 stundu laikā, hermētiskuma hidraulisko pārbaudi veikt vismaz 24 stundu garumā ar spiedienu Р darb.(105bar), ar sekojošu ūdens izspiešanu un caurules iekšējā dobuma žāvēšanu ar saspiestu gaisu, jāveic divos etapos :
A88: =A85+1 -> 59 | B88: Ø168,3х8,8 visi gāzesvada, m | C88: m | D88: 1092.37 | E88: 0 | F88: 0 | G88: =ROUND(F88*E88,2) -> 0 | H88: 0 | I88: 0 | J88: =SUM(G88:I88) -> 0 | K88: =ROUND(E88*D88,2) -> 0 | L88: =ROUND(G88*D88,2) -> 0 | M88: =ROUND(H88*D88,2) -> 0 | N88: =ROUND(I88*D88,2) -> 0 | O88: =SUM(L88:N88) -> 0
B89: 8. Citi darbi
A90: =A88+1 -> 60 | B90: Gāzesvada no caurulēm Ø159х8 mm demontāža, | C90: m | D90: 1092.37 | E90: 0 | F90: 0 | G90: =ROUND(F90*E90,2) -> 0 | I90: 0 | J90: =SUM(G90:I90) -> 0 | K90: =ROUND(E90*D90,2) -> 0 | L90: =ROUND(G90*D90,2) -> 0 | N90: =ROUND(I90*D90,2) -> 0 | O90: =SUM(L90:N90) -> 0
A91: =A90+1 -> 61 | B91: Metanola cauruļvada DN50 mm demontāža, | C91: m | D91: 101.51 | E91: 0 | F91: 0 | G91: =ROUND(F91*E91,2) -> 0 | H91: 0 | I91: 0 | J91: =SUM(G91:I91) -> 0 | K91: =ROUND(E91*D91,2) -> 0 | L91: =ROUND(G91*D91,2) -> 0 | M91: =ROUND(H91*D91,2) -> 0 | N91: =ROUND(I91*D91,2) -> 0 | O91: =SUM(L91:N91) -> 0
A92: =A91+1 -> 62 | B92: Sveces demontāža | C92: gb | D92: 2 | E92: 0 | F92: 0 | G92: =ROUND(F92*E92,2) -> 0 | H92: 0 | I92: 0 | J92: =SUM(G92:I92) -> 0 | K92: =ROUND(E92*D92,2) -> 0 | L92: =ROUND(G92*D92,2) -> 0 | M92: =ROUND(H92*D92,2) -> 0 | N92: =ROUND(I92*D92,2) -> 0 | O92: =SUM(L92:N92) -> 0
B93: 9. Divdaļīgās apvalkcaurules ø1016x16 , t.s: | C93: gb | D93: 2
A94: =A92+1 -> 63 | B94: Tērauda caurule ∅168.3x8.8 | C94: m | D94: 0.8 | E94: 0 | F94: 0 | G94: =ROUND(F94*E94,2) -> 0 | H94: 0 | I94: 0 | J94: =SUM(G94:I94) -> 0 | K94: =ROUND(E94*D94,2) -> 0 | L94: =ROUND(G94*D94,2) -> 0 | M94: =H94*D94 -> 0 | N94: =ROUND(I94*D94,2) -> 0 | O94: =SUM(L94:N94) -> 0
A95: =A94+1 -> 64 | B95: Metāliskā loksne (noslēgs) Ø1016 ( materiāliem 2 gab.), pneimopārbaudes veikšanai | C95: gab. | D95: 4 | E95: 0 | F95: 0 | G95: =ROUND(F95*E95,2) -> 0 | H95: 0 | I95: 0 | J95: =SUM(G95:I95) -> 0 | K95: =ROUND(E95*D95,2) -> 0 | L95: =ROUND(G95*D95,2) -> 0 | M95: =ROUND(H95*D95,2) -> 0 | N95: =ROUND(I95*D95,2) -> 0 | O95: =SUM(L95:N95) -> 0
A96: =A95+1 -> 65 | B96: Sfēriskais noslēgs Ø168,3x8,8 | C96: gb | D96: 2 | E96: 0 | F96: 0 | G96: =ROUND(F96*E96,2) -> 0 | H96: 0 | I96: 0 | J96: =SUM(G96:I96) -> 0 | K96: =ROUND(E96*D96,2) -> 0 | L96: =ROUND(G96*D96,2) -> 0 | M96: =ROUND(H96*D96,2) -> 0 | N96: =ROUND(I96*D96,2) -> 0 | O96: =SUM(L96:N96) -> 0
A97: =A96+1 -> 66 | B97: Plakans noslēgs (Disk compression seal), iekšējā apvalkcaurules ø1016x16 tilpuma hermetizācijai, no nerusējošo tērauda (individuāls pasūtījums) Type GP-W “INTEGRA” | C97: kpl | D97: 4 | E97: 0 | F97: 0 | G97: =ROUND(F97*E97,2) -> 0 | H97: 0 | I97: 0 | J97: =SUM(G97:I97) -> 0 | K97: =ROUND(E97*D97,2) -> 0 | L97: =ROUND(G97*D97,2) -> 0 | M97: =ROUND(H97*D97,2) -> 0 | N97: =ROUND(I97*D97,2) -> 0 | O97: =SUM(L97:N97) -> 0
B98: Mastika PF “DENSO” V=0,263m3 | C98: kg | D98: 145 | E98: 0 | F98: 0 | G98: =ROUND(F98*E98,2) -> 0 | H98: 0 | I98: 0 | J98: =SUM(G98:I98) -> 0 | K98: =ROUND(E98*D98,2) -> 0 | L98: =ROUND(G98*D98,2) -> 0 | M98: =ROUND(H98*D98,2) -> 0 | N98: =ROUND(I98*D98,2) -> 0 | O98: =J98*D98 -> 0
A99: 67 | B99: Apvalkcauruļu mezgla Ø1016x16 pneimatisko, ar saspiestu gaisu, hermētiskuma pārbaudi ar P=1 bar spiedienu 24 h laikā, | C99: m | D99: 61.11 | E99: 0 | F99: 0 | G99: =ROUND(F99*E99,2) -> 0 | H99: 0 | I99: 0 | J99: =SUM(G99:I99) -> 0 | K99: =ROUND(E99*D99,2) -> 0 | L99: =ROUND(G99*D99,2) -> 0 | M99: =ROUND(H99*D99,2) -> 0 | N99: =ROUND(I99*D99,2) -> 0 | O99: =SUM(L99:N99) -> 0
B100: Grunts atrakšana gāzesvadu un sveces demontāžai/montāžai, m3 | C100: m³ | D100: 1093 | E100: 0 | F100: 0 | G100: =ROUND(F100*E100,2) -> 0 | I100: 0 | J100: =SUM(G100:I100) -> 0 | K100: =ROUND(E100*D100,2) -> 0 | L100: =ROUND(G100*D100,2) -> 0 | N100: =ROUND(I100*D100,2) -> 0 | O100: =SUM(L100:N100) -> 0
A101: 68 | B101: Tranšeju atpakaļ aizbēršana ar vietējo grunti, m3 | C101: m³ | D101: 782 | E101: 0 | F101: 0 | G101: =ROUND(F101*E101,2) -> 0 | I101: 0 | J101: =SUM(G101:I101) -> 0 | K101: =ROUND(E101*D101,2) -> 0 | L101: =ROUND(G101*D101,2) -> 0 | N101: =ROUND(I101*D101,2) -> 0 | O101: =SUM(L101:N101) -> 0
A102: 69 | B102: Vietējās grunts pārpalikums, | C102: m³ | D102: 311 | E102: 0 | F102: 0 | G102: =ROUND(F102*E102,2) -> 0 | I102: 0 | J102: =SUM(G102:I102) -> 0 | K102: =ROUND(E102*D102,2) -> 0 | L102: =ROUND(G102*D102,2) -> 0 | N102: =ROUND(I102*D102,2) -> 0 | O102: =SUM(L102:N102) -> 0
B103: Tiešās izmaksas kopā, t. sk. darba devēja sociālais nodoklis 23,59%): | K103: =SUM(K9:K102) -> 0 | L103: =SUM(L9:L102) -> 0 | M103: =SUM(M9:M102) -> 0 | N103: =SUM(N9:N102) -> 0 | O103: =N103+M103+L103 -> 0
A105: 1. Būvuzņēmējam jāievērtē darbu apjomu sarakstā minēto darbu veikšanai nepieciešamie materiāli un papildus darbi, kas nav minēti šajā sarakstā, bet bez kuriem nebūtu iespējama būvdarbu tehnoloģiski pareiza un spēkā esošiem normatīviem atbilstoša veikšana pilnā apmērā.
A106: 2. Darbu apjomus skatīt kopā ar rasējumiem. Gadījumā, ja darbu apjomi nesakrīt ar rasējumiem, par pareiziem jāuzskata rasējumos esošie darbu apjomi.
B107: Papildināta tāme

Sheet ELKA, 1.daļa
A1: Lokālā tāme Nr.4
A2: Elektroķimiskā aizsardzība.
A3: Būves nosaukums: Inčukalna PGK divu šleifu pāreju pārbūves zem autoceļa A3 Inčukalns--Valmiera--Igaunijas robeža
A4: Objekta nosaukums: Inčukalna PGK divu šleifu pāreju pārbūves zem autoceļa A3 Inčukalns--Valmiera--Igaunijas robeža
L6: Tāmes izmaksas | N6: EUR | O6: =O46 -> 0
A7: N.p.k. | B7: Darba nosaukums | C7: Mērvienība | D7: Daudzums | E7: Vienības izmaksas, EUR | K7: Kopā uz visu apjomu, EUR
E8: laika norma (c/h) | F8: darba samaksas likme* (euro/h) | G8: darba alga | H8: būvizstrādājumi | I8: mehānismi | J8: kopā | K8: darbietilpība (c/h) | L8: darba alga | M8: būvizstrādājumi | N8: mehānismi | O8: summa
A9: =1 -> 1 | B9: Kontroles mērījumu punkts (KMP/MR) Shema 8-8-2,5; cinkots tērauda KMP modelis „CONEXUS” | C9: gb. | D9: 8 | E9: 0 | F9: 0 | G9: =ROUND(E9*F9,2) -> 0 | H9: 0 | I9: 0 | J9: =SUM(G9:I9) -> 0 | K9: =ROUND(E9*D9,2) -> 0 | L9: =ROUND(G9*D9,2) -> 0 | M9: =ROUND(H9*D9,2) -> 0 | N9: =ROUND(I9*D9,2) -> 0 | O9: =SUM(L9:N9) -> 0
A10: =A9+1 -> 2 | B10: Kontroles mērījumu punkts (KMP/MR) Shema 16-8-2,5; cinkots tērauda KMP modelis „CONEXUS” | C10: gb. | D10: 4 | E10: 0 | F10: 0 | G10: =ROUND(E10*F10,2) -> 0 | H10: 0 | I10: 0 | J10: =SUM(G10:I10) -> 0 | K10: =ROUND(E10*D10,2) -> 0 | L10: =ROUND(G10*D10,2) -> 0 | M10: =ROUND(H10*D10,2) -> 0 | N10: =ROUND(I10*D10,2) -> 0 | O10: =SUM(L10:N10) -> 0
A11: =A10+1 -> 3 | B11: Dīvkanalu Diožu-Rezistoru 10A / 0,45 Om katram kanālam (kopumā 2х0,45 Oms) regulēšanas bloks komplektā ar kastīti (BSZ-2/10) | C11: gb. | D11: 4 | E11: 0 | F11: 0 | G11: =ROUND(E11*F11,2) -> 0 | H11: 0 | I11: 0 | J11: =SUM(G11:I11) -> 0 | K11: =ROUND(E11*D11,2) -> 0 | L11: =ROUND(G11*D11,2) -> 0 | M11: =ROUND(H11*D11,2) -> 0 | N11: =ROUND(I11*D11,2) -> 0 | O11: =SUM(L11:N11) -> 0
A12: =A11+1 -> 4 | B12: Trīskanalu Diožu-Rezistoru 10A / 0,45 Om katram kanālam (kopumā 3х0,45 Oms) regulēšanas bloks komplektā ar kastīti (BSZ-3/10) | C12: gb. | D12: 4 | E12: 0 | F12: 0 | G12: =ROUND(E12*F12,2) -> 0 | H12: 0 | I12: 0 | J12: =SUM(G12:I12) -> 0 | K12: =ROUND(E12*D12,2) -> 0 | L12: =ROUND(G12*D12,2) -> 0 | M12: =ROUND(H12*D12,2) -> 0 | N12: =ROUND(I12*D12,2) -> 0 | O12: =SUM(L12:N12) -> 0
A13: =A12+1 -> 5 | B13: Četru kanalu Diožu-Rezistoru 10A / 0,45 Om katram kanālam (kopumā 4х0,45 Oms) regulēšanas bloks komplektā ar kastīti (BSZ-4/10) | C13: gb. | D13: 4 | E13: 0 | F13: 0 | G13: =ROUND(E13*F13,2) -> 0 | H13: 0 | I13: 0 | J13: =SUM(G13:I13) -> 0 | K13: =ROUND(E13*D13,2) -> 0 | L13: =ROUND(G13*D13,2) -> 0 | M13: =ROUND(H13*D13,2) -> 0 | N13: =ROUND(I13*D13,2) -> 0 | O13: =SUM(L13:N13) -> 0
A14: =A13+1 -> 6 | B14: Vara-sulfāta Salīdzināšanas elektrods (MSE), stacionārs; | C14: gb. | D14: 12 | E14: 0 | F14: 0 | G14: =ROUND(E14*F14,2) -> 0 | H14: 0 | I14: 0 | J14: =SUM(G14:I14) -> 0 | K14: =ROUND(E14*D14,2) -> 0 | L14: =ROUND(G14*D14,2) -> 0 | M14: =ROUND(H14*D14,2) -> 0 | N14: =ROUND(I14*D14,2) -> 0 | O14: =SUM(L14:N14) -> 0
B15: Elektroķīmiskā potenciāla devējs komplektā ar MSE; | C15: gb. | D15: 12 | E15: 0 | F15: 0 | G15: =ROUND(E15*F15,2) -> 0 | H15: 0 | I15: 0 | J15: =SUM(G15:I15) -> 0 | K15: =ROUND(E15*D15,2) -> 0 | L15: =ROUND(G15*D15,2) -> 0 | M15: =ROUND(H15*D15,2) -> 0 | N15: =ROUND(I15*D15,2) -> 0 | O15: =SUM(L15:N15) -> 0
A16: 7 | B16: Spaiļu strāvas klemmas M10x25, N=4gab. | C16: kpl. | D16: 24 | E16: 0 | F16: 0 | G16: =ROUND(E16*F16,2) -> 0 | H16: 0 | I16: 0 | J16: =SUM(G16:I16) -> 0 | K16: =ROUND(E16*D16,2) -> 0 | L16: =ROUND(G16*D16,2) -> 0 | M16: =ROUND(H16*D16,2) -> 0 | N16: =ROUND(I16*D16,2) -> 0 | O16: =SUM(L16:N16) -> 0
A17: =A16+1 -> 8 | B17: Spaiļu potenciālu mērīšanas klemmas M10x25, N=4gab. | C17: kpl. | D17: 32 | E17: 0 | F17: 0 | G17: =ROUND(E17*F17,2) -> 0 | H17: 0 | I17: 0 | J17: =SUM(G17:I17) -> 0 | K17: =ROUND(E17*D17,2) -> 0 | L17: =ROUND(G17*D17,2) -> 0 | M17: =ROUND(H17*D17,2) -> 0 | N17: =ROUND(I17*D17,2) -> 0 | O17: =SUM(L17:N17) -> 0
A18: =A17+1 -> 9 | B18: Kabeļu uzgalis SAFETRACK, 6,0mm2, Corrpro, „PINBRAZING” | C18: gb. | D18: 80 | E18: 0 | F18: 0 | G18: =ROUND(E18*F18,2) -> 0 | H18: 0 | I18: 0 | J18: =SUM(G18:I18) -> 0 | K18: =ROUND(E18*D18,2) -> 0 | L18: =ROUND(G18*D18,2) -> 0 | M18: =ROUND(H18*D18,2) -> 0 | N18: =ROUND(I18*D18,2) -> 0 | O18: =SUM(L18:N18) -> 0
A19: =A18+1 -> 10 | B19: Kabeļu uzgalis SAFETRACK, 16,0mm2, Corrpro, „PINBRAZING” | C19: gb. | D19: 48 | E19: 0 | F19: 0 | G19: =ROUND(E19*F19,2) -> 0 | H19: 0 | I19: 0 | J19: =SUM(G19:I19) -> 0 | K19: =ROUND(E19*D19,2) -> 0 | L19: =ROUND(G19*D19,2) -> 0 | M19: =ROUND(H19*D19,2) -> 0 | N19: =ROUND(I19*D19,2) -> 0 | O19: =SUM(L19:N19) -> 0
A20: =A19+1 -> 11 | B20: Metināšanas patrona, ∅8mm, Corrpro-Num.10381, „PINBRAZING” | C20: gb. | D20: 128 | E20: 0 | F20: 0 | G20: =ROUND(E20*F20,2) -> 0 | H20: 0 | I20: 0 | J20: =SUM(G20:I20) -> 0 | K20: =ROUND(E20*D20,2) -> 0 | L20: =ROUND(G20*D20,2) -> 0 | M20: =ROUND(H20*D20,2) -> 0 | N20: =ROUND(I20*D20,2) -> 0 | O20: =SUM(L20:N20) -> 0
B21: Keramiskais ieliktnis, ∅8mm, Corrpro-Num.2003, „PINBRAZING” | C21: gb. | D21: 128 | E21: 0 | F21: 0 | G21: =ROUND(E21*F21,2) -> 0 | H21: 0 | I21: 0 | J21: =SUM(G21:I21) -> 0 | K21: =ROUND(E21*D21,2) -> 0 | L21: =ROUND(G21*D21,2) -> 0 | M21: =ROUND(H21*D21,2) -> 0 | N21: =ROUND(I21*D21,2) -> 0 | O21: =SUM(L21:N21) -> 0
A22: 8 | B22: Pārejas adaptera piedurkne 6/16 mm2; Corrpro-Num.6702, „PINBRAZING” | C22: gb. | D22: 48 | E22: 0 | F22: 0 | G22: =ROUND(E22*F22,2) -> 0 | H22: 0 | I22: 0 | J22: =SUM(G22:I22) -> 0 | K22: =ROUND(E22*D22,2) -> 0 | L22: =ROUND(G22*D22,2) -> 0 | M22: =ROUND(H22*D22,2) -> 0 | N22: =ROUND(I22*D22,2) -> 0 | O22: =SUM(L22:N22) -> 0
A23: =A22+1 -> 9 | B23: Cauruļu izolācijas atjaunošanas komplekts dīvdzīslu kabeļu pievienošanas vietam; Raychem-PERP 425x150mm komplekts; | C23: gb. | D23: 42 | E23: 0 | F23: 0 | G23: =ROUND(E23*F23,2) -> 0 | H23: 0 | I23: 0 | J23: =SUM(G23:I23) -> 0 | K23: =ROUND(E23*D23,2) -> 0 | L23: =ROUND(G23*D23,2) -> 0 | M23: =ROUND(H23*D23,2) -> 0 | N23: =ROUND(I23*D23,2) -> 0 | O23: =SUM(L23:N23) -> 0
A24: =A23+1 -> 10 | B24: PE caurule ar ārējo ∅65, sarkana krāsa EVOCAB FLEX, kods 122050065RD, "EVOPIPES" | C24: m | D24: 1000 | E24: 0 | F24: 0 | G24: =ROUND(E24*F24,2) -> 0 | H24: 0 | I24: 0 | J24: =SUM(G24:I24) -> 0 | K24: =ROUND(E24*D24,2) -> 0 | L24: =ROUND(G24*D24,2) -> 0 | M24: =ROUND(H24*D24,2) -> 0 | N24: =ROUND(I24*D24,2) -> 0 | O24: =SUM(L24:N24) -> 0
A25: =A24+1 -> 11 | B25: Kabeļkurpe Cu 6.0mm2/M10 | C25: gb. | D25: 80 | E25: 0 | F25: 0 | G25: =ROUND(E25*F25,2) -> 0 | H25: 0 | I25: 0 | J25: =SUM(G25:I25) -> 0 | K25: =ROUND(E25*D25,2) -> 0 | L25: =ROUND(G25*D25,2) -> 0 | M25: =ROUND(H25*D25,2) -> 0 | N25: =ROUND(I25*D25,2) -> 0 | O25: =SUM(L25:N25) -> 0
A26: =A25+1 -> 12 | B26: Kabeļkurpe Cu 16mm2/M10 | C26: gb. | D26: 48 | E26: 0 | F26: 0 | G26: =ROUND(E26*F26,2) -> 0 | H26: 0 | I26: 0 | J26: =SUM(G26:I26) -> 0 | K26: =ROUND(E26*D26,2) -> 0 | L26: =ROUND(G26*D26,2) -> 0 | M26: =ROUND(H26*D26,2) -> 0 | N26: =ROUND(I26*D26,2) -> 0 | O26: =SUM(L26:N26) -> 0
B27: Termonosēdināmā caurule, SR2 22-6/1m, L=1m, (6...22mm), vidējsienu, bez līmes, "Cellpack" | C27: gb. | D27: 120 | E27: 0 | F27: 0 | G27: =ROUND(E27*F27,2) -> 0 | H27: 0 | I27: 0 | J27: =SUM(G27:I27) -> 0 | K27: =ROUND(E27*D27,2) -> 0 | L27: =ROUND(G27*D27,2) -> 0 | M27: =ROUND(H27*D27,2) -> 0 | N27: =ROUND(I27*D27,2) -> 0 | O27: =SUM(L27:N27) -> 0
A28: 9 | B28: Vispārēja pielietojuma, liesmu slāpējošas, poliolefīna caurules; Caurule ir izturīga, elastīga, vispārēja pielietojuma poliolefīna caurule; TE CONNECTIVITY CGPT; Maksimālais atgūtais D ir 12,7/6,4 mm priekš 6-25mm2 kabeļiem / L=1m; | C28: gb. | D28: 230 | E28: 0 | F28: 0 | G28: =ROUND(E28*F28,2) -> 0 | H28: 0 | I28: 0 | J28: =SUM(G28:I28) -> 0 | K28: =ROUND(E28*D28,2) -> 0 | L28: =ROUND(G28*D28,2) -> 0 | M28: =ROUND(H28*D28,2) -> 0 | N28: =ROUND(I28*D28,2) -> 0 | O28: =SUM(L28:N28) -> 0
A29: =A28+1 -> 10 | B29: PROTEGOL UR pildījums 32-55/45L Nesatur šķīdinātājus, ar špakteļlāpstiņu uzklāts divkomponentu poliuretāna pārklājuma maisījums, kas paredzēts cauruļu defektu vietu un mehānisku bojājumu labošanai; | C29: gb. | D29: 16 | E29: 0 | F29: 0 | G29: =ROUND(E29*F29,2) -> 0 | H29: 0 | I29: 0 | J29: =SUM(G29:I29) -> 0 | K29: =ROUND(E29*D29,2) -> 0 | L29: =ROUND(G29*D29,2) -> 0 | M29: =ROUND(H29*D29,2) -> 0 | N29: =ROUND(I29*D29,2) -> 0 | O29: =SUM(L29:N29) -> 0
A30: =A29+1 -> 11 | B30: Karstumsarūkoša uzmava neapbruņotiem polimēru kabeļiem līdz 1000V; SMH3 1.5-16; Cellpack Num. 151500; | C30: gb. | D30: 100 | E30: 0 | F30: 0 | G30: =ROUND(E30*F30,2) -> 0 | H30: 0 | I30: 0 | J30: =SUM(G30:I30) -> 0 | K30: =ROUND(E30*D30,2) -> 0 | L30: =ROUND(G30*D30,2) -> 0 | M30: =ROUND(H30*D30,2) -> 0 | N30: =ROUND(I30*D30,2) -> 0 | O30: =SUM(L30:N30) -> 0
A31: =A30+1 -> 12 | B31: Signāllente "Uzmanību! Kabelis!", platums 120mm, rullis 250m, kods 12311120250YL, "EVOPIPES" | C31: rullis | D31: 6 | E31: 0 | F31: 0 | G31: =ROUND(E31*F31,2) -> 0 | H31: 0 | I31: 0 | J31: =SUM(G31:I31) -> 0 | K31: =ROUND(E31*D31,2) -> 0 | L31: =ROUND(G31*D31,2) -> 0 | M31: =ROUND(H31*D31,2) -> 0 | N31: =ROUND(I31*D31,2) -> 0 | O31: =SUM(L31:N31) -> 0
A32: =A31+1 -> 13 | B32: Spēka kabelis 0.6/1kV ar vara dzīslām NYY-J-2x6.0mm2 | C32: m | D32: 600 | E32: 0 | F32: 0 | G32: =ROUND(E32*F32,2) -> 0 | H32: 0 | I32: 0 | J32: =SUM(G32:I32) -> 0 | K32: =ROUND(E32*D32,2) -> 0 | L32: =ROUND(G32*D32,2) -> 0 | M32: =ROUND(H32*D32,2) -> 0 | N32: =ROUND(I32*D32,2) -> 0 | O32: =SUM(L32:N32) -> 0
B33: Spēka kabelis 0.6/1kV ar vara dzīslām NYY-J-1x16.0mm2 | C33: m | D33: 460 | E33: 0 | F33: 0 | G33: =ROUND(E33*F33,2) -> 0 | H33: 0 | I33: 0 | J33: =SUM(G33:I33) -> 0 | K33: =ROUND(E33*D33,2) -> 0 | L33: =ROUND(G33*D33,2) -> 0 | M33: =ROUND(H33*D33,2) -> 0 | N33: =ROUND(I33*D33,2) -> 0 | O33: =SUM(L33:N33) -> 0
A34: 10 | B34: Koksa drupatas maisījums. Aktivatora īpatnējā tilpuma pretestība nav lielāka par 0,06 Ohm*m; Koka minerālu aktivatora blīvums – 800,0 kg/m3; Iepakots 40kg maisījumā; | C34: m3 | D34: 3 | E34: 0 | F34: 0 | G34: =ROUND(E34*F34,2) -> 0 | H34: 0 | I34: 0 | J34: =SUM(G34:I34) -> 0 | K34: =ROUND(E34*D34,2) -> 0 | L34: =ROUND(G34*D34,2) -> 0 | M34: =ROUND(H34*D34,2) -> 0 | N34: =ROUND(I34*D34,2) -> 0 | O34: =SUM(L34:N34) -> 0
A35: =A34+1 -> 11 | B35: Kabeļa markējuma bukses ar D līdz 16mm; Weidmuller; | C35: gb. | D35: 144 | E35: 0 | F35: 0 | G35: =ROUND(E35*F35,2) -> 0 | H35: 0 | I35: 0 | J35: =SUM(G35:I35) -> 0 | K35: =ROUND(E35*D35,2) -> 0 | L35: =ROUND(G35*D35,2) -> 0 | M35: =ROUND(H35*D35,2) -> 0 | N35: =ROUND(I35*D35,2) -> 0 | O35: =SUM(L35:N35) -> 0
A36: =A35+1 -> 12 | B36: ZS kabeļlīnijas pievienošana (atvienošana) | C36: piev | D36: 298 | E36: 0 | F36: 0 | G36: =ROUND(E36*F36,2) -> 0 | H36: 0 | I36: 0 | J36: =SUM(G36:I36) -> 0 | K36: =ROUND(E36*D36,2) -> 0 | L36: =ROUND(G36*D36,2) -> 0 | M36: =ROUND(H36*D36,2) -> 0 | N36: =ROUND(I36*D36,2) -> 0 | O36: =SUM(L36:N36) -> 0
B37: Citi darbi
A38: =A36+1 -> 13 | B38: KA dīvdzīslu PVC kabeļiem kabeļu izoļacijas pretectības mērījumi | C38: kpl. | D38: 144 | E38: 0 | F38: 0 | G38: =ROUND(E38*F38,2) -> 0 | H38: 0 | I38: 0 | J38: =SUM(G38:I38) -> 0 | K38: =ROUND(E38*D38,2) -> 0 | L38: =ROUND(G38*D38,2) -> 0 | M38: =ROUND(H38*D38,2) -> 0 | N38: =ROUND(I38*D38,2) -> 0 | O38: =SUM(L38:N38) -> 0
B39: Spaiļu potenciālo klemmas komplektu uzstādīšana KMP korpusā ar būltskrūvju pievienošanu; spaiļu izoļācijas līdz 1000V pārbaudes mērījumi; | C39: gb. | D39: 56 | E39: 0 | F39: 0 | G39: =ROUND(E39*F39,2) -> 0 | H39: 0 | I39: 0 | J39: =SUM(G39:I39) -> 0 | K39: =ROUND(E39*D39,2) -> 0 | L39: =ROUND(G39*D39,2) -> 0 | M39: =ROUND(H39*D39,2) -> 0 | N39: =ROUND(I39*D39,2) -> 0 | O39: =SUM(L39:N39) -> 0
A40: =A38+1 -> 14 | B40: Gāzesvadu caurulē Katodu aizsardzības polarizācijas potenciālu kontrolmērījums, viens mērīšanas pūnkts; | C40: gb. | D40: 48 | E40: 0 | F40: 0 | G40: =ROUND(E40*F40,2) -> 0 | H40: 0 | I40: 0 | J40: =SUM(G40:I40) -> 0 | K40: =ROUND(E40*D40,2) -> 0 | L40: =ROUND(G40*D40,2) -> 0 | M40: =ROUND(H40*D40,2) -> 0 | N40: =ROUND(I40*D40,2) -> 0 | O40: =SUM(L40:N40) -> 0
B41: Gāzesvadu caurulē Katodu aizsardzības futrāļu strāvas esamības kontrolmērījums, viens mērīšanas pūnkts; | C41: gb. | D41: 48 | E41: 0 | F41: 0 | G41: =ROUND(E41*F41,2) -> 0 | H41: 0 | I41: 0 | J41: =SUM(G41:I41) -> 0 | K41: =ROUND(E41*D41,2) -> 0 | L41: =ROUND(G41*D41,2) -> 0 | M41: =ROUND(H41*D41,2) -> 0 | N41: =ROUND(I41*D41,2) -> 0 | O41: =SUM(L41:N41) -> 0
A42: =A40+1 -> 15 | B42: Būvju ārdarbi kas nav iekļauti sarakstā (ja nepieciešams ieskaitot materiālus): Grunts piebērums kabeļu tranšējā - 69,00 m3; 77,8,8c.st.) | C42: kpl. | D42: 1 | E42: 0 | F42: 0 | G42: =ROUND(E42*F42,2) -> 0 | H42: 0 | I42: 0 | J42: =SUM(G42:I42) -> 0 | K42: =ROUND(E42*D42,2) -> 0 | L42: =ROUND(G42*D42,2) -> 0 | M42: =ROUND(H42*D42,2) -> 0 | N42: =ROUND(I42*D42,2) -> 0 | O42: =SUM(L42:N42) -> 0
B43: Būvju ārdarbi kas nav iekļauti sarakstā (ja nepieciešams ieskaitot materiālus): Melnzeme, Smiltis, Šķembas, Koksa smalkums piebērums kabeļu tranšējā - 0,25 m3; (9c.st.) | C43: kpl. | D43: 1 | E43: 0 | F43: 0 | G43: =ROUND(E43*F43,2) -> 0 | H43: 0 | I43: 0 | J43: =SUM(G43:I43) -> 0 | K43: =ROUND(E43*D43,2) -> 0 | L43: =ROUND(G43*D43,2) -> 0 | M43: =ROUND(H43*D43,2) -> 0 | N43: =ROUND(I43*D43,2) -> 0 | O43: =SUM(L43:N43) -> 0
A44: 3. | B44: Zemes darbi
A45: =A42+1 -> 16 | B45: Tranšejas rakšana un aizbēršana viena līdz divu kabeļu (caurules) gūldīšanai 1m dziļumā | C45: m | D45: 285 | E45: 0 | F45: 0 | G45: =ROUND(E45*F45,2) -> 0 | H45: 0 | I45: 0 | J45: =SUM(G45:I45) -> 0 | K45: =ROUND(E45*D45,2) -> 0 | L45: =ROUND(G45*D45,2) -> 0 | M45: =ROUND(H45*D45,2) -> 0 | N45: =ROUND(I45*D45,2) -> 0 | O45: =SUM(L45:N45) -> 0
B46: Tiešās izmaksas kopā, t. sk. darba devēja sociālais nodoklis 23,59%): | K46: =SUM(K9:K45) -> 0 | L46: =SUM(L9:L45) -> 0 | M46: =SUM(M9:M45) -> 0 | N46: =SUM(N9:N45) -> 0 | O46: =N46+M46+L46 -> 0
A48: 1. Būvuzņēmējam jāievērtē darbu apjomu sarakstā minēto darbu veikšanai nepieciešamie materiāli un papildus darbi, kas nav minēti šajā sarakstā, bet bez kuriem nebūtu iespējama būvdarbu tehnoloģiski pareiza un spēkā esošiem normatīviem atbilstoša veikšana pilnā apmērā.
A49: 2. Darbu apjomus skatīt kopā ar rasējumiem. Gadījumā, ja darbu apjomi nesakrīt ar rasējumiem, par pareiziem jāuzskata rasējumos esošie darbu apjomi.

Sheet DOP, 1.daļa
A1: Lokālā tāme Nr.5
A2: Darbu organizēšanas projekts.
A3: Būves nosaukums: Inčukalna PGK divu šleifu pāreju pārbūves zem autoceļa A3 Inčukalns--Valmiera--Igaunijas robeža
A4: Objekta nosaukums: Inčukalna PGK divu šleifu pāreju pārbūves zem autoceļa A3 Inčukalns--Valmiera--Igaunijas robeža
L6: Tāmes izmaksas | N6: EUR | O6: =O78 -> 0
A7: N.p.k. | B7: Darba nosaukums | C7: Mērvienība | D7: Daudzums | E7: Vienības izmaksas, EUR | K7: Kopā uz visu apjomu, EUR
E8: laika norma (c/h) | F8: darba samaksas likme* (euro/h) | G8: darba alga | H8: būvizstrādājumi | I8: mehānismi | J8: kopā | K8: darbietilpība (c/h) | L8: darba alga | M8: būvizstrādājumi | N8: mehānismi | O8: summa
A9: 1. | B9: Celtnieku pagaidu laukums. Pagaidu celtnieku laukuma nožogojuma, moduļu un ietaišu pievešana, uzstādīšana un demontāža
A10: 1 | B10: Sadzīves modulis 2,6 x 6 m (noma uz 12men)* | C10: gb. | D10: 0 | E10: 0 | F10: 0 | G10: =ROUND(E10*F10,2) -> 0 | H10: 0 | I10: 0 | J10: =SUM(G10:I10) -> 0 | K10: =ROUND(E10*D10,2) -> 0 | L10: =ROUND(G10*D10,2) -> 0 | M10: =ROUND(H10*D10,2) -> 0 | N10: =ROUND(I10*D10,2) -> 0 | O10: =SUM(L10:N10) -> 0
A11: 2 | B11: Materiālu un inventāra noliktava konteinera tipa (noma uz 12men)* | C11: gb. | D11: 0 | E11: 0 | F11: 0 | G11: =ROUND(E11*F11,2) -> 0 | H11: 0 | I11: 0 | J11: =SUM(G11:I11) -> 0 | K11: =ROUND(E11*D11,2) -> 0 | L11: =ROUND(G11*D11,2) -> 0 | M11: =ROUND(H11*D11,2) -> 0 | N11: =ROUND(I11*D11,2) -> 0 | O11: =SUM(L11:N11) -> 0
A12: 3 | B12: Biotualete (noma uz 12 men)* | C12: gb. | D12: 0 | E12: 0 | F12: 0 | G12: =ROUND(E12*F12,2) -> 0 | H12: 0 | I12: 0 | J12: =SUM(G12:I12) -> 0 | K12: =ROUND(E12*D12,2) -> 0 | L12: =ROUND(G12*D12,2) -> 0 | M12: =ROUND(H12*D12,2) -> 0 | N12: =ROUND(I12*D12,2) -> 0 | O12: =SUM(L12:N12) -> 0
A13: 4 | B13: Sadzīves atkritumu konteiners* | C13: gb. | D13: 0 | E13: 0 | F13: 0 | G13: =ROUND(E13*F13,2) -> 0 | H13: 0 | I13: 0 | J13: =SUM(G13:I13) -> 0 | K13: =ROUND(E13*D13,2) -> 0 | L13: =ROUND(G13*D13,2) -> 0 | M13: =ROUND(H13*D13,2) -> 0 | N13: =ROUND(I13*D13,2) -> 0 | O13: =SUM(L13:N13) -> 0
A14: 5 | B14: Konteiners būvgružu izvešanai V = 5 m3 | C14: gb. | D14: 2 | E14: 0 | F14: 0 | G14: =ROUND(E14*F14,2) -> 0 | H14: 0 | I14: 0 | J14: =SUM(G14:I14) -> 0 | K14: =ROUND(E14*D14,2) -> 0 | L14: =ROUND(G14*D14,2) -> 0 | M14: =ROUND(H14*D14,2) -> 0 | N14: =ROUND(I14*D14,2) -> 0 | O14: =SUM(L14:N14) -> 0
A15: 5 | B15: Konteiners būvgružu izvešanai V = 4 m3 | C15: gb. | D15: 1 | E15: 0 | F15: 0 | G15: =ROUND(E15*F15,2) -> 0 | H15: 0 | I15: 0 | J15: =SUM(G15:I15) -> 0 | K15: =ROUND(E15*D15,2) -> 0 | L15: =ROUND(G15*D15,2) -> 0 | M15: =ROUND(H15*D15,2) -> 0 | N15: =ROUND(I15*D15,2) -> 0 | O15: =SUM(L15:N15) -> 0
A16: 6 | B16: Informācijas plakāts | C16: gb. | D16: 1 | E16: 0 | F16: 0 | G16: =ROUND(E16*F16,2) -> 0 | H16: 0 | I16: 0 | J16: =SUM(G16:I16) -> 0 | K16: =ROUND(E16*D16,2) -> 0 | L16: =ROUND(G16*D16,2) -> 0 | M16: =ROUND(H16*D16,2) -> 0 | N16: =ROUND(I16*D16,2) -> 0 | O16: =SUM(L16:N16) -> 0
A17: 7 | B17: Pagaidu nožogojums, H=2 m* | C17: m | D17: 0 | E17: 0 | F17: 0 | G17: =ROUND(E17*F17,2) -> 0 | H17: 0 | I17: 0 | J17: =SUM(G17:I17) -> 0 | K17: =ROUND(E17*D17,2) -> 0 | L17: =ROUND(G17*D17,2) -> 0 | M17: =ROUND(H17*D17,2) -> 0 | N17: =ROUND(I17*D17,2) -> 0 | O17: =SUM(L17:N17) -> 0
A18: 2. | B18: Pagaidu elektroapgāde
A19: 2.1. | B19: Dizeļģenerators, jauda 12 kW (Inčukalna PGK nodrošinās pieslēgumu) | C19: gb. | D19: 1 | E19: Pasūtītāja piegāde | K19: Pasūtītāja piegāde
A20: 2.2. | B20: Dizeļģenerators, jauda 32 kW (Inčukalna PGK nodrošinās pieslēgumu) | C20: gb. | D20: 2 | E20: Pasūtītāja piegāde | K20: Pasūtītāja piegāde
A21: 2. | B21: Koku ciršana ar celmu laušanu
A22: 2.1. | B22: Atsevišķi stāvoši koki (bērzi): | E22: Pasūtītāja piegāde | K22: Pasūtītāja piegāde
B23: -stumbra diametrs 35 cm | C23: gb. | D23: 1 | E23: Pasūtītāja piegāde | K23: Pasūtītāja piegāde
B24: -stumbra diametrs 40 cm | C24: gb. | D24: 1 | E24: Pasūtītāja piegāde | K24: Pasūtītāja piegāde
A25: 2.2. | B25: Lapkoku mežs | C25: m2 | D25: 103 | E25: Pasūtītāja piegāde | K25: Pasūtītāja piegāde
B26: Celtnieku pagaidu laukuma ierīkošana
A27: 10 | B27: Grunts izlīdzināšana, slāņu atdaloša ģeotekstila ieklāšana, šķembu kārtas (0,20 m) izlīdzināšana un sablīvēšana | C27: m2 | D27: 168 | E27: 0 | F27: 0 | G27: =ROUND(E27*F27,2) -> 0 | H27: 0 | I27: 0 | J27: =SUM(G27:I27) -> 0 | K27: =ROUND(E27*D27,2) -> 0 | L27: =ROUND(G27*D27,2) -> 0 | M27: =ROUND(H27*D27,2) -> 0 | N27: =ROUND(I27*D27,2) -> 0 | O27: =SUM(L27:N27) -> 0
B28: -Atdaloša kārta. Neaustais ģeotekstils Thrace S10 NW | C28: m2 | D28: 190 | E28: 0 | F28: 0 | G28: =ROUND(E28*F28,2) -> 0 | H28: 0 | I28: 0 | J28: =SUM(G28:I28) -> 0 | K28: =ROUND(E28*D28,2) -> 0 | L28: =ROUND(G28*D28,2) -> 0 | M28: =ROUND(H28*D28,2) -> 0 | N28: =ROUND(I28*D28,2) -> 0 | O28: =SUM(L28:N28) -> 0
B29: Šķembas fr.20/40, δ=0,20 m | C29: m3 | D29: 34 | E29: 0 | F29: 0 | G29: =ROUND(E29*F29,2) -> 0 | H29: 0 | I29: 0 | J29: =SUM(G29:I29) -> 0 | K29: =ROUND(E29*D29,2) -> 0 | L29: =ROUND(G29*D29,2) -> 0 | M29: =ROUND(H29*D29,2) -> 0 | N29: =ROUND(I29*D29,2) -> 0 | O29: =SUM(L29:N29) -> 0
A30: 3.2. | B30: Laukums apvalkcauruļu un gāzesvadu iepriekšējai montāžai
A31: 3.2.2. | B31: Grunts izlīdzināšana, slāņu atdaloša ģeotekstila ieklāšana, šķembu kārtas (0,20 m) izlīdzināšana un sablīvēšana* | C31: m2 | D31: 0 | E31: 0 | F31: 0 | G31: =ROUND(E31*F31,2) -> 0 | H31: 0 | I31: 0 | J31: =SUM(G31:I31) -> 0 | K31: =ROUND(E31*D31,2) -> 0 | L31: =ROUND(G31*D31,2) -> 0 | M31: =ROUND(H31*D31,2) -> 0 | N31: =ROUND(I31*D31,2) -> 0 | O31: =SUM(L31:N31) -> 0
B32: -Atdaloša kārta. Neaustais ģeotekstils Thrace S10 NW | C32: m2 | D32: 0 | E32: 0 | F32: 0 | G32: =ROUND(E32*F32,2) -> 0 | H32: 0 | I32: 0 | J32: =SUM(G32:I32) -> 0 | K32: =ROUND(E32*D32,2) -> 0 | L32: =ROUND(G32*D32,2) -> 0 | M32: =ROUND(H32*D32,2) -> 0 | N32: =ROUND(I32*D32,2) -> 0 | O32: =SUM(L32:N32) -> 0
B33: -Šķembas fr.20/40, δ=0,20 m | C33: m3 | D33: 0 | E33: 0 | F33: 0 | G33: =ROUND(E33*F33,2) -> 0 | H33: 0 | I33: 0 | J33: =SUM(G33:I33) -> 0 | K33: =ROUND(E33*D33,2) -> 0 | L33: =ROUND(G33*D33,2) -> 0 | M33: =ROUND(H33*D33,2) -> 0 | N33: =ROUND(I33*D33,2) -> 0 | O33: =SUM(L33:N33) -> 0
A34: 4. | B34: Esošo inženiertīklu pagaidu aizsardzība
A35: 11 | B35: Smilts sagataves (0,15 m) izlīdzināšana | C35: m2 | D35: 201 | E35: 0 | F35: 0 | G35: =ROUND(E35*F35,2) -> 0 | I35: 0 | J35: =SUM(G35:I35) -> 0 | K35: =ROUND(E35*D35,2) -> 0 | L35: =ROUND(G35*D35,2) -> 0 | N35: =ROUND(I35*D35,2) -> 0 | O35: =SUM(L35:N35) -> 0
B36: -Smilts sagatave (0,20 m) | C36: m3 | D36: 40 | E36: 0 | F36: 0 | G36: =ROUND(E36*F36,2) -> 0 | H36: 0 | I36: 0 | J36: =SUM(G36:I36) -> 0 | K36: =ROUND(E36*D36,2) -> 0 | L36: =ROUND(G36*D36,2) -> 0 | M36: =ROUND(H36*D36,2) -> 0 | N36: =ROUND(I36*D36,2) -> 0 | O36: =SUM(L36:N36) -> 0
B37: -Dzelzsbetona ceļa plātnes (2x6x0,14 m) | C37: gb. | D37: 12 | E37: 0 | F37: 0 | G37: =ROUND(E37*F37,2) -> 0 | H37: 0 | I37: 0 | J37: =SUM(G37:I37) -> 0 | K37: =ROUND(E37*D37,2) -> 0 | L37: =ROUND(G37*D37,2) -> 0 | M37: =ROUND(H37*D37,2) -> 0 | N37: =ROUND(I37*D37,2) -> 0 | O37: =SUM(L37:N37) -> 0
B38: -Dzelzsbetona ceļa plātnes (1,75x3x0,17 m) | C38: gb. | D38: 9 | E38: 0 | F38: 0 | G38: =ROUND(E38*F38,2) -> 0 | H38: 0 | I38: 0 | J38: =SUM(G38:I38) -> 0 | K38: =ROUND(E38*D38,2) -> 0 | L38: =ROUND(G38*D38,2) -> 0 | M38: =ROUND(H38*D38,2) -> 0 | N38: =ROUND(I38*D38,2) -> 0 | O38: =SUM(L38:N38) -> 0
A39: 4.2. | B39: Anodzemējuma kontūrā pagaidu aizsardzība, apvalkcaurules pārvietošanas laikā
A40: 4.2.2. | B40: Atdalošas kārtas ieklāšana | C40: m2 | D40: 95 | E40: 0 | F40: 0 | G40: =ROUND(E40*F40,2) -> 0 | H40: 0 | I40: 0 | J40: =SUM(G40:I40) -> 0 | K40: =ROUND(E40*D40,2) -> 0 | L40: =ROUND(G40*D40,2) -> 0 | M40: =ROUND(H40*D40,2) -> 0 | N40: =ROUND(I40*D40,2) -> 0 | O40: =SUM(L40:N40) -> 0
B41: -Atdaloša kārta. Neaustais ģeotekstils Thrace S10 NW | C41: m2 | D41: 114 | E41: 0 | F41: 0 | G41: =ROUND(E41*F41,2) -> 0 | H41: 0 | I41: 0 | J41: =SUM(G41:I41) -> 0 | K41: =ROUND(E41*D41,2) -> 0 | L41: =ROUND(G41*D41,2) -> 0 | M41: =ROUND(H41*D41,2) -> 0 | N41: =ROUND(I41*D41,2) -> 0 | O41: =SUM(L41:N41) -> 0
A42: 4.2.3. | B42: Smilts sagataves (0,20m) izlīdzināšana | C42: m2 | D42: 95 | E42: 0 | F42: 0 | G42: =ROUND(E42*F42,2) -> 0 | I42: 0 | J42: =SUM(G42:I42) -> 0 | K42: =ROUND(E42*D42,2) -> 0 | L42: =ROUND(G42*D42,2) -> 0 | N42: =ROUND(I42*D42,2) -> 0 | O42: =SUM(L42:N42) -> 0
B43: -Smilts sagatave (0,20 m) | C43: m3 | D43: 19 | E43: 0 | F43: 0 | G43: =ROUND(E43*F43,2) -> 0 | H43: 0 | I43: 0 | J43: =SUM(G43:I43) -> 0 | K43: =ROUND(E43*D43,2) -> 0 | L43: =ROUND(G43*D43,2) -> 0 | M43: =ROUND(H43*D43,2) -> 0 | N43: =ROUND(I43*D43,2) -> 0 | O43: =SUM(L43:N43) -> 0
A44: 4.2.4. | B44: Dzelzsbetona ceļa plātņu (2x6x0,14 m) montāža/demontāža | C44: gb. | D44: 18 | E44: 0 | F44: 0 | G44: =ROUND(E44*F44,2) -> 0 | H44: 0 | I44: 0 | J44: =SUM(G44:I44) -> 0 | K44: =ROUND(E44*D44,2) -> 0 | L44: =ROUND(G44*D44,2) -> 0 | M44: =ROUND(H44*D44,2) -> 0 | N44: =ROUND(I44*D44,2) -> 0 | O44: =SUM(L44:N44) -> 0
A45: 4. 3 | B45: Esošo inženiertīklu pagaidu aizsardzība krustojumos ar projektējamiem gāzesvadiem
A46: 4.3.1. | B46: “A” šķērsojums. Mezglu skaits | C46: gb. | D46: 3 | E46: 0 | F46: 0 | G46: =ROUND(E46*F46,2) -> 0 | H46: 0 | I46: 0 | J46: =SUM(G46:I46) -> 0 | K46: =ROUND(E46*D46,2) -> 0 | L46: =ROUND(G46*D46,2) -> 0 | M46: =ROUND(H46*D46,2) -> 0 | N46: =ROUND(I46*D46,2) -> 0 | O46: =SUM(L46:N46) -> 0
A47: 4.3.2. | B47: “B” šķērsojums. Mezglu skaits | C47: gb. | D47: 3 | E47: 0 | F47: 0 | G47: =ROUND(E47*F47,2) -> 0 | H47: 0 | I47: 0 | J47: =SUM(G47:I47) -> 0 | K47: =ROUND(E47*D47,2) -> 0 | L47: =ROUND(G47*D47,2) -> 0 | M47: =ROUND(H47*D47,2) -> 0 | N47: =ROUND(I47*D47,2) -> 0 | O47: =SUM(L47:N47) -> 0
A48: 4.4. | B48: Esošo koku stumbru aizsardzība ar koka dēļu klaju
B49: Koka dēļi 30x100/2,5 m | C49: m3 | D49: 0.4 | E49: 0 | F49: 0 | G49: =ROUND(E49*F49,2) -> 0 | H49: 0 | I49: 0 | J49: =SUM(G49:I49) -> 0 | K49: =ROUND(E49*D49,2) -> 0 | L49: =ROUND(G49*D49,2) -> 0 | M49: =ROUND(H49*D49,2) -> 0 | N49: =ROUND(I49*D49,2) -> 0 | O49: =SUM(L49:N49) -> 0
A50: 5. | B50: Esošo apvalkcauruļu tīrīšana iekšpusē
A51: 5.1. | B51: “A” šķērsojums. DN 1200 apvalkcaurule | C51: m | D51: 29.3 | E51: 0 | F51: 0 | G51: =ROUND(E51*F51,2) -> 0 | I51: 0 | J51: =SUM(G51:I51) -> 0 | K51: =ROUND(E51*D51,2) -> 0 | L51: =ROUND(G51*D51,2) -> 0 | N51: =ROUND(I51*D51,2) -> 0 | O51: =SUM(L51:N51) -> 0
A52: 5.2. | B52: “B” šķērsojums. DN 1200 apvalkcaurule | C52: m | D52: 28.01 | E52: 0 | F52: 0 | G52: =ROUND(E52*F52,2) -> 0 | I52: 0 | J52: =SUM(G52:I52) -> 0 | K52: =ROUND(E52*D52,2) -> 0 | L52: =ROUND(G52*D52,2) -> 0 | N52: =ROUND(I52*D52,2) -> 0 | O52: =SUM(L52:N52) -> 0
A53: 6. | B53: Tranšejas apvalkcauruļu un gāzesvadu ievilkšanai (posms zem A3 ceļa).
A54: 6.1. | B54: Zemes darbi
A55: 6.1.1. | B55: “A” šķērsojums. Grunts atrakšanas darbi | C55: m3 | D55: 430 | E55: 0 | F55: 0 | G55: =ROUND(E55*F55,2) -> 0 | I55: 0 | J55: =SUM(G55:I55) -> 0 | K55: =ROUND(E55*D55,2) -> 0 | L55: =ROUND(G55*D55,2) -> 0 | N55: =ROUND(I55*D55,2) -> 0 | O55: =SUM(L55:N55) -> 0
A56: 6.2.1. | B56: “B” šķērsojums. Grunts atrakšanas darbi | C56: m3 | D56: 560 | E56: 0 | F56: 0 | G56: =ROUND(E56*F56,2) -> 0 | I56: 0 | J56: =SUM(G56:I56) -> 0 | K56: =ROUND(E56*D56,2) -> 0 | L56: =ROUND(G56*D56,2) -> 0 | N56: =ROUND(I56*D56,2) -> 0 | O56: =SUM(L56:N56) -> 0
A57: 6.2. | B57: Tranšeju malu pagaidu stiprinājums
A58: 6.2.1. | B58: "A" šķērsojums. Tērauda rievpāļu siena (Larsena tipa, vai anologa) montāža, sienas garums ,
B59: treanšejas dziļums mainīgs 2,5 - 3,0 m | C59: m | D59: 16.5 | E59: 0 | F59: 0 | G59: =ROUND(E59*F59,2) -> 0 | H59: 0 | I59: 0 | J59: =SUM(G59:I59) -> 0 | K59: =ROUND(E59*D59,2) -> 0 | L59: =ROUND(G59*D59,2) -> 0 | M59: =ROUND(H59*D59,2) -> 0 | N59: =ROUND(I59*D59,2) -> 0 | O59: =SUM(L59:N59) -> 0
B60: "A" šķērsojums. Tērauda rievpāļu siena (Larsena tipa, vai anologa) demontāža, sienas garums,
B61: treanšejas dziļums mainīgs 2,5 - 3,0 m | C61: m | D61: 16.5 | E61: 0 | F61: 0 | G61: =ROUND(E61*F61,2) -> 0 | I61: 0 | J61: =SUM(G61:I61) -> 0 | K61: =ROUND(E61*D61,2) -> 0 | L61: =ROUND(G61*D61,2) -> 0 | N61: =ROUND(I61*D61,2) -> 0 | O61: =SUM(L61:N61) -> 0
A62: 6.2.2. | B62: "B" šķērsojums. Tērauda rievpāļu siena (Larsena tipa, vai anologa) montāža, sienas garums,
B63: treanšejas dziļums mainīgs 2,5 - 3,5 m | C63: m | D63: 22 | E63: 0 | F63: 0 | G63: =ROUND(E63*F63,2) -> 0 | H63: 0 | I63: 0 | J63: =SUM(G63:I63) -> 0 | K63: =ROUND(E63*D63,2) -> 0 | L63: =ROUND(G63*D63,2) -> 0 | M63: =ROUND(H63*D63,2) -> 0 | N63: =ROUND(I63*D63,2) -> 0 | O63: =SUM(L63:N63) -> 0
B64: "B" šķērsojums. Tērauda rievpāļu siena (Larsena tipa, vai anologa) demontāža, sienas garums,
B65: treanšejas dziļums mainīgs 2,5 - 3,5 m | C65: m | D65: 22 | E65: 0 | F65: 0 | G65: =ROUND(E65*F65,2) -> 0 | I65: 0 | J65: =SUM(G65:I65) -> 0 | K65: =ROUND(E65*D65,2) -> 0 | L65: =ROUND(G65*D65,2) -> 0 | N65: =ROUND(I65*D65,2) -> 0 | O65: =SUM(L65:N65) -> 0
A66: 6.2.3. | B66: "B" šķērsojums. Dubult - T sijas (solis 1,20 m) ar dēļu slāni.Montāža. Sienas garums 12 m,
B67: tranšejas dziļums 3,80 m | C67: m | D67: 12 | E67: 0 | F67: 0 | G67: =ROUND(E67*F67,2) -> 0 | H67: 0 | I67: 0 | J67: =SUM(G67:I67) -> 0 | K67: =ROUND(E67*D67,2) -> 0 | L67: =ROUND(G67*D67,2) -> 0 | M67: =ROUND(H67*D67,2) -> 0 | N67: =ROUND(I67*D67,2) -> 0 | O67: =SUM(L67:N67) -> 0
A68: 6.3. | B68: Koka materiālu klāja ierīkošana pa tranšejas gultni
A69: 6.3.1. | B69: “A” šķērsojums. | C69: m2 | D69: 56 | E69: 0 | F69: 0 | G69: =ROUND(E69*F69,2) -> 0 | H69: Pasūtītāja piegāde | I69: 0 | J69: =SUM(G69:I69) -> 0 | K69: =ROUND(E69*D69,2) -> 0 | L69: =ROUND(G69*D69,2) -> 0 | M69: Pasūtītāja piegāde | N69: =ROUND(I69*D69,2) -> 0 | O69: =SUM(L69:N69) -> 0
A70: 6.3.2. | B70: “B” šķērsojums. | C70: m2 | D70: 56 | E70: 0 | F70: 0 | G70: =ROUND(E70*F70,2) -> 0 | H70: Pasūtītāja piegāde | I70: 0 | J70: =SUM(G70:I70) -> 0 | K70: =ROUND(E70*D70,2) -> 0 | L70: =ROUND(G70*D70,2) -> 0 | M70: Pasūtītāja piegāde | N70: =ROUND(I70*D70,2) -> 0 | O70: =SUM(L70:N70) -> 0
A71: 8. | B71: Apvalkcaurules DN1000 ar caurulēm DN 250 (7. gb.) ievilkšana esošā apvalkcaurulē DN1200
A72: 8.1. | B72: “A” šķērsojums. Garums/ kopējais svars | C72: m | D72: 30 | E72: 0 | F72: 0 | G72: =ROUND(E72*F72,2) -> 0 | I72: 0 | J72: =SUM(G72:I72) -> 0 | K72: =ROUND(E72*D72,2) -> 0 | L72: =ROUND(G72*D72,2) -> 0 | N72: =ROUND(I72*D72,2) -> 0 | O72: =SUM(L72:N72) -> 0
A73: 8.2. | B73: “B” šķērsojums. Garums/ kopējais svars | C73: m | D73: 30 | E73: 0 | F73: 0 | G73: =ROUND(E73*F73,2) -> 0 | I73: 0 | J73: =SUM(G73:I73) -> 0 | K73: =ROUND(E73*D73,2) -> 0 | L73: =ROUND(G73*D73,2) -> 0 | N73: =ROUND(I73*D73,2) -> 0 | O73: =SUM(L73:N73) -> 0
A74: 10. | B74: Esošā grants ceļa atjaunošana
A75: 10.1. | B75: “A” šķērsojums. Esoša grunts izlīdzināšana, sablīvēšana. Grants maisījuma (0,2 m) piebērums, sablīvēšana | C75: m2 | D75: 171 | E75: 0 | F75: 0 | G75: =ROUND(E75*F75,2) -> 0 | H75: 0 | I75: 0 | J75: =SUM(G75:I75) -> 0 | K75: =ROUND(E75*D75,2) -> 0 | L75: =ROUND(G75*D75,2) -> 0 | M75: =ROUND(H75*D75,2) -> 0 | N75: =ROUND(I75*D75,2) -> 0 | O75: =SUM(L75:N75) -> 0
B76: “A” šķērsojums. Grants maisījums fr. 5-16 | C76: m3 | D76: 34 | E76: 0 | F76: 0 | G76: =ROUND(E76*F76,2) -> 0 | H76: 0 | I76: 0 | J76: =SUM(G76:I76) -> 0 | K76: =ROUND(E76*D76,2) -> 0 | L76: =ROUND(G76*D76,2) -> 0 | M76: =ROUND(H76*D76,2) -> 0 | N76: =ROUND(I76*D76,2) -> 0 | O76: =SUM(L76:N76) -> 0
A77: 11. | B77: Rūsas un nogulšņu izvešana utilizācijā | C77: kg | D77: 30 | E77: 0 | F77: 0 | G77: =ROUND(E77*F77,2) -> 0 | H77: 0 | I77: 0 | J77: =SUM(G77:I77) -> 0 | K77: =ROUND(E77*D77,2) -> 0 | L77: =ROUND(G77*D77,2) -> 0 | M77: =ROUND(H77*D77,2) -> 0 | N77: =ROUND(I77*D77,2) -> 0 | O77: =SUM(L77:N77) -> 0
B78: Tiešās izmaksas kopā, t. sk. darba devēja sociālais nodoklis 23,59%): | K78: =SUM(K10:K77) -> 0 | L78: =SUM(L10:L77) -> 0 | M78: =SUM(M10:M77) -> 0 | N78: =SUM(N10:N77) -> 0 | O78: =SUM(L78:N78) -> 0
A80: 1. Būvuzņēmējam jāievērtē darbu apjomu sarakstā minēto darbu veikšanai nepieciešamie materiāli un papildus darbi, kas nav minēti šajā sarakstā, bet bez kuriem nebūtu iespējama būvdarbu tehnoloģiski pareiza un spēkā esošiem normatīviem atbilstoša veikšana pilnā apmērā.
A81: 2. Darbu apjomus skatīt kopā ar rasējumiem. Gadījumā, ja darbu apjomi nesakrīt ar rasējumiem, par pareiziem jāuzskata rasējumos esošie darbu apjomi.
A82: * | B82: Norādītajām pozīcijām darbu un aprīkojuma apjomus nosaka pretendents, pamatojoties uz būvprojektu, tehniskajām specifikācijām un faktisko būvdarbu organizācijas nepieciešamību, iekļaujot visus izdevumus pilnvērtīgai darbu izpildei.
