Workbook
Name Dienas: #REF!
Name higiēnas: #REF!
Name Laiks: #REF!

Sheet FP_ZEMGALE
B1: FINANŠU PIEDĀVĀJUMS iepirkumā "Telpu un teritorijas uzkopšana ZEMGALES reģionā"
B2: NPK | C2: IKDIENAS UZKOPŠANAS PAKALPOJUMI (ZEMGALES OBJEKTIEM) | D2: OBJEKTS | E2: OBJEKTA PLATĪBA | F2: OBJEKTA IZMAKSAS | G2: CENA MĒNESĪ | H2: CENA PAR M2 EUR bez PVN | J2: MAKSIMĀLIE PUNKTI
B3: Nr. | C3: Pakalpojums | D3: Adrese | E3: M2 | F3: LĪGUMA DARBĪBAS LAIKĀ 36 MĒNEŠI | G3: EUR/MĒN | H3: (m2/ mēn) | J3: punkti K1
B4: 1 | C4: Telpu ikdienas uzkopšana | D4: Jelgava, Pasta iela 43 | E4: ='Objektu saraksts (telpas)'!E5 -> 337.3 | F4: ='FP Detalizācija '!T4 -> 0 | G4: ='FP Detalizācija '!S4 -> 0 | H4: ='FP Detalizācija '!U4 -> 0 | J4: 80
B5: 2 | C5: Telpu ikdienas uzkopšana | D5: Dobele, Zaļā iela 27 | E5: ='Objektu saraksts (telpas)'!E6 -> 334.6 | F5: ='FP Detalizācija '!T5 -> 0 | G5: ='FP Detalizācija '!S5 -> 0 | H5: ='FP Detalizācija '!U5 -> 0
B6: 3 | C6: Teritorijas uzkopšana | D6: Dobele, Zaļā iela 27 | E6: ='Objektu saraksts (teritorija)'!E3 -> 1996.42 | F6: ='FP Detalizācija '!T6 -> 0 | G6: ='FP Detalizācija '!S6 -> 0 | H6: ='FP Detalizācija '!U6 -> 0
B7: 4 | C7: Teritorijas uzkopšana | D7: Jelgava, Pasta iela 43 | E7: ='Objektu saraksts (teritorija)'!E4 -> 2160.3 | F7: ='FP Detalizācija '!T7 -> 0 | G7: ='FP Detalizācija '!S7 -> 0 | H7: ='FP Detalizācija '!U7 -> 0
B8: KOPĀ CENA PAR IKDIENAS UZKOPŠANAS PAKALPOJUMU (KRITĒRIJS K-1) | F8: =SUM(F4:F7) -> 0
B10: NPK | C10: PAPILDUS PAKALPOJUMI *** (ZEMGALES OBJEKTIEM) | D10: MĒRVIENĪBA | E10: Provizoriskais apjoms | F10: CENA PAR MĒRVIENĪBU EUR/bez PVN | G10: CENA PAR PROVIZORISKO APJOMU EUR/bez PVN | J10: MAKSIMĀLIE PUNKTI
B11: 1 | C11: GRĪDAS SEGUMU UZKOPŠANA | J11: punkti K2
B12: 1.1 | C12: Mīkstā seguma ķīmiskā tīrīšana | D12: kvadrātmetrs | E12: 100 | G12: =E12*F12 -> 0 | J12: 10
B13: 1.2 | C13: Linoleja vaskošana (vecā vaska noņemšana, tīrīšana un vaskošana 2 kārtās) | D13: kvadrātmetrs | E13: 800 | G13: =E13*F13 -> 0
B14: 1.3 | C14: Linoleja ķīmiskā pulēšana | D14: kvadrātmetrs | E14: 800 | G14: =E14*F14 -> 0
B15: 1.4 | C15: Linoleja sausā pulēšana | D15: kvadrātmetrs | E15: 800 | G15: =E15*F15 -> 0
B16: 1.5 | C16: Flīžu un to šuvju tīrīšana | D16: kvadrātmetrs | E16: 800 | G16: =E16*F16 -> 0
B17: 2 | C17: LOGU UN STIKLA VIRSMU MAZGĀŠANA (abpusēja)
B18: 2.1. | C18: Pakešu logu (no abām pusēm, t.sk. rāmju, iekšējo un ārējo palodžu) mazgāšana (BEZ pacēlāja) | D18: kvadrātmetrs | E18: 1000 | G18: =E18*F18 -> 0
B19: 2.2. | C19: Pakešu logu (no abām pusēm, t.sk. rāmju, iekšējo un ārējo palodžu) mazgāšana (AR pacēlāju) | D19: kvadrātmetrs | E19: 1000 | G19: =E19*F19 -> 0
B20: 2.3. | C20: Koka logu(no abām pusēm, t.sk. rāmju, iekšējo un ārējo palodžu) mazgāšana (BEZ pacēlāja) | D20: kvadrātmetrs | E20: 1000 | G20: =E20*F20 -> 0
B21: 2.4. | C21: Koka logu(no abām pusēm, t.sk. rāmju, iekšējo un ārējo palodžu) mazgāšana (AR pacēlāju) | D21: kvadrātmetrs | E21: 1000 | G21: =E21*F21 -> 0
B22: 2.5. | C22: Iekšējo un ārējo žalūziju tīrīšana | D22: kvadrātmetrs | E22: 500 | G22: =E22*F22 -> 0
B23: 3 | C23: HIGIĒNAS PREČU NODROŠINĀŠANA****
B24: 3.1 | C24: Roku dvieļu sistēma TORK H1 vai ekvivalents (plastmasas) | D24: 1 gab turētājs | E24: 1 | G24: =E24*F24 -> 0
B25: 3.2 | C25: Tualetes papīra sistēma TORK T2 Mini Jumbo vai ekvivalents (plastmasas) | D25: 1 gab turētājs | E25: 1 | G25: =E25*F25 -> 0
B26: 3.3 | C26: Šķidro ziepju sistēma TORK S1 vai ekvivalents (plastmasas) | D26: 1 gab dozators | E26: 1 | G26: =E26*F26 -> 0
B27: 3.4 | C27: Roku dvieļi sistēmai TORK H1 vai ekvivalents | D27: 1 gab rullis | E27: 100 | G27: =E27*F27 -> 0
B28: 3.5 | C28: Tualetes papīrs sistēmai TORK T2 Mini Jumbo vai ekvivalents | D28: 1 gab rullis | E28: 100 | G28: =E28*F28 -> 0
B29: 3.6 | C29: Šķidro ziepju iepakojums sistēmai TORK S1 vai ekvivalents | D29: 1 gab | E29: 100 | G29: =E29*F29 -> 0
B30: 4 | C30: CITI TELPU UZKOPŠANAS DARBI
B31: 4.1 | C31: Durvju (t.sk.rokturu), kāpņu margu, sienu vienreizēja padziļināta mazgāšana vai dezinfekcija | D31: stunda | E31: 10 | G31: =E31*F31 -> 0
B32: 4.2 | C32: Mīksto mēbeļu (krēslu, dīvānu) ķīmiskā tīrīšana | D32: stunda | E32: 10 | G32: =E32*F32 -> 0
B33: 4.3 | C33: Lampu un apgaismes ķermeņu mazgāšana | D33: stunda | E33: 10 | G33: =E33*F33 -> 0
B34: 4.4 | C34: Biroja tehnikas (datoru, printeru, multiekārtu, TV, u.c.) tīrīšana | D34: 1 tehnikas vienība | E34: 50 | G34: =E34*F34 -> 0
B35: 4.5 | C35: Dezinfekcija (darba dienās, darba laikā 09:00-17:00) | D35: kvadrātmetrs | E35: 400 | G35: =E35*F35 -> 0
B36: 4.6 | C36: Dezinfekcija (ārpus darba laika 17:00-08:00 un brīvdienās) | D36: kvadrātmetrs | E36: 400 | G36: =E36*F36 -> 0
B37: 4.7 | C37: Ģenerālā telpu uzkopšana (t.sk.visu horizontālo un vertikālo virsmu, mīkstā grīdas seguma ķīmiskā tīrīšana, linoleja vaskošana vai pulēšana, logu un stikloto starpsienu mazgāšana no abām pusēm) | D37: kvadrātmetrs | E37: 1600 | G37: =E37*F37 -> 0
B38: 4.8 | C38: Telpu uzkopšana pēc avārijas situācijām (t.sk.ja nepieciešams, ar speciālo tehniku) | D38: kvadrātmetrs | E38: 400 | G38: =E38*F38 -> 0
B39: 4.9 | C39: Telpu uzkopšana pēc remontdarbiem (visu horizontālo un vertikālo virsmu, t.sk. ja nepieciešams, ar speciālo uzkopšanas tehniku) | D39: kvadrātmetrs | E39: 100 | G39: =E39*F39 -> 0
B40: 4.10 | C40: Ikdienā neizmantotu telpu uzkopšana (pagrabi, bēniņi, noliktavas) | D40: kvadrātmetrs | E40: 100 | G40: =E40*F40 -> 0
B41: 4.11 | C41: Dezūrapkopējas pakalpojums | D41: stunda | E41: 50 | G41: =E41*F41 -> 0
B42: 5 | C42: TERITORIJU UZKOPŠANAS DARBI
B43: 5.1 | C43: Dežūrsētnieka pakalpojumi | D43: stunda | E43: 50 | G43: =E43*F43 -> 0
B44: 5.2 | C44: Papildus teritorijas sakopšanas darbi, kad nepieciešams uzkopt papildus platību, kas ikdienā netiek uzkopta (teritorijas slaucīšana, lapu, zaru un sīko atkritumu savākšana manuāli maisos) | D44: kvadrātmetrs | E44: 9000 | G44: =E44*F44 -> 0
B45: 5.3 | C45: Vienreizēji teritorijas sakopšanas darbi (mobilā brigāde, dežūrsētnieks, piem.pilsētas svētku, sporta vai citu pasākumu laikā utml) | D45: stunda | E45: 4000 | G45: =E45*F45 -> 0
B46: 5.4 | C46: Dārznieka pakalpojumi (apstādījumu uzturēšana, laistīšana, ravēšana, stādīšana, atzinuma sagatavošana, u.c) | D46: stunda | E46: 30 | G46: =E46*F46 -> 0
B47: 5.5 | C47: Fasādes mazgāšana (t.sk. Grafiti zīmējumu tīrīšana) | D47: stunda | E47: 30 | G47: =E47*F47 -> 0
B48: 5.6 | C48: Bruģa mazgāšana/attīrīšana | D48: kvadrātmetrs | E48: 1000 | G48: =E48*F48 -> 0
B49: 5.7 | C49: Zāliena atjaunošana (vertikulēšana/aerācija un piesēšana) | D49: kvadrātmetrs | E49: 2000 | G49: =E49*F49 -> 0
B50: 5.8 | C50: Zāles pļaušana ar rokas pļaujmašīnu/trimmeri * | D50: kvadrātmetrs | E50: 3000 | G50: =E50*F50 -> 0
B51: 5.9 | C51: Dzīvžoga apgriešana * | D51: stunda | E51: 50 | G51: =E51*F51 -> 0
B52: 5.10 | C52: Mehanizēta teritorijas attīrīšana no sniega un ledus * | D52: stunda | E52: 100 | G52: =E52*F52 -> 0
B53: 5.11 | C53: Mehanizēta teritorijas kaisīšana/apstrāde ar pretslīdes materiālu * | D53: stunda | E53: 100 | G53: =E53*F53 -> 0
B54: 5.12 | C54: Mehanizēta teritorijas uzkopšana ar putekļsūcēju | D54: stunda | E54: 100 | G54: =E54*F54 -> 0
B55: 6 | C55: SNIEGA un BIOLOĢISKO ATKRITUMU IZVEŠANAS DARBI
B56: 6.1 | C56: Bioloģisko atkritumu (zaru, lapu, nopļautās zāles, krūmu, celmu un koku) izvešana | D56: kubs | E56: 20 | G56: =E56*F56 -> 0
B57: 6.2 | C57: Savāktā sniega izvešana (ietverot sniega iekraušanu un izvešanu no teritorijas, atskaite par m3). | D57: kubs | E57: 50 | G57: =E57*F57 -> 0
B58: KOPĀ CENA PAR PAPILDUS PAKALPOJUMU (KRITĒRIJS K-2) | G58: =SUM(G12:G57) -> 0
C60: JAUNA OBJEKTA PIEVIENOŠANAS CENA | H60: MAKSIMĀLIE PUNKTI
B61: NPK | C61: OBJEKTA KATEGORIJA | D61: Pakalpojuma zona | E61: KVM diapazons | F61: CENA EUR/KVM | H61: punkti K3
B62: 1 | C62: A | D62: teritorija | E62: līdz 1000 | H62: 10
B63: 2 | C63: A | D63: teritorija | E63: no 1000-3000
B64: 3 | C64: A | D64: teritorija | E64: virs 3000
B65: 4 | C65: B | D65: teritorija | E65: līdz 1000
B66: 5 | C66: B | D66: teritorija | E66: no 1000-3000
B67: 6 | C67: B | D67: teritorija | E67: virs 3000
B68: 7 | C68: C | D68: teritorija | E68: līdz 1000
B69: 8 | C69: C | D69: teritorija | E69: no 1000-3000
B70: 9 | C70: C | D70: teritorija | E70: virs 3000
B71: 10 | C71: A | D71: telpas | E71: n/a
B72: 11 | C72: B | D72: telpas | E72: n/a
B73: 12 | C73: C | D73: telpas | E73: n/a
B74: KOPĀ CENA PAR JAUNA OBJEKTA PIEVIENOŠANU (Kritērijs K-3) | F74: =SUM(F62:F73) -> 0
B76: IZPILDĪTĀJAM aizpildāmie lauki
B78: * - Darbi, BEZ IZVEŠANAS.
B79: ** - "Objekts ar īpašām prasībām" ir objekts ar sarežģītu jumta konstrukciju, specifisku segumu (stikla, niedru, oļu, vtml), sareģžītu piekļuvi vai īpašām drošības prasībām
B80: *** - Papildus pakalpojumi ir pakalpojumi, kuri būs nepieciešami papildus ikdienas uzkopšanas pakalpojumiem, kuri nav iekļauti Ikdienas uzkopšanas pakalpojumos.
B81: ****- Izpildītājs ir tiesīgs par saviem līdzekļiem aizstāt Objektā esošos higiēnas preču turētājus ar citiem - līdzvērtīgiem, ja Pasūtītājs tam piekrīt un nomaiņas rezultātā netiek bojātas telpu sienas vai radītas neērtības vai finansiāli zaudējumi

Sheet FP Detalizācija 
A2: NPK | B2: PAKALPOJUMS | C2: OBJEKTS | D2: KADASTRS | E2: OBJEKTA UZKOPŠANAS KATEGORIJA | F2: KOPĒJĀ PLATĪBA (m²) | G2: Objektā nodarbinātā viena cilvēka stundu skaits | H2: Objektā nodarbināto skaits | I2: Objektā nodarbināto kopējās stundas | J2: Darbinieku izmaksas stundā Bruto* | K2: VSAOI (darba devēja daļa, riska nodeva, atvaļinājuma, slimības naudas uzkrājums) | L2: DARBASPĒKA izmaksas mēnesī (t.sk. nodokļi) | M2: Viena nodarbinātā izmaksas | N2: Materiālu izmaksas (uzkopšanas līdzekļi, dezinfekcijas līdzekļi, atkritumu maisi, u.c.), | O2: Higiēnas preču izmaksas | P2: Maināmo paklāju izmaksas | Q2: Inventārs, pamatlīdzekļu amortizācija, darba apģērbs | R2: Citas izmaksas (transporta un administratīvās izmaksas, darbu vadīšana u.c.) | S2: CENA par pakalpojumu KOPĀ mēnesī | T2: CENA par pakalpojumu KOPĀ līguma perioda laikā 36 mēneši | U2: CENA par pakalpojumu m2
B3: veids | C3: Adrese | E3: (A,B,C) | F3: (m2) | G3: (h/mēnesī **) | I3: (h/mēnesī **) | J3: EUR/h (bez PVN) | K3: EUR/mēn | L3: EUR/mēn (bez PVN) | M3: EUR/mēnesī | N3: EUR/mēnesī | O3: EUR/mēnesī | P3: EUR/mēnesī | Q3: EUR/mēnesī | R3: EUR/mēnesī | S3: EUR/mēnesī | T3: EUR/36 mēneši | U3: EUR/m2
A4: 1 | B4: =FP_ZEMGALE!C4 -> Telpu ikdienas uzkopšana | C4: =FP_ZEMGALE!D4 -> Jelgava, Pasta iela 43 | D4: ='Objektu saraksts (telpas)'!C5 -> 09000060021001 | E4: ='Objektu saraksts (telpas)'!D5 -> A | F4: ='Objektu saraksts (telpas)'!E5 -> 337.3 | L4: =(I4*J4)+K4 -> 0 | M4: =L4/H4 -> #DIV/0! | S4: =+L4+N4+O4+Q4+R4+P4 -> 0 | T4: =S4*36 -> 0 | U4: =S4/F4 -> 0
A5: 2 | B5: =FP_ZEMGALE!C5 -> Telpu ikdienas uzkopšana | C5: =FP_ZEMGALE!D5 -> Dobele, Zaļā iela 27 | D5: ='Objektu saraksts (telpas)'!C6 -> 46010134939001 | E5: ='Objektu saraksts (telpas)'!D6 -> A | F5: ='Objektu saraksts (telpas)'!E6 -> 334.6 | I5: =G5*H5 -> 0 | L5: =(I5*J5)+K5 -> 0 | M5: =L5/H5 -> #DIV/0! | S5: =+L5+N5+O5+Q5+R5+P5 -> 0 | T5: =S5*36 -> 0 | U5: =S5/F5 -> 0
A6: 3 | B6: =FP_ZEMGALE!C6 -> Teritorijas uzkopšana | C6: =FP_ZEMGALE!D6 -> Dobele, Zaļā iela 27 | D6: ='Objektu saraksts (teritorija)'!C3 -> 46010134939 | E6: ='Objektu saraksts (teritorija)'!D3 -> B | F6: ='Objektu saraksts (teritorija)'!E3 -> 1996.42 | I6: =G6*H6 -> 0 | L6: =(I6*J6)+K6 -> 0 | M6: =L6/H6 -> #DIV/0! | S6: =+L6+N6+O6+Q6+R6+P6 -> 0 | T6: =S6*36 -> 0 | U6: =S6/F6 -> 0
A7: 4 | B7: =FP_ZEMGALE!C7 -> Teritorijas uzkopšana | C7: =FP_ZEMGALE!D7 -> Jelgava, Pasta iela 43 | D7: ='Objektu saraksts (teritorija)'!C4 -> 09000060021 | E7: ='Objektu saraksts (teritorija)'!D4 -> B | F7: ='Objektu saraksts (teritorija)'!E4 -> 2160.3 | I7: =G7*H7 -> 0 | L7: =(I7*J7)+K7 -> 0 | M7: =L7/H7 -> #DIV/0! | S7: =+L7+N7+O7+Q7+R7+P7 -> 0 | T7: =S7*36 -> 0 | U7: =S7/F7 -> 0

Sheet Objektu saraksts (teritorija)
A2: NPK | B2: OBJEKTS | C2: KADASTRS | D2: OBJEKTA UZKOPŠANAS KATEGORIJA | E2: KOPĒJĀ PLATĪBA (m²) | F2: Ietvju platība, cietais segums (m²) | G2: Zāliena platība (m²) | H2: Pagalma platība (m²) | I2: Kāpņu platība (m²) | J2: Jānodrošina karoga izkāršana | K2: Sniega izvešana | L2: Zāliena pļaušana | M2: ĪPAŠĀS PRASĪBAS (JĀŅEM VĒRĀ)
A3: 1 | B3: Dobele, Zaļā iela 27 | C3: 46010134939 | D3: B | E3: =SUM(F3:I3) -> 1996.42 | F3: 550.74 | G3: 1445.68 | J3: 1 | K3: - | L3: x | M3: VNĪ nenodrošina darbarīku glabāšanas telpu, atkritumu konteineri izvešanas dienā jāizstumj pie iebraucamā ceļa.
A4: 2 | B4: Jelgava, Pasta iela 43 | C4: 09000060021 | D4: B | E4: =SUM(F4:I4) -> 2160.3 | F4: 1315.95 | G4: 844.35 | J4: 1 | K4: - | L4: x | M4: Noteiktā laikā katru darbadienas rītu jāatslēdz visas ārdurvis, 1.stāva gaiteņa druvis un jānoņem signalizācija, un vakarā noteiktā laikā visas jāaizslēdz un jāuzliek uz signalizāciju. Katru darbadienas rītu jānoņem diagonālā pacēlāja pārsegs un pacēlājs jāieslēdz, vakaros tas jāizslēdz un jāpārklāj pārsegs. | N4: Āra lieveņu, kāpņu platība ir iekļauta ailē Ietvju platība, cietais segums
D5: KOPĒJĀ PLATĪBA | E5: =SUM(E3:E4) -> 4156.72 | F5: =SUM(F3:F4) -> 1866.69 | G5: =SUM(G3:G4) -> 2290.03 | J5: =SUM(J3:J4) -> 2
B8: x - jānodrošina

Sheet Teritorija (UP)
B2: NPK | C2: TERITORIJAS IKDIENAS UZKOPŠANĀ VEICAMIE DARBI | D2: 1xdiennaktī līdz plkst.:08:00 | E2: 2x diennaktī | F2: Intensīvas snigšanas gadījumā, ne retāk kā ik pa 4h (no 06:00 - 22:00) | G2: 1 x nedēļā | H2: 1x mēnesī | I2: Pēc nepieciešamības
B3: ZIEMAS SEZONĀ (novembris-marts)₁
B4: 1. | C4: Trotuāri, ietves, gājēju celiņi (ar speciālu segumu), autostāvvietas, veloceliņi, pagalmi, iebrauktuves, lieveņi, ieejas pakāpieni
B5: 1.1 | C5: Objekta apsekošana (ne retāk kā 1x mēnesī) | I5: X
B6: 1.2 | C6: Slaucīšana, ja nekrīt sniegs | D6: X
B7: 1.3 | C7: Attīrīšana no sniega un ledus, kaisīšana ar pretslīdes materiāliem | D7: X
B8: 1.4 | C8: Attīrīšana no apledojuma atkalas laikā (ar ledus cirtni), kaisīšana ar smilšu un sāls maisījumu | D8: X
B9: 1.5 | C9: Kanalizācijas aku vāku un hidrantu attīrīšana no sniega | D9: X
B10: 1.6 | C10: Atkritumu tvertņu novietnes laukuma slaucīšana | D10: X
B11: 1.7 | C11: Atkritumu urnu tukšošana un maisiņu nomaiņa atkritumu tvertnēs teritorijā | D11: X
B12: 1.8 | C12: Attīrīšana no sniega un ledus intensīvas snigšanas gadījumā (kolīdz sniega biezums pārsniedz 2 cm) un kaisīšana ar pretslīdes materiālu | F12: X
B13: 1.9 | C13: Ēku ieejas mezglu (kāpņu, nobrauktuvju) tīrīšana no ledus un sniega, un kaisīšana ar pretslīdes materiālu | F13: X
B14: 1.1 | C14: Kaisīšana ar pretslīdes materiālu atkalas laikā | I14: X
B15: 1.11 | C15: Atkritumu tvertņu korpusu tīrīšana no ārpuses | I15: X
B16: 1.12 | C16: Lielgabarīta atkritumu izvešanas organizēšana (ja tādi novietoti blakus atkritumu konteineriem) | I16: X
B17: 1.13 | C17: Bīstamo vietu (bedres, ūdenstilpnes, utml) un vietu, kur uz jumta izveidojušās lāstekas - norobežošana ar speciālo lenti | I17: X
B18: 1.14 | C18: Ēkas numurzīmju tīrīšana | I18: X
B19: 1.15 | C19: Sniega izvešana ⁴ | I19: X
B20: 1.16 | C20: Karoga izkāršana atbilstošā noformējumā saskaņā ar LR likumdošanu ¹ | I20: X
B21: 1.17 | C21: Koku, krūmu vai aizlūzušu zaru apzāģēšana vietās, kur tiek traucēta gājēju un transporta kustība vai tie bojā sētu (t.sk. nozāģēto zaru izvešana un nepieciešamo mehānisko līdzekļu noma) ² | I21: X
B22: 2. | C22: Zālāji un citi laukumi, kuri netiek izmantoti, lai pārvietotos
B23: 2.1 | C23: Atkritumu savākšana | D23: X
B24: 3 | C24: Citi
B25: 3.1 | C25: Ēkas jumta un noteku tīrīšana (no sniega, ledus, gružiem, koku lapām un zariem) | I25: X
B26: 3.2 | C26: Ēku fasādes ārpuses uzturēšana tīrībā | I26: X
B27: 3.3 | C27: Teritorijā esošo nojumju, koku stumbru un sakņu aizsarg-apmaļu, soliņu un velosipēdu novietņu (stendu/statīvu) uzturēšana tīrībā ⁴ | I27: X
B28: 3.4 | C28: Teritorijā esošo kravas pacēlāju un piegādes rampu, ja tādas atrodas teritorijā, uzturēšana tīrībā ⁴ | I28: X
B29: 3.5 | C29: Teritorijā esošo apgaismes ķermeņu, nožogojumu un norāžu uzturēšana tīrībā ⁴ | I29: X
B30: 3.6 | C30: Teritorijā esošo koku un apstādījumu uzturēšana (kokkopja, arborista paklapojumi lūzušu koku gadījumā) ⁴ | I30: X
B31: VASARAS SEZONĀ (aprīlis-oktobris)
B32: 4 | C32: Trotuāri, ietves, gājēju celiņi (ar speciālu segumu), autostāvvietas, veloceliņi, pagalmi, iebrauktuves, lieveņi, ieejas pakāpieni
B33: 4.1 | C33: Objekta apsekošana (ne retāk kā 1x mēnesī) | I33: X
B34: 4.2 | C34: Teritorijas slaucīšana | D34: X
B35: 4.3 | C35: Atkritumu urnu tukšošana un maisiņu nomaiņa atkritumu tvertnēs teritorijā | D35: X
B36: 4.4 | C36: Atkritumu tvertņu korpusu tīrīšana no ārpuses | D36: X
B37: 4.5 | C37: Atkritumu tvertņu novietnes laukuma slaucīšana | D37: X
B38: 4.6 | C38: Lielgabarīta atkritumu izvešanas organizēšana (ja tādi novietoti blakus atkritumu konteineriem) | I38: X
B39: 4.7 | C39: Bīstamo vietu (bedres, ūdenstilpnes utml) norobežošana ar speciālo lenti | I39: X
B40: 4.8 | C40: Karoga izkāršana atbilstošā noformējumā saskaņā ar LR likumdošanu ¹ | I40: X
B41: 4.9 | C41: Koku, krūmu vai aizlūzušu zaru apzāģēšana vietās, kur tiek traucēta gājēju un transporta kustība vai tie bojā sētu (t.sk. nozāģēto zaru izvešana un nepieciešamo mehānisko līdzekļu noma) ³ | I41: X
B42: 4.1 | C42: Lapu savākšana un izvešana | I42: X
B43: 4.11 | C43: Smilšu savākšana pēc ziemas sezonas un to izvešana | I43: X
B44: 5 | C44: Zālāji un citi laukumi, kuri netiek izmantoti, lai pārvietotos
B45: 5.1 | C45: Atkritumu savākšana | D45: X
B46: 5.2 | C46: Apstādījumu un zālāja laistīšana, kur tas tehniski iespējams un nepieciešamības | I46: X
B47: 5.3 | C47: Apstādījumu, trotuāra malu, bruģa, betona plākšņu, cita veida segumu ravēšana un attīrīšana no nezālēm, sūnām | I47: X
B48: 5.4 | C48: Dekoratīvo krūmu kopšana (griešana, formas veidošana, mulčošana, ravēšana) | I48: X
B49: 5.5 | C49: Lapu, zaru un nopļautās zāles savākšana | I49: X
B50: 5.6 | C50: Zālāju pļaušana ievērojot pašvaldības saistošos noteikumus ³ | I50: X
B51: 5.7 | C51: Zālāja un apstādījumu laistīšana, kur tas tehniski iespējams un nepieciešamības | I51: X
B52: 5.8 | C52: Zālāju atjaunošana un uzturēšana (t.sk.piesēt vietas, kur zāle iznīkusi, aerācija, kaisīšana ar dolomīta smiltīm, lai likvidētu sūnas) | I52: X
B53: 6 | C53: Citi
B54: 6.1 | C54: Ēku jumta un noteku tīrīšana (gružiem, koku lapām un zariem) | I54: X
B55: 6.2 | C55: Ēku fasādes ārpuses uzturēšana tīrībā | I55: X
B56: 6.3 | C56: Ēku ieejas mezglu (kāpņu, nobrauktuvju) tīrīšana | I56: X
B57: 6.4 | C57: Teritorijā esošo nojumju, koku stumbru un sakņu aizsarg-apmaļu, soliņu un velosipēdu novietņu (stendu/statīvu), ja tādi atrodas teritorijā, uzturēšana tīrībā | I57: X
B58: 6.5 | C58: Teritorijā esošo kravas pacēlāju un piegādes rampu, ja tādas atrodas teritorijā, uzturēšana tīrībā ⁴ | I58: X
B59: 6.6 | C59: Teritorijā esošo apgaismes ķermeņu, nožogojumu un norāžu uzturēšana tīrībā ⁴ | I59: X
B60: 6.7 | C60: Teritorijā esošo koku un apstādījumu uzturēšana (kokkopja, arborista, daiļdārznieka pakalpojumi) ⁴ | I60: X
B61: 6.8 | C61: Kurmju apkarošanas pasākumi ⁴ | I61: X
B63: ¹ | C63: Saskaņā ar likumu "Latvijas valsts karoga likums"
B64: ² | C64: Atļauju koku nozāģēšanai saskaņo VNĪ. Troturāra un brauktuves norobežošanas atļauju saskaņo Izpildītājs.
B65: ³ | C65: Neapbūvētajā teritorijā zāle pļaujama 2x sezonā
B66: ⁴ | C66: Jānodrošina esošās ikmēneša pakalpojuma cenas ietvaros, ja tas Objektam norādīts ĪPAŠAJĀS PRASĪBĀS. Gadījumos, kad ĪPAŠĀS PRASĪBĀS nav norādīts, bet nepieciešamība roda nākotnē, vai Jaunajiem objektiem - šie pakalpojumi tiek nodrošināti un apmaksāti papildus par cenām, ko Pasūtītājs norādījis Papildpakalpojumos.

Sheet Objektu saraksts (telpas)
G2: SADALĪJUMS PA TELPU GRUPĀM | P2: SADALĪJUMS PA SEGUMIEM | U2: UZKOPŠANA JĀVEIC | Y2: PAPILDPRASĪBAS
A3: NPK | B3: OBJEKTS | C3: KADASTRA NR. | D3: OBJEKTA KATEGORIJA | E3: TELPU KOPĒJĀ PLATĪBA (m²) | G3: Ārtelpa | H3: Biroju/darba telpas | I3: Koplietošanas telpas | J3: Sanitārās telpas | K3: Tehniskās telpas | L3: Virtuves, ēdamzāles, atpūtas telpas | M3: Zāles | N3: Ekspozīciju zāles | P3: Cietie grīdas segumi | Q3: Dabīgā koka grīdas segums | R3: Mīkstais, paklājs | S3: Citi segumi* | U3: UZKOPŠANA JĀVEIC (cik dienas) | V3: UZKOPŠANA JĀVEIC (kurās dienās) | W3: UZKOPŠANAS LAIKS (no plkst.) | Y3: HIGIĒNAS PRECES (skat.pielikumu "Higiēnas preces") | Z3: DEŽŪRAPKOPĒJI | AA3: LIFTI ĒKĀ | AB3: MAINĀMIE PAKLĀJI | AC3: ĪPAŠĀS PRASĪBAS (JĀŅEM VĒRĀ) UN PAPILDUS INFORMĀCIJA APRĒĶINIEM:
A4: Nr. | B4: (Adrese) | C4: Nr. | D4: (A/B/C) | E4: (m²) | G4: (m²) | H4: (m²) | I4: (m²) | J4: (m²) | K4: (m²) | L4: (m²) | M4: (m²) | N4: (m²) | P4: (m²) | Q4: (m²) | R4: (m²) | S4: (m²) | U4: Skaits | V4: Kuras dienas | W4: Izvēlne | Y4: (jānodrošina) | Z4: (skaits) | AA4: (skaits)
A5: 1 | B5: Jelgava, Pasta iela 43 | C5: 09000060021001 | D5: A | E5: 337.3 | G5: - | H5: 194.8 | I5: 108.7 | J5: 11.5 | K5: 10.2 | L5: 12.1 | M5: - | N5: - | P5: 337.3 | Q5: - | R5: - | S5: - | U5: 5 darba dienas | V5: Pr, Ot, Tr, Ce, Pk | W5: 17:00-22:00 | Y5: jānodrošina | Z5: - | AA5: - | AB5: 1 | AC5: Noteiktā laikā katru vakaru jāaizslēdz visas ārdurvis, 1.stāva gaiteņa durvis un jāuzliek signalizācija. Sanitārās telpas:3 izlietnes, 3 podi., viena izlietne virtuvē Pakešu logi jāmazgā 2x gadā
A6: 2 | B6: Dobele, Zaļā iela 27 | C6: 46010134939001 | D6: A | E6: 334.6 | H6: 177.3 | I6: 133 | J6: 8.4 | L6: 15.9 | P6: 334.6 | U6: 5 darba dienas | V6: Pr, Ot, Tr, Ce, Pk | W6: 17:00-22:00 | Y6: jānodrošina | Z6: -- | AA6: - | AB6: 1 | AC6: Sanitārās telpas: 2 izlietnes, 2 podi., viena izlietne virtuvē Pakešu logi jāmazgā 1x gadā
D7: UZKOPJAMĀS TELPU PLATĪBAS KOPĀ: | E7: =SUM(E5:E6) -> 671.9 | G7: =SUM(G5:G6) -> 0 | H7: =SUM(H5:H6) -> 372.1 | I7: =SUM(I5:I6) -> 241.7 | J7: =SUM(J5:J6) -> 19.9 | K7: =SUM(K5:K6) -> 10.2 | L7: =SUM(L5:L6) -> 28 | M7: =SUM(M5:M6) -> 0 | N7: =SUM(N5:N6) -> 0 | P7: =SUM(P5:P6) -> 671.9 | Q7: =SUM(Q5:Q6) -> 0 | R7: =SUM(R5:R6) -> 0 | S7: =SUM(S5:S6) -> 0 | Z7: =SUM(Z5:Z6) -> 0 | AA7: =SUM(AA5:AA6) -> 0 | AB7: =SUM(AB5:AB6) -> 2

Sheet Telpas (UP-A)
C1: KVALITĀTES LĪMENIS
B2: TELPU IKDIENAS UZKOPŠANAS PAKALPOJUMI (A.kategorijas objektiem) | C2: MĒBELES PIEDERUMI | D2: GRĪDAS | E2: SIENAS | F2: GRIESTI
B3: BIROJU/ DARBA TELPAS, ZĀLES, EKSPOZĪCIJU ZĀLES | C3: 4 | D3: 4 | E3: 4 | F3: 3
B4: Atkritumu grozu tukšošana un maisiņu nomaiņa *
B5: Ādas mēbeļu tīrīšana ar atbilstošu līdzekli
B6: Biroja tehnikas ārējo plastmasas korpusu mitrā tīrīšana (Tālruņi, datori, monitori, faksi, skeneri, kopētāji, galda lampas, elektroslēdži, rozetes.)
B7: Cietā grīdas seguma mitrā uzkopšana telpās
B8: Durvju rokturu tīrīšana ar dezinficējošu līdzekli
B9: Elektroslēdžu un rozešu mitrā tīrīšana
B10: Gaismas ķermeņu un reljefu interjera elementu tīrīšana līdz 2 m augstumam
B11: Brīvo galda virsmu mitrā tīrīšana, ja uz virsmas izklaidus nav papīri **
B12: Grīdlīstšu un ventilācijas restu mitrā tīrīšana
B13: Horizontālo un vertikālo virsmu mitrā tīrīšana (skapji, plaukti, palodzes, galdi, krēsli)
B14: Krēslu kāju mitrā tīrīšana
B15: Lokālu traipu tīrīšana no horizontālām un vertikālajām virsmām (skapji, plaukti, galdi, krēsli, durvis, sienas, stikla starpsienas)
... B17: Mīksto mēbeļu (ja tādas ir) izsūkšana ar putekļu sūcēju
B18: SANITĀRĀS, VIRTUVES TELPAS | C18: 4 | D18: 4 | E18: 4 | F18: 3 | G18: HIGIĒNAS PREČU NODROŠINĀŠANA+ VIRTUVES SAKOPŠANA+DEŽŪRAPKOPĒJA
B19: Atkritumu grozu tukšošana un maisiņu nomaiņa *
B20: Atkritumu tvertnes mazgāšana un dezinficēšana
B21: Cietā grīdas seguma mitrā uzkopšana ar dezinficējošu līdzekli
B22: Durvju rokturu tīrīšana ar dezinficējošu līdzekli
B23: Duškabīnes, dušas stūra vai vannas (ja tāda telpā uzstādīta) tīrīšana
B24: Gaismas ķermeņu un reljefu interjera elementu tīrīšana līdz 2 m augstumam
B25: Grīdlīstšu un ventilācijas restu mitrā tīrīšana
B26: Higiēnas preču turētāju mitrā tīrīšana
B27: Higiēnas preču papildināšana
B28: Higiēnas preču piegāde ***
B29: Horizontālo un vertikālo virsmu mitrā tīrīšana (skapji, plaukti, palodzes, galdi, krēsli)
B30: Lokālu traipu tīrīšana no horizontālajām un vertikālām virsmām
... B38: WC gaisa atsvaidzinātāja nodrošināšana ***
B39: KOPLIETOŠANAS TELPAS | C39: 3 | D39: 3 | E39: 3 | F39: 2
B40: Atkritumu grozu tukšošana un maisiņu nomaiņa *
B41: Ādas mēbeļu tīrīšana ar atbilstošu līdzekli
B42: Cietā grīdas seguma mitrā uzkopšana
B43: Durvju rokturu tīrīšana ar dezinficējošu līdzekli
B44: Elektroslēdžu un rozešu mitrā tīrīšana
B45: Gaismas ķermeņu un reljefu interjera elemntu tīrīšana līdz 2m augstumam
B46: Grīdlīstšu un ventilācijas restu mitrā tīrīšana
B47: Horizontālo un vertikālo virsmu mitrā tīrīšana (skapji, plaukti, palodzes, galdi, krēsli)
B48: Krēslu kāju mitrā tīrīšana
B49: Lokālu traipu tīrīšana no horizontālām un vertikālajām virsmām (skapji, plaukti, galdi, krēsli, durvis, sienas, stikla starpsienas)
B50: Kāpņu margu un roku balstu mitrā tīrīšana (ar dezinficējošu)
B51: Mīkstā grīdas seguma izsūkšana ar putekļusūcēju
... B55: Spoguļu tīrīšana
B56: TEHNISKĀS TELPAS | C56: 2 | D56: 2 | E56: 2 | F56: 2
B57: Atkritumu grozu tukšošana un maisiņu nomaiņa *
B58: Cietā grīdas seguma mitrā uzkopšana (serveru telpās uzkopj tikai grīdas segumu)
B59: Elektroslēdžu un rozešu mitrā tīrīšana
B60: Grīdlīstšu un ventilācijas restu mitrā tīrīšana
B61: Horizontāli virsmu mitrā tīrīšana (skapji, plaukti, palodzes, galdi, krēsli)
B62: Horizontālo un vertikālo virsmu mitrā tīrīšana (skapji, plaukti, palodzes, galdi, krēsli)
B64: * - Atkritumi urnas jāiztukšo katru dienu, ja tajās ir atkritumi. Maisiņi tiek mainīti, ja atkritumos ir bioloģiskas izcelsmes atkritumi. Ja ir iespēja un Lietotājs/Pasūtītājs to pieprasa, tad atkritumi arī ir jāšķiro³
B65: ** - Par atbrīvotām tiek uzskatītas virsmas bez dokumentiem un mapēm, uz galdiem var atrasties rakstāmpiederumu organizatori, plastmasas „šālītes“ u. tml.).
B66: *** - Higiēnas preces ir jāpiegādā, ja tas ir norādīts Objektu sarakstā (Īpašajos noteikumos, kas jāņem vērā uzkopšanas prasībās) vai Pasūtītājs/Lietotājs to pieprasa vēlāk.
B67: **** - Kafijas automāta, ledusskapja, mikroviļnu krāsns un virtuves skapīšu tīrīšana no iekšpuses jāveic, ja tas ir norādīts Objektu sarakstā (Īpašajos noteikumos, kas jāņem vērā uzkopšanas prasībās) vai Pasūtītājs/Lietotājs to pieprasa vēlāk. Visu rūpīgi izņemot, iztīrot un pēc tam saliekot atpakaļ.
B68: ***** - Jāseko līdzi, lai virtuvē vienmēr būtu trauku mazgāšanas līdzeklis un švamme(mazgāšanai ar rokām), gumijota lupatiņa un/ vai trauku tabletes un sāls trauku mazgājamajai mašīna (ja tāda ir).

Sheet Telpas (UP-B)
C1: KVALITĀTES LĪMENIS
B2: TELPU IKDIENAS UZKOPŠANAS PAKALPOJUMI (B.kategorijas objektiem) | C2: MĒBELES PIEDERUMI | D2: GRĪDAS | E2: SIENAS | F2: GRIESTI
B3: BIROJU/ DARBA TELPAS, ZĀLES, EKSPOZĪCIJU ZĀLES | C3: 3 | D3: 3 | E3: 3 | F3: 2
B4: Atkritumu grozu tukšošana un maisiņu nomaiņa *
B5: Ādas mēbeļu tīrīšana ar atbilstošu līdzekli
B6: Biroja tehnikas ārējo plastmasas korpusu mitrā tīrīšana (Tālruņi, datori, monitori, faksi, skeneri, kopētāji, galda lampas, elektroslēdži, rozetes.)
B7: Cietā grīdas seguma mitrā uzkopšana telpās
B8: Durvju rokturu tīrīšana ar dezinficējošu līdzekli
B9: Elektroslēdžu un rozešu mitrā tīrīšana
B10: Gaismas ķermeņu un reljefu interjera elementu tīrīšana līdz 2 m augstumam
B11: Brīvo galda virsmu mitrā tīrīšana, ja uz virsmas izklaidus nav papīri **
B12: Grīdlīstšu un ventilācijas restu mitrā tīrīšana
B13: Horizontālo un vertikālo virsmu mitrā tīrīšana (skapji, plaukti, palodzes, galdi, krēsli)
B14: Krēslu kāju mitrā tīrīšana
B15: Lokālu traipu tīrīšana no horizontālām un vertikālajām virsmām (skapji, plaukti, galdi, krēsli, durvis, sienas, stikla starpsienas)
... B17: Mīksto mēbeļu (ja tādas ir) izsūkšana ar putekļu sūcēju
B18: SANITĀRĀS, VIRTUVES TELPAS | C18: 3 | D18: 3 | E18: 3 | F18: 3
B19: Atkritumu grozu tukšošana un maisiņu nomaiņa *
B20: Atkritumu tvertnes mazgāšana un dezinficēšana
B21: Cietā grīdas seguma mitrā uzkopšana ar dezinficējošu līdzekli
B22: Durvju rokturu tīrīšana ar dezinficējošu līdzekli
B23: Duškabīnes, dušas stūra vai vannas (ja tāda telpā uzstādīta) tīrīšana
B24: Gaismas ķermeņu un reljefu interjera elementu tīrīšana līdz 2 m augstumam
B25: Grīdlīstšu un ventilācijas restu mitrā tīrīšana
B26: Horizontālo un vertikālo virsmu mitrā tīrīšana (skapji, plaukti, palodzes, galdi, krēsli)
B27: Lokālu traipu tīrīšana no horizontālajām un vertikālām virsmām
B28: Spoguļu tīrīšana
B29: WC klozetpoda, pisuāra, izlietnes un santehnikas tīrīšana un dezinficēšana
B30: KOPLIETOŠANAS TELPAS | C30: 2 | D30: 3 | E30: 3 | F30: 2
B31: Atkritumu grozu tukšošana un maisiņu nomaiņa *
B32: Ādas mēbeļu tīrīšana ar atbilstošu līdzekli
B33: Cietā grīdas seguma mitrā uzkopšana
B34: Durvju rokturu tīrīšana ar dezinficējošu līdzekli
B35: Elektroslēdžu un rozešu mitrā tīrīšana
B36: Gaismas ķermeņu un reljefu interjera elemntu tīrīšana līdz 2m augstumam
B37: Grīdlīstšu un ventilācijas restu mitrā tīrīšana
B38: Horizontālo un vertikālo virsmu mitrā tīrīšana (skapji, plaukti, palodzes, galdi, krēsli)
B39: Krēslu kāju mitrā tīrīšana
B40: Lokālu traipu tīrīšana no horizontālām un vertikālajām virsmām (skapji, plaukti, galdi, krēsli, durvis, sienas, stikla starpsienas)
B41: Kāpņu margu un roku balstu mitrā tīrīšana (ar dezinficējošu)
B42: Mīkstā grīdas seguma izsūkšana ar putekļusūcēju
... B46: Spoguļu tīrīšana
B47: TEHNISKĀS TELPAS | C47: 2 | D47: 2 | E47: 2 | F47: 2
B48: Atkritumu grozu tukšošana un maisiņu nomaiņa *
B49: Cietā grīdas seguma mitrā uzkopšana (serveru telpās uzkopj tikai grīdas segumu)
B50: Elektroslēdžu un rozešu mitrā tīrīšana
B51: Grīdlīstšu un ventilācijas restu mitrā tīrīšana
B52: Horizontāli virsmu mitrā tīrīšana (skapji, plaukti, palodzes, galdi, krēsli)
B53: Horizontālo un vertikālo virsmu mitrā tīrīšana (skapji, plaukti, palodzes, galdi, krēsli)
B55: * - Atkritumi urnas jāiztukšo katru dienu, ja tajās ir atkritumi. Maisiņi tiek mainīti, ja atkritumos ir bioloģiskas izcelsmes atkritumi. Ja ir iespēja un Lietotājs/Pasūtītājs to pieprasa, tad atkritumi arī ir jāšķiro³
B56: ** - Par atbrīvotām tiek uzskatītas virsmas bez dokumentiem un mapēm, uz galdiem var atrasties rakstāmpiederumu organizatori, plastmasas „šālītes“ u. tml.).

Sheet Telpas (UP-C)
C1: KVALITĀTES LĪMENIS
B2: TELPU IKDIENAS UZKOPŠANAS PAKALPOJUMI (C.kategorijas objektiem) | C2: MĒBELES PIEDERUMI | D2: GRĪDAS | E2: SIENAS | F2: GRIESTI
B3: SANITĀRĀS, VIRTUVES TELPAS | C3: 3 | D3: 3 | E3: 3 | F3: 2
B4: Atkritumu grozu tukšošana un maisiņu nomaiņa *
B5: Atkritumu tvertnes mazgāšana un dezinficēšana
B6: Cietā grīdas seguma mitrā uzkopšana ar dezinficējošu līdzekli
B7: Durvju rokturu tīrīšana ar dezinficējošu līdzekli
B8: Duškabīnes, dušas stūra vai vannas (ja tāda telpā uzstādīta) tīrīšana
B9: Gaismas ķermeņu un reljefu interjera elementu tīrīšana līdz 2 m augstumam
B10: Grīdlīstšu un ventilācijas restu mitrā tīrīšana
B11: Higiēnas preču turētāju mitrā tīrīšana
B12: Horizontālo un vertikālo virsmu mitrā tīrīšana (skapji, plaukti, palodzes, galdi, krēsli)
B13: Lokālu traipu tīrīšana no horizontālajām un vertikālām virsmām
B14: Spoguļu tīrīšana
B15: WC klozetpoda, pisuāra, izlietnes un santehnikas tīrīšana un dezinficēšana
B16: KOPLIETOŠANAS TELPAS | C16: 2 | D16: 3 | E16: 3 | F16: 2
B17: Atkritumu grozu tukšošana un maisiņu nomaiņa *
B18: Ādas mēbeļu tīrīšana ar atbilstošu līdzekli
B19: Cietā grīdas seguma mitrā uzkopšana
B20: Durvju rokturu tīrīšana ar dezinficējošu līdzekli
B21: Elektroslēdžu un rozešu mitrā tīrīšana
B22: Gaismas ķermeņu un reljefu interjera elemntu tīrīšana līdz 2m augstumam
B23: Grīdlīstšu un ventilācijas restu mitrā tīrīšana
B24: Horizontālo un vertikālo virsmu mitrā tīrīšana (skapji, plaukti, palodzes, galdi, krēsli)
B25: Krēslu kāju mitrā tīrīšana
B26: Lokālu traipu tīrīšana no horizontālām un vertikālajām virsmām (skapji, plaukti, galdi, krēsli, durvis, sienas, stikla starpsienas)
B27: Kāpņu margu un roku balstu mitrā tīrīšana (ar dezinficējošu)
B28: Mīkstā grīdas seguma izsūkšana ar putekļusūcēju
... B32: Spoguļu tīrīšana
B33: TEHNISKĀS TELPAS | C33: 2 | D33: 2 | E33: 2 | F33: 2
B34: Atkritumu grozu tukšošana un maisiņu nomaiņa *
B35: Cietā grīdas seguma mitrā uzkopšana (serveru telpās uzkopj tikai grīdas segumu)
B36: Elektroslēdžu un rozešu mitrā tīrīšana
B37: Grīdlīstšu un ventilācijas restu mitrā tīrīšana
B38: Horizontāli virsmu mitrā tīrīšana (skapji, plaukti, palodzes, galdi, krēsli)
B39: Horizontālo un vertikālo virsmu mitrā tīrīšana (skapji, plaukti, palodzes, galdi, krēsli)
B41: * - Atkritumi urnas jāiztukšo katru dienu, ja tajās ir atkritumi. Maisiņi tiek mainīti, ja atkritumos ir bioloģiskas izcelsmes atkritumi. Ja ir iespēja un Lietotājs/Pasūtītājs to pieprasa, tad atkritumi arī ir jāšķiro³

Sheet Higiēnas preces
A1: Reģions | B1: NPK | C1: OBJEKTS | D1: CILVĒKU SKAITS (dienā) | E1: ROKU DVIEĻI | F1: TUALETES PAPĪRS | G1: ŠĶIDRĀS ZIEPES ROKU MAZGĀŠANAI | H1: ŠĶIDRĀS ZIEPES pudelītēs ar pumpīti | I1: DEZINFEKCIJAS LĪDZEKLIS (WC telpās, virtuvē, vestibilos pie ieejas un klientu zonās) | J1: VIRTUVES DVIEĻI | K1: TRAUKU MAZGĀJAMAIS LĪDZEKLIS UN ŠVAMME (virtuvē) | L1: GAISA ATSVAIDZINĀTĀJS UN BIRSTE (WC telpās) | M1: PAPILDUS PRASĪBAS
A2: ZEMGALE | B2: 1 | C2: Jelgava, Pasta iela 43 | D2: 29 | E2: TORK H1 roku dvieļu sistēmai vai ekvivalents (2 kārtas) | F2: TORK T2 Mini Jumbo tualetes papīra sistēmai vai ekvivalents (2 kārtas) | G2: TORK S1 šķidro ziepju sistēmai vai ekvivalents (1000 reizēm, nearomatizētas) TORK S4 šķidro ziepju sistēmai vai ekvivalents (1000 reizēm, nearomatizētas) (1.stāva tualete) | H2: X | I2: X | J2: X | K2: X | L2: X
A3: ZEMGALE | B3: 2 | C3: Dobele, Zaļā iela 27 | D3: 12 | E3: Virtuvē TORK H1 roku dvieļu sistēmai vai ekvivalents (2 kārtas) (virtuvē) Divās tualetēs TORK H2 roku dvieļu sistēmai vai ekvivalents (2 kārtas) | F3: TORK T2 Mini Jumbo tualetes papīra sistēmai vai ekvivalents (2 kārtas) | G3: TORK S1 šķidro ziepju sistēmai vai ekvivalents (1000 reizēm, nearomatizētas) | H3: X | I3: X | J3: X | K3: X | L3: X
A5: X - jānodrošina

Sheet Paklāji
B2: ADRESE | C2: KADASTRA NR | D2: IZMĒRS | E2: SKAITS* | F2: NOMAIŅAS BIEŽUMS *
B3: Jelgava, Pasta iela 43 | C3: 09000060021001 | D3: 115 X 200 cm | E3: 1 | F3: 1xnedēļā
B4: Dobele, Zaļā iela 27 | C4: 46010134939001 | D4: 115 X 200 cm | E4: 1 | F4: 1xnedēļā
B5: * Paklāju skaits un nomaiņas biežums var mainīties, atkarībā no telpu Lietotāja prasībām un apstākļiem (piemēram cilvēku plūsmas ēkā, darbinieku darba organizācijas izmaiņām (pāreju uz darbu attālināti) utml.)

Sheet FP_2. daļa_Rīga
B1: FINANŠU PIEDĀVĀJUMS 2.DAĻA: RĪGA - Centra rajons, Latgales, Kurzemes, Zemgales un Vidzmes priekšpilsēta
A3: NPK | B3: PAKALPOJUMS, ADRESE | C3: KOPĒJĀ PLATĪBA OBJEKTOS | D3: OBJEKTA KATEGORIJA | E3: Objektā nodarbināto sētnieku kopējās stundas | F3: Darbinieku/ sētnieka izmaksas stundā Bruto* | G3: KOPĒJĀS SĒTNIEKU DARBA IZMAKSAS Bruto* | H3: Par darbinieku maksājāmā VSAOI darba devēja daļa, riska nodeva, atvaļinājuma, slimības naudas uzkrājums | I3: DARBINIEKU IZMAKSAS IESKAITOT NODOKĻUS | J3: Materiālu, inventāra, līdzekļu, pamatlīdzekļu, amortizācijas un citas izmaksas mēnesī | K3: Citas izmaksas mēnesī: administrācijas izmaksas, kvalitātes kontroles izmaksas neparedz. izd. utml. | L3: CENA PAR PAKALPOJUMU | M3: CENA m²
A4: nr. | B4: ADRESE | C4: (m2) | E4: (h/dienā) | F4: EUR/h (bez PVN) | G4: EUR/mēn (bez PVN) | H4: EUR/mēn | I4: EUR/mēn (bez PVN) | J4: EUR/mēn (bez PVN) | K4: EUR/mēn (bez PVN) | L4: EUR/mēn (bez PVN) | M4: EUR/m² (bez PVN)
A5: A | B5: B | C5: C | D5: D | E5: E | F5: F | G5: G | H5: H | I5: J | J5: K | K5: L | L5: M | M5: N
A6: 1 | B6: Raiņa bulvāris 27 | C6: 270.16 | D6: C | G6: =E6*F6 -> 0 | I6: =G6+H6 -> 0 | L6: =I6+J6+K6 -> 0 | M6: =L6/C6 -> 0
A7: 2 | B7: Raiņa bulvāris 4 | C7: 479.13 | D7: C | G7: =E7*F7 -> 0 | I7: =G7+H7 -> 0 | L7: =I7+J7+K7 -> 0 | M7: =L7/C7 -> 0
A8: 3 | B8: Raiņa bulvāris 7 | C8: 1284.66 | D8: B | G8: =E8*F8 -> 0 | I8: =G8+H8 -> 0 | L8: =I8+J8+K8 -> 0 | M8: =L8/C8 -> 0
A9: 4 | B9: Aristida Briāna iela 13 | C9: 2242 | D9: C | G9: =E9*F9 -> 0 | I9: =G9+H9 -> 0 | L9: =I9+J9+K9 -> 0 | M9: =L9/C9 -> 0
A10: 5 | B10: Baznīcas iela 25 | C10: 945.36 | D10: C | G10: =E10*F10 -> 0 | I10: =G10+H10 -> 0 | L10: =I10+J10+K10 -> 0 | M10: =L10/C10 -> 0
A11: 6 | B11: Baznīcas iela 30 | C11: 0 | G11: =E11*F11 -> 0 | I11: =G11+H11 -> 0 | L11: =I11+J11+K11 -> 0 | M11: =L11/C11 -> #DIV/0!
A12: 7 | B12: Brīvības bulvāris 32 | C12: 761.62 | D12: B | G12: =E12*F12 -> 0 | I12: =G12+H12 -> 0 | L12: =I12+J12+K12 -> 0 | M12: =L12/C12 -> 0
A13: 8 | B13: Brīvības iela 61 | C13: 842.45 | D13: C | G13: =E13*F13 -> 0 | I13: =G13+H13 -> 0 | L13: =I13+J13+K13 -> 0 | M13: =L13/C13 -> 0
A14: 9 | B14: Brīvības iela 72 K-1 | C14: 364.29 | D14: B | G14: =E14*F14 -> 0 | I14: =G14+H14 -> 0 | L14: =I14+J14+K14 -> 0 | M14: =L14/C14 -> 0
A15: 10 | B15: Brīvības iela 96 | C15: 608.55 | D15: C | G15: =E15*F15 -> 0 | I15: =G15+H15 -> 0 | L15: =I15+J15+K15 -> 0 | M15: =L15/C15 -> 0
A16: 11 | B16: Eksporta iela 6 | C16: 999.9 | D16: B | G16: =E16*F16 -> 0 | I16: =G16+H16 -> 0 | L16: =I16+J16+K16 -> 0 | M16: =L16/C16 -> 0
A17: 12 | B17: Elizabetes iela 49 | C17: 931.23 | D17: B | G17: =E17*F17 -> 0 | I17: =G17+H17 -> 0 | L17: =I17+J17+K17 -> 0 | M17: =L17/C17 -> 0
A18: 13 | B18: Elizabetes iela 57, 57A | C18: 323.6 | D18: B | G18: =E18*F18 -> 0 | I18: =G18+H18 -> 0 | L18: =I18+J18+K18 -> 0 | M18: =L18/C18 -> 0
A19: 14 | B19: Krišjāņa Barona iela 21A | C19: 90.07 | D19: C | G19: =E19*F19 -> 0 | I19: =G19+H19 -> 0 | L19: =I19+J19+K19 -> 0 | M19: =L19/C19 -> 0
A20: 15 | B20: Krišjāņa Barona iela 54/58 | C20: 2162.42 | D20: C | G20: =E20*F20 -> 0 | I20: =G20+H20 -> 0 | L20: =I20+J20+K20 -> 0 | M20: =L20/C20 -> 0
A21: 16 | B21: Krišjāņa Valdemāra iela 1A | C21: 3028.75 | D21: B | G21: =E21*F21 -> 0 | I21: =G21+H21 -> 0 | L21: =I21+J21+K21 -> 0 | M21: =L21/C21 -> 0
A22: 17 | B22: Krišjāņa Valdemāra iela 3 | C22: 2050 | D22: A | G22: =E22*F22 -> 0 | I22: =G22+H22 -> 0 | L22: =I22+J22+K22 -> 0 | M22: =L22/C22 -> 0
A23: 18 | B23: Krišjāņa Valdemāra iela 17A | C23: 625.21 | D23: B | G23: =E23*F23 -> 0 | I23: =G23+H23 -> 0 | L23: =I23+J23+K23 -> 0 | M23: =L23/C23 -> 0
... A59: 54 | B59: Šampētera iela 16 | C59: 2453 | D59: C | G59: =E59*F59 -> 0 | I59: =G59+H59 -> 0 | L59: =I59+J59+K59 -> 0 | M59: =L59/C59 -> 0
B60: KOPĒJĀ PLATĪBA: | C60: =SUM(C6:C59) -> 189009.07 | G60: Kopējā cena (EUR bez PVN) par teritorijas uzkopšanu( kritērijs K1 (90 punkti)): | L60: =SUM(L6:L59) -> 0
A61: * | B61: Bruto darba samaksa ir visu Darba likumā ietverto darba samaksas elementu kopums: darbiniekam regulāri izmaksājamā atlīdzība par darbu, kura ietver darba algu un normatīvajos aktos, darba koplīgumā vai darba līgumā noteiktās piemaksas, kā arī prēmijas un jebkuru cita veida atlīdzību saistībā ar darbu uz darba līguma pamata, pirms darba ņēmēja VSAOI daļas un IIN ieturējumiem. Neto darba samaksa - samaksa, kas tiek aprēķināta, no bruto darba samaksas atņemot valsts sociālās apdrošināšanas obligātās iemaksas, ko maksā strādājošie, un iedzīvotāju ienākuma nodokli.
A63: PAPILDUS PAKALPOJUMI
A64: NPK | B64: Pakalpojumi | C64: Mērvienība | D64: Daudzums | E64: Cena par vienu vienību (EUR bez PVN) | F64: Cena KOPĀ (EUR bez PVN), vērtējamā summa | G64: VĒRTĒŠANAS KRITĒRIJS K2-K8
A65: 1 | B65: Mehanizēta teritorijas attīrīšana no sniega un ledus. GPS atskaite | C65: h | F65: =D65*E65 -> 0 | G65: K2 -1 punkts
A66: 2 | B66: Mehanizēta teritorijas kaisīšana/apstrāde ar pretslīdes materiālu. GPS atskaite | C66: h | F66: =D66*E66 -> 0 | G66: K3 -1 punkts
A67: 3 | B67: Savāktā sniega izvešana (ietverot sniega iekraušanu un izvešanu no teritorijas). Atskaite par m3. | C67: m3 | F67: =D67*E67 -> 0 | G67: K4 -1 punkts
A68: 4 | B68: Dežūrsētnieks | C68: h | F68: =D68*E68 -> 0 | G68: K5 - 2 punkti
A69: 5 | B69: Dārznieks | C69: h | F69: =D69*E69 -> 0 | G69: K6 - 2 punkti
A70: 6 | B70: Mehanizēta teritorijas uzkopšana ar putekļsūcēju. GPS atskaite. | C70: h | F70: =D70*E70 -> 0 | G70: K7 - 1 punkts
A71: 7 | B71: Mehāniska zāles pļaušana | C71: m2 | F71: =D71*E71 -> 0 | G71: K8 - 2 punkti
B73: Cenas norādāmas ar visiem nodokļiem un nodevām, ar ko var tikt aplikts šis pakalpojumus, (izņemot pievienotās vērtības nodokli), ar precizitāti 2 (divas) zīmes aiz komata. Piedāvātajā cenā ir ietvertas visas izmaksas, atlaides un piemaksas, ja tādas paredzētas, kā arī visi iespējamie riski, kas saistīti ar tirgus cenu svārstībām visā līguma izpildes laikā.
B74: Finanšu piedāvājumā ierēķinātas visas izmaksas (darbaspēks, materiāli, piegāde, mehānismi, iekārtas, nodokļi, atļaujas, apmācības u.c.), kas nepieciešamas pilnīgai un kvalitatīvai tehniskajā specifikācijā minēto Darbu izpildei un Papildpakalojumu sniegšanai.
B76: Jaunā cena pievienojamiem objektiem (kategorijas=C/M)
B77: KATEGORIJA | C77: Platība | D77: Cena kopā | E77: Cena kvm
B78: A | C78: 2 | D78: 0 | E78: =GETPIVOTDATA("Cena kopā",$B$77,"OBJEKTA KATEGORIJA","A")/GETPIVOTDATA("Platība ",$B$77,"OBJEKTA KATEGORIJA","A") -> 0
B79: B | C79: 20 | D79: 0 | E79: =GETPIVOTDATA("Cena kopā",$B$77,"OBJEKTA KATEGORIJA","B")/GETPIVOTDATA("Platība ",$B$77,"OBJEKTA KATEGORIJA","B") -> 0
B80: C | C80: 31 | D80: 0 | E80: =GETPIVOTDATA("Cena kopā",$B$77,"OBJEKTA KATEGORIJA","C")/GETPIVOTDATA("Platība ",$B$77,"OBJEKTA KATEGORIJA","C") -> 0
B81: Grand Total | C81: 53 | D81: 0
