Workbook
Name datums: [1]KA!$K$45
Name likme: KT!$E$25
Name parb: [1]KA!$K$43
Name procenti: #REF!
Name sast: [1]KA!$K$42
Name sertif: [1]KA!$K$44

Sheet KT
C2: APSTIPRINU_________________________________
C3: (pasūtītāja paraksts un tā atšifrējums)
C4: Z.V.
C5: ___.gada ___.______________
A7: Būvniecības koptāme
A9: Objekta nosaukums: | B9: ,,Svētes pamatskolas ēkas piebūve, kā jaunas multifunkcionālas mācību telpu izveide 1.kārta''
A10: Būves nosaukums: | B10: Svētes pamatskola
A11: Objekta adrese: | B11: Svētē, Vilces ielā 6
A12: Pasūtījuma nr.:
A14: Nr.p.k. | B14: Objekta nosaukums | C14: Objekta izmaksas (euro)
A15: 1 | B15: ,,Svētes pamatskolas ēkas piebūve, kā jaunas multifunkcionālas mācību telpu izveide 1.kārta'' - būvdarbi | C15: =KA!E42 -> 0
B16: Kopā | C16: =SUM(C15:C15) -> 0
D17: Virsizdevumi | E17: 0.08
A18: PVN (21%) | C18: =ROUND(C16*21%,2) -> 0 | D18: DA | E18: 0.05
A19: Pavisam būvniecības izmaksas | C19: =C16+C17+C18 -> 0
D24: Peļņa | E24: 0.07
D25: Likme | E25: 15
A26: Sastādīja: ________ | C26: =C30 -> 2026. gada ___._______________
A27: (paraksts un tā atšifrējums, datums)
A28: Sertifikāta Nr.: ______
A30: Pārbaudīja: ________ | C30: 2026. gada ___._______________
A31: (paraksts un tā atšifrējums, datums)
A32: Sertifikāta Nr.: ______

Sheet KA
A2: Kopsavilkuma aprēķins nr.1
A3: =C6 -> ,,Svētes pamatskolas ēkas piebūve, kā jaunas multifunkcionālas mācību telpu izveide 1.kārta''
A4: (būvdarbu veids vai konstruktīvā elementa nosaukums)
A6: Objekta nosaukums: | C6: =KT!B9 -> ,,Svētes pamatskolas ēkas piebūve, kā jaunas multifunkcionālas mācību telpu izveide 1.kārta''
A7: Būves nosaukums: | C7: =KT!B10 -> Svētes pamatskola
A8: Objekta adrese: | C8: =KT!B11 -> Svētē, Vilces ielā 6
A9: Pasūtījuma nr.: | C9: =KT!B12 -> 0
C10: Par kopējo summu (euro) | E10: =E42 -> 0
C11: Kopējā darbietilpība (c/h) | E11: =SUM(I14:I37) -> 0
A12: Nr.p.k. | B12: kods, tāmes nr. | C12: Būvdarbu veids vai konstruktīvā elementa nosaukums | E12: Tāmes izmaksas | F12: Tai skaitā | I12: Darbietilpība (c/h)
F13: Darba alga | G13: Būvizstrādājumi | H13: Mehānismi
A14: 1 | C14: 1. Vispārējie būvdarbi | E14: =SUM(F14:H14) -> 0 | I14: =ROUND(F14/likme,2) -> 0
A15: 1 | B15: 1, 0 | C15: Būvlaukuma sagatavošana un uzturēšana
A16: 2 | B16: 1.1 | C16: Demontāžas darbi | E16: =SUM(F16:H16) -> 0 | F16: ='1,1'!M29 -> 0 | G16: ='1,1'!N29 -> 0 | H16: ='1,1'!O29 -> 0 | I16: =ROUND(F16/likme,2) -> 0
A17: 3 | B17: 1.2 | C17: Zemes darbi | E17: =SUM(F17:H17) -> 0 | F17: ='1,2'!M21 -> 0 | G17: ='1,2'!N21 -> 0 | H17: ='1,2'!O21 -> 0 | I17: =ROUND(F17/likme,2) -> 0
A18: 4 | B18: 1.3 | C18: Pamati un pamatnes | E18: =SUM(F18:H18) -> 0 | F18: ='1,3'!M28 -> 0 | G18: ='1,3'!N28 -> 0 | H18: ='1,3'!O28 -> 0 | I18: =ROUND(F18/likme,2) -> 0
A19: 5 | B19: 1.4 | C19: Sienas, ēku un būvju karkasu konstrukcijas | E19: =SUM(F19:H19) -> 0 | F19: ='1,4'!M54 -> 0 | G19: ='1,4'!N54 -> 0 | H19: ='1,4'!O54 -> 0 | I19: =ROUND(F19/likme,2) -> 0
A20: 6 | B20: 1.5 | C20: Starpsienas | E20: =SUM(F20:H20) -> 0 | F20: ='1,5'!M66 -> 0 | G20: ='1,5'!N66 -> 0 | H20: ='1,5'!O66 -> 0 | I20: =ROUND(F20/likme,2) -> 0
A21: 7 | B21: 1.6 | C21: Kāpņu konstrukcijas, kāpņu laukumi | E21: =SUM(F21:H21) -> 0 | F21: ='1,6'!M19 -> 0 | G21: ='1,6'!N19 -> 0 | H21: ='1,6'!O19 -> 0 | I21: =ROUND(F21/likme,2) -> 0
A22: 8 | B22: 1.7 | C22: Grīdu pamatnes, segumi | E22: =SUM(F22:H22) -> 0 | F22: ='1,7'!M28 -> 0 | G22: ='1,7'!N28 -> 0 | H22: ='1,7'!O28 -> 0 | I22: =ROUND(F22/likme,2) -> 0
A23: 9 | B23: 1.8 | C23: Jumti, segumi | E23: =SUM(F23:H23) -> 0 | F23: ='1,8'!M49 -> 0 | G23: ='1,8'!N49 -> 0 | H23: ='1,8'!O49 -> 0 | I23: =ROUND(F23/likme,2) -> 0
A24: 10 | B24: 1.9 | C24: Aiļu aizpildījumu elementi, speciālo konstrukciju fasādes | E24: =SUM(F24:H24) -> 0 | F24: ='1,9'!M44 -> 0 | G24: ='1,9'!N44 -> 0 | H24: ='1,9'!O44 -> 0 | I24: =ROUND(F24/likme,2) -> 0
A25: 11 | B25: 1.1 | C25: Iekšējie apdares darbi | E25: =SUM(F25:H25) -> 0 | F25: ='1,10'!M39 -> 0 | G25: ='1,10'!N39 -> 0 | H25: ='1,10'!O39 -> 0 | I25: =ROUND(F25/likme,2) -> 0
A26: 12 | B26: 1.11 | C26: Ārējie apdares darbi | E26: =SUM(F26:H26) -> 0 | F26: ='1,11'!M60 -> 0 | G26: ='1,11'!N60 -> 0 | H26: ='1,11'!O60 -> 0 | I26: =ROUND(F26/likme,2) -> 0
A27: 13 | B27: 1.12 | C27: Dažādi darbi | E27: =SUM(F27:H27) -> 0 | F27: ='1,12'!M31 -> 0 | G27: ='1,12'!N31 -> 0 | H27: ='1,12'!O31 -> 0 | I27: =ROUND(F27/likme,2) -> 0
A28: 14 | C28: 2. Specializētie darbi – iekšējie tīkli, sistēmas | E28: =SUM(F28:H28) -> 0 | I28: =ROUND(F28/likme,2) -> 0
A29: 15 | B29: 2.1 | C29: Iekšējie elektrotīkli, apgaismojums, spēka pievadi | E29: =SUM(F29:H29) -> 0 | F29: ='2,1'!M55 -> 0 | G29: ='2,1'!N55 -> 0 | H29: ='2,1'!O55 -> 0 | I29: =ROUND(F29/likme,2) -> 0
A30: 16 | B30: 2.2 | C30: Iekšējās apkures sistēmas un ventilācija | E30: =SUM(F30:H30) -> 0 | F30: ='2,2'!M74 -> 0 | G30: ='2,2'!N74 -> 0 | H30: ='2,2'!O74 -> 0 | I30: =ROUND(F30/likme,2) -> 0
A31: 17 | B31: 2.3 | C31: Iekšējie ūdensvada tīkli, aprīkojums | E31: =SUM(F31:H31) -> 0 | F31: ='2,3'!M43 -> 0 | G31: ='2,3'!N43 -> 0 | H31: ='2,3'!O43 -> 0 | I31: =ROUND(F31/likme,2) -> 0
A32: 18 | B32: 2.4 | C32: Iekšējie kanalizācijas tīkli, aprīkojums | E32: =SUM(F32:H32) -> 0 | F32: ='2,4'!M29 -> 0 | G32: ='2,4'!N29 -> 0 | H32: ='2,4'!O29 -> 0 | I32: =ROUND(F32/likme,2) -> 0
A33: 19 | B33: 2.5 | C33: Vājstrāvas tīkli - ESS | E33: =SUM(F33:H33) -> 0 | F33: ='2,5'!M34 -> 0 | G33: ='2,5'!N34 -> 0 | H33: ='2,5'!O34 -> 0 | I33: =ROUND(F33/likme,2) -> 0
A34: 20 | B34: 2.6 | C34: Vājstrāvas tīkli – UATS, UAS | E34: =SUM(F34:H34) -> 0 | F34: ='2,6'!M42 -> 0 | G34: ='2,6'!N42 -> 0 | H34: ='2,6'!O42 -> 0 | I34: =ROUND(F34/likme,2) -> 0
A35: 21 | C35: 3. Specializētie darbi – ārējie tīkli, sistēmas | E35: =SUM(F35:H35) -> 0 | I35: =ROUND(F35/likme,2) -> 0
A36: 22 | B36: 3.1 | C36: Ārējie ūdensvada tīkli | E36: =SUM(F36:H36) -> 0 | F36: ='3,1'!M22 -> 0 | G36: ='3,1'!N22 -> 0 | H36: ='3,1'!O22 -> 0 | I36: =ROUND(F36/likme,2) -> 0
A37: 23 | B37: 3.2 | C37: Ārējie kanalizācijas tīkli. Attīrīšanas ietaises | E37: =SUM(F37:H37) -> 0 | F37: ='3,2'!M25 -> 0 | G37: ='3,2'!N25 -> 0 | H37: ='3,2'!O25 -> 0 | I37: =ROUND(F37/likme,2) -> 0
A38: Kopā | E38: =SUM(E14:E37) -> 0
A39: Virsizdevumi | E39: =ROUND(E38*D39,2) -> 0
A40: t.sk. Darba aizsardzība | E40: =ROUND(E39*D40,2) -> 0
A41: Peļņa | E41: =ROUND(E38*D41,2) -> 0
A42: Pavisam kopā | E42: =ROUND(E38+E39+E41,2) -> 0
...

Sheet 1,0
A2: Lokālā tāme Nr.1,1
A3: =KA!C15 -> Būvlaukuma sagatavošana un uzturēšana
A4: (būvdarbu veids vai konstruktīvā elementa nosaukums)
A6: Objekta nosaukums: | C6: =KT!B9 -> ,,Svētes pamatskolas ēkas piebūve, kā jaunas multifunkcionālas mācību telpu izveide 1.kārta''
A7: Būves nosaukums: | C7: =KT!B10 -> Svētes pamatskola
A8: Objekta adrese: | C8: =KT!B11 -> Svētē, Vilces ielā 6
A9: Pasūtījuma nr.:
M11: Tāmes izmaksas: | O11: =P35 -> 0 | P11: EUR
N12: Tāme sastādīta | O12: =KT!C30 -> 2026. gada ___._______________
A14: Nr.p.k. | B14: Kods | C14: Būvdarbu nosaukums | D14: Mērvienība | E14: Daudzums | F14: Vienības izmaksas | L14: Kopā uz visu apjomu
F15: Laika norma (c/h) | G15: Darba samaksas likme (euro/h) | H15: Darba alga | I15: Būvizstrādājumi | J15: Mehānismi | K15: KOPĀ | L15: Darbietilpība (c/h) | M15: Darba alga | N15: Būvizstrādājumi | O15: Mehānismi | P15: Summa
A17: 1 | C17: Administratīvo / strādnieku sadzīves telpu / inventāra noliktavas / mobilās BIO tualetes, ieskaitot īri | D17: gb | E17: 1
A18: 2 | C18: Administratīvo / strādnieku sadzīves telpu konteinera noma 6 * 2,5 | D18: gb | E18: 1
A19: 3 | C19: Inventāra noliktavas konteinera noma 6 * 2,5 | D19: gb | E19: 1
A20: 4 | C20: Mobilās BIO tualets noma | D20: gb | E20: 1
A21: 5 | C21: Būvgružu konteineri un to noma | D21: gb | E21: 1
A22: 6 | C22: Pagaidu elektropislēguma ierīkošana ar skaitītāju | D22: kpl | E22: 1
A23: 7 | C23: Pagaidu elektrokabelis un tā montāža | D23: m | E23: 147.5
A24: 8 | C24: Būvlaukuma apgaismojums | D24: gb | E24: 17
A25: 9 | C25: Būvobjekta izkārtnes izgatavošana un uzstādīšana | D25: gb | E25: 2
A26: 10 | C26: Drošības zīmju stends | D26: gb | E26: 1
A27: 11 | C27: Ugunsdrošības stends | D27: kpl | E27: 1
A28: 12 | C28: Salaiduma vietas ar ceļu atjaunošana pēc būvdarbiem | D28: kpl | E28: 1
... A33: 17 | C33: Pagaida nožogojuma vinviru vārti, b=1.20m un tā uzstādīšana | D33: gb | E33: 1
A35: Tiešās izmaksas kopā, t.sk. Darba dēvēja sociālais nodoklis (23,59%) | L35: =SUM(L17:L34) -> 0 | M35: =SUM(M17:M34) -> 0 | N35: =SUM(N17:N34) -> 0 | O35: =SUM(O17:O34) -> 0 | P35: =SUM(P17:P34) -> 0
A37: =KT!A26 -> Sastādīja: ________ | E37: =KT!C26 -> 2026. gada ___._______________
A38: (paraksts un tā atšifrējums, datums)
A39: =KT!A28 -> Sertifikāta Nr.: ______
A41: =KT!A30 -> Pārbaudīja: ________ | E41: =KT!C30 -> 2026. gada ___._______________
A42: (paraksts un tā atšifrējums, datums)
A43: =KT!A32 -> Sertifikāta Nr.: ______

Sheet 1,1
A2: Lokālā tāme Nr.1,1
A3: =KA!C16 -> Demontāžas darbi
A4: (būvdarbu veids vai konstruktīvā elementa nosaukums)
A6: Objekta nosaukums: | C6: =KT!B9 -> ,,Svētes pamatskolas ēkas piebūve, kā jaunas multifunkcionālas mācību telpu izveide 1.kārta''
A7: Būves nosaukums: | C7: =KT!B10 -> Svētes pamatskola
A8: Objekta adrese: | C8: =KT!B11 -> Svētē, Vilces ielā 6
A9: Pasūtījuma nr.:
M11: Tāmes izmaksas: | O11: =P29 -> 0 | P11: EUR
N12: Tāme sastādīta | O12: =KT!C30 -> 2026. gada ___._______________
A14: Nr.p.k. | B14: Kods | C14: Būvdarbu nosaukums | D14: Mērvienība | E14: Daudzums | F14: Vienības izmaksas | L14: Kopā uz visu apjomu
F15: Laika norma (c/h) | G15: Darba samaksas likme (euro/h) | H15: Darba alga | I15: Būvizstrādājumi | J15: Mehānismi | K15: KOPĀ | L15: Darbietilpība (c/h) | M15: Darba alga | N15: Būvizstrādājumi | O15: Mehānismi | P15: Summa
A17: 1 | C17: Demontēt ieejas lieveni un izvest būvgružus utilizācijai | D17: m3 | E17: 2.1
A18: 2 | C18: Demontēt durvis un izvest būvgružus utilizācijai | D18: gb | E18: 1
A19: 3 | C19: Demontēt esošu apdari, izolāciju ārsienām, cokola profilu, palodzes un izvest būvgružus utilizācijai | D19: m2 | E19: 149.45
A20: 4 | C20: Demontēt sienu un izvest būvgružus utilizācijai | D20: m3 | E20: 2.8
A21: 5 | C21: Demontēt sendvičpaneļa jumta segumu asīs 22-23 un izvest būvgružus utilizācijai | D21: m2 | E21: 33.43
A22: 6 | C22: Demontēt 1.stāva jumta konstrukciju un izvest būvgružus utilizācijai | D22: m2 | E22: 285
A23: 7 | C23: Demontēt piekārtos griestus un izvest būvgružus utilizācijai | D23: m2 | E23: 260.7
A24: 8 | C24: Demontēt grīdas konstrukciju pamatu izbūves zonās un izvest būvgružus utilizācijai | D24: m2 | E24: 37.12
A25: 9 | C25: Esošo gāzes vadu pārcelšana vitā būuvniecības iecerē pirms 1. un 2. būvniecības kārtas (1 metra attālumā no projektējamā korpusa) | D25: kpl | E25: 1
A26: 10 | C26: Demontēt pārseguma konstrukciju vestibilā un izvest būvgružus utilizācijai | D26: m2 | E26: 31
A27: 11 | C27: Demontēt lietusūdens noteksistēmu un izvest būvgružus utilizācijai | D27: m | E27: 148
A29: Tiešās izmaksas kopā, t.sk. Darba dēvēja sociālais nodoklis (23,59%) | L29: =SUM(L17:L28) -> 0 | M29: =SUM(M17:M28) -> 0 | N29: =SUM(N17:N28) -> 0 | O29: =SUM(O17:O28) -> 0 | P29: =SUM(P17:P28) -> 0
A31: =KT!A26 -> Sastādīja: ________ | E31: =KT!C26 -> 2026. gada ___._______________
A32: (paraksts un tā atšifrējums, datums)
A33: =KT!A28 -> Sertifikāta Nr.: ______
A35: =KT!A30 -> Pārbaudīja: ________ | E35: =KT!C30 -> 2026. gada ___._______________
A36: (paraksts un tā atšifrējums, datums)
A37: =KT!A32 -> Sertifikāta Nr.: ______

Sheet 1,2
A2: Lokālā tāme Nr.1,2
A3: =KA!C17 -> Zemes darbi
A4: (būvdarbu veids vai konstruktīvā elementa nosaukums)
A6: Objekta nosaukums: | C6: =KT!B9 -> ,,Svētes pamatskolas ēkas piebūve, kā jaunas multifunkcionālas mācību telpu izveide 1.kārta''
A7: Būves nosaukums: | C7: =KT!B10 -> Svētes pamatskola
A8: Objekta adrese: | C8: =KT!B11 -> Svētē, Vilces ielā 6
A9: Pasūtījuma nr.:
M11: Tāmes izmaksas: | O11: =P21 -> 0 | P11: EUR
N12: Tāme sastādīta | O12: =KT!C30 -> 2026. gada ___._______________
A14: Nr.p.k. | B14: Kods | C14: Būvdarbu nosaukums | D14: Mērvienība | E14: Daudzums | F14: Vienības izmaksas | L14: Kopā uz visu apjomu
F15: Laika norma (c/h) | G15: Darba samaksas likme (euro/h) | H15: Darba alga | I15: Būvizstrādājumi | J15: Mehānismi | K15: KOPĀ | L15: Darbietilpība (c/h) | M15: Darba alga | N15: Būvizstrādājumi | O15: Mehānismi | P15: Summa
A17: 1 | C17: Rakt būvbedri līdz projektā paredzētajam dziļumam Iekļauta grunts izstrāde mehanizēti un roku darbā | D17: m3 | E17: 1187.35
A18: 2 | C18: Iekraut kravas autotransportā un izvest lieko grunti uz būvuzņēmēja atbērtni un utilizēt | D18: m3 | E18: 1187.35
A19: 3 | C19: Pamatus jāpieber ar smilts/grants grunti, berot to pa 20 cm biezām kārtām un sablīvējot līdz vidēji blīvam stāvoklim Iekļauta smilts/grants atpakaļatbēršana mehanizēti un roku darbā | D19: m3 | E19: 1105.05
A21: Tiešās izmaksas kopā, t.sk. Darba dēvēja sociālais nodoklis (23,59%) | L21: =SUM(L17:L20) -> 0 | M21: =SUM(M17:M20) -> 0 | N21: =SUM(N17:N20) -> 0 | O21: =SUM(O17:O20) -> 0 | P21: =SUM(P17:P20) -> 0
A24: =KT!A26 -> Sastādīja: ________ | D24: =KT!C26 -> 2026. gada ___._______________
A25: (paraksts un tā atšifrējums, datums)
A26: =KT!A28 -> Sertifikāta Nr.: ______
A28: =KT!A30 -> Pārbaudīja: ________ | D28: =KT!C30 -> 2026. gada ___._______________
A29: (paraksts un tā atšifrējums, datums)
A30: =KT!A32 -> Sertifikāta Nr.: ______

Sheet 1,3
A2: Lokālā tāme Nr.1,3
A3: =KA!C18 -> Pamati un pamatnes
A4: (būvdarbu veids vai konstruktīvā elementa nosaukums)
A6: Objekta nosaukums: | C6: =KT!B9 -> ,,Svētes pamatskolas ēkas piebūve, kā jaunas multifunkcionālas mācību telpu izveide 1.kārta''
A7: Būves nosaukums: | C7: =KT!B10 -> Svētes pamatskola
A8: Objekta adrese: | C8: =KT!B11 -> Svētē, Vilces ielā 6
A9: Pasūtījuma nr.:
M11: Tāmes izmaksas: | O11: =P28 -> 0 | P11: EUR
N12: Tāme sastādīta | O12: =KT!C30 -> 2026. gada ___._______________
A14: Nr.p.k. | B14: Kods | C14: Būvdarbu nosaukums | D14: Mērvienība | E14: Daudzums | F14: Vienības izmaksas | L14: Kopā uz visu apjomu
F15: Laika norma (c/h) | G15: Darba samaksas likme (euro/h) | H15: Darba alga | I15: Būvizstrādājumi | J15: Mehānismi | K15: KOPĀ | L15: Darbietilpība (c/h) | M15: Darba alga | N15: Būvizstrādājumi | O15: Mehānismi | P15: Summa
A17: 1 | C17: Pamatnes | F17: 0 | G17: =IF(F17>0,likme,0) -> 0 | H17: =ROUND(F17*G17,2) -> 0 | I17: 0 | J17: 0 | K17: =SUM(H17:J17) -> 0 | L17: =ROUND(E17*F17,2) -> 0 | M17: =ROUND(E17*H17,2) -> 0 | N17: =ROUND(E17*I17,2) -> 0 | O17: =ROUND(E17*J17,2) -> 0 | P17: =SUM(M17:O17) -> 0
A18: 2 | C18: Ierīkot blietētu šķembu 0-40 kārtu zem pamatiem 150mm biezumā. | D18: m3 | E18: 13
A19: 3 | C19: Pamati
A20: 4 | C20: Betonēt veidņos pamatu PM1 ar C30/37 XC2 klases betonu, betonu padodot ar sūkni iestrādes vietā un stiegrojot ar B500B klases tērauda stiegrām. Ieskaitot visus palīgmateriālus un stiprinājumus. | D20: m3 | E20: 22
A21: 5 | C21: Betonēt veidņos pamatu PM2 ar C30/37 XC2 klases betonu, betonu padodot ar sūkni iestrādes vietā un stiegrojot ar B500B klases tērauda stiegrām. Ieskaitot visus palīgmateriālus un stiprinājumus. | D21: m3 | E21: 27.2
A22: 6 | C22: Betonēt veidņos pamatu PM3 ar C30/37 XC2 klases betonu, betonu padodot ar sūkni iestrādes vietā un stiegrojot ar B500B klases tērauda stiegrām. Ieskaitot visus palīgmateriālus un stiprinājumus. | D22: m3 | E22: 7
A23: 7 | C23: Betonēt veidņos pamatu PM3-1 ar C30/37 XC2 klases betonu, betonu padodot ar sūkni iestrādes vietā un stiegrojot ar B500B klases tērauda stiegrām. Ieskaitot visus palīgmateriālus un stiprinājumus. | D23: m3 | E23: 6
A24: 8 | C24: Betonēt veidņos pamatu siju ar C30/37 XC2 klases betonu, betonu padodot ar sūkni iestrādes vietā un stiegrojot ar B500B klases tērauda stiegrām. Ieskaitot visus palīgmateriālus un stiprinājumus. | D24: m3 | E24: 7.1
A25: 9 | C25: Ieliekamās detaļas
A26: 10 | C26: Montēt kīmiskās skrūves HILTI HIT-HY 200, 4 gab. M20 (8.8 st.kl.) vai ekvivalents | D26: gb | E26: 104
A28: Tiešās izmaksas kopā, t.sk. Darba dēvēja sociālais nodoklis (23,59%) | L28: =SUM(L17:L27) -> 0 | M28: =SUM(M17:M27) -> 0 | N28: =SUM(N17:N27) -> 0 | O28: =SUM(O17:O27) -> 0 | P28: =SUM(P17:P27) -> 0
A30: =KT!A26 -> Sastādīja: ________ | D30: =KT!C26 -> 2026. gada ___._______________
A31: (paraksts un tā atšifrējums, datums)
A32: =KT!A28 -> Sertifikāta Nr.: ______
A34: =KT!A30 -> Pārbaudīja: ________ | D34: =KT!C30 -> 2026. gada ___._______________
A35: (paraksts un tā atšifrējums, datums)
A36: =KT!A32 -> Sertifikāta Nr.: ______

Sheet 1,4
A2: Lokālā tāme Nr.1,4
A3: =KA!C19 -> Sienas, ēku un būvju karkasu konstrukcijas
A4: (būvdarbu veids vai konstruktīvā elementa nosaukums)
A6: Objekta nosaukums: | C6: =KT!B9 -> ,,Svētes pamatskolas ēkas piebūve, kā jaunas multifunkcionālas mācību telpu izveide 1.kārta''
A7: Būves nosaukums: | C7: =KT!B10 -> Svētes pamatskola
A8: Objekta adrese: | C8: =KT!B11 -> Svētē, Vilces ielā 6
A9: Pasūtījuma nr.:
M11: Tāmes izmaksas: | O11: =P54 -> 0 | P11: EUR
N12: Tāme sastādīta | O12: =KT!C30 -> 2026. gada ___._______________
A14: Nr.p.k. | B14: Kods | C14: Būvdarbu nosaukums | D14: Mērvienība | E14: Daudzums | F14: Vienības izmaksas | L14: Kopā uz visu apjomu
F15: Laika norma (c/h) | G15: Darba samaksas likme (euro/h) | H15: Darba alga | I15: Būvizstrādājumi | J15: Mehānismi | K15: KOPĀ | L15: Darbietilpība (c/h) | M15: Darba alga | N15: Būvizstrādājumi | O15: Mehānismi | P15: Summa
A17: 1 | C17: Pārsegumi (1.stāvs) | F17: 0 | G17: =IF(F17>0,likme,0) -> 0 | H17: =ROUND(F17*G17,2) -> 0 | I17: 0 | J17: 0 | K17: =SUM(H17:J17) -> 0 | L17: =ROUND(E17*F17,2) -> 0 | M17: =ROUND(E17*H17,2) -> 0 | N17: =ROUND(E17*I17,2) -> 0 | O17: =ROUND(E17*J17,2) -> 0 | P17: =SUM(M17:O17) -> 0
A18: 2 | C18: Betonēt veidņos pārsegumu PP1 ar C30/37 klases betonu, betonu padodot ar sūkni iestrādes vietā un stiegrojot ar B500B klases tērauda stiegrām. Ieskaitot visus palīgmateriālus un stiprinājumus. | D18: m3 | E18: 21.5
A19: 3 | C19: Betonēt veidņos pārsegumu PP2 ar C30/37 klases betonu, betonu padodot ar sūkni iestrādes vietā un stiegrojot ar B500B klases tērauda stiegrām. Ieskaitot visus palīgmateriālus un stiprinājumus. | D19: m3 | E19: 53
A20: 4 | C20: Betonēt veidņos pārsegumu PP3 ar C30/37 klases betonu, betonu padodot ar sūkni iestrādes vietā un stiegrojot ar B500B klases tērauda stiegrām. Ieskaitot visus palīgmateriālus un stiprinājumus. | D20: m3 | E20: 2.8
A21: 5 | C21: Betonēt veidņos monolīto joslu ar C30/37 klases betonu, betonu padodot ar sūkni iestrādes vietā un stiegrojot ar B500B klases tērauda stiegrām. Ieskaitot visus palīgmateriālus un stiprinājumus. | D21: m3 | E21: 4.5
A22: 6 | C22: Kāpnes K4
A23: 7 | C23: Betonēt veidņos kāpnes KP4 ar C30/37 XC4 XF3 klases betonu, betonu padodot ar sūkni iestrādes vietā un stiegrojot ar B500B klases tērauda stiegrām. Ieskaitot visus palīgmateriālus un stiprinājumus. | D23: m3 | E23: 1.4
A24: 8 | C24: Kāpnes K3
A25: 9 | C25: Ieklāt blietētu smilts kārtu | D25: m3 | E25: 12.84
A26: 10 | C26: Ieklāt blietētu šķembu kārtu 150mm biezumā | D26: m3 | E26: 2.88
A27: 11 | C27: Ieklāt PE plēvi 200mkm | D27: m2 | E27: 19.2
A28: 12 | C28: Betonēt veidņos kāpņu pamatni ar C8/10 klases betonu 50mm biezumā, betonu padodot ar sūkni iestrādes vietā, ieskaitot visus palīgmateriālus un stiprinājumus. | D28: m3 | E28: 1.8
A29: 13 | C29: Betonēt veidņos kāpnes KP3 ar C30/37 XC4 XF3 klases betonu, betonu padodot ar sūkni iestrādes vietā un stiegrojot ar B500B klases tērauda stiegrām. Ieskaitot visus palīgmateriālus un stiprinājumus. | D29: m3 | E29: 3.3
A30: 14 | C30: Kāpnes KP1
A31: 15 | C31: Betonēt veidņos kāpnes KP1 ar C30/37 klases betonu, betonu padodot ar sūkni iestrādes vietā un stiegrojot ar B500B klases tērauda stiegrām. Ieskaitot visus palīgmateriālus un stiprinājumus. | D31: m3 | E31: 0.35
A32: 16 | C32: Montēt saliekamos pakāpienus PK1, L=1550mm, ieskaitot visus stiprinājumus un palīgmateriālus | D32: gb | E32: 9
A33: 17 | C33: Montēt saliekamos pakāpienus PK1, L=1900mm, ieskaitot visus stiprinājumus un palīgmateriālus | D33: gb | E33: 11
A34: 18 | C34: Montēt 4 ķīmiskās enkurskrūves HILTI HIT-HY200, M20 vai ekvivalents | D34: kpl | E34: 2
A35: 19 | C35: Kāpnes KP2
A36: 20 | C36: Betonēt veidņos kāpnes KP1 ar C30/37 klases betonu, betonu padodot ar sūkni iestrādes vietā un stiegrojot ar B500B klases tērauda stiegrām. Ieskaitot visus palīgmateriālus un stiprinājumus. | D36: m3 | E36: 0.35
A37: 21 | C37: Montēt 4 ķīmiskās enkurskrūves HILTI HIT-HY200, M20 vai ekvivalents | D37: kpl | E37: 2
A38: 22 | C38: Metāla konstrukcijas
A39: 23 | C39: Izgatavot un montēt tērauda konstrukcijas, ieskaitot visus palīgmateriālus un stiprinājumus. Prasības tērauda konstrukcijām - Metāla konstrukciju izgatavošana un montāža jāveic saskaņā ar standartu LVS EN 1090-1+A1:2019 vai ekvivalents un LVS EN 1090-2:2018 vai ekvivalents prasībām atbilstoši tērauda konstrukciju izpildījuma klases EXC2 prasībām. - Izbūves (izpildījuma) klase: EXC2 (LVS EN 1090-2, tabula B.3) vai ekvivalents - Ģeometrisko pielaižu klase 1 (LVS EN 1090-2, D.2); vai ekvivalents - Virsmas apstrādes sagatavošanas klase P1 (LVS EN 1090-2, p.4.1.3., p.10.2., tab. 22) vai ekvivalents; - Korozivitātes kategorija - iekštelpu konstrukcijām C2; ārtelpu konstrukcijām C3 (LVS EN 1993-1-11 p.2.1.(3),vai ekvivalents ISO 12944-2 vai ekvivalents); - Minimālā ugunsizturība – atbilstoši projekta UPP sadaļai; - Tērauda elementu kritiskā temperatūra Qcr=570 °C, konstrukciju ugunsaizsardzību nodrošināt ar atbilstošu krāsojumu. | D39: t | E39: 42
A40: 24 | C40: Jumts
A41: 25 | C41: Montēt C24 jumta koka konstrukcijas, ieskaitot visus palīgmateriālus un stiprinājumus. | D41: m3 | E41: 14.29
A42: 26 | C42: Pārsedzes
A43: 27 | C43: Betonēt veidņos pārsedzes BP4 ar C30/37 klases betonu, betonu padodot ar sūkni iestrādes vietā un stiegrojot ar B500B klases tērauda stiegrām. Ieskaitot visus palīgmateriālus un stiprinājumus. | D43: m3 | E43: 0.14
A44: 28 | C44: Betonēt veidņos pārsedzes BP5 ar C30/37 klases betonu, betonu padodot ar sūkni iestrādes vietā un stiegrojot ar B500B klases tērauda stiegrām. Ieskaitot visus palīgmateriālus un stiprinājumus. | D44: m3 | E44: 0.16
A45: 29 | C45: Montēt BP1 FIBO vai ekvivalents pārsedzi uz mūrjavas kārtas (2390x200x185h) | D45: gb | E45: 12
...

Sheet 1,5
A2: Lokālā tāme Nr.1,5
A3: =KA!C20 -> Starpsienas
A4: (būvdarbu veids vai konstruktīvā elementa nosaukums)
A6: Objekta nosaukums: | C6: =KT!B9 -> ,,Svētes pamatskolas ēkas piebūve, kā jaunas multifunkcionālas mācību telpu izveide 1.kārta''
A7: Būves nosaukums: | C7: =KT!B10 -> Svētes pamatskola
A8: Objekta adrese: | C8: =KT!B11 -> Svētē, Vilces ielā 6
A9: Pasūtījuma nr.:
M11: Tāmes izmaksas: | O11: =P66 -> 0 | P11: EUR
N12: Tāme sastādīta | O12: =KT!C30 -> 2026. gada ___._______________
A14: Nr.p.k. | B14: Kods | C14: Būvdarbu nosaukums | D14: Mērvienība | E14: Daudzums | F14: Vienības izmaksas | L14: Kopā uz visu apjomu
F15: Laika norma (c/h) | G15: Darba samaksas likme (euro/h) | H15: Darba alga | I15: Būvizstrādājumi | J15: Mehānismi | K15: KOPĀ | L15: Darbietilpība (c/h) | M15: Darba alga | N15: Būvizstrādājumi | O15: Mehānismi | P15: Summa
A17: 1 | C17: Sa-1 | F17: 0 | G17: =IF(F17>0,likme,0) -> 0 | H17: =ROUND(F17*G17,2) -> 0 | I17: 0 | J17: 0 | K17: =SUM(H17:J17) -> 0 | L17: =ROUND(E17*F17,2) -> 0 | M17: =ROUND(E17*H17,2) -> 0 | N17: =ROUND(E17*I17,2) -> 0 | O17: =ROUND(E17*J17,2) -> 0 | P17: =SUM(M17:O17) -> 0
A18: 2 | C18: Gruntēt un apmest sienas ar apmetuma javu 10mm biezumā | D18: m2 | E18: 237.25
A19: 3 | C19: Mūrēt gāzbetona bloku sienu Bauroc classic 3MPa vai ekvivalents 200mm biezumā uz mūrjavas kārtas. Stiegrot atbilstoši tehnoloģijai. Ieskaitot visus stiprinājumus un palīgmateriālus. Vai ekvivalents | D19: m3 | E19: =ROUND(E18*0.2,2) -> 47.45
A20: 4 | C20: Sa-3
A21: 5 | C21: Gruntēt un apmest sienas ar apmetuma javu 10mm biezumā | D21: m2 | E21: 159.63
A22: 6 | C22: Mūrēt gāzbetona bloku sienu Bauroc classic 3MPa vai ekvivalents 200mm biezumā uz mūrjavas kārtas. Stiegrot atbilstoši tehnoloģijai. Ieskaitot visus stiprinājumus un palīgmateriālus. Vai ekvivalents | D22: m3 | E22: =ROUND(E21*0.2,2) -> 31.93
A23: 7 | C23: Si-1
A24: 8 | C24: Apšūt karkasu ar Knauf GKB vai ekvivalents 12,5mm ģipškartona loksnēm divās kārtās, ieskaitot visus stiprinājumus un palīgmateriālus. Veikt šuvju špaktelēšanu | D24: m2 | E24: =ROUND(E25*2,2) -> 474.74
A25: 9 | C25: Montēt metala profilu karkasu 100mm biezumā, ieskaitot visus stiprinājumus un palīgmateriālus | D25: m2 | E25: 237.37
A26: 10 | C26: Ieklāt izolāciju PAROC Ultra , λ= 0,035 W/mK (vai ekvivalents) 100mm | D26: m2 | E26: =E25 -> 237.37
A27: 11 | C27: Apšūt karkasu ar Knauf GKB vai ekvivalents 12,5mm ģipškartona loksnēm divās kārtās, ieskaitot visus stiprinājumus un palīgmateriālus. Veikt šuvju špaktelēšanu | D27: m2 | E27: =E24 -> 474.74
A28: 12 | C28: Si-2
A29: 13 | C29: Apšūt karkasu ar Knauf GKBI vai ekvivalents 12,5mm ģipškartona loksnēm divās kārtās, ieskaitot visus stiprinājumus un palīgmateriālus. Veikt šuvju špaktelēšanu | D29: m2 | E29: =ROUND(E30*2,2) -> 89.48
A30: 14 | C30: Montēt metala profilu karkasu 100mm biezumā, ieskaitot visus stiprinājumus un palīgmateriālus | D30: m2 | E30: 44.74
A31: 15 | C31: Ieklāt izolāciju PAROC Ultra , λ= 0,035 W/mK (vai ekvivalents) 100mm | D31: m2 | E31: =E30 -> 44.74
A32: 16 | C32: Apšūt karkasu ar Knauf GKBI vai ekvivalents 12,5mm ģipškartona loksnēm divās kārtās, ieskaitot visus stiprinājumus un palīgmateriālus. Veikt šuvju špaktelēšanu | D32: m2 | E32: =E29 -> 89.48
A33: 17 | C33: Si-3
A34: 18 | C34: Apšūt karkasu ar Knauf GKB vai ekvivalents 12,5mm ģipškartona loksnēm divās kārtās, ieskaitot visus stiprinājumus un palīgmateriālus. Veikt šuvju špaktelēšanu | D34: m2 | E34: =ROUND(E35*2,2) -> 46.42
A35: 19 | C35: Montēt metala profilu karkasu 100mm biezumā, ieskaitot visus stiprinājumus un palīgmateriālus | D35: m2 | E35: 23.21
A36: 20 | C36: Ieklāt izolāciju PAROC Ultra , λ= 0,035 W/mK (vai ekvivalents) 100mm | D36: m2 | E36: =E35 -> 23.21
A37: 21 | C37: Apšūt karkasu ar Knauf GKBI vai ekvivalents 12,5mm ģipškartona loksnēm divās kārtās, ieskaitot visus stiprinājumus un palīgmateriālus. Veikt šuvju špaktelēšanu | D37: m2 | E37: =E34 -> 46.42
A38: 22 | C38: Si-4
A39: 23 | C39: Apšūt karkasu ar Knauf GKBI vai ekvivalents 12,5mm ģipškartona loksnēm divās kārtās, ieskaitot visus stiprinājumus un palīgmateriālus. Veikt šuvju špaktelēšanu | D39: m2 | E39: =ROUND(E40*2,2) -> 48
A40: 24 | C40: Montēt metala profilu karkasu 50mm biezumā, ieskaitot visus stiprinājumus un palīgmateriālus | D40: m2 | E40: 24
A41: 25 | C41: Ieklāt izolāciju PAROC Ultra , λ= 0,035 W/mK (vai ekvivalents) 50mm | D41: m2 | E41: =E40 -> 24
A42: 26 | C42: Apšūt karkasu ar Knauf GKBI vai ekvivalents 12,5mm ģipškartona loksnēm divās kārtās, ieskaitot visus stiprinājumus un palīgmateriālus. Veikt šuvju špaktelēšanu | D42: m2 | E42: =E39 -> 48
A43: 27 | C43: Si-5
A44: 28 | C44: Gruntēt un apmest sienas ar apmetuma javu 10mm biezumā | D44: m2 | E44: 12.25
A45: 29 | C45: Mūrēt gāzbetona bloku sienu Bauroc classic 3MPa vai ekvivalents 200mm biezumā uz mūrjavas kārtas. Stiegrot atbilstoši tehnoloģijai. Ieskaitot visus stiprinājumus un palīgmateriālus. Vai ekvivalents | D45: m3 | E45: =ROUND(E44*0.2,2) -> 2.45
...

Sheet 1,6
A2: Lokālā tāme Nr.1,6
A3: =KA!C21 -> Kāpņu konstrukcijas, kāpņu laukumi
A4: (būvdarbu veids vai konstruktīvā elementa nosaukums)
A6: Objekta nosaukums: | C6: =KT!B9 -> ,,Svētes pamatskolas ēkas piebūve, kā jaunas multifunkcionālas mācību telpu izveide 1.kārta''
A7: Būves nosaukums: | C7: =KT!B10 -> Svētes pamatskola
A8: Objekta adrese: | C8: =KT!B11 -> Svētē, Vilces ielā 6
A9: Pasūtījuma nr.:
M11: Tāmes izmaksas: | O11: =P19 -> 0 | P11: EUR
N12: Tāme sastādīta | O12: =KT!C30 -> 2026. gada ___._______________
A14: Nr.p.k. | B14: Kods | C14: Būvdarbu nosaukums | D14: Mērvienība | E14: Daudzums | F14: Vienības izmaksas | L14: Kopā uz visu apjomu
F15: Laika norma (c/h) | G15: Darba samaksas likme (euro/h) | H15: Darba alga | I15: Būvizstrādājumi | J15: Mehānismi | K15: KOPĀ | L15: Darbietilpība (c/h) | M15: Darba alga | N15: Būvizstrādājumi | O15: Mehānismi | P15: Summa
A17: 1 | C17: Montēt nerūsējošā tērauda margas 1100mm, ieskaitot visus stiprinājumus un palīgmateriālus | D17: m | E17: 28.31
A19: Tiešās izmaksas kopā, t.sk. Darba dēvēja sociālais nodoklis (23,59%) | L19: =SUM(L17:L18) -> 0 | M19: =SUM(M17:M18) -> 0 | N19: =SUM(N17:N18) -> 0 | O19: =SUM(O17:O18) -> 0 | P19: =SUM(P17:P18) -> 0
A21: =KT!A26 -> Sastādīja: ________ | D21: =KT!C26 -> 2026. gada ___._______________
A22: (paraksts un tā atšifrējums, datums)
A23: =KT!A28 -> Sertifikāta Nr.: ______
A25: =KT!A30 -> Pārbaudīja: ________ | D25: =KT!C30 -> 2026. gada ___._______________
A26: (paraksts un tā atšifrējums, datums)
A27: =KT!A32 -> Sertifikāta Nr.: ______

Sheet 1,7
A2: Lokālā tāme Nr.1,7
A3: =KA!C22 -> Grīdu pamatnes, segumi
A4: (būvdarbu veids vai konstruktīvā elementa nosaukums)
A6: Objekta nosaukums: | C6: =KT!B9 -> ,,Svētes pamatskolas ēkas piebūve, kā jaunas multifunkcionālas mācību telpu izveide 1.kārta''
A7: Būves nosaukums: | C7: =KT!B10 -> Svētes pamatskola
A8: Objekta adrese: | C8: =KT!B11 -> Svētē, Vilces ielā 6
A9: Pasūtījuma nr.:
M11: Tāmes izmaksas: | O11: =P28 -> 0 | P11: EUR
N12: Tāme sastādīta | O12: =KT!C30 -> 2026. gada ___._______________
A14: Nr.p.k. | B14: Kods | C14: Būvdarbu nosaukums | D14: Mērvienība | E14: Daudzums | F14: Vienības izmaksas | L14: Kopā uz visu apjomu
F15: Laika norma (c/h) | G15: Darba samaksas likme (euro/h) | H15: Darba alga | I15: Būvizstrādājumi | J15: Mehānismi | K15: KOPĀ | L15: Darbietilpība (c/h) | M15: Darba alga | N15: Būvizstrādājumi | O15: Mehānismi | P15: Summa
A17: 1 | C17: G1 | F17: 0 | G17: =IF(F17>0,likme,0) -> 0 | H17: =ROUND(F17*G17,2) -> 0 | I17: 0 | J17: 0 | K17: =SUM(H17:J17) -> 0 | L17: =ROUND(E17*F17,2) -> 0 | M17: =ROUND(E17*H17,2) -> 0 | N17: =ROUND(E17*I17,2) -> 0 | O17: =ROUND(E17*J17,2) -> 0 | P17: =SUM(M17:O17) -> 0
A18: 2 | C18: Betonēt grīdu ar C25/30 klases betonu 100mm biezumā, betonu padodot ar sūkni iestrādes vietā un stiegrojot ar B500B klases tērauda stiegrām. Ieskaitot visus palīgmateriālus un stiprinājumus. | D18: m2 | E18: 117.3
A19: 3 | C19: Ieklāt PE plēvi 0,2mm | D19: m2 | E19: 117.3
A20: 4 | C20: Siltināt grīdu ar siltumizolācju FINNFOAM FM-300 100mm biezumā vai ekvivalents | D20: m2 | E20: 117.3
A21: 5 | C21: Siltināt grīdu ar siltumizolācju FINNFOAM URA 50mm biezumā vai ekvivalents | D21: m2 | E21: 117.3
A22: 6 | C22: Ieklāt blietētu šķembu kārtu fr.30-45 150mm biezumā | D22: m3 | E22: =ROUND(E18*0.15,2) -> 17.6
A23: 7 | C23: P1
A24: 8 | C24: Ieklāt stiegrbetona izlīdzinošu kārtu 46mm biezumā, ieskaitot visus palīgmateriālus un stiprinājumus. | D24: m2 | E24: 361.4
A25: 9 | C25: Ieklāt plēvi PAROC XMV 001 vai ekvivalents | D25: m2 | E25: 361.4
A26: 10 | C26: Ieklāt skaņas izolāciju PAROC SSB 1, d=20mm vai ekvivalents | D26: m2 | E26: 361.4
A28: Tiešās izmaksas kopā, t.sk. Darba dēvēja sociālais nodoklis (23,59%) | L28: =SUM(L17:L27) -> 0 | M28: =SUM(M17:M27) -> 0 | N28: =SUM(N17:N27) -> 0 | O28: =SUM(O17:O27) -> 0 | P28: =SUM(P17:P27) -> 0
A30: =KT!A26 -> Sastādīja: ________ | D30: =KT!C26 -> 2026. gada ___._______________
A31: (paraksts un tā atšifrējums, datums)
A32: =KT!A28 -> Sertifikāta Nr.: ______
A34: =KT!A30 -> Pārbaudīja: ________ | D34: =KT!C30 -> 2026. gada ___._______________
A35: (paraksts un tā atšifrējums, datums)
A36: =KT!A32 -> Sertifikāta Nr.: ______

Sheet 1,8
A2: Lokālā tāme Nr.1,8
A3: =KA!C23 -> Jumti, segumi
A4: (būvdarbu veids vai konstruktīvā elementa nosaukums)
A6: Objekta nosaukums: | C6: =KT!B9 -> ,,Svētes pamatskolas ēkas piebūve, kā jaunas multifunkcionālas mācību telpu izveide 1.kārta''
A7: Būves nosaukums: | C7: =KT!B10 -> Svētes pamatskola
A8: Objekta adrese: | C8: =KT!B11 -> Svētē, Vilces ielā 6
A9: Pasūtījuma nr.:
M11: Tāmes izmaksas: | O11: =P49 -> 0 | P11: EUR
N12: Tāme sastādīta | O12: =KT!C30 -> 2026. gada ___._______________
A14: Nr.p.k. | B14: Kods | C14: Būvdarbu nosaukums | D14: Mērvienība | E14: Daudzums | F14: Vienības izmaksas | L14: Kopā uz visu apjomu
F15: Laika norma (c/h) | G15: Darba samaksas likme (euro/h) | H15: Darba alga | I15: Būvizstrādājumi | J15: Mehānismi | K15: KOPĀ | L15: Darbietilpība (c/h) | M15: Darba alga | N15: Būvizstrādājumi | O15: Mehānismi | P15: Summa
A17: 1 | C17: J1 | F17: 0 | G17: =IF(F17>0,likme,0) -> 0 | H17: =ROUND(F17*G17,2) -> 0 | I17: 0 | J17: 0 | K17: =SUM(H17:J17) -> 0 | L17: =ROUND(E17*F17,2) -> 0 | M17: =ROUND(E17*H17,2) -> 0 | N17: =ROUND(E17*I17,2) -> 0 | O17: =ROUND(E17*J17,2) -> 0 | P17: =SUM(M17:O17) -> 0
A18: 2 | C18: Ieklāt metāla jumta segumu Valcprofils RUUKKI (vai ekvivalents), ieskaitot visus palīgmateriālus un stiprinājumus. | D18: m2 | E18: 455.07
A19: 3 | C19: Stiprināt koka dēļus 100x25mm, ieskaitot visus palīgmateriālus un stiprinājumus | D19: m2 | E19: 455.07
A20: 4 | C20: Stiprināt koka latas 45x45mm, ieskaitot visus palīgmateriālus un stiprinājumus | D20: m2 | E20: 455.07
A21: 5 | C21: Ieklāt vējplēvi JUTADACH 115 (vai ekvivalents) | D21: m2 | E21: 455.07
A22: 6 | C22: Stiprināt koka latas 45x45mm, ieskaitot visus palīgmateriālus un stiprinājumus | D22: m2 | E22: 455.07
A23: 7 | C23: Siltināt jumtu ar PAROC Ultra , λ 0,035 W/mK (vai ekvivalents) 150mm | D23: m2 | E23: 455.07
A24: 8 | C24: Ieklāt Paroc XMV 020bas Gaisa Un Tvaika Barjeru (vai ekvivalents) | D24: m2 | E24: 455.07
A25: 9 | C25: J2
A26: 10 | C26: Ieklāt metāla jumta segumu Valcprofils RUUKKI (vai ekvivalents), ieskaitot visus palīgmateriālus un stiprinājumus. | D26: m2 | E26: 33.43
A27: 11 | C27: Stiprināt koka dēļus 145x45mm, ieskaitot visus palīgmateriālus un stiprinājumus | D27: m2 | E27: 33.43
A28: 12 | C28: Stiprināt koka latas 45x45mm, ieskaitot visus palīgmateriālus un stiprinājumus | D28: m2 | E28: 33.43
A29: 13 | C29: Ieklāt vējplēvi JUTADACH 115 (vai ekvivalents) | D29: m2 | E29: 33.43
A30: 14 | C30: Siltināt jumtu ar PAROC Ultra , λ 0,035 W/mK (vai ekvivalents) 200mm | D30: m2 | E30: 33.43
A31: 15 | C31: Ieklāt Paroc XMV 020bas Gaisa Un Tvaika Barjeru (vai ekvivalents) | D31: m2 | E31: 33.43
A32: 16 | C32: J3
A33: 17 | C33: Ieklāt metāla jumta segumu Valcprofils RUUKKI (vai ekvivalents), ieskaitot visus palīgmateriālus un stiprinājumus. | D33: m2 | E33: 5.43
A34: 18 | C34: Stiprināt koka dēļus 100x25mm, ieskaitot visus palīgmateriālus un stiprinājumus | D34: m2 | E34: 5.43
A35: 19 | C35: Mezgls 3
A36: 20 | C36: Stiprināt mūrlatu 150x150mm uz hidroizolācijas slāņa, ieskaitot visus palīgmateriālus un stiprinājumus | D36: m | E36: 74.71
A37: 21 | C37: Izveidot koka karkasu apdares dēļu stiprināšanai, ieskaitot visus palīgmateriālus un stiprinājumus | D37: m | E37: 74.71
A38: 22 | C38: Apšūt jumta dzegu ar krāsotiem apdares dēlīšiem 700mm platumā, ieskaitot visus stiprinājumus un palīgmateriālus. | D38: m | E38: 74.71
A39: 23 | C39: Montēt skārda specelementu, ieskaitot visus stiprinājumus un palīgmateriālus. | D39: m | E39: 74.71
A40: 24 | C40: Papildelementi
A41: 25 | C41: Montēt sniega barjeras, ieskaitot visus palīgmateriālus un stiprinājumus Sniega barjera ORIMA LE8 (vai ekvivalents), - metāla sniega barjera ar ovālām caurulēm; - l=3000mm; - tonis- R7016 | D41: m | E41: 67.52
A42: 26 | C42: Montēt skārda kori, ieskaitot visus stiprinājumus un palīgmateriālus. | D42: m | E42: 8.26
A43: 27 | C43: Montēt skārda vējmalu/lāseni, ieskaitot visus stiprinājumus un palīgmateriālus. | D43: m | E43: 132.47
A44: 28 | C44: Montēt skārda tekni, ieskaitot visus stiprinājumus un palīgmateriālus. | D44: m | E44: 74.71
A45: 29 | C45: Montēt skārda noteku, ieskaitot visus stiprinājumus un palīgmateriālus. | D45: m | E45: 73.8
...

Sheet 1,9
A2: Lokālā tāme Nr.1,9
A3: =KA!C24 -> Aiļu aizpildījumu elementi, speciālo konstrukciju fasādes
A4: (būvdarbu veids vai konstruktīvā elementa nosaukums)
A6: Objekta nosaukums: | C6: =KT!B9 -> ,,Svētes pamatskolas ēkas piebūve, kā jaunas multifunkcionālas mācību telpu izveide 1.kārta''
A7: Būves nosaukums: | C7: =KT!B10 -> Svētes pamatskola
A8: Objekta adrese: | C8: =KT!B11 -> Svētē, Vilces ielā 6
A9: Pasūtījuma nr.:
M11: Tāmes izmaksas: | O11: =P44 -> 0 | P11: EUR
N12: Tāme sastādīta | O12: =KT!C30 -> 2026. gada ___._______________
A14: Nr.p.k. | B14: Kods | C14: Būvdarbu nosaukums | D14: Mērvienība | E14: Daudzums | F14: Vienības izmaksas | L14: Kopā uz visu apjomu
F15: Laika norma (c/h) | G15: Darba samaksas likme (euro/h) | H15: Darba alga | I15: Būvizstrādājumi | J15: Mehānismi | K15: KOPĀ | L15: Darbietilpība (c/h) | M15: Darba alga | N15: Būvizstrādājumi | O15: Mehānismi | P15: Summa
A17: 1 | C17: Logi | F17: 0 | G17: =IF(F17>0,likme,0) -> 0 | H17: =ROUND(F17*G17,2) -> 0 | I17: 0 | J17: 0 | K17: =SUM(H17:J17) -> 0 | L17: =ROUND(E17*F17,2) -> 0 | M17: =ROUND(E17*H17,2) -> 0 | N17: =ROUND(E17*I17,2) -> 0 | O17: =ROUND(E17*J17,2) -> 0 | P17: =SUM(M17:O17) -> 0
A18: 2 | C18: Montēt logu L‑1 1690x1500mm, ieskaitot visus palīgmateriālus un stiprinājumus. Profils sistēma: Schüco CT 70 (vai ekvivalents) 2‑daļīgs PVC loga elements Loga rāmis- RAL 7016 Antracītpelēks Trīskāršs stiklojums Uf vērtība 1.1 W/(m²·K) aprīkoti ar drošības slēdžiem Skaņas gaisā izolācijas indekss R`w 40 dB | D18: gb | E18: 20
A19: 3 | C19: Uzstādīt tvaika izolācijas lenti, ieskaitot visus stiprinājumus un palīgmateriālus. | D19: m | E19: 127.6
A20: 4 | C20: Uzstādīt difuzijas lenti, ieskaitot visus stiprinājumus un palīgmateriālus. | D20: m | E20: 127.6
A21: 5 | C21: Uzstādīt iekšējo palodzi, ieskaitot visus stiprinājumus un palīgmateriālus. Laminētas kokskaidu plātnes iekšējā palodze | D21: m | E21: 33.8
A22: 6 | C22: Ieklāt putupolistirola plāksni zem palodzes | D22: m | E22: 33.8
A23: 7 | C23: Izlīdzināt palodzes virsmu | D23: m | E23: 33.8
A24: 8 | C24: Uzstādīt ārējo skārda palodzi, ieskaitot visus stiprinājumus un palīgmateriālus. | D24: m | E24: 33.8
A25: 9 | C25: Vitrīnas
A26: 10 | C26: Montēt vitrīnu Va‑1.1 EI‑30 3300x7000mm, ieskaitot visus palīgmateriālus un stiprinājumus. Fasādes profila sistēma: Schüco FWS 50.SI (vai ekvivalents) Iekšpuses noformējums: Standard Ārpuses noformējums: Standard Elementa izmēri [P x A]: - x - Virsma Category 2: RAL 7016 Antracītpelēks 33 gab. Fiksēts stiklojums (Panelis: ALU panel 46mm, Up vērtība: 0,70 W/(m²K)) 27 gab. Fiksēts stiklojums (Stikla: 48 mm , Ug vērtība: 0,6 W/(m²K)) -Skaņas izol. - stikla pakete - 35dB / rāmis - 38dB; | D26: gb | E26: 1
A27: 11 | C27: Montēt vitrīnu Va‑1.2 EI‑30 3140x3145mm, ieskaitot visus palīgmateriālus un stiprinājumus. Fasādes profila sistēma: Schüco FWS 50.SI (vai ekvivalents) Iekšpuses noformējums: Standard Ārpuses noformējums: Standard Elementa izmēri [P x A]: - x - Virsma Category 2: RAL 7016 Antracītpelēks 33 gab. Fiksēts stiklojums (Panelis: ALU panel 46mm, Up vērtība: 0,70 W/(m²K)) 27 gab. Fiksēts stiklojums (Stikla: 48 mm , Ug vērtība: 0,6 W/(m²K)) -Skaņas izol. - stikla pakete - 35dB / rāmis - 38dB; | D27: gb | E27: 1
A28: 12 | C28: Montēt vitrīnu Va‑1.3 EI‑30 3140x3606mm, ieskaitot visus palīgmateriālus un stiprinājumus. Fasādes profila sistēma: Schüco FWS 50.SI (vai ekvivalents) Iekšpuses noformējums: Standard Ārpuses noformējums: Standard Elementa izmēri [P x A]: - x - Virsma Category 2: RAL 7016 Antracītpelēks 33 gab. Fiksēts stiklojums (Panelis: ALU panel 46mm, Up vērtība: 0,70 W/(m²K)) 27 gab. Fiksēts stiklojums (Stikla: 48 mm , Ug vērtība: 0,6 W/(m²K)) -Skaņas izol. - stikla pakete - 35dB / rāmis - 38dB; | D28: gb | E28: 1
A29: 13 | C29: Montēt vitrīnu Va‑1.4 EI‑30 5100x6558mm, ieskaitot visus palīgmateriālus un stiprinājumus. Fasādes profila sistēma: Schüco FWS 50.SI (vai ekvivalents) Iekšpuses noformējums: Standard Ārpuses noformējums: Standard Elementa izmēri [P x A]: - x - Virsma Category 2: RAL 7016 Antracītpelēks 33 gab. Fiksēts stiklojums (Panelis: ALU panel 46mm, Up vērtība: 0,70 W/(m²K)) 27 gab. Fiksēts stiklojums (Stikla: 48 mm , Ug vērtība: 0,6 W/(m²K)) -Skaņas izol. - stikla pakete - 35dB / rāmis - 38dB; | D29: gb | E29: 1
A30: 14 | C30: Uzstādīt tvaika izolācijas lenti, ieskaitot visus stiprinājumus un palīgmateriālus. | D30: m | E30: 69.98
A31: 15 | C31: Uzstādīt difuzijas lenti, ieskaitot visus stiprinājumus un palīgmateriālus. | D31: m | E31: 69.98
A32: 16 | C32: Ārdurvis
A33: 17 | C33: Montēt durvis Da-1 EI-30 1400x2100mm, ieskaitot visus palīgmateriālus un stiprinājumus. Alumīnija durvju bloks. -Siltumvad. k. durvju bloka kopējai konstrukcijai - 1.1W/(m²K); -Eņģes: regulējamas – 3 gab.; -Slieksnis: metāla, biezums <20 mm; -Blīvgumija: iestrādāta vērtnē; -Tonis - Atbilstoši IN daļai; -Furnitūra: atbilstoši prasībām; -Aprīkotas ar pašaizvēršanās mehānismu; -Aprīkotas ar panikas rokturi evakuācijas vēršanās virzienā | D33: gb | E33: 3
A34: 18 | C34: Montēt durvis Da-2 1400x2100mm, ieskaitot visus palīgmateriālus un stiprinājumus. Alumīnija durvju bloks. -Siltumvad. k. durvju bloka kopējai konstrukcijai - 1.1W/(m²K); -Eņģes: regulējamas – 3 gab.; -Slieksnis: metāla, biezums <20 mm; -Blīvgumija: iestrādāta vērtnē; -Tonis -RAL-7016; -Furnitūra: atbilstoši prasībām; -Aprīkotas ar pašaizvēršanās mehānismu; Durvīm jābūt viegli atveramām ne ilgāk, kā 3 sekundes | D34: gb | E34: 1
A35: 19 | C35: Uzstādīt tvaika izolācijas lenti, ieskaitot visus stiprinājumus un palīgmateriālus. | D35: m | E35: 28
A36: 20 | C36: Uzstādīt difuzijas lenti, ieskaitot visus stiprinājumus un palīgmateriālus. | D36: m | E36: 28
A37: 21 | C37: Iekšdurvis
A38: 22 | C38: Montēt durvis Di-1 1000x2100mm, ieskaitot visus palīgmateriālus un stiprinājumus. Finierētas durvis ar priedes koka karkasu, rorskaidu (tubercore) pildījumu, mitrumizturīgas. Apdare - dabīga ozola tonis, lakotas ar parketa laku. Durvis veidot ar 2cm pacēlumu no grīdas. Durvis piegādāt kopā ar durvju kārbu (sienas biezumā) un aplodu komplektu. Aplodas 70x12mm. Enģes - regulējamas 3gab. Blīvgumija - iestrādāta vērtnē. Komplektācija ar rokturiem, slēdzenēm, cilindriem un citu FSB furnitūru. Skaņas izolācija - 39 dB. Durvīm jābūt viegli atveramām ne ilgāk, kā 3 sekundes | D38: gb | E38: 22
A39: 23 | C39: Montēt durvis Di-2 1150x2100mm, ieskaitot visus palīgmateriālus un stiprinājumus. Finierētas durvis ar priedes koka karkasu, rorskaidu (tubercore) pildījumu, mitrumizturīgas. Apdare - dabīga ozola tonis, lakotas ar parketa laku. Durvis veidot ar 2cm pacēlumu no grīdas. Durvis piegādāt kopā ar durvju kārbu (sienas biezumā) un aplodu komplektu. Aplodas 70x12mm. Enģes - regulējamas 3gab. Blīvgumija - iestrādāta vērtnē. Komplektācija ar rokturiem, slēdzenēm, cilindriem un citu FSB furnitūru. Durvis no iekšpuses aprīkotas ar papildus rokturi durvju platumā, cilvēkiem ar kustību traucējumiem (750 cm augstumā); Aprīkotas ar pašaizvēršanās sistēmu; Skaņas izolācija - 39 dB. Durvīm jābūt viegli atveramām ne ilgāk, kā 3 sekundes Durvju atvēršanās slodze ir ne vairāk par 2kg | D39: gb | E39: 2
A40: 24 | C40: Montēt durvis Di-3 1400X2100mm, ieskaitot visus palīgmateriālus un stiprinājumus. Finierētas durvis ar priedes koka karkasu, rorskaidu (tubercore) pildījumu, mitrumizturīgas. Apdare - dabīga ozola tonis, lakotas ar parketa laku. Durvis veidot ar 2cm pacēlumu no grīdas. Durvis piegādāt kopā ar durvju kārbu (sienas biezumā) un aplodu komplektu. Aplodas 70x12mm. Enģes - regulējamas 3gab. Blīvgumija - iestrādāta vērtnē. Komplektācija ar rokturiem, slēdzenēm, cilindriem un citu FSB furnitūru. Skaņas izolācija - 39 dB. Durvīm jābūt viegli atveramām ne ilgāk, kā 3 sekundes | D40: gb | E40: 1
A41: 25 | C41: Montēt durvis Di-4 1400x2100mm, ieskaitot visus palīgmateriālus un stiprinājumus. Alumīnija durvju bloks. -Siltumvad. k. durvju bloka kopējai konstrukcijai - 1.1W/(m²K); -Eņģes: regulējamas – 3 gab.; -Slieksnis: metāla, biezums <20 mm; -Blīvgumija: iestrādāta vērtnē; -Tonis -RAL-7016; -Furnitūra: atbilstoši prasībām; -Aprīkotas ar pašaizvēršanās mehānismu, kuri secīgi aizver durvju vērtnes; Durvīm jābūt viegli atveramām ne ilgāk, kā 3 sekundes Ugunsizturība EI 30 Durvis ir jāaprīko ar automātisko durvju vēršanās sistēmu Slimdrive EMD-F GEZE (vei ekvivalentu) | D41: gb | E41: 3
A42: 26 | C42: Montēt durvis Di-5 EI-30 2000x2100mm, ieskaitot visus palīgmateriālus un stiprinājumus. Alumīnija durvju bloks. -Siltumvad. k. durvju bloka kopējai konstrukcijai - 1.1W/(m²K); -Eņģes: regulējamas – 3 gab.; -Slieksnis: metāla, biezums <20 mm; -Blīvgumija: iestrādāta vērtnē; -Tonis -RAL-7016; -Furnitūra: atbilstoši prasībām; -Aprīkotas ar pašaizvēršanās mehānismu, kuri secīgi aizver durvju vērtnes; Durvīm jābūt viegli atveramām ne ilgāk, kā 3 sekundes Ugunsizturība EI 30 | D42: gb | E42: 1
A44: Tiešās izmaksas kopā, t.sk. Darba dēvēja sociālais nodoklis (23,59%) | L44: =SUM(L17:L43) -> 0 | M44: =SUM(M17:M43) -> 0 | N44: =SUM(N17:N43) -> 0 | O44: =SUM(O17:O43) -> 0 | P44: =SUM(P17:P43) -> 0
A46: =KT!A26 -> Sastādīja: ________ | D46: =KT!C26 -> 2026. gada ___._______________
A47: (paraksts un tā atšifrējums, datums)
...

Sheet 1,10
A2: Lokālā tāme Nr.1,10
A3: =KA!C25 -> Iekšējie apdares darbi
A4: (būvdarbu veids vai konstruktīvā elementa nosaukums)
A6: Objekta nosaukums: | C6: =KT!B9 -> ,,Svētes pamatskolas ēkas piebūve, kā jaunas multifunkcionālas mācību telpu izveide 1.kārta''
A7: Būves nosaukums: | C7: =KT!B10 -> Svētes pamatskola
A8: Objekta adrese: | C8: =KT!B11 -> Svētē, Vilces ielā 6
A9: Pasūtījuma nr.:
M11: Tāmes izmaksas: | O11: =P39 -> 0 | P11: EUR
N12: Tāme sastādīta | O12: =KT!C30 -> 2026. gada ___._______________
A14: Nr.p.k. | B14: Kods | C14: Būvdarbu nosaukums | D14: Mērvienība | E14: Daudzums | F14: Vienības izmaksas | L14: Kopā uz visu apjomu
F15: Laika norma (c/h) | G15: Darba samaksas likme (euro/h) | H15: Darba alga | I15: Būvizstrādājumi | J15: Mehānismi | K15: KOPĀ | L15: Darbietilpība (c/h) | M15: Darba alga | N15: Būvizstrādājumi | O15: Mehānismi | P15: Summa
A17: 1 | C17: Grīda | F17: 0 | G17: =IF(F17>0,likme,0) -> 0 | H17: =ROUND(F17*G17,2) -> 0 | I17: 0 | J17: 0 | K17: =SUM(H17:J17) -> 0 | L17: =ROUND(E17*F17,2) -> 0 | M17: =ROUND(E17*H17,2) -> 0 | N17: =ROUND(E17*I17,2) -> 0 | O17: =ROUND(E17*J17,2) -> 0 | P17: =SUM(M17:O17) -> 0
A18: 2 | C18: Izlīdzināt grīdas ar izlīdzinošu masu 5mm biezumā | D18: m2 | E18: 526.5
A19: 3 | C19: Ieklāt vinila grīdas segumu uz līmes kārtas, ieskaitot visus stiprinājumus un palīgmateriālus. Forbo Flooring systems vinila grīdas segums sphera 51005 Contrast dark grey; Pretslīdes klase R9; vai ekvivalents | D19: m2 | E19: 481.2
A20: 4 | C20: Ieklāt hidroizolācijas slāni | D20: m2 | E20: 45.3
A21: 5 | C21: Ieklāt flīžu segumu uz līmjavas kārtas un šuves aizpildīt ar šuvotāju, ieskaitot visus stiprinājumus un palīgmateriālus. RAKO Block DAK12782 sintered floor tile, unglazed dark grey 10 x 10cm; Pretslīdes klase R10/B; vai ekvivalents | D21: m2 | E21: 45.3
A22: 6 | C22: 'Betonam.lv'' Iekšējo kāpņu pārklājums ar krāsainiem čipsiem Nr.055 vai ekvivalents | D22: m2 | E22: 13.2
A23: 7 | C23: Ieklāt grīdlīstes, ieskaitot visus stiprinājumus un palīgmateriālus. Linoleja grīdlīste (iepriekš izveidotas linoleja seguma grīdlīstes H-10cm ar apmaļu apdares loksni) | D23: m | E23: 343.7
A24: 8 | C24: 10cm plata brīdinošā josla uz pirmā un pēdējā pakāpiena | D24: m | E24: 4
A25: 9 | C25: Sienas
A26: 10 | C26: Ieklāt flīžu segumu uz līmjavas kārtas un šuves aizpildīt ar šuvotāju, ieskaitot visus stiprinājumus un palīgmateriālus. RAKO Color One WAA1N210 wall tile grey 20 x 20 cm vai ekvivalents | D26: m2 | E26: 275.7
A27: 11 | C27: Ieklāt flīžu segumu uz līmjavas kārtas un šuves aizpildīt ar šuvotāju, ieskaitot visus stiprinājumus un palīgmateriālus. RAKO Neo WATGY145 wall tile light beige 20 x 25 cm vai ekvivalents | D27: m2 | E27: 9
A28: 12 | C28: Gruntēt, špaktelēt un slīpēt sienas | D28: m2 | E28: 1180
A29: 13 | C29: Gruntēt un krāsot sienas divās kārtās | D29: m2 | E29: 1180
A30: 14 | C30: Griesti
A31: 15 | C31: Montēt piekārtos griestus, ieskaitot visus stiprinājumus un palīgmateriālus. Cewood fibrolīta piekaramie griesti, 600x600x15mm; Krāsa melna; Skaidas platums 1mm; vai ekvivalents Iekļaut nesošo karkasu | D31: m2 | E31: 728.9
A32: 16 | C32: Ārsienu ailes (platums ap 250mm)
A33: 17 | C33: Gruntēt, špaktelēt un slīpēt sienas | D33: m | E33: 171.5
A34: 18 | C34: Gruntēt un krāsot sienas divās kārtās | D34: m | E34: 171.5
A35: 19 | C35: Cits
A36: 20 | C36: Atjaunot grīdas konstrukciju pamatu izbūves darbu zonās | D36: m2 | E36: 37.12
A37: 21 | C37: Atjaunot grīdas segumu pamatu izbūves darbu zonās | D37: m2 | E37: 37.12
A39: Tiešās izmaksas kopā, t.sk. Darba dēvēja sociālais nodoklis (23,59%) | L39: =SUM(L17:L38) -> 0 | M39: =SUM(M17:M38) -> 0 | N39: =SUM(N17:N38) -> 0 | O39: =SUM(O17:O38) -> 0 | P39: =SUM(P17:P38) -> 0
A41: =KT!A26 -> Sastādīja: ________ | D41: =KT!C26 -> 2026. gada ___._______________
A42: (paraksts un tā atšifrējums, datums)
A43: =KT!A28 -> Sertifikāta Nr.: ______
A45: =KT!A30 -> Pārbaudīja: ________ | D45: =KT!C30 -> 2026. gada ___._______________
A46: (paraksts un tā atšifrējums, datums)
A47: =KT!A32 -> Sertifikāta Nr.: ______

Sheet 1,11
A2: Lokālā tāme Nr.1,11
A3: =KA!C26 -> Ārējie apdares darbi
A4: (būvdarbu veids vai konstruktīvā elementa nosaukums)
A6: Objekta nosaukums: | C6: =KT!B9 -> ,,Svētes pamatskolas ēkas piebūve, kā jaunas multifunkcionālas mācību telpu izveide 1.kārta''
A7: Būves nosaukums: | C7: =KT!B10 -> Svētes pamatskola
A8: Objekta adrese: | C8: =KT!B11 -> Svētē, Vilces ielā 6
A9: Pasūtījuma nr.:
M11: Tāmes izmaksas: | O11: =P60 -> 0 | P11: EUR
N12: Tāme sastādīta | O12: =KT!C30 -> 2026. gada ___._______________
A14: Nr.p.k. | B14: Kods | C14: Būvdarbu nosaukums | D14: Mērvienība | E14: Daudzums | F14: Vienības izmaksas | L14: Kopā uz visu apjomu
F15: Laika norma (c/h) | G15: Darba samaksas likme (euro/h) | H15: Darba alga | I15: Būvizstrādājumi | J15: Mehānismi | K15: KOPĀ | L15: Darbietilpība (c/h) | M15: Darba alga | N15: Būvizstrādājumi | O15: Mehānismi | P15: Summa
A17: 1 | C17: Sa-1 | F17: 0 | G17: =IF(F17>0,likme,0) -> 0 | H17: =ROUND(F17*G17,2) -> 0 | I17: 0 | J17: 0 | K17: =SUM(H17:J17) -> 0 | L17: =ROUND(E17*F17,2) -> 0 | M17: =ROUND(E17*H17,2) -> 0 | N17: =ROUND(E17*I17,2) -> 0 | O17: =ROUND(E17*J17,2) -> 0 | P17: =SUM(M17:O17) -> 0
A18: 2 | C18: Izlīdzināt mūra sienu pirms ventilējamās fasādes izbūves | D18: m2 | E18: 237.25
A19: 3 | C19: Montēt alumīnija fasādes apakškarkasa konstrukciju, ieskaitot visus stiprinājumus un palīgmateriālus HILTI alumīnija kronšteins ar alumīnija T vai L veida profilu (profilu šķērsgriezums un stiprinājumu solis atbilstoši ražotāja veiktiem konstruktīviem aprēķiniem un apdares materiāla ražotāja norādījumiem) (vai ekvivalents) HILTI HAS-U A4 ķīmiskie enkuri(garuma un diametra izmērs atbilstoši ražotāja veiktiem konstruktīviem aprēķiniem un apdares materiāla ražotāja norādījumiem) ar enkurmasu HILTI HIT-HY 270 (vai ekvivalents) | D19: m2 | E19: 237.25
A20: 4 | C20: Siltināt virsmu ar Paroc Ultra, b=100mm, λu = 0.035 W/mK (vai ekvivalents) | D20: m2 | E20: 237.25
A21: 5 | C21: Siltināt virsmu ar Paroc WAS 35t, b=50mm, λu = 0.033 W/mK (vai ekvivalents) un stiprināt ar dībeļiem | D21: m2 | E21: 237.25
A22: 6 | C22: Apšūt karkasu ar Knauf Aquapanel Outdoor Cementa Plāksnēm Ārdarbiem (vai ekvivalents) 12.5x900x1200mm, ieskaitot visus stiprinājumus un palīgmateriālus | D22: m2 | E22: 237.25
A23: 7 | C23: Ieklāt flīžu segumu uz līmjavas kārtas un šuves aizpildīt ar šuvotāju, ieskaitot visus stiprinājumus un palīgmateriālus. Feldhaus thin-brick ķieģeļflīzes R 140 NF vai ekvivalents | D23: m2 | E23: 237.25
A24: 8 | C24: Sa-2
A25: 9 | C25: Izlīdzināt mūra sienu pirms ventilējamās fasādes izbūves | D25: m2 | E25: 174.63
A26: 10 | C26: Montēt alumīnija fasādes apakškarkasa konstrukciju, ieskaitot visus stiprinājumus un palīgmateriālus HILTI alumīnija kronšteins ar alumīnija T vai L veida profilu (profilu šķērsgriezums un stiprinājumu solis atbilstoši ražotāja veiktiem konstruktīviem aprēķiniem un apdares materiāla ražotāja norādījumiem) (vai ekvivalents) HILTI HAS-U A4 ķīmiskie enkuri(garuma un diametra izmērs atbilstoši ražotāja veiktiem konstruktīviem aprēķiniem un apdares materiāla ražotāja norādījumiem) ar enkurmasu HILTI HIT-HY 270 (vai ekvivalents) | D26: m2 | E26: 174.63
A27: 11 | C27: Siltināt virsmu ar Paroc Ultra, b=100mm, λu = 0.035 W/mK (vai ekvivalents) | D27: m2 | E27: 174.63
A28: 12 | C28: Siltināt virsmu ar Paroc WAS 35t, b=50mm, λu = 0.033 W/mK (vai ekvivalents) un stiprināt ar dībeļiem | D28: m2 | E28: 174.63
A29: 13 | C29: Apšūt karkasu ar Knauf Aquapanel Outdoor Cementa Plāksnēm Ārdarbiem (vai ekvivalents) 12.5x900x1200mm, ieskaitot visus stiprinājumus un palīgmateriālus | D29: m2 | E29: 174.63
A30: 14 | C30: Ieklāt flīžu segumu uz līmjavas kārtas un šuves aizpildīt ar šuvotāju, ieskaitot visus stiprinājumus un palīgmateriālus. Feldhaus thin-brick ķieģeļflīzes R 140 NF vai ekvivalents | D30: m2 | E30: 174.63
A31: 15 | C31: Sa-3
A32: 16 | C32: Izlīdzināt mūra sienu pirms ventilējamās fasādes izbūves | D32: m2 | E32: 159.63
A33: 17 | C33: Montēt alumīnija fasādes apakškarkasa konstrukciju, ieskaitot visus stiprinājumus un palīgmateriālus HILTI alumīnija kronšteins ar alumīnija T vai L veida profilu (profilu šķērsgriezums un stiprinājumu solis atbilstoši ražotāja veiktiem konstruktīviem aprēķiniem un apdares materiāla ražotāja norādījumiem) (vai ekvivalents) HILTI HAS-U A4 ķīmiskie enkuri(garuma un diametra izmērs atbilstoši ražotāja veiktiem konstruktīviem aprēķiniem un apdares materiāla ražotāja norādījumiem) ar enkurmasu HILTI HIT-HY 270 (vai ekvivalents) | D33: m2 | E33: 159.63
A34: 18 | C34: Apšūt karkasu ar Knauf Aquapanel Outdoor Cementa Plāksnēm Ārdarbiem (vai ekvivalents) 12.5x900x1200mm, ieskaitot visus stiprinājumus un palīgmateriālus | D34: m2 | E34: 159.63
A35: 19 | C35: Ieklāt flīžu segumu uz līmjavas kārtas un šuves aizpildīt ar šuvotāju, ieskaitot visus stiprinājumus un palīgmateriālus. Feldhaus thin-brick ķieģeļflīzes R 140 NF vai ekvivalents | D35: m2 | E35: 159.63
A36: 20 | C36: Ca-1
A37: 21 | C37: Gruntēt virsmu ar virsmas saķeres grunti Sakret QG (vai ekvivalents) | D37: m2 | E37: 64.1
A38: 22 | C38: Ieklāt hidroizolāciju Plastimul 2K Super (vai ekvivalents) | D38: m2 | E38: 64.1
A39: 23 | C39: Siltināt pamatus ar 100mm biezu ekstrudētu putupolistirolu uz Sakret BAK līmjavas kārtas. Ieskaitot visus stiprinājumus un palīgmateriālus. Fasādes siltumizolācija - ekstrudētas polistirola loksnes F-300 Finnfoam, b=100mm, λu = 0.037 W/mK (vai ekvivalents) | D39: m2 | E39: 64.1
A40: 24 | C40: Armēt virsmu ar armēšanas javu Sakret BAK pa stiklašķiedras sietu, ieskaitot visus stiprinājumus un palīgmateriālus. (vai ekvivalents) | D40: m2 | E40: 64.1
A41: 25 | C41: Gruntēt virsmu ar virsmas saķeres grunti Sakret PG (vai ekvivalents) | D41: m2 | E41: 64.1
A42: 26 | C42: Apmest virsmu ar tonētu dekoratīvo apmetumu Sakret SIP B 2mm, ieskaitot visus stiprinājumus un palīgmateriālus. (vai ekvivalents) | D42: m2 | E42: 64.1
A43: 27 | C43: Ca-2
A44: 28 | C44: Gruntēt virsmu ar virsmas saķeres grunti Sakret QG (vai ekvivalents) | D44: m2 | E44: 58.7
A45: 29 | C45: Ieklāt hidroizolāciju Plastimul 2K Super (vai ekvivalents) | D45: m2 | E45: 58.7
...

Sheet 1,12
A2: Lokālā tāme Nr.1,12
A3: =KA!C27 -> Dažādi darbi
A4: (būvdarbu veids vai konstruktīvā elementa nosaukums)
A6: Objekta nosaukums: | C6: =KT!B9 -> ,,Svētes pamatskolas ēkas piebūve, kā jaunas multifunkcionālas mācību telpu izveide 1.kārta''
A7: Būves nosaukums: | C7: =KT!B10 -> Svētes pamatskola
A8: Objekta adrese: | C8: =KT!B11 -> Svētē, Vilces ielā 6
A9: Pasūtījuma nr.:
M11: Tāmes izmaksas: | O11: =P31 -> 0 | P11: EUR
N12: Tāme sastādīta | O12: =KT!C30 -> 2026. gada ___._______________
A14: Nr.p.k. | B14: Kods | C14: Būvdarbu nosaukums | D14: Mērvienība | E14: Daudzums | F14: Vienības izmaksas | L14: Kopā uz visu apjomu
F15: Laika norma (c/h) | G15: Darba samaksas likme (euro/h) | H15: Darba alga | I15: Būvizstrādājumi | J15: Mehānismi | K15: KOPĀ | L15: Darbietilpība (c/h) | M15: Darba alga | N15: Būvizstrādājumi | O15: Mehānismi | P15: Summa
A16: 1 | C16: IE
A17: 2 | C17: Keramiskā krāsns KVK 160/1300 (vai ekvivalents) Temperatūra maks.: 1300 °C Darba kameras izmēri: 900x480x560 mm Ārējie izmēri: platums: 1230+160 ar automātiku; dziļums: 930 mm; augstums: 1200 mm. Elektr.jauda: 12 kW Pieslēgums: 380 3/N Spriegums: 16 A | D17: gb | E17: 1
A18: 3 | C18: TRES AUTOMĀTISKAIS ROKU ŽĀVĒTĀJS AR KARSTO GAISU, 39274201 (vai ekvivalents) | D18: gb | E18: 7
A19: 4 | C19: Stacionārs atbalsta rokturis, ar tualetes papīra turētāju, satīns, Kid-Man Krāsots tērauda rokturis (vai ekvivalents) | D19: gb | E19: 4
A20: 5 | C20: NOFER ATBALSTA ROKTURIS NT BALTS PACEĻAMS 60 15051.60.W (vai ekvivalents) | D20: gb | E20: 3
A21: 6 | C21: Pie sienas salokama kušete Söhngen (vai ekvivalents) augstums 65 cm, platums 70 cm, garums 200 cm | D21: gb | E21: 1
A22: 7 | C22: Pie sienas montējams zīdaiņu pārtinamais galds augstums 75 cm, platums 58 cm, dziļums 75 cm | D22: gb | E22: 1
C23: AR
A24: 8 | C24: PACĒLĀJS Cibes A5000 (VAI EKVIVALENTS) - PLATFORMAS IZMĒRI : 1467X1100 MM; - PACĒLĀJS IR PILNĪBĀ AUTOMĀTISKS, IEBŪVĒTS GRĪDĀ; - CELTSPĒJA 400 KG; - PĀRVIETOŠANĀS ĀTRUMS 0,15M/SEK; -Padeve 220V 50Hz -Jauda 2.2 kW -IZBŪVE PĒC RAŽOTĀJA PRASĪBĀM | D24: kpl | E24: 1
A25: 9 | C25: palīdzības pogas (0,15 un 0,9 metru augstumā no grīdas), kas ir savienotas ar auklu un gaismas indikatoru | D25: kpl | E25: 4
A26: 10 | C26: Tualešu kabīnes ar augstumu 2200mm | D26: m2 | E26: 30
A27: 11 | C27: Ugunsdzēsēju kāpnes ar aizsargriņķi | D27: m | E27: 10.44
A28: 12 | C28: Ugunsdzēsēju kāpnes bez aizsargriņķi | D28: m | E28: 3.35
A29: 13 | C29: uz kāpņu margām pie pirmā un pēdējā pakāpiena iestrādā stāva numura taktilo (sataustāmo) apzīmējumu vai numuru Braila rakstā valsts valodā | D29: gb | E29: 6
A31: Tiešās izmaksas kopā, t.sk. Darba dēvēja sociālais nodoklis (23,59%) | L31: =SUM(L16:L30) -> 0 | M31: =SUM(M16:M30) -> 0 | N31: =SUM(N16:N30) -> 0 | O31: =SUM(O16:O30) -> 0 | P31: =SUM(P16:P30) -> 0
B33: Piezīme: | C33: Tāmes pozīcijās jāiekļauj montāžas darbi
A35: =KT!A26 -> Sastādīja: ________ | D35: =KT!C26 -> 2026. gada ___._______________
A36: (paraksts un tā atšifrējums, datums)
A37: =KT!A28 -> Sertifikāta Nr.: ______
A39: =KT!A30 -> Pārbaudīja: ________ | D39: =KT!C30 -> 2026. gada ___._______________
A40: (paraksts un tā atšifrējums, datums)
A41: =KT!A32 -> Sertifikāta Nr.: ______

Sheet 2,1
A2: Lokālā tāme Nr.2,1
A3: =KA!C29 -> Iekšējie elektrotīkli, apgaismojums, spēka pievadi
A4: (būvdarbu veids vai konstruktīvā elementa nosaukums)
A6: Objekta nosaukums: | C6: =KT!B9 -> ,,Svētes pamatskolas ēkas piebūve, kā jaunas multifunkcionālas mācību telpu izveide 1.kārta''
A7: Būves nosaukums: | C7: =KT!B10 -> Svētes pamatskola
A8: Objekta adrese: | C8: =KT!B11 -> Svētē, Vilces ielā 6
A9: Pasūtījuma nr.:
M11: Tāmes izmaksas: | O11: =P55 -> 0 | P11: EUR
N12: Tāme sastādītā | O12: =KT!C30 -> 2026. gada ___._______________
A14: Nr.p.k. | B14: Kods | C14: Būvdarbu nosaukums | D14: Mērvienība | E14: Daudzums | F14: Vienības izmaksas | L14: Kopā uz visu apjomu
F15: Laika norma (c/h) | G15: Darba samaksas likme (euro/h) | H15: Darba alga | I15: Būvizstrādājumi | J15: Mehānismi | K15: KOPĀ | L15: Darbietilpība (c/h) | M15: Darba alga | N15: Būvizstrādājumi | O15: Mehānismi | P15: Summa
A17: 1 | C17: Sadale SS1 | D17: kpl | E17: 1
A18: 2 | C18: Sadale SS2 | D18: kpl | E18: 1
A19: 3 | C19: Vienpolīgs slēdzis, 230V,10A,IP20 | D19: gb | E19: 17
A20: 4 | C20: Divpolīgs slēdzis, 230V,10A,IP20 | D20: gb | E20: 6
A21: 5 | C21: Vienpolīgs slēdzis, 230V,10A,IP44 | D21: gb | E21: 1
A22: 6 | C22: Vienpolīgs pārslēdzis, 230V,10A,IP20 | D22: gb | E22: 22
A23: 7 | C23: Virsapmetuma Rozete, 230V,10A,IP20 | D23: gb | E23: 45
A24: 8 | C24: Virsapmetuma Rozete, 230V,10A,IP44 | D24: gb | E24: 15
A25: 9 | C25: Gaismekļi
A26: 10 | C26: PL Louver 600 V 27.5W 840 U16 BK 4099854149672/4099854149689 LEDVANCE 27.5 W vai ekvivalents | D26: gb | E26: 71
A27: 11 | C27: ILO 35 P 1546 HE 840 OP FO BLACK I350P0O5200E4020 LED LUKS 35 W vai ekvivalents | D27: gb | E27: 15
A28: 12 | C28: ILO 35 P 2736 HE 840 OP FO BLACK I350P0O9300E4020 LED LUKS 61 W vai ekvivalents | D28: gb | E28: 5
