Workbook
Name Mervienibas: '[1]2_DAS'!#REF!

Sheet Paredzamās līgumcenas koptāme
B2: APSTIPRINU
A3: __________________________________________________
A4: (pasūtītāja paraksts un tā atšifrējums)
D5: Z.v.
B6: ______.gada______._______________
A8: Paredzamās līgumcenas koptāme
A10: Objekta nosaukums: Satiksmes pārvada ar pievedceļiem izbūve Smiltenes un Kandavas ielu rajonā Daugavpilī
A11: Būves nosaukums: Ielas, ietves, luksofori, satiksmes organizācija, labiekārtojums, satiksmes pārvads, inženiertīkli
A12: Objekta adrese: Daugavpils, Esplanādes un Dzelzceļnieka apkaimes
A13: Pasūtījuma Nr.: DPD 2020/99
A15: Nr. p.k. | B15: Objekta nosaukums | C15: Objekta izmaksas (euro)
A16: 1 | B16: Teritorijas sadaļa, ceļa darbi, labiekārtojums, luksoforobjekti | C16: ='1.TS-CD'!H308 -> 0
A17: 2 | B17: Ūdensapgāde un kanalizācija (ārējā) | C17: ='2.UKT'!G370 -> 0
A18: 3 | B18: Lietus ūdens kanalizācija (ārējā) | C18: ='3.LKT'!G334 -> 0
A19: 4 | B19: Gāzes apgāde (ārējā) | C19: ='4.GAT'!H35 -> 0
A20: 5 | B20: Siltumapgāde (ārējā) | C20: ='5.SAT'!G55 -> 0
A21: 6 | B21: Elektroapgāde (ārējā). Ielu apgaismojuma tīkli | C21: ='6.ELT1 '!G153 -> 0
A22: 7 | B22: Elektroapgāde (ārējā). VAS "Latvijas dzelzceļš" apgaismojuma tīkli | C22: ='7.ELT2'!G107 -> 0
A23: 8 | B23: Elektroapgāde (ārējā). Lietotāja tīklu daļa | C23: ='8.ELT3'!H160 -> 0
A24: 9 | B24: Elektronisko sakaru sistēmas (ārējās) | C24: ='9.EST'!H234 -> 0
A25: 10 | B25: Dzelzceļa signalizācijas sistēmas un vilcienu kustības vadības sistēmas tīkli | C25: ='10.SCB'!G39 -> 0
A26: 11 | B26: Būvkonstrukcijas. Satiksmes pārvads | C26: ='11.BK PĀRVADS'!G744 -> 0
A27: 12 | B27: Būvkonstrukcijas. Dzelzsbetona kameras | C27: ='12.BK KAMERAS'!G110 -> 0
A28: 13 | B28: Elektroapgāde (ārējā). AS "Sadales tīkls" kabeļu pārbūve, jaunu pieslēgumu izbūve - atsevišķās būvniecības iecerēs | C28: 0
A29: Kopā | C29: =SUM(C16:D28) -> 0
A31: Finanšu rezerve neparedzētiem darbiem (5%) | C31: =C29*0.05 -> 0
A33: PVN (21%) | C33: =(C29+C31)*0.21 -> 0
A35: Pavisam būvniecības izmaksas | C35: =C29+C31+C33 -> 0
A36: Ar būvniecību saistītie pārējie izdevumi:
A37: būvuzraudzība* | C37: =C29*0.003 -> 0
A38: būvprojekta autoruzraudzība* | C38: 0
A39: Kopā | C39: =C35+C37+C38 -> 0
A40: * izmaksas precizējamas pirms attiecīgo līgumu noslēgšanas
A43: Sastādīja Mārtiņš Matvejs
B44: (paraksts un tā atšifrējums, datums)
A46: Pārbaudīja Jānis Bidzāns
B47: (paraksts un tā atšifrējums, datums)
A49: Sertifikāta Nr. 3-00780
A51: Tāme sastādīta 2024.gada martā
B53: Piezīmes
B54: 1. Visi darbu veidi un materiālu daudzumi ir noteikti teorētiski un būvniecības laikā ir nosakāmi pēc faktiski paveiktā darba būvlaukumā;
B55: 2. Būvuzņēmējam jāievērtē galveno darbu daudzumu kopsavilkumā minēto darbu veikšanai nepieciešamie materiāli un papildus darbi, kas nav minēti šajā sarakstā, bet bez kuriem nav iespējama galveno būvdarbu tehnoloģiski pareiza izpilde pēc spēkā esošajiem normatīviem;
B56: 3. Materiālu apjomi, kuri iebūvējot ir norādīti m3, ir sastādīti ievērojot materiālu sablīvēšanās koeficentus būvniecības laikā;
B57: 4. Beramie un gabalmateriāli doti iebūvētā veidā;
B58: 5. Konstrukciju elementu komplektācija atbilstoši izgatavotāju firmu instrukcijām;
B59: 6. Saskaņojot ar pasūtītāju un projekta autoru iespējams izmantot dažādu ražotāju analogas kvalitātes būvmateriālus un būvizstrādājumus;
B60: 7. Visa veida labiekārtojuma elementus (solus, žogus, barjeras, urnas, apstādījumus u.c.), kā arī prettrokšņu sienu krāsu toņus un citus vizuālos risinājumus būvdarbu laikā vēlreiz saskaņot ar būvprojekta autoru, pasūtītāju un Daugavpils valstspilsētas Pilsētplānošanas un būvniecības departamenta Pilsētvides nodaļas speciālistiem;
B61: 8. Būvdarbi veicami ievērojot Autoceļu būvdarbu specifikācijās ABS 2023/1, atsevisķu būvprojekta daļu specifikācijās vai skaidrojošā aprakstā dotos norādījumus, pielietojamos materiālus, iekārtas un darbu izpildes veidus.

Sheet Būvniecības koptāme
B2: APSTIPRINU
A3: __________________________________________________
A4: (pasūtītāja paraksts un tā atšifrējums)
D5: Z.v.
B6: ______.gada______._______________
A8: Būvniecības koptāme
A10: Objekta nosaukums: Satiksmes pārvada ar pievedceļiem izbūve Smiltenes un Kandavas ielu rajonā Daugavpilī
A11: Būves nosaukums: Ielas, ietves, luksofori, satiksmes organizācija, labiekārtojums, satiksmes pārvads, inženiertīkli
A12: Objekta adrese: Daugavpils, Esplanādes un Dzelzceļnieka apkaimes
A13: Pasūtījuma Nr.: DPD 2020/99
A15: Nr. p.k. | B15: Objekta nosaukums | C15: Objekta izmaksas (euro)
A16: 1 | B16: Teritorijas sadaļa, ceļa darbi, labiekārtojums, luksoforobjekti | C16: ='1.TS-CD'!H308 -> 0
A17: 2 | B17: Ūdensapgāde un kanalizācija (ārējā) | C17: ='2.UKT'!G370 -> 0
A18: 3 | B18: Lietus ūdens kanalizācija (ārējā) | C18: ='3.LKT'!G334 -> 0
A19: 4 | B19: Gāzes apgāde (ārējā) | C19: ='4.GAT'!H35 -> 0
A20: 5 | B20: Siltumapgāde (ārējā) | C20: ='5.SAT'!G55 -> 0
A21: 6 | B21: Elektroapgāde (ārējā). Ielu apgaismojuma tīkli | C21: ='6.ELT1 '!G153 -> 0
A22: 7 | B22: Elektroapgāde (ārējā). VAS "Latvijas dzelzceļš" apgaismojuma tīkli | C22: ='7.ELT2'!G107 -> 0
A23: 8 | B23: Elektroapgāde (ārējā). Lietotāja tīklu daļa | C23: ='8.ELT3'!H160 -> 0
A24: 9 | B24: Elektronisko sakaru sistēmas (ārējās) | C24: ='9.EST'!H234 -> 0
A25: 10 | B25: Dzelzceļa signalizācijas sistēmas un vilcienu kustības vadības sistēmas tīkli | C25: ='10.SCB'!G39 -> 0
A26: 11 | B26: Būvkonstrukcijas. Satiksmes pārvads | C26: ='11.BK PĀRVADS'!G744 -> 0
A27: 12 | B27: Būvkonstrukcijas. Dzelzsbetona kameras | C27: ='12.BK KAMERAS'!G110 -> 0
A28: 13 | B28: Elektroapgāde (ārējā). AS "Sadales tīkls" kabeļu pārbūve, jaunu pieslēgumu izbūve - atsevišķās būvniecības iecerēs | C28: 0
A29: Kopā | C29: =SUM(C16:D28) -> 0
A31: PVN (21%) | C31: =C29*0.21 -> 0
A33: Sastādīja Mārtiņš Matvejs
B34: (paraksts un tā atšifrējums, datums)
A36: Pārbaudīja Jānis Bidzāns
B37: (paraksts un tā atšifrējums, datums)
A39: Sertifikāta Nr. 3-00780
A41: Tāme sastādīta 2024.gada martā
B43: Piezīmes
B44: 1. Visi darbu veidi un materiālu daudzumi ir noteikti teorētiski un būvniecības laikā ir nosakāmi pēc faktiski paveiktā darba būvlaukumā;
B45: 2. Būvuzņēmējam jāievērtē galveno darbu daudzumu kopsavilkumā minēto darbu veikšanai nepieciešamie materiāli un papildus darbi, kas nav minēti šajā sarakstā, bet bez kuriem nav iespējama galveno būvdarbu tehnoloģiski pareiza izpilde pēc spēkā esošajiem normatīviem;
B46: 3. Materiālu apjomi, kuri iebūvējot ir norādīti m3, ir sastādīti ievērojot materiālu sablīvēšanās koeficentus būvniecības laikā;
B47: 4. Beramie un gabalmateriāli doti iebūvētā veidā;
B48: 5. Konstrukciju elementu komplektācija atbilstoši izgatavotāju firmu instrukcijām;
B49: 6. Saskaņojot ar pasūtītāju un projekta autoru iespējams izmantot dažādu ražotāju analogas kvalitātes būvmateriālus un būvizstrādājumus
B50: 7. Visa veida labiekārtojuma elementus (solus, žogus, barjeras, urnas, apstādījumus u.c.), kā arī prettrokšņu sienu krāsu toņus un citus vizuālos risinājumus būvdarbu laikā vēlreiz saskaņot ar būvprojekta autoru, pasūtītāju un Daugavpils valstspilsētas Pilsētplānošanas un būvniecības departamenta Pilsētvides nodaļas speciālistiem;
B51: 8. Būvdarbi veicami ievērojot Autoceļu būvdarbu specifikācijās ABS 2023/1, atsevisķu būvprojekta daļu specifikācijās vai skaidrojošā aprakstā dotos norādījumus, pielietojamos materiālus, iekārtas un darbu izpildes veidus

Sheet 1.TS-CD
A1: Darbu apjomu saraksts Nr.1
A2: Ielas, ietves, luksofori, satiksmes organizācija, labiekārtojums
A3: (Būvdarbu veids vai konstruktīvā elementa nosaukums)
A5: Objekta nosaukums: Satiksmes pārvada ar pievedceļiem izbūve Smiltenes un Kandavas ielu rajonā Daugavpilī
A6: Būves nosaukums: Ielas, ietves, luksofori, satiksmes organizācija, labiekārtojums
A7: Objekta adrese: Daugavpils, Esplanādes un Dzelzceļnieka apkaimes
A8: Pasūtījuma Nr.: DPD 2020/99
A10: Apjomi sastādīti, pamatojoties uz GP un TS-CD daļas rasējumiem.
A12: Nr. p. k. | B12: Būvdarbu nosaukums | C12: Piezīmes | D12: Specifikācijas Nr. vai Rasējuma Nr. | E12: Mēr-vienība | F12: Daudzums | G12: Vienības cena (euro) | H12: Kopējā cena (euro)
A14: 1 | B14: Sagatavošanas un demontāžas darbi
A15: 2 | B15: Mobilizācija un demobilizācija | D15: ABS 2023/1 2.1 ÷ 2.10 | E15: kpl | F15: 1
A16: 3 | B16: Satiksmes organizācijas nodrošināšana būvdarbu laikā, ieskaitot DOP rasējumos paredzētos risinājumus, t.sk. ceļu izbūvi, lai nodrošinātu piekļuvi būvlaukumam, ieskaitot aprīkojumu, tranšeju nostiprinājumus, palīgmateriālus, esošo koku aizsardzības pasākumus, satiksmes organizācijas tehnisko līdzekļu uzstādīšanu un uzraudzību u.c. darbus atbilstoši plānoto būvdarbu etapu skaitam un to ilgumam | D16: ABS 2023/1 2.1 ÷ 2.10 | E16: kpl | F16: 1
A17: 4 | B17: Uzmērīšana un nospraušana (t.sk. pabeigtas būves izpildmērījums) | D17: ABS 2023/1 2.10 | E17: kpl | F17: 1
A18: 5 | B18: Koku ciršana, ieskaitot celmu un sakņu demontāžu, paredzot transportu uz būvuzņēmēja atbērtni | D18: ABS 2023/1 3.1 | E18: gb | F18: 98
A19: 6 | B19: Ceļa zīmju demontāža, paredzot transportu uz būvuzņēmēja atbērtni vai uzstādīšanu atpakaļ norādītajā vietā | D19: ABS 2023/1 3.2 | E19: gb | F19: 138
A20: 7 | B20: Ceļa zīmju metāla balstu demontāža, paredzot transportu uz būvuzņēmēja atbērtni vai uzstādīšanu atpakaļ norādītajā vietā | D20: ABS 2023/1 3.2 | E20: gb | F20: 80
A21: 8 | B21: Gājēju metāla barjeru demontāža, paredzot transportu uz būvuzņēmēja atbērtni vai pasūtītāja norādītu uzglabāšanas vietu | D21: ABS 2023/1 3.2 | E21: m | F21: 250
A22: 9 | B22: Gājēju metāla barjeru saaudzīgu demontāža, paredzot uzglabāšanu un uzstādīšanu atpakaļ esošajā vietā pēc ietves seguma atjaunošanas | D22: ABS 2023/1 3.2 | E22: m | F22: 180
A23: 10 | B23: Ietves betona apmaļu demontāža, paredzot transportu uz būvuzņēmēja atbērtni | D23: ABS 2023/1 3.2 | E23: m | F23: 3415
A24: 11 | B24: Brauktuves betona apmaļu demontāža, paredzot transportu uz būvuzņēmēja atbērtni | D24: ABS 2023/1 3.2 | E24: m | F24: 3070
A25: 12 | B25: Betona transporta barjeru demontāža un utilizācija vai atkārtota izmantošana objektā (1gab = 6m) | D25: ABS 2023/1 3.2 | E25: gb | F25: 16
A26: 13 | B26: Tramvaja kontakttīkla balsta saudzīga demontāža un pārbūve norādītajā vietā, ieskaitot visus palīgmateriālus, kontakttīkla uzturēšanas darbus, ja nepieciešams paredzot pagaidu balsta izbūvi, kā arī darbu veikšanas projekta izstrādi un saskaņošanu ar AS "Daugavpils satiksme" | D26: ABS 2023/1 3.2 | E26: gb | F26: 1
... A51: 38 | B51: CSDD EUS un tā infrastruktūras pamata, apgaismojuma balsta saudzīga demontāža un pārbūve norādītajā vietā, ieskaitot norobežojošos stabus, pielietojot analogu pamata materiālu un ievērojot DOP p.4.4 un DOP Pielikumā dotos norādījumus | D51: ABS 2023/1 3.2, DOP 4.4 | E51: kpl | F51: 1
A52: 39 | B52: Visi nepieciešamie darbi ēkas nojaukšanai Dīķu ielā 3, kad.nr. 05000090303
A53: 40 | B53: Esošo inženierkomunikāciju (ūdensvads, saimnieciskā kanalizācija, elektroapgāde, elektroniskie sakaru tīkli, atkarībā no esošās situācijas) atslēgšana, atzinuma no tīklu turētājiem saņemšana | D53: ABS 2023/1 2.2, 3.2 | E53: kpl | F53: 1
A54: 41 | B54: Esošas divu stāvu mūra ēkas nojaukšana, tajā skaitā pamatu nojaukšana (S=110m2; h=~6,0m), transports uz būvuzņēmēja atbērtni | D54: ABS 2023/1 2.2, 3.2 | E54: m3 | F54: 660
A55: 42 | B55: Teritorijas sakārtošana pēc darbu pabeigšanas | D55: ABS 2023/1 2.2, 3.2 | E55: kpl | F55: 1
A56: 43 | B56: Izziņas par ēkas (būves) neesamību dabā saņemšana | D56: ABS 2023/1 2.2, 3.2 | E56: kpl | F56: 1
A57: 44 | B57: Visi nepieciešamie darbi ēku nojaukšanai Satiksmes ielā 3/5, kad.nr. 05000090311
A58: 45 | B58: Esošo inženierkomunikāciju (ūdensvads, saimnieciskā kanalizācija, elektroapgāde, elektroniskie sakaru tīkli, atkarībā no esošās situācijas) atslēgšana, atzinuma no tīklu turētājiem saņemšana | D58: ABS 2023/1 2.2, 3.2 | E58: kpl | F58: 1
A59: 46 | B59: Esošas viena stāva mūra ēkas un palīgēkas nojaukšana, tajā skaitā pamatu nojaukšana (S=150m2; h=~4,0m), transports uz būvuzņēmēja atbērtni | D59: ABS 2023/1 2.2, 3.2 | E59: m3 | F59: 600
A60: 47 | B60: Teritorijas sakārtošana pēc darbu pabeigšanas | D60: ABS 2023/1 2.2, 3.2 | E60: kpl | F60: 1
A61: 48 | B61: Izziņas par ēku (būvju) neesamību dabā saņemšana | D61: ABS 2023/1 2.2, 3.2 | E61: kpl | F61: 1
A62: 49 | B62: Visi nepieciešamie darbi ēku nojaukšanai Muitas ielā 4, kad.nr. 05000090310
A63: 50 | B63: Esošo inženierkomunikāciju (ūdensvads, saimnieciskā kanalizācija, elektroapgāde, elektroniskie sakaru tīkli, atkarībā no esošās situācijas) atslēgšana, atzinuma no tīklu turētājiem saņemšana | D63: ABS 2023/1 2.2, 3.2 | E63: kpl | F63: 1
A64: 51 | B64: Esošas viena stāva mūra ēkas un palīgēkas nojaukšana, tajā skaitā pamatu nojaukšana (S=205m2; h=~4,0m), transports uz būvuzņēmēja atbērtni | D64: ABS 2023/1 2.2, 3.2 | E64: m3 | F64: 820
A65: 52 | B65: Teritorijas sakārtošana pēc darbu pabeigšanas | D65: ABS 2023/1 2.2, 3.2 | E65: kpl | F65: 1
A66: 53 | B66: Izziņas par ēku (būvju) neesamību dabā saņemšana | D66: ABS 2023/1 2.2, 3.2 | E66: kpl | F66: 1
A67: 54 | B67: Visi nepieciešamie darbi ēku nojaukšanai Stacijas ielā 58, kad.nr. 05000090501
A68: 55 | B68: Esošo inženierkomunikāciju (ūdensvads, saimnieciskā kanalizācija, elektroapgāde, elektroniskie sakaru tīkli, atkarībā no esošās situācijas) atslēgšana, atzinuma no tīklu turētājiem saņemšana | D68: ABS 2023/1 2.2, 3.2 | E68: kpl | F68: 1
A69: 56 | B69: Esošas viena stāva koka ēkas un mūra palīgēkas nojaukšana, tajā skaitā pamatu nojaukšana (S=285m2; h=~4,0m), transports uz būvuzņēmēja atbērtni | D69: ABS 2023/1 2.2, 3.2 | E69: m3 | F69: 1140
A70: 57 | B70: Teritorijas sakārtošana pēc darbu pabeigšanas | D70: ABS 2023/1 2.2, 3.2 | E70: kpl | F70: 1
A71: 58 | B71: Izziņas par ēku (būvju) neesamību dabā saņemšana | D71: ABS 2023/1 2.2, 3.2 | E71: kpl | F71: 1
A72: 59 | B72: Visi nepieciešamie darbi ēku nojaukšanai Stacijas ielā 99, kad.nr. 05000011601
A73: 60 | B73: Esošo inženierkomunikāciju (ūdensvads, saimnieciskā kanalizācija, elektroapgāde, elektroniskie sakaru tīkli, atkarībā no esošās situācijas) atslēgšana, atzinuma no tīklu turētājiem saņemšana | D73: ABS 2023/1 2.2, 3.2 | E73: kpl | F73: 1
A74: 61 | B74: Esošas viena stāva mūra ēkas un koka palīgēkas nojaukšana, tajā skaitā pamatu nojaukšana (S=190m2; h=~4,0m), transports uz būvuzņēmēja atbērtni | D74: ABS 2023/1 2.2, 3.2 | E74: m3 | F74: 760
A75: 62 | B75: Teritorijas sakārtošana pēc darbu pabeigšanas | D75: ABS 2023/1 2.2, 3.2 | E75: kpl | F75: 1
A76: 63 | B76: Izziņas par ēku (būvju) neesamību dabā saņemšana | D76: ABS 2023/1 2.2, 3.2 | E76: kpl | F76: 1
A77: 64 | B77: Zemes klātnes būvniecības darbi
A78: 65 | B78: Liekās grunts un augsnes virskārtas norakšana un aizvešana | D78: ABS 2023/1 4.2 | E78: m3 | F78: 8035
A79: 66 | B79: Zemes klātnes ierakuma būvniecība, paredzot transportu uz būvuzņēmēja atbērtni vai atkārtotu pielietošanu objektā | D79: ABS 2023/1 4.4 | E79: m3 | F79: 10940
A80: 67 | B80: Vājas nestspējas grunts izrakšana un apmaiņa ar derīgu grunti, paredzot transportu uz būvuzņēmēja atbērtni (apjoms precizējams būvdarbu laikā, zemes klātnes būvniecības laikā) | D80: ABS 2023/1 4.2 | E80: m3 | F80: 300
A81: 68 | B81: Dažādas nestspējas grunts slāņu armēšana un atdalīšana ar ģeosintētiskajiem materiāliem, vietās, kur grunts apmaiņas darbus nav iespējams veikt (apjoms precizējams būvdarbu laikā, zemes klātnes būvniecības laikā) | D81: ABS 2023/1 4.5 | E81: m2 | F81: 750
A82: 69 | B82: Zemes klātnes uzbēruma būvniecība, paredzot izmantot objektā atgūto derīgo materiālu vai pievesto materiālu | D82: ABS 2023/1 4.4 | E82: m3 | F82: 18060
A83: 70 | B83: Uzbēruma nogāžu nostiprināšana ar augu zemes piebērumu un zāliena sējumu (tipveida nogāzes nostiprinājums NN-3) | D83: ABS 2023/1 4.6 | E83: m2 | F83: 720
A84: 71 | B84: Dīķa rakšanas un tīrīšanas darbi, paredzot grunts aizvešanu | D84: ABS 2023/1 4.1 | E84: m3 | F84: 1875
A85: 72 | B85: Dīķa nogāžu nostiprināšana ar augu zemes piebērumu, zāliena sējumu un ģeopaklāju (tipveida nogāzes nostiprinājums NN-4) | D85: ABS 2023/1 4.6 | E85: m2 | F85: 915
A86: 73 | B86: Ielu un ietvju konstrukciju izbūves darbi
A87: 74 | B87: 1A. segas konstrukcijas tips - asfaltbetona segums brauktuvēm, maģistrālās ielas
A88: 75 | B88: Karstā asfalta AC 11 surf dilumkārtas (AADTj,pievestā 1501-3500) būvniecība 4,0 cm biezumā | D88: ABS 2023/1 6.2 | E88: m2 | F88: 15980
A89: 76 | B89: Karstā asfalta AC 22 base/bin saistes kārtas (AADTj,kravas 501-1000) būvniecība 6,0 cm biezumā | D89: ABS 2023/1 6.2 | E89: m2 | F89: 13480
A90: 77 | B90: Karstā asfalta AC 22 base/bin apakškārta (AADTj,kravas 501-1000) būvniecība 8,0 cm biezumā | D90: ABS 2023/1 6.2 | E90: m2 | F90: 12900
A91: 78 | B91: Nesaistītu minerālmateriālu maisījuma 0/45, N-II klase būvniecība, h=10cm | D91: ABS 2023/1 5.2 | E91: m3 | F91: 1290
A92: 79 | B92: Nesaistītu minerālmateriālu maisījuma 0/56, N-III klase būvniecība, h=15cm | D92: ABS 2023/1 5.2 | E92: m3 | F92: 1935
A93: 80 | B93: Salizturīgās kārtas būvniecība, h=40cm, Ev2≥90MPa | D93: ABS 2023/1 5.1 | E93: m3 | F93: 5160
A94: 81 | B94: 1B. segas konstrukcijas tips - asfaltbetona segums brauktuvēm, vietējas nozīmes ielas
A95: 82 | B95: Karstā asfalta AC 11 surf dilumkārtas (AADTj,pievestā 501-1500) būvniecība 4,0 cm biezumā | D95: ABS 2023/1 6.2 | E95: m2 | F95: 3340
A96: 83 | B96: Karstā asfalta AC 22 base/bin apakškārta (AADTj,kravas 101-500) būvniecība 6,0 cm biezumā | D96: ABS 2023/1 6.2 | E96: m2 | F96: 3120
A97: 84 | B97: Nesaistītu minerālmateriālu maisījuma 0/45, N-III klase būvniecība, h=10cm | D97: ABS 2023/1 5.2 | E97: m3 | F97: 312
A98: 85 | B98: Nesaistītu minerālmateriālu maisījuma 0/56, N-IV klase būvniecība, h=15cm | D98: ABS 2023/1 5.2 | E98: m3 | F98: 329
A99: 86 | B99: Salizturīgās kārtas būvniecība, h=30cm, Ev2≥60MPa | D99: ABS 2023/1 5.1 | E99: m3 | F99: 936
A100: 87 | B100: 1C. segas konstrukcijas tips - asfaltbetona segums satiksmes pārvadam
A101: 88 | B101: Karstā asfalta AC 11 surf dilumkārtas (AADTj,pievestā 1501-3500) būvniecība 4,0 cm biezumā | D101: ABS 2023/1 6.2 | E101: m2 | F101: 7080
A102: 89 | B102: Karstā asfalta AC 16 bin saistes kārtes (AADTj,kravas 501-1000) būvniecība 4,0 cm biezumā | D102: ABS 2023/1 6.2 | E102: m2 | F102: 7080
A103: 90 | B103: 2. segas konstrukcijas tips - apaļakmens bruģa segums, ārpus ielas braucamās daļas
A104: 91 | B104: Apaļakmens dabīgā bruģa seguma būvniecība 15-20cm biezumā uz smilts vai sīkšķembu d≥4mm izlīdzinošās kārtas pamata 5-7cm biezumā (objektā atgūtais apaļakmens) | D104: ABS 2023/1 5.6 | E104: m2 | F104: 365
A105: 92 | B105: Apaļakmens dabīgā bruģa seguma būvniecība 15-20cm biezumā uz betona javas izlīdzinošās kārtas pamata 10cm biezumā (objektā atgūtais apaļakmens) | D105: ABS 2023/1 5.6 | E105: m2 | F105: 170
A106: 93 | B106: Nesaistītu minerālmateriālu 0/45 pamata nesošās virskārtas būvniecība, h=15cm, N-IV klase | D106: ABS 2023/1 5.2 | E106: m3 | F106: 99
A107: 94 | B107: Salizturīgās kārtas būvniecība, h=30cm, Ev2≥60MPa | D107: ABS 2023/1 5.1 | E107: m3 | F107: 160
A108: 95 | B108: 3. segas konstrukcijas tips - regulāras formas šķelta granīta bruģis, ietve
A109: 96 | B109: Šķelta granīta bruģakmens izbūve, ~100x100x100 uz smilts vai sīkšķembu d≥4mm izlīdzinošās kārtas 5-7cm pamata, 100% melni/pelēki toņi | D109: ABS 2023/1 5.6 | E109: m2 | F109: 149
A110: 97 | B110: Nesaistītu minerālmateriālu 0/45 pamata nesošās virskārtas būvniecība, h=20cm, N-III klase | D110: ABS 2023/1 5.2 | E110: m3 | F110: 31
A111: 98 | B111: Salizturīgās kārtas būvniecība, h=30cm, Ev2≥60MPa | D111: ABS 2023/1 5.1 | E111: m3 | F111: 45
A112: 99 | B112: 4. segas konstrukcijas tips - regulāras formas šķelta granīta bruģis, brauktuves paplašinājumi
A113: 100 | B113: Šķelta granīta bruģakmens izbūve, ~100x200x100 uz smilts vai sīkšķembu d≥4mm izlīdzinošās kārtas 5-7cm pamata, 100% melni/pelēki toņi | D113: ABS 2023/1 5.6 | E113: m2 | F113: 65
A114: 101 | B114: Nesaistītu minerālmateriālu 0/45 pamata nesošās virskārtas būvniecība, h=10cm, N-III klase | D114: ABS 2023/1 5.2 | E114: m3 | F114: 7
A115: 102 | B115: Nesaistītu minerālmateriālu 0/56 pamata nesošās virskārtas būvniecība, h=15cm, N-IV klase | D115: ABS 2023/1 5.2 | E115: m3 | F115: 10
A116: 103 | B116: Salizturīgās kārtas būvniecība, h=30cm, Ev2≥60MPa | D116: ABS 2023/1 5.1 | E116: m3 | F116: 20
A117: 104 | B117: 5A. segas konstrukcijas tips - betona bruģakmens ietvēm
A118: 105 | B118: Betona bruģa seguma būvniecība 8cm biezumā uz sīkšķembu izlīdzinošās kārtas, fr.4/8, 5-7cm biezumā. Gaiši pelēka krāsa, ar fāzi, skalota virsma, ~100x200x80 | D118: ABS 2023/1 5.5 | E118: m2 | F118: 5850
A119: 106 | B119: Nesaistītu minerālmateriālu 0/45 pamata nesošās virskārtas būvniecība, h=20cm, N-III klase | D119: ABS 2023/1 5.2 | E119: m3 | F119: 1170
A120: 107 | B120: Salizturīgās kārtas Ev2>60MPa izbūve 30cm biezumā | D120: ABS 2023/1 5.1 | E120: m3 | F120: 1755
A121: 108 | B121: 5B. segas konstrukcijas tips - betona bruģakmens laukumiem, atpūtas vietām
A122: 109 | B122: Betona bruģa seguma būvniecība 8cm biezumā uz sīkšķembu izlīdzinošās kārtas, fr.4/8, 5-7cm biezumā. Tumši pelēka krāsa, ar fāzi, skalota virsma, ~375x375x80 | D122: ABS 2023/1 5.5 | E122: m2 | F122: 235
A123: 110 | B123: Nesaistītu minerālmateriālu 0/45 pamata nesošās virskārtas būvniecība, h=20cm, N-III klase | D123: ABS 2023/1 5.2 | E123: m3 | F123: 23.5
A124: 111 | B124: Salizturīgās kārtas Ev2>60MPa izbūve 30cm biezumā | D124: ABS 2023/1 5.1 | E124: m3 | F124: 70
A125: 112 | B125: 6. segas konstrukcijas tips - asfaltbetona segums ietvēm un veloceļiem
A126: 113 | B126: Karstā asfalta AC 8 surf dilumkārtas (AADTj,pievestā 101-500) būvniecība 5,0 cm biezumā | D126: ABS 2023/1 6.2 | E126: m2 | F126: 1730
A127: 114 | B127: Nesaistītu minerālmateriālu 0/45 pamata nesošās virskārtas būvniecība, h=20cm, N-III klase | D127: ABS 2023/1 5.2 | E127: m3 | F127: 346
A128: 115 | B128: Salizturīgās kārtas Ev2>60MPa izbūve 30cm biezumā | D128: ABS 2023/1 5.1 | E128: m3 | F128: 520
...

Sheet 2.UKT
A1: Darbu apjomu saraksts Nr.2
A2: Ūdensapgādes un kanalizācijas tīkli (ārējie)
A3: (Būvdarbu veids vai konstruktīvā elementa nosaukums)
A5: Objekta nosaukums: Satiksmes pārvada ar pievedceļiem izbūve Smiltenes un Kandavas ielu rajonā Daugavpilī
A6: Būves nosaukums: Ūdensapgādes un kanalizācijas tīkli (ārējie)
A7: Objekta adrese: Daugavpils, Esplanādes un Dzelzceļnieka apkaimes
A8: Pasūtījuma Nr.: DPD 2020/99
A10: Apjomi sastādīti, pamatojoties uz UKT daļas rasējumiem.
A12: Nr. p. k. | B12: Būvdarbu nosaukums | C12: Specifikācijas Nr. vai Rasējuma Nr. | D12: Mēr-vienība | E12: Daudzums | F12: Vienības cena (euro) | G12: Kopējā cena (euro)
A14: 1 | B14: Ūdensapgādes sistēma U1 (būvdarbu apjomi)
A15: 2 | B15: Trases nospraušana | D15: m | E15: 1324
A16: 3 | B16: Tranšejas rakšana | D16: m3 | E16: 3540
A17: 4 | B17: Tranšejas malu nostiprināšanas divpusēji | D17: m | E17: 1255.5
A18: 5 | B18: Cauruļvadu montāža tranšejā | D18: m | E18: 1255.5
A19: 6 | B19: Smilts pabēruma, apbēruma ieklāšana ar blietēšanu | D19: m3 | E19: 771
A20: 7 | B20: Tranšejas aizbēršana ar jaunu pievestu grunti (smilšaina grunts, filtrācijas koeficents K>1,0m/dnn.) | D20: m3 | E20: 1805
A21: 8 | B21: PE apvalkcaurules OD800 izbūve ar beztranšeju metodi t.sk. darba un pieņemšanas būvbedres un ar caurdūrumu saistītie darbi | D21: m | E21: 9.5
A22: 9 | B22: Caurules PE OD560 mm ievilkšana apvalkcaurulē komplektā ar distanceriem un gala izolatoriem | D22: m | E22: 9.5
A23: 10 | B23: PE apvalkcaurules OD315 izbūve ar beztranšeju metodi t.sk. darba un pieņemšanas būvbedres un ar caurdūrumu saistītie darbi | D23: m | E23: 60
A24: 11 | B24: Caurules PE OD180 mm ievilkšana apvalkcaurulē komplektā ar distanceriem un gala izolatoriem | D24: m | E24: 60
A25: 12 | B25: Caurules PE OD225mm ievilkšana apvalkcaurulē komplektā ar distanceriem un gala izolatoriem | D25: m | E25: 12.5
A26: 13 | B26: Caurules PE OD50mm ievilkšana apvalkcaurulē komplektā arsiltinājumu un gala izolatoriem | D26: m | E26: 12.5
... A67: 54 | B67: Izbūvēto cauruļvadu nodošana ekspluatācijā | D67: kpl | E67: 1
A68: 55 | B68: Ūdensapgādes sistēma U1 (materiāli)
A69: 56 | B69: PE ūdensvada spiediena caurule PE100 RC SDR11 atbilstoši LVS EN12201 (vai ekvivalents standarts), ar spiediena klasi PN16 OD32 | D69: m | E69: 72
A70: 57 | B70: PE ūdensvada spiediena caurule PE100 RC SDR17 atbilstoši LVS EN12201 (vai ekvivalents standarts), ar spiediena klasi PN10 OD50 | D70: m | E70: 51
A71: 58 | B71: PE ūdensvada spiediena caurule PE100 RC SDR17 atbilstoši LVS EN12201 (vai ekvivalents standarts), ar spiediena klasi PN10 OD63 | D71: m | E71: 4.5
A72: 59 | B72: PE ūdensvada spiediena caurule PE100 RC SDR17 atbilstoši LVS EN12201 (vai ekvivalents standarts), ar spiediena klasi PN10 OD110 | D72: m | E72: 62.5
A73: 60 | B73: PE ūdensvada spiediena caurule PE100 RC SDR17atbilstoši LVS EN12201 (vai ekvivalents standarts), ar spiediena klasi PN10 OD180 | D73: m | E73: 148
A74: 61 | B74: PE ūdensvada spiediena caurule PE100 RC SDR17 atbilstoši LVS EN12201 (vai ekvivalents standarts), ar spiediena klasi PN10 OD225 | D74: m | E74: 663.5
A75: 62 | B75: PE ūdensvada spiediena caurule PE100 RC SDR17 ar spiediena klasi PN10 OD560 | D75: m | E75: 322.5
A76: 63 | B76: Dz/betona grodu aka Ø1500 komplektā ar pamatni, pārsegumu, augstuma regulēšanas gredzeniem, hidroizolāciju pilnā apjomā, aizsargčaulu, kāpšļiem, vāku asfalta segumā 40t. Akas dziļums no 2,0m līdz 2,5m | D76: kpl | E76: 7
A77: 64 | B77: Dz/betona grodu aka Ø1500 komplektā ar pamatni, pārsegumu, augstuma regulēšanas gredzeniem, hidroizolāciju pilnā apjomā, aizsargčaulu, kāpšļiem, vāku asfalta segumā 40t. Akas dziļums no 2,5m līdz 3,0m | D77: kpl | E77: 1
A78: 65 | B78: Dz/betona grodu aka Ø1500 komplektā ar pamatni, pārsegumu, augstuma regulēšanas gredzeniem, hidroizolāciju pilnā apjomā, aizsargčaulu, kāpšļiem, vāku zālāja segumā 25t, ar apbetonējumu. Akas dziļums no 3,0m līdz 3,5m | D78: kpl | E78: 1
A79: 66 | B79: Dz/betona grodu aka Ø1500 komplektā ar pamatni, pārsegumu, augstuma regulēšanas gredzeniem, hidroizolāciju pilnā apjomā, aizsargčaulu, kāpšļiem, vāku zālāja segumā 25t, ar apbetonējumu. Akas dziļums no 3,0m līdz 3,5m | D79: kpl | E79: 1
A80: 67 | B80: Dz/betona grodu aka Ø2000 komplektā ar pamatni, pārsegumu, augstuma regulēšanas gredzeniem, hidroizolāciju pilnā apjomā, aizsargčaulu, kāpšļiem, vāku asfalta segumā 40t. Akas dziļums no 2,0m līdz 2,5m | D80: kpl | E80: 5
... A170: 157 | B170: Smilšaina grunts ar filtrācijas koeficentu K>1,0m/dnn. h=15cm | D170: m3 | E170: 1805
A171: 158 | B171: Sadzīves kanalizācijas sistēma K1.1 un K1.2 (būvdarbu apjomi)
A172: 159 | B172: Trases nospraušana | D172: m | E172: 1003.5
A173: 160 | B173: Tranšejas rakšana | D173: m3 | E173: 10470
A174: 161 | B174: Tranšejas malu nostiprināšanas divpusēji | D174: m | E174: 1003.5
A175: 162 | B175: Cauruļvadu montāža tranšejā | D175: m | E175: 1003.5
A176: 163 | B176: Smilts pabēruma, apbēruma ieklāšana ar blietēšanu | D176: m3 | E176: 1241
A177: 164 | B177: Tranšejas aizbēršana ar jaunu pievestu grunti (smilšaina grunts, filtrācijas koeficents K>1,0m/dnn.) | D177: m3 | E177: 5590
A178: 165 | B178: PE skatakas montāža DN/ID 1500/800 | D178: kpl | E178: 5
A179: 166 | B179: PE skatakas montāža DN/ID 1600/620 | D179: kpl | E179: 8
A180: 167 | B180: PE skatakas montāža DN/ID 1200/620 | D180: kpl | E180: 2
A181: 168 | B181: PP skatakas montāža DN/ID600 | D181: kpl | E181: 5
A182: 169 | B182: Būvbedres rakšana un tranšejas malu nostiprināšana kameras izbūvei t.sk. aizbēršana. Dz/b kameras elementu (akā un virs pārseguma) montāža 2.7x2.7m | D182: kpl | E182: 2
A183: 170 | B183: Būvbedres rakšana un tranšejas malu nostiprināšana kameras izbūvei t.sk. aizbēršana. Dz/b kameras elementu (akā un virs pārseguma) montāža 2.5x2.5m | D183: kpl | E183: 1
... A211: 198 | B211: Izbūvēto kanalizācijas cauruļvadu nodošana ekspluatācijā | D211: kpl | E211: 1
A212: 199 | B212: Sadzīves kanalizācijas sistēma K1.1 un K1.2 (materiāli)
A213: 200 | B213: Ribots dubultsienu pašteces sadzīves kanalizācijas cauruļvads DN/ID1500 PE100 (ieguldes klase SN aprēķināta) atbilstoši EN13476-3 (vai ekvivalents standarts) ar rūpnieciski formētu, elektrometināmu savienojumu ar integrētu stiepli metināšanai | D213: m | E213: 434
A214: 201 | B214: Ribots dubultsienu pašteces sadzīves kanalizācijas cauruļvads DN/ID1000 PE100 (ieguldes klase SN aprēķināta) atbilstoši EN13476-3 (vai ekvivalents standarts) ar rūpnieciski formētu, elektrometināmu savienojumu ar integrētu stiepli metināšanai | D214: m | E214: 427
A215: 202 | B215: Ribots dubultsienu pašteces sadzīves kanalizācijas cauruļvads DN/ID500 PP, ieguldes klase SN8 atbilstoši EN13476-3 (vai ekvivalents standarts) ar rūpnieciski formētu savienojumu | D215: m | E215: 44
A216: 203 | B216: PP gludsienu pašteces sadzīves kanalizācijas cauruļvads DN/OD250, ieguldes klase SN8 atbilstoši EN13476-2 (vai ekvivalents standarts) | D216: m | E216: 32.5
A217: 204 | B217: PP gludsienu pašteces sadzīves kanalizācijas cauruļvads DN/OD200, ieguldes klase SN8 atbilstoši EN13476-2 (vai ekvivalents standarts) | D217: m | E217: 51.5
A218: 205 | B218: PP gludsienu pašteces sadzīves kanalizācijas cauruļvads DN/OD200, ieguldes klase SN8 atbilstoši EN13476-2 DN/OD160 (vai ekvivalents standarts) | D218: m | E218: 14.5
A219: 206 | B219: PE sedlu tipa skataka DN/ID 1500/800 atbilstoši EN 13598-2 (vai ekvivalents standarts), integrēta ID1500 PE100 kolektorā un aprīkota ar integrētiem, elektrometināmiem savienojumiem DN1500mm. Ar ID800 šahtu un uz polimēra slodzi kliedējoša atbalsta gredzena montētu vāku asfalta segumā 40t. Akas dziļums 4,0 līdz 4,5m | D219: kpl | E219: 3
A220: 207 | B220: PE sedlu tipa skataka DN/ID 1500/800 atbilstoši EN 13598-2 (vai ekvivalents standarts), integrēta ID1500 PE100 kolektorā un aprīkota ar integrētiem, elektrometināmiem savienojumiem DN1500mm. Ar ID800 šahtu un uz polimēra slodzi kliedējoša atbalsta gredzena montētu vāku asfalta segumā 40t. Dziļums 5,0 līdz 5,5m | D220: kpl | E220: 1
A221: 208 | B221: PE sedlu tipa skataka DN/ID 1500/800 atbilstoši EN 13598-2 (vai ekvivalents standarts), integrēta ID1500 PE100 kolektorā un aprīkota ar integrētiem, elektrometināmiem savienojumiem DN1500mm. Ar ID800 šahtu un uz polimēra slodzi kliedējoša atbalsta gredzena montētu vāku asfalta segumā 40t. Akas dziļums 5,5 līdz 6,0m | D221: kpl | E221: 1
A222: 209 | B222: PE skatakas DN/ID 1600/620 atbilstoši EN 13598-2 (vai ekvivalents standarts) ar uz polimēra slodzi kliedējoša atbalsta gredzena montētu vāku asfalta segumā 40t. Akas dziļums 5,0 līdz 5,5m | D222: kpl | E222: 1
A223: 210 | B223: PE skatakas DN/ID 1600/620 atbilstoši EN 13598-2 (vai ekvivalents standarts) ar uz polimēra slodzi kliedējoša atbalsta gredzena montētu vāku asfalta segumā 40t. Akas dziļums 4,5 līdz 5,0m | D223: kpl | E223: 1
A224: 211 | B224: PE skatakas DN/ID 1600/620 atbilstoši EN 13598-2 (vai ekvivalents standarts) ar uz betona slodzi kliedējoša atbalsta gredzena montēta stacionāra vāku zālāja segumā 25 t. Akas dziļums 4,0 līdz 4,5m | D224: kpl | E224: 1
... A247: 234 | B247: Smilšaina grunts ar filtrācijas koeficentu K>1,0m/dnn. | D247: m3 | E247: 5590
A248: 235 | B248: Sadzīves kanalizācijas sistēma K1.3 (būvdarbu apjomi)
A249: 236 | B249: Trases nospraušana | D249: m | E249: 58.5
A250: 237 | B250: Tranšejas rakšana | D250: m3 | E250: 275
A251: 238 | B251: Tranšejas malu nostiprināšanas divpusēji | D251: m | E251: 58.5
A252: 239 | B252: Cauruļvadu montāža tranšejā | D252: m | E252: 58.5
A253: 240 | B253: Smilts pabēruma, apbēruma ieklāšana ar blietēšanu | D253: m3 | E253: 51
A254: 241 | B254: Tranšejas aizbēršana ar jaunu pievestu grunti (smilšaina grunts, filtrācijas koeficents K>1,0m/dnn.) | D254: m3 | E254: 122
A255: 242 | B255: Dz/b akas montāža Ø1500 | D255: kpl | E255: 3
A256: 243 | B256: Marķēšanas plāksnītes ar apkalpes aku un pazemes ventiļu piesaisti montāža | D256: kpl | E256: 3
A257: 244 | B257: Aizsargčaulas dz.betona akas sienā montāža DN/ID800 | D257: kpl | E257: 3
A258: 245 | B258: Hermētisks caurules blīvējums ap cauruli D700 , pieslēguma vietās esošām caurulēm d700 | D258: kpl | E258: 2
A259: 246 | B259: Pieslēgums pie esošā kanalizācijas tīkla d700 | D259: vietas | E259: 2
A260: 247 | B260: Šķērsojumi ar esošajām inženierkomunikācijām, skatrakums, aizsardzība, saglabāšana | D260: vietas | E260: 2
... A269: 256 | B269: Izbūvēto kanalizācijas cauruļvadu nodošana ekspluatācijā | D269: kpl | E269: 1
A270: 257 | B270: Sadzīves kanalizācijas sistēma K1.3 (materiāli)
A271: 258 | B271: Ribots dubultsienu pašteces sadzīves kanalizācijas cauruļvads PP, ieguldes klase SN8 atbilstoši EN13476-3 (vai ekvivalents standarts) ar rūpnieciski formētu savienojumu DN/ID800 | D271: m | E271: 58.5
A272: 259 | B272: Dz/betona grodu aka Ø1500 komplektā ar pamatni, pārsegumu, augstuma regulēšanas gredzeniem, hidroizolāciju pilnā apjomā, kāpšļiem, betona tekni, vāku zālāja segumā 25t, ar apbetonējumu. Akas dziļums 1,5 līdz 2,0 m | D272: kpl | E272: 2
A273: 260 | B273: Dz/betona grodu aka Ø1500 komplektā ar pamatni, pārsegumu, augstuma regulēšanas gredzeniem, hidroizolāciju pilnā apjomā, kāpšļiem, betona tekni, vāku zālāja segumā 25t, ar apbetonējumu. Akas dziļums 2,0 līdz 2,5 m | D273: kpl | E273: 1
A274: 261 | B274: Marķēšanas plāksnītes ar apkalpes aku piesaisti (Ar stiprināšanu pie sienas vai uzmetāla balsta) | D274: kpl | E274: 3
A275: 262 | B275: Aizsargčaula dz.betona akas sienā DN/ID800 | D275: kpl | E275: 4
A276: 263 | B276: Hermētisks caurules blīvējums ap cauruli, pieslēguma vietās esošām caurulēm D700 | D276: kpl | E276: 2
A277: 264 | B277: Palīgmateriāli cauruļvadu un aku montāžai | D277: kpl | E277: 1
A278: 265 | B278: Smilts pabērums zem cauruļvada h=15cm | D278: m3 | E278: 14
A279: 266 | B279: Smilts apbērums un uzbērums virs cauruļvada h=15cm | D279: m3 | E279: 37
A280: 267 | B280: Smilšaina grunts ar filtrācijas koeficentu K>1,0m/dnn. | D280: m3 | E280: 122
A281: 268 | B281: Sadzīves kanalizācijas sistēma K1.4 (būvdarbu apjomi)
A282: 269 | B282: Trases nospraušana | D282: m | E282: 107.5
A283: 270 | B283: Tranšejas rakšana | D283: m3 | E283: 379
A284: 271 | B284: Tranšejas malu nostiprināšanas divpusēji | D284: m | E284: 107.5
A285: 272 | B285: Cauruļvadu montāža tranšejā | D285: m | E285: 107.5
A286: 273 | B286: Smilts pabēruma, apbēruma ieklāšana ar blietēšanu | D286: m3 | E286: 55
A287: 274 | B287: Tranšejas aizbēršana ar jaunu pievestu grunti (smilšaina grunts, filtrācijas koeficents K>1,0m/dnn.) | D287: m3 | E287: 258
A288: 275 | B288: Dz/b akas montāža Ø1000 | D288: kpl | E288: 4
A289: 276 | B289: Dz/b akas montāža Ø1500 | D289: kpl | E289: 2
A290: 277 | B290: Marķēšanas plāksnītes ar apkalpes aku un pazemes ventiļu piesaisti montāža | D290: kpl | E290: 6
...

Sheet 3.LKT
A1: Darbu apjomu saraksts Nr.3
A2: Lietusūdens kanalizācijas tīkli (ārējie)
A3: (Būvdarbu veids vai konstruktīvā elementa nosaukums)
A5: Objekta nosaukums: Satiksmes pārvada ar pievedceļiem izbūve Smiltenes un Kandavas ielu rajonā Daugavpilī
A6: Būves nosaukums: Lietus ūdens kanalizācijas tīkli (ārējie)
A7: Objekta adrese: Daugavpils, Esplanādes un Dzelzceļnieka apkaimes
A8: Pasūtījuma Nr.: DPD 2020/99
A10: Apjomi sastādīti, pamatojoties uz LKT daļas rasējumiem.
A12: Nr. p. k. | B12: Būvdarbu nosaukums | C12: Specifikācijas Nr. vai Rasējuma Nr. | D12: Mēr-vienība | E12: Daudzums | F12: Vienības cena (euro) | G12: Kopējā cena (euro)
A14: 1 | B14: Lietus kanalizācijas sistēma K2.1 (būvdarbu apjomi)
A15: 2 | B15: Trases nospraušana | D15: m | E15: 159
A16: 3 | B16: Tranšejas rakšana | D16: m3 | E16: 334
A17: 4 | B17: Tranšejas malu nostiprināšanas divpusēji | D17: m | E17: 159
A18: 5 | B18: Cauruļvadu montāža tranšejā | D18: m | E18: 159
A19: 6 | B19: Smilts pabēruma, apbēruma ieklāšana ar blietēšanu | D19: m3 | E19: 74
A20: 7 | B20: Tranšejas aizbēršana ar jaunu pievestu grunti (smilšaina grunts, filtrācijas koeficents K>1,0m/dnn.) | D20: m3 | E20: 239
A21: 8 | B21: PP skatakas DN/ID600 montāža | D21: kpl | E21: 10
A22: 9 | B22: Naftas produktu uztvērēja Q-10 l/s DN1500 montaža | D22: kpl | E22: 1
A23: 10 | B23: Aizsargčaulas dz.betona akas sienā montāža | D23: kpl | E23: 2
A24: 11 | B24: Izplūdes caurules OD250 nostiprināšana ar laukakmeņu 100/150 bruģējumu cementa javā C20/25, XC2 klase | D24: kpl | E24: 1
A25: 12 | B25: Tilta noteku pieslēgumi (savienotājzmavaPP/Metāls OD200/DN200mm, PP caurule OD200 m, 2 gab. PP līkums OD200, 45°, betona atbalsts) montāža | D25: kpl | E25: 7
A26: 13 | B26: Kanalizācijas tīklu skalošana | D26: m | E26: 159
... A31: 18 | B31: Izbūvēto kanalizācijas cauruļvadu nodošana ekspluatācijā | D31: kpl | E31: 1
A32: 19 | B32: Lietus kanalizācijas sistēma K2.1 (materiāli)
A33: 20 | B33: PP lietus ūdens kanalizācijas cauruļvads OD200, ieguldes klase SN8 atbilstoši EN13476-3 vai ekvivalentam standartam | D33: m | E33: 112
A34: 21 | B34: PP lietus ūdens kanalizācijas cauruļvads OD250, ieguldes klase SN8 atbilstoši EN13476-3 vai ekvivalentam standartam | D34: m | E34: 47
A35: 22 | B35: Saliekamās polipropilēna (PP) skatakas DN/ID600 LVS EN13476-3 (vai ekvivalents standarts) ar uz betona slodzi kliedējoša atbalsta gredzena montēta stacionāra vāka zālāja segumā 12,5t ar betona pārklājumu. Akas dziļums 1,0 līdz 1,5m. | D35: kpl | E35: 2
A36: 23 | B36: Saliekamās polipropilēna (PP) skatakas DN/ID600 LVS EN13476-3 (vai ekvivalents standarts) ar uz betona slodzi kliedējoša atbalsta gredzena montēta stacionāra vāka zālāja segumā 12,5t ar betona pārklājumu. Akas dziļums 1,5 līdz 2,0m. | D36: kpl | E36: 4
A37: 24 | B37: Saliekamās polipropilēna (PP) skatakas DN/ID600 LVS EN13476-3 (vai ekvivalents standarts) ar uz polimēra slodzi kliedējoša atbalsta gredzena montētu vāku asfalta segumā 40t ar betona pārklājumu. Akas dziļums 2,5 līdz 3,0m. Ar nostādināšanas daļu 1,0 m | D37: kpl | E37: 1
A38: 25 | B38: Saliekamās polipropilēna (PP) skatakas DN/ID600 LVS EN13476-3 (vai ekvivalents standarts) ar uz betona slodzi kliedējoša atbalsta gredzena montēta stacionāra vāka zālāja segumā 12,5t ar betona pārklājumu. Akas dziļums 2,0 līdz 2,5m. | D38: kpl | E38: 1
A39: 26 | B39: Saliekamās polipropilēna (PP) skatakas DN/ID600 LVS EN13476-3 (vai ekvivalents standarts) ar uz betona slodzi kliedējoša atbalsta gredzena montēta stacionāra vāka zālāja segumā 12,5t ar betona pārklājumu. Akas dziļums 2,5 līdz 3,0m ar nostādinātāja daļu 1,0m. | D39: kpl | E39: 1
A40: 27 | B40: Saliekamās polipropilēna (PP) skatakas DN/ID600 LVS EN13476-3 (vai ekvivalents standarts) ar uz polimēra slodzi kliedējoša atbalsta gredzena montētu vāku asfalta segumā 40t ar betona pārklājumu. Akas dziļums 2,0 līdz 2,5m. | D40: kpl | E40: 1
A41: 28 | B41: Naftas produktu atdalītājs Q-10l/s, Klase I, saskaņā ar LVS EN858 (vai ekvivalents standarts). Monolīta dzelzbetona naftas produktu atdalītāja tvertne ar koalescento filtru, integrētu nosēduma tvertni, un iekšējo pārplūdes līniju. Naftas atdalītāja tvertne ir pārklāta ar iekšējo aizsargpārklājumu. Automātisks notekūdeņu izvada noslēgšanas pludiņš. Komplektā ar C250 slodzes klases lūku. Naftas produktu signalizātors ar bateriju. | D41: kpl | E41: 1
A42: 29 | B42: Aizsargčaula OD250 dz.betona akas sienā | D42: kpl | E42: 2
A43: 30 | B43: Tilta noteku pieslēgumi (savienotājzmavaPP/Metāls OD200/DN200mm, PP caurule OD200 m, 2 gab. PP līkums OD200, 45°, betona atbalsts) | D43: kpl | E43: 7
A44: 31 | B44: Palīgmateriāli cauruļvadu un aku montāžai | D44: kpl | E44: 1
... A47: 34 | B47: Smilšaina grunts ar filtrācijas koeficentu K>1,0m/dnn. | D47: m3 | E47: 239
A48: 35 | B48: Lietus kanalizācijas sistēma K2.2 (būvdarbu apjomi)
A49: 36 | B49: Trases nospraušana | D49: m | E49: 87
A50: 37 | B50: Tranšejas rakšana | D50: m3 | E50: 298
A51: 38 | B51: Tranšejas malu nostiprināšanas divpusēji | D51: m | E51: 82
A52: 39 | B52: Cauruļvadu montāža tranšejā | D52: m | E52: 82
A53: 40 | B53: Caurules PE OD200mm ievilkšana apvalkcaurulē komplektā ar distanceriem un gala izolatoriem | D53: m | E53: 5
A54: 41 | B54: Smilts pabēruma, apbēruma ieklāšana ar blietēšanu | D54: m3 | E54: 38
A55: 42 | B55: Tranšejas aizbēršana ar jaunu pievestu grunti (smilšaina grunts, filtrācijas koeficents K>1,0m/dnn.) | D55: m3 | E55: 231
A56: 43 | B56: PP skatakas DN/ID600 montāža | D56: kpl | E56: 4
A57: 44 | B57: Dz/b akas Ø1500 montāža | D57: kpl | E57: 1
A58: 45 | B58: Tilta noteku pieslēgumi (savienotājzmavaPP/Metāls OD200/DN200mm, PP caurule OD200 m, 2 gab. PP līkums OD200, 45°, betona atbalsts) montāža | D58: kpl | E58: 5
A59: 46 | B59: PP sifons (smakas noslēgs) ar montāžu | D59: kpl | E59: 2
A60: 47 | B60: Savienotājuzmavas montāža | D60: kpl | E60: 1
... A72: 59 | B72: Izbūvēto kanalizācijas cauruļvadu nodošana ekspluatācijā | D72: kpl | E72: 1
A73: 60 | B73: Lietus kanalizācijas sistēma K2.2 (materiāli)
A74: 61 | B74: PP lietus ūdens kanalizācijas cauruļvads OD250, ieguldes klase SN8 atbilstoši EN13476-3 vai ekvivalentam standartam | D74: m | E74: 9
A75: 62 | B75: PP lietus ūdens kanalizācijas cauruļvads OD200, ieguldes klase SN8 atbilstoši EN13476-3 vai ekvivalentam standartam | D75: m | E75: 73
A76: 63 | B76: PP gludsienu pašteces kanalizācijas cauruļvads OD200, ieguldes klase SN8 atbilstoši EN13476-2 vai ekvivalentam standartam | D76: m | E76: 5
A77: 64 | B77: Saliekamās polipropilēna (PP) skatakas DN/ID600 LVS EN13476-3 (vai ekvivalents standarts) ar uz betona slodzi kliedējoša atbalsta gredzena montēta stacionāra vāka zālāja segumā 12,5t ar betona pārklājumu. Akas dziļums 1,5 līdz 2,m. | D77: kpl | E77: 1
A78: 65 | B78: Saliekamās polipropilēna (PP) skatakas DN/ID600 LVS EN13476-3 (vai ekvivalents standarts) ar uz polimēra slodzi kliedējoša atbalsta gredzena montētu vāku asfalta segumā 40t ar betona pārklājumu. Akas dziļums 1,5 līdz 2,0m. | D78: kpl | E78: 1
A79: 66 | B79: Saliekamās polipropilēna (PP) skatakas DN/ID600 LVS EN13476-3 (vai ekvivalents standarts) ar uz betona slodzi kliedējoša atbalsta gredzena montēta stacionāra vāka zālāja segumā 12,5t ar betona pārklājumu. Akas dziļums 1,5 līdz 2,0m. Ar nostādinātāja daļu 1,0m. | D79: kpl | E79: 1
A80: 67 | B80: Saliekamās polipropilēna (PP) skatakas DN/ID600 LVS EN13476-3 (vai ekvivalents standarts) ar uz betona slodzi kliedējoša atbalsta gredzena montēta stacionāra vāka zālāja segumā 12,5t ar betona pārklājumu. Akas dziļums 2,5 līdz 3,0m. Ar nostādinātāja daļu 1,0m. | D80: kpl | E80: 1
A81: 68 | B81: Dz/betona grodu aka ar perforētu akas pamatni DN1500 (filtrācijas aka), ar augstuma regulēšanas gredzeniem vāku zālāja segumā 25t, ar apbetonējumu. Akas dziļums no 2.0 līdz 2.5m. Komplektā ar ģeotekstilu, filtrējošo pildījumu (skaloti oļi 20-50mm). | D81: kpl | E81: 1
A82: 69 | B82: Tilta noteku pieslēgumi (savienotājzmavaPP/Metāls OD200/DN200mm, PP caurule OD200 m, 2 gab. PP līkums OD200, 45°, betona atbalsts) | D82: kpl | E82: 5
A83: 70 | B83: PP sifons (smakas noslēgs) OD250 | D83: kpl | E83: 1
A84: 71 | B84: PP sifons (smakas noslēgs) OD200 | D84: kpl | E84: 1
A85: 72 | B85: Distanceri OD250/DN325mm | D85: kpl | E85: 4
... A93: 80 | B93: Smilšaina grunts ar filtrācijas koeficentu K>1,0m/dnn. | D93: m3 | E93: 231
A94: 81 | B94: Lietus kanalizācijas sistēma K2.3 (būvdarbu apjomi)
A95: 82 | B95: Trases nospraušana | D95: m | E95: 411
A96: 83 | B96: Tranšejas rakšana | D96: m3 | E96: 920
A97: 84 | B97: Tranšejas malu nostiprināšanas divpusēji | D97: m | E97: 411
A98: 85 | B98: Cauruļvadu montāža tranšejā | D98: m | E98: 411
A99: 86 | B99: Smilts pabēruma, apbēruma ieklāšana ar blietēšanu | D99: m3 | E99: 213
A100: 87 | B100: Tranšejas aizbēršana ar jaunu pievestu grunti (smilšaina grunts, filtrācijas koeficents K>1,0m/dnn.) | D100: m3 | E100: 402
A101: 88 | B101: PP skatakas DN/ID600 montāža | D101: kpl | E101: 12
A102: 89 | B102: PP skatakas DN/ID1000 montāža | D102: kpl | E102: 6
A103: 90 | B103: PP gūliju DN/ID600 montāža | D103: kpl | E103: 14
A104: 91 | B104: Tilta noteku pieslēgumi (savienotājzmavaPP/Metāls OD200/DN200mm, PP caurule OD200 m, 2 gab. PP līkums OD200, 45°, betona atbalsts) montāža | D104: kpl | E104: 4
A105: 92 | B105: PP sifons (smakas noslēgs) OD315 ar montāžu | D105: kpl | E105: 1
A106: 93 | B106: Aizsargčaulas dz.betona akas sienā montāža | D106: kpl | E106: 4
... A126: 113 | B126: Izbūvēto kanalizācijas cauruļvadu nodošana ekspluatācijā | D126: kpl | E126: 1
A127: 114 | B127: Lietus kanalizācijas sistēma K2.3 (materiāli)
A128: 115 | B128: PP lietus ūdens kanalizācijas cauruļvads OD200, ieguldes klase SN8 atbilstoši EN13476-3 vai ekvivalentam standartam | D128: m | E128: 195
A129: 116 | B129: PP lietus ūdens kanalizācijas cauruļvads OD250, ieguldes klase SN8 atbilstoši EN13476-3 vai ekvivalentam standartam | D129: m | E129: 116
A130: 117 | B130: PP lietus ūdens kanalizācijas cauruļvads OD315, ieguldes klase SN8 atbilstoši EN13476-3 vai ekvivalentam standartam | D130: m | E130: 100
A131: 118 | B131: Saliekamās polipropilēna (PP) skatakas DN/ID600 LVS EN13476-3 (vai ekvivalents standarts) uz betona slodzi kliedējoša atbalsta gredzena montēta stacionāra vāka zālāja segumā 12,5t ar betona pārklājumu. Akas dziļums 1,0 līdz 1,5m. | D131: kpl | E131: 2
A132: 119 | B132: Saliekamās polipropilēna (PP) skatakas DN/ID600 LVS EN13476-3 (vai ekvivalents standarts) ar uz polimēra slodzi kliedējoša atbalsta gredzena montētu vāku asfalta segumā 40t ar betona pārklājumu. Akas dziļums 1,0 līdz 1,5m. | D132: kpl | E132: 2
A133: 120 | B133: Saliekamās polipropilēna (PP) skatakas DN/ID600 LVS EN13476-3 (vai ekvivalents standarts) ar uz polimēra slodzi kliedējoša atbalsta gredzena montētu vāku asfalta segumā 40t ar betona pārklājumu. Akas dziļums 1,5 līdz 2,0m. | D133: kpl | E133: 6
A134: 121 | B134: Saliekamās polipropilēna (PP) skatakas DN/ID600 LVS EN13476-3 (vai ekvivalents standarts) ar uz polimēra slodzi kliedējoša atbalsta gredzena montētu vāku asfalta segumā 40t ar betona pārklājumu. Akas dziļums 2,5 līdz 3,0m. | D134: kpl | E134: 2
A135: 122 | B135: PP grodu tipa kanalizācijas skataka DN1000 ar integrētām stacionārām kāpnēm, ar uz betona slodzi kliedējoša atbalsta gredzena montēta stacionāra vāka zālāja segumā 12,5t ar betona pārklājumu. Akas dziļums 1,5 līdz 2,0m | D135: kpl | E135: 1
A136: 123 | B136: PP grodu tipa kanalizācijas skataka DN1000 ar integrētām stacionārām kāpnēm, uz polimēra slodzi kliedējoša atbalsta gredzena montētu vāku asfalta segumā 40t ar betona pārklājumu. Akas dziļums1,5 līdz 2,0m | D136: kpl | E136: 1
A137: 124 | B137: PP grodu tipa kanalizācijas skataka DN1000 ar integrētām stacionārām kāpnēm, uz polimēra slodzi kliedējoša atbalsta gredzena montētu vāku asfalta segumā 40t ar betona pārklājumu. Akas dziļums2,0 līdz 2,5m | D137: kpl | E137: 1
A138: 125 | B138: PP grodu tipa kanalizācijas skataka DN1000 ar integrētām stacionārām kāpnēm, uz polimēra slodzi kliedējoša atbalsta gredzena montētu vāku asfalta segumā 40t ar betona pārklājumu. Akas dziļums2,5 līdz 3,0m | D138: kpl | E138: 1
A139: 126 | B139: PP grodu tipa kanalizācijas skataka DN1000 ar integrētām stacionārām kāpnēm, uz polimēra slodzi kliedējoša atbalsta gredzena montētu vāku asfalta segumā 40t ar betona pārklājumu. Akas dziļums2,5 līdz 3,0m | D139: kpl | E139: 1
... A154: 141 | B154: Smilšaina grunts ar filtrācijas koeficentu K>1,0m/dnn. | D154: m3 | E154: 402
A155: 142 | B155: Lietus kanalizācijas sistēma K2.4 (būvdarbu apjomi)
A156: 143 | B156: Trases nospraušana | D156: m | E156: 295
A157: 144 | B157: Tranšejas rakšana | D157: m3 | E157: 762
A158: 145 | B158: Tranšejas malu nostiprināšanas divpusēji | D158: m | E158: 295
A159: 146 | B159: Cauruļvadu montāža tranšejā | D159: m | E159: 295
A160: 147 | B160: Smilts pabēruma, apbēruma ieklāšana ar blietēšanu | D160: m3 | E160: 143
A161: 148 | B161: Tranšejas aizbēršana ar jaunu pievestu grunti (smilšaina grunts, filtrācijas koeficents K>1,0m/dnn.) | D161: m3 | E161: 473
...

Sheet 4.GAT
A1: Darbu apjomu saraksts Nr.4
A2: Gāzesapgāde (ārējā)
A3: (Būvdarbu veids vai konstruktīvā elementa nosaukums)
A5: Objekta nosaukums: Satiksmes pārvada ar pievedceļiem izbūve Smiltenes un Kandavas ielu rajonā Daugavpilī
A6: Būves nosaukums: Gāzesapgāde (ārējā)
A7: Objekta adrese: Daugavpils, Esplanādes un Dzelzceļnieka apkaimes
A8: Pasūtījuma Nr.: DPD 2020/99
A10: Apjomi sastādīti, pamatojoties uz GAT daļas rasējumiem.
A12: Nr. p. k. | B12: Būvdarbu nosaukums | C12: Piezīmes | D12: Specifikācijas Nr. vai Rasējuma Nr. | E12: Mēr-vienība | F12: Daudzums | G12: Vienības cena (euro) | H12: Kopējā cena (euro)
A14: 1 | B14: Pievienošanās pie pazemes gāzes tvertnes | D14: GAT-1 ÷ 4 | E14: gb | F14: 1
A15: 2 | B15: Pazemes gāzes tvertne LVS EN14075 (vai ekvivalents standarts), V=2,7m3 | C15: "VPS" vai ekvivalents | D15: GAT-1 ÷ 4 | E15: gb | F15: 1
A16: 3 | B16: Spiediena regulators 16bar/36mbar, sav, prv, Q=24kg/st | C16: "GOK" vai ekvivalents | D16: GAT-1 ÷ 4 | E16: gb | F16: 1
A17: 4 | B17: Tvertnes ekspertīze | C17: SIA "Inspecta" vai ekvivalents | D17: GAT-1 ÷ 4 | E17: gb | F17: 1
A18: 5 | B18: Tērauda kompensators, uzmavas, Dn 20mm | C18: "Weba" vai ekvivalents | D18: GAT-1 ÷ 4 | E18: gb | F18: 1
A19: 6 | B19: Tērauda līkums 90° DN25, PE C30 izol., L=0,5 x 1,0m | C19: "Weba" vai ekvivalents | D19: GAT-1 ÷ 4 | E19: gb | F19: 1
A20: 7 | B20: Tērauda caurule ar PE C30 izol, LVS EN10204 vai ekvivalents | D20: GAT-1 ÷ 4 | E20: m | F20: 1
A21: 8 | B21: Caurules krāsošana, PF115 | C21: SIA "RILAK" vai ekvivalents | D21: GAT-1 ÷ 4 | E21: kg | F21: 0.2
A22: 9 | B22: Enkurbulta M16 x 150mm | C22: "Stipro" vai ekivalents | D22: GAT-1 ÷ 4 | E22: gb | F22: 4
A23: 10 | B23: Tvertnes pamats, dzelzsbetona plātne, TP2A vai monolīts betonējums | D23: GAT-1 ÷ 4 | E23: gb | F23: 2
A24: 11 | B24: Gāzes vada hermetikas un izturības testēšana (Pazemes, zsp, LBN 243-15) | D24: GAT-1 ÷ 4 | E24: m | F24: 300
A25: 12 | B25: Tvertnes sazemējuma kontūrs, tēr. Loksne 4x25mm | D25: GAT-1 ÷ 4 | E25: m | F25: 15
A26: 13 | B26: Metināto šuvju izolācija, grunts, folija, PE | C26: "Kebu" vai ekvivalents | D26: GAT-1 ÷ 4 | E26: kpl | F26: 2
A27: 14 | B27: Grīdinājuma lente "GĀZE" | D27: GAT-1 ÷ 4 | E27: m | F27: 3
A28: 15 | B28: Objekta nospraušana | D28: GAT-1 ÷ 4 | E28: gb | F28: 2
A29: 16 | B29: Smilts, fr.3-4mm | D29: GAT-1 ÷ 4 | E29: m3 | F29: 12
A30: 17 | B30: Tvertnes demontāža, V=5,0m3, pazemē | D30: GAT-1 ÷ 4 | E30: kpl | F30: 2
A31: 18 | B31: Nožogojuma demontāža, metāla siets, stabi | D31: GAT-1 ÷ 4 | E31: m | F31: 27
A32: 19 | B32: Būvgružu utilizācija (metāla un betona elementi) | D32: GAT-1 ÷ 4 | E32: m3 | F32: 0.3
A33: 20 | B33: Zemes darbu apjoms | D33: GAT-1 ÷ 4 | E33: m3 | F33: 18
A34: 21 | B34: Seguma atjaunošana ar augsnes un zāļu sēklu maisījumu esošajā stāvoklī | D34: GAT-1 ÷ 4 | E34: m2 | F34: 60
F35: Kopā | H35: =SUM(H14:H34) -> 0
F36: PVN (21%) | H36: =H35*0.21 -> 0
F37: Pavisam kopā | H37: =H35+H36 -> 0
A39: Sastādīja Mārtiņš Matvejs
B40: (paraksts un tā atšifrējums, datums)
A42: Pārbaudīja Jānis Bidzāns
B43: (paraksts un tā atšifrējums, datums)
A45: Sertifikāta Nr. 3-00780

Sheet 5.SAT
A1: Darbu apjomu saraksts Nr.5
A2: Siltumapgāde (ārējā)
A3: (Būvdarbu veids vai konstruktīvā elementa nosaukums)
A5: Objekta nosaukums: Satiksmes pārvada ar pievedceļiem izbūve Smiltenes un Kandavas ielu rajonā Daugavpilī
A6: Būves nosaukums: Siltumapgāde (ārējā)
A7: Objekta adrese: Daugavpils, Esplanādes un Dzelzceļnieka apkaimes
A8: Pasūtījuma Nr.: DPD 2020/99
A10: Apjomi sastādīti, pamatojoties uz SAT daļas rasējumiem.
A12: Nr. p. k. | B12: Būvdarbu nosaukums | C12: Specifikācijas Nr. vai Rasējuma Nr. | D12: Mēr-vienība | E12: Daudzums | F12: Vienības cena (euro) | G12: Kopējā cena (euro)
A14: 1 | B14: Materiālu specifikācija
A15: 2 | B15: Rūpnieciski izolēta caurule, Ø60/140 | C15: SAT-1 ÷ 7 | D15: m | E15: 194.5
A16: 3 | B16: Rūpnieciski izolēta caurule ar protektoriem, Ø60/140 | C16: SAT-1 ÷ 7 | D16: m | E16: 48
A17: 4 | B17: Termonosēdošā uzmava ar termonosēdošo manžeti, Ø60/140 | C17: SAT-1 ÷ 7 | D17: gb | E17: 44
A18: 5 | B18: Rūpnieciski izolēts servisa krāns no nerušējošā tērauda gaisa izlaidei ar vitņu korķiem, Ø60/140 Dn25 h=0.50m, M-2 | C18: SAT-1 ÷ 7 | D18: gb | E18: 2
A19: 6 | B19: Rūpnieciski izolēts līkums 90° 1.00x1.00m, Ø60/140 | C19: SAT-1 ÷ 7 | D19: gb | E19: 6
A20: 7 | B20: Rūpnieciski izolēts līkums 102° 1.00x1.00m, Ø60/140 | C20: SAT-1 ÷ 7 | D20: gb | E20: 2
A21: 8 | B21: Rūpnieciski izolēts līkums 104° 1.00x1.00m, Ø60/140 | C21: SAT-1 ÷ 7 | D21: gb | E21: 2
A22: 9 | B22: Terauda aizsargčaula, Dn250; l=19.5m | C22: SAT-1 ÷ 7 | D22: gb | E22: 2
A23: 10 | B23: Nerūsējoša tērauda skava Ø140 | C23: SAT-1 ÷ 7 | D23: gb | E23: 2
A24: 11 | B24: Nerūsējoša tērauda skava Ø273 | C24: SAT-1 ÷ 7 | D24: gb | E24: 2
A25: 12 | B25: Ģeotekstils | C25: SAT-1 ÷ 7 | D25: m2 | E25: 0.52
A26: 13 | B26: Elastīgais ievads, Ø60/140 | C26: SAT-1 ÷ 7 | D26: gb | E26: 8
... A35: 22 | B35: Šķembas, fr.0-40mm | C35: SAT-1 ÷ 7 | D35: m3 | E35: 0.15
A36: 23 | B36: Darbu apjomi
A37: 24 | B37: Rūpnieciski izolēto cauruļu noguldīšana un montāža tranšējā, Ø60/140 | C37: SAT-1 ÷ 7 | D37: m | E37: 194.5
A38: 25 | B38: Rūpnieciski izolēto cauruļu ar protektoriem noguldīšana un montāža tranšējā, Ø60/140 | C38: SAT-1 ÷ 7 | D38: m | E38: 48
A39: 26 | B39: Termonosēdošā uzmava ar termonosēdošo manžeti montāža, Ø60/140 | C39: SAT-1 ÷ 7 | D39: gb | E39: 44
A40: 27 | B40: Rūpnieciski izolēts servisa krāns no nerušējošā tērauda gaisa izlaidei ar vitņu korķiem montāža, Ø60/140 Dn25 h=0.50m, M-2 | C40: SAT-1 ÷ 7 | D40: gb | E40: 2
A41: 28 | B41: Rūpnieciski izolēta līkuma montāža, Ø60/140 | C41: SAT-1 ÷ 7 | D41: gb | E41: 10
A42: 29 | B42: Siltumtrases akas ierīkošana, M-2 | C42: SAT-1 ÷ 7 | D42: gb | E42: 1
A43: 30 | B43: Siltumtrases pieslēgums pie esosa tīkla | C43: SAT-1 ÷ 7 | D43: gb | E43: 4
A44: 31 | B44: Zemes darbi
A45: 32 | B45: Grunts izstrāde ar ekskavatoru | C45: SAT-1 ÷ 7 | D45: m3 | E45: 250
A46: 33 | B46: Grunts izstrāde bez mehānismiem | C46: SAT-1 ÷ 7 | D46: m3 | E46: 4
A47: 34 | B47: Pamatnes ierīkošana zem cauruļvadiem no smilts s=0.10m | C47: SAT-1 ÷ 7 | D47: m3 | E47: 21.5
A48: 35 | B48: Tranšeju aizbēršana ar smilti ar sekojošu blietēšanu pa kārtām 0.20m un planēšanu ar roku darbu | C48: SAT-1 ÷ 7 | D48: m3 | E48: 49
A49: 36 | B49: Tranšeju aizbēršana ar grunti ar buldozeru ar sekojošu blietēšanu pa kārtām ar elektroblieti. | C49: SAT-1 ÷ 7 | D49: m3 | E49: 183.5
A50: 37 | B50: Demontāžas darbi
A51: 38 | B51: Esoša siltumtrase T1/T2 demontaža, 2d57 | C51: SAT-1 ÷ 7 | D51: m | E51: 178
A52: 39 | B52: Esoša dz/b kanala demontaža, 600x450 | C52: SAT-1 ÷ 7 | D52: m | E52: 178
A53: 40 | B53: Labiekārtošanas darbi
A54: 41 | B54: Būvgružu utilizācija | C54: SAT-1 ÷ 7 | D54: m3 | E54: 71
E55: Kopā | G55: =SUM(G16:G54) -> 0
E56: PVN (21%) | G56: =G55*0.21 -> 0
E57: Pavisam kopā | G57: =G55+G56 -> 0
A59: Sastādīja Mārtiņš Matvejs
B60: (paraksts un tā atšifrējums, datums)
A62: Pārbaudīja Jānis Bidzāns
B63: (paraksts un tā atšifrējums, datums)
A65: Sertifikāta Nr. 3-00780

Sheet 6.ELT1 
A1: Darbu apjomu saraksts Nr.6
A2: Elektroapgāde (ārējā). Ielu apgaismojuma tīkli
A3: (Būvdarbu veids vai konstruktīvā elementa nosaukums)
A5: Objekta nosaukums: Satiksmes pārvada ar pievedceļiem izbūve Smiltenes un Kandavas ielu rajonā Daugavpilī
A6: Būves nosaukums: Elektroapgāde (ārējā). Ielu apgaismojuma tīkli
A7: Objekta adrese: Daugavpils, Esplanādes un Dzelzceļnieka apkaimes
A8: Pasūtījuma Nr.: DPD 2020/99
A10: Apjomi sastādīti, pamatojoties uz ELT1 daļas rasējumiem.
A12: Nr. p. k. | B12: Būvdarbu nosaukums | C12: Specifikācijas Nr. vai Rasējuma Nr. | D12: Mēr-vienība | E12: Daudzums | F12: Vienības cena (euro) | G12: Kopējā cena (euro)
A14: 1 | B14: Materiālu specifikācija
A15: 2 | B15: Apgaismojuma sadalnes | C15: ELT1-1 ÷ 7
A16: 3 | B16: Cilpu kaste CK-1:
A17: 4 | B17: Apgaismojuma sadalnes kompl. uzstādīšanai gruntī kpl. ar pamatni, slēdzeni, DIN, IP44 | D17: kpl. | E17: 1
A18: 5 | B18: Drošinātājslēdzis, 25A | C18: NH-00, 25A | D18: gb. | E18: 1
A19: 6 | B19: Automātslēdzis, 16A | C19: 1C, 16A | D19: gb. | E19: 3
A20: 7 | B20: Drošinātāju blokslēdzis, līstem NH-00 | D20: gb. | E20: 3
A21: 8 | B21: Zemēšanas kopne, R≤30Ω | D21: kpl. | E21: 1
A22: 9 | B22: Darba materiālu komplekts | D22: kpl. | E22: 1
A23: 10 | B23: Cilpu kaste CK-2:
A24: 11 | B24: Apgaismojuma sadalnes kompl. uzstādīšanai gruntī kpl. ar pamatni, slēdzeni, DIN, IP44 | D24: kpl. | E24: 1
A25: 12 | B25: Automātslēdzis, 16A | C25: 1C, 16A | D25: gb. | E25: 2
A26: 13 | B26: Drošinātājslēdzis, 25A | C26: NH-00, 25A | D26: gb. | E26: 1
A27: 14 | B27: Naži | C27: NH-00 | D27: gb. | E27: 2
A28: 15 | B28: Drošinātāju blokslēdzis, līstem NH-00 | D28: gb. | E28: 3
A29: 16 | B29: Zemēšanas kopne, R≤30Ω | D29: kpl. | E29: 1
A30: 17 | B30: Darba materiālu komplekts | D30: kpl. | E30: 1
A31: 18 | B31: Cilpu kaste CK-3:
A32: 19 | B32: Apgaismojuma sadalnes kompl. uzstādīšanai gruntī kpl. ar pamatni, slēdzeni, DIN, IP44 | D32: kpl. | E32: 1
A33: 20 | B33: Naži | C33: NH-00 | D33: gb. | E33: 1
A34: 21 | B34: Automātslēdzis, 16A | C34: 1C | D34: gb. | E34: 2
A35: 22 | B35: Drošinātājslēdzis, 16A | C35: NH-00 | D35: gb. | E35: 1
A36: 23 | B36: Drošinātāju blokslēdzis, līstem NH-00 | D36: gb. | E36: 3
A37: 24 | B37: Zemēšanas kopne, R≤30Ω | D37: kpl. | E37: 1
A38: 25 | B38: Darba materiālu komplekts | D38: kpl. | E38: 1
A39: 26 | B39: Apgaismojuma sadalne Nr.1:
A40: 27 | B40: Apgaismojuma sadalnes kompl. uzstādīšanai gruntī kpl. ar pamatni, slēdzeni, IP44 | D40: kpl. | E40: 1
A41: 28 | B41: Drošinātājslēdzis | D41: kpl. | E41: 1
A42: 29 | B42: Drošinātājslēdzis, naži | D42: kpl. | E42: 1
A43: 30 | B43: Zemēšanas kopne, R≤30Ω | D43: kpl. | E43: 1
A44: 31 | B44: Darba materiālu komplekts | D44: kpl. | E44: 1
A45: 32 | B45: Sadalņu zemēšanas materiāli:
A46: 33 | B46: Zemējuma komplekts sadalnei | D46: kpl. | E46: 4
A47: 34 | B47: Kabeļu izstrādājumi | C47: ELT1-1 ÷ 7
A48: 35 | B48: Kabelis ar Al dzīslām 1/0,6 kV | C48: NAYY-J 5x35mm² | D48: m | E48: 2316
A49: 36 | B49: Kabelis ar Al dzīslām 1/0,6 kV | C49: NAYY-J 5x25mm² | D49: m | E49: 1016
A50: 37 | B50: Kabelis ar Al dzīslām 1/0,6 kV | C50: NAYY-J 5x16mm² | D50: m | E50: 69
A51: 38 | B51: Kabelis ar Cu dzīslām 1/0,6 kV | C51: NYY-J 5x2,5mm² | D51: m | E51: 165
A52: 39 | B52: Kabelis ar Cu dzīslām 1/0,6 kV | C52: NYY-J 3x2,5mm² | D52: m | E52: 360
A53: 40 | B53: Kabelis ar Cu dzīslām 1/0,6 kV | C53: NYY-J 3x1,5 mm² | D53: m | E53: 1026
A54: 41 | B54: Kabeļu gala apdares:
A55: 42 | B55: 0,4kV kabeļa gala apdare 5- dzīslu kabeļiem ar plastmasas izolāciju līdz 35mm² | C55: POLT-01/5X 10- 35 | D55: kpl. | E55: 171
A56: 43 | B56: Savienojuma uzmavas:
A57: 44 | B57: Savienojuma uzmavas kabeļiem 16 mm² ar plastmasas izolāciju | D57: kpl. | E57: 2
A58: 45 | B58: Savienojuma uzmavas kabeļiem 25 - 70 mm² ar plastmasas izolāciju | C58: POLJ-01/5X 25-70 | D58: kpl. | E58: 4
A59: 46 | B59: Nozarojuma uzmava | D59: kpl. | E59: 33
A60: 47 | B60: Izolējošā caurulīte | C60: EN-CGPT-18/ 6-0 | D60: kpl. | E60: 171
A61: 48 | B61: Manšete | C61: MWTM-25/ 8-100/S | D61: kpl. | E61: 171
A62: 49 | B62: Brīdinājuma lenta "Uzmanību kabelis !" | D62: m | E62: 2254
A63: 50 | B63: Kabeļu marķieri | D63: gb. | E63: 120
A64: 51 | B64: Caurules (kab. aizsardzības aprīkojums) | C64: ELT1-1 ÷ 7
A65: 52 | B65: Kabeļa aizsargcaurule | C65: PE ∅110, 1250 N | D65: m | E65: 202
A66: 53 | B66: Kabeļa aizsargcaurule | C66: PE ∅75, 450 N | D66: m | E66: 2052
A67: 54 | B67: Kabeļa aizsargpenālis | C67: PE 20x10, 450 N | D67: m | E67: 60
A68: 55 | B68: Kabeļa aizsargcaurule | C68: PE ∅20, 450 N | D68: m | E68: 120
A69: 56 | B69: Kabeļa aizargpenāļa stiprinājuma elementi | D69: kpl. | E69: 1
A70: 57 | B70: Montāžas skavas | D70: gb. | E70: 360
A71: 58 | B71: Apgaismojuma aprīkojums | C71: ELT1-1 ÷ 7
A72: 59 | B72: LED gaismeklis >137 lm/W, 10016lm, 4000K, IK10, IP66 | C72: „VIZULO” Little Brother, 70W, Zhaga socket apakšā, Tool-less, RAL9006 vai ekvivalents | D72: kpl. | E72: 50
A73: 60 | B73: LED gaismeklis >137 lm/W, 4164lm, 4000K, IK10, IP66 | C73: „VIZULO” Little Brother, 28W, Zhaga socket apakšā, Tool-less, RAL9006 vai ekvivalents | D73: kpl. | E73: 20
A74: 61 | B74: LED gaismeklis >137 lm/W, 17201lm, 4000K, IK10, IP66 | C74: „VIZULO” Little Brother, 107W, Zhaga socket apakšā, Tool-less, RAL9006 vai ekvivalents | D74: kpl. | E74: 6
A75: 62 | B75: LED gaismeklis >137 lm/W, 16502lm, 4000K, IK10, IP66 | C75: „VIZULO” Little Brother, 120W, Zhaga socket apakšā, Tool-less, RAL9006 vai ekvivalents | D75: kpl. | E75: 4
A76: 63 | B76: LED gaismeklis >137 lm/W, 4164lm, 4000K, IK10, IP66 | C76: „VIZULO” Little Brother, 28W vai ekvivalents | D76: kpl. | E76: 8
A77: 64 | B77: LED gaismeklis >137 lm/W, 9428lm, 4000K, IK10, IP66 | C77: „VIZULO” Little Brother, 60W, Zhaga socket apakšā, Tool-less, RAL9006 vai ekvivalents | D77: kpl. | E77: 10
A78: 65 | B78: LED gaismeklis >137 lm/W, 8361lm, 4000K, IK10, IP66 | C78: „VIZULO” Little Brother, 54W, Zhaga socket apakšā, Tool-less, RAL9006 vai ekvivalents | D78: kpl. | E78: 8
A79: 66 | B79: LED gaismeklis >137lm/W, 5606lm, 4000K, IK08, IP66 | C79: LM4 S/EW 35W 840 GR-94, 35W vai ekvivalents | D79: kpl. | E79: 11
A80: 67 | B80: LED gaismeklis >137lm/W, 5606lm, 4000K, IK08, IP66 | C80: LM4 S/EW 35W 840 GR-94, 35W vai ekvivalents | D80: kpl. | E80: 3
A81: 68 | B81: LED gaismekļa vadības kontrolieris ar komplektējošiem materiāliem | C81: jābūt saderīgam ar esošo pilsētas apgaismojuma vadības sistēmu "Citintelly" | D81: kpl. | E81: 15.6
A82: 69 | B82: Apgaismojuma balsts, cinkots konisks (3mm) kpl. ar montāžas izstrādājumiem, uzstādīšanai zemē | C82: H=9,1m (8,5m virs zemes) ∅60 | D82: kpl. | E82: 49
A83: 70 | B83: Apgaismojuma balsts, cinkots konisks (3mm) kpl. ar montāžas izstrādājumiem, uzstādīšanai zemē | C83: H=7,1m (6,5m virs zemes) ∅60 | D83: kpl. | E83: 22
A84: 71 | B84: Apgaismojuma balsts, cinkots konisks (3mm) kpl. ar montāžas izstrādājumiem, uzstādīšanai zemē | C84: H=6,5m (6,0m virs zemes) ∅60 | D84: kpl. | E84: 20
A85: 72 | B85: Konsole cinkota (L veida) 1,5 / 1,5 / 0°/ R750 / ∅60 | D85: gb. | E85: 21
A86: 73 | B86: Konsole cinkota (L veida) 1,5 / 1,5 / 5°/ R750 / ∅60 | D86: gb. | E86: 21
A87: 74 | B87: Konsole cinkota (L veida) 1,0 / 1,0 / 0°/ R750 / ∅60 | D87: gb. | E87: 1
A88: 75 | B88: Konsole cinkota (L veida) 1,5 / 1,0 / 0°/ R750 / ∅60 | D88: gb. | E88: 13
A89: 76 | B89: Konsole cinkota (T veida) 1,5 / 1,0 / 15°/ R750 / ∅60 | D89: gb. | E89: 6
A90: 77 | B90: Konsole cinkota (T veida) 1,5 / 2,5 / 15°/ R750 / ∅60 | D90: gb. | E90: 2
A91: 78 | B91: Konsole cinkota (T veida) 1,5 / 1,5 / 5°/ R750 / ∅60 | D91: gb. | E91: 7
A92: 79 | B92: Termocaurule ar līmi | C92: SRH2 95-26mm | D92: gb. | E92: 71
A93: 80 | B93: Pamats stabam H=8 - 10m | D93: gb. | E93: 36
A94: 81 | B94: Pamats stabam H=6m | D94: gb. | E94: 20
A95: 82 | B95: Gumijas blīve apg. balsta 4-10m stiprināšanai | D95: gb. | E95: 56
A96: 83 | B96: Nozarošanas spaiļu komplekts | D96: gb. | E96: 110
A97: 84 | B97: Komunikācijas kārba balstā ar diviem C 6A automātslēdziem, IP44 | C97: Lacroix Minipak, 2x C 6A vai ekvivalents | D97: gb. | E97: 15
A98: 85 | B98: Komunikācijas kārba balstā ar C 6A automātslēdzi, IP44 | C98: Lacroix Minipak, 1x C 6A vai ekvivalents | D98: gb. | E98: 61
A99: 86 | B99: Ķīļenkurs | D99: gb. | E99: 22
A100: 87 | B100: Gaismas rene | D100: m | E100: 60
A101: 88 | B101: Montāžas skavas | D101: gb. | E101: 600
A102: 89 | B102: Pārējie materiāli | C102: ELT1-1 ÷ 7
A103: 90 | B103: Celtniecības smiltis | D103: m³ | E103: 1.2
A104: 91 | B104: Grants, frakcija 0/3 | D104: m³ | E104: 7.63
...

Sheet 7.ELT2
A1: Darbu apjomu saraksts Nr.7
A2: Elektroapgāde (ārējā). VAS "Latvijas dzelzsceļš" apgaismojuma tīkli
A3: (Būvdarbu veids vai konstruktīvā elementa nosaukums)
A5: Objekta nosaukums: Satiksmes pārvada ar pievedceļiem izbūve Smiltenes un Kandavas ielu rajonā Daugavpilī
A6: Būves nosaukums: Elektroapgāde (ārējā). VAS "Latvijas dzelzsceļš" apgaismojuma tīkli
A7: Objekta adrese: Daugavpils, Esplanādes un Dzelzceļnieka apkaimes
A8: Pasūtījuma Nr.: DPD 2020/99
A10: Apjomi sastādīti, pamatojoties uz ELT2 daļas rasējumiem.
A12: Nr. p. k. | B12: Būvdarbu nosaukums | C12: Specifikācijas Nr. vai Rasējuma Nr. | D12: Mēr-vienība | E12: Daudzums | F12: Vienības cena (euro) | G12: Kopējā cena (euro)
A14: 1 | B14: Materiālu specifikācija
A15: 2 | B15: El. kabelis AXPK-4x70 | C15: ELT2-1 ÷ 6 | D15: m | E15: 56
A16: 3 | B16: El. kabelis AXPK-4x50 | C16: ELT2-1 ÷ 6 | D16: m | E16: 62
A17: 4 | B17: El. kabelis AXPK-4x25 | C17: ELT2-1 ÷ 6 | D17: m | E17: 173
A18: 5 | B18: El. kabelis NYY-J-3x1,5 | C18: ELT2-1 ÷ 6 | D18: m | E18: 84
A19: 6 | B19: Gala apdare EPKT-0031 | C19: ELT2-1 ÷ 6 | D19: kpl | E19: 3
A20: 7 | B20: Gala apdare EPKT-0015 | C20: ELT2-1 ÷ 6 | D20: kpl | E20: 11
A21: 8 | B21: Nozarošanas spaiļu komplekts SV15 | C21: ELT2-1 ÷ 6 | D21: kpl | E21: 5
A22: 9 | B22: Automātslēdzis, C6A, 230V, 6KA | C22: ELT2-1 ÷ 6 | D22: gb | E22: 12
A23: 10 | B23: Cinkots metāla balsts, (H=6.5m), Apgaismes T-veida konsole, (H=0.85m, L=1.0m), LED gaismekļa uzstādīšanas augstums 6.5m | C23: ELT2-1 ÷ 6 | D23: kpl | E23: 2
A24: 11 | B24: Cinkots metāla balsts, (H=8.5m), Apgaismes T-veida konsole, (H=0.85m, L=1.0m), LED gaismekļa uzstādīšanas augstums 8.5m | C24: ELT2-1 ÷ 6 | D24: kpl | E24: 3
A25: 12 | B25: Gumijas blīve kronšteinam (termocaurule) | C25: ELT2-1 ÷ 6 | D25: gb | E25: 5
A26: 13 | B26: Apgaismes T-veida konsole, (H=0.85m, L=1.0m) - esošam betona balstam | C26: ELT2-1 ÷ 6 | D26: kpl | E26: 1
... A59: 46 | B59: Montāžas palīgmateriāli | C59: ELT2-1 ÷ 6 | D59: kpl | E59: 1
A60: 47 | B60: Darbu daudzumi
A61: 48 | B61: Tranšeja - bedre kabeļa vai citu apakšzemes komunikāciju apsekošanai (šurfēšana) | C61: ELT2-1 ÷ 6 | D61: gb | E61: 9
A62: 49 | B62: Bedres rakšana un aizbēršana apgaismojuma balstam, uzmavai | C62: ELT2-1 ÷ 6 | D62: gb | E62: 7
A63: 50 | B63: Tranšejas rakšana un aizbēršana ar blietēšanu 1-2 kabelim (1-2 caurulei) | C63: ELT2-1 ÷ 6 | D63: m | E63: 80
A64: 51 | B64: Tranšejas rakšana un aizbēršana ar blietēšanu 3-4 kabelim (3-4 caurulei) | C64: ELT2-1 ÷ 6 | D64: m | E64: 47
A65: 52 | B65: Plastmasas caurules guldīšana gatavā tranšejā | C65: ELT2-1 ÷ 6 | D65: m | E65: 229
A66: 53 | B66: Kabeļa brīdinājuma lentas ieklāšana | C66: ELT2-1 ÷ 6 | D66: m | E66: 229
A67: 54 | B67: ZS kabeļa līdz 35 mm2 ievēršana proj. caurulē | C67: ELT2-1 ÷ 6 | D67: m | E67: 134
A68: 55 | B68: ZS kabeļa no 50 līdz 150 mm2 ievēršana proj. caurulē | C68: ELT2-1 ÷ 6 | D68: m | E68: 95
A69: 56 | B69: ZS kabeļa līdz 35 mm2 ievēršana stabā | C69: ELT2-1 ÷ 6 | D69: m | E69: 39
A70: 57 | B70: ZS kabeļano 50 līdz 150 mm2 ievēršana stabā, el. sadale | C70: ELT2-1 ÷ 6 | D70: m | E70: 23
A71: 58 | B71: ZS kabeļa (visu šķērsgriezumu) montāža pa betona balstu | C71: ELT2-1 ÷ 6 | D71: kabelis | E71: 4
A72: 59 | B72: ZS sausā kabeļa līdz 35 mm2 gala apdare | C72: ELT2-1 ÷ 6 | D72: gb | E72: 11
... A99: 86 | B99: Objekta sagatavošana nodošanai-pieņemšanai ekspluatācijā | C99: ELT2-1 ÷ 6 | D99: objekts | E99: 1
A100: 87 | B100: Demontāžas darbi
A101: 88 | B101: Gaismekļa demontāža | C101: ELT2-1 ÷ 6 | D101: kpl | E101: 4
A102: 89 | B102: Apg. betona balsta demontāža | C102: ELT2-1 ÷ 6 | D102: kpl | E102: 3
A103: 90 | B103: Atgāžņa demontāža | C103: ELT2-1 ÷ 6 | D103: kpl | E103: 1
A104: 91 | B104: El. sadales demontāža | C104: ELT2-1 ÷ 6 | D104: kpl | E104: 3
A105: 92 | B105: ZS kabeļa demontāža (ieskaitot kabeļa atrakšanas darbi) | C105: ELT2-1 ÷ 6 | D105: m | E105: 58
A106: 93 | B106: GVL kabeļa demontāža | C106: ELT2-1 ÷ 6 | D106: m | E106: 193
E107: Kopā | G107: =SUM(G16:G106) -> 0
E108: PVN (21%) | G108: =G107*0.21 -> 0
E109: Pavisam kopā | G109: =G107+G108 -> 0
A111: Sastādīja Mārtiņš Matvejs
B112: (paraksts un tā atšifrējums, datums)
A114: Pārbaudīja Jānis Bidzāns
B115: (paraksts un tā atšifrējums, datums)
A117: Sertifikāta Nr. 3-00780

Sheet 8.ELT3
A1: Darbu apjomu saraksts Nr.8
A2: Elektroapgāde (ārējā). Lietotāja tīklu daļa
A3: (Būvdarbu veids vai konstruktīvā elementa nosaukums)
A5: Objekta nosaukums: Satiksmes pārvada ar pievedceļiem izbūve Smiltenes un Kandavas ielu rajonā Daugavpilī
A6: Būves nosaukums: Elektroapgāde (ārējā). Lietotāja tīklu daļa
A7: Objekta adrese: Daugavpils, Esplanādes un Dzelzceļnieka apkaimes
A8: Pasūtījuma Nr.: DPD 2020/99
A10: Apjomi sastādīti, pamatojoties uz ELT3 daļas rasējumiem.
A12: Nr. p. k. | B12: Būvdarbu nosaukums | C12: Piezīmes | D12: Specifikācijas Nr. vai Rasējuma Nr. | E12: Mēr-vienība | F12: Daudzums | G12: Vienības cena (euro) | H12: Kopējā cena (euro)
A14: 1 | B14: Luksoforobjekts Nr.1. Kandavas, Viestura, Sporta ielu krustojums
A15: 2 | B15: Iekārtas un materiāli
A16: 3 | B16: Zemējuma komplekts sadalnei | D16: ELT3-2-1 | E16: kpl | F16: 1
A17: 4 | B17: Kabelis NYY 5x1,5 | D17: ELT3-2-1 | E17: m | F17: 30
A18: 5 | B18: Kabelis NYY 7x1,5 | D18: ELT3-2-1 | E18: m | F18: 22
A19: 6 | B19: Kabelis NYY 12x1,5 | D19: ELT3-2-1 | E19: m | F19: 106
A20: 7 | B20: Kabelis NYY 19x1,5 | D20: ELT3-2-1 | E20: m | F20: 167
A21: 8 | B21: Kabelis NYY 30x1,5 | D21: ELT3-2-1 | E21: m | F21: 35
A22: 9 | B22: Kabelis Cu, 3x6mm | D22: ELT3-2-1 | E22: m | F22: 12
A23: 10 | B23: Kabelis CAT5 4x2x0.57mm2 Outdoor | D23: ELT3-2-1 | E23: m | F23: 242
A24: 11 | B24: Plastikāta aizsargcaurule D=50mm, 450N | C24: FLEX vai ekvivalents | D24: ELT3-2-1 | E24: m | F24: 12
A25: 12 | B25: Plastikāta aizsargcaurule D=50mm | C25: FLEX UV vai ekvivalents | D25: ELT3-2-1 | E25: m | F25: 20
A26: 13 | B26: Plastikāta aizsargcaurule D=75mm, 450N | C26: FLEX vai ekvivalents | D26: ELT3-2-1 | E26: m | F26: 80
A27: 14 | B27: Plastikāta aizsargcaurule D=110mm, 450N | C27: FLEX vai ekvivalents | D27: ELT3-2-1 | E27: m | F27: 4
A28: 15 | B28: Plastikāta aizsargcaurule D=110mm, 750N | C28: HARD vai ekvivalents | D28: ELT3-2-1 | E28: m | F28: 278
A29: 16 | B29: Kabeļa brīdinājuma lenta L125 | D29: ELT3-2-1 | E29: m | F29: 394
A30: 17 | B30: Smiltis | D30: ELT3-2-1 | E30: m3 | F30: 16
A31: 18 | B31: Plastmasas aka PEH 800x1200 ar pamatni | D31: ELT3-2-1 | E31: gb | F31: 7
A32: 19 | B32: Akas lūka (slodze līdz 12,5 t), peldošā | D32: ELT3-2-1 | E32: gb | F32: 7
A33: 20 | B33: Dzelzbetona riņķis | D33: ELT3-2-1 | E33: gb | F33: 7
A34: 21 | B34: Atloks | D34: ELT3-2-1 | E34: gb | F34: 21
A35: 22 | B35: Hermetiķis (vienai akai) | D35: ELT3-2-1 | E35: gb | F35: 7
A36: 23 | B36: Šķembas | D36: ELT3-2-1 | E36: m3 | F36: 1.2
A37: 24 | B37: Darbu apjomi
A38: 25 | B38: Esošo komunikāciju atšurfēšana | D38: ELT3-2-1 | E38: gb | F38: 37
A39: 26 | B39: Vertikālā zemētāja dziļumā līdz 5 m montāža | D39: ELT3-2-1 | E39: gb | F39: 1
A40: 27 | B40: Plastikas cauruļu noguldīšana tranšejā | D40: ELT3-2-1 | E40: m | F40: 384
A41: 28 | B41: Plastikas cauruļu noguldīšana betona pamatā | D41: ELT3-2-1 | E41: m | F41: 4
A42: 29 | B42: Plastikas cauruļu nostiprināšana pa kopnēm | D42: ELT3-2-1 | E42: m | F42: 6
A43: 30 | B43: ZS kabeļa ievēršana caurulē | D43: ELT3-2-1 | E43: m | F43: 614
A44: 31 | B44: Kabeļu akas PEH uzstādīšana | D44: ELT3-2-1 | E44: gb | F44: 7
A45: 32 | B45: Kabeļu dzīslu galu apdare un pievienošana | D45: ELT3-2-1 | E45: obj. | F45: 1
A46: 33 | B46: Kabeļu tranšejas rakšana un aizbēršana | D46: ELT3-2-1 | E46: m | F46: 213
A47: 34 | B47: Akas būvbedres rakšana un gultnes sagatavošana | D47: ELT3-2-1 | E47: gb | F47: 7
A48: 35 | B48: EPL vai sarkanās līnijas nospraušana | D48: ELT3-2-1 | E48: m | F48: 213
A49: 36 | B49: Luksoforobjekts Nr.2. Kandavas un Stacijas ielu krustojums
A50: 37 | B50: Iekārtas un materiāli
A51: 38 | B51: Zemējuma komplekts sadalnei | D51: ELT3-2-2 | E51: kpl | F51: 1
A52: 39 | B52: Kabelis NYY 5x1,5 | D52: ELT3-2-2 | E52: m | F52: 30
A53: 40 | B53: Kabelis NYY 12x1,5 | D53: ELT3-2-2 | E53: m | F53: 104
A54: 41 | B54: Kabelis NYY 19x1,5 | D54: ELT3-2-2 | E54: m | F54: 64
A55: 42 | B55: Kabelis Cu, 5x10mm | D55: ELT3-2-2 | E55: m | F55: 45
A56: 43 | B56: Kabelis CAT5 4x2x0.57mm2 Outdoor | D56: ELT3-2-2 | E56: m | F56: 98
A57: 44 | B57: Plastikāta aizsargcaurule D=50mm, 450N | C57: FLEX vai ekvivalents | D57: ELT3-2-2 | E57: m | F57: 45
A58: 45 | B58: Plastikāta aizsargcaurule D=75mm, 450N | C58: FLEX vai ekvivalents | D58: ELT3-2-2 | E58: m | F58: 60
A59: 46 | B59: Plastikāta aizsargcaurule D=110mm, 450N | C59: FLEX vai ekvivalents | D59: ELT3-2-2 | E59: m | F59: 4
A60: 47 | B60: Plastikāta aizsargcaurule D=110mm, 750N | C60: HARD vai ekvivalents | D60: ELT3-2-2 | E60: m | F60: 109
A61: 48 | B61: Plastikāta aizsargcaurule D=110mm, 1250N | C61: SUPERHARD vai ekvivalents | D61: ELT3-2-2 | E61: m | F61: 7
A62: 49 | B62: Kabeļa brīdinājuma lenta L125 | D62: ELT3-2-2 | E62: m | F62: 225
A63: 50 | B63: Smiltis | D63: ELT3-2-2 | E63: m3 | F63: 9
A64: 51 | B64: Plastmasas aka PEH 800x1200 ar pamatni | D64: ELT3-2-2 | E64: gb | F64: 5
A65: 52 | B65: Akas lūka (slodze līdz 12,5 t), peldošā | D65: ELT3-2-2 | E65: gb | F65: 5
A66: 53 | B66: Dzelzbetona riņķis | D66: ELT3-2-2 | E66: gb | F66: 5
A67: 54 | B67: Atloks | D67: ELT3-2-2 | E67: gb | F67: 15
A68: 55 | B68: Hermetiķis (vienai akai) | D68: ELT3-2-2 | E68: gb | F68: 5
A69: 56 | B69: Šķembas | D69: ELT3-2-2 | E69: m3 | F69: 0.8
A70: 57 | B70: Darbu apjomi
A71: 58 | B71: Esošo komunikāciju atšurfēšana | D71: ELT3-2-2 | E71: gb | F71: 23
A72: 59 | B72: Vertikālā zemētāja dziļumā līdz 5 m montāža | D72: ELT3-2-2 | E72: gb | F72: 1
A73: 60 | B73: Plastikas cauruļu noguldīšana tranšejā | D73: ELT3-2-2 | E73: m | F73: 225
A74: 61 | B74: ZS kabeļa ievēršana caurulē | D74: ELT3-2-2 | E74: m | F74: 341
A75: 62 | B75: Kabeļu akas PEH uzstādīšana | D75: ELT3-2-2 | E75: gb | F75: 5
A76: 63 | B76: Kabeļu dzīslu galu apdare un pievienošana | D76: ELT3-2-2 | E76: obj. | F76: 1
A77: 64 | B77: Kabeļu tranšejas rakšana un aizbēršana | D77: ELT3-2-2 | E77: m | F77: 138
A78: 65 | B78: Tranšejas rakšana un aizbēršana līdz četrām caurulēm šķersojot sliežu ceļu | D78: ELT3-2-2 | E78: m | F78: 7
A79: 66 | B79: Akas būvbedres rakšana un gultnes sagatavošana | D79: ELT3-2-2 | E79: gb | F79: 5
A80: 67 | B80: EPL vai sarkanās līnijas nospraušana | D80: ELT3-2-2 | E80: m | F80: 145
A81: 68 | B81: Luksoforobjekts Nr.3. Stacijas ielas un pārvada rampas krustojums
A82: 69 | B82: Iekārtas un materiāli
A83: 70 | B83: Zemējuma komplekts sadalnei | D83: ELT3-2-3 | E83: kpl | F83: 1
A84: 71 | B84: Kabelis NYY 5x1,5 | D84: ELT3-2-3 | E84: m | F84: 30
A85: 72 | B85: Kabelis NYY 7x1,5 | D85: ELT3-2-3 | E85: m | F85: 30
A86: 73 | B86: Kabelis NYY 12x1,5 | D86: ELT3-2-3 | E86: m | F86: 64
A87: 74 | B87: Kabelis NYY 19x1,5 | D87: ELT3-2-3 | E87: m | F87: 39
A88: 75 | B88: Kabelis NYY 30x1,5 | D88: ELT3-2-3 | E88: m | F88: 7
A89: 76 | B89: Kabelis Cu, 3x6mm | D89: ELT3-2-3 | E89: m | F89: 5
A90: 77 | B90: Kabelis CAT5 4x2x0.57mm2 Outdoor | D90: ELT3-2-3 | E90: m | F90: 108
A91: 78 | B91: Plastikāta aizsargcaurule D=50mm, 450N | C91: FLEX vai ekvivalents | D91: ELT3-2-3 | E91: m | F91: 5
A92: 79 | B92: Plastikāta aizsargcaurule D=75mm, 450N | C92: FLEX vai ekvivalents | D92: ELT3-2-3 | E92: m | F92: 80
A93: 80 | B93: Plastikāta aizsargcaurule D=110mm, 450N | C93: FLEX vai ekvivalents | D93: ELT3-2-3 | E93: m | F93: 4
A94: 81 | B94: Plastikāta aizsargcaurule D=110mm, 750N | C94: HARD vai ekvivalents | D94: ELT3-2-3 | E94: m | F94: 46
A95: 82 | B95: Plastikāta aizsargcaurule D=110mm, 1250N | C95: SUPERHARD vai ekvivalents | D95: ELT3-2-3 | E95: m | F95: 48
A96: 83 | B96: Kabeļa brīdinājuma lenta L125 | D96: ELT3-2-3 | E96: m | F96: 183
A97: 84 | B97: Smiltis | D97: ELT3-2-3 | E97: m3 | F97: 8
A98: 85 | B98: Plastmasas aka PEH 800x1200 ar pamatni | D98: ELT3-2-3 | E98: gb | F98: 3
A99: 86 | B99: Akas lūka (slodze līdz 12,5 t), peldošā | D99: ELT3-2-3 | E99: gb | F99: 3
A100: 87 | B100: Dzelzbetona riņķis | D100: ELT3-2-3 | E100: gb | F100: 3
A101: 88 | B101: Atloks | D101: ELT3-2-3 | E101: gb | F101: 9
A102: 89 | B102: Hermetiķis (vienai akai) | D102: ELT3-2-3 | E102: gb | F102: 3
A103: 90 | B103: Šķembas | D103: ELT3-2-3 | E103: m3 | F103: 0.5
A104: 91 | B104: Darbu apjomi
...

Sheet 9.EST
A1: Darbu apjomu saraksts Nr.9
A2: Elektronisko sakaru sistēmas (ārējās)
A3: (Būvdarbu veids vai konstruktīvā elementa nosaukums)
A5: Objekta nosaukums: Satiksmes pārvada ar pievedceļiem izbūve Smiltenes un Kandavas ielu rajonā Daugavpilī
A6: Būves nosaukums: Elektronisko sakaru sistēmas (ārējās)
A7: Objekta adrese: Daugavpils, Esplanādes un Dzelzceļnieka apkaimes
A8: Pasūtījuma Nr.: DPD 2020/99
A10: Apjomi sastādīti, pamatojoties uz EST daļas rasējumiem.
A12: Nr. p. k. | B12: Būvdarbu nosaukums | C12: Piezīmes | D12: Specifikācijas Nr. vai Rasējuma Nr. | E12: Mēr-vienība | F12: Daudzums | G12: Vienības cena (euro) | H12: Kopējā cena (euro)
A14: 1 | B14: SIA "Tet" EST būvniecības darbi
A15: 2 | B15: Tranšejas rakšana un aizbēršana, platums 0.5m | D15: EST-01 ÷ 08 | E15: m | F15: 51.3
A16: 3 | B16: Tranšejas rakšana un aizbēršana, platums 0.5m, ar rokām | D16: EST-01 ÷ 08 | E16: m | F16: 12.8
A17: 4 | B17: Kabeļu kanalizācijas cauruļu ieguldīšana tranšejā | D17: EST-01 ÷ 08 | E17: m | F17: 64.1
A18: 5 | B18: Esošā kabeļa gruntī aizsargāšana ar šķeltām caurulēm | D18: EST-01 ÷ 08 | E18: m | F18: 65.7
A19: 6 | B19: Brīdinājuma lentas ieguldīšana | D19: EST-01 ÷ 08 | E19: m | F19: 64.1
A20: 7 | B20: Buksiera ievilkšana kabeļu kanalizācijā | D20: EST-01 ÷ 08 | E20: m | F20: 64.1
A21: 8 | B21: Kabeļu akas PEH 800x650mm uzstādīšana uz esošā kabeļa | D21: EST-01 ÷ 08 | E21: gab. | F21: 2
A22: 9 | B22: Esošās kabeļu kanalizācijas akas vaka nomaiņa un līmeņošana | D22: EST-01 ÷ 08 | E22: gab. | F22: 6
A23: 10 | B23: Dokumentācija, atzinumi | D23: EST-01 ÷ 08 | E23: gab. | F23: 1
A24: 11 | B24: Būvniecības atkritumu utilizācija | D24: EST-01 ÷ 08 | E24: m3 | F24: 2
A25: 12 | B25: Transporta organizēšanas plāna izstrādāšana un realizēšana | D25: EST-01 ÷ 08 | E25: gab | F25: 1
A26: 13 | B26: Dokumentācija, atzinumi, rakšanas atļaujas saņemšana un noslēgšana | D26: EST-01 ÷ 08 | E26: gab. | F26: 1
... A42: 29 | B42: Transporta izdevumi | D42: EST-01 ÷ 08 | E42: gab. | F42: 1
A43: 30 | B43: VAS "Latvijas radio un televīzijas centrs" EST būvniecības darbi
A44: 31 | B44: Tranšejas rakšana un aizbēršana, platums 0.5m | D44: EST-01 ÷ 08 | E44: m | F44: 77.7
A45: 32 | B45: Tranšejas rakšana un aizbēršana, platums 0.5m, ar rokām | D45: EST-01 ÷ 08 | E45: m | F45: 19.4
A46: 33 | B46: Kabeļu kanalizācijas cauruļu ieguldīšana tranšejā | D46: EST-01 ÷ 08 | E46: m | F46: 291.3
A47: 34 | B47: Brīdinājuma lentas ieguldīšana | D47: EST-01 ÷ 08 | E47: m | F47: 97.1
A48: 35 | B48: Kabeļu akas PEH 800x650mm uzstādīšana uz esošām caurulēm | D48: EST-01 ÷ 08 | E48: gab. | F48: 2
A49: 36 | B49: Kabeļu iepūšana kabeļu kanalizācijā | D49: EST-01 ÷ 08 | E49: m | F49: 3870
A50: 37 | B50: 2 optisko kabeļu iestrāde esošā uzmavā | D50: EST-01 ÷ 08 | E50: gab. | F50: 4
A51: 38 | B51: Optiskā kabeļa šķiedru metināšana, montāžas kvalitātes kontrole pēc montāžas pabeigšanas (jaunieguldīts kabelis) | D51: EST-01 ÷ 08 | E51: metinājums | F51: 384
A52: 39 | B52: Pieņemšanas testēšana un mērījumi | D52: EST-01 ÷ 08 | E52: šķiedra | F52: 192
A53: 40 | B53: Esoša kabeļa izpūšana no esošās kabeļu kanalizācijas | D53: EST-01 ÷ 08 | E53: m | F53: 760
A54: 41 | B54: Esošās kabeļu kanalizācijas demontāža | D54: EST-01 ÷ 08 | E54: m | F54: 138.9
A55: 42 | B55: Esošās kabeļu kanalizācijas akas demontāža | D55: EST-01 ÷ 08 | E55: gab. | F55: 1
... A73: 60 | B73: Transporta izdevumi | D73: EST-01 ÷ 08 | E73: gab. | F73: 1
A74: 61 | B74: SIA "Baltcom" EST būvniecības darbi
A75: 62 | B75: Tranšejas rakšana un aizbēršana, platums 0.5m | D75: EST-01 ÷ 08 | E75: m | F75: 31.7
A76: 63 | B76: Tranšejas rakšana un aizbēršana, platums 0.5m, ar rokām | D76: EST-01 ÷ 08 | E76: m | F76: 7.9
A77: 64 | B77: Kabeļu kanalizācijas cauruļu ieguldīšana tranšejā | D77: EST-01 ÷ 08 | E77: m | F77: 53.4
A78: 65 | B78: Esošās kabeļu kanalizācijas cauruļu pārvietošana | D78: EST-01 ÷ 08 | E78: m | F78: 12.6
A79: 66 | B79: Brīdinājuma lentas ieguldīšana | D79: EST-01 ÷ 08 | E79: m | F79: 39.6
A80: 67 | B80: Kabeļu akas PEH 800x650mm uzstādīšana uz esošām caurulēm | D80: EST-01 ÷ 08 | E80: gab. | F80: 3
A81: 68 | B81: Kabeļu ieguldīšana kabeļu kanalizācijā | D81: EST-01 ÷ 08 | E81: m | F81: 9073
A82: 69 | B82: Optiskā kabeļa iestrāde skapī | D82: EST-01 ÷ 08 | E82: gab. | F82: 6
A83: 70 | B83: Optiskā kabeļa šķiedru metināšana, montāžas kvalitātes kontrole pēc montāžas pabeigšanas (jaunieguldīts kabelis) | D83: EST-01 ÷ 08 | E83: metinājums | F83: 336
A84: 71 | B84: Pieņemšanas testēšana un mērījumi | D84: EST-01 ÷ 08 | E84: šķiedra | F84: 168
A85: 72 | B85: Esošās kabeļu kanalizācijas demontāža | D85: EST-01 ÷ 08 | E85: m | F85: 23.9
A86: 73 | B86: Esošās kabeļu kanalizācijas akas demontāža | D86: EST-01 ÷ 08 | E86: gab. | F86: 1
... A107: 94 | B107: Transporta izdevumi | D107: EST-01 ÷ 08 | E107: gab. | F107: 1
A108: 95 | B108: Videonovērošanas sistēmas būvniecības darbi
A109: 96 | B109: Tranšejas rakšana un aizbēršana, platums 0.5m | D109: EST-01 ÷ 16 | E109: m | F109: 828.6
A110: 97 | B110: Tranšejas rakšana un aizbēršana, platums 0.5m, ar rokām | D110: EST-01 ÷ 16 | E110: m | F110: 207.1
A111: 98 | B111: Kabeļu kanalizācijas cauruļu stiprināšana pa tilta pamatiem | D111: EST-01 ÷ 16 | E111: kanāls/m | F111: 80
A112: 99 | B112: Kabeļu kanalizācijas cauruļu ieguldīšana tranšejā | D112: EST-01 ÷ 16 | E112: m | F112: 2149.3
A113: 100 | B113: Brīdinājuma lentas ieguldīšana | D113: EST-01 ÷ 16 | E113: m | F113: 1035.7
A114: 101 | B114: Buksiera ievilkšana kabeļu kanalizācijā | D114: EST-01 ÷ 16 | E114: m | F114: 2149.3
A115: 102 | B115: Kabeļu akas PEH 800x650mm uzstādīšana | D115: EST-01 ÷ 16 | E115: gab. | F115: 14
A116: 103 | B116: Kabeļu akas KKC-2 uzstādīšana | D116: EST-01 ÷ 16 | E116: gab. | F116: 2
A117: 104 | B117: Metālokonstrukciju uzstadīšana (aka) | D117: EST-01 ÷ 16 | E117: gab. | F117: 2
A118: 105 | B118: Sadales skapja ar ieraktu pamatni uzstadīšana | D118: EST-01 ÷ 16 | E118: gab. | F118: 4
A119: 106 | B119: Sadales skapja uz staba uzstadīšana | D119: EST-01 ÷ 16 | E119: gab. | F119: 11
A120: 107 | B120: Skapja apsilde un ventilācija (ar materiāliem) | D120: EST-01 ÷ 16 | E120: kompl. | F120: 4
... A141: 128 | B141: Telekomunikāciju tīklu izpilddokumentācijas izgatavošana | D141: EST-01 ÷ 16 | E141: m | F141: 1035.7
A142: 129 | B142: Videonovērošanas kameras
A143: 130 | B143: Videonovērošanas kamera ar numuru atpazīšanu | C143: AXIS Q1700-LE License Plate Camera vai ekvivalents | D143: EST-01 ÷ 16 | E143: gab. | F143: 7
A144: 131 | B144: Videonovērošanas kamera (tīkla kamera 1) | C144: AXIS P5655-E PTZ Network Camera vai ekvivalents vai ekvivalents | D144: EST-01 ÷ 16 | E144: gab. | F144: 5
A145: 132 | B145: Videonovērošanas kamera (tīkla kamera 2) | C145: AXIS P3719-PLE Network Camera vai ekvivalents vai ekvivalents | D145: EST-01 ÷ 16 | E145: gab. | F145: 2
A146: 133 | B146: Videonovērošanas kamera (kamera 3) | C146: AXIS P1465-LE Bullet Camera vai ekvivalents vai ekvivalents | D146: EST-01 ÷ 16 | E146: gab. | F146: 7
A147: 134 | B147: Infrasarkanais prožektors | C147: AXIS T90D20 PoE IR-LED vai ekvivalents vai ekvivalents | D147: EST-01 ÷ 16 | E147: gab. | F147: 7
A148: 135 | B148: Stiprinājums uz stabiem 1 | C148: AXIS T91B47 Pole Mount 100-410 mm vai ekvivalents | D148: EST-01 ÷ 16 | E148: gab. | F148: 14
A149: 136 | B149: Stiprinājums uz stabiem 2 | C149: AXIS T91G61 Wall Mount vai ekvivalents | D149: EST-01 ÷ 16 | E149: gab. | F149: 5
A150: 137 | B150: Stiprinājums uz stabiem 3 | C150: AXIS T91B67 Pole Mount 65-165 mm vai ekvivalents | D150: EST-01 ÷ 16 | E150: gab. | F150: 2
A151: 138 | B151: Stiprinājums uz stabiem 4 | C151: AXIS T90 Wall-and-Pole-Mount vai ekvivalents | D151: EST-01 ÷ 16 | E151: gab. | F151: 7
A152: 139 | B152: Sprieguma stabilizators | C152: AXIS T8061 Ethernet Surge Protector vai ekvivalents | D152: EST-01 ÷ 16 | E152: gab. | F152: 21
A153: 140 | B153: Komutators
A154: 141 | B154: Industrial PoE Switch (skapjos VSK-1.1, VSK-1.2, VSK-4.1, VSK-4.3) | C154: AXIS T8504-R vai ekvivalents | D154: EST-01 ÷ 16 | E154: gab. | F154: 4
A155: 142 | B155: Vadāmais centrmezgls (skapī Nr. VSK-1, VSK-2, VSK-3, VSK-4) | C155: MicroTik Cloud Router Switch CRS309-1G-8S+IN - Switch - Managed - 8 x SFP+ + 1 x 10/100/1000 (PoE) - rack-mountable vai ekvivalents | D155: EST-01 ÷ 16 | E155: gab. | F155: 4
A156: 143 | B156: Pārveidotājs | C156: AXIS T8606 Media Converter Switch vai ekvivalents | D156: EST-01 ÷ 16 | E156: gab. | F156: 11
A157: 144 | B157: SFP modulis | C157: MikroTik S-31DLC20D vai ekvivalents | D157: EST-01 ÷ 16 | E157: gab. | F157: 20
A158: 145 | B158: Uztvērējs | C158: AXIS T8611 SFP Module LC.LX | D158: EST-01 ÷ 16 | E158: gab. | F158: 18
A159: 146 | B159: Skapis
A160: 147 | B160: Ārējais sadales skapis uzstādīšanas uz staba | C160: AXIS TQ1808-VE Surveillance Cabinet vai ekvivalents | D160: EST-01 ÷ 16 | E160: gab. | F160: 4
A161: 148 | B161: Ārējais sadales skapis uzstādīšanas uz staba | C161: AXIS T98A18-VE Surveillance Cabinet vai ekvivalents | D161: EST-01 ÷ 16 | E161: gab. | F161: 11
A162: 149 | B162: Kabeļa blīvslēgs | C162: Cable Gland M20x1.5, RJ45, 5 pieces vai ekvivalents | D162: EST-01 ÷ 16 | E162: gab. | F162: 15
A163: 150 | B163: Kabeļa blīvslēgs | C163: Cable gland A M20, 5pcs vai ekvivalents | D163: EST-01 ÷ 16 | E163: gab. | F163: 15
A164: 151 | B164: Sadales skapja stiprinājums uz stabiem | C164: AXIS T91B57 Pole Mount 100-410 mm vai ekvivalents | D164: EST-01 ÷ 16 | E164: gab. | F164: 15
A165: 152 | B165: Electrical Safety kit | C165: AXIS Electrical Safety kit B 230 V AC vai ekvivalents | D165: EST-01 ÷ 16 | E165: gab. | F165: 15
A166: 153 | B166: Barošanas bloks Power supply (skapjos VSK-1.1, VSK-1.2,VSK-4.1 VSK-4.3) | C166: DIN PS56 240 W vai ekvivalents | D166: EST-01 ÷ 16 | E166: gab. | F166: 4
A167: 154 | B167: Barošanas bloks Power Supply (skapjos VSK-1.3, VSK-1.4, VSK-2.1, VSK-2.2, VSK-2.3, VSK-2.4, VSK-2.5, VSK-3.1, VSK-3.2, VSK-3.3 VSK-4.2) | C167: DIN CP-D 24/4.2 100 W vai ekvivalents | D167: EST-01 ÷ 16 | E167: gab. | F167: 11
A168: 155 | B168: Komunikaciju skapis 600x1200x500, IP 55, ar betona pamatiem | C168: Rittal (SC) vai ekvivalents | D168: EST-01 ÷ 16 | E168: kompl. | F168: 4
A169: 156 | B169: Barošanas bloks (Uzstādīt skapjos VSK-1.3, VSK-1.4, VSK-2.1, VSK-2.2, VSK-2.3, VSK-2.4, VSK-2.5, VSK-3.1, VSK-3.2, VSK-3.3 VSK-4.2) | C169: AXIS T8144 60 W Industrial Midspan vai ekvivalents | D169: EST-01 ÷ 16 | E169: gab. | F169: 11
A170: 157 | B170: Strāvas adapteris | C170: AXIS Mains Adaptor PS-24 +Pole Mount Plate vai ekvivalents | D170: EST-01 ÷ 16 | E170: kompl. | F170: 4
A171: 158 | B171: DIn sliede 0.35 mm, 0.15 m | D171: EST-01 ÷ 16 | E171: gab. | F171: 15
A172: 159 | B172: Din sliede 0.6 m | D172: EST-01 ÷ 16 | E172: gab. | F172: 4
A173: 160 | B173: Rail Clip A | C173: AXIS T91A03 DIN vai ekvivalents | D173: EST-01 ÷ 16 | E173: gab. | F173: 22
A174: 161 | B174: Silditājs | C174: FLH 250 SL vai ekvivalents | D174: EST-01 ÷ 16 | E174: gab. | F174: 4
A175: 162 | B175: Termostats (termoregulātors) sildītājam | D175: EST-01 ÷ 16 | E175: gab. | F175: 4
A176: 163 | B176: Vadu savācējs 1U | D176: EST-01 ÷ 16 | E176: gab. | F176: 9
...

Sheet 10.SCB
A1: Darbu apjomu saraksts Nr.10
A2: Dzelzceļa signalizācijas sistēmas un vilcienu kustības vadības sistēmas tīkli
A3: (Būvdarbu veids vai konstruktīvā elementa nosaukums)
A5: Objekta nosaukums: Satiksmes pārvada ar pievedceļiem izbūve Smiltenes un Kandavas ielu rajonā Daugavpilī
A6: Būves nosaukums: Dzelzceļa signalizācijas sistēmas un vilcienu kustības vadības sistēmas tīkli
A7: Objekta adrese: Daugavpils, Esplanādes un Dzelzceļnieka apkaimes
A8: Pasūtījuma Nr.: DPD 2020/99
A10: Apjomi sastādīti, pamatojoties uz SCB daļas rasējumiem.
A12: Nr. p. k. | B12: Būvdarbu nosaukums | C12: Specifikācijas Nr. vai Rasējuma Nr. | D12: Mēr-vienība | E12: Daudzums | F12: Vienības cena (euro) | G12: Kopējā cena (euro)
A14: 1 | B14: Materiālu specifikācija
A15: 2 | B15: Signālu kabelis SBZPU 3x2x0.9 | C15: SCB-01 ÷ 04 | D15: m | E15: 120
A16: 3 | B16: Signālu kabelis SBZPU 7x2x0.9 | C16: SCB-01 ÷ 04 | D16: m | E16: 30
A17: 4 | B17: Signālu kabelis SBZPU 10x2x0.9 | C17: SCB-01 ÷ 04 | D17: m | E17: 40
A18: 5 | B18: Kabeļu kanalizācijas caurule d110, 1250N | C18: SCB-01 ÷ 04 | D18: m | E18: 18
A19: 6 | B19: Rezerves kanalizācijas caurule d110, 1250N | C19: SCB-01 ÷ 04 | D19: m | E19: 18
A20: 7 | B20: Gofrēta caurule d110 | C20: SCB-01 ÷ 04 | D20: m | E20: 60
A21: 8 | B21: Rezerves gofrēta caurule d110 | C21: SCB-01 ÷ 04 | D21: m | E21: 60
A22: 9 | B22: Uzmava Nitto vai ekvivalents | C22: SCB-01 ÷ 04 | D22: gb | E22: 4
A23: 10 | B23: Brīdinājuma lenta 500mm x 500m | C23: SCB-01 ÷ 04 | D23: rullis | E23: 0.1
A24: 11 | B24: Savienojuma konektori | C24: SCB-01 ÷ 04 | D24: gb | E24: 100
A25: 12 | B25: Lodveida marķieris | C25: SCB-01 ÷ 04 | D25: gb | E25: 2
A26: 13 | B26: Celtniecības darbi
A27: 14 | B27: Tranšeju rakšana un aizbēršana starp sliežu ceļiem (60m) | C27: SCB-01 ÷ 04 | D27: m3 | E27: 23
A28: 15 | B28: Tranšeju rakšana un aizbēršana zem sliežu ceļiem (18m), atvērta veida, tikai tehnoloģiskajos "logos" | C28: SCB-01 ÷ 04 | D28: m3 | E28: 11
A29: 16 | B29: Montāžas darbi
A30: 17 | B30: Gofrētas caurules ielikšana d110 | C30: SCB-01 ÷ 04 | D30: m | E30: 120
A31: 18 | B31: Kabeļu kanalizācijas caurules d110, 1250N ielikšana | C31: SCB-01 ÷ 04 | D31: m | E31: 36
A32: 19 | B32: Kabeļu ielikšana caurulēs | C32: SCB-01 ÷ 04 | D32: m | E32: 190
A33: 20 | B33: Kabeļu apdare | C33: SCB-01 ÷ 04 | D33: gb | E33: 20
A34: 21 | B34: Kabeļu uzmavu montāža | C34: SCB-01 ÷ 04 | D34: gb | E34: 4
A35: 22 | B35: Kabeļu pārslēgšana | C35: SCB-01 ÷ 04 | D35: kpl | E35: 1
A36: 23 | B36: EC ierīču pārbaude | C36: SCB-01 ÷ 04 | D36: kpl | E36: 1
A37: 24 | B37: Izpilddokumentācijas noformēšana un parakstīšana | C37: SCB-01 ÷ 04 | D37: kpl | E37: 1
A38: 25 | B38: Maršrutu rādītāja R6-7 pārcelšana, t.sk. demontāžas darbi, montāžas darbi, ierīces pārbaude, izpilddokumentācijas noformēšana, būvdarbus veicot tehnoloģiskajā "logā" | C38: SCB-01 ÷ 04 | D38: kpl | E38: 1
E39: Kopā | G39: =SUM(G16:G38) -> 0
E40: PVN (21%) | G40: =G39*0.21 -> 0
E41: Pavisam kopā | G41: =G39+G40 -> 0
A43: Sastādīja Mārtiņš Matvejs
B44: (paraksts un tā atšifrējums, datums)
A46: Pārbaudīja Jānis Bidzāns
B47: (paraksts un tā atšifrējums, datums)
A49: Sertifikāta Nr. 3-00780

Sheet 11.BK PĀRVADS
A1: Darbu apjomu saraksts Nr.11
A2: Būvkonstrukcijas. Satiksmes pārvads
A3: (Būvdarbu veids vai konstruktīvā elementa nosaukums)
A5: Objekta nosaukums: Satiksmes pārvada ar pievedceļiem izbūve Smiltenes un Kandavas ielu rajonā Daugavpilī
A6: Būves nosaukums: Būvkonstrukcijas. Satiksmes pārvads
A7: Objekta adrese: Daugavpils, Esplanādes un Dzelzceļnieka apkaimes
A8: Pasūtījuma Nr.: DPD 2020/99
A10: Apjomi sastādīti, pamatojoties uz BK daļas rasējumiem.
A12: Nr. p. k. | B12: Būvdarbu nosaukums | C12: Specifikācijas Nr. vai Rasējuma Nr. | D12: Mēr-vienība | E12: Daudzums | F12: Vienības cena (euro) | G12: Kopējā cena (euro)
A14: 1. | B14: Estakāde Nr.1 (laidums L1, balsti Nr.1÷6)
A15: 1.1. | B15: Sagatavošanas darbi
A16: 1.1.1. | B16: Mobilizācija | C16: S1.6.1. | D16: kpl | E16: 1
A17: 1.1.2. | B17: Satiksmes nodrošināšana būvdarbu laikā | C17: S1.1 | D17: kpl | E17: 1
A18: 1.1.3. | B18: Estakādes Nr.1 balstu Nr.1÷6 un laiduma L1 nospraušanas darbi | C18: S1.5 | D18: kpl | E18: 1
A19: 1.1.4. | B19: Projektēšanas darbi | C19: S1.6.2. | D19: kpl | E19: 1
A20: 1.2. | B20: Zemes darbi | D20: N/A
A21: 1.2.1. | B21: Būvbedru rakšana pārvada balstu Nr.2÷6 pamatiem | C21: S2.1 | D21: m3 | E21: =756.77*5 -> 3783.85
A22: 1.2.2. | B22: Sausas būvbedres nodrošināšana balstiem Nr.2÷6 | C22: S2.8.3. | D22: kpl | E22: 1
A23: 1.2.3. | B23: Pārvada balstu Nr.1÷6 būvbedru aizbēršana | C23: S2.5.1. | D23: m3 | E23: =583.28*5+1200 -> 4116.4
A24: 1.2.4. | B24: Dolomīta šķembas fr.0/32 pārējas plātnes P-1 atbalstam | C24: S2.5.2. | D24: m3 | E24: 8.4
A25: 1.3. | B25: Konstrukcijas gruntī (pāļi u.c.) | D25: N/A
A26: 1.3.1. | B26: Balstu Nr.1÷6 urbpāļu d=1,30m ierīkošana | C26: S3.1.2. | D26: m | E26: =95+210+210+182+182+182 -> 1061
A27: 1.3.2. | B27: Viena urbpāļa slogošana uz balsta Nr.4, ieskaitot urbpāļu d=1,30m garumā līdz att.balsta pāļa pēdas atzīmei pēc projekta izbūvi | C27: S3.1.1.3. | D27: kpl | E27: 1
A28: 1.4. | B28: Betona darbi | C28: S4 | D28: N/A
A29: 1.4.1. | B29: Turas, pagaidu nostiprinājumi un nosedzošās konstrukcijas laidumam L1 | C29: S4.1 | D29: kpl | E29: 1
A30: 1.4.2. | B30: Veidņi laiduma L1 konstrukcijām | C30: S4.3 | D30: m2 | E30: 4345.93
A31: 1.4.3. | B31: Veidņi starpbalstu Nr.2÷6 režģoga plātnēm | C31: S4.3 | D31: m2 | E31: =90.64+90.64+90.64+90.64+90.64 -> 453.2
A32: 1.4.4. | B32: Veidņi balstu Nr.1÷6 ķermeņiem | C32: S4.3 | D32: m2 | E32: =266.5+147.73+180.56+231.86+250.98+232.52 -> 1310.15
A33: 1.4.5. | B33: Paliekošie veidņi pārejas plātnei P-1 ar atbalstu | C33: S4.3 | D33: m2 | E33: 9.38
A34: 1.4.6. | B34: Veidņi pārejas plātnei P-1 ar atbalstu | C34: S4.3 | D34: m2 | E34: 24.16
A35: 1.4.7. | B35: Stiegrojums | C35: S4.4 | D35: N/A
A36: 1.4.8. | B36: Rievots tērauda nespriegotais stiegrojums | C36: S4.4.1. | D36: N/A
A37: 1.4.9. | B37: Laiduma L1 konstrukcija | C37: S4.4.1. | D37: t | E37: =384.0148+6.5279+7.5978 -> 398.1405
A38: 1.4.10. | B38: Balstu Nr.1÷6 urbpāļi | C38: S3.1.2.3.2.,S4.4.1. | D38: t | E38: =13.01+21.36+21.36+32.95+19.01+32.95 -> 140.64
A39: 1.4.11. | B39: Starpbalstu Nr.2÷6 režģoga plātnes | C39: S4.4.1. | D39: t | E39: =28.96579+28.96579+30.79266+28.96579+29.07933 -> 146.76936
A40: 1.4.12. | B40: Balstu Nr.1÷6 ķermeņi | C40: S4.4.1. | D40: t | E40: =11.2067+11.2715+7.5149+7.4145+9.1306+9.00149+6.1948+6.11657+5.5735+5.5435+13.3513 -> 92.31936
A41: 1.4.13. | B41: Pārējas plātne P-1 ar atbalstu | C41: S4.4.1. | D41: t | E41: 15.0831
A42: 1.4.14. | B42: Spriegotais stiegrojums | C42: S4.4.2. | D42: N/A
A43: 1.4.15. | B43: Spriegojošie kūļi 19K15 laidumam L1 | C43: S4.4.2. | D43: t | E43: 71.435
A44: 1.4.16. | B44: Spriegotais stiegrojums: kūļu kanāli d=105mm, ieskaitot injicēšanas javu | C44: S4.4.2., S4.4.2.1. | D44: m | E44: 2770.5582
A45: 1.4.17. | B45: Spriegotais stiegrojums: kūļu enkuri | C45: S4.4.2. | D45: gab. | E45: 40
A46: 1.4.18. | B46: Spriegotais stiegrojums: kūļu enkuru savienojošā ierīce | C46: S4.4.2. | D46: gab. | E46: 40
A47: 1.4.19. | B47: Betons | C47: S4.5 | D47: N/A
A48: 1.4.20. | B48: Laiduma L1 konstrukcija (C40/50) | C48: S4.5 | D48: m3 | E48: =440.92+449.35+336.53+323.3+266+2+1.95+4 -> 1824.05
A49: 1.4.21. | B49: Laiduma L1 ietve un karnīzes (C40/50) | C49: S4.5 | D49: m3 | E49: 202.32
A50: 1.4.22. | B50: Balstu Nr.1÷6 urbpāļi (C30/37) | C50: S4.5, S3.1.2.3.1. | D50: m3 | E50: =278.73*2+241.57*3+126.1 -> 1408.27
A51: 1.4.23. | B51: Starpbalstu Nr.2÷6 režģoga plātnes (C35/45) | C51: S4.5 | D51: m3 | E51: =162.36*5 -> 811.8
A52: 1.4.24. | B52: Balstu Nr.1÷6 ķermeņi (C35/45) | C52: S4.5 | D52: m3 | E52: =77.66+94.91+124.56+133.43+169.61+164.6 -> 764.77
A53: 1.4.25. | B53: Izlīdzīnošā kārta balstiem Nr.1÷6 (C20/25) | C53: S4.5.2. | D53: m3 | E53: =8.8+13.57*5 -> 76.65
A54: 1.4.26. | B54: Pārējas plātne P-1 ar atbalstu (C30/37), iesk. pārējas plātnes plastmasas caurules un hermētiķi | C54: S4.5., S2.8.2. | D54: m3 | E54: 61.33
A55: 1.4.27. | B55: Izlīdzinošā kārta pārejas plātnei P-1 (C20/25) | C55: S4.5.2. | D55: m3 | E55: 10.08
A56: 1.4.28. | B56: Betona virsmas apstrāde | D56: N/A
A57: 1.4.29. | B57: Bitumena mastika (ar grunti saskarošas betona virsmas izolācija) balstiem Nr.1÷6 | C57: S4.11 | D57: m2 | E57: =173.8+181+181+181+181+181 -> 1078.8
A58: 1.4.30. | B58: Bitumena mastika (ar grunti saskarošas betona virsmas izolācija) pārējas plātnei P-1 ar atbalstu | C58: S4.11 | D58: m2 | E58: 24.16
A59: 1.4.31. | B59: Laiduma L1 betona virsmu pārklāšana ar impregnējošo materiālu | C59: S4.7 | D59: m2 | E59: 449.73
A60: 1.4.32. | B60: Balstu Nr.1÷6 betona virsmu pārklāšana ar impregnējošo materiālu | C60: S4.7 | D60: m2 | E60: =134.1+143.43+176.26+227.56+238.8+254.77 -> 1174.92
A61: 1.5. | B61: Tērauda darbi | C61: S5 | D61: N/A
A62: 1.5.1. | B62: Iebetonējamo detaļu ID1 izgatavošana un uzstādīšana prettrokšņu sienām | C62: S5.2, S5.2.1. | D62: gab. | E62: 51
A63: 1.5.2. | B63: Iebetonējamo detaļu izgatavošana un uzstādīšana margām ID2, iesk. bezrukuma cementa javu, laidumam L1 | C63: S5.2, S5.2.1. | D63: gab. | E63: 50
A64: 1.5.3. | B64: Iebetonējamo detaļu izgatavošana un uzstādīšana laiduma L1 apgaismojuma stabiem - ID3 | C64: S5.2, S5.2.1. | D64: gab. | E64: 8
A65: 1.5.5. | B65: Markas M-1 izgatavošana un uzstādīšana apgaismojuma kabeļiem ietvē un karnīzē | C65: S5.2 | D65: gab. | E65: 8
A66: 1.5.6. | B66: Markas M-2 izgatavošana un uzstādīšana kabeļu montāžas nodrošināšanai | C66: S5.2 | D66: gab. | E66: 2
A67: 1.5.7. | B67: Apgaismojuma stabu montāža, iesk.bezrukuma cementa javu | C67: S5.2 | D67: gab. | E67: 8
A68: 1.5.8. | B68: Pretrokšņu sienas montāža | C68: S5.2 | D68: m | E68: 100.55
A69: 1.5.9. | B69: Nerūsējošais tērauds prettrokšnu sienas pārsegšanai apgaismojuma stabu vietās laidumos, iesk. piestiprinājumus | C69: S5.2 | D69: t | E69: 0.726
A70: 1.6. | B70: Aprīkojums, dilumkarta, koka un akmens darbi | D70: N/A
A71: 1.6.1. | B71: Balstīklas 3000kN (kustīga visos virzienos) | C71: S7.2.4. | D71: gab. | E71: 1
A72: 1.6.2. | B72: Balstīklas 4000kN (kustīga vienā virzienā) | C72: S7.2.4. | E72: 2
A73: 1.6.3. | B73: Balstīklas 4000kN (kustīga visos virzienos) | C73: S7.2.4. | E73: 3
A74: 1.6.4. | B74: Balstīklas 5000kN (kustīga visos virzienos) | C74: S7.2.4. | E74: 2
A75: 1.6.5. | B75: Balstīklas 6000kN (kustīga vienā virzienā) | C75: S7.2.4. | E75: 1
A76: 1.6.6. | B76: Balstīklas 6000kN (kustīga visos virzienos) | C76: S7.2.4. | E76: 2
A77: 1.6.7. | B77: Balstīklas 7000kN (kustīga visos virzienos) | C77: S7.2.4. | E77: 4
A78: 1.6.8. | B78: Balstīklas 7000kN (nekustīga) | C78: S7.2.4. | E78: 1
A79: 1.6.9. | B79: Balstīklas 8000kN (kustīga visos virzienos) | C79: S7.2.4. | E79: 2
A80: 1.6.10. | B80: Balstīklas 9000kN (kustīga vienā virzienā) | C80: S7.2.4. | E80: 2
A81: 1.6.11. | B81: Balstīklas 9000kN (kustīga visos virzienos) | C81: S7.2.4. | E81: 4
A82: 1.6.12. | B82: Deformācijas šuve DS160, ieskaitot garumu karnīzu sānos un asfaltā stinguma ribu sistēmas ierīkošanu | C82: S7.3.2. | D82: m | E82: 19.95
A83: 1.6.13. | B83: Deformācijas šuve DS240, ieskaitot garumu karnīzu sānos un asfaltā stinguma ribu sistēmas ierīkošanu | C83: S7.3.2. | D83: m | E83: 20.42
A84: 1.6.14. | B84: Blīvēšanas mastika šuvju aizpildīšanai | C84: S7.3.5.2. | D84: m3 | E84: 0.25
A85: 1.6.11. | B85: Dilumkārta un hidroizolācija | C85: S7.1 | D85: N/A
A86: 1.6.12. | B86: Laiduma L1 konstrukcijas un pārējas plātnes P-1 pamatnes sagatavošana, iesk. epoksīdu sveķu bāzes gruntējumu | C86: S7.1.2 | D86: m2 | E86: 2883
A87: 1.6.13. | B87: Līmētā hidroizolācija laiduma L1 brauktuves konstrukcijai(iesk. 2 kārtas zem ietvei) un pārējas plātnei P-1 | C87: S7.1.1. | D87: m2 | E87: 3447.92
A88: 1.6.14. | B88: Izolācijas aizsargslānis laiduma L1 konstrukcijai un pārējas plātnei P-1 | C88: S7.1.3. | D88: m2 | E88: =1943.8+112.73 -> 2056.53
A89: 1.6.15. | B89: Asfaltbetona dilumkārta | C89: S7.1.4 | D89: N/A
A90: 1.6.16. | B90: Asfalta saistes kārta, 40mm | C90: S7.1.4 | D90: m2 | E90: 1946.6
A91: 1.6.17. | B91: Virsmas sagatavošana dilumkārtas ieklāšanai | C91: S7.1.4 | D91: m2 | E91: 1955.1
A92: 1.6.18. | B92: Asfalta dilumkārta, 40mm | C92: S7.1.4 | D92: m2 | E92: 1955.1
A93: 1.6.19. | B93: Poliuretāna segums ietvei uz laiduma, 5mm | C93: S7.1.5. | D93: m2 | E93: 731.8
A94: 1.6.20. | B94: Polimērmodificēts hermētiķis brauktuvei un pārējas plātnei P-1 | C94: S7.3.5.3. | D94: m3 | E94: =0.37+0.003 -> 0.373
A95: 1.6.21. | B95: Drošības barjeras un margas | C95: S7.4 | D95: N/A
A96: 1.6.22. | B96: Betona drošības barjeras ar noturības līmeni H2/W1,iesk. piestiprinājuma elementu enkurojumu uz laiduma L1 un gala balsta Nr.1 | C96: S7.4.1.1., S5.2.2. | D96: m | E96: =279.3+6 -> 285.3
A97: 1.6.23. | B97: Ūdens noteku un citas cauruļsistēmas | C97: S7.5 | D97: N/A
A98: 1.6.24. | B98: Novadcaurules ūdens novadei no hidroizolācijas | C98: S7.5 | D98: gab. | E98: 34
A99: 1.6.25. | B99: Zemsegas drenāžas kanāli | C99: S7.5.1.2. | D99: m | E99: 223.6
A100: 1.6.26. | B100: Virsmas ūdens novadcaurules | C100: S7.5.1. | D100: gab. | E100: 15
A101: 1.6.27. | B101: Virsmas ūdens notekcaurules d220mm, iesk. piestiprinājumu pie estakādes Nr.1 balstiem un aizsargrežģa montāžu pret vandālismu | C101: S7.5.1.2. | D101: m | E101: 72.3
A102: 1.6.28. | B102: Lietusūdens kolektori d220mm, ieskaitot piestprinājumu pie estakādes Nr.1 laiduma un piltuves ierīkošanu | C102: S7.5.1.2. | D102: m | E102: 186.6
A103: 1.6.29. | B103: Aizsargcaurules komunikācijām d=75mm 450N | C103: S7.6.1. | D103: m | E103: =952+144.3*2 -> 1240.6
A104: 1.7. | B104: Citi darbi | D104: N/A
...

Sheet 12.BK KAMERAS
A1: Darbu apjomu saraksts Nr.12
A2: Būvkonstrukcijas. Dzelzsbetona kameras
A3: (Būvdarbu veids vai konstruktīvā elementa nosaukums)
A5: Objekta nosaukums: Satiksmes pārvada ar pievedceļiem izbūve Smiltenes un Kandavas ielu rajonā Daugavpilī
A6: Būves nosaukums: Būvkonstrukcijas. Dzelzsbetona kameras
A7: Objekta adrese: Daugavpils, Esplanādes un Dzelzceļnieka apkaimes
A8: Pasūtījuma Nr.: DPD 2020/99
A10: Apjomi sastādīti, pamatojoties uz BK2 daļas rasējumiem.
A12: Nr. p. k. | B12: Būvdarbu nosaukums | C12: Specifikācijas Nr. vai Rasējuma Nr. | D12: Mēr-vienība | E12: Daudzums | F12: Vienības cena (euro) | G12: Kopējā cena (euro)
A14: 1 | B14: Kamera U1-3
A15: 2 | B15: Zemes darbi
A16: 3 | B16: Šķembu piegāde un ieklāšana (zem kameras konstrukcijas) | C16: BK2-1, BK2-4 | D16: m3 | E16: 3.7
A17: 4 | B17: Betona darbi
A18: 5 | B18: Veidņu uzstādīšana kamerai | C18: BK2-1, BK2-4 | D18: m2 | E18: 46.36
A19: 6 | B19: Veidņu uzstādīšana izlīdzinošajam slānim | C19: BK2-1, BK2-4 | D19: m2 | E19: 1.51
A20: 7 | B20: Betons
A21: 8 | B21: Betons kameras konstrukcijai C35/45 | C21: BK2-1, BK2-4 | D21: m3 | E21: 13.6
A22: 9 | B22: Betona piegāde un izstrāde teknei C20/25 | C22: BK2-1, BK2-4 | D22: m3 | E22: 0.93
A23: 10 | B23: Betona piegāde un izstrāde izlīdzinošajam slānim | C23: BK2-1, BK2-4 | D23: m3 | E23: 1.4
A24: 11 | B24: Stiegrojuma izgatavošana un uzstādīšana
A25: 12 | B25: Stiegrojuma izgatavošana un uzstādīšana kameras konstrukcijai | C25: BK2-1, BK2-4 | D25: t | E25: 5.083
A26: 13 | B26: Betona virsmas apstrāde
A27: 14 | B27: Kameras virsmas apstrāde ar smilšu strūklu | C27: BK2-1, BK2-4 | D27: m2 | E27: 64.6
A28: 15 | B28: Bitumena mastika 2 kārtas (ar grunti saskarošas betona virsmas izolācija)kamerai | C28: BK2-1, BK2-4 | D28: m2 | E28: 64.6
A29: 16 | B29: Kamera U1-4
A30: 17 | B30: Zemes darbi
A31: 18 | B31: Šķembu piegāde un ieklāšana (zem kameras konstrukcijas) | C31: BK2-1, BK2-3 | D31: m3 | E31: 3.2
A32: 19 | B32: Betona darbi
A33: 20 | B33: Veidņu uzstādīšana kamerai | C33: BK2-1, BK2-3 | D33: m2 | E33: 38.316
A34: 21 | B34: Veidņu uzstādīšana izlīdzinošajam slānim | C34: BK2-1, BK2-3 | D34: m2 | E34: 1.36
A35: 22 | B35: Betons
A36: 23 | B36: Betons kameras konstrukcijai C35/45 | C36: BK2-1, BK2-3 | D36: m3 | E36: 13.7
A37: 24 | B37: Betona piegāde un izstrāde teknei C20/25 | C37: BK2-1, BK2-3 | D37: m3 | E37: 0.94
A38: 25 | B38: Betona piegāde un izstrāde izlīdzinošajam slānim | C38: BK2-1, BK2-3 | D38: m3 | E38: 1.13
A39: 26 | B39: Stiegrojuma izgatavošana un uzstādīšana
A40: 27 | B40: Stiegrojuma izgatavošana un uzstādīšana kameras konstrukcijai | C40: BK2-1, BK2-3 | D40: t | E40: 4.328
A41: 28 | B41: Betona virsmas apstrāde
A42: 29 | B42: Kameras virsmas apstrāde ar smilšu strūklu | C42: BK2-1, BK2-3 | D42: m2 | E42: 50.6
A43: 30 | B43: Bitumena mastika 2 kārtas (ar grunti saskarošas betona virsmas izolācija)kamerai | C43: BK2-1, BK2-3 | D43: m2 | E43: 50.6
A44: 31 | B44: Kamera U1-5
A45: 32 | B45: Zemes darbi
A46: 33 | B46: Šķembu piegāde un ieklāšana (zem kameras konstrukcijas) | C46: BK2-1, BK2-2 | D46: m3 | E46: 3.3
A47: 34 | B47: Betona darbi
A48: 35 | B48: Veidņu uzstādīšana kamerai | C48: BK2-1, BK2-2 | D48: m2 | E48: 35.58
A49: 36 | B49: Veidņu uzstādīšana izlīdzinošajam slānim | C49: BK2-1, BK2-2 | D49: m2 | E49: 1.46
A50: 37 | B50: Betons
A51: 38 | B51: Betons kameras konstrukcijai C35/45 | C51: BK2-1, BK2-2 | D51: m3 | E51: 13.6
A52: 39 | B52: Betona piegāde un izstrāde teknei C20/25 | C52: BK2-1, BK2-2 | D52: m3 | E52: 2.26
A53: 40 | B53: Betona piegāde un izstrāde izlīdzinošajam slānim | C53: BK2-1, BK2-2 | D53: m3 | E53: 1.3
A54: 41 | B54: Stiegrojuma izgatavošana un uzstādīšana
A55: 42 | B55: Stiegrojuma izgatavošana un uzstādīšana kameras konstrukcijai | C55: BK2-1, BK2-2 | D55: t | E55: 4.287
A56: 43 | B56: Betona virsmas apstrāde
A57: 44 | B57: Kameras virsmas apstrāde ar smilšu strūklu | C57: BK2-1, BK2-2 | D57: m2 | E57: 64.6
A58: 45 | B58: Bitumena mastika 2 kārtas (ar grunti saskarošas betona virsmas izolācija)kamerai | C58: BK2-1, BK2-2 | D58: m2 | E58: 64.6
A59: 46 | B59: Kamera K1.1-1
A60: 47 | B60: Zemes darbi
A61: 48 | B61: Šķembu piegāde un ieklāšana (zem kameras konstrukcijas) | C61: BK2-1, BK2-5 | D61: m3 | E61: 3.36
A62: 49 | B62: Betona darbi
A63: 50 | B63: Veidņu uzstādīšana kamerai | C63: BK2-1, BK2-5 | D63: m2 | E63: 43.072
A64: 51 | B64: Veidņu uzstādīšana izlīdzinošajam slānim | C64: BK2-1, BK2-5 | D64: m2 | E64: 1.4
A65: 52 | B65: Betons
A66: 53 | B66: Betons kameras konstrukcijai C35/45 | C66: BK2-1, BK2-5 | D66: m3 | E66: 13
A67: 54 | B67: Betona piegāde un izstrāde teknei C20/25 | C67: BK2-1, BK2-5 | D67: m3 | E67: 4.27
A68: 55 | B68: Betona piegāde un izstrāde izlīdzinošajam slānim | C68: BK2-1, BK2-5 | D68: m3 | E68: 1.2
A69: 56 | B69: Stiegrojuma izgatavošana un uzstādīšana
A70: 57 | B70: Stiegrojuma izgatavošana un uzstādīšana kameras konstrukcijai | C70: BK2-1, BK2-5 | D70: t | E70: 4.613
A71: 58 | B71: Betona virsmas apstrāde
A72: 59 | B72: Kameras virsmas apstrāde ar smilšu strūklu | C72: BK2-1, BK2-5 | D72: m2 | E72: 47.5
A73: 60 | B73: Bitumena mastika 2 kārtas (ar grunti saskarošas betona virsmas izolācija)kamerai | C73: BK2-1, BK2-5 | D73: m2 | E73: 47.5
A74: 61 | B74: Citi darbi
A75: 62 | B75: Kāpšļu izgatavošana un montaža no kompozītmateriāla | C75: BK2-1, BK2-5 | D75: gab. | E75: 9
A76: 63 | B76: Kamera K1.1-2
A77: 64 | B77: Zemes darbi
A78: 65 | B78: Šķembu piegāde un ieklāšana (zem kameras konstrukcijas) | C78: BK2-1, BK2-6 | D78: m3 | E78: 3.53
A79: 66 | B79: Betona darbi
A80: 67 | B80: Veidņu uzstādīšana kamerai | C80: BK2-1, BK2-6 | D80: m2 | E80: 43.56
A81: 68 | B81: Veidņu uzstādīšana izlīdzinošajam slānim | C81: BK2-1, BK2-6 | D81: m2 | E81: 1.44
A82: 69 | B82: Betons
A83: 70 | B83: Betons kameras konstrukcijai C35/45 | C83: BK2-1, BK2-6 | D83: m3 | E83: 14.6
A84: 71 | B84: Betona piegāde un izstrāde teknei C20/25 | C84: BK2-1, BK2-6 | D84: m3 | E84: 5.56
A85: 72 | B85: Betona piegāde un izstrāde izlīdzinošajam slānim | C85: BK2-1, BK2-6 | D85: m3 | E85: 1.3
A86: 73 | B86: Stiegrojuma izgatavošana un uzstādīšana
A87: 74 | B87: Stiegrojuma izgatavošana un uzstādīšana kameras konstrukcijai | C87: BK2-1, BK2-6 | D87: t | E87: 4.575
A88: 75 | B88: Betona virsmas apstrāde
A89: 76 | B89: Kameras virsmas apstrāde ar smilšu strūklu | C89: BK2-1, BK2-6 | D89: m2 | E89: 48.9
A90: 77 | B90: Bitumena mastika 2 kārtas (ar grunti saskarošas betona virsmas izolācija)kamerai | C90: BK2-1, BK2-6 | D90: m2 | E90: 48.9
A91: 78 | B91: Citi darbi
A92: 79 | B92: Kāpšļu izgatavošana un montaža no kompozītmateriāla | C92: BK2-1, BK2-6 | D92: gab. | E92: 8
A93: 80 | B93: Kamera K1.1-3
A94: 81 | B94: Zemes darbi
A95: 82 | B95: Šķembu piegāde un ieklāšana (zem kameras konstrukcijas) | C95: BK2-1, BK2-7 | D95: m3 | E95: 3.2
A96: 83 | B96: Betona darbi
A97: 84 | B97: Veidņu uzstādīšana kamerai | C97: BK2-1, BK2-7 | D97: m2 | E97: 41.25
A98: 85 | B98: Veidņu uzstādīšana izlīdzinošajam slānim | C98: BK2-1, BK2-7 | D98: m2 | E98: 1.36
A99: 86 | B99: Betons
A100: 87 | B100: Betons kameras konstrukcijai C35/45 | C100: BK2-1, BK2-7 | D100: m3 | E100: 13.3
A101: 88 | B101: Betona piegāde un izstrāde teknei C20/25 | C101: BK2-1, BK2-7 | D101: m3 | E101: 4.43
A102: 89 | B102: Betona piegāde un izstrāde izlīdzinošajam slānim | C102: BK2-1, BK2-7 | D102: m3 | E102: 1.2
A103: 90 | B103: Stiegrojuma izgatavošana un uzstādīšana
A104: 91 | B104: Stiegrojuma izgatavošana un uzstādīšana kameras konstrukcijai | C104: BK2-1, BK2-7 | D104: t | E104: 4.277
...
