Workbook
Name Mervienibas: '[1]2_DAS'!#REF!

Sheet Paredzamās līgumcenas koptāme
B2: APSTIPRINU
A3: __________________________________________________
A4: (pasūtītāja paraksts un tā atšifrējums)
D5: Z.v.
B6: ______.gada______._______________
A8: Paredzamās līgumcenas koptāme
A10: Objekta nosaukums: Satiksmes pārvada ar pievedceļiem izbūve Smiltenes un Kandavas ielu rajonā Daugavpilī
A11: Būves nosaukums: Ielas, ietves, luksofori, satiksmes organizācija, labiekārtojums, satiksmes pārvads, inženiertīkli
A12: Objekta adrese: Daugavpils, Esplanādes un Dzelzceļnieka apkaimes
A13: Pasūtījuma Nr.: DPD 2020/99
A15: Nr. p.k. | B15: Objekta nosaukums | C15: Objekta izmaksas (euro)
A16: 1 | B16: Teritorijas sadaļa, ceļa darbi, labiekārtojums, luksoforobjekti | C16: ='1.TS-CD'!H308 -> 0
A17: 2 | B17: Ūdensapgāde un kanalizācija (ārējā) | C17: ='2.UKT'!G370 -> 0
A18: 3 | B18: Lietus ūdens kanalizācija (ārējā) | C18: ='3.LKT'!G334 -> 0
A19: 4 | B19: Gāzes apgāde (ārējā) | C19: ='4.GAT'!H35 -> 0
A20: 5 | B20: Siltumapgāde (ārējā) | C20: ='5.SAT'!G55 -> 0
A21: 6 | B21: Elektroapgāde (ārējā). Ielu apgaismojuma tīkli | C21: ='6.ELT1 '!G153 -> 0
A22: 7 | B22: Elektroapgāde (ārējā). VAS "Latvijas dzelzceļš" apgaismojuma tīkli | C22: ='7.ELT2'!G107 -> 0
A23: 8 | B23: Elektroapgāde (ārējā). Lietotāja tīklu daļa | C23: ='8.ELT3'!H160 -> 0
A24: 9 | B24: Elektronisko sakaru sistēmas (ārējās) | C24: ='9.EST'!H234 -> 0
A25: 10 | B25: Dzelzceļa signalizācijas sistēmas un vilcienu kustības vadības sistēmas tīkli | C25: ='10.SCB'!G39 -> 0
A26: 11 | B26: Būvkonstrukcijas. Satiksmes pārvads | C26: ='11.BK PĀRVADS'!G744 -> 0
A27: 12 | B27: Būvkonstrukcijas. Dzelzsbetona kameras | C27: ='12.BK KAMERAS'!G110 -> 0
A28: 13 | B28: Elektroapgāde (ārējā). AS "Sadales tīkls" kabeļu pārbūve, jaunu pieslēgumu izbūve - atsevišķās būvniecības iecerēs | C28: 0
A29: Kopā | C29: =SUM(C16:D28) -> 0
A31: Finanšu rezerve neparedzētiem darbiem (5%) | C31: =C29*0.05 -> 0
A33: PVN (21%) | C33: =(C29+C31)*0.21 -> 0
A35: Pavisam būvniecības izmaksas | C35: =C29+C31+C33 -> 0
A36: Ar būvniecību saistītie pārējie izdevumi:
A37: būvuzraudzība* | C37: =C29*0.003 -> 0
A38: būvprojekta autoruzraudzība* | C38: 0
A39: Kopā | C39: =C35+C37+C38 -> 0
A40: * izmaksas precizējamas pirms attiecīgo līgumu noslēgšanas
A43: Sastādīja Mārtiņš Matvejs
B44: (paraksts un tā atšifrējums, datums)
A46: Pārbaudīja Jānis Bidzāns
B47: (paraksts un tā atšifrējums, datums)
A49: Sertifikāta Nr. 3-00780
A51: Tāme sastādīta 2024.gada martā
B53: Piezīmes
...

Sheet Būvniecības koptāme
B2: APSTIPRINU
A3: __________________________________________________
A4: (pasūtītāja paraksts un tā atšifrējums)
D5: Z.v.
B6: ______.gada______._______________
A8: Būvniecības koptāme
A10: Objekta nosaukums: Satiksmes pārvada ar pievedceļiem izbūve Smiltenes un Kandavas ielu rajonā Daugavpilī
A11: Būves nosaukums: Ielas, ietves, luksofori, satiksmes organizācija, labiekārtojums, satiksmes pārvads, inženiertīkli
A12: Objekta adrese: Daugavpils, Esplanādes un Dzelzceļnieka apkaimes
A13: Pasūtījuma Nr.: DPD 2020/99
A15: Nr. p.k. | B15: Objekta nosaukums | C15: Objekta izmaksas (euro)
A16: 1 | B16: Teritorijas sadaļa, ceļa darbi, labiekārtojums, luksoforobjekti | C16: ='1.TS-CD'!H308 -> 0
A17: 2 | B17: Ūdensapgāde un kanalizācija (ārējā) | C17: ='2.UKT'!G370 -> 0
A18: 3 | B18: Lietus ūdens kanalizācija (ārējā) | C18: ='3.LKT'!G334 -> 0
A19: 4 | B19: Gāzes apgāde (ārējā) | C19: ='4.GAT'!H35 -> 0
A20: 5 | B20: Siltumapgāde (ārējā) | C20: ='5.SAT'!G55 -> 0
A21: 6 | B21: Elektroapgāde (ārējā). Ielu apgaismojuma tīkli | C21: ='6.ELT1 '!G153 -> 0
A22: 7 | B22: Elektroapgāde (ārējā). VAS "Latvijas dzelzceļš" apgaismojuma tīkli | C22: ='7.ELT2'!G107 -> 0
A23: 8 | B23: Elektroapgāde (ārējā). Lietotāja tīklu daļa | C23: ='8.ELT3'!H160 -> 0
A24: 9 | B24: Elektronisko sakaru sistēmas (ārējās) | C24: ='9.EST'!H234 -> 0
A25: 10 | B25: Dzelzceļa signalizācijas sistēmas un vilcienu kustības vadības sistēmas tīkli | C25: ='10.SCB'!G39 -> 0
A26: 11 | B26: Būvkonstrukcijas. Satiksmes pārvads | C26: ='11.BK PĀRVADS'!G744 -> 0
A27: 12 | B27: Būvkonstrukcijas. Dzelzsbetona kameras | C27: ='12.BK KAMERAS'!G110 -> 0
A28: 13 | B28: Elektroapgāde (ārējā). AS "Sadales tīkls" kabeļu pārbūve, jaunu pieslēgumu izbūve - atsevišķās būvniecības iecerēs | C28: 0
A29: Kopā | C29: =SUM(C16:D28) -> 0
A31: PVN (21%) | C31: =C29*0.21 -> 0
A33: Sastādīja Mārtiņš Matvejs
B34: (paraksts un tā atšifrējums, datums)
A36: Pārbaudīja Jānis Bidzāns
B37: (paraksts un tā atšifrējums, datums)
A39: Sertifikāta Nr. 3-00780
A41: Tāme sastādīta 2024.gada martā
B43: Piezīmes
B44: 1. Visi darbu veidi un materiālu daudzumi ir noteikti teorētiski un būvniecības laikā ir nosakāmi pēc faktiski paveiktā darba būvlaukumā;
B45: 2. Būvuzņēmējam jāievērtē galveno darbu daudzumu kopsavilkumā minēto darbu veikšanai nepieciešamie materiāli un papildus darbi, kas nav minēti šajā sarakstā, bet bez kuriem nav iespējama galveno būvdarbu tehnoloģiski pareiza izpilde pēc spēkā esošajiem normatīviem;
B46: 3. Materiālu apjomi, kuri iebūvējot ir norādīti m3, ir sastādīti ievērojot materiālu sablīvēšanās koeficentus būvniecības laikā;
B47: 4. Beramie un gabalmateriāli doti iebūvētā veidā;
B48: 5. Konstrukciju elementu komplektācija atbilstoši izgatavotāju firmu instrukcijām;
B49: 6. Saskaņojot ar pasūtītāju un projekta autoru iespējams izmantot dažādu ražotāju analogas kvalitātes būvmateriālus un būvizstrādājumus
B50: 7. Visa veida labiekārtojuma elementus (solus, žogus, barjeras, urnas, apstādījumus u.c.), kā arī prettrokšņu sienu krāsu toņus un citus vizuālos risinājumus būvdarbu laikā vēlreiz saskaņot ar būvprojekta autoru, pasūtītāju un Daugavpils valstspilsētas Pilsētplānošanas un būvniecības departamenta Pilsētvides nodaļas speciālistiem;
...

Sheet 1.TS-CD
A1: Darbu apjomu saraksts Nr.1
A2: Ielas, ietves, luksofori, satiksmes organizācija, labiekārtojums
A3: (Būvdarbu veids vai konstruktīvā elementa nosaukums)
A5: Objekta nosaukums: Satiksmes pārvada ar pievedceļiem izbūve Smiltenes un Kandavas ielu rajonā Daugavpilī
A6: Būves nosaukums: Ielas, ietves, luksofori, satiksmes organizācija, labiekārtojums
A7: Objekta adrese: Daugavpils, Esplanādes un Dzelzceļnieka apkaimes
A8: Pasūtījuma Nr.: DPD 2020/99
A10: Apjomi sastādīti, pamatojoties uz GP un TS-CD daļas rasējumiem.
A12: Nr. p. k. | B12: Būvdarbu nosaukums | C12: Piezīmes | D12: Specifikācijas Nr. vai Rasējuma Nr. | E12: Mēr-vienība | F12: Daudzums | G12: Vienības cena (euro) | H12: Kopējā cena (euro)
A14: 1 | B14: Sagatavošanas un demontāžas darbi
A15: 2 | B15: Mobilizācija un demobilizācija | D15: ABS 2023/1 2.1 ÷ 2.10 | E15: kpl | F15: 1
A16: 3 | B16: Satiksmes organizācijas nodrošināšana būvdarbu laikā, ieskaitot DOP rasējumos paredzētos risinājumus, t.sk. ceļu izbūvi, lai nodrošinātu piekļuvi būvlaukumam, ieskaitot aprīkojumu, tranšeju nostiprinājumus, palīgmateriālus, esošo koku aizsardzības pasākumus, satiksmes organizācijas tehnisko līdzekļu uzstādīšanu un uzraudzību u.c. darbus atbilstoši plānoto būvdarbu etapu skaitam un to ilgumam | D16: ABS 2023/1 2.1 ÷ 2.10 | E16: kpl | F16: 1
A17: 4 | B17: Uzmērīšana un nospraušana (t.sk. pabeigtas būves izpildmērījums) | D17: ABS 2023/1 2.10 | E17: kpl | F17: 1
A18: 5 | B18: Koku ciršana, ieskaitot celmu un sakņu demontāžu, paredzot transportu uz būvuzņēmēja atbērtni | D18: ABS 2023/1 3.1 | E18: gb | F18: 98
A19: 6 | B19: Ceļa zīmju demontāža, paredzot transportu uz būvuzņēmēja atbērtni vai uzstādīšanu atpakaļ norādītajā vietā | D19: ABS 2023/1 3.2 | E19: gb | F19: 138
A20: 7 | B20: Ceļa zīmju metāla balstu demontāža, paredzot transportu uz būvuzņēmēja atbērtni vai uzstādīšanu atpakaļ norādītajā vietā | D20: ABS 2023/1 3.2 | E20: gb | F20: 80
A21: 8 | B21: Gājēju metāla barjeru demontāža, paredzot transportu uz būvuzņēmēja atbērtni vai pasūtītāja norādītu uzglabāšanas vietu | D21: ABS 2023/1 3.2 | E21: m | F21: 250
A22: 9 | B22: Gājēju metāla barjeru saaudzīgu demontāža, paredzot uzglabāšanu un uzstādīšanu atpakaļ esošajā vietā pēc ietves seguma atjaunošanas | D22: ABS 2023/1 3.2 | E22: m | F22: 180
A23: 10 | B23: Ietves betona apmaļu demontāža, paredzot transportu uz būvuzņēmēja atbērtni | D23: ABS 2023/1 3.2 | E23: m | F23: 3415
A24: 11 | B24: Brauktuves betona apmaļu demontāža, paredzot transportu uz būvuzņēmēja atbērtni | D24: ABS 2023/1 3.2 | E24: m | F24: 3070
A25: 12 | B25: Betona transporta barjeru demontāža un utilizācija vai atkārtota izmantošana objektā (1gab = 6m) | D25: ABS 2023/1 3.2 | E25: gb | F25: 16
A26: 13 | B26: Tramvaja kontakttīkla balsta saudzīga demontāža un pārbūve norādītajā vietā, ieskaitot visus palīgmateriālus, kontakttīkla uzturēšanas darbus, ja nepieciešams paredzot pagaidu balsta izbūvi, kā arī darbu veikšanas projekta izstrādi un saskaņošanu ar AS "Daugavpils satiksme" | D26: ABS 2023/1 3.2 | E26: gb | F26: 1
... A51: 38 | B51: CSDD EUS un tā infrastruktūras pamata, apgaismojuma balsta saudzīga demontāža un pārbūve norādītajā vietā, ieskaitot norobežojošos stabus, pielietojot analogu pamata materiālu un ievērojot DOP p.4.4 un DOP Pielikumā dotos norādījumus | D51: ABS 2023/1 3.2, DOP 4.4 | E51: kpl | F51: 1
A52: 39 | B52: Visi nepieciešamie darbi ēkas nojaukšanai Dīķu ielā 3, kad.nr. 05000090303
A53: 40 | B53: Esošo inženierkomunikāciju (ūdensvads, saimnieciskā kanalizācija, elektroapgāde, elektroniskie sakaru tīkli, atkarībā no esošās situācijas) atslēgšana, atzinuma no tīklu turētājiem saņemšana | D53: ABS 2023/1 2.2, 3.2 | E53: kpl | F53: 1
A54: 41 | B54: Esošas divu stāvu mūra ēkas nojaukšana, tajā skaitā pamatu nojaukšana (S=110m2; h=~6,0m), transports uz būvuzņēmēja atbērtni | D54: ABS 2023/1 2.2, 3.2 | E54: m3 | F54: 660
A55: 42 | B55: Teritorijas sakārtošana pēc darbu pabeigšanas | D55: ABS 2023/1 2.2, 3.2 | E55: kpl | F55: 1
A56: 43 | B56: Izziņas par ēkas (būves) neesamību dabā saņemšana | D56: ABS 2023/1 2.2, 3.2 | E56: kpl | F56: 1
A57: 44 | B57: Visi nepieciešamie darbi ēku nojaukšanai Satiksmes ielā 3/5, kad.nr. 05000090311
A58: 45 | B58: Esošo inženierkomunikāciju (ūdensvads, saimnieciskā kanalizācija, elektroapgāde, elektroniskie sakaru tīkli, atkarībā no esošās situācijas) atslēgšana, atzinuma no tīklu turētājiem saņemšana | D58: ABS 2023/1 2.2, 3.2 | E58: kpl | F58: 1
A59: 46 | B59: Esošas viena stāva mūra ēkas un palīgēkas nojaukšana, tajā skaitā pamatu nojaukšana (S=150m2; h=~4,0m), transports uz būvuzņēmēja atbērtni | D59: ABS 2023/1 2.2, 3.2 | E59: m3 | F59: 600
A60: 47 | B60: Teritorijas sakārtošana pēc darbu pabeigšanas | D60: ABS 2023/1 2.2, 3.2 | E60: kpl | F60: 1
A61: 48 | B61: Izziņas par ēku (būvju) neesamību dabā saņemšana | D61: ABS 2023/1 2.2, 3.2 | E61: kpl | F61: 1
A62: 49 | B62: Visi nepieciešamie darbi ēku nojaukšanai Muitas ielā 4, kad.nr. 05000090310
A63: 50 | B63: Esošo inženierkomunikāciju (ūdensvads, saimnieciskā kanalizācija, elektroapgāde, elektroniskie sakaru tīkli, atkarībā no esošās situācijas) atslēgšana, atzinuma no tīklu turētājiem saņemšana | D63: ABS 2023/1 2.2, 3.2 | E63: kpl | F63: 1
A64: 51 | B64: Esošas viena stāva mūra ēkas un palīgēkas nojaukšana, tajā skaitā pamatu nojaukšana (S=205m2; h=~4,0m), transports uz būvuzņēmēja atbērtni | D64: ABS 2023/1 2.2, 3.2 | E64: m3 | F64: 820
A65: 52 | B65: Teritorijas sakārtošana pēc darbu pabeigšanas | D65: ABS 2023/1 2.2, 3.2 | E65: kpl | F65: 1
A66: 53 | B66: Izziņas par ēku (būvju) neesamību dabā saņemšana | D66: ABS 2023/1 2.2, 3.2 | E66: kpl | F66: 1
A67: 54 | B67: Visi nepieciešamie darbi ēku nojaukšanai Stacijas ielā 58, kad.nr. 05000090501
A68: 55 | B68: Esošo inženierkomunikāciju (ūdensvads, saimnieciskā kanalizācija, elektroapgāde, elektroniskie sakaru tīkli, atkarībā no esošās situācijas) atslēgšana, atzinuma no tīklu turētājiem saņemšana | D68: ABS 2023/1 2.2, 3.2 | E68: kpl | F68: 1
...

Sheet 2.UKT
A1: Darbu apjomu saraksts Nr.2
A2: Ūdensapgādes un kanalizācijas tīkli (ārējie)
A3: (Būvdarbu veids vai konstruktīvā elementa nosaukums)
A5: Objekta nosaukums: Satiksmes pārvada ar pievedceļiem izbūve Smiltenes un Kandavas ielu rajonā Daugavpilī
A6: Būves nosaukums: Ūdensapgādes un kanalizācijas tīkli (ārējie)
A7: Objekta adrese: Daugavpils, Esplanādes un Dzelzceļnieka apkaimes
A8: Pasūtījuma Nr.: DPD 2020/99
A10: Apjomi sastādīti, pamatojoties uz UKT daļas rasējumiem.
A12: Nr. p. k. | B12: Būvdarbu nosaukums | C12: Specifikācijas Nr. vai Rasējuma Nr. | D12: Mēr-vienība | E12: Daudzums | F12: Vienības cena (euro) | G12: Kopējā cena (euro)
A14: 1 | B14: Ūdensapgādes sistēma U1 (būvdarbu apjomi)
A15: 2 | B15: Trases nospraušana | D15: m | E15: 1324
A16: 3 | B16: Tranšejas rakšana | D16: m3 | E16: 3540
A17: 4 | B17: Tranšejas malu nostiprināšanas divpusēji | D17: m | E17: 1255.5
A18: 5 | B18: Cauruļvadu montāža tranšejā | D18: m | E18: 1255.5
A19: 6 | B19: Smilts pabēruma, apbēruma ieklāšana ar blietēšanu | D19: m3 | E19: 771
A20: 7 | B20: Tranšejas aizbēršana ar jaunu pievestu grunti (smilšaina grunts, filtrācijas koeficents K>1,0m/dnn.) | D20: m3 | E20: 1805
A21: 8 | B21: PE apvalkcaurules OD800 izbūve ar beztranšeju metodi t.sk. darba un pieņemšanas būvbedres un ar caurdūrumu saistītie darbi | D21: m | E21: 9.5
A22: 9 | B22: Caurules PE OD560 mm ievilkšana apvalkcaurulē komplektā ar distanceriem un gala izolatoriem | D22: m | E22: 9.5
A23: 10 | B23: PE apvalkcaurules OD315 izbūve ar beztranšeju metodi t.sk. darba un pieņemšanas būvbedres un ar caurdūrumu saistītie darbi | D23: m | E23: 60
A24: 11 | B24: Caurules PE OD180 mm ievilkšana apvalkcaurulē komplektā ar distanceriem un gala izolatoriem | D24: m | E24: 60
A25: 12 | B25: Caurules PE OD225mm ievilkšana apvalkcaurulē komplektā ar distanceriem un gala izolatoriem | D25: m | E25: 12.5
A26: 13 | B26: Caurules PE OD50mm ievilkšana apvalkcaurulē komplektā arsiltinājumu un gala izolatoriem | D26: m | E26: 12.5
... A67: 54 | B67: Izbūvēto cauruļvadu nodošana ekspluatācijā | D67: kpl | E67: 1
A68: 55 | B68: Ūdensapgādes sistēma U1 (materiāli)
A69: 56 | B69: PE ūdensvada spiediena caurule PE100 RC SDR11 atbilstoši LVS EN12201 (vai ekvivalents standarts), ar spiediena klasi PN16 OD32 | D69: m | E69: 72
A70: 57 | B70: PE ūdensvada spiediena caurule PE100 RC SDR17 atbilstoši LVS EN12201 (vai ekvivalents standarts), ar spiediena klasi PN10 OD50 | D70: m | E70: 51
A71: 58 | B71: PE ūdensvada spiediena caurule PE100 RC SDR17 atbilstoši LVS EN12201 (vai ekvivalents standarts), ar spiediena klasi PN10 OD63 | D71: m | E71: 4.5
A72: 59 | B72: PE ūdensvada spiediena caurule PE100 RC SDR17 atbilstoši LVS EN12201 (vai ekvivalents standarts), ar spiediena klasi PN10 OD110 | D72: m | E72: 62.5
A73: 60 | B73: PE ūdensvada spiediena caurule PE100 RC SDR17atbilstoši LVS EN12201 (vai ekvivalents standarts), ar spiediena klasi PN10 OD180 | D73: m | E73: 148
A74: 61 | B74: PE ūdensvada spiediena caurule PE100 RC SDR17 atbilstoši LVS EN12201 (vai ekvivalents standarts), ar spiediena klasi PN10 OD225 | D74: m | E74: 663.5
A75: 62 | B75: PE ūdensvada spiediena caurule PE100 RC SDR17 ar spiediena klasi PN10 OD560 | D75: m | E75: 322.5
A76: 63 | B76: Dz/betona grodu aka Ø1500 komplektā ar pamatni, pārsegumu, augstuma regulēšanas gredzeniem, hidroizolāciju pilnā apjomā, aizsargčaulu, kāpšļiem, vāku asfalta segumā 40t. Akas dziļums no 2,0m līdz 2,5m | D76: kpl | E76: 7
A77: 64 | B77: Dz/betona grodu aka Ø1500 komplektā ar pamatni, pārsegumu, augstuma regulēšanas gredzeniem, hidroizolāciju pilnā apjomā, aizsargčaulu, kāpšļiem, vāku asfalta segumā 40t. Akas dziļums no 2,5m līdz 3,0m | D77: kpl | E77: 1
A78: 65 | B78: Dz/betona grodu aka Ø1500 komplektā ar pamatni, pārsegumu, augstuma regulēšanas gredzeniem, hidroizolāciju pilnā apjomā, aizsargčaulu, kāpšļiem, vāku zālāja segumā 25t, ar apbetonējumu. Akas dziļums no 3,0m līdz 3,5m | D78: kpl | E78: 1
A79: 66 | B79: Dz/betona grodu aka Ø1500 komplektā ar pamatni, pārsegumu, augstuma regulēšanas gredzeniem, hidroizolāciju pilnā apjomā, aizsargčaulu, kāpšļiem, vāku zālāja segumā 25t, ar apbetonējumu. Akas dziļums no 3,0m līdz 3,5m | D79: kpl | E79: 1
A80: 67 | B80: Dz/betona grodu aka Ø2000 komplektā ar pamatni, pārsegumu, augstuma regulēšanas gredzeniem, hidroizolāciju pilnā apjomā, aizsargčaulu, kāpšļiem, vāku asfalta segumā 40t. Akas dziļums no 2,0m līdz 2,5m | D80: kpl | E80: 5
... A170: 157 | B170: Smilšaina grunts ar filtrācijas koeficentu K>1,0m/dnn. h=15cm | D170: m3 | E170: 1805
A171: 158 | B171: Sadzīves kanalizācijas sistēma K1.1 un K1.2 (būvdarbu apjomi)
A172: 159 | B172: Trases nospraušana | D172: m | E172: 1003.5
A173: 160 | B173: Tranšejas rakšana | D173: m3 | E173: 10470
...

Sheet 3.LKT
A1: Darbu apjomu saraksts Nr.3
A2: Lietusūdens kanalizācijas tīkli (ārējie)
A3: (Būvdarbu veids vai konstruktīvā elementa nosaukums)
A5: Objekta nosaukums: Satiksmes pārvada ar pievedceļiem izbūve Smiltenes un Kandavas ielu rajonā Daugavpilī
A6: Būves nosaukums: Lietus ūdens kanalizācijas tīkli (ārējie)
A7: Objekta adrese: Daugavpils, Esplanādes un Dzelzceļnieka apkaimes
A8: Pasūtījuma Nr.: DPD 2020/99
A10: Apjomi sastādīti, pamatojoties uz LKT daļas rasējumiem.
A12: Nr. p. k. | B12: Būvdarbu nosaukums | C12: Specifikācijas Nr. vai Rasējuma Nr. | D12: Mēr-vienība | E12: Daudzums | F12: Vienības cena (euro) | G12: Kopējā cena (euro)
A14: 1 | B14: Lietus kanalizācijas sistēma K2.1 (būvdarbu apjomi)
A15: 2 | B15: Trases nospraušana | D15: m | E15: 159
A16: 3 | B16: Tranšejas rakšana | D16: m3 | E16: 334
A17: 4 | B17: Tranšejas malu nostiprināšanas divpusēji | D17: m | E17: 159
A18: 5 | B18: Cauruļvadu montāža tranšejā | D18: m | E18: 159
A19: 6 | B19: Smilts pabēruma, apbēruma ieklāšana ar blietēšanu | D19: m3 | E19: 74
A20: 7 | B20: Tranšejas aizbēršana ar jaunu pievestu grunti (smilšaina grunts, filtrācijas koeficents K>1,0m/dnn.) | D20: m3 | E20: 239
A21: 8 | B21: PP skatakas DN/ID600 montāža | D21: kpl | E21: 10
A22: 9 | B22: Naftas produktu uztvērēja Q-10 l/s DN1500 montaža | D22: kpl | E22: 1
A23: 10 | B23: Aizsargčaulas dz.betona akas sienā montāža | D23: kpl | E23: 2
A24: 11 | B24: Izplūdes caurules OD250 nostiprināšana ar laukakmeņu 100/150 bruģējumu cementa javā C20/25, XC2 klase | D24: kpl | E24: 1
A25: 12 | B25: Tilta noteku pieslēgumi (savienotājzmavaPP/Metāls OD200/DN200mm, PP caurule OD200 m, 2 gab. PP līkums OD200, 45°, betona atbalsts) montāža | D25: kpl | E25: 7
A26: 13 | B26: Kanalizācijas tīklu skalošana | D26: m | E26: 159
... A31: 18 | B31: Izbūvēto kanalizācijas cauruļvadu nodošana ekspluatācijā | D31: kpl | E31: 1
A32: 19 | B32: Lietus kanalizācijas sistēma K2.1 (materiāli)
A33: 20 | B33: PP lietus ūdens kanalizācijas cauruļvads OD200, ieguldes klase SN8 atbilstoši EN13476-3 vai ekvivalentam standartam | D33: m | E33: 112
A34: 21 | B34: PP lietus ūdens kanalizācijas cauruļvads OD250, ieguldes klase SN8 atbilstoši EN13476-3 vai ekvivalentam standartam | D34: m | E34: 47
A35: 22 | B35: Saliekamās polipropilēna (PP) skatakas DN/ID600 LVS EN13476-3 (vai ekvivalents standarts) ar uz betona slodzi kliedējoša atbalsta gredzena montēta stacionāra vāka zālāja segumā 12,5t ar betona pārklājumu. Akas dziļums 1,0 līdz 1,5m. | D35: kpl | E35: 2
A36: 23 | B36: Saliekamās polipropilēna (PP) skatakas DN/ID600 LVS EN13476-3 (vai ekvivalents standarts) ar uz betona slodzi kliedējoša atbalsta gredzena montēta stacionāra vāka zālāja segumā 12,5t ar betona pārklājumu. Akas dziļums 1,5 līdz 2,0m. | D36: kpl | E36: 4
A37: 24 | B37: Saliekamās polipropilēna (PP) skatakas DN/ID600 LVS EN13476-3 (vai ekvivalents standarts) ar uz polimēra slodzi kliedējoša atbalsta gredzena montētu vāku asfalta segumā 40t ar betona pārklājumu. Akas dziļums 2,5 līdz 3,0m. Ar nostādināšanas daļu 1,0 m | D37: kpl | E37: 1
A38: 25 | B38: Saliekamās polipropilēna (PP) skatakas DN/ID600 LVS EN13476-3 (vai ekvivalents standarts) ar uz betona slodzi kliedējoša atbalsta gredzena montēta stacionāra vāka zālāja segumā 12,5t ar betona pārklājumu. Akas dziļums 2,0 līdz 2,5m. | D38: kpl | E38: 1
A39: 26 | B39: Saliekamās polipropilēna (PP) skatakas DN/ID600 LVS EN13476-3 (vai ekvivalents standarts) ar uz betona slodzi kliedējoša atbalsta gredzena montēta stacionāra vāka zālāja segumā 12,5t ar betona pārklājumu. Akas dziļums 2,5 līdz 3,0m ar nostādinātāja daļu 1,0m. | D39: kpl | E39: 1
A40: 27 | B40: Saliekamās polipropilēna (PP) skatakas DN/ID600 LVS EN13476-3 (vai ekvivalents standarts) ar uz polimēra slodzi kliedējoša atbalsta gredzena montētu vāku asfalta segumā 40t ar betona pārklājumu. Akas dziļums 2,0 līdz 2,5m. | D40: kpl | E40: 1
A41: 28 | B41: Naftas produktu atdalītājs Q-10l/s, Klase I, saskaņā ar LVS EN858 (vai ekvivalents standarts). Monolīta dzelzbetona naftas produktu atdalītāja tvertne ar koalescento filtru, integrētu nosēduma tvertni, un iekšējo pārplūdes līniju. Naftas atdalītāja tvertne ir pārklāta ar iekšējo aizsargpārklājumu. Automātisks notekūdeņu izvada noslēgšanas pludiņš. Komplektā ar C250 slodzes klases lūku. Naftas produktu signalizātors ar bateriju. | D41: kpl | E41: 1
A42: 29 | B42: Aizsargčaula OD250 dz.betona akas sienā | D42: kpl | E42: 2
A43: 30 | B43: Tilta noteku pieslēgumi (savienotājzmavaPP/Metāls OD200/DN200mm, PP caurule OD200 m, 2 gab. PP līkums OD200, 45°, betona atbalsts) | D43: kpl | E43: 7
A44: 31 | B44: Palīgmateriāli cauruļvadu un aku montāžai | D44: kpl | E44: 1
... A47: 34 | B47: Smilšaina grunts ar filtrācijas koeficentu K>1,0m/dnn. | D47: m3 | E47: 239
A48: 35 | B48: Lietus kanalizācijas sistēma K2.2 (būvdarbu apjomi)
A49: 36 | B49: Trases nospraušana | D49: m | E49: 87
A50: 37 | B50: Tranšejas rakšana | D50: m3 | E50: 298
...

Sheet 4.GAT
A1: Darbu apjomu saraksts Nr.4
A2: Gāzesapgāde (ārējā)
A3: (Būvdarbu veids vai konstruktīvā elementa nosaukums)
A5: Objekta nosaukums: Satiksmes pārvada ar pievedceļiem izbūve Smiltenes un Kandavas ielu rajonā Daugavpilī
A6: Būves nosaukums: Gāzesapgāde (ārējā)
A7: Objekta adrese: Daugavpils, Esplanādes un Dzelzceļnieka apkaimes
A8: Pasūtījuma Nr.: DPD 2020/99
A10: Apjomi sastādīti, pamatojoties uz GAT daļas rasējumiem.
A12: Nr. p. k. | B12: Būvdarbu nosaukums | C12: Piezīmes | D12: Specifikācijas Nr. vai Rasējuma Nr. | E12: Mēr-vienība | F12: Daudzums | G12: Vienības cena (euro) | H12: Kopējā cena (euro)
A14: 1 | B14: Pievienošanās pie pazemes gāzes tvertnes | D14: GAT-1 ÷ 4 | E14: gb | F14: 1
A15: 2 | B15: Pazemes gāzes tvertne LVS EN14075 (vai ekvivalents standarts), V=2,7m3 | C15: "VPS" vai ekvivalents | D15: GAT-1 ÷ 4 | E15: gb | F15: 1
A16: 3 | B16: Spiediena regulators 16bar/36mbar, sav, prv, Q=24kg/st | C16: "GOK" vai ekvivalents | D16: GAT-1 ÷ 4 | E16: gb | F16: 1
A17: 4 | B17: Tvertnes ekspertīze | C17: SIA "Inspecta" vai ekvivalents | D17: GAT-1 ÷ 4 | E17: gb | F17: 1
A18: 5 | B18: Tērauda kompensators, uzmavas, Dn 20mm | C18: "Weba" vai ekvivalents | D18: GAT-1 ÷ 4 | E18: gb | F18: 1
A19: 6 | B19: Tērauda līkums 90° DN25, PE C30 izol., L=0,5 x 1,0m | C19: "Weba" vai ekvivalents | D19: GAT-1 ÷ 4 | E19: gb | F19: 1
A20: 7 | B20: Tērauda caurule ar PE C30 izol, LVS EN10204 vai ekvivalents | D20: GAT-1 ÷ 4 | E20: m | F20: 1
A21: 8 | B21: Caurules krāsošana, PF115 | C21: SIA "RILAK" vai ekvivalents | D21: GAT-1 ÷ 4 | E21: kg | F21: 0.2
A22: 9 | B22: Enkurbulta M16 x 150mm | C22: "Stipro" vai ekivalents | D22: GAT-1 ÷ 4 | E22: gb | F22: 4
A23: 10 | B23: Tvertnes pamats, dzelzsbetona plātne, TP2A vai monolīts betonējums | D23: GAT-1 ÷ 4 | E23: gb | F23: 2
A24: 11 | B24: Gāzes vada hermetikas un izturības testēšana (Pazemes, zsp, LBN 243-15) | D24: GAT-1 ÷ 4 | E24: m | F24: 300
A25: 12 | B25: Tvertnes sazemējuma kontūrs, tēr. Loksne 4x25mm | D25: GAT-1 ÷ 4 | E25: m | F25: 15
A26: 13 | B26: Metināto šuvju izolācija, grunts, folija, PE | C26: "Kebu" vai ekvivalents | D26: GAT-1 ÷ 4 | E26: kpl | F26: 2
A27: 14 | B27: Grīdinājuma lente "GĀZE" | D27: GAT-1 ÷ 4 | E27: m | F27: 3
A28: 15 | B28: Objekta nospraušana | D28: GAT-1 ÷ 4 | E28: gb | F28: 2
A29: 16 | B29: Smilts, fr.3-4mm | D29: GAT-1 ÷ 4 | E29: m3 | F29: 12
A30: 17 | B30: Tvertnes demontāža, V=5,0m3, pazemē | D30: GAT-1 ÷ 4 | E30: kpl | F30: 2
A31: 18 | B31: Nožogojuma demontāža, metāla siets, stabi | D31: GAT-1 ÷ 4 | E31: m | F31: 27
A32: 19 | B32: Būvgružu utilizācija (metāla un betona elementi) | D32: GAT-1 ÷ 4 | E32: m3 | F32: 0.3
A33: 20 | B33: Zemes darbu apjoms | D33: GAT-1 ÷ 4 | E33: m3 | F33: 18
A34: 21 | B34: Seguma atjaunošana ar augsnes un zāļu sēklu maisījumu esošajā stāvoklī | D34: GAT-1 ÷ 4 | E34: m2 | F34: 60
F35: Kopā | H35: =SUM(H14:H34) -> 0
F36: PVN (21%) | H36: =H35*0.21 -> 0
F37: Pavisam kopā | H37: =H35+H36 -> 0
A39: Sastādīja Mārtiņš Matvejs
B40: (paraksts un tā atšifrējums, datums)
A42: Pārbaudīja Jānis Bidzāns
B43: (paraksts un tā atšifrējums, datums)
A45: Sertifikāta Nr. 3-00780

Sheet 5.SAT
A1: Darbu apjomu saraksts Nr.5
A2: Siltumapgāde (ārējā)
A3: (Būvdarbu veids vai konstruktīvā elementa nosaukums)
A5: Objekta nosaukums: Satiksmes pārvada ar pievedceļiem izbūve Smiltenes un Kandavas ielu rajonā Daugavpilī
A6: Būves nosaukums: Siltumapgāde (ārējā)
A7: Objekta adrese: Daugavpils, Esplanādes un Dzelzceļnieka apkaimes
A8: Pasūtījuma Nr.: DPD 2020/99
A10: Apjomi sastādīti, pamatojoties uz SAT daļas rasējumiem.
A12: Nr. p. k. | B12: Būvdarbu nosaukums | C12: Specifikācijas Nr. vai Rasējuma Nr. | D12: Mēr-vienība | E12: Daudzums | F12: Vienības cena (euro) | G12: Kopējā cena (euro)
A14: 1 | B14: Materiālu specifikācija
A15: 2 | B15: Rūpnieciski izolēta caurule, Ø60/140 | C15: SAT-1 ÷ 7 | D15: m | E15: 194.5
A16: 3 | B16: Rūpnieciski izolēta caurule ar protektoriem, Ø60/140 | C16: SAT-1 ÷ 7 | D16: m | E16: 48
A17: 4 | B17: Termonosēdošā uzmava ar termonosēdošo manžeti, Ø60/140 | C17: SAT-1 ÷ 7 | D17: gb | E17: 44
A18: 5 | B18: Rūpnieciski izolēts servisa krāns no nerušējošā tērauda gaisa izlaidei ar vitņu korķiem, Ø60/140 Dn25 h=0.50m, M-2 | C18: SAT-1 ÷ 7 | D18: gb | E18: 2
A19: 6 | B19: Rūpnieciski izolēts līkums 90° 1.00x1.00m, Ø60/140 | C19: SAT-1 ÷ 7 | D19: gb | E19: 6
A20: 7 | B20: Rūpnieciski izolēts līkums 102° 1.00x1.00m, Ø60/140 | C20: SAT-1 ÷ 7 | D20: gb | E20: 2
A21: 8 | B21: Rūpnieciski izolēts līkums 104° 1.00x1.00m, Ø60/140 | C21: SAT-1 ÷ 7 | D21: gb | E21: 2
A22: 9 | B22: Terauda aizsargčaula, Dn250; l=19.5m | C22: SAT-1 ÷ 7 | D22: gb | E22: 2
A23: 10 | B23: Nerūsējoša tērauda skava Ø140 | C23: SAT-1 ÷ 7 | D23: gb | E23: 2
A24: 11 | B24: Nerūsējoša tērauda skava Ø273 | C24: SAT-1 ÷ 7 | D24: gb | E24: 2
A25: 12 | B25: Ģeotekstils | C25: SAT-1 ÷ 7 | D25: m2 | E25: 0.52
A26: 13 | B26: Elastīgais ievads, Ø60/140 | C26: SAT-1 ÷ 7 | D26: gb | E26: 8
... A35: 22 | B35: Šķembas, fr.0-40mm | C35: SAT-1 ÷ 7 | D35: m3 | E35: 0.15
A36: 23 | B36: Darbu apjomi
A37: 24 | B37: Rūpnieciski izolēto cauruļu noguldīšana un montāža tranšējā, Ø60/140 | C37: SAT-1 ÷ 7 | D37: m | E37: 194.5
A38: 25 | B38: Rūpnieciski izolēto cauruļu ar protektoriem noguldīšana un montāža tranšējā, Ø60/140 | C38: SAT-1 ÷ 7 | D38: m | E38: 48
A39: 26 | B39: Termonosēdošā uzmava ar termonosēdošo manžeti montāža, Ø60/140 | C39: SAT-1 ÷ 7 | D39: gb | E39: 44
A40: 27 | B40: Rūpnieciski izolēts servisa krāns no nerušējošā tērauda gaisa izlaidei ar vitņu korķiem montāža, Ø60/140 Dn25 h=0.50m, M-2 | C40: SAT-1 ÷ 7 | D40: gb | E40: 2
A41: 28 | B41: Rūpnieciski izolēta līkuma montāža, Ø60/140 | C41: SAT-1 ÷ 7 | D41: gb | E41: 10
A42: 29 | B42: Siltumtrases akas ierīkošana, M-2 | C42: SAT-1 ÷ 7 | D42: gb | E42: 1
A43: 30 | B43: Siltumtrases pieslēgums pie esosa tīkla | C43: SAT-1 ÷ 7 | D43: gb | E43: 4
A44: 31 | B44: Zemes darbi
A45: 32 | B45: Grunts izstrāde ar ekskavatoru | C45: SAT-1 ÷ 7 | D45: m3 | E45: 250
A46: 33 | B46: Grunts izstrāde bez mehānismiem | C46: SAT-1 ÷ 7 | D46: m3 | E46: 4
A47: 34 | B47: Pamatnes ierīkošana zem cauruļvadiem no smilts s=0.10m | C47: SAT-1 ÷ 7 | D47: m3 | E47: 21.5
A48: 35 | B48: Tranšeju aizbēršana ar smilti ar sekojošu blietēšanu pa kārtām 0.20m un planēšanu ar roku darbu | C48: SAT-1 ÷ 7 | D48: m3 | E48: 49
A49: 36 | B49: Tranšeju aizbēršana ar grunti ar buldozeru ar sekojošu blietēšanu pa kārtām ar elektroblieti. | C49: SAT-1 ÷ 7 | D49: m3 | E49: 183.5
A50: 37 | B50: Demontāžas darbi
A51: 38 | B51: Esoša siltumtrase T1/T2 demontaža, 2d57 | C51: SAT-1 ÷ 7 | D51: m | E51: 178
A52: 39 | B52: Esoša dz/b kanala demontaža, 600x450 | C52: SAT-1 ÷ 7 | D52: m | E52: 178
...

Sheet 6.ELT1 
A1: Darbu apjomu saraksts Nr.6
A2: Elektroapgāde (ārējā). Ielu apgaismojuma tīkli
A3: (Būvdarbu veids vai konstruktīvā elementa nosaukums)
A5: Objekta nosaukums: Satiksmes pārvada ar pievedceļiem izbūve Smiltenes un Kandavas ielu rajonā Daugavpilī
A6: Būves nosaukums: Elektroapgāde (ārējā). Ielu apgaismojuma tīkli
A7: Objekta adrese: Daugavpils, Esplanādes un Dzelzceļnieka apkaimes
A8: Pasūtījuma Nr.: DPD 2020/99
A10: Apjomi sastādīti, pamatojoties uz ELT1 daļas rasējumiem.
A12: Nr. p. k. | B12: Būvdarbu nosaukums | C12: Specifikācijas Nr. vai Rasējuma Nr. | D12: Mēr-vienība | E12: Daudzums | F12: Vienības cena (euro) | G12: Kopējā cena (euro)
A14: 1 | B14: Materiālu specifikācija
A15: 2 | B15: Apgaismojuma sadalnes | C15: ELT1-1 ÷ 7
A16: 3 | B16: Cilpu kaste CK-1:
A17: 4 | B17: Apgaismojuma sadalnes kompl. uzstādīšanai gruntī kpl. ar pamatni, slēdzeni, DIN, IP44 | D17: kpl. | E17: 1
A18: 5 | B18: Drošinātājslēdzis, 25A | C18: NH-00, 25A | D18: gb. | E18: 1
A19: 6 | B19: Automātslēdzis, 16A | C19: 1C, 16A | D19: gb. | E19: 3
A20: 7 | B20: Drošinātāju blokslēdzis, līstem NH-00 | D20: gb. | E20: 3
A21: 8 | B21: Zemēšanas kopne, R≤30Ω | D21: kpl. | E21: 1
A22: 9 | B22: Darba materiālu komplekts | D22: kpl. | E22: 1
A23: 10 | B23: Cilpu kaste CK-2:
A24: 11 | B24: Apgaismojuma sadalnes kompl. uzstādīšanai gruntī kpl. ar pamatni, slēdzeni, DIN, IP44 | D24: kpl. | E24: 1
A25: 12 | B25: Automātslēdzis, 16A | C25: 1C, 16A | D25: gb. | E25: 2
A26: 13 | B26: Drošinātājslēdzis, 25A | C26: NH-00, 25A | D26: gb. | E26: 1
A27: 14 | B27: Naži | C27: NH-00 | D27: gb. | E27: 2
A28: 15 | B28: Drošinātāju blokslēdzis, līstem NH-00 | D28: gb. | E28: 3
A29: 16 | B29: Zemēšanas kopne, R≤30Ω | D29: kpl. | E29: 1
A30: 17 | B30: Darba materiālu komplekts | D30: kpl. | E30: 1
A31: 18 | B31: Cilpu kaste CK-3:
A32: 19 | B32: Apgaismojuma sadalnes kompl. uzstādīšanai gruntī kpl. ar pamatni, slēdzeni, DIN, IP44 | D32: kpl. | E32: 1
A33: 20 | B33: Naži | C33: NH-00 | D33: gb. | E33: 1
A34: 21 | B34: Automātslēdzis, 16A | C34: 1C | D34: gb. | E34: 2
A35: 22 | B35: Drošinātājslēdzis, 16A | C35: NH-00 | D35: gb. | E35: 1
A36: 23 | B36: Drošinātāju blokslēdzis, līstem NH-00 | D36: gb. | E36: 3
A37: 24 | B37: Zemēšanas kopne, R≤30Ω | D37: kpl. | E37: 1
A38: 25 | B38: Darba materiālu komplekts | D38: kpl. | E38: 1
A39: 26 | B39: Apgaismojuma sadalne Nr.1:
A40: 27 | B40: Apgaismojuma sadalnes kompl. uzstādīšanai gruntī kpl. ar pamatni, slēdzeni, IP44 | D40: kpl. | E40: 1
A41: 28 | B41: Drošinātājslēdzis | D41: kpl. | E41: 1
A42: 29 | B42: Drošinātājslēdzis, naži | D42: kpl. | E42: 1
A43: 30 | B43: Zemēšanas kopne, R≤30Ω | D43: kpl. | E43: 1
A44: 31 | B44: Darba materiālu komplekts | D44: kpl. | E44: 1
...

Sheet 7.ELT2
A1: Darbu apjomu saraksts Nr.7
A2: Elektroapgāde (ārējā). VAS "Latvijas dzelzsceļš" apgaismojuma tīkli
A3: (Būvdarbu veids vai konstruktīvā elementa nosaukums)
A5: Objekta nosaukums: Satiksmes pārvada ar pievedceļiem izbūve Smiltenes un Kandavas ielu rajonā Daugavpilī
A6: Būves nosaukums: Elektroapgāde (ārējā). VAS "Latvijas dzelzsceļš" apgaismojuma tīkli
A7: Objekta adrese: Daugavpils, Esplanādes un Dzelzceļnieka apkaimes
A8: Pasūtījuma Nr.: DPD 2020/99
A10: Apjomi sastādīti, pamatojoties uz ELT2 daļas rasējumiem.
A12: Nr. p. k. | B12: Būvdarbu nosaukums | C12: Specifikācijas Nr. vai Rasējuma Nr. | D12: Mēr-vienība | E12: Daudzums | F12: Vienības cena (euro) | G12: Kopējā cena (euro)
A14: 1 | B14: Materiālu specifikācija
A15: 2 | B15: El. kabelis AXPK-4x70 | C15: ELT2-1 ÷ 6 | D15: m | E15: 56
A16: 3 | B16: El. kabelis AXPK-4x50 | C16: ELT2-1 ÷ 6 | D16: m | E16: 62
A17: 4 | B17: El. kabelis AXPK-4x25 | C17: ELT2-1 ÷ 6 | D17: m | E17: 173
A18: 5 | B18: El. kabelis NYY-J-3x1,5 | C18: ELT2-1 ÷ 6 | D18: m | E18: 84
A19: 6 | B19: Gala apdare EPKT-0031 | C19: ELT2-1 ÷ 6 | D19: kpl | E19: 3
A20: 7 | B20: Gala apdare EPKT-0015 | C20: ELT2-1 ÷ 6 | D20: kpl | E20: 11
A21: 8 | B21: Nozarošanas spaiļu komplekts SV15 | C21: ELT2-1 ÷ 6 | D21: kpl | E21: 5
A22: 9 | B22: Automātslēdzis, C6A, 230V, 6KA | C22: ELT2-1 ÷ 6 | D22: gb | E22: 12
A23: 10 | B23: Cinkots metāla balsts, (H=6.5m), Apgaismes T-veida konsole, (H=0.85m, L=1.0m), LED gaismekļa uzstādīšanas augstums 6.5m | C23: ELT2-1 ÷ 6 | D23: kpl | E23: 2
A24: 11 | B24: Cinkots metāla balsts, (H=8.5m), Apgaismes T-veida konsole, (H=0.85m, L=1.0m), LED gaismekļa uzstādīšanas augstums 8.5m | C24: ELT2-1 ÷ 6 | D24: kpl | E24: 3
A25: 12 | B25: Gumijas blīve kronšteinam (termocaurule) | C25: ELT2-1 ÷ 6 | D25: gb | E25: 5
A26: 13 | B26: Apgaismes T-veida konsole, (H=0.85m, L=1.0m) - esošam betona balstam | C26: ELT2-1 ÷ 6 | D26: kpl | E26: 1
... A59: 46 | B59: Montāžas palīgmateriāli | C59: ELT2-1 ÷ 6 | D59: kpl | E59: 1
A60: 47 | B60: Darbu daudzumi
A61: 48 | B61: Tranšeja - bedre kabeļa vai citu apakšzemes komunikāciju apsekošanai (šurfēšana) | C61: ELT2-1 ÷ 6 | D61: gb | E61: 9
A62: 49 | B62: Bedres rakšana un aizbēršana apgaismojuma balstam, uzmavai | C62: ELT2-1 ÷ 6 | D62: gb | E62: 7
A63: 50 | B63: Tranšejas rakšana un aizbēršana ar blietēšanu 1-2 kabelim (1-2 caurulei) | C63: ELT2-1 ÷ 6 | D63: m | E63: 80
A64: 51 | B64: Tranšejas rakšana un aizbēršana ar blietēšanu 3-4 kabelim (3-4 caurulei) | C64: ELT2-1 ÷ 6 | D64: m | E64: 47
A65: 52 | B65: Plastmasas caurules guldīšana gatavā tranšejā | C65: ELT2-1 ÷ 6 | D65: m | E65: 229
A66: 53 | B66: Kabeļa brīdinājuma lentas ieklāšana | C66: ELT2-1 ÷ 6 | D66: m | E66: 229
A67: 54 | B67: ZS kabeļa līdz 35 mm2 ievēršana proj. caurulē | C67: ELT2-1 ÷ 6 | D67: m | E67: 134
A68: 55 | B68: ZS kabeļa no 50 līdz 150 mm2 ievēršana proj. caurulē | C68: ELT2-1 ÷ 6 | D68: m | E68: 95
A69: 56 | B69: ZS kabeļa līdz 35 mm2 ievēršana stabā | C69: ELT2-1 ÷ 6 | D69: m | E69: 39
A70: 57 | B70: ZS kabeļano 50 līdz 150 mm2 ievēršana stabā, el. sadale | C70: ELT2-1 ÷ 6 | D70: m | E70: 23
A71: 58 | B71: ZS kabeļa (visu šķērsgriezumu) montāža pa betona balstu | C71: ELT2-1 ÷ 6 | D71: kabelis | E71: 4
A72: 59 | B72: ZS sausā kabeļa līdz 35 mm2 gala apdare | C72: ELT2-1 ÷ 6 | D72: gb | E72: 11
... A99: 86 | B99: Objekta sagatavošana nodošanai-pieņemšanai ekspluatācijā | C99: ELT2-1 ÷ 6 | D99: objekts | E99: 1
A100: 87 | B100: Demontāžas darbi
A101: 88 | B101: Gaismekļa demontāža | C101: ELT2-1 ÷ 6 | D101: kpl | E101: 4
A102: 89 | B102: Apg. betona balsta demontāža | C102: ELT2-1 ÷ 6 | D102: kpl | E102: 3
...

Sheet 8.ELT3
A1: Darbu apjomu saraksts Nr.8
A2: Elektroapgāde (ārējā). Lietotāja tīklu daļa
A3: (Būvdarbu veids vai konstruktīvā elementa nosaukums)
A5: Objekta nosaukums: Satiksmes pārvada ar pievedceļiem izbūve Smiltenes un Kandavas ielu rajonā Daugavpilī
A6: Būves nosaukums: Elektroapgāde (ārējā). Lietotāja tīklu daļa
A7: Objekta adrese: Daugavpils, Esplanādes un Dzelzceļnieka apkaimes
A8: Pasūtījuma Nr.: DPD 2020/99
A10: Apjomi sastādīti, pamatojoties uz ELT3 daļas rasējumiem.
A12: Nr. p. k. | B12: Būvdarbu nosaukums | C12: Piezīmes | D12: Specifikācijas Nr. vai Rasējuma Nr. | E12: Mēr-vienība | F12: Daudzums | G12: Vienības cena (euro) | H12: Kopējā cena (euro)
A14: 1 | B14: Luksoforobjekts Nr.1. Kandavas, Viestura, Sporta ielu krustojums
A15: 2 | B15: Iekārtas un materiāli
A16: 3 | B16: Zemējuma komplekts sadalnei | D16: ELT3-2-1 | E16: kpl | F16: 1
A17: 4 | B17: Kabelis NYY 5x1,5 | D17: ELT3-2-1 | E17: m | F17: 30
A18: 5 | B18: Kabelis NYY 7x1,5 | D18: ELT3-2-1 | E18: m | F18: 22
A19: 6 | B19: Kabelis NYY 12x1,5 | D19: ELT3-2-1 | E19: m | F19: 106
A20: 7 | B20: Kabelis NYY 19x1,5 | D20: ELT3-2-1 | E20: m | F20: 167
A21: 8 | B21: Kabelis NYY 30x1,5 | D21: ELT3-2-1 | E21: m | F21: 35
A22: 9 | B22: Kabelis Cu, 3x6mm | D22: ELT3-2-1 | E22: m | F22: 12
A23: 10 | B23: Kabelis CAT5 4x2x0.57mm2 Outdoor | D23: ELT3-2-1 | E23: m | F23: 242
A24: 11 | B24: Plastikāta aizsargcaurule D=50mm, 450N | C24: FLEX vai ekvivalents | D24: ELT3-2-1 | E24: m | F24: 12
A25: 12 | B25: Plastikāta aizsargcaurule D=50mm | C25: FLEX UV vai ekvivalents | D25: ELT3-2-1 | E25: m | F25: 20
A26: 13 | B26: Plastikāta aizsargcaurule D=75mm, 450N | C26: FLEX vai ekvivalents | D26: ELT3-2-1 | E26: m | F26: 80
A27: 14 | B27: Plastikāta aizsargcaurule D=110mm, 450N | C27: FLEX vai ekvivalents | D27: ELT3-2-1 | E27: m | F27: 4
A28: 15 | B28: Plastikāta aizsargcaurule D=110mm, 750N | C28: HARD vai ekvivalents | D28: ELT3-2-1 | E28: m | F28: 278
A29: 16 | B29: Kabeļa brīdinājuma lenta L125 | D29: ELT3-2-1 | E29: m | F29: 394
A30: 17 | B30: Smiltis | D30: ELT3-2-1 | E30: m3 | F30: 16
A31: 18 | B31: Plastmasas aka PEH 800x1200 ar pamatni | D31: ELT3-2-1 | E31: gb | F31: 7
A32: 19 | B32: Akas lūka (slodze līdz 12,5 t), peldošā | D32: ELT3-2-1 | E32: gb | F32: 7
A33: 20 | B33: Dzelzbetona riņķis | D33: ELT3-2-1 | E33: gb | F33: 7
A34: 21 | B34: Atloks | D34: ELT3-2-1 | E34: gb | F34: 21
A35: 22 | B35: Hermetiķis (vienai akai) | D35: ELT3-2-1 | E35: gb | F35: 7
A36: 23 | B36: Šķembas | D36: ELT3-2-1 | E36: m3 | F36: 1.2
A37: 24 | B37: Darbu apjomi
A38: 25 | B38: Esošo komunikāciju atšurfēšana | D38: ELT3-2-1 | E38: gb | F38: 37
A39: 26 | B39: Vertikālā zemētāja dziļumā līdz 5 m montāža | D39: ELT3-2-1 | E39: gb | F39: 1
A40: 27 | B40: Plastikas cauruļu noguldīšana tranšejā | D40: ELT3-2-1 | E40: m | F40: 384
A41: 28 | B41: Plastikas cauruļu noguldīšana betona pamatā | D41: ELT3-2-1 | E41: m | F41: 4
A42: 29 | B42: Plastikas cauruļu nostiprināšana pa kopnēm | D42: ELT3-2-1 | E42: m | F42: 6
A43: 30 | B43: ZS kabeļa ievēršana caurulē | D43: ELT3-2-1 | E43: m | F43: 614
A44: 31 | B44: Kabeļu akas PEH uzstādīšana | D44: ELT3-2-1 | E44: gb | F44: 7
...

Sheet 9.EST
A1: Darbu apjomu saraksts Nr.9
A2: Elektronisko sakaru sistēmas (ārējās)
A3: (Būvdarbu veids vai konstruktīvā elementa nosaukums)
A5: Objekta nosaukums: Satiksmes pārvada ar pievedceļiem izbūve Smiltenes un Kandavas ielu rajonā Daugavpilī
A6: Būves nosaukums: Elektronisko sakaru sistēmas (ārējās)
A7: Objekta adrese: Daugavpils, Esplanādes un Dzelzceļnieka apkaimes
A8: Pasūtījuma Nr.: DPD 2020/99
A10: Apjomi sastādīti, pamatojoties uz EST daļas rasējumiem.
A12: Nr. p. k. | B12: Būvdarbu nosaukums | C12: Piezīmes | D12: Specifikācijas Nr. vai Rasējuma Nr. | E12: Mēr-vienība | F12: Daudzums | G12: Vienības cena (euro) | H12: Kopējā cena (euro)
A14: 1 | B14: SIA "Tet" EST būvniecības darbi
A15: 2 | B15: Tranšejas rakšana un aizbēršana, platums 0.5m | D15: EST-01 ÷ 08 | E15: m | F15: 51.3
A16: 3 | B16: Tranšejas rakšana un aizbēršana, platums 0.5m, ar rokām | D16: EST-01 ÷ 08 | E16: m | F16: 12.8
A17: 4 | B17: Kabeļu kanalizācijas cauruļu ieguldīšana tranšejā | D17: EST-01 ÷ 08 | E17: m | F17: 64.1
A18: 5 | B18: Esošā kabeļa gruntī aizsargāšana ar šķeltām caurulēm | D18: EST-01 ÷ 08 | E18: m | F18: 65.7
A19: 6 | B19: Brīdinājuma lentas ieguldīšana | D19: EST-01 ÷ 08 | E19: m | F19: 64.1
A20: 7 | B20: Buksiera ievilkšana kabeļu kanalizācijā | D20: EST-01 ÷ 08 | E20: m | F20: 64.1
A21: 8 | B21: Kabeļu akas PEH 800x650mm uzstādīšana uz esošā kabeļa | D21: EST-01 ÷ 08 | E21: gab. | F21: 2
A22: 9 | B22: Esošās kabeļu kanalizācijas akas vaka nomaiņa un līmeņošana | D22: EST-01 ÷ 08 | E22: gab. | F22: 6
A23: 10 | B23: Dokumentācija, atzinumi | D23: EST-01 ÷ 08 | E23: gab. | F23: 1
A24: 11 | B24: Būvniecības atkritumu utilizācija | D24: EST-01 ÷ 08 | E24: m3 | F24: 2
A25: 12 | B25: Transporta organizēšanas plāna izstrādāšana un realizēšana | D25: EST-01 ÷ 08 | E25: gab | F25: 1
A26: 13 | B26: Dokumentācija, atzinumi, rakšanas atļaujas saņemšana un noslēgšana | D26: EST-01 ÷ 08 | E26: gab. | F26: 1
... A42: 29 | B42: Transporta izdevumi | D42: EST-01 ÷ 08 | E42: gab. | F42: 1
A43: 30 | B43: VAS "Latvijas radio un televīzijas centrs" EST būvniecības darbi
A44: 31 | B44: Tranšejas rakšana un aizbēršana, platums 0.5m | D44: EST-01 ÷ 08 | E44: m | F44: 77.7
A45: 32 | B45: Tranšejas rakšana un aizbēršana, platums 0.5m, ar rokām | D45: EST-01 ÷ 08 | E45: m | F45: 19.4
A46: 33 | B46: Kabeļu kanalizācijas cauruļu ieguldīšana tranšejā | D46: EST-01 ÷ 08 | E46: m | F46: 291.3
A47: 34 | B47: Brīdinājuma lentas ieguldīšana | D47: EST-01 ÷ 08 | E47: m | F47: 97.1
A48: 35 | B48: Kabeļu akas PEH 800x650mm uzstādīšana uz esošām caurulēm | D48: EST-01 ÷ 08 | E48: gab. | F48: 2
A49: 36 | B49: Kabeļu iepūšana kabeļu kanalizācijā | D49: EST-01 ÷ 08 | E49: m | F49: 3870
A50: 37 | B50: 2 optisko kabeļu iestrāde esošā uzmavā | D50: EST-01 ÷ 08 | E50: gab. | F50: 4
A51: 38 | B51: Optiskā kabeļa šķiedru metināšana, montāžas kvalitātes kontrole pēc montāžas pabeigšanas (jaunieguldīts kabelis) | D51: EST-01 ÷ 08 | E51: metinājums | F51: 384
A52: 39 | B52: Pieņemšanas testēšana un mērījumi | D52: EST-01 ÷ 08 | E52: šķiedra | F52: 192
A53: 40 | B53: Esoša kabeļa izpūšana no esošās kabeļu kanalizācijas | D53: EST-01 ÷ 08 | E53: m | F53: 760
A54: 41 | B54: Esošās kabeļu kanalizācijas demontāža | D54: EST-01 ÷ 08 | E54: m | F54: 138.9
A55: 42 | B55: Esošās kabeļu kanalizācijas akas demontāža | D55: EST-01 ÷ 08 | E55: gab. | F55: 1
... A73: 60 | B73: Transporta izdevumi | D73: EST-01 ÷ 08 | E73: gab. | F73: 1
A74: 61 | B74: SIA "Baltcom" EST būvniecības darbi
A75: 62 | B75: Tranšejas rakšana un aizbēršana, platums 0.5m | D75: EST-01 ÷ 08 | E75: m | F75: 31.7
A76: 63 | B76: Tranšejas rakšana un aizbēršana, platums 0.5m, ar rokām | D76: EST-01 ÷ 08 | E76: m | F76: 7.9
...

Sheet 10.SCB
A1: Darbu apjomu saraksts Nr.10
A2: Dzelzceļa signalizācijas sistēmas un vilcienu kustības vadības sistēmas tīkli
A3: (Būvdarbu veids vai konstruktīvā elementa nosaukums)
A5: Objekta nosaukums: Satiksmes pārvada ar pievedceļiem izbūve Smiltenes un Kandavas ielu rajonā Daugavpilī
A6: Būves nosaukums: Dzelzceļa signalizācijas sistēmas un vilcienu kustības vadības sistēmas tīkli
A7: Objekta adrese: Daugavpils, Esplanādes un Dzelzceļnieka apkaimes
A8: Pasūtījuma Nr.: DPD 2020/99
A10: Apjomi sastādīti, pamatojoties uz SCB daļas rasējumiem.
A12: Nr. p. k. | B12: Būvdarbu nosaukums | C12: Specifikācijas Nr. vai Rasējuma Nr. | D12: Mēr-vienība | E12: Daudzums | F12: Vienības cena (euro) | G12: Kopējā cena (euro)
A14: 1 | B14: Materiālu specifikācija
A15: 2 | B15: Signālu kabelis SBZPU 3x2x0.9 | C15: SCB-01 ÷ 04 | D15: m | E15: 120
A16: 3 | B16: Signālu kabelis SBZPU 7x2x0.9 | C16: SCB-01 ÷ 04 | D16: m | E16: 30
A17: 4 | B17: Signālu kabelis SBZPU 10x2x0.9 | C17: SCB-01 ÷ 04 | D17: m | E17: 40
A18: 5 | B18: Kabeļu kanalizācijas caurule d110, 1250N | C18: SCB-01 ÷ 04 | D18: m | E18: 18
A19: 6 | B19: Rezerves kanalizācijas caurule d110, 1250N | C19: SCB-01 ÷ 04 | D19: m | E19: 18
A20: 7 | B20: Gofrēta caurule d110 | C20: SCB-01 ÷ 04 | D20: m | E20: 60
A21: 8 | B21: Rezerves gofrēta caurule d110 | C21: SCB-01 ÷ 04 | D21: m | E21: 60
A22: 9 | B22: Uzmava Nitto vai ekvivalents | C22: SCB-01 ÷ 04 | D22: gb | E22: 4
A23: 10 | B23: Brīdinājuma lenta 500mm x 500m | C23: SCB-01 ÷ 04 | D23: rullis | E23: 0.1
A24: 11 | B24: Savienojuma konektori | C24: SCB-01 ÷ 04 | D24: gb | E24: 100
A25: 12 | B25: Lodveida marķieris | C25: SCB-01 ÷ 04 | D25: gb | E25: 2
A26: 13 | B26: Celtniecības darbi
A27: 14 | B27: Tranšeju rakšana un aizbēršana starp sliežu ceļiem (60m) | C27: SCB-01 ÷ 04 | D27: m3 | E27: 23
A28: 15 | B28: Tranšeju rakšana un aizbēršana zem sliežu ceļiem (18m), atvērta veida, tikai tehnoloģiskajos "logos" | C28: SCB-01 ÷ 04 | D28: m3 | E28: 11
A29: 16 | B29: Montāžas darbi
A30: 17 | B30: Gofrētas caurules ielikšana d110 | C30: SCB-01 ÷ 04 | D30: m | E30: 120
A31: 18 | B31: Kabeļu kanalizācijas caurules d110, 1250N ielikšana | C31: SCB-01 ÷ 04 | D31: m | E31: 36
A32: 19 | B32: Kabeļu ielikšana caurulēs | C32: SCB-01 ÷ 04 | D32: m | E32: 190
A33: 20 | B33: Kabeļu apdare | C33: SCB-01 ÷ 04 | D33: gb | E33: 20
A34: 21 | B34: Kabeļu uzmavu montāža | C34: SCB-01 ÷ 04 | D34: gb | E34: 4
A35: 22 | B35: Kabeļu pārslēgšana | C35: SCB-01 ÷ 04 | D35: kpl | E35: 1
A36: 23 | B36: EC ierīču pārbaude | C36: SCB-01 ÷ 04 | D36: kpl | E36: 1
A37: 24 | B37: Izpilddokumentācijas noformēšana un parakstīšana | C37: SCB-01 ÷ 04 | D37: kpl | E37: 1
A38: 25 | B38: Maršrutu rādītāja R6-7 pārcelšana, t.sk. demontāžas darbi, montāžas darbi, ierīces pārbaude, izpilddokumentācijas noformēšana, būvdarbus veicot tehnoloģiskajā "logā" | C38: SCB-01 ÷ 04 | D38: kpl | E38: 1
E39: Kopā | G39: =SUM(G16:G38) -> 0
E40: PVN (21%) | G40: =G39*0.21 -> 0
E41: Pavisam kopā | G41: =G39+G40 -> 0
A43: Sastādīja Mārtiņš Matvejs
B44: (paraksts un tā atšifrējums, datums)
A46: Pārbaudīja Jānis Bidzāns
...

Sheet 11.BK PĀRVADS
A1: Darbu apjomu saraksts Nr.11
A2: Būvkonstrukcijas. Satiksmes pārvads
A3: (Būvdarbu veids vai konstruktīvā elementa nosaukums)
A5: Objekta nosaukums: Satiksmes pārvada ar pievedceļiem izbūve Smiltenes un Kandavas ielu rajonā Daugavpilī
A6: Būves nosaukums: Būvkonstrukcijas. Satiksmes pārvads
A7: Objekta adrese: Daugavpils, Esplanādes un Dzelzceļnieka apkaimes
A8: Pasūtījuma Nr.: DPD 2020/99
A10: Apjomi sastādīti, pamatojoties uz BK daļas rasējumiem.
A12: Nr. p. k. | B12: Būvdarbu nosaukums | C12: Specifikācijas Nr. vai Rasējuma Nr. | D12: Mēr-vienība | E12: Daudzums | F12: Vienības cena (euro) | G12: Kopējā cena (euro)
A14: 1. | B14: Estakāde Nr.1 (laidums L1, balsti Nr.1÷6)
A15: 1.1. | B15: Sagatavošanas darbi
A16: 1.1.1. | B16: Mobilizācija | C16: S1.6.1. | D16: kpl | E16: 1
A17: 1.1.2. | B17: Satiksmes nodrošināšana būvdarbu laikā | C17: S1.1 | D17: kpl | E17: 1
A18: 1.1.3. | B18: Estakādes Nr.1 balstu Nr.1÷6 un laiduma L1 nospraušanas darbi | C18: S1.5 | D18: kpl | E18: 1
A19: 1.1.4. | B19: Projektēšanas darbi | C19: S1.6.2. | D19: kpl | E19: 1
A20: 1.2. | B20: Zemes darbi | D20: N/A
A21: 1.2.1. | B21: Būvbedru rakšana pārvada balstu Nr.2÷6 pamatiem | C21: S2.1 | D21: m3 | E21: =756.77*5 -> 3783.85
A22: 1.2.2. | B22: Sausas būvbedres nodrošināšana balstiem Nr.2÷6 | C22: S2.8.3. | D22: kpl | E22: 1
A23: 1.2.3. | B23: Pārvada balstu Nr.1÷6 būvbedru aizbēršana | C23: S2.5.1. | D23: m3 | E23: =583.28*5+1200 -> 4116.4
A24: 1.2.4. | B24: Dolomīta šķembas fr.0/32 pārējas plātnes P-1 atbalstam | C24: S2.5.2. | D24: m3 | E24: 8.4
A25: 1.3. | B25: Konstrukcijas gruntī (pāļi u.c.) | D25: N/A
A26: 1.3.1. | B26: Balstu Nr.1÷6 urbpāļu d=1,30m ierīkošana | C26: S3.1.2. | D26: m | E26: =95+210+210+182+182+182 -> 1061
A27: 1.3.2. | B27: Viena urbpāļa slogošana uz balsta Nr.4, ieskaitot urbpāļu d=1,30m garumā līdz att.balsta pāļa pēdas atzīmei pēc projekta izbūvi | C27: S3.1.1.3. | D27: kpl | E27: 1
A28: 1.4. | B28: Betona darbi | C28: S4 | D28: N/A
A29: 1.4.1. | B29: Turas, pagaidu nostiprinājumi un nosedzošās konstrukcijas laidumam L1 | C29: S4.1 | D29: kpl | E29: 1
A30: 1.4.2. | B30: Veidņi laiduma L1 konstrukcijām | C30: S4.3 | D30: m2 | E30: 4345.93
A31: 1.4.3. | B31: Veidņi starpbalstu Nr.2÷6 režģoga plātnēm | C31: S4.3 | D31: m2 | E31: =90.64+90.64+90.64+90.64+90.64 -> 453.2
A32: 1.4.4. | B32: Veidņi balstu Nr.1÷6 ķermeņiem | C32: S4.3 | D32: m2 | E32: =266.5+147.73+180.56+231.86+250.98+232.52 -> 1310.15
A33: 1.4.5. | B33: Paliekošie veidņi pārejas plātnei P-1 ar atbalstu | C33: S4.3 | D33: m2 | E33: 9.38
A34: 1.4.6. | B34: Veidņi pārejas plātnei P-1 ar atbalstu | C34: S4.3 | D34: m2 | E34: 24.16
A35: 1.4.7. | B35: Stiegrojums | C35: S4.4 | D35: N/A
A36: 1.4.8. | B36: Rievots tērauda nespriegotais stiegrojums | C36: S4.4.1. | D36: N/A
A37: 1.4.9. | B37: Laiduma L1 konstrukcija | C37: S4.4.1. | D37: t | E37: =384.0148+6.5279+7.5978 -> 398.1405
A38: 1.4.10. | B38: Balstu Nr.1÷6 urbpāļi | C38: S3.1.2.3.2.,S4.4.1. | D38: t | E38: =13.01+21.36+21.36+32.95+19.01+32.95 -> 140.64
A39: 1.4.11. | B39: Starpbalstu Nr.2÷6 režģoga plātnes | C39: S4.4.1. | D39: t | E39: =28.96579+28.96579+30.79266+28.96579+29.07933 -> 146.76936
A40: 1.4.12. | B40: Balstu Nr.1÷6 ķermeņi | C40: S4.4.1. | D40: t | E40: =11.2067+11.2715+7.5149+7.4145+9.1306+9.00149+6.1948+6.11657+5.5735+5.5435+13.3513 -> 92.31936
A41: 1.4.13. | B41: Pārējas plātne P-1 ar atbalstu | C41: S4.4.1. | D41: t | E41: 15.0831
A42: 1.4.14. | B42: Spriegotais stiegrojums | C42: S4.4.2. | D42: N/A
A43: 1.4.15. | B43: Spriegojošie kūļi 19K15 laidumam L1 | C43: S4.4.2. | D43: t | E43: 71.435
A44: 1.4.16. | B44: Spriegotais stiegrojums: kūļu kanāli d=105mm, ieskaitot injicēšanas javu | C44: S4.4.2., S4.4.2.1. | D44: m | E44: 2770.5582
...

Sheet 12.BK KAMERAS
A1: Darbu apjomu saraksts Nr.12
A2: Būvkonstrukcijas. Dzelzsbetona kameras
A3: (Būvdarbu veids vai konstruktīvā elementa nosaukums)
A5: Objekta nosaukums: Satiksmes pārvada ar pievedceļiem izbūve Smiltenes un Kandavas ielu rajonā Daugavpilī
A6: Būves nosaukums: Būvkonstrukcijas. Dzelzsbetona kameras
A7: Objekta adrese: Daugavpils, Esplanādes un Dzelzceļnieka apkaimes
A8: Pasūtījuma Nr.: DPD 2020/99
A10: Apjomi sastādīti, pamatojoties uz BK2 daļas rasējumiem.
A12: Nr. p. k. | B12: Būvdarbu nosaukums | C12: Specifikācijas Nr. vai Rasējuma Nr. | D12: Mēr-vienība | E12: Daudzums | F12: Vienības cena (euro) | G12: Kopējā cena (euro)
A14: 1 | B14: Kamera U1-3
A15: 2 | B15: Zemes darbi
A16: 3 | B16: Šķembu piegāde un ieklāšana (zem kameras konstrukcijas) | C16: BK2-1, BK2-4 | D16: m3 | E16: 3.7
A17: 4 | B17: Betona darbi
A18: 5 | B18: Veidņu uzstādīšana kamerai | C18: BK2-1, BK2-4 | D18: m2 | E18: 46.36
A19: 6 | B19: Veidņu uzstādīšana izlīdzinošajam slānim | C19: BK2-1, BK2-4 | D19: m2 | E19: 1.51
A20: 7 | B20: Betons
A21: 8 | B21: Betons kameras konstrukcijai C35/45 | C21: BK2-1, BK2-4 | D21: m3 | E21: 13.6
A22: 9 | B22: Betona piegāde un izstrāde teknei C20/25 | C22: BK2-1, BK2-4 | D22: m3 | E22: 0.93
A23: 10 | B23: Betona piegāde un izstrāde izlīdzinošajam slānim | C23: BK2-1, BK2-4 | D23: m3 | E23: 1.4
A24: 11 | B24: Stiegrojuma izgatavošana un uzstādīšana
A25: 12 | B25: Stiegrojuma izgatavošana un uzstādīšana kameras konstrukcijai | C25: BK2-1, BK2-4 | D25: t | E25: 5.083
A26: 13 | B26: Betona virsmas apstrāde
A27: 14 | B27: Kameras virsmas apstrāde ar smilšu strūklu | C27: BK2-1, BK2-4 | D27: m2 | E27: 64.6
A28: 15 | B28: Bitumena mastika 2 kārtas (ar grunti saskarošas betona virsmas izolācija)kamerai | C28: BK2-1, BK2-4 | D28: m2 | E28: 64.6
A29: 16 | B29: Kamera U1-4
A30: 17 | B30: Zemes darbi
A31: 18 | B31: Šķembu piegāde un ieklāšana (zem kameras konstrukcijas) | C31: BK2-1, BK2-3 | D31: m3 | E31: 3.2
A32: 19 | B32: Betona darbi
A33: 20 | B33: Veidņu uzstādīšana kamerai | C33: BK2-1, BK2-3 | D33: m2 | E33: 38.316
A34: 21 | B34: Veidņu uzstādīšana izlīdzinošajam slānim | C34: BK2-1, BK2-3 | D34: m2 | E34: 1.36
A35: 22 | B35: Betons
A36: 23 | B36: Betons kameras konstrukcijai C35/45 | C36: BK2-1, BK2-3 | D36: m3 | E36: 13.7
A37: 24 | B37: Betona piegāde un izstrāde teknei C20/25 | C37: BK2-1, BK2-3 | D37: m3 | E37: 0.94
A38: 25 | B38: Betona piegāde un izstrāde izlīdzinošajam slānim | C38: BK2-1, BK2-3 | D38: m3 | E38: 1.13
A39: 26 | B39: Stiegrojuma izgatavošana un uzstādīšana
A40: 27 | B40: Stiegrojuma izgatavošana un uzstādīšana kameras konstrukcijai | C40: BK2-1, BK2-3 | D40: t | E40: 4.328
A41: 28 | B41: Betona virsmas apstrāde
A42: 29 | B42: Kameras virsmas apstrāde ar smilšu strūklu | C42: BK2-1, BK2-3 | D42: m2 | E42: 50.6
A43: 30 | B43: Bitumena mastika 2 kārtas (ar grunti saskarošas betona virsmas izolācija)kamerai | C43: BK2-1, BK2-3 | D43: m2 | E43: 50.6
A44: 31 | B44: Kamera U1-5
...
