Workbook
Name A: '[1]2'!$A$1
Name P: #REF!
Name P: #REF!
Name P: #REF!
Name P: #REF!
Name P: #REF!
Name P: #REF!
Name P: #REF!
Name P: #REF!
Name P: #REF!
Name P: #REF!
Name P: #REF!
Name P: #REF!
Name P: #REF!
Name P: #REF!
Name P: #REF!
Name P: #REF!
Name P: #REF!
Name P: #REF!
Name P: #REF!

Sheet Koptame
B2: Būvniecības koptāme
B4: Būves nosaukums: | C4: Āra lifts
B5: Objekta nosaukums: | C5: Āra lifta izbūve Ādažu vidusskolai
B6: Objekta adrese: | C6: Gaujas iela 30, Ādaži, Ādažu novads, LV-2164
B9: Tāme sastādīta 2026.gada tirgus cenās, pamatojoties uz būvprojekta rasējumiem un darbu apjomiem
B10: Kopsav.tāmes Nr | C10: Objekta nosaukums | D10: Objekta izmaksas (euro)
B13: 1 | C13: Vispārējie būvdarbi
B14: 2 | C14: Specializētie darbi-iekšējie tīkli, sistēmas
B15: 3 | C15: Specializētie darbi-ārējie tīkli, sistēmas
B16: 4 | C16: Teritorijas labiekārtošana
C17: Kopā ( bez PVN)
C18: PVN 21 %
C19: Kopā

Sheet kops1
A2: Kopsavilkuma aprēķins Nr. 1
A6: =Koptame!C13 -> Vispārējie būvdarbi
A8: Būves nosaukums: | C8: =Koptame!C4 -> Āra lifts
A9: Objekta nosaukums: | C9: =Koptame!C5 -> Āra lifta izbūve Ādažu vidusskolai
A10: Objekta adrese: | C10: =Koptame!C6 -> Gaujas iela 30, Ādaži, Ādažu novads, LV-2164
F12: Par kopējo summu, euro | H12: =E33 -> 0
F13: Kopējā darbietilpība, c/h | H13: =I29 -> 0
H14: =H13+kops2!H13+kops3!H13+kops4!H13 -> 0
H15: =Koptame!D8 -> 0
A17: Nr.p.k. | B17: Kods, tāmes Nr. | C17: Būvdarbu veids vai konstruktīvā elementa nosaukums | E17: Tāmes izmaksas (euro) | F17: Tai skaitā | I17: Darbietilpība (c/h)
F18: darba alga (euro) | G18: būvizstrādājumi (euro) | H18: mehānismi (euro)
A20: 1 | B20: 1,1 | C20: Demontāžas darbi | E20: ='1,1'!P22 -> 0 | F20: ='1,1'!M22 -> 0 | G20: ='1,1'!N22 -> 0 | H20: ='1,1'!O22 -> 0 | I20: ='1,1'!L22 -> 0
A21: 2 | B21: 1,2 | C21: Zemes darbi | E21: ='1,2'!P17 -> 0 | F21: ='1,2'!M17 -> 0 | G21: ='1,2'!N17 -> 0 | H21: ='1,2'!O17 -> 0 | I21: ='1,2'!L17 -> 0
A22: 3 | B22: 1,3 | C22: Pamati | E22: ='1,3'!P26 -> 0 | F22: ='1,3'!M26 -> 0 | G22: ='1,3'!N26 -> 0 | H22: ='1,3'!O26 -> 0 | I22: ='1,3'!L26 -> 0
A23: 4 | B23: 1,4 | C23: Sienas, karkass, iekšējā apdare | E23: ='1,4'!P75 -> 0 | F23: ='1,4'!M75 -> 0 | G23: ='1,4'!N75 -> 0 | H23: ='1,4'!O75 -> 0 | I23: ='1,4'!L75 -> 0
A24: 5 | B24: 1,5 | C24: Jumts | E24: ='1,5'!P28 -> 0 | F24: ='1,5'!M28 -> 0 | G24: ='1,5'!N28 -> 0 | H24: ='1,5'!O28 -> 0 | I24: ='1,5'!L28 -> 0
A25: 6 | B25: 1,6 | C25: Grīda | E25: ='1,6'!P26 -> 0 | F25: ='1,6'!M26 -> 0 | G25: ='1,6'!N26 -> 0 | H25: ='1,6'!O26 -> 0 | I25: ='1,6'!L26 -> 0
A26: 7 | B26: 1,7 | C26: Fasāde, stiklotas konstrukcijas | E26: ='1,7'!P25 -> 0 | F26: ='1,7'!M25 -> 0 | G26: ='1,7'!N25 -> 0 | H26: ='1,7'!O25 -> 0 | I26: ='1,7'!L25 -> 0
A27: 8 | B27: 1,8 | C27: Lifts | E27: ='1,8'!P15 -> 0 | F27: ='1,8'!M15 -> 0 | G27: ='1,8'!N15 -> 0 | H27: ='1,8'!O15 -> 0 | I27: ='1,8'!L15 -> 0
C29: Kopā | E29: =SUM(E19:E28) -> 0 | F29: =SUM(F19:F28) -> 0 | G29: =SUM(G19:G28) -> 0 | H29: =SUM(H19:H28) -> 0 | I29: =SUM(I19:I28) -> 0
A30: Virsizdevumi | E30: =ROUND(E29*D30,2) -> 0
C31: tai skaitā darba aizsardzība | E31: =E30*0.1 -> 0
A32: Peļņa | E32: =ROUND(E29*D32,2) -> 0
C33: Kopā bez PVN | E33: =E32+E30+E29 -> 0

Sheet 1,1
G1: Lokālā tāme Nr. | H1: =kops1!B20 -> 1,1
A2: =C12 -> Demontāžas darbi
C3: Būves nosaukums: | D3: =Koptame!C4 -> Āra lifts
C4: Objekta nosaukums: | D4: =Koptame!C5 -> Āra lifta izbūve Ādažu vidusskolai
C5: Objekta adrese: | D5: =Koptame!C6 -> Gaujas iela 30, Ādaži, Ādažu novads, LV-2164
O6: Tāmes izmaksas euro:
L8: =Koptame!D8 -> 0
A10: Nr.p.k. | B10: Kods | C10: Būvdarbu nosaukums | D10: Mērvienība | E10: Daudzums | F10: Vienības izmaksas | L10: Kopā uz visu apjomu
F11: Laika norma (c/h) | G11: Darba samaksas likme (euro/h) | H11: Darba alga (euro) | I11: Būvizstrādājumi (euro) | J11: Mehānismi (euro) | K11: Kopā (euro) | L11: Darbietilpība (c/h) | M11: Darba alga (euro) | N11: Būvizstrādājumi (euro) | O11: Mehānismi (euro) | P11: Summa (euro)
C12: =kops1!C20 -> Demontāžas darbi | K12: =SUM(H12:J12) -> 0 | L12: =ROUND(F12*E12,2) -> 0 | M12: =ROUND(H12*E12,2) -> 0 | N12: =ROUND(I12*E12,2) -> 0 | O12: =ROUND(J12*E12,2) -> 0 | P12: =SUM(M12:O12) -> 0
A13: 1 | C13: Esošā flīžu seguma demontāža t.sk. Būvgružu izvešana , nodošana pārstrādei saskaņā ar DOP norādījumiem | D13: m2 | E13: 67
A14: 2 | C14: Esošās ēku apmales demontāža t.sk. Būvgružu izvešana , nodošana pārstrādei saskaņā ar DOP norādījumiem | D14: m2 | E14: 1
A15: =IF(COUNTBLANK(E15)=1," ",COUNTA($E$13:E15)) -> 3 | C15: Esošā logu 5,3x1,82m t.sk. palodzes demontāža t.sk. Būvgružu izvešana , nodošana pārstrādei saskaņā ar DOP norādījumiem | D15: gb | E15: 3
A16: =IF(COUNTBLANK(E16)=1," ",COUNTA($E$13:E16)) -> 4 | C16: Esošā logu cokolstāvā 2,36x0,92m t.sk. Palodzes demontāža t.sk. Būvgružu izvešana , nodošana pārstrādei saskaņā ar DOP norādījumiem | D16: gb | E16: 1
A17: =IF(COUNTBLANK(E17)=1," ",COUNTA($E$13:E17)) -> 5 | C17: Ārsienu paneļu demontāža t.sk. Būvgružu izvešana , nodošana pārstrādei saskaņā ar DOP norādījumiem | D17: m2 | E17: =1.3*3 -> 3.9
A18: =IF(COUNTBLANK(E18)=1," ",COUNTA($E$13:E18)) -> 6 | C18: Mūra sienas demontāža t.sk. Būvgružu izvešana , nodošana pārstrādei saskaņā ar DOP norādījumiem | D18: m2 | E18: 2.1
A19: =IF(COUNTBLANK(E19)=1," ",COUNTA($E$13:E19)) -> 7 | C19: Fasādes siltinājuma un apmetuma lifta pieslēguma vietā demontāža t.sk. Būvgružu izvešana , nodošana pārstrādei saskaņā ar DOP norādījumiem | D19: m2 | E19: 21.24
A20: =IF(COUNTBLANK(E20)=1," ",COUNTA($E$13:E20)) -> 8 | C20: Ventilējamās fasādes ar siltinājumu lifta pieslēguma vietā demontāža t.sk. Būvgružu izvešana , nodošana pārstrādei saskaņā ar DOP norādījumiem | D20: m2 | E20: 2.7
F21: 0 | G21: 0
C22: Tiešās izmaksas kopā t.sk. darba devēja sociālais nodoklis(23,59%)
B24: Piezīmes:
A25: Visas atsauces uz materiālu un izstrādājumu izgatavotaj firmām, kuras norādītas būvprojektā, liecina tikai par šo materiālu un izstrādājumu tehniskajiem parametriem un kvalitātes līmeni, to nomaiņa ir iespējama ar citiem tehniski un kvalitatīvi ekvivalentiem būvizstrādājumiem, iepriekš saskaņojot tos ar projekta autoriem un uzrādot atbilstības sertifikātus.

Sheet 1,2
G1: Lokālā tāme Nr. | H1: =kops1!B21 -> 1,2
A2: =C12 -> Zemes darbi
C3: Būves nosaukums: | D3: =Koptame!C4 -> Āra lifts
C4: Objekta nosaukums: | D4: =Koptame!C5 -> Āra lifta izbūve Ādažu vidusskolai
C5: Objekta adrese: | D5: =Koptame!C6 -> Gaujas iela 30, Ādaži, Ādažu novads, LV-2164
O6: Tāmes izmaksas euro:
L8: =Koptame!D8 -> 0
A10: Nr.p.k. | B10: Kods | C10: Būvdarbu nosaukums | D10: Mērvienība | E10: Daudzums | F10: Vienības izmaksas | L10: Kopā uz visu apjomu
F11: Laika norma (c/h) | G11: Darba samaksas likme (euro/h) | H11: Darba alga (euro) | I11: Būvizstrādājumi (euro) | J11: Mehānismi (euro) | K11: Kopā (euro) | L11: Darbietilpība (c/h) | M11: Darba alga (euro) | N11: Būvizstrādājumi (euro) | O11: Mehānismi (euro) | P11: Summa (euro)
B12: 0 | C12: =kops1!C21 -> Zemes darbi | F12: 0 | G12: 0 | H12: 0 | I12: 0 | J12: 0 | K12: =SUM(H12:J12) -> 0 | L12: =ROUND(F12*E12,2) -> 0 | M12: =ROUND(H12*E12,2) -> 0 | N12: =ROUND(I12*E12,2) -> 0 | O12: =ROUND(J12*E12,2) -> 0 | P12: =SUM(M12:O12) -> 0
A13: 1 | C13: Grunts rakšana mehanizēti un ar rokām | D13: m3 | E13: 40
A14: 2 | C14: Būvbedres un tranšejas aizbēršana mehanizēti ar pievesto smilti pamatiem | D14: m3 | E14: 35
A15: 3 | C15: Liekās grunts aizvešana | D15: m3 | E15: 40
C17: Tiešās izmaksas kopā t.sk. darba devēja sociālais nodoklis(23,59%)
B19: ='1,1'!B24 -> Piezīmes:
A20: ='1,1'!A25:G25 -> Visas atsauces uz materiālu un izstrādājumu izgatavotaj firmām, kuras norādītas būvprojektā, liecina tikai par šo materiālu un izstrādājumu tehniskajiem parametriem un kvalitātes līmeni, to nomaiņa ir iespējama ar citiem tehniski un kvalitatīvi ekvivalentiem būvizstrādājumiem, iepriekš saskaņojot tos ar projekta autoriem un uzrādot atbilstības sertifikātus.

Sheet 1,3
G1: Lokālā tāme Nr. | H1: =kops1!$B$22 -> 1,3
A2: =C12 -> Pamati
C3: Būves nosaukums: | D3: =Koptame!C4 -> Āra lifts
C4: Objekta nosaukums: | D4: =Koptame!C5 -> Āra lifta izbūve Ādažu vidusskolai
C5: Objekta adrese: | D5: =Koptame!C6 -> Gaujas iela 30, Ādaži, Ādažu novads, LV-2164
O6: Tāmes izmaksas euro:
L8: =Koptame!D8 -> 0
A10: Nr.p.k. | B10: Kods | C10: Būvdarbu nosaukums | D10: Mērvienība | E10: Daudzums | F10: Vienības izmaksas | L10: Kopā uz visu apjomu
F11: Laika norma (c/h) | G11: Darba samaksas likme (euro/h) | H11: Darba alga (euro) | I11: Būvizstrādājumi (euro) | J11: Mehānismi (euro) | K11: Kopā (euro) | L11: Darbietilpība (c/h) | M11: Darba alga (euro) | N11: Būvizstrādājumi (euro) | O11: Mehānismi (euro) | P11: Summa (euro)
B12: 0 | C12: =kops1!C22 -> Pamati | F12: 0 | G12: 0 | H12: 0 | I12: 0 | J12: 0 | K12: =SUM(H12:J12) -> 0 | L12: =ROUND(F12*E12,2) -> 0 | M12: =ROUND(H12*E12,2) -> 0 | N12: =ROUND(I12*E12,2) -> 0 | O12: =ROUND(J12*E12,2) -> 0 | P12: =SUM(M12:O12) -> 0
C13: BK | K13: =SUM(H13:J13) -> 0 | L13: =ROUND(F13*E13,2) -> 0 | M13: =ROUND(H13*E13,2) -> 0 | N13: =ROUND(I13*E13,2) -> 0 | O13: =ROUND(J13*E13,2) -> 0 | P13: =SUM(M13:O13) -> 0
A14: 1 | C14: Mikropāļu ierīkošana Mikropāļu serdes TITAN 52/26, galvas plāksne 200x200, t=30 mm, S235 JR, apvalkcaurule D=101.6 mm; t=6.3 mm, min. L=1000 mm, S235. Mikropāļa serdes stieni atļauts aizstāt ar cita ražotāja mikropāļa serdes stieni, nodrošinot, ka tas spēj uzņemt projektēto aprēķina un testa pāļa slodzi. Pāļa betona ķermenis pēc aprēķina Ø195 mm, urbja diametrs Ø175 mm. t.sk. Iekārtu mobilizācija/demobilizācija mikropāļiem, | D14: m | E14: 47.3
A15: 2 | C15: Šķembu pamatojuma ierīkošana, blīvā veidā, novibrējot | D15: m3 | E15: 0.3
A16: 3 | C16: Betona iestrādāšana lifta šahtas pamatu plātnes konstrukcijās C30/37 XC2 novibrējot, betonu padod ar sūkni t.sk. Stiegrojums, t.sk. Veidņošana t.sk. IDROCRETE KR1000 kristalizējoša piedeva | D16: m3 | E16: 4.08
A17: 4 | C17: Betona iestrādāšana pamatu konstrukcijās-betona sagataves kārta C8/10 novibrējot,betonu padod ar sūkni | D17: m3 | E17: 0.93
A18: 5 | C18: Betona iestrādāšana lifta šahtas monolītā dzelzsbetona grīdas plātnes konstrukcijās C30/37 XC2 novibrējot, betonu padod ar sūkni t.sk. Stiegrojums, t.sk. Veidņošana t.sk. IDROCRETE KR1000 kristalizējoša piedeva | D18: m3 | E18: 0.24
A19: 6 | C19: Betona iestrādāšana konstrukcijās-betona smalkgraudains bezrukuma betons C30/37 XC2 | D19: m3 | E19: 0.01
A20: 7 | C20: Siltumizolācijas ierīkošana; Ekstrudētais putupolistirols XPS 300, b=100 mm | D20: m2 | E20: =2.37/0.1 -> 23.7
A21: 8 | C21: Siltumizolācijas ierīkošana; Ekstrudētais putupolistirols XPS 300, b=90 mm | D21: m2 | E21: 1.7
A22: 9 | C22: Šuves ierīkošana; DYWIDAG CONTAFLEX ACTIV ACF 165 | D22: m | E22: 9.1
A23: 10 | C23: Guttabetta Star aizsardzības membrānas montāža t.sk. Profili, stiprinājumi | D23: m2 | E23: 63.9
A24: 11 | C24: Hidroizolācijas ierīkošana | D24: m2 | E24: 23.5
C26: Tiešās izmaksas kopā t.sk. darba devēja sociālais nodoklis(23,59%)
B28: Piezīmes:
A29: ='1,1'!A25:G25 -> Visas atsauces uz materiālu un izstrādājumu izgatavotaj firmām, kuras norādītas būvprojektā, liecina tikai par šo materiālu un izstrādājumu tehniskajiem parametriem un kvalitātes līmeni, to nomaiņa ir iespējama ar citiem tehniski un kvalitatīvi ekvivalentiem būvizstrādājumiem, iepriekš saskaņojot tos ar projekta autoriem un uzrādot atbilstības sertifikātus.

Sheet 1,4
G1: Lokālā tāme Nr. | H1: =kops1!B23 -> 1,4
A2: =C12 -> Sienas, karkass, iekšējā apdare
C3: Būves nosaukums: | D3: =Koptame!C4 -> Āra lifts
C4: Objekta nosaukums: | D4: =Koptame!C5 -> Āra lifta izbūve Ādažu vidusskolai
C5: Objekta adrese: | D5: =Koptame!C6 -> Gaujas iela 30, Ādaži, Ādažu novads, LV-2164
O6: Tāmes izmaksas euro:
L8: =Koptame!D8 -> 0
A10: Nr.p.k. | B10: Kods | C10: Būvdarbu nosaukums | D10: Mērvienība | E10: Daudzums | F10: Vienības izmaksas | L10: Kopā uz visu apjomu
F11: Laika norma (c/h) | G11: Darba samaksas likme (euro/h) | H11: Darba alga (euro) | I11: Būvizstrādājumi (euro) | J11: Mehānismi (euro) | K11: Kopā (euro) | L11: Darbietilpība (c/h) | M11: Darba alga (euro) | N11: Būvizstrādājumi (euro) | O11: Mehānismi (euro) | P11: Summa (euro)
B12: 0 | C12: =kops1!C23 -> Sienas, karkass, iekšējā apdare | F12: 0 | G12: 0 | H12: 0 | I12: 0 | J12: 0 | K12: =SUM(H12:J12) -> 0 | L12: =ROUND(F12*E12,2) -> 0 | M12: =ROUND(H12*E12,2) -> 0 | N12: =ROUND(I12*E12,2) -> 0 | O12: =ROUND(J12*E12,2) -> 0 | P12: =SUM(M12:O12) -> 0
C13: BK | K13: =SUM(H13:J13) -> 0 | L13: =ROUND(F13*E13,2) -> 0 | M13: =ROUND(H13*E13,2) -> 0 | N13: =ROUND(I13*E13,2) -> 0 | O13: =ROUND(J13*E13,2) -> 0 | P13: =SUM(M13:O13) -> 0
A14: 1 | C14: Betona iestrādāšana lifta šahtas monolītā dzelzsbetona sienas konstrukcijās C30/37 XC2 novibrējot, betonu padod ar sūkni t.sk. Stiegrojums, t.sk. Veidņošana t.sk. IDROCRETE KR1000 kristalizējoša piedeva | D14: m3 | E14: 3.71
A15: 2 | C15: Tērauda konstrukciju- izgatavošana , piegāde,montāža t.sk. Palīgmateriāli. Metāla konstrukcijas apstrādātas atbilstoši BK norādījumiem | D15: t | E15: =1.49+1.16+0.48+0.13+0.1+0.31+0.01 -> 3.68
A16: 3 | C16: Ieliekamās detaļas HPM 20P montāža | D16: gb | E16: 16
A17: 4 | C17: Lifta cilpas montāža saskaņā ar BK-7 | D17: gb | E17: 3
A18: 5 | C18: Durvju ailas izbūve esošajā stāva sienas panelī ar tērauda konstrukciju pastiprinājumu | D18: kpl | E18: 3
A19: 6 | C19: Durvju ailas izbūve pagrabstāva sienas panelī ar tērauda konstrukciju pastiprinājumu | D19: kpl | E19: 1
A20: 7 | C20: Metāla konstrukciju apmešana 20 mm ,aptinot ar apmetuma sietu . | D20: m2 | E20: 4
C21: AR
C22: SĀ-1
A23: 8 | C23: Gipškartona starpsienu karkasa (75 mm) izbūve Knauf karkasa sistēma. UW,CW profila , Skrūves, stiprinājumi, | D23: m2 | E23: =10.5*3+1.5 -> 33
A24: 9 | C24: Gipškartona starpsienu karkasa (75 mm) izbūve Knauf karkasa sistēma. UW,CW profila , Skrūves, stiprinājumi, | D24: m2 | E24: =10.5*3+1.5 -> 33
A25: 10 | C25: Vates iestrāde karkasā siltuma izolācijai. Siltuma izolācijas plāksnes 150 mm Paroc Ultra | D25: m2 | E25: =10.5*3+1.5 -> 33
A26: 11 | C26: Karkasu apšūšana ar ģipškartonu (1kārta). Ģipškartons Knauf Blue GKFI ; Knauf skrūves TN 25, vai ekvivalents. | D26: m2 | E26: =10.5*3+1.5 -> 33
A27: 12 | C27: Karkasu apšūšana ar ģipškartonu (1kārtas). Ģipškartons Knauf Blue GKFI vai ekvivalents ; Knauf skrūves TN 25 vai ekvivalents. | D27: m2 | E27: =10.5*3+1.5 -> 33
A28: 13 | C28: Sienu špaktelēšana, slīpēšana t.sk. Ailu apmales. špaktele, smilšpapīrs | D28: m2 | E28: =1.8*3+0.3 -> 5.7
A29: 14 | C29: Sagatavotu sienu gruntēšana | D29: m2 | E29: =1.8*3+0.3 -> 5.7
A30: 15 | C30: Sagatavotu sienu krāsošana ar tonētām krāsām 2k. | D30: m2 | E30: =1.8*3+0.3 -> 5.7
C31: CS-1
A32: 13 | C32: Karkasu apšūšana ar ģipškartonu (1kārtas). Ģipškartons Knauf vai ekvivalents ; Knauf skrūves TN 25 vai ekvivalents. | D32: m2 | E32: 3.5
A33: 14 | C33: Sienu špaktelēšana, slīpēšana t.sk. Ailu apmales. špaktele, smilšpapīrs | D33: m2 | E33: 3.5
A34: 15 | C34: Sagatavotu sienu gruntēšana | D34: m2 | E34: 3.5
A35: 16 | C35: Sagatavotu sienu krāsošana ar tonētām krāsām 2k. | D35: m2 | E35: 3.5
A36: 17 | C36: OSB plāksne 13 mm montāža | D36: m2 | E36: 3.5
A37: 18 | C37: Tvaika izolācijas plēve ieklāšana | D37: m2 | E37: 3.5
C38: Metāla konstrukcijas (sk. BK daļu)
A39: 19 | C39: L veida leņķis 235 mm | D39: m2 | E39: 3.5
A40: 20 | C40: Siltumizolācijas slānis Paroc Ultra 200 mm | D40: m2 | E40: 3.5
A41: 21 | C41: Siltumizolācijas slānis Paroc Cortex B 30 mm | D41: m2 | E41: 3.5
A42: 22 | C42: L veida profils 50x50 mm | D42: m2 | E42: 3.5
...

Sheet 1,5
G1: Lokālā tāme Nr. | H1: =kops1!B24 -> 1,5
A2: =C12 -> Jumts
C3: Būves nosaukums: | D3: =Koptame!C4 -> Āra lifts
C4: Objekta nosaukums: | D4: =Koptame!C5 -> Āra lifta izbūve Ādažu vidusskolai
C5: Objekta adrese: | D5: =Koptame!C6 -> Gaujas iela 30, Ādaži, Ādažu novads, LV-2164
O6: Tāmes izmaksas euro:
L8: =Koptame!D8 -> 0
A10: Nr.p.k. | B10: Kods | C10: Būvdarbu nosaukums | D10: Mērvienība | E10: Daudzums | F10: Vienības izmaksas | L10: Kopā uz visu apjomu
F11: Laika norma (c/h) | G11: Darba samaksas likme (euro/h) | H11: Darba alga (euro) | I11: Būvizstrādājumi (euro) | J11: Mehānismi (euro) | K11: Kopā (euro) | L11: Darbietilpība (c/h) | M11: Darba alga (euro) | N11: Būvizstrādājumi (euro) | O11: Mehānismi (euro) | P11: Summa (euro)
B12: 0 | C12: =kops1!C24 -> Jumts | F12: 0 | G12: 0 | H12: 0 | I12: 0 | J12: 0 | K12: =SUM(H12:J12) -> 0 | L12: =ROUND(F12*E12,2) -> 0 | M12: =ROUND(H12*E12,2) -> 0 | N12: =ROUND(I12*E12,2) -> 0 | O12: =ROUND(J12*E12,2) -> 0 | P12: =SUM(M12:O12) -> 0
C13: BK | K13: =SUM(H13:J13) -> 0 | L13: =ROUND(F13*E13,2) -> 0 | M13: =ROUND(H13*E13,2) -> 0 | N13: =ROUND(I13*E13,2) -> 0 | O13: =ROUND(J13*E13,2) -> 0 | P13: =SUM(M13:O13) -> 0
A14: =IF(COUNTBLANK(E14)=1," ",COUNTA($E$12:E14)) -> 1 | C14: RUUKKI nesošo profillokšņu seguma ieklāšana RUUKKI T70-57L-846 t=0,7 mm t.sk. Papildelementi, stiprinājumi | D14: m2 | E14: 5.33
C15: AR
A16: 2 | C16: Bitumena jumta seguma ierīkošana RavaProof PREMIUM SBS 5.2mm (vai ekvivalents), RavaProof DIAMOND SBS Black 4mm (vai ekvivalents) | D16: m2 | E16: 6.3
A17: 3 | C17: PAROC ROB 60 / PAROC ROB 80, d=20mm | D17: m2 | E17: 6.3
A18: 4 | C18: PAROC ROS 30g, d=100mm | D18: m2 | E18: 6.3
A19: 5 | C19: PAROC ROS 30, d=160mm | D19: m2 | E19: 6.3
A20: 6 | C20: PAROC tvaika barjera 020 (XMV 020) | D20: m2 | E20: 6.3
A21: 7 | C21: PAROC ROB 60 / PAROC ROB 80, d=20mm | D21: m2 | E21: 6.3
A22: 8 | C22: Siltumizolācijas stiprinājuma elements | D22: m2 | E22: 6.3
A23: 9 | C23: Parapeta konstrukcijas un skārda nosegelementa montāža | D23: m | E23: 8
A24: 10 | C24: Bitumena lokšņu salaiduma vieta jāveido ar 250mm pārlaidumu, nodrošinot šuves hermētiskumu | D24: kpl | E24: 1
A25: 11 | C25: Koka latas 55-65x250mm montāža | D25: m2 | E25: 1
A26: 12 | C26: Saplāksnis āra darbiem 20x600mm montāža | D26: m2 | E26: 2
C28: Tiešās izmaksas kopā t.sk. darba devēja sociālais nodoklis(23,59%)
B30: Piezīmes:
A31: ='1,1'!A25:G25 -> Visas atsauces uz materiālu un izstrādājumu izgatavotaj firmām, kuras norādītas būvprojektā, liecina tikai par šo materiālu un izstrādājumu tehniskajiem parametriem un kvalitātes līmeni, to nomaiņa ir iespējama ar citiem tehniski un kvalitatīvi ekvivalentiem būvizstrādājumiem, iepriekš saskaņojot tos ar projekta autoriem un uzrādot atbilstības sertifikātus.

Sheet 1,6
G1: Lokālā tāme Nr. | H1: =kops1!B25 -> 1,6
A2: =C12 -> Grīda
C3: Būves nosaukums: | D3: =Koptame!C4 -> Āra lifts
C4: Objekta nosaukums: | D4: =Koptame!C5 -> Āra lifta izbūve Ādažu vidusskolai
C5: Objekta adrese: | D5: =Koptame!C6 -> Gaujas iela 30, Ādaži, Ādažu novads, LV-2164
O6: Tāmes izmaksas euro:
L8: =Koptame!D8 -> 0
A10: Nr.p.k. | B10: Kods | C10: Būvdarbu nosaukums | D10: Mērvienība | E10: Daudzums | F10: Vienības izmaksas | L10: Kopā uz visu apjomu
F11: Laika norma (c/h) | G11: Darba samaksas likme (euro/h) | H11: Darba alga (euro) | I11: Būvizstrādājumi (euro) | J11: Mehānismi (euro) | K11: Kopā (euro) | L11: Darbietilpība (c/h) | M11: Darba alga (euro) | N11: Būvizstrādājumi (euro) | O11: Mehānismi (euro) | P11: Summa (euro)
B12: 0 | C12: =kops1!C25 -> Grīda | F12: 0 | G12: 0 | H12: 0 | I12: 0 | J12: 0 | K12: =SUM(H12:J12) -> 0 | L12: =ROUND(F12*E12,2) -> 0 | M12: =ROUND(H12*E12,2) -> 0 | N12: =ROUND(I12*E12,2) -> 0 | O12: =ROUND(J12*E12,2) -> 0 | P12: =SUM(M12:O12) -> 0
C13: cokolstāvs | K13: =SUM(H13:J13) -> 0 | L13: =ROUND(F13*E13,2) -> 0 | M13: =ROUND(H13*E13,2) -> 0 | N13: =ROUND(I13*E13,2) -> 0 | O13: =ROUND(J13*E13,2) -> 0 | P13: =SUM(M13:O13) -> 0
A14: 1 | C14: Rievota nerūsējošā tērauda plāksne | D14: m2 | E14: 1.8
A15: 2 | C15: Pašizlīdzinošais slānis Novoplan 21 (vai ekv.) 5 mm | D15: m2 | E15: 1.8
A16: 3 | C16: Armēta betona kārta 65 mm | D16: m2 | E16: 1.8
A17: 4 | C17: Tvaika izolācija PAROC XMV 001 (vai ekv.) | D17: m2 | E17: 1.8
A18: 5 | C18: Skaņas izolācija PAROC SSB1 (vai ekv.) 50 mm | D18: m2 | E18: 1.8
C19: Starpstāvu
A20: 6 | C20: Rievota nerūsējošā tērauda plāksne | D20: m2 | E20: =3.15*3 -> 9.45
A21: 7 | C21: Pašizlīdzinošais slānis Novoplan 21 (vai ekv.) 5 mm | D21: m2 | E21: =3.15*3 -> 9.45
A22: 8 | C22: Estrich betona grīdas ierīkošana 55 mm | D22: m2 | E22: =3.15*3 -> 9.45
A23: 9 | C23: Tvaika izolācija PAROC XMV 001 (vai ekv.) | D23: m2 | E23: =3.15*3 -> 9.45
A24: 10 | C24: Skaņas izolācija PAROC SSB1 (vai ekv.) 20 mm | D24: m2 | E24: =3.15*3 -> 9.45
F25: 0 | G25: 0
C26: Tiešās izmaksas kopā t.sk. darba devēja sociālais nodoklis(23,59%)
B28: Piezīmes:
A29: ='1,1'!A25:G25 -> Visas atsauces uz materiālu un izstrādājumu izgatavotaj firmām, kuras norādītas būvprojektā, liecina tikai par šo materiālu un izstrādājumu tehniskajiem parametriem un kvalitātes līmeni, to nomaiņa ir iespējama ar citiem tehniski un kvalitatīvi ekvivalentiem būvizstrādājumiem, iepriekš saskaņojot tos ar projekta autoriem un uzrādot atbilstības sertifikātus.

Sheet 1,7
G1: Lokālā tāme Nr. | H1: =kops1!B26 -> 1,7
A2: =C12 -> Fasāde, stiklotas konstrukcijas
C3: Būves nosaukums: | D3: =Koptame!C4 -> Āra lifts
C4: Objekta nosaukums: | D4: =Koptame!C5 -> Āra lifta izbūve Ādažu vidusskolai
C5: Objekta adrese: | D5: =Koptame!C6 -> Gaujas iela 30, Ādaži, Ādažu novads, LV-2164
O6: Tāmes izmaksas euro:
L8: =Koptame!D8 -> 0
A10: Nr.p.k. | B10: Kods | C10: Būvdarbu nosaukums | D10: Mērvienība | E10: Daudzums | F10: Vienības izmaksas | L10: Kopā uz visu apjomu
F11: Laika norma (c/h) | G11: Darba samaksas likme (euro/h) | H11: Darba alga (euro) | I11: Būvizstrādājumi (euro) | J11: Mehānismi (euro) | K11: Kopā (euro) | L11: Darbietilpība (c/h) | M11: Darba alga (euro) | N11: Būvizstrādājumi (euro) | O11: Mehānismi (euro) | P11: Summa (euro)
A12: 0 | C12: =kops1!C26 -> Fasāde, stiklotas konstrukcijas | H12: =ROUND(G12*F12,2) -> 0 | K12: =SUM(H12:J12) -> 0 | L12: =ROUND(F12*E12,2) -> 0 | M12: =ROUND(H12*E12,2) -> 0 | N12: =ROUND(I12*E12,2) -> 0 | O12: =ROUND(J12*E12,2) -> 0 | P12: =SUM(M12:O12) -> 0
A13: 1 | C13: Sastatņu uzstādīšana ,nojaukšana ieskaitot nomu(iekļaujot sastatņu aizsargsietu) | D13: m2 | E13: 120
A14: 2 | C14: Stiklotas konstrukcijas FS-01 montāža saskaņā ar AR-05.2 t.sk. Palīgmateriāli | D14: kpl | E14: 1
A15: 3 | C15: Stiklotas konstrukcijas FS-02 montāža saskaņā ar AR-05.2 t.sk. Palīgmateriāli | D15: kpl | E15: 3
A16: 4 | C16: Ārējās palodzes montāža | D16: m | E16: =2.4*3 -> 7.2
A17: 4 | C17: Iekšējās palodzes MDF montāža platums 160 mm | D17: m | E17: 2.37
A18: 5 | C18: Skārda nosegdetaļas lifta cokolam montāža AR-04 | D18: m | E18: 9.63
A19: 6 | C19: Esošo logailu ārējās apdares atjaunošana fasādē- masā tonēts struktūrapmetums tonis balts, ailu apdare | D19: m2 | E19: =1.5*3 -> 4.5
A20: 7 | C20: Masā tonēts struktūrapmetums(tonis balts) un siltinājums ekvivalents esošajam | D20: m2 | E20: 2.5
A21: 8 | C21: ATJAUNOJAMS FASĀDES APMETUMS CERESIT masā tonēts struktūrapmetums TONIS - ekvivalents esošajam (Ceresit Andalusia AD6,Ceresit Nubia NA6, precizēt autoruzraudzības kārtībā) t.sk. Siltinājums | D21: m2 | E21: =0.4*3 -> 1.2
A22: 9 | C22: Swisspearl Rock fasādes apdares plāksnes (ekvivalents esošajām)12mm t.sk. Stiprinājumi t.sk. Karkass | D22: m2 | E22: 6
A23: 7 | C23: Fasādē apmetums uz sieta, struktūrapmetums, tonēts masā, tonis ekvivalents esošajam lifta pieslēguma vietas | D23: m2 | E23: 37.8
F24: =IFERROR(ROUND(H24/G24,2),0) -> 0 | G24: =IF(H24>0,3.75,0) -> 0
C25: Tiešās izmaksas kopā t.sk. darba devēja sociālais nodoklis(23,59%)
B27: Piezīmes:
A28: ='1,1'!A25:G25 -> Visas atsauces uz materiālu un izstrādājumu izgatavotaj firmām, kuras norādītas būvprojektā, liecina tikai par šo materiālu un izstrādājumu tehniskajiem parametriem un kvalitātes līmeni, to nomaiņa ir iespējama ar citiem tehniski un kvalitatīvi ekvivalentiem būvizstrādājumiem, iepriekš saskaņojot tos ar projekta autoriem un uzrādot atbilstības sertifikātus.

Sheet 1,8
G1: Lokālā tāme Nr. | H1: =kops1!B27 -> 1,8
A2: =C12 -> Lifts
C3: Būves nosaukums: | D3: =Koptame!C4 -> Āra lifts
C4: Objekta nosaukums: | D4: =Koptame!C5 -> Āra lifta izbūve Ādažu vidusskolai
C5: Objekta adrese: | D5: =Koptame!C6 -> Gaujas iela 30, Ādaži, Ādažu novads, LV-2164
A6: =Koptame!B9 -> Tāme sastādīta 2026.gada tirgus cenās, pamatojoties uz būvprojekta rasējumiem un darbu apjomiem | O6: Tāmes izmaksas euro:
L8: =Koptame!D8 -> 0
A10: Nr.p.k. | B10: Kods | C10: Būvdarbu nosaukums | D10: Mērvienība | E10: Daudzums | F10: Vienības izmaksas | L10: Kopā uz visu apjomu
F11: Laika norma (c/h) | G11: Darba samaksas likme (euro/h) | H11: Darba alga (euro) | I11: Būvizstrādājumi (euro) | J11: Mehānismi (euro) | K11: Kopā (euro) | L11: Darbietilpība (c/h) | M11: Darba alga (euro) | N11: Būvizstrādājumi (euro) | O11: Mehānismi (euro) | P11: Summa (euro)
C12: =kops1!C27 -> Lifts | F12: 0 | G12: 0 | K12: =SUM(H12:J12) -> 0 | L12: =ROUND(F12*E12,2) -> 0 | M12: =ROUND(H12*E12,2) -> 0 | N12: =ROUND(I12*E12,2) -> 0 | O12: =ROUND(J12*E12,2) -> 0 | P12: =SUM(M12:O12) -> 0
A13: 1 | C13: KONE Mono700DX ® 1000 kg / 13 personas, (Pielikums Nr.1) 4 pieturas | D13: kpl | E13: 1
F14: 0 | G14: 0
C15: Tiešās izmaksas kopā t.sk. darba devēja sociālais nodoklis(23,59%)
B17: Piezīmes:
A18: ='1,1'!A25:G25 -> Visas atsauces uz materiālu un izstrādājumu izgatavotaj firmām, kuras norādītas būvprojektā, liecina tikai par šo materiālu un izstrādājumu tehniskajiem parametriem un kvalitātes līmeni, to nomaiņa ir iespējama ar citiem tehniski un kvalitatīvi ekvivalentiem būvizstrādājumiem, iepriekš saskaņojot tos ar projekta autoriem un uzrādot atbilstības sertifikātus.

Sheet kops2
A2: Kopsavilkuma aprēķins Nr. 2
A6: =Koptame!C14 -> Specializētie darbi-iekšējie tīkli, sistēmas
A8: Būves nosaukums: | C8: =Koptame!C4 -> Āra lifts
A9: Objekta nosaukums: | C9: =Koptame!C5 -> Āra lifta izbūve Ādažu vidusskolai
A10: Objekta adrese: | C10: =Koptame!C6 -> Gaujas iela 30, Ādaži, Ādažu novads, LV-2164
F12: Par kopējo summu, euro | H12: =E29 -> 0
F13: Kopējā darbietilpība, c/h | H13: =I25 -> 0
H15: =Koptame!D8 -> 0
A17: Nr.p.k. | B17: Kods, tāmes Nr. | C17: Būvdarbu veids vai konstruktīvā elementa nosaukums | E17: Tāmes izmaksas (euro) | F17: Tai skaitā | I17: Darbietilpība (c/h)
F18: darba alga (euro) | G18: materiāli (euro) | H18: mehānismi (euro)
A20: 1 | B20: 2,1 | C20: Apkure | E20: ='2,1'!P22 -> 0 | F20: ='2,1'!M22 -> 0 | G20: ='2,1'!N22 -> 0 | H20: ='2,1'!O22 -> 0 | I20: ='2,1'!L22 -> 0
A21: 2 | B21: 2,2 | C21: Elektroinstalācija | E21: ='2,2'!P43 -> 0 | F21: ='2,2'!M43 -> 0 | G21: ='2,2'!N43 -> 0 | H21: ='2,2'!O43 -> 0 | I21: ='2,2'!L43 -> 0
A22: 3 | B22: 2,3 | C22: Ugunsgrēka atklāšanas un trauksmes signalizācijas sistēmas | E22: ='2,3'!Q28 -> 0 | F22: ='2,3'!N28 -> 0 | G22: ='2,3'!O28 -> 0 | H22: ='2,3'!P28 -> 0 | I22: ='2,3'!M28 -> 0
A23: 4 | B23: 2,4 | C23: Piekļuves kontroles sistēma | E23: ='2,4'!Q40 -> 0 | F23: ='2,4'!N40 -> 0 | G23: ='2,4'!O40 -> 0 | H23: ='2,4'!P40 -> 0 | I23: ='2,4'!M40 -> 0
C25: Kopā | E25: =SUM(E19:E24) -> 0 | F25: =SUM(F19:F24) -> 0 | G25: =SUM(G19:G24) -> 0 | H25: =SUM(H19:H24) -> 0 | I25: =SUM(I19:I24) -> 0
A26: Virsizdevumi | E26: =ROUND(E25*D26,2) -> 0
C27: tai skaitā darba aizsardzība | E27: =E26*0.1 -> 0
A28: Peļņa | E28: =ROUND(E25*D28,2) -> 0
C29: Kopā bez PVN | E29: =E28+E26+E25 -> 0

Sheet 2,1
G1: Lokālā tāme Nr. | H1: =kops2!B20 -> 2,1
A2: =C12 -> Apkure
C3: Būves nosaukums: | D3: =Koptame!C4 -> Āra lifts
C4: Objekta nosaukums: | D4: =Koptame!C5 -> Āra lifta izbūve Ādažu vidusskolai
C5: Objekta adrese: | D5: =Koptame!C6 -> Gaujas iela 30, Ādaži, Ādažu novads, LV-2164
O6: Tāmes izmaksas euro:
L8: =Koptame!D8 -> 0
A10: Nr.p.k. | B10: Kods | C10: Būvdarbu nosaukums | D10: Mērvienība | E10: Daudzums | F10: Vienības izmaksas | L10: Kopā uz visu apjomu
F11: Laika norma (c/h) | G11: Darba samaksas likme (euro/h) | H11: Darba alga (euro) | I11: Būvizstrādājumi (euro) | J11: Mehānismi (euro) | K11: Kopā (euro) | L11: Darbietilpība (c/h) | M11: Darba alga (euro) | N11: Būvizstrādājumi (euro) | O11: Mehānismi (euro) | P11: Summa (euro)
C12: =kops2!C20 -> Apkure | K12: =SUM(H12:J12) -> 0 | L12: =ROUND(F12*E12,2) -> 0 | M12: =ROUND(H12*E12,2) -> 0 | N12: =ROUND(I12*E12,2) -> 0 | O12: =ROUND(J12*E12,2) -> 0 | P12: =SUM(M12:O12) -> 0
A13: 1 | C13: Elektriskais silditājs GLAMOX heating, TPA 15, raž. ADAX komplektā ar: montāžas stiprinājumi pie sienas, vadu un kontaktdakšu,montāžas kārbu pastāvīgam elektropieslēgumam | D13: kpl. | E13: 2
A14: 2 | C14: Elektriskais silditājs GLAMOX heating, TPA 20, raž. ADAX komplektā ar: montāžas stiprinājumi pie sienas, vadu un kontaktdakšu,montāžas kārbu pastāvīgam elektropieslēgumam | D14: kpl. | E14: 2
A15: 3 | C15: Ciparu termostats Glamox Heating TPA/TLO DT2 | D15: kpl. | E15: 2
A16: 4 | C16: Vāciņš termostatiem ET/EV/DT/WT | D16: kpl. | E16: 2
A17: 5 | C17: Pieplūdes difuzors FlaktWoods, DYMA-1-012 | D17: kpl. | E17: 1
C18: Demontāžas darbi t.sk. Būvgružu izvešana
A19: 6 | C19: Apkures radiators | D19: kpl. | E19: 7
A20: 7 | C20: Cauruļvads līdz D15 | D20: kpl. | E20: 1
F21: 0 | G21: 0
C22: Tiešās izmaksas kopā, t.sk. darba devēja sociālais nodoklis(23,59%)
B24: Piezīmes:
A25: ='1,1'!A25:G25 -> Visas atsauces uz materiālu un izstrādājumu izgatavotaj firmām, kuras norādītas būvprojektā, liecina tikai par šo materiālu un izstrādājumu tehniskajiem parametriem un kvalitātes līmeni, to nomaiņa ir iespējama ar citiem tehniski un kvalitatīvi ekvivalentiem būvizstrādājumiem, iepriekš saskaņojot tos ar projekta autoriem un uzrādot atbilstības sertifikātus.

Sheet 2,2
G1: Lokālā tāme Nr. | H1: =kops2!B21 -> 2,2
A2: =C12 -> Elektroinstalācija
C3: Būves nosaukums: | D3: =Koptame!C4 -> Āra lifts
C4: Objekta nosaukums: | D4: =Koptame!C5 -> Āra lifta izbūve Ādažu vidusskolai
C5: Objekta adrese: | D5: =Koptame!C6 -> Gaujas iela 30, Ādaži, Ādažu novads, LV-2164
O6: Tāmes izmaksas euro:
L8: =Koptame!D8 -> 0
A10: Nr.p.k. | B10: Kods | C10: Būvdarbu nosaukums | D10: Mērvienība | E10: Daudzums | F10: Vienības izmaksas | L10: Kopā uz visu apjomu
F11: Laika norma (c/h) | G11: Darba samaksas likme (euro/h) | H11: Darba alga (euro) | I11: Būvizstrādājumi (euro) | J11: Mehānismi (euro) | K11: Kopā (euro) | L11: Darbietilpība (c/h) | M11: Darba alga (euro) | N11: Būvizstrādājumi (euro) | O11: Mehānismi (euro) | P11: Summa (euro)
B12: 0 | C12: =kops2!C21 -> Elektroinstalācija | F12: 0 | G12: 0 | H12: 0 | I12: 0 | J12: 0 | K12: =SUM(H12:J12) -> 0 | L12: =ROUND(F12*E12,2) -> 0 | M12: =ROUND(H12*E12,2) -> 0 | N12: =ROUND(I12*E12,2) -> 0 | O12: =ROUND(J12*E12,2) -> 0 | P12: =SUM(M12:O12) -> 0
A13: 1 | C13: Sadalne v/a 24mod, IP40 | D13: gb | E13: 1
A14: 2 | C14: Pārsprieguma aizsardzība V20 3P+NPE | D14: kpl | E14: 1
A15: 3 | C15: Kombinētais noplūdes strāvas automātslēdzis 4P, C16A, 30mA | D15: gb | E15: 2
A16: 4 | C16: Kombinētais noplūdes strāvas automātslēdzis 2P, C6A, 30mA | D16: gb | E16: 2
A17: 5 | C17: Modulārais kontaktors 2P, 16A, 230VAC | D17: gb | E17: 1
A18: 6 | C18: Drošinātājs NH2, 32A | D18: gb | E18: 3
A19: 7 | C19: Kabelis Cu- 5x4mm2 Cca s1, d1, a2 | D19: m | E19: 65
A20: 8 | C20: Kabelis Cu- 5x2,5mm2 Cca s1, d1, a2 | D20: m | E20: 55
A21: 9 | C21: Kabelis Cu- 3x2,5mm2 Cca s1, d1, a2 | D21: m | E21: 15
A22: 10 | C22: Kabelis Cu- 3x1,5mm2 Cca s1, d1, a2 | D22: m | E22: 270
A23: 11 | C23: Kabelis Cu- E90 3x1,5mm2 Cca s1, d1, a2 | D23: m | E23: 10
A24: 12 | C24: Kabelis Cu-1x16mm2 Cca s1, d1, a2 (dzeltenzaļš) | D24: m | E24: 60
... A41: 29 | C41: Mērījumi, tehniskā dokumentācija | D41: kpl | E41: 1
F42: 0 | G42: 0
C43: Tiešās izmaksas kopā, t.sk. darba devēja sociālais nodoklis(23,59%)
B45: Piezīmes:
A46: ='1,1'!A25:G25 -> Visas atsauces uz materiālu un izstrādājumu izgatavotaj firmām, kuras norādītas būvprojektā, liecina tikai par šo materiālu un izstrādājumu tehniskajiem parametriem un kvalitātes līmeni, to nomaiņa ir iespējama ar citiem tehniski un kvalitatīvi ekvivalentiem būvizstrādājumiem, iepriekš saskaņojot tos ar projekta autoriem un uzrādot atbilstības sertifikātus.

Sheet 2,3
H1: Lokālā tāme Nr. | I1: =kops2!$B$22 -> 2,3
A2: =C12 -> Ugunsgrēka atklāšanas un trauksmes signalizācijas sistēmas
C3: Būves nosaukums: | E3: =Koptame!C4 -> Āra lifts
C4: Objekta nosaukums: | E4: =Koptame!C5 -> Āra lifta izbūve Ādažu vidusskolai
C5: Objekta adrese: | E5: =Koptame!C6 -> Gaujas iela 30, Ādaži, Ādažu novads, LV-2164
P6: Tāmes izmaksas euro:
M8: =Koptame!D8 -> 0
A10: Nr.p.k. | B10: Kods | C10: Būvdarbu nosaukums | E10: Mērvienība | F10: Daudzums | G10: Vienības izmaksas | M10: Kopā uz visu apjomu
G11: Laika norma (c/h) | H11: Darba samaksas likme (euro/h) | I11: Darba alga (euro) | J11: Būvizstrādājumi (euro) | K11: Mehānismi (euro) | L11: Kopā (euro) | M11: Darbietilpība (c/h) | N11: Darba alga (euro) | O11: Būvizstrādājumi (euro) | P11: Mehānismi (euro) | Q11: Summa (euro)
B12: 0 | C12: =kops2!C22 -> Ugunsgrēka atklāšanas un trauksmes signalizācijas sistēmas | G12: 0 | H12: 0 | I12: 0 | J12: 0 | K12: 0 | L12: =SUM(I12:K12) -> 0 | M12: =ROUND(G12*F12,2) -> 0 | N12: =ROUND(I12*F12,2) -> 0 | O12: =ROUND(J12*F12,2) -> 0 | P12: =ROUND(K12*F12,2) -> 0 | Q12: =SUM(N12:P12) -> 0
A13: 1 | C13: Adrešu siltuma detektors | D13: SensoIRIS T110 /31060050 | E13: gb. | F13: 1
A14: 2 | C14: Bāze | D14: SensoIRIS B124 /31060047 | E14: gb. | F14: 1
A15: 3 | C15: Adrešu Ieeju, izeju modulis ar izolatoru | D15: SensoIRIS MIO 22/31020029 | E15: gb. | F15: 2
A16: 4 | C16: Kabelis | D16: JE-H(ST)H FE180/E30 1x2x1+0.8 LSZH | E16: m | F16: 150
A17: 5 | C17: Gofrētā caurule | D17: d25mm | E17: m | F17: 50
A18: 6 | C18: Montāžas materiāli | E18: kpl. | F18: 1
A19: 7 | C19: Ugunsdrošs kabeļu turētājs | D19: OZM/OZMO. (WxLxH) 42x33x62mm. 0.7mm. E-90 | E19: gb. | F19: 20
A20: 8 | C20: Ugunsdrošo šķērsojumu aizdares materiāli ugunsdrošo konstrukciju šķērsojuma vietās | E20: kpl. | F20: 1
C21: Darbs
A22: 1 | C22: Adrešu siltuma detektora montāža | E22: kpl. | F22: 1
A23: 2 | C23: Vadības moduļa montāža | E23: gb. | F23: 1
A24: 3 | C24: Kabeļa montāža, tai skaitā stiprinot pie konstrukcijām ar ugunsdrošiem stiprinājumiem | E24: m | F24: 150
A25: 4 | C25: Detektoru un kabeļu marķēšana | E25: kpl. | F25: 1
A26: 5 | C26: Ugunsdrošo šķērsojumu aizdare ar atbilstošiem ugunsdrošiem materiāliem ugunsdrošo konstrukciju šķērsojuma vietās. | E26: kpl. | F26: 1
C28: Tiešās izmaksas kopā, t.sk. darba devēja sociālais nodoklis(23,59%) | M28: =SUM(M12:M27) -> 0 | N28: =SUM(N12:N27) -> 0 | O28: =SUM(O12:O27) -> 0 | P28: =SUM(P12:P27) -> 0 | Q28: =SUM(Q12:Q27) -> 0
B30: Piezīmes:
A31: ='1,1'!A25:G25 -> Visas atsauces uz materiālu un izstrādājumu izgatavotaj firmām, kuras norādītas būvprojektā, liecina tikai par šo materiālu un izstrādājumu tehniskajiem parametriem un kvalitātes līmeni, to nomaiņa ir iespējama ar citiem tehniski un kvalitatīvi ekvivalentiem būvizstrādājumiem, iepriekš saskaņojot tos ar projekta autoriem un uzrādot atbilstības sertifikātus.

Sheet 2,4
H1: Lokālā tāme Nr. | I1: =kops2!B23 -> 2,4
A2: =C12 -> Piekļuves kontroles sistēma
C3: Būves nosaukums: | E3: =Koptame!C4 -> Āra lifts
C4: Objekta nosaukums: | E4: =Koptame!C5 -> Āra lifta izbūve Ādažu vidusskolai
C5: Objekta adrese: | E5: =Koptame!C6 -> Gaujas iela 30, Ādaži, Ādažu novads, LV-2164
P6: Tāmes izmaksas euro:
M8: =Koptame!D8 -> 0
A10: Nr.p.k. | B10: Kods | C10: Būvdarbu nosaukums | E10: Mērvienība | F10: Daudzums | G10: Vienības izmaksas | M10: Kopā uz visu apjomu
G11: Laika norma (c/h) | H11: Darba samaksas likme (euro/h) | I11: Darba alga (euro) | J11: Būvizstrādājumi (euro) | K11: Mehānismi (euro) | L11: Kopā (euro) | M11: Darbietilpība (c/h) | N11: Darba alga (euro) | O11: Būvizstrādājumi (euro) | P11: Mehānismi (euro) | Q11: Summa (euro)
B12: 0 | C12: =kops2!C23 -> Piekļuves kontroles sistēma | G12: 0 | H12: 0 | I12: 0 | J12: 0 | K12: 0 | L12: =SUM(I12:K12) -> 0 | M12: =ROUND(G12*F12,2) -> 0 | N12: =ROUND(I12*F12,2) -> 0 | O12: =ROUND(J12*F12,2) -> 0 | P12: =ROUND(K12*F12,2) -> 0 | Q12: =SUM(N12:P12) -> 0
A13: 1 | C13: Lifta kontrolieris | D13: Roger MC16-EVC | E13: gb. | F13: 1
A14: 2 | C14: Buferbarošanas bloks | D14: Roger PS20 | E14: gb. | F14: 1
A15: 3 | C15: Akumulators | D15: 12V SLA | E15: gb. | F15: 1
A16: 4 | C16: Releju/I/O paplašinājums stāviem | D16: Roger MCX8-BRD | E16: gb. | F16: 1
A17: 5 | C17: Ārējais MF 13.56MHz nolasītājs ar šifratoru 12v RS485 RACS5 | D17: MCT12M | E17: gb. | F17: 4
A18: 6 | C18: Kartes vai piekariņi | D18: MIFARE 13.56 MHz | E18: gb. | F18: 50
A19: 7 | C19: Metāla skapis / vieta PS20 korpusā (kontrolierim + MCX8 + klemmas) | E19: gb. | F19: 1
A20: 8 | C20: Vadības kabelis no relejiem uz lifta vadības automātiku | D20: 6x0.5 mm² | E20: m | F20: 80
A21: 9 | C21: Kabelis, liesmu slāpējošs | D21: Cat5e U/UTP 4x2x0.5, CPR Eca | E21: m | F21: 250
A22: 10 | C22: Barošanas kabelis | D22: 2x1.0 mm² | E22: m | F22: 20
A23: 11 | C23: Aizsargcaurule gofrētā, t.sk. stiprinājumi | D23: d25 mm | E23: m | F23: 250
A24: 12 | C24: Ugunsdrošo šķērsojumu aizdares materiāli ugunsdrošo konstrukciju šķērsojuma vietās | E24: kpl. | F24: 1
A25: 13 | C25: Instalācijas materiāli | E25: kpl. | F25: 1
A26: 14 | C26: Licences | E26: kpl. | F26: 1
A27: 15 | C27: Montāžas un stiprināšanas materiāli | E27: kpl. | F27: 1
A28: 16 | C28: Materiāli atvērumu aizdarei ne ugunsdrošo konstrukciju šķērsojuma vietās (poliuretāna celtniecības putas, apmetums un krāsojams hermētiķis) | E28: kpl. | F28: 1
C29: Darbs
A30: 1 | C30: Kontroles iekārtu, barošanas bloku un akumulatoru komplektēšana korpusos, montāža uz sienas | E30: kpl. | F30: 1
A31: 2 | C31: Karšu nolasītāja montāža | E31: gb. | F31: 4
A32: 5 | C32: Kabeļa guldīšana zemapmetuma, t.sk. gofrētās caurules ierīkošana zemapmetuma izpildījumā | E32: m | F32: =250+80 -> 330
A33: 6 | C33: Tīkla konfigurēšana | E33: kpl. | F33: 1
A34: 7 | C34: Sistēmas programmēšana un palaišana | E34: kpl. | F34: 1
A35: 8 | C35: Kabeļu marķēšana | E35: kpl. | F35: 1
A36: 9 | C36: Pieņemšanas-kontroles iekārtu programmēšanu un datoru aplikācijas konfigurēšana | E36: kpl. | F36: 1
A37: 10 | C37: Ugunsdrošo šķērsojumu aizdare ar atbilstošiem ugunsdrošiem materiāliem ugunsdrošo konstrukciju šķērsojuma vietās. | E37: kpl. | F37: 1
A38: 11 | C38: Atvērumu aizdare ar atbilstošiem materiāliem ne ugunsdrošo konstrukciju šķērsojuma vietās (poliuretāna celtniecības putas, apmetums un krāsojams hermētiķis) | E38: kpl. | F38: 1
C40: Tiešās izmaksas kopā, t.sk. darba devēja sociālais nodoklis(23,59%)
B42: Piezīmes:
A43: ='1,1'!A25:G25 -> Visas atsauces uz materiālu un izstrādājumu izgatavotaj firmām, kuras norādītas būvprojektā, liecina tikai par šo materiālu un izstrādājumu tehniskajiem parametriem un kvalitātes līmeni, to nomaiņa ir iespējama ar citiem tehniski un kvalitatīvi ekvivalentiem būvizstrādājumiem, iepriekš saskaņojot tos ar projekta autoriem un uzrādot atbilstības sertifikātus.

Sheet kops3
A2: Kopsavilkuma aprēķins Nr. 3
A6: =Koptame!C15 -> Specializētie darbi-ārējie tīkli, sistēmas
A8: Būves nosaukums: | C8: =Koptame!C4 -> Āra lifts
A9: Objekta nosaukums: | C9: =Koptame!C5 -> Āra lifta izbūve Ādažu vidusskolai
A10: Objekta adrese: | C10: =Koptame!C6 -> Gaujas iela 30, Ādaži, Ādažu novads, LV-2164
F12: Par kopējo summu, euro | H12: =E26 -> 0
F13: Kopējā darbietilpība, c/h | H13: =I22 -> 0
H15: =Koptame!D8 -> 0
A17: Nr.p.k. | B17: Kods, tāmes Nr. | C17: Būvdarbu veids vai konstruktīvā elementa nosaukums | E17: Tāmes izmaksas (euro) | F17: Tai skaitā | I17: Darbietilpība (c/h)
F18: darba alga (euro) | G18: materiāli (euro) | H18: mehānismi (euro)
A20: 1 | B20: 3,1 | C20: Ārējā elektroapgāde | E20: ='3,1'!P25 -> 0 | F20: ='3,1'!M25 -> 0 | G20: ='3,1'!N25 -> 0 | H20: ='3,1'!O25 -> 0 | I20: ='3,1'!L25 -> 0
C22: Kopā | E22: =SUM(E19:E21) -> 0 | F22: =SUM(F19:F21) -> 0 | G22: =SUM(G19:G21) -> 0 | H22: =SUM(H19:H21) -> 0 | I22: =SUM(I19:I21) -> 0
A23: Virsizdevumi | E23: =ROUND(E22*D23,2) -> 0
C24: tai skaitā darba aizsardzība | E24: =E23*0.1 -> 0
A25: Peļņa | E25: =ROUND(E22*D25,2) -> 0
C26: Kopā bez PVN | E26: =E25+E23+E22 -> 0

Sheet 3,1
G1: Lokālā tāme Nr. | H1: =kops3!B20 -> 3,1
A2: =C12 -> Ārējā elektroapgāde
C3: Būves nosaukums: | D3: =Koptame!C4 -> Āra lifts
C4: Objekta nosaukums: | D4: =Koptame!C5 -> Āra lifta izbūve Ādažu vidusskolai
C5: Objekta adrese: | D5: =Koptame!C6 -> Gaujas iela 30, Ādaži, Ādažu novads, LV-2164
O6: Tāmes izmaksas euro:
L8: =Koptame!D8 -> 0
A10: Nr.p.k. | B10: Kods | C10: Būvdarbu nosaukums | D10: Mērvienība | E10: Daudzums | F10: Vienības izmaksas | L10: Kopā uz visu apjomu
F11: Laika norma (c/h) | G11: Darba samaksas likme (euro/h) | H11: Darba alga (euro) | I11: Būvizstrādājumi (euro) | J11: Mehānismi (euro) | K11: Kopā (euro) | L11: Darbietilpība (c/h) | M11: Darba alga (euro) | N11: Būvizstrādājumi (euro) | O11: Mehānismi (euro) | P11: Summa (euro)
C12: =kops3!C20 -> Ārējā elektroapgāde | K12: =SUM(H12:J12) -> 0 | L12: =ROUND(F12*E12,2) -> 0 | M12: =ROUND(H12*E12,2) -> 0 | N12: =ROUND(I12*E12,2) -> 0 | O12: =ROUND(J12*E12,2) -> 0 | P12: =SUM(M12:O12) -> 0
A13: 1 | C13: Tranšeja - bedre kabeļa vai citu apakšzemes komunikāciju apsekošanai (šurfēšana) | D13: gb | E13: 2
A14: 2 | C14: Tranšejas rakšana horizontālām zemēšanas kontūrām | D14: m | E14: 8
A15: 3 | C15: Horizontālā zemētāja montāža tranšejā | D15: m | E15: 8
A16: 4 | C16: EPL vai sarkanās līnijas nospraušana | D16: km | E16: 0.008
A17: 5 | C17: EPL digitālā uzmērīšana | D17: km | E17: 0.008
A18: 6 | C18: Rakšanas atļaujas saņemšana | D18: objekts | E18: 1
A19: 7 | C19: Mērījumi, tehniskā dokumentācija | D19: objekts | E19: 1
A20: 8 | C20: Materiālu izmaksas
A21: 9 | C21: Cinkota zemējuma lenta 30x3,5mm (xl,05) | D21: m | E21: 9
A22: 10 | C22: Klemme stieple, 40mm lenta | D22: gb | E22: 2
A23: 11 | C23: Pretkorozijas lenta 50mm 10m | D23: gb | E23: 1
C25: Tiešās izmaksas kopā, t.sk. darba devēja sociālais nodoklis(23,59%)
B27: Piezīmes:
A28: ='2,1'!A25:G25 -> Visas atsauces uz materiālu un izstrādājumu izgatavotaj firmām, kuras norādītas būvprojektā, liecina tikai par šo materiālu un izstrādājumu tehniskajiem parametriem un kvalitātes līmeni, to nomaiņa ir iespējama ar citiem tehniski un kvalitatīvi ekvivalentiem būvizstrādājumiem, iepriekš saskaņojot tos ar projekta autoriem un uzrādot atbilstības sertifikātus.

Sheet kops4
A2: Kopsavilkuma aprēķins Nr. 4
A6: =Koptame!C16 -> Teritorijas labiekārtošana
A8: Būves nosaukums: | C8: =Koptame!C4 -> Āra lifts
A9: Objekta nosaukums: | C9: =Koptame!C5 -> Āra lifta izbūve Ādažu vidusskolai
A10: Objekta adrese: | C10: =Koptame!C6 -> Gaujas iela 30, Ādaži, Ādažu novads, LV-2164
F12: Par kopējo summu, euro | H12: =E26 -> 0
F13: Kopējā darbietilpība, c/h | H13: =I22 -> 0
H15: =Koptame!D8 -> 0
A17: Nr.p.k. | B17: Kods, tāmes Nr. | C17: Būvdarbu veids vai konstruktīvā elementa nosaukums | E17: Tāmes izmaksas (euro) | F17: Tai skaitā | I17: Darbietilpība (c/h)
F18: darba alga (euro) | G18: materiāli (euro) | H18: mehānismi (euro)
A20: 1 | B20: 4,1 | C20: Teritorijas labiekārtošana | E20: ='4,1'!P27 -> 0 | F20: ='4,1'!M27 -> 0 | G20: ='4,1'!N27 -> 0 | H20: ='4,1'!O27 -> 0 | I20: ='4,1'!L27 -> 0
C22: Kopā | E22: =SUM(E19:E21) -> 0 | F22: =SUM(F19:F21) -> 0 | G22: =SUM(G19:G21) -> 0 | H22: =SUM(H19:H21) -> 0 | I22: =SUM(I19:I21) -> 0
A23: Virsizdevumi | E23: =ROUND(E22*D23,2) -> 0
C24: tai skaitā darba aizsardzība | E24: =E23*0.1 -> 0
A25: Peļņa | E25: =ROUND(E22*D25,2) -> 0
C26: Kopā bez PVN | E26: =E25+E23+E22 -> 0

Sheet 4,1
G1: Lokālā tāme Nr. | H1: =kops4!B20 -> 4,1
A2: =C12 -> Teritorijas labiekārtošana
C3: Būves nosaukums: | D3: =Koptame!C4 -> Āra lifts
C4: Objekta nosaukums: | D4: =Koptame!C5 -> Āra lifta izbūve Ādažu vidusskolai
C5: Objekta adrese: | D5: =Koptame!C6 -> Gaujas iela 30, Ādaži, Ādažu novads, LV-2164
O6: Tāmes izmaksas euro:
L8: =Koptame!D8 -> 0
A10: Nr.p.k. | B10: Kods | C10: Būvdarbu nosaukums | D10: Mērvienība | E10: Daudzums | F10: Vienības izmaksas | L10: Kopā uz visu apjomu
F11: Laika norma (c/h) | G11: Darba samaksas likme (euro/h) | H11: Darba alga (euro) | I11: Būvizstrādājumi (euro) | J11: Mehānismi (euro) | K11: Kopā (euro) | L11: Darbietilpība (c/h) | M11: Darba alga (euro) | N11: Būvizstrādājumi (euro) | O11: Mehānismi (euro) | P11: Summa (euro)
C12: =kops4!C20 -> Teritorijas labiekārtošana | K12: =SUM(H12:J12) -> 0 | L12: =ROUND(F12*E12,2) -> 0 | M12: =ROUND(H12*E12,2) -> 0 | N12: =ROUND(I12*E12,2) -> 0 | O12: =ROUND(J12*E12,2) -> 0 | P12: =SUM(M12:O12) -> 0
C13: Sagatavošanas darbi | K13: =SUM(H13:J13) -> 0 | L13: =ROUND(F13*E13,2) -> 0 | M13: =ROUND(H13*E13,2) -> 0 | N13: =ROUND(I13*E13,2) -> 0 | O13: =ROUND(J13*E13,2) -> 0 | P13: =SUM(M13:O13) -> 0
A14: 1 | C14: Objekta nospraušana un nostiprināšana dabā | D14: kpl | E14: 1
C15: Zemes klātne
A16: 2 | C16: Gultnes sagatavošana un planēšana ceļiem un laukumiem,lieko grunti aizvedot uz atbērtni | D16: m2 | E16: =E19+E25 -> 731
A17: 0 | C17: Ceļi un laukumi
A18: 0 | C18: Bruģakmens segums t.sk. bruģakmens apmale apkārt liftam
A19: 3 | C19: Salizturīgā dren.smilts slāņaizbūve h min=30 cm | D19: m2 | E19: =72+6 -> 78
A20: 4 | C20: Dolomīta šķembu maisījuma izbūve 0/45 h=15cm | D20: m2 | E20: =72+6 -> 78
A21: 5 | C21: Izsiju maisījums fr. 2/8 mm h=3 cm izbūve | D21: m2 | E21: =72+6 -> 78
A22: 6 | C22: Betona bruģakmens seguma izbūve . | D22: m2 | E22: =72+6 -> 78
A23: 7 | C23: Ietves betona apmaļu uzstādīšana uz betona pamatnes t.sk. Minerālmateriālu maisījums, salizturīgais slānis | D23: m | E23: 71
A24: 0 | C24: Apzaļumošana
A25: 8 | C25: Zālāja ar melnzemes kārtu b=30 cm ierīkošana | D25: m2 | E25: 653
F26: 0 | G26: 0
C27: Tiešās izmaksas kopā, t.sk. darba devēja sociālais nodoklis(23,59%)
B29: Piezīmes:
A30: ='1,1'!A25:G25 -> Visas atsauces uz materiālu un izstrādājumu izgatavotaj firmām, kuras norādītas būvprojektā, liecina tikai par šo materiālu un izstrādājumu tehniskajiem parametriem un kvalitātes līmeni, to nomaiņa ir iespējama ar citiem tehniski un kvalitatīvi ekvivalentiem būvizstrādājumiem, iepriekš saskaņojot tos ar projekta autoriem un uzrādot atbilstības sertifikātus.
