Workbook

Sheet Būvniecības koptāme
B1: APSTIPRINU: _____________________________________________________
B2: (pasūtītāja paraksts un ta atšifrējums)
C3: Z.v.
B5: 2026. gada _______________________
A7: Būvniecības koptāme
A9: Objekta nosaukums: Evakuācijas izejas izbūve A. Žilinska Jēkabpils Mūzikas skolā
A10: Objekta nosaukums: Evakuācijas izejas izbūve A. Žilinska Jēkabpils Mūzikas skolā
A11: Objekta adrese: Brīvības ielā 203, Jēkabpilī, Jēkabpils novadā
A14: Nr. p.k. | B14: Objekta nosaukums | C14: Objekta izmaksas (euro)
A15: 1 | B15: 2 | C15: 3
A16: 1 | B16: Evakuācijas izejas izbūve A. Žilinska Jēkabpils Mūzikas skolā, Brīvības ielā 203, Jēkabpilī, Jēkabpils novadā | C16: ='Kopsavilkuma aprēķins Nr.1'!D24 -> 0
B17: Kopā: | C17: =SUM(C16:C16) -> 0
A19: PVN (21.00 %) | C19: =ROUND(C17*0.21,2) -> 0
A22: Sastādīja:
B23: (paraksts un tā atšifrējums, datums)
A24: Sert.
A25: Tāme sastādīta:

Sheet Kopsavilkuma aprēķins Nr.1
A2: Kopsavilkuma aprēķins Nr. 1
A4: Evakuācijas izejas izbūve A. Žilinska Jēkabpils Mūzikas skolā, Brīvības ielā 203, Jēkabpilī, Jēkabpils novadā
A5: (būvdarbu veids vai konstruktīva elementa nosaukums)
A8: Objekta nosaukums: Evakuācijas izejas izbūve A. Žilinska Jēkabpils Mūzikas skolā
A9: Objekta nosaukums: Evakuācijas izejas izbūve A. Žilinska Jēkabpils Mūzikas skolā
A10: ='Būvniecības koptāme'!A11 -> Objekta adrese: Brīvības ielā 203, Jēkabpilī, Jēkabpils novadā
C13: Par kopējo summu, (euro) | D13: =D24 -> 0
C14: Kopējā darbietilpība (c/h) | D14: =H20 -> 0
A16: Nr. p.k. | B16: Kods, tāmes Nr. | C16: Būvdarbu veids vai konstruktīvā elementa nosaukums | D16: Tāmes izmaksas | E16: Tais skaitā | H16: Darbietilpība (c/h)
E17: darba alga | F17: būvizstrādājumi | G17: mehānismi
A18: 1 | B18: 2 | C18: 3 | D18: 4 | E18: 5 | F18: 6 | G18: 7 | H18: 8
A19: 1 | B19: 1 | C19: Evakuācijas izejas izbūve A. Žilinska Jēkabpils Mūzikas skolā, Brīvības ielā 203, Jēkabpilī, Jēkabpils novadā | D19: =SUM(E19:G19) -> 0 | E19: ='Tāme Nr.1'!M61 -> 0 | F19: ='Tāme Nr.1'!N61 -> 0 | G19: ='Tāme Nr.1'!O61 -> 0 | H19: ='Tāme Nr.1'!L61 -> 0
C20: Kopā: | D20: =SUM(D19:D19) -> 0 | E20: =SUM(E19:E19) -> 0 | F20: =SUM(F19:F19) -> 0 | G20: =SUM(G19:G19) -> 0 | H20: =SUM(H19:H19) -> 0
C21: Virsizdevumi
C22: tais skaitā darba aizsardzība | D22: =D21*0.03 -> 0
C23: Peļņa
C24: Pavisam kopā: | D24: =D23+D21+D20 -> 0
A27: Sastādīja: | C27: ='Būvniecības koptāme'!B22 -> 0
C28: (paraksts un tā atšifrējums, datums)
A29: Sert.
A30: ='Būvniecības koptāme'!A25 -> Tāme sastādīta:

Sheet Tāme Nr.1
A1: Lokālā tāme Nr. 1
A2: Evakuācijas izejas izbūve A. Žilinska Jēkabpils Mūzikas skolā, Brīvības ielā 203, Jēkabpilī, Jēkabpils novadā
A3: (būvdarbu veids vai konstruktīva elementa nosaukums)
A5: Objekta nosaukums: Evakuācijas izejas izbūve A. Žilinska Jēkabpils Mūzikas skolā
A6: ='Kopsavilkuma aprēķins Nr.1'!A9 -> Objekta nosaukums: Evakuācijas izejas izbūve A. Žilinska Jēkabpils Mūzikas skolā
A7: ='Kopsavilkuma aprēķins Nr.1'!A10 -> Objekta adrese: Brīvības ielā 203, Jēkabpilī, Jēkabpils novadā
A8: ='Kopsavilkuma aprēķins Nr.1'!A11:C11 -> 0
A9: Tāme sastādīta 2026.gada cenās, pamatojoties uz AR daļas rasējumiem. Tāmes izmaksas | I9: =P61 -> 0 | J9: euro
L10: 2026. gada
A11: Nr. p.k. | B11: Kods | C11: Būvdarbu nosaukums | D11: Mērvienība | E11: Daudzums | F11: Vienības izmaksas | L11: Kopā uz visu apjomu
F12: laika norma (c/h) | G12: darba samaksas likme (euro/h) | H12: darba alga | I12: būvizstrādājumi | J12: mehānismi | K12: kopā | L12: darbietilpība (c/h) | M12: darba alga | N12: būvizstrādājumi | O12: mehānismi | P12: summa
A13: 1 | B13: 2 | C13: 3 | D13: 4 | E13: 5 | F13: 6 | G13: 7 | H13: 8 | I13: 9 | J13: 10 | K13: 11 | L13: 12 | M13: 13 | N13: 14 | O13: 15 | P13: 16
A15: 1 | B15: 03-00000 | C15: Sagatavošanas darbi
A16: 1 | B16: Līgumcena | C16: Būvdarbu zonas norobežošana uzstādot pagaidu žogu | D16: m | E16: 20
A17: 2 | B17: Līgumcena | C17: Drošības zīmju izvietošana objektā | D17: gb. | E17: 6
A18: 3 | B18: Līgumcena | C18: Esošo inženiertīklu atslēgšana | D18: kpl | E18: 1
A19: 4 | B19: Līgumcena | C19: Pasākumi iekštelpu pasargāšanai no putekļiem veicamo būvdarbu laikā (15 m2 platībā) | D19: kpl | E19: 1
A20: 5 | B20: Līgumcena | C20: 3D žoga paneļa demontāža ēkas iekšpagalmā, atbrīvojot drošu evakuācijas ceļu, iesk. paneļa utilizēšanu | D20: gb. | E20: 1
A22: 2 | B22: 08-00000 | C22: Evakuācijas durvju izbūve
A23: 1 | B23: Līgumcena | C23: Esošā logu bloka demontāža, iesk. būvgružu utilizēšanu | D23: gb. | E23: 1
A24: 2 | B24: Līgumcena | C24: Iekšējās loga palodzes (L=1.15 m) demontāža, iesk. būvgružu utilizēšanu | D24: gb. | E24: 1
A25: 3 | B25: Līgumcena | C25: Ārējās loga palodzes (L=1.15 m) demontāža, iesk. būvgružu utilizēšanu | D25: gb. | E25: 1
A26: 4 | B26: Līgumcena | C26: Esošās ailas paplašināšana mūra sienā, iesk. būvgružu utilizēšanu | D26: m2 | E26: 2.5
A27: 5 | B27: Līgumcena | C27: Esošās ailas pārsedzes pastiprināšana | D27: gb. | E27: 1
A28: 6 | B28: Līgumcena | C28: Ailu malu remonts | D28: m | E28: 6
A29: 7 | B29: Līgumcena | C29: Evakuācijas durvju bloka ar AD-1 (1230 mm x h=2730 mm) montāža izbūvētajā ailā, iesk. stiprinājumus, blīvējumus u.c. montāžas materiālus, pilnā komplektācijā. Durvju konstruktīvais apraksts: stiklotas evakuācijas ārdurvis ar virsgaismas logu, brīvais platums ne mazāks 900 mm, alumīnija vai tērauda profils, rūdīts drošības stikls 6–10 mm, veramas uz āru, aprīkotas ar EN 179 avārijas rokturi iekšpusē un gludu vairogu bez roktura ārpusē, avārijas slēdzene ar vienkāršu atvēršanu, UATS integrācija ar automātisku atbloķēšanu, durvju aizvērējs EN 1154, viras ar anti-lift funkciju (saskaņā ar durvju specifikāciju). | D29: gb. | E29: 1
A30: 8 | B30: Līgumcena | C30: Iekšējās tvaika izolācijas logu lentas montāža | D30: m | E30: 7.92
A31: 9 | B31: Līgumcena | C31: Ārējās tvaika izolācijas logu lentas montāža | D31: m | E31: 7.92
A33: 3 | B33: 07-00000 | C33: Evakuācijas kāpņu konstrukcijas izbūve
A34: 1 | B34: Līgumcena | C34: Pamatu būvbedres rakšana | D34: m3 | E34: 1.2
A35: 2 | B35: Līgumcena | C35: Grunts pamatnes būvbedrē izlīdzināšana un noblīvēšana | D35: m2 | E35: 2
A36: 3 | B36: Līgumcena | C36: Pamatu konstrukcijas 600(b)x1540(l)x800(h)mm izbūve (betons C25/30), iesk. veidņu montāžu, demontāžu u.c. darbu veikšanai nepieciešamos materiālus, palīgmateriālus un mehānismus | D36: m3 | E36: 0.8
A37: 4 | B37: Līgumcena | C37: Pamatu konstrukcijas stiegrošana (d8, d10, B500B), iesk. stiprinājumus u.c. darbu veikšanai nepieciešamos materiālus, palīgmateriālus un mehānismus | D37: t | E37: 0.02
A38: 5 | B38: Līgumcena | C38: Ieliekamo detaļu iebetonēšana (2 x M24 vītņustieņi), iesk. stiprinājumus u.c. darbu veikšanai nepieciešamos materiālus, palīgmateriālus un mehānismus | D38: gb. | E38: 2
A39: 6 | B39: Līgumcena | C39: Cinkotu metāla kāpņu karkasa konstrukciju montāža (U profils UPE220, tērauda kvadrātcaurule 40x40x5mm, S235), iesk. stiprinājumus u.c. darbu veikšanai nepieciešamos materiālus, palīgmateriālus un mehānismus | D39: t | E39: 0.7
A40: 7 | B40: Līgumcena | C40: Kāpņu konstrukcija stiprināšana pie ēkas nesošajām konstrukcijām ar tērauda enkuriem vai ķīļenkuriem (M12–M16). Starp metāla konstrukciju un fasādi paredzēt ugunsdrošas un vibrāciju slāpējošas starplikas montāžu. | D40: gb. | E40: 13
A41: 8 | B41: Līgumcena | C41: Cinkota metāla platformas režģa SP 1475x2495mm montāža, iesk. stiprinājumus u.c. darbu veikšanai nepieciešamos materiālus, palīgmateriālus un mehānismus | D41: gb. | E41: 1
A42: 9 | B42: Līgumcena | C42: Cinkotu, perforētu metāla pakāpienu SP 34x38x3mm (1200mm x 305mm) montāža, iesk. stiprinājumus u.c. darbu veikšanai nepieciešamos materiālus, palīgmateriālus un mehānismus | D42: gb. | E42: 20
A43: 10 | B43: Līgumcena | C43: Cinkotu metāla margu (h=1.10 m) montāža, iesk. stiprinājumus u.c. darbu veikšanai nepieciešamos materiālus, palīgmateriālus un mehānismus. Cinkoti metāla margu lenteņi, izgatavoti no 50×50×3 mm profila. Cinkota metāla margu statņi izgatavoti no 50×50×3 mm profila; H=1100mm. Attīrīts, gruntēts krāsots plakandzelzs no 20x4 mm profila, H795mm. Ārējās evakuācijas kāpnes izgatavotas no A1 ugunsreakcijas klases būvizstrādājumiem (tērauds, cinks), atbilstoši LBN 201-15 5.2. punktam. | D43: m | E43: 16
A44: 4 | B44: 17-00000 | C44: Iekšējo inženiertīklu pārbūve
...
