Workbook

Sheet Koptame
H1: __.pielikums Atklāta konkursa DKNP 2026/___ nolikumam
G3: Apstiprinu
G4: ___________________________________
G5: (pasūtītājs, paraksts un tā atšifrējums)
J6: Z.V.
J7: ______.gada ____.____________
A9: Būvniecības koptāme
A11: Objekta nosaukums: | C11: Ūdens ņemšanas vieta Kalētu pagasta Kalētu ciemā ugunsdzēsības vajadzībām
A13: Būves nosaukums: | C13: =C11 -> Ūdens ņemšanas vieta Kalētu pagasta Kalētu ciemā ugunsdzēsības vajadzībām
A15: Objekta adrese: | C15: Liepu aleja 6, Kalēti, Kalētu pagasts, Dienvidkurzemes novads, LV-3484
A16: Pasūtījuma Nr.:
A19: N. P. K | B19: Objekta nosaukums | G19: Objekta izmaksas (euro)
A20: 1 | B20: =C11 -> Ūdens ņemšanas vieta Kalētu pagasta Kalētu ciemā ugunsdzēsības vajadzībām | G20: =Kops!F22 -> 0
B23: Kopā | G23: =G20 -> 0
A25: PVN | F25: 0.21 | G25: =G23*0.21 -> 0
A28: Sastādīja:
B29: (paraksts un tā atšifrējums, datums)
A30: Pārbaudīja:
B31: (paraksts un tā atšifrējums, datums)

Sheet Kops
A2: Kopsavilkuma aprēķins
A4: Objekta nosaukums: | C4: =Koptame!C11 -> Ūdens ņemšanas vieta Kalētu pagasta Kalētu ciemā ugunsdzēsības vajadzībām
A6: Būves nosaukums: | C6: =C4 -> Ūdens ņemšanas vieta Kalētu pagasta Kalētu ciemā ugunsdzēsības vajadzībām
A8: Objekta adrese: | C8: =Koptame!C15 -> Liepu aleja 6, Kalēti, Kalētu pagasts, Dienvidkurzemes novads, LV-3484
A9: Pasūtījuma Nr.:
C11: Par kopējo summu, (euro) | F11: =F22 -> 0
C12: Kopējā darbietilpība, c/h | F12: =J18 -> 0
A14: N.p.k | B14: Darba veids vai konstruktīvā elementa nosaukums | F14: Tāmes izmaksa | G14: Tai skaitā | J14: Darbietilpība c/h
G15: Darba alga | H15: Būvizstrādājumi | I15: Mehānismi
B16: Būvdarbi
A17: 1 | B17: Vispārceltnieciskie darbi | F17: =Darbi!P26 -> 0 | G17: =Darbi!M26 -> 0 | H17: =Darbi!N26 -> 0 | I17: =Darbi!O26 -> 0 | J17: =Darbi!L26 -> 0
A18: Kopā | F18: =SUM(F17:F17) -> 0 | G18: =SUM(G17:G17) -> 0 | H18: =SUM(H17:H17) -> 0 | I18: =SUM(I17:I17) -> 0 | J18: =SUM(J17:J17) -> 0
A19: Virsizdevumi | E19: %
A20: tajā skaitā darba aizsardzība
A21: Peļņa | E21: %
A22: Pavisam kopā | F22: =F18+F19+F21 -> 0
B24: Sastādīja | C24: __________________
C25: paraksts | F25: paraksta atšifrējums | L25: datums
B28: Pārbaudīja | C28: __________________ | F28: būvprojekta vadītājs
C29: paraksts | F29: paraksta atšifrējums | L29: datums

Sheet Darbi
A1: Pasūtītājs: Izpildītājs: ______________________________ Objekts: Ūdens ņemšanas vieta Kalētu pagasta Kalētu ciemā ugunsdzēsības vajadzībām | K1: APSTIPRINU pasūtītāja paraksts un atšifrējums /datums/
A2: Tāmes sastādīšanas datums 2026. gada ___. _______ Tāmes izmaksas _______________ eiro
A3: Nr. | B3: Darbu un materiālu nosaukums | C3: Mērvienība | D3: Daudzums | E3: Vienības cena | L3: Kopā uz visu apjomu
E4: Laika norma (c/h) | F4: Darba samaksas likme (EUR/h) | G4: Darba alga (EUR) | H4: Materiāli (EUR) | I4: Mehānismi (EUR) | J4: KOPĀ (EUR) | L4: Darbietilpība (C/h) | M4: Darba alga (EUR) | N4: Materiāli (EUR) | O4: Mehānismi (EUR) | P4: SUMMA (EUR)
B5: Dažādi darbi
A6: 1 | B6: Teritorijas uzmērīšanas un nospraušanas darbi | C6: m2 | D6: 30 | G6: =ROUND(E6*F6,2) -> 0 | J6: =ROUND(SUM(G6:I6),2) -> 0 | L6: =ROUND(D6*E6,2) -> 0 | M6: =ROUND(D6*G6,2) -> 0 | N6: =ROUND(D6*H6,2) -> 0 | O6: =ROUND(D6*I6,2) -> 0 | P6: =ROUND(SUM(M6:O6),2) -> 0
A7: 2 | B7: Augu grunts noņemšana 20 cm biezumā, aizvedot uz Izpildītāja atbērtni | C7: m2 | D7: 35 | G7: =ROUND(E7*F7,2) -> 0 | J7: =ROUND(SUM(G7:I7),2) -> 0 | L7: =ROUND(D7*E7,2) -> 0 | M7: =ROUND(D7*G7,2) -> 0 | N7: =ROUND(D7*H7,2) -> 0 | O7: =ROUND(D7*I7,2) -> 0 | P7: =ROUND(SUM(M7:O7),2) -> 0
B8: Būvniecības darbi
A9: 3 | B9: Zemes klātnes ierakuma būvniecība, grunti aizvedot uz Izpildītāja atbērtni | C9: m3 | D9: 9 | G9: =ROUND(E9*F9,2) -> 0 | J9: =ROUND(SUM(G9:I9),2) -> 0 | L9: =ROUND(D9*E9,2) -> 0 | M9: =ROUND(D9*G9,2) -> 0 | N9: =ROUND(D9*H9,2) -> 0 | O9: =ROUND(D9*I9,2) -> 0 | P9: =ROUND(SUM(M9:O9),2) -> 0
A10: 4 | B10: Nepastiprinātas salizturīgās kārtas būvniecība 30 cm biezumā | C10: m3 | D10: 10 | G10: =ROUND(E10*F10,2) -> 0 | J10: =ROUND(SUM(G10:I10),2) -> 0 | L10: =ROUND(D10*E10,2) -> 0 | M10: =ROUND(D10*G10,2) -> 0 | N10: =ROUND(D10*H10,2) -> 0 | O10: =ROUND(D10*I10,2) -> 0 | P10: =ROUND(SUM(M10:O10),2) -> 0
A11: 5 | B11: Nesaistītu minerālmateriālu (0/32s) (N-IIIklase) seguma dilumkārtas būvniecība 20 cm biezumā | C11: m2 | D11: 31 | G11: =ROUND(E11*F11,2) -> 0 | J11: =ROUND(SUM(G11:I11),2) -> 0 | L11: =ROUND(D11*E11,2) -> 0 | M11: =ROUND(D11*G11,2) -> 0 | N11: =ROUND(D11*H11,2) -> 0 | O11: =ROUND(D11*I11,2) -> 0 | P11: =ROUND(SUM(M11:O11),2) -> 0
A12: 6 | B12: Koka aizsargbarjeras būvniecība, H=0.8 m | C12: m | D12: 10 | G12: =ROUND(E12*F12,2) -> 0 | J12: =ROUND(SUM(G12:I12),2) -> 0 | L12: =ROUND(D12*E12,2) -> 0 | M12: =ROUND(D12*G12,2) -> 0 | N12: =ROUND(D12*H12,2) -> 0 | O12: =ROUND(D12*I12,2) -> 0 | P12: =ROUND(SUM(M12:O12),2) -> 0
A13: 7 | B13: Atstarojošas, kompozītmateriāla plāksnes "Ūdens ņemšanas vieta" uzstādīšana | C13: gab | D13: 1 | G13: =ROUND(E13*F13,2) -> 0 | J13: =ROUND(SUM(G13:I13),2) -> 0 | L13: =ROUND(D13*E13,2) -> 0 | M13: =ROUND(D13*G13,2) -> 0 | N13: =ROUND(D13*H13,2) -> 0 | O13: =ROUND(D13*I13,2) -> 0 | P13: =ROUND(SUM(M13:O13),2) -> 0
A14: 8 | B14: Atstarojošas, kompozītmateriāla plāksnes "Piebrauktuve ugunsdzēsības transportam 5 m/5 m" uzstādīšana | C14: gab | D14: 1 | G14: =ROUND(E14*F14,2) -> 0 | J14: =ROUND(SUM(G14:I14),2) -> 0 | L14: =ROUND(D14*E14,2) -> 0 | M14: =ROUND(D14*G14,2) -> 0 | N14: =ROUND(D14*H14,2) -> 0 | O14: =ROUND(D14*I14,2) -> 0 | P14: =ROUND(SUM(M14:O14),2) -> 0
A15: 9 | B15: Cinkota metāla staba uzstādīšana | C15: gab | D15: 1 | G15: =ROUND(E15*F15,2) -> 0 | J15: =ROUND(SUM(G15:I15),2) -> 0 | L15: =ROUND(D15*E15,2) -> 0 | M15: =ROUND(D15*G15,2) -> 0 | N15: =ROUND(D15*H15,2) -> 0 | O15: =ROUND(D15*I15,2) -> 0 | P15: =ROUND(SUM(M15:O15),2) -> 0
A16: 10 | B16: Zālāja atjaunošana, apzaļumošana ar augu zemi ar daudzgadīgā zālāja sēklām 10 cm biezumā | C16: m2 | D16: 8 | G16: =ROUND(E16*F16,2) -> 0 | J16: =ROUND(SUM(G16:I16),2) -> 0 | L16: =ROUND(D16*E16,2) -> 0 | M16: =ROUND(D16*G16,2) -> 0 | N16: =ROUND(D16*H16,2) -> 0 | O16: =ROUND(D16*I16,2) -> 0 | P16: =ROUND(SUM(M16:O16),2) -> 0
B17: Dažādi darbi
A18: 1 | B18: Ūdenstilpnes nogāzes attīrīšana no apaugumiem un utilizācija | C18: m2 | D18: 22 | G18: =ROUND(E18*F18,2) -> 0 | J18: =ROUND(SUM(G18:I18),2) -> 0 | L18: =ROUND(D18*E18,2) -> 0 | M18: =ROUND(D18*G18,2) -> 0 | N18: =ROUND(D18*H18,2) -> 0 | O18: =ROUND(D18*I18,2) -> 0 | P18: =ROUND(SUM(M18:O18),2) -> 0
B19: Būvniecības darbi
A20: 2 | B20: Dzelzsbetona aku grodu, pamatnes un pārseguma konstrukciju saliekamās akas D1000 izbūve no ražotiem dzelzsbetona elementiem, ar blīvgumiju grodu savienojumu vietās, slapjā gruntī, H÷3.0 m | C20: kpl | D20: 1 | G20: =ROUND(E20*F20,2) -> 0 | J20: =ROUND(SUM(G20:I20),2) -> 0 | L20: =ROUND(D20*E20,2) -> 0 | M20: =ROUND(D20*G20,2) -> 0 | N20: =ROUND(D20*H20,2) -> 0 | O20: =ROUND(D20*I20,2) -> 0 | P20: =ROUND(SUM(M20:O20),2) -> 0
A21: 3 | B21: Siltināta grodu lūka POLYMER 790 ar slēdzi, H-80 mm, ar putuplasta izolāciju 80 mm biezumā (D=700 mm), A15 slodzes klasei, saskaņā ar LVS EN 124-6 | C21: kpl | D21: 1 | G21: =ROUND(E21*F21,2) -> 0 | J21: =ROUND(SUM(G21:I21),2) -> 0 | L21: =ROUND(D21*E21,2) -> 0 | M21: =ROUND(D21*G21,2) -> 0 | N21: =ROUND(D21*H21,2) -> 0 | O21: =ROUND(D21*I21,2) -> 0 | P21: =ROUND(SUM(M21:O21),2) -> 0
A22: 4 | B22: Hidroizolācijas mastika | C22: kg | D22: 22 | G22: =ROUND(E22*F22,2) -> 0 | J22: =ROUND(SUM(G22:I22),2) -> 0 | L22: =ROUND(D22*E22,2) -> 0 | M22: =ROUND(D22*G22,2) -> 0 | N22: =ROUND(D22*H22,2) -> 0 | O22: =ROUND(D22*I22,2) -> 0 | P22: =ROUND(SUM(M22:O22),2) -> 0
A23: 5 | B23: Šķembas (fr. 10-60) dzelzsbetona akas pamatnei | C23: m3 | D23: 0.2 | G23: =ROUND(E23*F23,2) -> 0 | J23: =ROUND(SUM(G23:I23),2) -> 0 | L23: =ROUND(D23*E23,2) -> 0 | M23: =ROUND(D23*G23,2) -> 0 | N23: =ROUND(D23*H23,2) -> 0 | O23: =ROUND(D23*I23,2) -> 0 | P23: =ROUND(SUM(M23:O23),2) -> 0
A24: 6 | B24: GIGAPIPE PP SN8 gofrētā dubultsienu B tipa pašteces kanalizācijas caurule OD 400 mm ar savienošanas veidgabaliem, iebūve slapjā gruntī, H=÷1.40 m | C24: m | D24: 6 | G24: =ROUND(E24*F24,2) -> 0 | J24: =ROUND(SUM(G24:I24),2) -> 0 | L24: =ROUND(D24*E24,2) -> 0 | M24: =ROUND(D24*G24,2) -> 0 | N24: =ROUND(D24*H24,2) -> 0 | O24: =ROUND(D24*I24,2) -> 0 | P24: =ROUND(SUM(M24:O24),2) -> 0
A25: 7 | B25: Caurules pamatnes smilts vai grants pabēruma un apbēruma izbūve 15 cm biezumā | C25: m3 | D25: 3.5 | G25: =ROUND(E25*F25,2) -> 0 | J25: =ROUND(SUM(G25:I25),2) -> 0 | L25: =ROUND(D25*E25,2) -> 0 | M25: =ROUND(D25*G25,2) -> 0 | N25: =ROUND(D25*H25,2) -> 0 | O25: =ROUND(D25*I25,2) -> 0 | P25: =ROUND(SUM(M25:O25),2) -> 0
E26: Kopā, tai skaitā soc. nodoklis | L26: =SUM(L6:L25) -> 0 | M26: =SUM(M6:M25) -> 0 | N26: =SUM(N6:N25) -> 0 | O26: =SUM(O6:O25) -> 0 | P26: =SUM(P6:P25) -> 0
A28: Sastādīja:
