Workbook

Sheet KOPTĀME
B1: Latvijas būvnormatīvam LBN 501-17 "Būvizmaksu noteikšanas kārtība" (Apstiprināts ar Ministru kabineta 2017. gada 3. maija noteikumiem Nr. 239), 7.pielikums
B2: APSTIPRINU
C4: (pasūtītāja paraksts un tā atšifrējums)
C6: Z.v.
C8: 20___.gada ___._________________
A11: BŪVNIECĪBAS KOPTĀME
A13: Objekta nosaukums: Draudzīgā aicinājuma Liepājas 5.vidusskolas ēkas pamatu sanācija un lietus kanalizācijas tīkla izbūve Rīgas ielā 50, Liepājā
A14: Būves nosaukums: Ēka
A15: Objekta adrese: Rīgas ielā 50, Liepājā
A16: Pasūtījuma Nr. LVP 2026/138
A18: Nr.p.k. | B18: Objekta nosaukums | C18: Objekta izmaksas (euro)
A19: 1. | B19: ='1_Kopsavilkums'!A3 -> Draudzīgā aicinājuma Liepājas pilsētas 5.vidusskolas ēkas pamatu sanācija (posmā gar Rīgas ielas fasādi) Rīgas ielā 50, Liepājā (BK daļa) | C19: ='1_Kopsavilkums'!E21 -> 0
A20: 2. | B20: ='2_Kopsavilkums'!A3 -> Draudzīgā aicinājuma Liepājas pilsētas 5.vidusskolas ēkas lietus kanalizācijas tīkla izbūve (posmā gar Rīgas ielas fasādi), Rīgas ielā 50, Liepājā (LKT darbi) | C20: ='2_Kopsavilkums'!E22 -> 0
A21: Kopā | C21: =SUM(C19:C20) -> 0
A23: PVN (21%) | C23: =ROUND(C21*0.21,2) -> 0
A26: Sastādīja
B27: (paraksts un tā atšifrējums, uzņēmuma nosaukums, datums)
A29: Sertifikāta Nr.
A31: Tāme sastādīta

Sheet 1_Kopsavilkums
I1: 03.05.2017. MK noteikumu Nr.239 6.pielikums
A2: KOPSAVILKUMA APRĒĶINS Nr.1
A3: Draudzīgā aicinājuma Liepājas pilsētas 5.vidusskolas ēkas pamatu sanācija (posmā gar Rīgas ielas fasādi) Rīgas ielā 50, Liepājā (BK daļa)
A4: (būvdarba veids vai konstruktīvā elementa nosaukums)
A5: =KOPTĀME!A13 -> Objekta nosaukums: Draudzīgā aicinājuma Liepājas 5.vidusskolas ēkas pamatu sanācija un lietus kanalizācijas tīkla izbūve Rīgas ielā 50, Liepājā
A6: =KOPTĀME!A14 -> Būves nosaukums: Ēka
A7: =KOPTĀME!A15 -> Objekta adrese: Rīgas ielā 50, Liepājā
A8: =KOPTĀME!A16 -> Pasūtījuma Nr. LVP 2026/138
A9: Būvniecības lieta Nr.BIS-BL-450600-11260
G10: Par kopējo summu (euro) | H10: =E21 -> 0
G11: Kopējā darbietilpība (c/h) | H11: =I17 -> 0
A14: Nr.p.k. | B14: Kods, tāmes Nr. | C14: Būvdarbu veids vai konstruktīvā elementa nosaukums | E14: Tāmes izmaksas | F14: Tai skaitā | I14: Darbietilpība c/h
F15: darba alga | G15: būvizstrādājumi | H15: mehānismi
A16: 1. | B16: ='1-1_BK'!D2 -> 1-1 | C16: ='1-1_BK'!A3 -> Būvkonstrukciju daļa | E16: ='1-1_BK'!P86 -> 0 | F16: ='1-1_BK'!M86 -> 0 | G16: ='1-1_BK'!N86 -> 0 | H16: ='1-1_BK'!O86 -> 0 | I16: ='1-1_BK'!L86 -> 0
A17: Kopā | E17: =SUM(E16:E16) -> 0 | F17: =SUM(F16:F16) -> 0 | G17: =SUM(G16:G16) -> 0 | H17: =SUM(H16:H16) -> 0 | I17: =SUM(I16:I16) -> 0
A18: Virsizdevumi (%) | E18: =ROUND(E17*D18,2) -> 0
A19: t.sk.darba aizsardzība | E19: =ROUND(D19*E18,2) -> 0
A20: Peļņa (%) | E20: =ROUND(E17*D20,2) -> 0
A21: Pavisam KOPĀ | E21: =E17+E18+E20 -> 0
B25: Sastādīja | C25: =KOPTĀME!B26
C26: (paraksts un tā atšifrējums, uzņēmuma nosaukums, datums)
B28: =KOPTĀME!A31 -> Tāme sastādīta | C28: =KOPTĀME!B31 -> 0
B30: Pārbaudīja
C31: (paraksts un tā atšifrējums, uzņēmuma nosaukums, datums)
B33: Sertifikāta Nr. | C33: =KOPTĀME!B29 -> 0

Sheet 1-1_BK
P1: 03.05.2017. MK noteikumu Nr.239 5.pielikums
C2: LOKĀLĀ TĀME Nr. | D2: 1-1
A3: Būvkonstrukciju daļa
A4: (būvdarbu veids vai konstruktīvā elementa nosaukums)
A5: ='1_Kopsavilkums'!A5:I5 -> Objekta nosaukums: Draudzīgā aicinājuma Liepājas 5.vidusskolas ēkas pamatu sanācija un lietus kanalizācijas tīkla izbūve Rīgas ielā 50, Liepājā
A6: =KOPTĀME!A14 -> Būves nosaukums: Ēka
A7: =KOPTĀME!A15 -> Objekta adrese: Rīgas ielā 50, Liepājā
A8: =KOPTĀME!A16 -> Pasūtījuma Nr. LVP 2026/138
A9: ='1_Kopsavilkums'!A9 -> Būvniecības lieta Nr.BIS-BL-450600-11260
A11: Tāme sastādīta 2026. gada tirgus cenās, pamatojoties uz apsekojumu un darba apjomiem
M12: Tāmes izmaksas | N12: =P86 -> 0 | P12: euro
M13: Tāme sastādīta | N13: =KOPTĀME!B31 -> 0
A15: Nr.p.k. | B15: Kods | C15: Būvdarbu nosaukums | D15: Mērvienība | E15: Daudzums | F15: Vienības izmaksas | L15: Kopā uz visu apjomu
F16: laika norma (c/h) | G16: darba samaksas likme* (euro/h) | H16: darba alga | I16: būvizstrādājumi | J16: mehānismi | K16: kopā | L16: darbietilpība (c/h) | M16: darba alga | N16: būvizstrādājumi | O16: mehānismi | P16: summa
C17: Pamatu sanācijas darbu apjomi 3.posmā (posms gar Rīgas ielu)
C18: Demontāžas darbi 3.posmā, lapa BK-3
C19: Betona apmales, b=10cm, B=1m, demontāža pa asi D-D/2-2/F-F:
A20: 1 | B20: līg.c. | C20: * Rīgas ielas puse: seklie pamati=24,3m²; dziļie pamati=34,6m² | D20: m² | E20: 59 | H20: =ROUND(F20*G20,2) -> 0 | K20: =H20+I20+J20 -> 0 | L20: =ROUND(E20*F20,2) -> 0 | M20: =ROUND(E20*H20,2) -> 0 | N20: =ROUND(E20*I20,2) -> 0 | O20: =ROUND(E20*J20,2) -> 0 | P20: =M20+N20+O20 -> 0
A21: 2 | B21: līg.c. | C21: Betona kāpņu un kāpņu pamatu demontāža Rīgas ielas pusē (0,75+0,15)m³ | D21: m³ | E21: 0.9 | H21: =ROUND(F21*G21,2) -> 0 | K21: =H21+I21+J21 -> 0 | L21: =ROUND(E21*F21,2) -> 0 | M21: =ROUND(E21*H21,2) -> 0 | N21: =ROUND(E21*I21,2) -> 0 | O21: =ROUND(E21*J21,2) -> 0 | P21: =M21+N21+O21 -> 0
A22: 3 | B22: līg.c. | C22: Jumta noteku apakšējo galu demontāža, l=0.5m, un aizsargrežģu, L=1,8m, noņemšana uz būvdarbu laiku: Rīgas ielas pusē seklie pamati 4gb/dziļie pamati 3gb | D22: gb | E22: 7 | H22: =ROUND(F22*G22,2) -> 0 | K22: =H22+I22+J22 -> 0 | L22: =ROUND(E22*F22,2) -> 0 | M22: =ROUND(E22*H22,2) -> 0 | N22: =ROUND(E22*I22,2) -> 0 | O22: =ROUND(E22*J22,2) -> 0 | P22: =M22+N22+O22 -> 0
A23: 4 | B23: līg.c. | C23: Grunts atrašana 2.5* m platā joslā pa grunts nobiruma leņķi, apjomu precizēt pēc vietas (projektā paredzēts iespējamais lielākais zemes darbu apjoms; seklāk iebūvētu pamatu zonā grunts izstrāde var samazināties-visi pamatu veidi netika atrakti) skat. šķ.1-1 un 2-2; melnzemi nodalīt iespēju robežās zālāja atjaunošanai; izrakto košuma krūmu saglabāšanu un atpakaļstādīšanu vērtē pasūtītājs: seklie pamati=43.2m³; dziļie pamati=178.6m³ | D23: m³ | E23: 221.8 | H23: =ROUND(F23*G23,2) -> 0 | K23: =H23+I23+J23 -> 0 | L23: =ROUND(E23*F23,2) -> 0 | M23: =ROUND(E23*H23,2) -> 0 | N23: =ROUND(E23*I23,2) -> 0 | O23: =ROUND(E23*J23,2) -> 0 | P23: =M23+N23+O23 -> 0
A24: 5 | B24: līg.c. | C24: Putupolistirola siltinājuma, b=5cm, L=61,8m, demontāža no virspamata: | D24: m² | E24: 41.5 | H24: =ROUND(F24*G24,2) -> 0 | K24: =H24+I24+J24 -> 0 | L24: =ROUND(E24*F24,2) -> 0 | M24: =ROUND(E24*H24,2) -> 0 | N24: =ROUND(E24*I24,2) -> 0 | O24: =ROUND(E24*J24,2) -> 0 | P24: =M24+N24+O24 -> 0
C25: Pamatu sanācijas darbi
A26: 6 | B26: līg.c. | C26: Pamatu virsmas notīrīšana ar smilšu vai ūdens strūklu, dziļo pamatu zonā tīrāmās virsmas l=3,5m; seklo pamatu zonā tīrāmās virsmas l=2,2m; seklie pamati=54,1m²; dziļie pamati=130,2m² | D26: m² | E26: 184.3 | H26: =ROUND(F26*G26,2) -> 0 | K26: =H26+I26+J26 -> 0 | L26: =ROUND(E26*F26,2) -> 0 | M26: =ROUND(E26*H26,2) -> 0 | N26: =ROUND(E26*I26,2) -> 0 | O26: =ROUND(E26*J26,2) -> 0 | P26: =M26+N26+O26 -> 0
A27: 7 | B27: līg.c. | C27: Pamatu mūra izdrupumu remonts ar cementa javu 1:3 ar piedevu Asoplast-MZ (vai ekvivalents)/ūdens attiecībā 1/4 | D27: m² | E27: 184.3 | H27: =ROUND(F27*G27,2) -> 0 | K27: =H27+I27+J27 -> 0 | L27: =ROUND(E27*F27,2) -> 0 | M27: =ROUND(E27*H27,2) -> 0 | N27: =ROUND(E27*I27,2) -> 0 | O27: =ROUND(E27*J27,2) -> 0 | P27: =M27+N27+O27 -> 0
A28: 7.1. | C28: Mūrjava (stiprība līdzīga esošajai) | D28: kg | E28: 92.15 | H28: =ROUND(F28*G28,2) -> 0 | K28: =H28+I28+J28 -> 0 | L28: =ROUND(E28*F28,2) -> 0 | M28: =ROUND(E28*H28,2) -> 0 | N28: =ROUND(E28*I28,2) -> 0 | O28: =ROUND(E28*J28,2) -> 0 | P28: =M28+N28+O28 -> 0
A29: 7.2. | C29: Piedeva ASOPLAST-MZ (vai ekvivalents) | D29: kg | E29: 7.37 | H29: =ROUND(F29*G29,2) -> 0 | K29: =H29+I29+J29 -> 0 | L29: =ROUND(E29*F29,2) -> 0 | M29: =ROUND(E29*H29,2) -> 0 | N29: =ROUND(E29*I29,2) -> 0 | O29: =ROUND(E29*J29,2) -> 0 | P29: =M29+N29+O29 -> 0
A30: 8 | B30: līg.c. | C30: Vertikālās hidroizolācijas, AQUAFIN-2K/M-Plus(vai ekvivalents), ierīkošana uz pamatu virsmas divās kārtās, orientējošs materiāla patēriņš 2kg/m² | D30: m² | E30: 184.3 | H30: =ROUND(F30*G30,2) -> 0 | K30: =H30+I30+J30 -> 0 | L30: =ROUND(E30*F30,2) -> 0 | M30: =ROUND(E30*H30,2) -> 0 | N30: =ROUND(E30*I30,2) -> 0 | O30: =ROUND(E30*J30,2) -> 0 | P30: =M30+N30+O30 -> 0
A31: 8.1. | C31: Izolācija AQUAFIN-2K/M-Plus (vai ekvivalents) | D31: kg | E31: 368.6 | H31: =ROUND(F31*G31,2) -> 0 | K31: =H31+I31+J31 -> 0 | L31: =ROUND(E31*F31,2) -> 0 | M31: =ROUND(E31*H31,2) -> 0 | N31: =ROUND(E31*I31,2) -> 0 | O31: =ROUND(E31*J31,2) -> 0 | P31: =M31+N31+O31 -> 0
A32: 9 | B32: līg.c. | C32: PVC lāseņa iestrāde ārsienas un cokola salaidumā, L=58m | D32: m | E32: 61.8 | H32: =ROUND(F32*G32,2) -> 0 | K32: =H32+I32+J32 -> 0 | L32: =ROUND(E32*F32,2) -> 0 | M32: =ROUND(E32*H32,2) -> 0 | N32: =ROUND(E32*I32,2) -> 0 | O32: =ROUND(E32*J32,2) -> 0 | P32: =M32+N32+O32 -> 0
A33: 10 | B33: līg.c. | C33: Pamatu siltināšana vertikālā virsmā, Tenapors NEO EPS 100 (vai ekvivalents), b=50, uz gruntētas virsmas un noklātas līmjavas (šķ.1-1, 2-2); dziļiem pamatiem h=2.7m, sekliem 1,7m | D33: m² | E33: 142.3 | H33: =ROUND(F33*G33,2) -> 0 | K33: =H33+I33+J33 -> 0 | L33: =ROUND(E33*F33,2) -> 0 | M33: =ROUND(E33*H33,2) -> 0 | N33: =ROUND(E33*I33,2) -> 0 | O33: =ROUND(E33*J33,2) -> 0 | P33: =M33+N33+O33 -> 0
A34: 10.1. | C34: Grunts Cerasit (vai ekvivalents) CT 17 | D34: kg | E34: 42.7 | H34: =ROUND(F34*G34,2) -> 0 | K34: =H34+I34+J34 -> 0 | L34: =ROUND(E34*F34,2) -> 0 | M34: =ROUND(E34*H34,2) -> 0 | N34: =ROUND(E34*I34,2) -> 0 | O34: =ROUND(E34*J34,2) -> 0 | P34: =M34+N34+O34 -> 0
A35: 10.2. | C35: Līmjava Ceresit (vai ekvivalents) CT 190 | D35: kg | E35: 1280.7 | H35: =ROUND(F35*G35,2) -> 0 | K35: =H35+I35+J35 -> 0 | L35: =ROUND(E35*F35,2) -> 0 | M35: =ROUND(E35*H35,2) -> 0 | N35: =ROUND(E35*I35,2) -> 0 | O35: =ROUND(E35*J35,2) -> 0 | P35: =M35+N35+O35 -> 0
A36: 10.3. | C36: Siltinājums - putupolistirola plāksne Tenapors (vai ekvivalents) Neo EPS 100, b=50mm | D36: m² | E36: 156.5 | H36: =ROUND(F36*G36,2) -> 0 | K36: =H36+I36+J36 -> 0 | L36: =ROUND(E36*F36,2) -> 0 | M36: =ROUND(E36*H36,2) -> 0 | N36: =ROUND(E36*I36,2) -> 0 | O36: =ROUND(E36*J36,2) -> 0 | P36: =M36+N36+O36 -> 0
A37: 11 | B37: līg.c. | C37: Cokola apdare ar apmetuma sistēmu AS-1 (BK-3): 2 kārtās armējoša java un armējošs stikla šķiedras siets, 160g/m², zemapmetuma grunts, dekoratīvs gatavs silikāta-silikona esošā tonī krāsots apmetums, 2mm (cokola augstums vidēji h=0.56m; kop.L=58m | D37: m² | E37: 41.5 | H37: =ROUND(F37*G37,2) -> 0 | K37: =H37+I37+J37 -> 0 | L37: =ROUND(E37*F37,2) -> 0 | M37: =ROUND(E37*H37,2) -> 0 | N37: =ROUND(E37*I37,2) -> 0 | O37: =ROUND(E37*J37,2) -> 0 | P37: =M37+N37+O37 -> 0
A38: 11.1. | C38: Grunts Ceresit CT 16 (vai ekvivalents) | D38: kg | E38: 12.45 | H38: =ROUND(F38*G38,2) -> 0 | K38: =H38+I38+J38 -> 0 | L38: =ROUND(E38*F38,2) -> 0 | M38: =ROUND(E38*H38,2) -> 0 | N38: =ROUND(E38*I38,2) -> 0 | O38: =ROUND(E38*J38,2) -> 0 | P38: =M38+N38+O38 -> 0
A39: 11.2. | C39: Līmjava 4mm | D39: kg | E39: 207.5 | H39: =ROUND(F39*G39,2) -> 0 | K39: =H39+I39+J39 -> 0 | L39: =ROUND(E39*F39,2) -> 0 | M39: =ROUND(E39*H39,2) -> 0 | N39: =ROUND(E39*I39,2) -> 0 | O39: =ROUND(E39*J39,2) -> 0 | P39: =M39+N39+O39 -> 0
A40: 11.3. | C40: Armējošais stiklšķiedras siets - 160g/m², 2 kārtas | D40: m² | E40: 91.3 | H40: =ROUND(F40*G40,2) -> 0 | K40: =H40+I40+J40 -> 0 | L40: =ROUND(E40*F40,2) -> 0 | M40: =ROUND(E40*H40,2) -> 0 | N40: =ROUND(E40*I40,2) -> 0 | O40: =ROUND(E40*J40,2) -> 0 | P40: =M40+N40+O40 -> 0
A41: 11.4. | C41: Grunts Ceresit CT 16 (vai ekvivalents) | D41: kg | E41: 20.75 | H41: =ROUND(F41*G41,2) -> 0 | K41: =H41+I41+J41 -> 0 | L41: =ROUND(E41*F41,2) -> 0 | M41: =ROUND(E41*H41,2) -> 0 | N41: =ROUND(E41*I41,2) -> 0 | O41: =ROUND(E41*J41,2) -> 0 | P41: =M41+N41+O41 -> 0
A42: 11.5. | C42: Siliktā -silikona homogēnais apmetums Ceresit CT174 (vai ekvivalents), 2mm graudu lielums | D42: kg | E42: 153.55 | H42: =ROUND(F42*G42,2) -> 0 | K42: =H42+I42+J42 -> 0 | L42: =ROUND(E42*F42,2) -> 0 | M42: =ROUND(E42*H42,2) -> 0 | N42: =ROUND(E42*I42,2) -> 0 | O42: =ROUND(E42*J42,2) -> 0 | P42: =M42+N42+O42 -> 0
A43: 12 | B43: līg.c. | C43: Cokola krāsojuma atjaunošana Rīgas ielas puses pagraba kāpņu telpas nojumes ārsienai, h=0.7m; L=7.8m esošam analogā tonī | D43: m² | E43: 5.5 | H43: =ROUND(F43*G43,2) -> 0 | K43: =H43+I43+J43 -> 0 | L43: =ROUND(E43*F43,2) -> 0 | M43: =ROUND(E43*H43,2) -> 0 | N43: =ROUND(E43*I43,2) -> 0 | O43: =ROUND(E43*J43,2) -> 0 | P43: =M43+N43+O43 -> 0
A44: 13 | B44: līg.c. | C44: Ārsienas apakšējās joslas, h=0,1m, krāsojuma atjaunošana analogi esošam, pēc lāseņa iestrādes cokolā: seklie pamati=2.5m²; dziļie pamati=3.7m² | D44: m² | E44: 6.2 | H44: =ROUND(F44*G44,2) -> 0 | K44: =H44+I44+J44 -> 0 | L44: =ROUND(E44*F44,2) -> 0 | M44: =ROUND(E44*H44,2) -> 0 | N44: =ROUND(E44*I44,2) -> 0 | O44: =ROUND(E44*J44,2) -> 0 | P44: =M44+N44+O44 -> 0
A45: 14 | B45: līg.c. | C45: Apakšzemes siltinājuma aizsardzība pret grunts spiedienu un mitrumu: ģeomembrāna,GXP Plus 400 (vai ekvivalents), pamatu vertikālā daļā (dziļiem pamatiem h=2.2m; sekliem pamatiem h=1.2m: seklie pamati=29.5m²; dziļie pamati=81,8m²) | D45: m² | E45: 111.3 | H45: =ROUND(F45*G45,2) -> 0 | K45: =H45+I45+J45 -> 0 | L45: =ROUND(E45*F45,2) -> 0 | M45: =ROUND(E45*H45,2) -> 0 | N45: =ROUND(E45*I45,2) -> 0 | O45: =ROUND(E45*J45,2) -> 0 | P45: =M45+N45+O45 -> 0
A46: 15 | B46: līg.c. | C46: Ģeotekstils (stiepes izturība 90g/m2; enerģijas absorbācija 1,8kJ/m2; izturība pret bojājumiem 500N; plūsmas ātrums (H=10 cm) 175 l/(m2.s); atvēruma izmērs 175µmpamatu) pamatu vertikālā daļā un ap drenāžas šķembām (šķ.1-1, 2-2)- dziļiem pamatiem l=4m; sekliem pamatiem l=3m: seklie pamati=81m²; dziļie pamati=188m² | D46: m² | E46: 269 | H46: =ROUND(F46*G46,2) -> 0 | K46: =H46+I46+J46 -> 0 | L46: =ROUND(E46*F46,2) -> 0 | M46: =ROUND(E46*H46,2) -> 0 | N46: =ROUND(E46*I46,2) -> 0 | O46: =ROUND(E46*J46,2) -> 0 | P46: =M46+N46+O46 -> 0
C47: Drenāžas izbūvi un šķembu apjomu skat.atsevišķi izstrādātos rasējumos
A48: 16 | B48: līg.c. | C48: Grunts atpakaļatbēršana gar pamatiem ar blietēšanu, apjomu precizēt: seklie pamati=29m³; dziļie pamati=158m³ | D48: m³ | E48: 187 | H48: =ROUND(F48*G48,2) -> 0 | K48: =H48+I48+J48 -> 0 | L48: =ROUND(E48*F48,2) -> 0 | M48: =ROUND(E48*H48,2) -> 0 | N48: =ROUND(E48*I48,2) -> 0 | O48: =ROUND(E48*J48,2) -> 0 | P48: =M48+N48+O48 -> 0
C49: Pamatu drenāžas izbūve un šķembu apjoms atsev.izstrādātos rasējumos
C50: Apmaļu un segumu atjaunošana, citi darbi
A51: 17 | B51: līg.c. | C51: Bruģētas apmales, B=1*m, ierīkošana (BK-4, BK-5) pēc sastāva lapā BK-5: blietēta grunts/drenējoša smilts,b=250, filtrāc.koef.>1m³/dnn/ šķembas, fr.0÷32mm, b=150/šķembu izsijas, b=50 / betona bruģakmens, b=60: seklie pamati=27,2m²; dziļie pamati=39m² | D51: m² | E51: 66.2 | H51: =ROUND(F51*G51,2) -> 0 | K51: =H51+I51+J51 -> 0 | L51: =ROUND(E51*F51,2) -> 0 | M51: =ROUND(E51*H51,2) -> 0 | N51: =ROUND(E51*I51,2) -> 0 | O51: =ROUND(E51*J51,2) -> 0 | P51: =M51+N51+O51 -> 0
A52: 17.1. | C52: Bruģakmens bortiņa, BR100.20.8 (lxhxb), ierīkošana: seklie pamati=26m; dziļie pamati=45m | D52: m | E52: 71 | H52: =ROUND(F52*G52,2) -> 0 | K52: =H52+I52+J52 -> 0 | L52: =ROUND(E52*F52,2) -> 0 | M52: =ROUND(E52*H52,2) -> 0 | N52: =ROUND(E52*I52,2) -> 0 | O52: =ROUND(E52*J52,2) -> 0 | P52: =M52+N52+O52 -> 0
A53: 17.2. | C53: Betona, C30/37, lentv.pamati 250(h)x300) zem bortmalas: seklie pamati=2m³; dziļie pamati=3.4m³ | D53: m³ | E53: 5.4 | H53: =ROUND(F53*G53,2) -> 0 | K53: =H53+I53+J53 -> 0 | L53: =ROUND(E53*F53,2) -> 0 | M53: =ROUND(E53*H53,2) -> 0 | N53: =ROUND(E53*I53,2) -> 0 | O53: =ROUND(E53*J53,2) -> 0 | P53: =M53+N53+O53 -> 0
A54: 18 | B54: līg.c. | C54: Bruģētas apmales, B=1*m, ierīkošana (BK-4, BK-5) pēc sastāva lapā BK-5: blietēta grunts/drenējoša smilts,b=200, filtrāc.koef.>1m³/dnn/ šķembas, fr.0÷32mm, b=150/cementa-sausas smilts maisījums 1:8, b=50 / betona bruģakmens, b=60: seklie pamati=27,2m²; dziļie pamati=39m² | D54: m² | E54: 66.2 | H54: =ROUND(F54*G54,2) -> 0 | K54: =H54+I54+J54 -> 0 | L54: =ROUND(E54*F54,2) -> 0 | M54: =ROUND(E54*H54,2) -> 0 | N54: =ROUND(E54*I54,2) -> 0 | O54: =ROUND(E54*J54,2) -> 0 | P54: =M54+N54+O54 -> 0
A55: 18.1. | C55: * blietēta grunts seguma sagatavošanas zonā | D55: m² | E55: 66.2 | H55: =ROUND(F55*G55,2) -> 0 | K55: =H55+I55+J55 -> 0 | L55: =ROUND(E55*F55,2) -> 0 | M55: =ROUND(E55*H55,2) -> 0 | N55: =ROUND(E55*I55,2) -> 0 | O55: =ROUND(E55*J55,2) -> 0 | P55: =M55+N55+O55 -> 0
A56: 18.2. | C56: * drenējoša smlits slāņa, b=200, ierīkošana, filtrāc.koef.>1m³/dnn | D56: m³ | E56: 14.6 | H56: =ROUND(F56*G56,2) -> 0 | K56: =H56+I56+J56 -> 0 | L56: =ROUND(E56*F56,2) -> 0 | M56: =ROUND(E56*H56,2) -> 0 | N56: =ROUND(E56*I56,2) -> 0 | O56: =ROUND(E56*J56,2) -> 0 | P56: =M56+N56+O56 -> 0
A57: 18.3. | C57: * šķembu sagatavojuma kārta, fr.0÷32mm, b=150 | D57: m³ | E57: 10.9 | H57: =ROUND(F57*G57,2) -> 0 | K57: =H57+I57+J57 -> 0 | L57: =ROUND(E57*F57,2) -> 0 | M57: =ROUND(E57*H57,2) -> 0 | N57: =ROUND(E57*I57,2) -> 0 | O57: =ROUND(E57*J57,2) -> 0 | P57: =M57+N57+O57 -> 0
A58: 18.4. | C58: * cementa-sausas smilts 1:8 maisījums, b=50 | D58: m³ | E58: 3.6 | H58: =ROUND(F58*G58,2) -> 0 | K58: =H58+I58+J58 -> 0 | L58: =ROUND(E58*F58,2) -> 0 | M58: =ROUND(E58*H58,2) -> 0 | N58: =ROUND(E58*I58,2) -> 0 | O58: =ROUND(E58*J58,2) -> 0 | P58: =M58+N58+O58 -> 0
A59: 18.5. | C59: * betona bruģakmens, b=60, seguma ieklāšana, B~2m | D59: m² | E59: 66.2 | H59: =ROUND(F59*G59,2) -> 0 | K59: =H59+I59+J59 -> 0 | L59: =ROUND(E59*F59,2) -> 0 | M59: =ROUND(E59*H59,2) -> 0 | N59: =ROUND(E59*I59,2) -> 0 | O59: =ROUND(E59*J59,2) -> 0 | P59: =M59+N59+O59 -> 0
A60: 18.6. | C60: * bruģa laistīšana cementa-smilts sacietēšanai | D60: m² | E60: 66.2 | H60: =ROUND(F60*G60,2) -> 0 | K60: =H60+I60+J60 -> 0 | L60: =ROUND(E60*F60,2) -> 0 | M60: =ROUND(E60*H60,2) -> 0 | N60: =ROUND(E60*I60,2) -> 0 | O60: =ROUND(E60*J60,2) -> 0 | P60: =M60+N60+O60 -> 0
A61: 19 | B61: līg.c. | C61: Zālāja atjaunošana pēc bruģa ieklāšanas (precizēt pēc vietas) | D61: m² | E61: 111.3 | H61: =ROUND(F61*G61,2) -> 0 | K61: =H61+I61+J61 -> 0 | L61: =ROUND(E61*F61,2) -> 0 | M61: =ROUND(E61*H61,2) -> 0 | N61: =ROUND(E61*I61,2) -> 0 | O61: =ROUND(E61*J61,2) -> 0 | P61: =M61+N61+O61 -> 0
A62: 20 | C62: Melnzeme | D62: m³ | E62: 36.73 | H62: =ROUND(F62*G62,2) -> 0 | K62: =H62+I62+J62 -> 0 | L62: =ROUND(E62*F62,2) -> 0 | M62: =ROUND(E62*H62,2) -> 0 | N62: =ROUND(E62*I62,2) -> 0 | O62: =ROUND(E62*J62,2) -> 0 | P62: =M62+N62+O62 -> 0
A63: 21 | C63: zālāju sēklas | D63: kg | E63: 0.22 | H63: =ROUND(F63*G63,2) -> 0 | K63: =H63+I63+J63 -> 0 | L63: =ROUND(E63*F63,2) -> 0 | M63: =ROUND(E63*H63,2) -> 0 | N63: =ROUND(E63*I63,2) -> 0 | O63: =ROUND(E63*J63,2) -> 0 | P63: =M63+N63+O63 -> 0
A64: 22 | B64: līg.c. | C64: Esošo noteku režģu atpakaļatlikšana, l=1.8m | D64: gb | E64: 7 | H64: =ROUND(F64*G64,2) -> 0 | K64: =H64+I64+J64 -> 0 | L64: =ROUND(E64*F64,2) -> 0 | M64: =ROUND(E64*H64,2) -> 0 | N64: =ROUND(E64*I64,2) -> 0 | O64: =ROUND(E64*J64,2) -> 0 | P64: =M64+N64+O64 -> 0
A65: 23 | B65: līg.c. | C65: Papildus jumta notekas (Z korpusa zona, BK-4), Ø100, L=12.1*m | D65: m | E65: 12 | H65: =ROUND(F65*G65,2) -> 0 | K65: =H65+I65+J65 -> 0 | L65: =ROUND(E65*F65,2) -> 0 | M65: =ROUND(E65*H65,2) -> 0 | N65: =ROUND(E65*I65,2) -> 0 | O65: =ROUND(E65*J65,2) -> 0 | P65: =M65+N65+O65 -> 0
A66: 24 | B66: līg.c. | C66: Noteku aizsargrežģi, h=1,8*m, analogi esošiem | D66: gb | E66: 2 | H66: =ROUND(F66*G66,2) -> 0 | K66: =H66+I66+J66 -> 0 | L66: =ROUND(E66*F66,2) -> 0 | M66: =ROUND(E66*H66,2) -> 0 | N66: =ROUND(E66*I66,2) -> 0 | O66: =ROUND(E66*J66,2) -> 0 | P66: =M66+N66+O66 -> 0
C67: Sienu iekšējās virsmas sanācijas darbu apjomi 3.posmā
A68: 25 | B68: līg.c. | C68: Apdares demontāža (krāsots apmetums vai ģipškartona apšuvums) | D68: m² | E68: 1 | H68: =ROUND(F68*G68,2) -> 0 | K68: =H68+I68+J68 -> 0 | L68: =ROUND(E68*F68,2) -> 0 | M68: =ROUND(E68*H68,2) -> 0 | N68: =ROUND(E68*I68,2) -> 0 | O68: =ROUND(E68*J68,2) -> 0 | P68: =M68+N68+O68 -> 0
A69: 26 | B69: līg.c. | C69: Mūra attīrīšana, šuvju iztīrīšana ar iedobi (apmetuma piesaistei) | D69: m² | E69: 1 | H69: =ROUND(F69*G69,2) -> 0 | K69: =H69+I69+J69 -> 0 | L69: =ROUND(E69*F69,2) -> 0 | M69: =ROUND(E69*H69,2) -> 0 | N69: =ROUND(E69*I69,2) -> 0 | O69: =ROUND(E69*J69,2) -> 0 | P69: =M69+N69+O69 -> 0
A70: 26.1. | C70: Mūra virsmas apstrāde 2 reizes ar sāļu pārveidotāju Esco-Fluat (vai ekvivalents) | D70: kg | E70: 0.2 | H70: =ROUND(F70*G70,2) -> 0 | K70: =H70+I70+J70 -> 0 | L70: =ROUND(E70*F70,2) -> 0 | M70: =ROUND(E70*H70,2) -> 0 | N70: =ROUND(E70*I70,2) -> 0 | O70: =ROUND(E70*J70,2) -> 0 | P70: =M70+N70+O70 -> 0
A71: 26.2. | C71: Punktveida saķeres kārtas uznešana ar Thermopal-SP (vai ekvivalents) | D71: kg | E71: 1.5 | H71: =ROUND(F71*G71,2) -> 0 | K71: =H71+I71+J71 -> 0 | L71: =ROUND(E71*F71,2) -> 0 | M71: =ROUND(E71*H71,2) -> 0 | N71: =ROUND(E71*I71,2) -> 0 | O71: =ROUND(E71*J71,2) -> 0 | P71: =M71+N71+O71 -> 0
A72: 26.3. | C72: Sanācijas apmetuma ieklāšana, sastāvam Thermopal-Ultra (vai ekvivalents) | D72: kg | E72: 16 | H72: =ROUND(F72*G72,2) -> 0 | K72: =H72+I72+J72 -> 0 | L72: =ROUND(E72*F72,2) -> 0 | M72: =ROUND(E72*H72,2) -> 0 | N72: =ROUND(E72*I72,2) -> 0 | O72: =ROUND(E72*J72,2) -> 0 | P72: =M72+N72+O72 -> 0
A73: 27 | B73: līg.c. | C73: Sienu krāsošana 2X ,ieskaitot gruntēšanu un špaktelēšanu | D73: m² | E73: 1 | H73: =ROUND(F73*G73,2) -> 0 | K73: =H73+I73+J73 -> 0 | L73: =ROUND(E73*F73,2) -> 0 | M73: =ROUND(E73*H73,2) -> 0 | N73: =ROUND(E73*I73,2) -> 0 | O73: =ROUND(E73*J73,2) -> 0 | P73: =M73+N73+O73 -> 0
A74: 27.1. | C74: UNIGRUND-K-praimers (vai ekvivalents) | D74: kg | E74: 0.05 | H74: =ROUND(F74*G74,2) -> 0 | K74: =H74+I74+J74 -> 0 | L74: =ROUND(E74*F74,2) -> 0 | M74: =ROUND(E74*H74,2) -> 0 | N74: =ROUND(E74*I74,2) -> 0 | O74: =ROUND(E74*J74,2) -> 0 | P74: =M74+N74+O74 -> 0
A75: 27.2. | C75: THERMOPAL-FS33- (vai ekvivalents) špaktelis | D75: kg | E75: 3 | H75: =ROUND(F75*G75,2) -> 0 | K75: =H75+I75+J75 -> 0 | L75: =ROUND(E75*F75,2) -> 0 | M75: =ROUND(E75*H75,2) -> 0 | N75: =ROUND(E75*I75,2) -> 0 | O75: =ROUND(E75*J75,2) -> 0 | P75: =M75+N75+O75 -> 0
A76: 27.3. | C76: Virsmas gruntēšana ar silikāta gruntskrāsu | D76: l | E76: 0.15 | H76: =ROUND(F76*G76,2) -> 0 | K76: =H76+I76+J76 -> 0 | L76: =ROUND(E76*F76,2) -> 0 | M76: =ROUND(E76*H76,2) -> 0 | N76: =ROUND(E76*I76,2) -> 0 | O76: =ROUND(E76*J76,2) -> 0 | P76: =M76+N76+O76 -> 0
A77: 27.4. | C77: Virsmas krāsošana ar "elpojošu" silikāta dispersijas krāsu | D77: l | E77: 0.3 | H77: =ROUND(F77*G77,2) -> 0 | K77: =H77+I77+J77 -> 0 | L77: =ROUND(E77*F77,2) -> 0 | M77: =ROUND(E77*H77,2) -> 0 | N77: =ROUND(E77*I77,2) -> 0 | O77: =ROUND(E77*J77,2) -> 0 | P77: =M77+N77+O77 -> 0
C78: Kāpnes pa asi D-D 3.posmā
A79: 28 | B79: līg.c. | C79: Betona C30/37, XC2, XF4 pamatu un plātnes izbūve | D79: m³ | E79: 0.8 | H79: =ROUND(F79*G79,2) -> 0 | K79: =H79+I79+J79 -> 0 | L79: =ROUND(E79*F79,2) -> 0 | M79: =ROUND(E79*H79,2) -> 0 | N79: =ROUND(E79*I79,2) -> 0 | O79: =ROUND(E79*J79,2) -> 0 | P79: =M79+N79+O79 -> 0
A80: 29 | B80: līg.c. | C80: Stiegru B500A siets, Ø8, acu izmēri 100x100, pamatos un plātnē | D80: m² | E80: 5.1 | H80: =ROUND(F80*G80,2) -> 0 | K80: =H80+I80+J80 -> 0 | L80: =ROUND(E80*F80,2) -> 0 | M80: =ROUND(E80*H80,2) -> 0 | N80: =ROUND(E80*I80,2) -> 0 | O80: =ROUND(E80*J80,2) -> 0 | P80: =M80+N80+O80 -> 0
A81: 30 | B81: līg.c. | C81: Blietētas šķembas zem pamatiem un plātnes | D81: m³ | E81: 0.1 | H81: =ROUND(F81*G81,2) -> 0 | K81: =H81+I81+J81 -> 0 | L81: =ROUND(E81*F81,2) -> 0 | M81: =ROUND(E81*H81,2) -> 0 | N81: =ROUND(E81*I81,2) -> 0 | O81: =ROUND(E81*J81,2) -> 0 | P81: =M81+N81+O81 -> 0
A82: 31 | B82: līg.c. | C82: Blietētas smilts pildījums zem šķembām | D82: m³ | E82: 0.15 | H82: =ROUND(F82*G82,2) -> 0 | K82: =H82+I82+J82 -> 0 | L82: =ROUND(E82*F82,2) -> 0 | M82: =ROUND(E82*H82,2) -> 0 | N82: =ROUND(E82*I82,2) -> 0 | O82: =ROUND(E82*J82,2) -> 0 | P82: =M82+N82+O82 -> 0
A83: 32 | B83: līg.c. | C83: Saliekami betona pakāpieni, 140*(h)x300(b); garais pakāpiens L=2.3m; īsais sānu pakāpiens L=1.0m | D83: m | E83: 3.3 | H83: =ROUND(F83*G83,2) -> 0 | K83: =H83+I83+J83 -> 0 | L83: =ROUND(E83*F83,2) -> 0 | M83: =ROUND(E83*H83,2) -> 0 | N83: =ROUND(E83*I83,2) -> 0 | O83: =ROUND(E83*J83,2) -> 0 | P83: =M83+N83+O83 -> 0
A84: 33 | B84: līg.c. | C84: Pirmās pakāpienu rindas enkuri, Ø20, l=150, s=200 | D84: gb | E84: 15 | H84: =ROUND(F84*G84,2) -> 0 | K84: =H84+I84+J84 -> 0 | L84: =ROUND(E84*F84,2) -> 0 | M84: =ROUND(E84*H84,2) -> 0 | N84: =ROUND(E84*I84,2) -> 0 | O84: =ROUND(E84*J84,2) -> 0 | P84: =M84+N84+O84 -> 0
A85: 34 | B85: līg.c. | C85: Rupjas (abrazīvas) virsmas izveidošana no betona C30/37, XC2, XF4 , b=30, kāpņu laukumiem pēc pakāpienu montāžas | D85: m² | E85: 1.4 | H85: =ROUND(F85*G85,2) -> 0 | K85: =H85+I85+J85 -> 0 | L85: =ROUND(E85*F85,2) -> 0 | M85: =ROUND(E85*H85,2) -> 0 | N85: =ROUND(E85*I85,2) -> 0 | O85: =ROUND(E85*J85,2) -> 0 | P85: =M85+N85+O85 -> 0
A86: Tiešās izmaksas KOPĀ, t. sk. darba devēja sociālais nodoklis (%) | L86: =SUM(L17:L85) -> 0 | M86: =SUM(M17:M85) -> 0 | N86: =SUM(N17:N85) -> 0 | O86: =SUM(O17:O85) -> 0 | P86: =SUM(P17:P85) -> 0
A88: Piezīme. * Aile aizpildāma, ja būvdarbu iedalījums veikts saskaņā ar 2017.gada 3.maija Ministra kabineta (MK) noteikumu Nr.239 1. pielikumu.
C94: Sastādīja | D94: =KOPTĀME!B26 -> 0
D95: (paraksts un tā atšifrējums, uzņēmuma nosaukums, datums)
C97: Tāme sastādīta | D97: =KOPTĀME!B31 -> 0
C99: Pārbaudīja | D99: ='1_Kopsavilkums'!C30 -> 0
D100: (paraksts un tā atšifrējums, uzņēmuma nosaukums, datums)
C102: Sertifikāta Nr. | D102: =KOPTĀME!B29 -> 0

Sheet 2_Kopsavilkums
I1: 03.05.2017. MK noteikumu Nr.239 6.pielikums
A2: KOPSAVILKUMA APRĒĶINS Nr.2
A3: Draudzīgā aicinājuma Liepājas pilsētas 5.vidusskolas ēkas lietus kanalizācijas tīkla izbūve (posmā gar Rīgas ielas fasādi), Rīgas ielā 50, Liepājā (LKT darbi)
A4: (būvdarba veids vai konstruktīvā elementa nosaukums)
A5: =KOPTĀME!A13 -> Objekta nosaukums: Draudzīgā aicinājuma Liepājas 5.vidusskolas ēkas pamatu sanācija un lietus kanalizācijas tīkla izbūve Rīgas ielā 50, Liepājā
A6: =KOPTĀME!A14 -> Būves nosaukums: Ēka
A7: =KOPTĀME!A15 -> Objekta adrese: Rīgas ielā 50, Liepājā
A8: =KOPTĀME!A16 -> Pasūtījuma Nr. LVP 2026/138
A9: Būvniecības lieta Nr.BIS-BL-451128-11455
G10: Par kopējo summu (euro) | H10: =E22 -> 0
G11: Kopējā darbietilpība (c/h) | H11: =I18 -> 0
A14: Nr.p.k. | B14: Kods, tāmes Nr. | C14: Būvdarbu veids vai konstruktīvā elementa nosaukums | E14: Tāmes izmaksas | F14: Tai skaitā | I14: Darbietilpība c/h
F15: darba alga | G15: būvizstrādājumi | H15: mehānismi
A16: 1. | B16: ='2-1_LKT'!D2 -> 2-1 | C16: ='2-1_LKT'!A3 -> Lietus kanalizācija, drenāža | E16: ='2-1_LKT'!P84 -> 0 | F16: ='2-1_LKT'!M84 -> 0 | G16: ='2-1_LKT'!N84 -> 0 | H16: ='2-1_LKT'!O84 -> 0 | I16: ='2-1_LKT'!L84 -> 0
A17: 2. | B17: ='2-2_SK '!D2 -> 2-2 | C17: ='2-2_SK '!A3 -> Sadzīves kanalizācija | E17: ='2-2_SK '!P34 -> 0 | F17: ='2-2_SK '!M34 -> 0 | G17: ='2-2_SK '!N34 -> 0 | H17: ='2-2_SK '!O34 -> 0 | I17: ='2-2_SK '!L34 -> 0
A18: Kopā | E18: =SUM(E16:E17) -> 0 | F18: =SUM(F16:F17) -> 0 | G18: =SUM(G16:G17) -> 0 | H18: =SUM(H16:H17) -> 0 | I18: =SUM(I16:I17) -> 0
A19: Virsizdevumi (%) | E19: =ROUND(E18*D19,2) -> 0
A20: t.sk.darba aizsardzība | E20: =ROUND(D20*E19,2) -> 0
A21: Peļņa (%) | E21: =ROUND(E18*D21,2) -> 0
A22: Pavisam KOPĀ | E22: =E18+E19+E21 -> 0
B26: Sastādīja | C26: =KOPTĀME!B26 -> 0
C27: (paraksts un tā atšifrējums, uzņēmuma nosaukums, datums)
B29: =KOPTĀME!A31 -> Tāme sastādīta | C29: =KOPTĀME!B31 -> 0
B31: Pārbaudīja
C32: (paraksts un tā atšifrējums, uzņēmuma nosaukums, datums)
B34: Sertifikāta Nr. | C34: =KOPTĀME!B29 -> 0

Sheet 2-1_LKT
P1: 03.05.2017. MK noteikumu Nr.239 5.pielikums
C2: LOKĀLĀ TĀME Nr. | D2: 2-1
A3: Lietus kanalizācija, drenāža
A4: (būvdarbu veids vai konstruktīvā elementa nosaukums)
A5: ='1_Kopsavilkums'!A5:I5 -> Objekta nosaukums: Draudzīgā aicinājuma Liepājas 5.vidusskolas ēkas pamatu sanācija un lietus kanalizācijas tīkla izbūve Rīgas ielā 50, Liepājā
A6: =KOPTĀME!A14 -> Būves nosaukums: Ēka
A7: =KOPTĀME!A15 -> Objekta adrese: Rīgas ielā 50, Liepājā
A8: =KOPTĀME!A16 -> Pasūtījuma Nr. LVP 2026/138
A9: ='2_Kopsavilkums'!A9 -> Būvniecības lieta Nr.BIS-BL-451128-11455
A11: Tāme sastādīta 2026. gada tirgus cenās, pamatojoties uz apsekojumu un darba apjomiem
M12: Tāmes izmaksas | N12: =P84 -> 0 | P12: euro
M13: Tāme sastādīta | N13: =KOPTĀME!B31 -> 0
A15: Nr.p.k. | B15: Kods | C15: Būvdarbu nosaukums | D15: Mērvienība | E15: Daudzums | F15: Vienības izmaksas | L15: Kopā uz visu apjomu
F16: laika norma (c/h) | G16: darba samaksas likme* (euro/h) | H16: darba alga | I16: būvizstrādājumi | J16: mehānismi | K16: kopā | L16: darbietilpība (c/h) | M16: darba alga | N16: būvizstrādājumi | O16: mehānismi | P16: summa
C17: DEMONTĒJAMIE ĀRĒJIE KANALIZĀCIJAS TĪKLI
A18: 1 | B18: Ø1,0m, h=2,0÷2,5m | C18: Demontējama dz.betona sadzīves kanalizācijas aka | D18: gb | E18: 1 | H18: =ROUND(F18*G18,2) -> 0 | K18: =H18+I18+J18 -> 0 | L18: =ROUND(E18*F18,2) -> 0 | M18: =ROUND(E18*H18,2) -> 0 | N18: =ROUND(E18*I18,2) -> 0 | O18: =ROUND(E18*J18,2) -> 0 | P18: =M18+N18+O18 -> 0
A19: 2 | B19: Ø0,5m, h=2,0m | C19: Demontējama PVC kanalizācijas aka (precizēt izbūves laikā) | D19: gb | E19: 4 | H19: =ROUND(F19*G19,2) -> 0 | K19: =H19+I19+J19 -> 0 | L19: =ROUND(E19*F19,2) -> 0 | M19: =ROUND(E19*H19,2) -> 0 | N19: =ROUND(E19*I19,2) -> 0 | O19: =ROUND(E19*J19,2) -> 0 | P19: =M19+N19+O19 -> 0
A20: 3 | B20: d200 | C20: Esošas caurules atvienošana un noslēgšana | D20: vietas | E20: 4 | H20: =ROUND(F20*G20,2) -> 0 | K20: =H20+I20+J20 -> 0 | L20: =ROUND(E20*F20,2) -> 0 | M20: =ROUND(E20*H20,2) -> 0 | N20: =ROUND(E20*I20,2) -> 0 | O20: =ROUND(E20*J20,2) -> 0 | P20: =M20+N20+O20 -> 0
A21: 4 | B21: d200 | C21: Dz.betona akas remonts atvienotās caurules vietā | D21: vietas | E21: 2 | H21: =ROUND(F21*G21,2) -> 0 | K21: =H21+I21+J21 -> 0 | L21: =ROUND(E21*F21,2) -> 0 | M21: =ROUND(E21*H21,2) -> 0 | N21: =ROUND(E21*I21,2) -> 0 | O21: =ROUND(E21*J21,2) -> 0 | P21: =M21+N21+O21 -> 0
A22: 5 | B22: d110-d200 | C22: Demontējama kanalizācijas/drenāžas caurule | D22: m | E22: 91 | H22: =ROUND(F22*G22,2) -> 0 | K22: =H22+I22+J22 -> 0 | L22: =ROUND(E22*F22,2) -> 0 | M22: =ROUND(E22*H22,2) -> 0 | N22: =ROUND(E22*I22,2) -> 0 | O22: =ROUND(E22*J22,2) -> 0 | P22: =M22+N22+O22 -> 0
A23: 6 | C23: Demontēto kanalizācijas būvgružu transports uz utilizācijas vietu | D23: m³ | E23: 3 | H23: =ROUND(F23*G23,2) -> 0 | K23: =H23+I23+J23 -> 0 | L23: =ROUND(E23*F23,2) -> 0 | M23: =ROUND(E23*H23,2) -> 0 | N23: =ROUND(E23*I23,2) -> 0 | O23: =ROUND(E23*J23,2) -> 0 | P23: =M23+N23+O23 -> 0
C24: LIETUS KANALIZĀCIJA
A25: 7 | B25: Ø600/500-Ø250 h=1,6m | C25: PP skataka ar apaļu ķeta pārsedzi gājēju slodzei DN500 (rāmis ar vāku) , teleskopisku PP cauruli DN500, gumijas savienotājmanžeti DN600/500, gofrētu augstuma regulēšanas šahtu DN600 un pamatni DN600 | D25: gb | E25: 1 | H25: =ROUND(F25*G25,2) -> 0 | K25: =H25+I25+J25 -> 0 | L25: =ROUND(E25*F25,2) -> 0 | M25: =ROUND(E25*H25,2) -> 0 | N25: =ROUND(E25*I25,2) -> 0 | O25: =ROUND(E25*J25,2) -> 0 | P25: =M25+N25+O25 -> 0
A26: 8 | B26: Ø600/500-Ø250; 140° h=2,1m | C26: PP skataka ar apaļu ķeta pārsedzi gājēju slodzei DN500 (rāmis ar vāku) , teleskopisku PP cauruli DN500, gumijas savienotājmanžeti DN600/500, gofrētu augstuma regulēšanas šahtu DN600 un pamatni DN600 ar nosēddaļu min. 300mm | D26: gb | E26: 1 | H26: =ROUND(F26*G26,2) -> 0 | K26: =H26+I26+J26 -> 0 | L26: =ROUND(E26*F26,2) -> 0 | M26: =ROUND(E26*H26,2) -> 0 | N26: =ROUND(E26*I26,2) -> 0 | O26: =ROUND(E26*J26,2) -> 0 | P26: =M26+N26+O26 -> 0
A27: 9 | B27: Ø600/500-Ø250; 130° h=2,0m | C27: PP skataka ar apaļu ķeta pārsedzi gājēju slodzei DN500 (rāmis ar vāku) , teleskopisku PP cauruli DN500, gumijas savienotājmanžeti DN600/500, gofrētu augstuma regulēšanas šahtu DN600 un pamatni DN600 | D27: gb | E27: 1 | H27: =ROUND(F27*G27,2) -> 0 | K27: =H27+I27+J27 -> 0 | L27: =ROUND(E27*F27,2) -> 0 | M27: =ROUND(E27*H27,2) -> 0 | N27: =ROUND(E27*I27,2) -> 0 | O27: =ROUND(E27*J27,2) -> 0 | P27: =M27+N27+O27 -> 0
A28: 10 | B28: Ø600/500-Ø250; 125° h=1,6m | C28: PP skataka ar apaļu ķeta pārsedzi gājēju slodzei DN500 (rāmis ar vāku) , teleskopisku PP cauruli DN500, gumijas savienotājmanžeti DN600/500, gofrētu augstuma regulēšanas šahtu DN600 un pamatni DN600 | D28: gb | E28: 1 | H28: =ROUND(F28*G28,2) -> 0 | K28: =H28+I28+J28 -> 0 | L28: =ROUND(E28*F28,2) -> 0 | M28: =ROUND(E28*H28,2) -> 0 | N28: =ROUND(E28*I28,2) -> 0 | O28: =ROUND(E28*J28,2) -> 0 | P28: =M28+N28+O28 -> 0
A29: 11 | B29: Ø1,0m, h=3,0m | C29: Dz. betona spiediena dzēšanas grodu aka, groda dibens stiprināts pret izskalošanos, grodi, groda vāks, starplikas gredzens, čuguna vāks, apstrāde no ārpuses un iekšpuses ar bitumena mastiku 2 kārtās (hidroizolācija) | D29: kmpl | E29: 1 | H29: =ROUND(F29*G29,2) -> 0 | K29: =H29+I29+J29 -> 0 | L29: =ROUND(E29*F29,2) -> 0 | M29: =ROUND(E29*H29,2) -> 0 | N29: =ROUND(E29*I29,2) -> 0 | O29: =ROUND(E29*J29,2) -> 0 | P29: =M29+N29+O29 -> 0
A30: 12 | B30: Ø110 | C30: Akas pieslēguma caurule ar blīvgumiju | D30: gb | E30: 8 | H30: =ROUND(F30*G30,2) -> 0 | K30: =H30+I30+J30 -> 0 | L30: =ROUND(E30*F30,2) -> 0 | M30: =ROUND(E30*H30,2) -> 0 | N30: =ROUND(E30*I30,2) -> 0 | O30: =ROUND(E30*J30,2) -> 0 | P30: =M30+N30+O30 -> 0
A31: 13 | B31: d110 | C31: Esošas kanalizācijas caurules pieslēgums pie proj. akas | D31: vietas | E31: 1 | H31: =ROUND(F31*G31,2) -> 0 | K31: =H31+I31+J31 -> 0 | L31: =ROUND(E31*F31,2) -> 0 | M31: =ROUND(E31*H31,2) -> 0 | N31: =ROUND(E31*I31,2) -> 0 | O31: =ROUND(E31*J31,2) -> 0 | P31: =M31+N31+O31 -> 0
A32: 14 | B32: Ø110 | C32: Proj. caurules pieslēgums pie esošas akas | D32: vietas | E32: 2 | H32: =ROUND(F32*G32,2) -> 0 | K32: =H32+I32+J32 -> 0 | L32: =ROUND(E32*F32,2) -> 0 | M32: =ROUND(E32*H32,2) -> 0 | N32: =ROUND(E32*I32,2) -> 0 | O32: =ROUND(E32*J32,2) -> 0 | P32: =M32+N32+O32 -> 0
A33: 15 | B33: d50/Ø50 | C33: Esošo spiedvada cauruļu pieslēgums pie proj. akas | D33: vietas | E33: 2 | H33: =ROUND(F33*G33,2) -> 0 | K33: =H33+I33+J33 -> 0 | L33: =ROUND(E33*F33,2) -> 0 | M33: =ROUND(E33*H33,2) -> 0 | N33: =ROUND(E33*I33,2) -> 0 | O33: =ROUND(E33*J33,2) -> 0 | P33: =M33+N33+O33 -> 0
A34: 16 | B34: d250/Ø250 | C34: PVC aizsargčaula dz./betona grodu akas šķērsošanai ar kanalizācijas cauruli un šķērsojuma apstrāde ar ātri cietējošu javu | D34: gb | E34: 2 | H34: =ROUND(F34*G34,2) -> 0 | K34: =H34+I34+J34 -> 0 | L34: =ROUND(E34*F34,2) -> 0 | M34: =ROUND(E34*H34,2) -> 0 | N34: =ROUND(E34*I34,2) -> 0 | O34: =ROUND(E34*J34,2) -> 0 | P34: =M34+N34+O34 -> 0
A35: 17 | B35: d200/Ø200 | D35: gb | E35: 1 | H35: =ROUND(F35*G35,2) -> 0 | K35: =H35+I35+J35 -> 0 | L35: =ROUND(E35*F35,2) -> 0 | M35: =ROUND(E35*H35,2) -> 0 | N35: =ROUND(E35*I35,2) -> 0 | O35: =ROUND(E35*J35,2) -> 0 | P35: =M35+N35+O35 -> 0
A36: 18 | B36: d110/Ø110 | D36: gb | E36: 1 | H36: =ROUND(F36*G36,2) -> 0 | K36: =H36+I36+J36 -> 0 | L36: =ROUND(E36*F36,2) -> 0 | M36: =ROUND(E36*H36,2) -> 0 | N36: =ROUND(E36*I36,2) -> 0 | O36: =ROUND(E36*J36,2) -> 0 | P36: =M36+N36+O36 -> 0
A37: 19 | B37: d50/Ø50 | D37: gb | E37: 2 | H37: =ROUND(F37*G37,2) -> 0 | K37: =H37+I37+J37 -> 0 | L37: =ROUND(E37*F37,2) -> 0 | M37: =ROUND(E37*H37,2) -> 0 | N37: =ROUND(E37*I37,2) -> 0 | O37: =ROUND(E37*J37,2) -> 0 | P37: =M37+N37+O37 -> 0
A38: 20 | B38: Ø110 | C38: Āra darbu PP gludsienu kanalizācijas caurule SN8 ar uzmavu un blīvi | D38: m | E38: 64 | H38: =ROUND(F38*G38,2) -> 0 | K38: =H38+I38+J38 -> 0 | L38: =ROUND(E38*F38,2) -> 0 | M38: =ROUND(E38*H38,2) -> 0 | N38: =ROUND(E38*I38,2) -> 0 | O38: =ROUND(E38*J38,2) -> 0 | P38: =M38+N38+O38 -> 0
A39: 21 | B39: Ø250 | D39: m | E39: 40 | H39: =ROUND(F39*G39,2) -> 0 | K39: =H39+I39+J39 -> 0 | L39: =ROUND(E39*F39,2) -> 0 | M39: =ROUND(E39*H39,2) -> 0 | N39: =ROUND(E39*I39,2) -> 0 | O39: =ROUND(E39*J39,2) -> 0 | P39: =M39+N39+O39 -> 0
A40: 22 | B40: Ø110-45° | C40: Āra darbu PP gludsienu kanalizācijas caurules līkums | D40: gb | E40: 16 | H40: =ROUND(F40*G40,2) -> 0 | K40: =H40+I40+J40 -> 0 | L40: =ROUND(E40*F40,2) -> 0 | M40: =ROUND(E40*H40,2) -> 0 | N40: =ROUND(E40*I40,2) -> 0 | O40: =ROUND(E40*J40,2) -> 0 | P40: =M40+N40+O40 -> 0
A41: 23 | B41: Dn110 | C41: Lietus ūdens savācējgrozs ar netīrumu grozu, čuguna, "Aco" Passavant (vai ekvivalents) | D41: gb | E41: 8 | H41: =ROUND(F41*G41,2) -> 0 | K41: =H41+I41+J41 -> 0 | L41: =ROUND(E41*F41,2) -> 0 | M41: =ROUND(E41*H41,2) -> 0 | N41: =ROUND(E41*I41,2) -> 0 | O41: =ROUND(E41*J41,2) -> 0 | P41: =M41+N41+O41 -> 0
A42: 24 | C42: Šķērsojuma vieta ar esošām komunikācijām | D42: vietas | E42: 2 | H42: =ROUND(F42*G42,2) -> 0 | K42: =H42+I42+J42 -> 0 | L42: =ROUND(E42*F42,2) -> 0 | M42: =ROUND(E42*H42,2) -> 0 | N42: =ROUND(E42*I42,2) -> 0 | O42: =ROUND(E42*J42,2) -> 0 | P42: =M42+N42+O42 -> 0
A43: 25 | C43: Dalīta aizsargcaurule 750N | D43: m | E43: 2 | H43: =ROUND(F43*G43,2) -> 0 | K43: =H43+I43+J43 -> 0 | L43: =ROUND(E43*F43,2) -> 0 | M43: =ROUND(E43*H43,2) -> 0 | N43: =ROUND(E43*I43,2) -> 0 | O43: =ROUND(E43*J43,2) -> 0 | P43: =M43+N43+O43 -> 0
A44: 26 | C44: Gruntsūdens līmeņa pazemināšana ar adatfiltriem rakšanas zonā. Izmantošanas apjomu (metrus, komplektu skaitu) precizē būvnieks saskaņā ar plānoto pielietojamo rakšanas darbu tehnoloģiju | D44: kmpl | E44: 1 | H44: =ROUND(F44*G44,2) -> 0 | K44: =H44+I44+J44 -> 0 | L44: =ROUND(E44*F44,2) -> 0 | M44: =ROUND(E44*H44,2) -> 0 | N44: =ROUND(E44*I44,2) -> 0 | O44: =ROUND(E44*J44,2) -> 0 | P44: =M44+N44+O44 -> 0
A45: 27 | C45: Hidraulisko vairogu uzstādīšana būvbedru sienu nostiprināšanai (izmantojami pie tranšeju dziļuma > 2,0m) | D45: m | E45: 44 | H45: =ROUND(F45*G45,2) -> 0 | K45: =H45+I45+J45 -> 0 | L45: =ROUND(E45*F45,2) -> 0 | M45: =ROUND(E45*H45,2) -> 0 | N45: =ROUND(E45*I45,2) -> 0 | O45: =ROUND(E45*J45,2) -> 0 | P45: =M45+N45+O45 -> 0
A46: 28 | B46: 16mm | C46: Grunts tranšejām, pabēruma un apbēruma veidošana | D46: m³ | E46: 15 | H46: =ROUND(F46*G46,2) -> 0 | K46: =H46+I46+J46 -> 0 | L46: =ROUND(E46*F46,2) -> 0 | M46: =ROUND(E46*H46,2) -> 0 | N46: =ROUND(E46*I46,2) -> 0 | O46: =ROUND(E46*J46,2) -> 0 | P46: =M46+N46+O46 -> 0
A47: 29 | B47: 20mm | D47: m³ | E47: 48 | H47: 0 | K47: 0 | L47: 0 | M47: 0 | N47: 0 | O47: 0 | P47: 0
A48: 30 | B48: Minerālgr. | D48: m³ | E48: 101 | H48: 0 | K48: 0 | L48: 0 | M48: 0 | N48: 0 | O48: 0 | P48: 0
A49: 31 | C49: Hidrauliskā pārbaude, trases nospraušana, uzmērīšana, skalošana, CCTV inspekcija un citi saistītie darbi | D49: kmpl | E49: 1 | H49: 0 | K49: 0 | L49: 0 | M49: 0 | N49: 0 | O49: 0 | P49: 0
C50: DRENĀŽA
A51: 32 | B51: Ø200/160-Ø160 h=2,5m | C51: PP skataka ar apaļu ķeta pārsedzi gājēju slodzei DN200 (rāmis ar vāku) , teleskopisku PP cauruli DN200, gumijas savienotājmanžeti DN200/160, gofrētu augstuma regulēšanas šahtu DN200 un pamatni DN160 | D51: gb | E51: 2 | H51: 0 | K51: 0 | L51: 0 | M51: 0 | N51: 0 | O51: 0 | P51: 0
A52: 33 | B52: Ø400/315-Ø160; 90° h=3,0m | C52: PP skataka ar apaļu ķeta pārsedzi gājēju slodzei DN315 (rāmis ar vāku) , teleskopisku PP cauruli DN315, gumijas savienotājmanžeti DN400/315, gofrētu augstuma regulēšanas šahtu DN400 un pamatni DN400 ar nosēddaļu min. 300mm | D52: gb | E52: 5 | H52: 0 | K52: 0 | L52: 0 | M52: 0 | N52: 0 | O52: 0 | P52: 0
A53: 34 | B53: Ø400/315-Ø200 h=3,0m | C53: PP skataka ar apaļu ķeta pārsedzi gājēju slodzei DN315 (rāmis ar vāku) , teleskopisku PP cauruli DN315, gumijas savienotājmanžeti DN400/315, gofrētu augstuma regulēšanas šahtu DN400 un pamatni DN400 ar nosēddaļu min. 300mm | D53: gb | E53: 1 | H53: =ROUND(F53*G53,2) -> 0 | K53: =H53+I53+J53 -> 0 | L53: =ROUND(E53*F53,2) -> 0 | M53: =ROUND(E53*H53,2) -> 0 | N53: =ROUND(E53*I53,2) -> 0 | O53: =ROUND(E53*J53,2) -> 0 | P53: =M53+N53+O53 -> 0
A54: 35 | B54: Ø160 | C54: Akas pieslēguma caurule ar blīvgumiju | D54: gb | E54: 2 | H54: =ROUND(F54*G54,2) -> 0 | K54: =H54+I54+J54 -> 0 | L54: =ROUND(E54*F54,2) -> 0 | M54: =ROUND(E54*H54,2) -> 0 | N54: =ROUND(E54*I54,2) -> 0 | O54: =ROUND(E54*J54,2) -> 0 | P54: =M54+N54+O54 -> 0
A55: 36 | B55: Ø200-Ø160 | C55: Pāreja no caurules uz aku | D55: gb | E55: 1 | H55: =ROUND(F55*G55,2) -> 0 | K55: =H55+I55+J55 -> 0 | L55: =ROUND(E55*F55,2) -> 0 | M55: =ROUND(E55*H55,2) -> 0 | N55: =ROUND(E55*I55,2) -> 0 | O55: =ROUND(E55*J55,2) -> 0 | P55: =M55+N55+O55 -> 0
A56: 37 | B56: Ø200 | C56: Proj. caurules pieslēgums pie esošas akas | D56: vietas | E56: 1 | H56: =ROUND(F56*G56,2) -> 0 | K56: =H56+I56+J56 -> 0 | L56: =ROUND(E56*F56,2) -> 0 | M56: =ROUND(E56*H56,2) -> 0 | N56: =ROUND(E56*I56,2) -> 0 | O56: =ROUND(E56*J56,2) -> 0 | P56: =M56+N56+O56 -> 0
A57: 38 | B57: d200/Ø200 | C57: PVC aizsargčaula dz./betona grodu akas šķērsošanai ar kanalizācijas cauruli un šķērsojuma apstrāde ar ātri cietējošu javu | D57: gb | E57: 1 | H57: =ROUND(F57*G57,2) -> 0 | K57: =H57+I57+J57 -> 0 | L57: =ROUND(E57*F57,2) -> 0 | M57: =ROUND(E57*H57,2) -> 0 | N57: =ROUND(E57*I57,2) -> 0 | O57: =ROUND(E57*J57,2) -> 0 | P57: =M57+N57+O57 -> 0
A58: 39 | B58: Ø160/137.6 | C58: HDPE R2 (vai ekvivalents) DIN 4262-1 drenāžas caurule ar 180° perforāciju, gofrētu ārējo un gludu iekšējo slāni, ūdens filtrācijas ieplūdes perforējuma atvēruma laukums ≥ 50 cm2/mSN8 | D58: m | E58: 57 | H58: =ROUND(F58*G58,2) -> 0 | K58: =H58+I58+J58 -> 0 | L58: =ROUND(E58*F58,2) -> 0 | M58: =ROUND(E58*H58,2) -> 0 | N58: =ROUND(E58*I58,2) -> 0 | O58: =ROUND(E58*J58,2) -> 0 | P58: =M58+N58+O58 -> 0
A59: 40 | B59: Ø160-45° | C59: Āra darbu PP drenāžas caurules līkums | D59: gb | E59: 1 | H59: =ROUND(F59*G59,2) -> 0 | K59: =H59+I59+J59 -> 0 | L59: =ROUND(E59*F59,2) -> 0 | M59: =ROUND(E59*H59,2) -> 0 | N59: =ROUND(E59*I59,2) -> 0 | O59: =ROUND(E59*J59,2) -> 0 | P59: =M59+N59+O59 -> 0
A60: 41 | B60: Ø160 | C60: Āra darbu PP gludsienu kanalizācijas caurules SN8 ar uzmavu un blīvi izbūve ~ 2,5m dziļumā ar beztranšejas metodi | D60: m | E60: 14 | H60: =ROUND(F60*G60,2) -> 0 | K60: =H60+I60+J60 -> 0 | L60: =ROUND(E60*F60,2) -> 0 | M60: =ROUND(E60*H60,2) -> 0 | N60: =ROUND(E60*I60,2) -> 0 | O60: =ROUND(E60*J60,2) -> 0 | P60: =M60+N60+O60 -> 0
A61: 42 | B61: Dn150 (168,3x4,0mm) | C61: Tērauda aizsargcaurule | D61: m | E61: 12 | H61: =ROUND(F61*G61,2) -> 0 | K61: =H61+I61+J61 -> 0 | L61: =ROUND(E61*F61,2) -> 0 | M61: =ROUND(E61*H61,2) -> 0 | N61: =ROUND(E61*I61,2) -> 0 | O61: =ROUND(E61*J61,2) -> 0 | P61: =M61+N61+O61 -> 0
A62: 43 | C62: Šķērsojuma vieta ar esošām komunikācijām | D62: vietas | E62: 3 | H62: =ROUND(F62*G62,2) -> 0 | K62: =H62+I62+J62 -> 0 | L62: =ROUND(E62*F62,2) -> 0 | M62: =ROUND(E62*H62,2) -> 0 | N62: =ROUND(E62*I62,2) -> 0 | O62: =ROUND(E62*J62,2) -> 0 | P62: =M62+N62+O62 -> 0
A63: 44 | C63: Dalīta aizsargcaurule 750N | D63: m | E63: 2 | H63: =ROUND(F63*G63,2) -> 0 | K63: =H63+I63+J63 -> 0 | L63: =ROUND(E63*F63,2) -> 0 | M63: =ROUND(E63*H63,2) -> 0 | N63: =ROUND(E63*I63,2) -> 0 | O63: =ROUND(E63*J63,2) -> 0 | P63: =M63+N63+O63 -> 0
A64: 45 | C64: Gruntsūdens līmeņa pazemināšana ar adatfiltriem rakšanas zonā. Izmantošanas apjomu (metrus, komplektu skaitu) precizē būvnieks saskaņā ar plānoto pielietojamo rakšanas darbu tehnoloģiju | D64: kmpl | E64: 1 | H64: =ROUND(F64*G64,2) -> 0 | K64: =H64+I64+J64 -> 0 | L64: =ROUND(E64*F64,2) -> 0 | M64: =ROUND(E64*H64,2) -> 0 | N64: =ROUND(E64*I64,2) -> 0 | O64: =ROUND(E64*J64,2) -> 0 | P64: =M64+N64+O64 -> 0
A65: 46 | C65: Hidraulisko vairogu uzstādīšana būvbedru sienu nostiprināšanai (izmantojami pie tranšeju dziļuma > 2,0m) | D65: m | E65: 45 | H65: =ROUND(F65*G65,2) -> 0 | K65: =H65+I65+J65 -> 0 | L65: =ROUND(E65*F65,2) -> 0 | M65: =ROUND(E65*H65,2) -> 0 | N65: =ROUND(E65*I65,2) -> 0 | O65: =ROUND(E65*J65,2) -> 0 | P65: =M65+N65+O65 -> 0
A66: 47 | C66: Izlīdzinošā smilts slāņa 0.15 izbūve zem caurules | D66: m3 | E66: 8.6 | H66: =ROUND(F66*G66,2) -> 0 | K66: =H66+I66+J66 -> 0 | L66: =ROUND(E66*F66,2) -> 0 | M66: =ROUND(E66*H66,2) -> 0 | N66: =ROUND(E66*I66,2) -> 0 | O66: =ROUND(E66*J66,2) -> 0 | P66: =M66+N66+O66 -> 0
A67: 48 | C67: Cauruļvada aizbēršana ar smilti 0.3m virs caurules | D67: m3 | E67: 17.1 | H67: =ROUND(F67*G67,2) -> 0 | K67: =H67+I67+J67 -> 0 | L67: =ROUND(E67*F67,2) -> 0 | M67: =ROUND(E67*H67,2) -> 0 | N67: =ROUND(E67*I67,2) -> 0 | O67: =ROUND(E67*J67,2) -> 0 | P67: =M67+N67+O67 -> 0
A68: 49 | C68: Hidrauliskā pārbaude, trases nospraušana, uzmērīšana, skalošana, CCTV inspekcija un citi saistītie darbi | D68: kmpl | E68: 1 | H68: =ROUND(F68*G68,2) -> 0 | K68: =H68+I68+J68 -> 0 | L68: =ROUND(E68*F68,2) -> 0 | M68: =ROUND(E68*H68,2) -> 0 | N68: =ROUND(E68*I68,2) -> 0 | O68: =ROUND(E68*J68,2) -> 0 | P68: =M68+N68+O68 -> 0
C69: SEGUMU ATJAUNOŠANA
C70: Esošā betona bruģa gājēju slodzei seguma atjaunošana
A71: 50 | C71: Esošais betona bruģis | D71: m² | E71: 29 | H71: 0 | K71: 0 | L71: 0 | M71: 0 | N71: 0 | O71: 0 | P71: 0
A72: 51 | C72: Salizturīga kārta 30cm | D72: m³ | E72: 8.7 | H72: 0 | K72: 0 | L72: 0 | M72: 0 | N72: 0 | O72: 0 | P72: 0
A73: 52 | C73: Pamata nesošā kārta no maisījuma 0/45 (N-III) 14cm | D73: m³ | E73: 4.1 | H73: 0 | K73: 0 | L73: 0 | M73: 0 | N73: 0 | O73: 0 | P73: 0
A74: 53 | C74: Izlīdzinošā starpkārta 3cm | D74: m³ | E74: 0.9 | H74: 0 | K74: 0 | L74: 0 | M74: 0 | N74: 0 | O74: 0 | P74: 0
C75: Zālāja seguma atjaunošana 320m²
A76: 54 | C76: Melnzemes pabērums 20cm | D76: m³ | E76: 64 | H76: 0 | K76: 0 | L76: 0 | M76: 0 | N76: 0 | O76: 0 | P76: 0
A77: 55 | C77: Zālāja sējums | D77: m² | E77: 320 | H77: 0 | K77: 0 | L77: 0 | M77: 0 | N77: 0 | O77: 0 | P77: 0
C78: Esošā betona bruģa transporta slodzei seguma atjaunošana
A79: 56 | C79: Esošais betona bruģis | D79: m² | E79: 5 | H79: 0 | K79: 0 | L79: 0 | M79: 0 | N79: 0 | O79: 0 | P79: 0
A80: 57 | C80: Salizturīga kārta 30cm | D80: m³ | E80: 1.5 | H80: 0 | K80: 0 | L80: 0 | M80: 0 | N80: 0 | O80: 0 | P80: 0
A81: 58 | C81: Pamata nesošā kārta no maisījuma 0/45 (N-III) 30cm | D81: m³ | E81: 1.5 | H81: 0 | K81: 0 | L81: 0 | M81: 0 | N81: 0 | O81: 0 | P81: 0
A82: 59 | C82: Izlīdzinošā starpkārta 3cm | D82: m³ | E82: 0.2 | H82: 0 | K82: 0 | L82: 0 | M82: 0 | N82: 0 | O82: 0 | P82: 0
A83: 60 | C83: Ģeorežģis TENAX LBO 440 (vai ekvivalents) slodzei 40kN/m² | D83: m² | E83: 5 | H83: 0 | K83: 0 | L83: 0 | M83: 0 | N83: 0 | O83: 0 | P83: 0
A84: Tiešās izmaksas KOPĀ, t. sk. darba devēja sociālais nodoklis (%) | L84: =SUM(L17:L83) -> 0 | M84: =SUM(M17:M83) -> 0 | N84: =SUM(N17:N83) -> 0 | O84: =SUM(O17:O83) -> 0 | P84: =SUM(P17:P83) -> 0
A86: Piezīme. * Aile aizpildāma, ja būvdarbu iedalījums veikts saskaņā ar 2017.gada 3.maija Ministra kabineta (MK) noteikumu Nr.239 1. pielikumu.
