Workbook

Sheet KOPTĀME
B1: Latvijas būvnormatīvam LBN 501-17 "Būvizmaksu noteikšanas kārtība" (Apstiprināts ar Ministru kabineta 2017. gada 3. maija noteikumiem Nr. 239), 7.pielikums
B2: APSTIPRINU
C4: (pasūtītāja paraksts un tā atšifrējums)
C6: Z.v.
C8: 20___.gada ___._________________
A11: BŪVNIECĪBAS KOPTĀME
A13: Objekta nosaukums: Draudzīgā aicinājuma Liepājas 5.vidusskolas ēkas pamatu sanācija un lietus kanalizācijas tīkla izbūve Rīgas ielā 50, Liepājā
A14: Būves nosaukums: Ēka
A15: Objekta adrese: Rīgas ielā 50, Liepājā
A16: Pasūtījuma Nr. LVP 2026/138
A18: Nr.p.k. | B18: Objekta nosaukums | C18: Objekta izmaksas (euro)
A19: 1. | B19: ='1_Kopsavilkums'!A3 -> Draudzīgā aicinājuma Liepājas pilsētas 5.vidusskolas ēkas pamatu sanācija (posmā gar Rīgas ielas fasādi) Rīgas ielā 50, Liepājā (BK daļa) | C19: ='1_Kopsavilkums'!E21 -> 0
A20: 2. | B20: ='2_Kopsavilkums'!A3 -> Draudzīgā aicinājuma Liepājas pilsētas 5.vidusskolas ēkas lietus kanalizācijas tīkla izbūve (posmā gar Rīgas ielas fasādi), Rīgas ielā 50, Liepājā (LKT darbi) | C20: ='2_Kopsavilkums'!E22 -> 0
A21: Kopā | C21: =SUM(C19:C20) -> 0
A23: PVN (21%) | C23: =ROUND(C21*0.21,2) -> 0
A26: Sastādīja
B27: (paraksts un tā atšifrējums, uzņēmuma nosaukums, datums)
A29: Sertifikāta Nr.
A31: Tāme sastādīta

Sheet 1_Kopsavilkums
I1: 03.05.2017. MK noteikumu Nr.239 6.pielikums
A2: KOPSAVILKUMA APRĒĶINS Nr.1
A3: Draudzīgā aicinājuma Liepājas pilsētas 5.vidusskolas ēkas pamatu sanācija (posmā gar Rīgas ielas fasādi) Rīgas ielā 50, Liepājā (BK daļa)
A4: (būvdarba veids vai konstruktīvā elementa nosaukums)
A5: =KOPTĀME!A13 -> Objekta nosaukums: Draudzīgā aicinājuma Liepājas 5.vidusskolas ēkas pamatu sanācija un lietus kanalizācijas tīkla izbūve Rīgas ielā 50, Liepājā
A6: =KOPTĀME!A14 -> Būves nosaukums: Ēka
A7: =KOPTĀME!A15 -> Objekta adrese: Rīgas ielā 50, Liepājā
A8: =KOPTĀME!A16 -> Pasūtījuma Nr. LVP 2026/138
A9: Būvniecības lieta Nr.BIS-BL-450600-11260
G10: Par kopējo summu (euro) | H10: =E21 -> 0
G11: Kopējā darbietilpība (c/h) | H11: =I17 -> 0
A14: Nr.p.k. | B14: Kods, tāmes Nr. | C14: Būvdarbu veids vai konstruktīvā elementa nosaukums | E14: Tāmes izmaksas | F14: Tai skaitā | I14: Darbietilpība c/h
F15: darba alga | G15: būvizstrādājumi | H15: mehānismi
A16: 1. | B16: ='1-1_BK'!D2 -> 1-1 | C16: ='1-1_BK'!A3 -> Būvkonstrukciju daļa | E16: ='1-1_BK'!P86 -> 0 | F16: ='1-1_BK'!M86 -> 0 | G16: ='1-1_BK'!N86 -> 0 | H16: ='1-1_BK'!O86 -> 0 | I16: ='1-1_BK'!L86 -> 0
A17: Kopā | E17: =SUM(E16:E16) -> 0 | F17: =SUM(F16:F16) -> 0 | G17: =SUM(G16:G16) -> 0 | H17: =SUM(H16:H16) -> 0 | I17: =SUM(I16:I16) -> 0
A18: Virsizdevumi (%) | E18: =ROUND(E17*D18,2) -> 0
A19: t.sk.darba aizsardzība | E19: =ROUND(D19*E18,2) -> 0
A20: Peļņa (%) | E20: =ROUND(E17*D20,2) -> 0
A21: Pavisam KOPĀ | E21: =E17+E18+E20 -> 0
B25: Sastādīja | C25: =KOPTĀME!B26
C26: (paraksts un tā atšifrējums, uzņēmuma nosaukums, datums)
B28: =KOPTĀME!A31 -> Tāme sastādīta | C28: =KOPTĀME!B31 -> 0
B30: Pārbaudīja
C31: (paraksts un tā atšifrējums, uzņēmuma nosaukums, datums)
B33: Sertifikāta Nr. | C33: =KOPTĀME!B29 -> 0

Sheet 1-1_BK
P1: 03.05.2017. MK noteikumu Nr.239 5.pielikums
C2: LOKĀLĀ TĀME Nr. | D2: 1-1
A3: Būvkonstrukciju daļa
A4: (būvdarbu veids vai konstruktīvā elementa nosaukums)
A5: ='1_Kopsavilkums'!A5:I5 -> Objekta nosaukums: Draudzīgā aicinājuma Liepājas 5.vidusskolas ēkas pamatu sanācija un lietus kanalizācijas tīkla izbūve Rīgas ielā 50, Liepājā
A6: =KOPTĀME!A14 -> Būves nosaukums: Ēka
A7: =KOPTĀME!A15 -> Objekta adrese: Rīgas ielā 50, Liepājā
A8: =KOPTĀME!A16 -> Pasūtījuma Nr. LVP 2026/138
A9: ='1_Kopsavilkums'!A9 -> Būvniecības lieta Nr.BIS-BL-450600-11260
A11: Tāme sastādīta 2026. gada tirgus cenās, pamatojoties uz apsekojumu un darba apjomiem
M12: Tāmes izmaksas | N12: =P86 -> 0 | P12: euro
M13: Tāme sastādīta | N13: =KOPTĀME!B31 -> 0
A15: Nr.p.k. | B15: Kods | C15: Būvdarbu nosaukums | D15: Mērvienība | E15: Daudzums | F15: Vienības izmaksas | L15: Kopā uz visu apjomu
F16: laika norma (c/h) | G16: darba samaksas likme* (euro/h) | H16: darba alga | I16: būvizstrādājumi | J16: mehānismi | K16: kopā | L16: darbietilpība (c/h) | M16: darba alga | N16: būvizstrādājumi | O16: mehānismi | P16: summa
C17: Pamatu sanācijas darbu apjomi 3.posmā (posms gar Rīgas ielu)
C18: Demontāžas darbi 3.posmā, lapa BK-3
C19: Betona apmales, b=10cm, B=1m, demontāža pa asi D-D/2-2/F-F:
A20: 1 | B20: līg.c. | C20: * Rīgas ielas puse: seklie pamati=24,3m²; dziļie pamati=34,6m² | D20: m² | E20: 59 | H20: =ROUND(F20*G20,2) -> 0 | K20: =H20+I20+J20 -> 0 | L20: =ROUND(E20*F20,2) -> 0 | M20: =ROUND(E20*H20,2) -> 0 | N20: =ROUND(E20*I20,2) -> 0 | O20: =ROUND(E20*J20,2) -> 0 | P20: =M20+N20+O20 -> 0
A21: 2 | B21: līg.c. | C21: Betona kāpņu un kāpņu pamatu demontāža Rīgas ielas pusē (0,75+0,15)m³ | D21: m³ | E21: 0.9 | H21: =ROUND(F21*G21,2) -> 0 | K21: =H21+I21+J21 -> 0 | L21: =ROUND(E21*F21,2) -> 0 | M21: =ROUND(E21*H21,2) -> 0 | N21: =ROUND(E21*I21,2) -> 0 | O21: =ROUND(E21*J21,2) -> 0 | P21: =M21+N21+O21 -> 0
A22: 3 | B22: līg.c. | C22: Jumta noteku apakšējo galu demontāža, l=0.5m, un aizsargrežģu, L=1,8m, noņemšana uz būvdarbu laiku: Rīgas ielas pusē seklie pamati 4gb/dziļie pamati 3gb | D22: gb | E22: 7 | H22: =ROUND(F22*G22,2) -> 0 | K22: =H22+I22+J22 -> 0 | L22: =ROUND(E22*F22,2) -> 0 | M22: =ROUND(E22*H22,2) -> 0 | N22: =ROUND(E22*I22,2) -> 0 | O22: =ROUND(E22*J22,2) -> 0 | P22: =M22+N22+O22 -> 0
A23: 4 | B23: līg.c. | C23: Grunts atrašana 2.5* m platā joslā pa grunts nobiruma leņķi, apjomu precizēt pēc vietas (projektā paredzēts iespējamais lielākais zemes darbu apjoms; seklāk iebūvētu pamatu zonā grunts izstrāde var samazināties-visi pamatu veidi netika atrakti) skat. šķ.1-1 un 2-2; melnzemi nodalīt iespēju robežās zālāja atjaunošanai; izrakto košuma krūmu saglabāšanu un atpakaļstādīšanu vērtē pasūtītājs: seklie pamati=43.2m³; dziļie pamati=178.6m³ | D23: m³ | E23: 221.8 | H23: =ROUND(F23*G23,2) -> 0 | K23: =H23+I23+J23 -> 0 | L23: =ROUND(E23*F23,2) -> 0 | M23: =ROUND(E23*H23,2) -> 0 | N23: =ROUND(E23*I23,2) -> 0 | O23: =ROUND(E23*J23,2) -> 0 | P23: =M23+N23+O23 -> 0
A24: 5 | B24: līg.c. | C24: Putupolistirola siltinājuma, b=5cm, L=61,8m, demontāža no virspamata: | D24: m² | E24: 41.5 | H24: =ROUND(F24*G24,2) -> 0 | K24: =H24+I24+J24 -> 0 | L24: =ROUND(E24*F24,2) -> 0 | M24: =ROUND(E24*H24,2) -> 0 | N24: =ROUND(E24*I24,2) -> 0 | O24: =ROUND(E24*J24,2) -> 0 | P24: =M24+N24+O24 -> 0
C25: Pamatu sanācijas darbi
A26: 6 | B26: līg.c. | C26: Pamatu virsmas notīrīšana ar smilšu vai ūdens strūklu, dziļo pamatu zonā tīrāmās virsmas l=3,5m; seklo pamatu zonā tīrāmās virsmas l=2,2m; seklie pamati=54,1m²; dziļie pamati=130,2m² | D26: m² | E26: 184.3 | H26: =ROUND(F26*G26,2) -> 0 | K26: =H26+I26+J26 -> 0 | L26: =ROUND(E26*F26,2) -> 0 | M26: =ROUND(E26*H26,2) -> 0 | N26: =ROUND(E26*I26,2) -> 0 | O26: =ROUND(E26*J26,2) -> 0 | P26: =M26+N26+O26 -> 0
A27: 7 | B27: līg.c. | C27: Pamatu mūra izdrupumu remonts ar cementa javu 1:3 ar piedevu Asoplast-MZ (vai ekvivalents)/ūdens attiecībā 1/4 | D27: m² | E27: 184.3 | H27: =ROUND(F27*G27,2) -> 0 | K27: =H27+I27+J27 -> 0 | L27: =ROUND(E27*F27,2) -> 0 | M27: =ROUND(E27*H27,2) -> 0 | N27: =ROUND(E27*I27,2) -> 0 | O27: =ROUND(E27*J27,2) -> 0 | P27: =M27+N27+O27 -> 0
A28: 7.1. | C28: Mūrjava (stiprība līdzīga esošajai) | D28: kg | E28: 92.15 | H28: =ROUND(F28*G28,2) -> 0 | K28: =H28+I28+J28 -> 0 | L28: =ROUND(E28*F28,2) -> 0 | M28: =ROUND(E28*H28,2) -> 0 | N28: =ROUND(E28*I28,2) -> 0 | O28: =ROUND(E28*J28,2) -> 0 | P28: =M28+N28+O28 -> 0
A29: 7.2. | C29: Piedeva ASOPLAST-MZ (vai ekvivalents) | D29: kg | E29: 7.37 | H29: =ROUND(F29*G29,2) -> 0 | K29: =H29+I29+J29 -> 0 | L29: =ROUND(E29*F29,2) -> 0 | M29: =ROUND(E29*H29,2) -> 0 | N29: =ROUND(E29*I29,2) -> 0 | O29: =ROUND(E29*J29,2) -> 0 | P29: =M29+N29+O29 -> 0
A30: 8 | B30: līg.c. | C30: Vertikālās hidroizolācijas, AQUAFIN-2K/M-Plus(vai ekvivalents), ierīkošana uz pamatu virsmas divās kārtās, orientējošs materiāla patēriņš 2kg/m² | D30: m² | E30: 184.3 | H30: =ROUND(F30*G30,2) -> 0 | K30: =H30+I30+J30 -> 0 | L30: =ROUND(E30*F30,2) -> 0 | M30: =ROUND(E30*H30,2) -> 0 | N30: =ROUND(E30*I30,2) -> 0 | O30: =ROUND(E30*J30,2) -> 0 | P30: =M30+N30+O30 -> 0
A31: 8.1. | C31: Izolācija AQUAFIN-2K/M-Plus (vai ekvivalents) | D31: kg | E31: 368.6 | H31: =ROUND(F31*G31,2) -> 0 | K31: =H31+I31+J31 -> 0 | L31: =ROUND(E31*F31,2) -> 0 | M31: =ROUND(E31*H31,2) -> 0 | N31: =ROUND(E31*I31,2) -> 0 | O31: =ROUND(E31*J31,2) -> 0 | P31: =M31+N31+O31 -> 0
A32: 9 | B32: līg.c. | C32: PVC lāseņa iestrāde ārsienas un cokola salaidumā, L=58m | D32: m | E32: 61.8 | H32: =ROUND(F32*G32,2) -> 0 | K32: =H32+I32+J32 -> 0 | L32: =ROUND(E32*F32,2) -> 0 | M32: =ROUND(E32*H32,2) -> 0 | N32: =ROUND(E32*I32,2) -> 0 | O32: =ROUND(E32*J32,2) -> 0 | P32: =M32+N32+O32 -> 0
A33: 10 | B33: līg.c. | C33: Pamatu siltināšana vertikālā virsmā, Tenapors NEO EPS 100 (vai ekvivalents), b=50, uz gruntētas virsmas un noklātas līmjavas (šķ.1-1, 2-2); dziļiem pamatiem h=2.7m, sekliem 1,7m | D33: m² | E33: 142.3 | H33: =ROUND(F33*G33,2) -> 0 | K33: =H33+I33+J33 -> 0 | L33: =ROUND(E33*F33,2) -> 0 | M33: =ROUND(E33*H33,2) -> 0 | N33: =ROUND(E33*I33,2) -> 0 | O33: =ROUND(E33*J33,2) -> 0 | P33: =M33+N33+O33 -> 0
A34: 10.1. | C34: Grunts Cerasit (vai ekvivalents) CT 17 | D34: kg | E34: 42.7 | H34: =ROUND(F34*G34,2) -> 0 | K34: =H34+I34+J34 -> 0 | L34: =ROUND(E34*F34,2) -> 0 | M34: =ROUND(E34*H34,2) -> 0 | N34: =ROUND(E34*I34,2) -> 0 | O34: =ROUND(E34*J34,2) -> 0 | P34: =M34+N34+O34 -> 0
A35: 10.2. | C35: Līmjava Ceresit (vai ekvivalents) CT 190 | D35: kg | E35: 1280.7 | H35: =ROUND(F35*G35,2) -> 0 | K35: =H35+I35+J35 -> 0 | L35: =ROUND(E35*F35,2) -> 0 | M35: =ROUND(E35*H35,2) -> 0 | N35: =ROUND(E35*I35,2) -> 0 | O35: =ROUND(E35*J35,2) -> 0 | P35: =M35+N35+O35 -> 0
A36: 10.3. | C36: Siltinājums - putupolistirola plāksne Tenapors (vai ekvivalents) Neo EPS 100, b=50mm | D36: m² | E36: 156.5 | H36: =ROUND(F36*G36,2) -> 0 | K36: =H36+I36+J36 -> 0 | L36: =ROUND(E36*F36,2) -> 0 | M36: =ROUND(E36*H36,2) -> 0 | N36: =ROUND(E36*I36,2) -> 0 | O36: =ROUND(E36*J36,2) -> 0 | P36: =M36+N36+O36 -> 0
A37: 11 | B37: līg.c. | C37: Cokola apdare ar apmetuma sistēmu AS-1 (BK-3): 2 kārtās armējoša java un armējošs stikla šķiedras siets, 160g/m², zemapmetuma grunts, dekoratīvs gatavs silikāta-silikona esošā tonī krāsots apmetums, 2mm (cokola augstums vidēji h=0.56m; kop.L=58m | D37: m² | E37: 41.5 | H37: =ROUND(F37*G37,2) -> 0 | K37: =H37+I37+J37 -> 0 | L37: =ROUND(E37*F37,2) -> 0 | M37: =ROUND(E37*H37,2) -> 0 | N37: =ROUND(E37*I37,2) -> 0 | O37: =ROUND(E37*J37,2) -> 0 | P37: =M37+N37+O37 -> 0
A38: 11.1. | C38: Grunts Ceresit CT 16 (vai ekvivalents) | D38: kg | E38: 12.45 | H38: =ROUND(F38*G38,2) -> 0 | K38: =H38+I38+J38 -> 0 | L38: =ROUND(E38*F38,2) -> 0 | M38: =ROUND(E38*H38,2) -> 0 | N38: =ROUND(E38*I38,2) -> 0 | O38: =ROUND(E38*J38,2) -> 0 | P38: =M38+N38+O38 -> 0
A39: 11.2. | C39: Līmjava 4mm | D39: kg | E39: 207.5 | H39: =ROUND(F39*G39,2) -> 0 | K39: =H39+I39+J39 -> 0 | L39: =ROUND(E39*F39,2) -> 0 | M39: =ROUND(E39*H39,2) -> 0 | N39: =ROUND(E39*I39,2) -> 0 | O39: =ROUND(E39*J39,2) -> 0 | P39: =M39+N39+O39 -> 0
A40: 11.3. | C40: Armējošais stiklšķiedras siets - 160g/m², 2 kārtas | D40: m² | E40: 91.3 | H40: =ROUND(F40*G40,2) -> 0 | K40: =H40+I40+J40 -> 0 | L40: =ROUND(E40*F40,2) -> 0 | M40: =ROUND(E40*H40,2) -> 0 | N40: =ROUND(E40*I40,2) -> 0 | O40: =ROUND(E40*J40,2) -> 0 | P40: =M40+N40+O40 -> 0
A41: 11.4. | C41: Grunts Ceresit CT 16 (vai ekvivalents) | D41: kg | E41: 20.75 | H41: =ROUND(F41*G41,2) -> 0 | K41: =H41+I41+J41 -> 0 | L41: =ROUND(E41*F41,2) -> 0 | M41: =ROUND(E41*H41,2) -> 0 | N41: =ROUND(E41*I41,2) -> 0 | O41: =ROUND(E41*J41,2) -> 0 | P41: =M41+N41+O41 -> 0
A42: 11.5. | C42: Siliktā -silikona homogēnais apmetums Ceresit CT174 (vai ekvivalents), 2mm graudu lielums | D42: kg | E42: 153.55 | H42: =ROUND(F42*G42,2) -> 0 | K42: =H42+I42+J42 -> 0 | L42: =ROUND(E42*F42,2) -> 0 | M42: =ROUND(E42*H42,2) -> 0 | N42: =ROUND(E42*I42,2) -> 0 | O42: =ROUND(E42*J42,2) -> 0 | P42: =M42+N42+O42 -> 0
...

Sheet 2_Kopsavilkums
I1: 03.05.2017. MK noteikumu Nr.239 6.pielikums
A2: KOPSAVILKUMA APRĒĶINS Nr.2
A3: Draudzīgā aicinājuma Liepājas pilsētas 5.vidusskolas ēkas lietus kanalizācijas tīkla izbūve (posmā gar Rīgas ielas fasādi), Rīgas ielā 50, Liepājā (LKT darbi)
A4: (būvdarba veids vai konstruktīvā elementa nosaukums)
A5: =KOPTĀME!A13 -> Objekta nosaukums: Draudzīgā aicinājuma Liepājas 5.vidusskolas ēkas pamatu sanācija un lietus kanalizācijas tīkla izbūve Rīgas ielā 50, Liepājā
A6: =KOPTĀME!A14 -> Būves nosaukums: Ēka
A7: =KOPTĀME!A15 -> Objekta adrese: Rīgas ielā 50, Liepājā
A8: =KOPTĀME!A16 -> Pasūtījuma Nr. LVP 2026/138
A9: Būvniecības lieta Nr.BIS-BL-451128-11455
G10: Par kopējo summu (euro) | H10: =E22 -> 0
G11: Kopējā darbietilpība (c/h) | H11: =I18 -> 0
A14: Nr.p.k. | B14: Kods, tāmes Nr. | C14: Būvdarbu veids vai konstruktīvā elementa nosaukums | E14: Tāmes izmaksas | F14: Tai skaitā | I14: Darbietilpība c/h
F15: darba alga | G15: būvizstrādājumi | H15: mehānismi
A16: 1. | B16: ='2-1_LKT'!D2 -> 2-1 | C16: ='2-1_LKT'!A3 -> Lietus kanalizācija, drenāža | E16: ='2-1_LKT'!P84 -> 0 | F16: ='2-1_LKT'!M84 -> 0 | G16: ='2-1_LKT'!N84 -> 0 | H16: ='2-1_LKT'!O84 -> 0 | I16: ='2-1_LKT'!L84 -> 0
A17: 2. | B17: ='2-2_SK '!D2 -> 2-2 | C17: ='2-2_SK '!A3 -> Sadzīves kanalizācija | E17: ='2-2_SK '!P34 -> 0 | F17: ='2-2_SK '!M34 -> 0 | G17: ='2-2_SK '!N34 -> 0 | H17: ='2-2_SK '!O34 -> 0 | I17: ='2-2_SK '!L34 -> 0
A18: Kopā | E18: =SUM(E16:E17) -> 0 | F18: =SUM(F16:F17) -> 0 | G18: =SUM(G16:G17) -> 0 | H18: =SUM(H16:H17) -> 0 | I18: =SUM(I16:I17) -> 0
A19: Virsizdevumi (%) | E19: =ROUND(E18*D19,2) -> 0
A20: t.sk.darba aizsardzība | E20: =ROUND(D20*E19,2) -> 0
A21: Peļņa (%) | E21: =ROUND(E18*D21,2) -> 0
A22: Pavisam KOPĀ | E22: =E18+E19+E21 -> 0
B26: Sastādīja | C26: =KOPTĀME!B26 -> 0
C27: (paraksts un tā atšifrējums, uzņēmuma nosaukums, datums)
B29: =KOPTĀME!A31 -> Tāme sastādīta | C29: =KOPTĀME!B31 -> 0
B31: Pārbaudīja
C32: (paraksts un tā atšifrējums, uzņēmuma nosaukums, datums)
B34: Sertifikāta Nr. | C34: =KOPTĀME!B29 -> 0

Sheet 2-1_LKT
P1: 03.05.2017. MK noteikumu Nr.239 5.pielikums
C2: LOKĀLĀ TĀME Nr. | D2: 2-1
A3: Lietus kanalizācija, drenāža
A4: (būvdarbu veids vai konstruktīvā elementa nosaukums)
A5: ='1_Kopsavilkums'!A5:I5 -> Objekta nosaukums: Draudzīgā aicinājuma Liepājas 5.vidusskolas ēkas pamatu sanācija un lietus kanalizācijas tīkla izbūve Rīgas ielā 50, Liepājā
A6: =KOPTĀME!A14 -> Būves nosaukums: Ēka
A7: =KOPTĀME!A15 -> Objekta adrese: Rīgas ielā 50, Liepājā
A8: =KOPTĀME!A16 -> Pasūtījuma Nr. LVP 2026/138
A9: ='2_Kopsavilkums'!A9 -> Būvniecības lieta Nr.BIS-BL-451128-11455
A11: Tāme sastādīta 2026. gada tirgus cenās, pamatojoties uz apsekojumu un darba apjomiem
M12: Tāmes izmaksas | N12: =P84 -> 0 | P12: euro
M13: Tāme sastādīta | N13: =KOPTĀME!B31 -> 0
A15: Nr.p.k. | B15: Kods | C15: Būvdarbu nosaukums | D15: Mērvienība | E15: Daudzums | F15: Vienības izmaksas | L15: Kopā uz visu apjomu
F16: laika norma (c/h) | G16: darba samaksas likme* (euro/h) | H16: darba alga | I16: būvizstrādājumi | J16: mehānismi | K16: kopā | L16: darbietilpība (c/h) | M16: darba alga | N16: būvizstrādājumi | O16: mehānismi | P16: summa
C17: DEMONTĒJAMIE ĀRĒJIE KANALIZĀCIJAS TĪKLI
A18: 1 | B18: Ø1,0m, h=2,0÷2,5m | C18: Demontējama dz.betona sadzīves kanalizācijas aka | D18: gb | E18: 1 | H18: =ROUND(F18*G18,2) -> 0 | K18: =H18+I18+J18 -> 0 | L18: =ROUND(E18*F18,2) -> 0 | M18: =ROUND(E18*H18,2) -> 0 | N18: =ROUND(E18*I18,2) -> 0 | O18: =ROUND(E18*J18,2) -> 0 | P18: =M18+N18+O18 -> 0
A19: 2 | B19: Ø0,5m, h=2,0m | C19: Demontējama PVC kanalizācijas aka (precizēt izbūves laikā) | D19: gb | E19: 4 | H19: =ROUND(F19*G19,2) -> 0 | K19: =H19+I19+J19 -> 0 | L19: =ROUND(E19*F19,2) -> 0 | M19: =ROUND(E19*H19,2) -> 0 | N19: =ROUND(E19*I19,2) -> 0 | O19: =ROUND(E19*J19,2) -> 0 | P19: =M19+N19+O19 -> 0
A20: 3 | B20: d200 | C20: Esošas caurules atvienošana un noslēgšana | D20: vietas | E20: 4 | H20: =ROUND(F20*G20,2) -> 0 | K20: =H20+I20+J20 -> 0 | L20: =ROUND(E20*F20,2) -> 0 | M20: =ROUND(E20*H20,2) -> 0 | N20: =ROUND(E20*I20,2) -> 0 | O20: =ROUND(E20*J20,2) -> 0 | P20: =M20+N20+O20 -> 0
A21: 4 | B21: d200 | C21: Dz.betona akas remonts atvienotās caurules vietā | D21: vietas | E21: 2 | H21: =ROUND(F21*G21,2) -> 0 | K21: =H21+I21+J21 -> 0 | L21: =ROUND(E21*F21,2) -> 0 | M21: =ROUND(E21*H21,2) -> 0 | N21: =ROUND(E21*I21,2) -> 0 | O21: =ROUND(E21*J21,2) -> 0 | P21: =M21+N21+O21 -> 0
A22: 5 | B22: d110-d200 | C22: Demontējama kanalizācijas/drenāžas caurule | D22: m | E22: 91 | H22: =ROUND(F22*G22,2) -> 0 | K22: =H22+I22+J22 -> 0 | L22: =ROUND(E22*F22,2) -> 0 | M22: =ROUND(E22*H22,2) -> 0 | N22: =ROUND(E22*I22,2) -> 0 | O22: =ROUND(E22*J22,2) -> 0 | P22: =M22+N22+O22 -> 0
A23: 6 | C23: Demontēto kanalizācijas būvgružu transports uz utilizācijas vietu | D23: m³ | E23: 3 | H23: =ROUND(F23*G23,2) -> 0 | K23: =H23+I23+J23 -> 0 | L23: =ROUND(E23*F23,2) -> 0 | M23: =ROUND(E23*H23,2) -> 0 | N23: =ROUND(E23*I23,2) -> 0 | O23: =ROUND(E23*J23,2) -> 0 | P23: =M23+N23+O23 -> 0
C24: LIETUS KANALIZĀCIJA
A25: 7 | B25: Ø600/500-Ø250 h=1,6m | C25: PP skataka ar apaļu ķeta pārsedzi gājēju slodzei DN500 (rāmis ar vāku) , teleskopisku PP cauruli DN500, gumijas savienotājmanžeti DN600/500, gofrētu augstuma regulēšanas šahtu DN600 un pamatni DN600 | D25: gb | E25: 1 | H25: =ROUND(F25*G25,2) -> 0 | K25: =H25+I25+J25 -> 0 | L25: =ROUND(E25*F25,2) -> 0 | M25: =ROUND(E25*H25,2) -> 0 | N25: =ROUND(E25*I25,2) -> 0 | O25: =ROUND(E25*J25,2) -> 0 | P25: =M25+N25+O25 -> 0
A26: 8 | B26: Ø600/500-Ø250; 140° h=2,1m | C26: PP skataka ar apaļu ķeta pārsedzi gājēju slodzei DN500 (rāmis ar vāku) , teleskopisku PP cauruli DN500, gumijas savienotājmanžeti DN600/500, gofrētu augstuma regulēšanas šahtu DN600 un pamatni DN600 ar nosēddaļu min. 300mm | D26: gb | E26: 1 | H26: =ROUND(F26*G26,2) -> 0 | K26: =H26+I26+J26 -> 0 | L26: =ROUND(E26*F26,2) -> 0 | M26: =ROUND(E26*H26,2) -> 0 | N26: =ROUND(E26*I26,2) -> 0 | O26: =ROUND(E26*J26,2) -> 0 | P26: =M26+N26+O26 -> 0
A27: 9 | B27: Ø600/500-Ø250; 130° h=2,0m | C27: PP skataka ar apaļu ķeta pārsedzi gājēju slodzei DN500 (rāmis ar vāku) , teleskopisku PP cauruli DN500, gumijas savienotājmanžeti DN600/500, gofrētu augstuma regulēšanas šahtu DN600 un pamatni DN600 | D27: gb | E27: 1 | H27: =ROUND(F27*G27,2) -> 0 | K27: =H27+I27+J27 -> 0 | L27: =ROUND(E27*F27,2) -> 0 | M27: =ROUND(E27*H27,2) -> 0 | N27: =ROUND(E27*I27,2) -> 0 | O27: =ROUND(E27*J27,2) -> 0 | P27: =M27+N27+O27 -> 0
A28: 10 | B28: Ø600/500-Ø250; 125° h=1,6m | C28: PP skataka ar apaļu ķeta pārsedzi gājēju slodzei DN500 (rāmis ar vāku) , teleskopisku PP cauruli DN500, gumijas savienotājmanžeti DN600/500, gofrētu augstuma regulēšanas šahtu DN600 un pamatni DN600 | D28: gb | E28: 1 | H28: =ROUND(F28*G28,2) -> 0 | K28: =H28+I28+J28 -> 0 | L28: =ROUND(E28*F28,2) -> 0 | M28: =ROUND(E28*H28,2) -> 0 | N28: =ROUND(E28*I28,2) -> 0 | O28: =ROUND(E28*J28,2) -> 0 | P28: =M28+N28+O28 -> 0
A29: 11 | B29: Ø1,0m, h=3,0m | C29: Dz. betona spiediena dzēšanas grodu aka, groda dibens stiprināts pret izskalošanos, grodi, groda vāks, starplikas gredzens, čuguna vāks, apstrāde no ārpuses un iekšpuses ar bitumena mastiku 2 kārtās (hidroizolācija) | D29: kmpl | E29: 1 | H29: =ROUND(F29*G29,2) -> 0 | K29: =H29+I29+J29 -> 0 | L29: =ROUND(E29*F29,2) -> 0 | M29: =ROUND(E29*H29,2) -> 0 | N29: =ROUND(E29*I29,2) -> 0 | O29: =ROUND(E29*J29,2) -> 0 | P29: =M29+N29+O29 -> 0
A30: 12 | B30: Ø110 | C30: Akas pieslēguma caurule ar blīvgumiju | D30: gb | E30: 8 | H30: =ROUND(F30*G30,2) -> 0 | K30: =H30+I30+J30 -> 0 | L30: =ROUND(E30*F30,2) -> 0 | M30: =ROUND(E30*H30,2) -> 0 | N30: =ROUND(E30*I30,2) -> 0 | O30: =ROUND(E30*J30,2) -> 0 | P30: =M30+N30+O30 -> 0
A31: 13 | B31: d110 | C31: Esošas kanalizācijas caurules pieslēgums pie proj. akas | D31: vietas | E31: 1 | H31: =ROUND(F31*G31,2) -> 0 | K31: =H31+I31+J31 -> 0 | L31: =ROUND(E31*F31,2) -> 0 | M31: =ROUND(E31*H31,2) -> 0 | N31: =ROUND(E31*I31,2) -> 0 | O31: =ROUND(E31*J31,2) -> 0 | P31: =M31+N31+O31 -> 0
A32: 14 | B32: Ø110 | C32: Proj. caurules pieslēgums pie esošas akas | D32: vietas | E32: 2 | H32: =ROUND(F32*G32,2) -> 0 | K32: =H32+I32+J32 -> 0 | L32: =ROUND(E32*F32,2) -> 0 | M32: =ROUND(E32*H32,2) -> 0 | N32: =ROUND(E32*I32,2) -> 0 | O32: =ROUND(E32*J32,2) -> 0 | P32: =M32+N32+O32 -> 0
A33: 15 | B33: d50/Ø50 | C33: Esošo spiedvada cauruļu pieslēgums pie proj. akas | D33: vietas | E33: 2 | H33: =ROUND(F33*G33,2) -> 0 | K33: =H33+I33+J33 -> 0 | L33: =ROUND(E33*F33,2) -> 0 | M33: =ROUND(E33*H33,2) -> 0 | N33: =ROUND(E33*I33,2) -> 0 | O33: =ROUND(E33*J33,2) -> 0 | P33: =M33+N33+O33 -> 0
A34: 16 | B34: d250/Ø250 | C34: PVC aizsargčaula dz./betona grodu akas šķērsošanai ar kanalizācijas cauruli un šķērsojuma apstrāde ar ātri cietējošu javu | D34: gb | E34: 2 | H34: =ROUND(F34*G34,2) -> 0 | K34: =H34+I34+J34 -> 0 | L34: =ROUND(E34*F34,2) -> 0 | M34: =ROUND(E34*H34,2) -> 0 | N34: =ROUND(E34*I34,2) -> 0 | O34: =ROUND(E34*J34,2) -> 0 | P34: =M34+N34+O34 -> 0
A35: 17 | B35: d200/Ø200 | D35: gb | E35: 1 | H35: =ROUND(F35*G35,2) -> 0 | K35: =H35+I35+J35 -> 0 | L35: =ROUND(E35*F35,2) -> 0 | M35: =ROUND(E35*H35,2) -> 0 | N35: =ROUND(E35*I35,2) -> 0 | O35: =ROUND(E35*J35,2) -> 0 | P35: =M35+N35+O35 -> 0
A36: 18 | B36: d110/Ø110 | D36: gb | E36: 1 | H36: =ROUND(F36*G36,2) -> 0 | K36: =H36+I36+J36 -> 0 | L36: =ROUND(E36*F36,2) -> 0 | M36: =ROUND(E36*H36,2) -> 0 | N36: =ROUND(E36*I36,2) -> 0 | O36: =ROUND(E36*J36,2) -> 0 | P36: =M36+N36+O36 -> 0
A37: 19 | B37: d50/Ø50 | D37: gb | E37: 2 | H37: =ROUND(F37*G37,2) -> 0 | K37: =H37+I37+J37 -> 0 | L37: =ROUND(E37*F37,2) -> 0 | M37: =ROUND(E37*H37,2) -> 0 | N37: =ROUND(E37*I37,2) -> 0 | O37: =ROUND(E37*J37,2) -> 0 | P37: =M37+N37+O37 -> 0
A38: 20 | B38: Ø110 | C38: Āra darbu PP gludsienu kanalizācijas caurule SN8 ar uzmavu un blīvi | D38: m | E38: 64 | H38: =ROUND(F38*G38,2) -> 0 | K38: =H38+I38+J38 -> 0 | L38: =ROUND(E38*F38,2) -> 0 | M38: =ROUND(E38*H38,2) -> 0 | N38: =ROUND(E38*I38,2) -> 0 | O38: =ROUND(E38*J38,2) -> 0 | P38: =M38+N38+O38 -> 0
A39: 21 | B39: Ø250 | D39: m | E39: 40 | H39: =ROUND(F39*G39,2) -> 0 | K39: =H39+I39+J39 -> 0 | L39: =ROUND(E39*F39,2) -> 0 | M39: =ROUND(E39*H39,2) -> 0 | N39: =ROUND(E39*I39,2) -> 0 | O39: =ROUND(E39*J39,2) -> 0 | P39: =M39+N39+O39 -> 0
A40: 22 | B40: Ø110-45° | C40: Āra darbu PP gludsienu kanalizācijas caurules līkums | D40: gb | E40: 16 | H40: =ROUND(F40*G40,2) -> 0 | K40: =H40+I40+J40 -> 0 | L40: =ROUND(E40*F40,2) -> 0 | M40: =ROUND(E40*H40,2) -> 0 | N40: =ROUND(E40*I40,2) -> 0 | O40: =ROUND(E40*J40,2) -> 0 | P40: =M40+N40+O40 -> 0
A41: 23 | B41: Dn110 | C41: Lietus ūdens savācējgrozs ar netīrumu grozu, čuguna, "Aco" Passavant (vai ekvivalents) | D41: gb | E41: 8 | H41: =ROUND(F41*G41,2) -> 0 | K41: =H41+I41+J41 -> 0 | L41: =ROUND(E41*F41,2) -> 0 | M41: =ROUND(E41*H41,2) -> 0 | N41: =ROUND(E41*I41,2) -> 0 | O41: =ROUND(E41*J41,2) -> 0 | P41: =M41+N41+O41 -> 0
A42: 24 | C42: Šķērsojuma vieta ar esošām komunikācijām | D42: vietas | E42: 2 | H42: =ROUND(F42*G42,2) -> 0 | K42: =H42+I42+J42 -> 0 | L42: =ROUND(E42*F42,2) -> 0 | M42: =ROUND(E42*H42,2) -> 0 | N42: =ROUND(E42*I42,2) -> 0 | O42: =ROUND(E42*J42,2) -> 0 | P42: =M42+N42+O42 -> 0
...

Sheet 2-2_SK 
P1: 03.05.2017. MK noteikumu Nr.239 5.pielikums
C2: LOKĀLĀ TĀME Nr. | D2: 2-2
A3: Sadzīves kanalizācija
A4: (būvdarbu veids vai konstruktīvā elementa nosaukums)
A5: ='1_Kopsavilkums'!A5:I5 -> Objekta nosaukums: Draudzīgā aicinājuma Liepājas 5.vidusskolas ēkas pamatu sanācija un lietus kanalizācijas tīkla izbūve Rīgas ielā 50, Liepājā
A6: =KOPTĀME!A14 -> Būves nosaukums: Ēka
A7: =KOPTĀME!A15 -> Objekta adrese: Rīgas ielā 50, Liepājā
A8: =KOPTĀME!A16 -> Pasūtījuma Nr. LVP 2026/138
A9: ='2_Kopsavilkums'!A9 -> Būvniecības lieta Nr.BIS-BL-451128-11455
A11: Tāme sastādīta 2026. gada tirgus cenās, pamatojoties uz apsekojumu un darba apjomiem
M12: Tāmes izmaksas | N12: =P34 -> 0 | P12: euro
M13: Tāme sastādīta | N13: =KOPTĀME!B31 -> 0
A15: Nr.p.k. | B15: Kods | C15: Būvdarbu nosaukums | D15: Mērvienība | E15: Daudzums | F15: Vienības izmaksas | L15: Kopā uz visu apjomu
F16: laika norma (c/h) | G16: darba samaksas likme* (euro/h) | H16: darba alga | I16: būvizstrādājumi | J16: mehānismi | K16: kopā | L16: darbietilpība (c/h) | M16: darba alga | N16: būvizstrādājumi | O16: mehānismi | P16: summa
C17: SADZĪVES KANALIZĀCIJA
A18: 1 | B18: Ø400/315-Ø200 h=2,5m | C18: PP skataka ar apaļu ķeta pārsedzi gājēju slodzei DN315 (rāmis ar vāku) , teleskopisku PP cauruli DN315, gumijas savienotājmanžeti DN400/315, gofrētu augstuma regulēšanas šahtu DN400 un pamatni DN400 | D18: gb | E18: 1 | H18: =ROUND(F18*G18,2) -> 0 | K18: =H18+I18+J18 -> 0 | L18: =ROUND(E18*F18,2) -> 0 | M18: =ROUND(E18*H18,2) -> 0 | N18: =ROUND(E18*I18,2) -> 0 | O18: =ROUND(E18*J18,2) -> 0 | P18: =M18+N18+O18 -> 0
A19: 2 | B19: Ø110 | C19: Esošas kanalizācijas caurules pieslēgums pie proj. PVC izvada no ēkas | D19: vietas | E19: 1 | H19: =ROUND(F19*G19,2) -> 0 | K19: =H19+I19+J19 -> 0 | L19: =ROUND(E19*F19,2) -> 0 | M19: =ROUND(E19*H19,2) -> 0 | N19: =ROUND(E19*I19,2) -> 0 | O19: =ROUND(E19*J19,2) -> 0 | P19: =M19+N19+O19 -> 0
A20: 3 | B20: Ø160 | D20: vietas | E20: 1 | H20: =ROUND(F20*G20,2) -> 0 | K20: =H20+I20+J20 -> 0 | L20: =ROUND(E20*F20,2) -> 0 | M20: =ROUND(E20*H20,2) -> 0 | N20: =ROUND(E20*I20,2) -> 0 | O20: =ROUND(E20*J20,2) -> 0 | P20: =M20+N20+O20 -> 0
A21: 4 | B21: Ø200 | C21: Proj. caurules pieslēgums pie esošas akas | D21: vietas | E21: 1 | H21: =ROUND(F21*G21,2) -> 0 | K21: =H21+I21+J21 -> 0 | L21: =ROUND(E21*F21,2) -> 0 | M21: =ROUND(E21*H21,2) -> 0 | N21: =ROUND(E21*I21,2) -> 0 | O21: =ROUND(E21*J21,2) -> 0 | P21: =M21+N21+O21 -> 0
A22: 5 | B22: d200/Ø200 | C22: PVC aizsargčaula dz./betona grodu akas šķērsošanai ar kanalizācijas cauruli un šķērsojuma apstrāde ar ātri cietējošu javu | D22: gb | E22: 1 | H22: =ROUND(F22*G22,2) -> 0 | K22: =H22+I22+J22 -> 0 | L22: =ROUND(E22*F22,2) -> 0 | M22: =ROUND(E22*H22,2) -> 0 | N22: =ROUND(E22*I22,2) -> 0 | O22: =ROUND(E22*J22,2) -> 0 | P22: =M22+N22+O22 -> 0
A23: 6 | B23: Ø110 | C23: Āra darbu PP gludsienu kanalizācijas caurule SN8 ar uzmavu un blīvi | D23: m | E23: 3 | H23: =ROUND(F23*G23,2) -> 0 | K23: =H23+I23+J23 -> 0 | L23: =ROUND(E23*F23,2) -> 0 | M23: =ROUND(E23*H23,2) -> 0 | N23: =ROUND(E23*I23,2) -> 0 | O23: =ROUND(E23*J23,2) -> 0 | P23: =M23+N23+O23 -> 0
A24: 7 | B24: Ø160 | D24: m | E24: 9 | H24: =ROUND(F24*G24,2) -> 0 | K24: =H24+I24+J24 -> 0 | L24: =ROUND(E24*F24,2) -> 0 | M24: =ROUND(E24*H24,2) -> 0 | N24: =ROUND(E24*I24,2) -> 0 | O24: =ROUND(E24*J24,2) -> 0 | P24: =M24+N24+O24 -> 0
A25: 8 | B25: Ø200 | D25: m | E25: 4.5 | H25: =ROUND(F25*G25,2) -> 0 | K25: =H25+I25+J25 -> 0 | L25: =ROUND(E25*F25,2) -> 0 | M25: =ROUND(E25*H25,2) -> 0 | N25: =ROUND(E25*I25,2) -> 0 | O25: =ROUND(E25*J25,2) -> 0 | P25: =M25+N25+O25 -> 0
A26: 9 | B26: Ø160 | C26: Akas pieslēguma caurule ar blīvgumiju | D26: gb | E26: 1 | H26: =ROUND(F26*G26,2) -> 0 | K26: =H26+I26+J26 -> 0 | L26: =ROUND(E26*F26,2) -> 0 | M26: =ROUND(E26*H26,2) -> 0 | N26: =ROUND(E26*I26,2) -> 0 | O26: =ROUND(E26*J26,2) -> 0 | P26: =M26+N26+O26 -> 0
A27: 10 | B27: Ø200-Ø160 | C27: Pāreja no caurules uz aku | D27: gb | E27: 1 | H27: =ROUND(F27*G27,2) -> 0 | K27: =H27+I27+J27 -> 0 | L27: =ROUND(E27*F27,2) -> 0 | M27: =ROUND(E27*H27,2) -> 0 | N27: =ROUND(E27*I27,2) -> 0 | O27: =ROUND(E27*J27,2) -> 0 | P27: =M27+N27+O27 -> 0
A28: 11 | C28: Gruntsūdens līmeņa pazemināšana ar adatfiltriem rakšanas zonā. Izmantošanas apjomu (metrus, komplektu skaitu) precizē būvnieks saskaņā ar plānoto pielietojamo rakšanas darbu tehnoloģiju | D28: kmpl | E28: 1 | H28: 0 | K28: 0 | L28: 0 | M28: 0 | N28: 0 | O28: 0 | P28: 0
A29: 12 | C29: Hidraulisko vairogu uzstādīšana būvbedru sienu nostiprināšanai (izmantojami pie tranšeju dziļuma > 2,0m) | D29: m | E29: 18 | H29: 0 | K29: 0 | L29: 0 | M29: 0 | N29: 0 | O29: 0 | P29: 0
A30: 13 | B30: 16mm | C30: Grunts tranšejām, pabēruma un apbēruma veidošana | D30: m³ | E30: 2 | H30: 0 | K30: 0 | L30: 0 | M30: 0 | N30: 0 | O30: 0 | P30: 0
A31: 14 | B31: 20mm | D31: m³ | E31: 6 | H31: 0 | K31: 0 | L31: 0 | M31: 0 | N31: 0 | O31: 0 | P31: 0
A32: 15 | B32: Minerālgr. | D32: m³ | E32: 13 | H32: 0 | K32: 0 | L32: 0 | M32: 0 | N32: 0 | O32: 0 | P32: 0
A33: 16 | C33: Hidrauliskā pārbaude, trases nospraušana, uzmērīšana, skalošana, CCTV inspekcija un citi saistītie darbi | D33: kmpl | E33: 1 | H33: 0 | K33: 0 | L33: 0 | M33: 0 | N33: 0 | O33: 0 | P33: 0
A34: Tiešās izmaksas KOPĀ, t. sk. darba devēja sociālais nodoklis (%) | L34: =SUM(L17:L33) -> 0 | M34: =SUM(M17:M33) -> 0 | N34: =SUM(N17:N33) -> 0 | O34: =SUM(O17:O33) -> 0 | P34: =SUM(P17:P33) -> 0
A36: Piezīme. * Aile aizpildāma, ja būvdarbu iedalījums veikts saskaņā ar 2017.gada 3.maija Ministra kabineta (MK) noteikumu Nr.239 1. pielikumu.
