Workbook

Sheet Obligātās prasības
A1: nr. | B1: Obligātās prasības iekārtām un iesniegtajam piedāvājumam
C2: 1. pozīcija - Laboratorijas inkubators | D2: 2. pozīcija - Īpaši zemas temperatūras saldētava | E2: 3. pozīcija - Automatizēta histoloģisko priekšmetstikliņu krāsošanas un pārklāšanas sistēma | F2: 4. pozīcija - Kaulu zāģēšanas iekārta | G2: 5. pozīcija - Histological Processor for Frozen Tissue Section Preparation | H2: 6. pozīcija - Laboratorijas centrifūga priekšmetstikliņu centrifugēšanai | I2: 7. pozīcija - Laboratorijas centrifūga ar dzesēšanu | J2: 8. pozīcija - Automātiskais šūnu skaitītājs | K2: 9. pozīcija - Pipete automātiskā vienkanāla | L2: 10. pozīcija - Šūnu kontrolētas sasaldēšanas konteiners | M2: 11. pozīcija - Kriostobriņi bioloģisko paraugu uzglabāšanai | N2: 12. pozīcija - Kriouzlīmes kriostobriņu marķēšanai | O2: 13. pozīcija - Termosoma ar aukstumelementu komplektu
A3: Piemērs | B3: Piemērs | C3: "-"(gadījumos, ja nepiesakās uz pozīciju) | D3: "-"(gadījumos, ja nepiesakās uz pozīciju) | E3: "-"(gadījumos, ja nepiesakās uz pozīciju) | F3: "-"(gadījumos, ja nepiesakās uz pozīciju) | G3: "-"(gadījumos, ja nepiesakās uz pozīciju) | H3: "-"(gadījumos, ja nepiesakās uz pozīciju) | I3: "-"(gadījumos, ja nepiesakās uz pozīciju) | J3: "-"(gadījumos, ja nepiesakās uz pozīciju) | K3: "-"(gadījumos, ja nepiesakās uz pozīciju) | L3: "-"(gadījumos, ja nepiesakās uz pozīciju) | M3: "-"(gadījumos, ja nepiesakās uz pozīciju) | N3: "-"(gadījumos, ja nepiesakās uz pozīciju) | O3: "-"(gadījumos, ja nepiesakās uz pozīciju)
A4: Piedāvājumam jāpievieno:
A5: 1 | B5: Preces ražotāja izsniegta autorizācijas vēstule, kas apliecina, ka pretendents ir tiesīgs izplatīt un nodrošināt tehnisko apkalpošanu* piedāvātai Precei Latvijas Republikā. Vai arī ražotāja apliecinājums, ka autorizācija nav nepieciešama. | L5: Nav attiecināms | M5: Nav attiecināms | N5: Nav attiecināms | O5: Nav attiecināms
A6: 2 | B6: Piedāvātas Preces atbilstības deklarācijas kopija.
A7: 3 | B7: Piedāvātas Preces CE sertifikāta kopija, ja attiecināms.
A8: 4 | B8: Ja ražotājs ir paredzējis, ka periodiski veicamos darbus** un/vai remontu var veikt tikai sertificēts inženieris, piesakoties uz atbilstošo pozīciju, jāiesniedz atbilstošs inženiera sertifikāts par apmācībām, kurās norādīta atbilstība veikt konkrētā modeļa ierīču periodiskos darbus un/vai remontu vai iesniegt ražotāja apliecinājumu par Preces garantijas remonta un tehniskās apkalpošanas pasākumu, ja tādi ir nepieciešami, nodrošināšanas iespējām. | K8: Nav attiecināms | L8: Nav attiecināms | M8: Nav attiecināms | N8: Nav attiecināms | O8: Nav attiecināms
A9: 5 | B9: Ražotāja apstiprinātu periodiski veicamo darbu sarakstu, kā arī šo darbu periodiskumu (servisa rokasgrāmatas attiecīgās sadaļas ar ietvertu informāciju par veicamajām darbībām, to periodiskumu, mērāmajiem parametriem, to robežvērtībām, regulāri maināmajām rezerves daļām), ja ražotājs tādus ir paredzējis. Ja ražotājs nav paredzējis periodiski veicamos darbus, par to jāiesniedz ražotāja apliecinājums. Servisa rokasgrāmatas sadaļas var aizstāt ar ražotāja apstiprinātu dokumentu, kas ietver šajā punktā aprakstīto informāciju.
A10: 6 | B10: Piedāvājumā iesniegt iespējamās remontstundas un periodiski veicamo darbu izmaksas pēc garantijas periodā, ja ražotājs tādas ir paredzējis. | C10: Izmaksas norādīt sadaļā "Iekārtu tehniskā apkalpošana" | D10: Izmaksas norādīt sadaļā "Iekārtu tehniskā apkalpošana" | E10: Izmaksas norādīt sadaļā "Iekārtu tehniskā apkalpošana" | F10: Izmaksas norādīt sadaļā "Iekārtu tehniskā apkalpošana" | G10: Izmaksas norādīt sadaļā "Iekārtu tehniskā apkalpošana" | H10: Izmaksas norādīt sadaļā "Iekārtu tehniskā apkalpošana" | I10: Izmaksas norādīt sadaļā "Iekārtu tehniskā apkalpošana" | J10: Izmaksas norādīt sadaļā "Iekārtu tehniskā apkalpošana" | K10: Izmaksas norādīt sadaļā "Iekārtu tehniskā apkalpošana"
A11: Prasības precei:
A12: 7 | B12: Piedāvātā Prece ir jauna, iepriekš nelietota un nav izmantota prezentācijās; tā nesatur iepriekš lietotas vai atjaunotas sastāvdaļas vai komponentes. Tā ir ražota ne agrāk kā 12 mēnešus pirms piegādes. | C12: Piedāvājot savu preci, pretendents apstiprina preces nosacījumu izpildi. | D12: Piedāvājot savu preci, pretendents apstiprina preces nosacījumu izpildi. | E12: Piedāvājot savu preci, pretendents apstiprina preces nosacījumu izpildi. | F12: Piedāvājot savu preci, pretendents apstiprina preces nosacījumu izpildi. | G12: Piedāvājot savu preci, pretendents apstiprina preces nosacījumu izpildi. | H12: Piedāvājot savu preci, pretendents apstiprina preces nosacījumu izpildi. | I12: Piedāvājot savu preci, pretendents apstiprina preces nosacījumu izpildi. | J12: Piedāvājot savu preci, pretendents apstiprina preces nosacījumu izpildi. | K12: Piedāvājot savu preci, pretendents apstiprina preces nosacījumu izpildi. | L12: Piedāvājot savu preci, pretendents apstiprina preces nosacījumu izpildi. | M12: Piedāvājot savu preci, pretendents apstiprina preces nosacījumu izpildi. | N12: Piedāvājot savu preci, pretendents apstiprina preces nosacījumu izpildi. | O12: Piedāvājot savu preci, pretendents apstiprina preces nosacījumu izpildi.
A13: 8 | B13: Piedāvātajām Precēm garantijas termiņš ir vismaz 24 mēneši no pieņemšanas – nodošanas akta abpusējas parakstīšanas brīža.
A14: 9 | B14: Garantijas laikā Piegādātājs bez papildus samaksas nodrošina ierīces remontu un periodiskos darbus atbilstoši ražotāja noteiktajām prasībām, ja ražotājs tādu ir paredzējis.
A15: 10 | B15: Garantijas laikā Piegādātājs bez papildus samaksas nodrošina konsultācijas un atkārtotas apmācības par Preci, ja tādas ir nepieciešamas lietotājam.
A16: 11 | B16: Prece nedrīkst būt ražota Krievijā vai Baltkrievijā.
A17: 12 | B17: Prece tiek piegādāta ne ilgāk kā 60 dienu laikā no pasūtījuma veikšanas, lūdzam norādīt iekārtas piegādes laiku. | C17: Norādīt piegādes laiku: | D17: Norādīt piegādes laiku: | E17: Norādīt piegādes laiku: | F17: Norādīt piegādes laiku: | G17: Norādīt piegādes laiku: | H17: Norādīt piegādes laiku: | I17: Norādīt piegādes laiku: | J17: Norādīt piegādes laiku: | K17: Norādīt piegādes laiku: | L17: Norādīt piegādes laiku: | M17: Norādīt piegādes laiku: | N17: Norādīt piegādes laiku: | O17: Norādīt piegādes laiku:
A18: Preces piegādes nosacījumi:
A19: 13 | B19: Piegādājot Preci, Piegādātājs nodod sekojošu dokumentāciju: medicīniskās ierīces lietošanas instrukcijas un citas dokumentācijas oriģinālvalodā un valsts valodā nodošanu (gan papīra, gan digitālā formātā) un vigilances sistēmas darbības izskaidrošanu lietotājam attiecībā uz konkrēto medicīnisko ierīci | C19: Piedāvājot savu preci, pretendents apstiprina preces nosacījumu izpildi. | D19: Piedāvājot savu preci, pretendents apstiprina preces nosacījumu izpildi. | E19: Piedāvājot savu preci, pretendents apstiprina preces nosacījumu izpildi. | F19: Piedāvājot savu preci, pretendents apstiprina preces nosacījumu izpildi. | G19: Piedāvājot savu preci, pretendents apstiprina preces nosacījumu izpildi. | H19: Piedāvājot savu preci, pretendents apstiprina preces nosacījumu izpildi. | I19: Piedāvājot savu preci, pretendents apstiprina preces nosacījumu izpildi. | J19: Piedāvājot savu preci, pretendents apstiprina preces nosacījumu izpildi. | K19: Piedāvājot savu preci, pretendents apstiprina preces nosacījumu izpildi. | L19: Piedāvājot savu preci, pretendents apstiprina preces nosacījumu izpildi. | M19: Piedāvājot savu preci, pretendents apstiprina preces nosacījumu izpildi. | N19: Piedāvājot savu preci, pretendents apstiprina preces nosacījumu izpildi. | O19: Piedāvājot savu preci, pretendents apstiprina preces nosacījumu izpildi.
A20: 14 | B20: Nododot Preci ekspluatācijā, piegādātājs nodrošina Preces uzstādīšanu, ierīces funkcionālo un elektrodrošības pārbaudi, kā arī funkciju testēšanu un ierīces kalibrēšanu(ja, uzsākot tās ekspluatāciju, tādas prasības paredzētas ierīces tehniskajā dokumentācijā), iesniedz domenentāciju par šo darbu izpildi.
A21: 15 | B21: Piegādājot preci piegādātās veic medicīniskās ierīces lietotāja apmācību un izsniedzot apliecinošu dokumentu, kurā norāda apmācīto personu, personu, kura veikusi apmācību, un apmācības veikšanas datumu; Piegādājot preci piegādātās veic medicīniskās ierīces tehniskajā dokumentācijā pieprasīto ierīces lietošanas vides raksturlielumu un garantētā elektroapgādes režīma pārbaudi un šo pierakstu nodošanu medicīniskās ierīces īpašniekam vai turētājam.
A22: Tehniskās apkalpošanas nodrošināšanas nosacījumi
A23: 16 | B23: Visu veidu tehniskā apkalpošana tiek veikta tikai pēc Pasūtītāja pieprasījuma. | C23: Piedāvājot savu preci, pretendents apstiprina tehniskās apkalpošanas nodrošināšanas nosacījumu izpildi. | D23: Piedāvājot savu preci, pretendents apstiprina tehniskās apkalpošanas nodrošināšanas nosacījumu izpildi. | E23: Piedāvājot savu preci, pretendents apstiprina tehniskās apkalpošanas nodrošināšanas nosacījumu izpildi. | F23: Piedāvājot savu preci, pretendents apstiprina tehniskās apkalpošanas nodrošināšanas nosacījumu izpildi. | G23: Piedāvājot savu preci, pretendents apstiprina tehniskās apkalpošanas nodrošināšanas nosacījumu izpildi. | H23: Piedāvājot savu preci, pretendents apstiprina tehniskās apkalpošanas nodrošināšanas nosacījumu izpildi. | I23: Piedāvājot savu preci, pretendents apstiprina tehniskās apkalpošanas nodrošināšanas nosacījumu izpildi. | J23: Piedāvājot savu preci, pretendents apstiprina tehniskās apkalpošanas nodrošināšanas nosacījumu izpildi. | K23: Piedāvājot savu preci, pretendents apstiprina tehniskās apkalpošanas nodrošināšanas nosacījumu izpildi. | L23: Piedāvājot savu preci, pretendents apstiprina tehniskās apkalpošanas nodrošināšanas nosacījumu izpildi. | M23: Piedāvājot savu preci, pretendents apstiprina tehniskās apkalpošanas nodrošināšanas nosacījumu izpildi. | N23: Piedāvājot savu preci, pretendents apstiprina tehniskās apkalpošanas nodrošināšanas nosacījumu izpildi. | O23: Piedāvājot savu preci, pretendents apstiprina tehniskās apkalpošanas nodrošināšanas nosacījumu izpildi.
A24: 17 | B24: Visu veidu tehniskā apkalpošana tikai izņēmuma gadījumos notiek ārpus Slimnīcas teritorijas, iepriekš to saskaņojot ar Pasūtītāju. Ja autorizētais pārstāvis iekārtas tehnisko apkalpošanu nenodrošina uz vietas, bet ierīce tiek sūtīta ražotājam, tad to norādīt piedāvājumā.
A25: 18 | B25: Tehniskā uzraudzība jādokumentē atbilstoši ražotāja un 2023.gada 15.augusta Ministru kabineta noteikumu nr. 461 "Medicīnisko ierīču noteikumi" punktiem 45., 56., 59., norādot visas izmantotās mēriekārtas un mērīto lielumu robežvērtības, ja attiecināms.
A26: 19 | B26: Visu veidu tehniskā apkalpošana jādokumentē un jānoslēdz ar abpusēji parakstītu pieņemšanas/nodošanas vai servisa aktu.
A27: 20 | B27: Ierīces defektācija tiek veikta trīs darba dienu laikā no pieprasījuma saņemšanas, iesniedzot rakstisku atzinumu par ierīces tehnisko stāvokli. Darbības traucējumi tiek novērsti 5 darba dienu laikā no pieprasījuma saņemšanas vai defektācijas akta apstiprināšanas brīža. Par ilgāku bojājuma novēršanas izpildes laiku jāvienojas atsevišķi.
A28: 21 | B28: Ja iekārtas darbības atjaunošanai nepieciešama rezerves daļu nomaiņa, tad tiek sastādīts defektācijas akts un rezerves daļu nomaiņa tiek veikta tikai pēc defekta akta saskaņošanas ar Pasūtītāju.
A29: 22 | B29: Garantēt veikto darbu atbilstību ierīces ražotāja noteiktajiem standartiem un Latvijas Republikā spēkā esošajiem normatīvajiem aktiem, paredzot ne mazāk kā trīs mēnešu garantiju nomainītajām rezerves daļām, materiāliem un ar to nomaiņu saistītiem remontdarbiem.
A30: 23 | B30: Garantēt, ka tehnisko apkalpošanu veic ražotājs vai ražotāja atbilstoši apmācīts un sertificēts speciālists, ja ražotājs tā paredzējis.
A31: 24 | B31: Informēt Pasūtītāju gadījumos, ja ražotājs plāno pārtraukt tehnisko pavadību un tiklīdz ražotājs ir pārtraucis iekārtas tehnisko pavadību.
A32: 25 | B32: Servisa stundas likme ietver visas izmaksas (administratīvās, transporta, inženiera stundas likmi, servisam nepieciešamo instrumentu un materiālu (salvetes, skrūvju līme u.tml.) u.c.), izņemot rezerves daļu izmaksas, kas nepieciešamas, lai nodrošinātu vienu ierīces remonta/tehniskās apkalpošanas stundu. Laika uzskaites vienības - pusstunda vai stunda.
A33: 26 | B33: Periodiski veicamo darbu cenā ir ietvertas visas elektrodrošības un funkcionālās pārbaudes izmaksas, ja ražotājs tādas pārbaudes ir paredzējis.
A34: 27 | B34: Periodisko veicamo darbu veikšanai nepieciešamo piederumu (vienreizlietojamās sistēmas, kontūri u.tml.) izmaksas jāiekļauj pakalpojuma cenā.
A35: 28 | B35: Jānorāda paredzamais periodiski veicamo darbu ilgums, kas ir nepieciešams, lai varētu plānot ierīces pieejamību. Apmaksa par darba ilgumu tiks veikta pēc pieņemšanas/nodošanas vai servisa aktā minētā laika.
A36: 29 | B36: Ja ražotājs ir paredzējis, ka periodiski veicamos darbus vai remontu var veikt nesertificēts inženieris, tad tiek pieņemts, ka tos var veikt Slimnīcas tehniskais personāls.
A37: Papildus informācija par iepirkumu un piedāvājuma aizpildīšanas prasībām:
A38: 30 | B38: Pretendents tehniskajā piedāvājumā norāda Preces ražotāju, modeli un atbilstošos parametrus.
A39: 31 | B39: Parametru atbilstību pamatot ar norādi uz tehniskajām datu lapām vai informatīviem materiāliem, norādot atsauci tehniskajā piedāvājumā uz konkrēto lapaspusi un punktu. Informatīvajā materiālā norādīt tehniskās specifikācijas punktu, uz kuru attiecināms.
A40: 32 | B40: Iepirkums ir sadalīts 13 pozīcijās. Līguma slēgšanas tiesības tiks piešķirtas par katru pozīciju atsevišķi, parakstot vispārīgo vienošanos. Līguma slēgšanas tiesības saimnieciski izdevīgākajam piedāvājumam.
A41: 33 | B41: Visās pozīcijās tiks vērtēta summa par iekārtu iegādes izmaksām un iekārtu tehnisko apkalpošanu.
A42: 34 | B42: Ja iekārtai periodiski veicamo darbu saturs mainās, tad iekārtu tehniskās apkalpošanas piedāvājumā katru periodiski veicamā darba veidu norādīt atsevišķi, veidojot papildus rindas pēc nepieciešamības.
B44: Izmantotās definīcijas:
B45: *Tehniskā apkalpošana - ražotāja noteiktie periodiski veicamie darbi un remonts
B46: **Periodiskie veicamie darbi - ražotāja noteiktā apkope (ražotāja noteikts pasākumu kopums attiecībā uz konkrētajai medicīniskajai ierīcei tās ekspluatācijas laikā veicamo apkopes procedūru, ievērojot visas ražotāja noteiktās prasības, iekļaujot regulāri maināmo rezerves daļu klāstu, iestatīšanas vai kalibrēšanas procesus, atbilstoši ražotāja noteiktajiem termiņiem) un tehniskā uzraudzība
B47: ***Vienību skaits ir aptuvens un paredzēts konkursa uzvarētāja noteikšanai. Līgumu paredzēts noslēgt par vienības cenu, norādot maksimālo summu, kuru var izmantot līguma darbības laikā.

Sheet TS 1. poz
A1: 1. pozīcija - Laboratorijas inkubators | D1: Pretendenta piedāvājums, atsauce uz informatīvo materiālu (Informatīvā materiāla nosaukums, lpp.)
A2: Nr. | B2: Preces nosaukums, veicamās funkcijas, tehniskās prasības un komplektācija | C2: Skaits, gab.***
A3: Piemērs | B3: Piemērs | C3: Piemērs | D3: Informatīvais materiāls 2, 4.lpp
A4: 1 | B4: Nosaukums: Laboratorijas inkubators. | C4: 2
A5: 1.1. | B5: Veicamās funkcijas:
A6: 1.1.1 | B6: Iekārta paredzēta paraugu uzglabāšanai kontrolētos temperatūras apstākļos, nodrošinot stabilu temperatūru (aptuveni +60 °C).
A7: 1.2. | B7: Tehniskās prasības:
A8: 1.2.1 | B8: Uz galda novietojama vertikāla tipa iekārta.
A9: 1.2.2 | B9: Darba kameras iekšējais tilpums 60l ±5l.
A10: 1.2.3 | B10: Darbības temperatūras diapazons vismaz no +30 °C līdz +60 °C.
A11: 1.2.4 | B11: Temperatūras iestatīšanas solis vismaz 0,1 °C.
A12: 1.2.5 | B12: Temperatūras iestatīšanas precizitāte pie +37 °C vismaz ±0,3 °C.
A13: 1.2.6 | B13: Vizuāls un skaņas trauksmes signāls iestatīto parametru noviržu gadījumā.
A14: 1.2.7 | B14: Aprīkots ar vismaz 2 plauktiem.
A15: 1.2.8 | B15: Vadības displējs.
A16: 1.2.9 | B16: Automātiskā atslēgšanas pie iekārtas pārkāršanas.
A17: 1.2.10 | B17: Aprīkots ar iekšējām un ārējām durvīm.
A18: 1.2.11 | B18: Iekšējās durvis izgatavotas no caurspīdīga materiāla. | E18: Informatīvais āttels punktam 1.3.1.:
A19: 1.2.12 | B19: Iekšējā kamera un plaukti izgatavotas no korozijizturīgiem materiāliem.
A20: 1.2.13 | B20: Skaņas spiediena līmenis nepārsniedz 49 dB(A).
A21: 1.2.14 | B21: Atjaunošanās laiks pēc 30 s durvju atvēršanas pie +37 °C nepārsniedz 4 min.
A22: 1.2.15 | B22: Iekārtas barošana: 220-240V/50-60Hz ar Eiropas standartiem atbilstošo adapteri.
A23: 1.3 | B23: Komplektācija (saderīga ar iekārtu, iekļauta iekārtas cenā, tiek piegādāta kopā ar katru iekārtu):
A24: 1.3.1 | B24: Stacionāra darba virsma inkubatora novietošanai, izgatavota no nerūsējošā tērauda vai ekvivalenta materiāla (statīvs vai ekvivalents risinājums). Ir pievienots informatīvais āttels. | C24: 2
A25: 1.3.2 | B25: Iekārta tiek piegādāta pilnā komplektācijā instalēšanai. | C25: 1
A26: 1.3.3 | B26: Iekārta tiek piegādāta pilnā komplektācijā pirmreizējai lietošanai. | C26: 1
A28: Saimnieciski visizdevīgākā piedāvājuma vērtēšanai norādāmā papildus informācija | D28: Saimnieciski visizdevīgākā piedāvājuma vērtēšanai norādāmā papildus informācija Pretendenta piedāvājums, atsauce uz informatīvo materiālu vai ražotāja apliecinājumu
A29: B | B29: Jānorāda Preces ražotāja noteiktais preces paredzamais lietošanas ilgums (paredzamais lietošanas ilgums) (gados)
A30: C | B30: Jānorāda Preces ražotāja noteiktais elektroenerģijas patēriņš darba režīmā (voltampēros (VA) vai vatos (W)
A32: Daļa | B32: VĒRTĒŠANAS KRITĒRIJI | C32: ĪPATSVARS
A33: A | B33: Vērtējamā summa | C33: 90
A34: B | B34: Preces paredzamais lietošanas ilgums. | C34: 5
A35: C | B35: Elektroenerģijas patēriņš darba režīmā. | C35: 5
A36: ∑ | B36: Maksimālais īpatsvars (kopējais punktu skaits) ∑=A+B+C | C36: 100
A39: Komisija katrā daļā piešķir īpatsvaru (punktu skaitu), šādā kārtībā: 1) A (Vērtējamā summa) un C (Elektroenerģijas patēriņš) daļai - viszemākajai vērtība tiek piešķirts maksimālais punktu skaits. Ja piedāvājumā nav norādīta informācija par elektroenerģijas patēriņu tiek piešķirti 0 punkti. Ja tiek norādīts elektroenerģijas patēriņa diapazons, punktu piešķiršanai tiek izmantota augstākā vērtība. 2) Nākamās vērtības A (Vērtējamā summa) un C (Elektroenerģijas patēriņš) daļai tiek aprēķinātas proporcionāli A vai C = (A vai C zemākā iesniegtā vērtība no visiem pretendentiem )/(faktiskā iesniegtā vērtība konkrētajam pretendentam) x Piešķiramais punktu skaits. 3) B (Preces ražotāja noteiktais preces maksimālais lietošanas ilgums) daļai - vislielākajai vērtības tiek piešķirts maksimālais punktu skaits. Ja piedāvājumā nav norādīta informācija par preces lietošanas ilgumu tiek pieņemts, ka lietošanas ilgums ir noteiktais garantijas laiks. Ja tiek norādīts paredzamā lietošanas ilguma diapazons, punktu piešķiršanai tiek izmantota zemākā vērtība. 4) Nākamās vērtības B (Preces ražotāja noteiktais preces maksimālais lietošanas ilgums) daļai tiek aprēķinātas proporcionāli B = (faktiskā iesniegtā vērtība konkrētajam pretendentam)/(B augstākā iesniegtā vērtība no visiem pretendentiem ) x Piešķiramais punktu skaits.

Sheet TS 2. poz
A1: 2. pozīcija - Īpaši zemas temperatūras saldētava | D1: Pretendenta piedāvājums, atsauce uz informatīvo materiālu (Informatīvā materiāla nosaukums, lpp.)
A2: Nr. | B2: Preces nosaukums, veicamās funkcijas, tehniskās prasības un komplektācija | C2: Skaits, gab.***
A3: Piemērs | B3: Piemērs | C3: Piemērs | D3: Informatīvais materiāls 2, 4.lpp
A4: 2. | B4: Nosaukums: Īpaši zemas temperatūras saldētava. | C4: 3 | D4: (Norādīt iekārtu, modeli, ražotāju, atsauci uz info materiālu)
A5: 2.1. | B5: Veicamās funkcijas:
A6: 2.1.1. | B6: Bioloģisko paraugu ilgtermiņa uzglabāšana konstantā, īpaši zemā temperatūrā laboratorijas vajadzībām.
A7: 2.2. | B7: Tehniskās prasības:
A8: 2.2.1 | B8: Vertikālā tipa iekārta.
A9: 2.2.2 | B9: Saldētavas aukstuma kameras tilpums (netto) vismaz 380l.
A10: 2.2.3 | B10: Gabarīta izmēri (Platums/Dziļums/Augstums) 650/770/2000 mm ± 20%.
A11: 2.2.4 | B11: Neregulējamo sadalījumu skaits vismaz 4.
A12: 2.2.5 | B12: Uzstādāmās temperatūras diapazons ledusskapim vismaz ir no - 80 līdz -60ºC.
A13: 2.2.6 | B13: Temperatūras izmaiņas solis saldētavai vismaz diapazonā no 0,1 līdz 1 ºC.
A14: 2.2.7 | B14: Necaurspīdīgas durvis.
A15: 2.2.8 | B15: Ar atslēgu aizslēdzamas durvis.
A16: 2.2.9 | B16: Automātiskā vai manuāla atkausēšanas funkcija.
... A23: 2.3 | B23: Piederumi, saderīgi ar piedāvāto iekārtu (tiek norādīta cena par katru piederumu atsevišķi):
A24: 2.3.1 | B24: Vienai saldētavai no piegādes komplekta jābūt pilnībā aprīkotai ar statīviem kriokastu uzglabāšanai. Statīviem jānodrošina kriokastu ar izmēriem 133 × 133 × 50 mm (P × D × A) uzglabāšana. | C24: 1
A25: 2.3.2 | B25: Vienai saldētavai no piegādes komplekta jābūt pilnībā aprīkotai ar statīviem kriokastu uzglabāšanai. Statīviem jānodrošina kriokastu ar izmēriem 133 × 133 × 75 mm (P × D × A) uzglabāšana. | C25: 1
A27: Saimnieciski visizdevīgākā piedāvājuma vērtēšanai norādāmā papildus informācija | D27: Saimnieciski visizdevīgākā piedāvājuma vērtēšanai norādāmā papildus informācija Pretendenta piedāvājums, atsauce uz informatīvo materiālu vai ražotāja apliecinājumu
A28: B | B28: Jānorāda Preces ražotāja noteiktais preces paredzamais lietošanas ilgums (paredzamais lietošanas ilgums) (gados)
A29: C | B29: Jānorāda Preces ražotāja noteiktais elektroenerģijas patēriņš darba režīmā (voltampēros (VA) vai vatos (W)
A31: Daļa | B31: VĒRTĒŠANAS KRITĒRIJI | C31: ĪPATSVARS
A32: A | B32: Vērtējamā summa | C32: 90
A33: B | B33: Preces paredzamais lietošanas ilgums. | C33: 5
A34: C | B34: Elektroenerģijas patēriņš darba režīmā. | C34: 5
A35: ∑ | B35: Maksimālais īpatsvars (kopējais punktu skaits) ∑=A+B+C | C35: 100
A38: Komisija katrā daļā piešķir īpatsvaru (punktu skaitu), šādā kārtībā: 1) A (Vērtējamā summa) un C (Elektroenerģijas patēriņš) daļai - viszemākajai vērtība tiek piešķirts maksimālais punktu skaits. Ja piedāvājumā nav norādīta informācija par elektroenerģijas patēriņu tiek piešķirti 0 punkti. Ja tiek norādīts elektroenerģijas patēriņa diapazons, punktu piešķiršanai tiek izmantota augstākā vērtība. 2) Nākamās vērtības A (Vērtējamā summa) un C (Elektroenerģijas patēriņš) daļai tiek aprēķinātas proporcionāli A vai C = (A vai C zemākā iesniegtā vērtība no visiem pretendentiem )/(faktiskā iesniegtā vērtība konkrētajam pretendentam) x Piešķiramais punktu skaits. 3) B (Preces ražotāja noteiktais preces maksimālais lietošanas ilgums) daļai - vislielākajai vērtības tiek piešķirts maksimālais punktu skaits. Ja piedāvājumā nav norādīta informācija par preces lietošanas ilgumu tiek pieņemts, ka lietošanas ilgums ir noteiktais garantijas laiks. Ja tiek norādīts paredzamā lietošanas ilguma diapazons, punktu piešķiršanai tiek izmantota zemākā vērtība. 4) Nākamās vērtības B (Preces ražotāja noteiktais preces maksimālais lietošanas ilgums) daļai tiek aprēķinātas proporcionāli B = (faktiskā iesniegtā vērtība konkrētajam pretendentam)/(B augstākā iesniegtā vērtība no visiem pretendentiem ) x Piešķiramais punktu skaits.

Sheet TS 3. poz
A1: 3. pozīcija - Automatizēta histoloģisko priekšmetstikliņu krāsošanas un pārklāšanas sistēma | D1: Pretendenta piedāvājums, atsauce uz informatīvo materiālu (Informatīvā materiāla nosaukums, lpp.)
A2: Nr. | B2: Preces nosaukums, veicamās funkcijas, tehniskās prasības un komplektācija | C2: Skaits, gab.***
A3: Piemērs | B3: Piemērs | C3: Piemērs | D3: Informatīvais materiāls 2, 4.lpp
A4: 3 | B4: Nosaukums: Automatizēta histoloģisko priekšmetstikliņu krāsošanas un pārklāšanas sistēma. | C4: 1
A5: 3.1 | B5: Veicamās funkcijas:
A6: 3.1.1 | B6: Automatizēta histoloģisko priekšmetstikliņu krāsošana ar hematoksilīna un eozīna (H&E) metodi.
A7: 3.1.2 | B7: Automatizēta krāsoto priekšmetstikliņu pārklāšana ar segstikliņiem.
A8: 3.2. | B8: Tehniskās prasības:
A9: 3.2.1 | B9: Iespēja izmantot iekārtu gan kā vienotu integrētu darba staciju, gan atsevišķi katru moduli (tikai krāsošanai vai tikai pārklāšanai).
A10: 3.2.2 | B10: Pilnībā automatizēta priekšmetstikliņu pārvietošana starp moduļiem.
A11: 3.2.3 | B11: Iekārta ir aprīkota ar žāvēšanas krāsns staciju.
A12: 3.2.4 | B12: Nodrošināts LIS pieslēgums.
A13: 3.2.5 | B13: Nodrašināts iekārtu pieslēgums ventilācijai.
A14: 3.3 | B14: Krāsošanas modulis (automātiskais staineris):
A15: 3.3.1 | B15: Atbalsta H&E krāsošanas metodes.
A16: 3.3.2 | B16: Atbalsta speciālās krāsošanas metodes.
... A28: 3.5 | B28: Komplektācija (iekļauta iekārtas cenā, tiek piegādāta kopā ar katru iekārtu):
A29: 3.5.1 | B29: Adapteris lielājām nestandarta izmera stikliem. | C29: 1
A30: 3.5.2 | B30: Iekārta tiek piegādāta pilnā komplektācijā instalēšanai | C30: 1
A31: 3.5.3 | B31: Iekārta tiek piegādāta pilnā komplektācijā pirmreizējai lietošanai | C31: 1
A33: Saimnieciski visizdevīgākā piedāvājuma vērtēšanai norādāmā papildus informācija | D33: Saimnieciski visizdevīgākā piedāvājuma vērtēšanai norādāmā papildus informācija Pretendenta piedāvājums, atsauce uz informatīvo materiālu vai ražotāja apliecinājumu
A34: B | B34: Jānorāda Preces ražotāja noteiktais preces paredzamais lietošanas ilgums (paredzamais lietošanas ilgums) (gados)
A35: C | B35: Jānorāda Preces ražotāja noteiktais elektroenerģijas patēriņš darba režīmā (voltampēros (VA) vai vatos (W)
A37: Daļa | B37: VĒRTĒŠANAS KRITĒRIJI | C37: ĪPATSVARS
A38: A | B38: Vērtējamā summa | C38: 90
A39: B | B39: Preces paredzamais lietošanas ilgums. | C39: 5
A40: C | B40: Elektroenerģijas patēriņš darba režīmā. | C40: 5
A41: ∑ | B41: Maksimālais īpatsvars (kopējais punktu skaits) ∑=A+B+C | C41: 100
A44: Komisija katrā daļā piešķir īpatsvaru (punktu skaitu), šādā kārtībā: 1) A (Vērtējamā summa) un C (Elektroenerģijas patēriņš) daļai - viszemākajai vērtība tiek piešķirts maksimālais punktu skaits. Ja piedāvājumā nav norādīta informācija par elektroenerģijas patēriņu tiek piešķirti 0 punkti. Ja tiek norādīts elektroenerģijas patēriņa diapazons, punktu piešķiršanai tiek izmantota augstākā vērtība. 2) Nākamās vērtības A (Vērtējamā summa) un C (Elektroenerģijas patēriņš) daļai tiek aprēķinātas proporcionāli A vai C = (A vai C zemākā iesniegtā vērtība no visiem pretendentiem )/(faktiskā iesniegtā vērtība konkrētajam pretendentam) x Piešķiramais punktu skaits. 3) B (Preces ražotāja noteiktais preces maksimālais lietošanas ilgums) daļai - vislielākajai vērtības tiek piešķirts maksimālais punktu skaits. Ja piedāvājumā nav norādīta informācija par preces lietošanas ilgumu tiek pieņemts, ka lietošanas ilgums ir noteiktais garantijas laiks. Ja tiek norādīts paredzamā lietošanas ilguma diapazons, punktu piešķiršanai tiek izmantota zemākā vērtība. 4) Nākamās vērtības B (Preces ražotāja noteiktais preces maksimālais lietošanas ilgums) daļai tiek aprēķinātas proporcionāli B = (faktiskā iesniegtā vērtība konkrētajam pretendentam)/(B augstākā iesniegtā vērtība no visiem pretendentiem ) x Piešķiramais punktu skaits.

Sheet TS 4. poz
A1: 4. pozīcija - Kaulu zāģēšanas iekārta patoloģijas laboratorijai | D1: Pretendenta piedāvājums, atsauce uz informatīvo materiālu (Informatīvā materiāla nosaukums, lpp.)
A2: Nr. | B2: Preces nosaukums, veicamās funkcijas, tehniskās prasības un komplektācija | C2: Skaits, gab.***
A3: Piemērs | B3: Piemērs | C3: Piemērs | D3: Informatīvais materiāls 2, 4.lpp
A4: 4 | B4: Nosaukums: Kaulu zāģēšanas iekārta patoloģijas laboratorijai. | C4: 1
A5: 4.1. | B5: Veicamās funkcijas:
A6: 4.1.1. | B6: Stacionāra iekārta anatomiskās patoloģijas laboratorijai kaulu un cieto audu griešanai un paraugu sagatavošanai histoloģiskai izmeklēšanai.
A7: 4.2. | B7: Tehniskās prasības:
A8: 4.2.1 | B8: Stacionāra grīdas tipa iekārta.
A9: 4.2.2 | B9: Precīza kaulu un cieto audu griešana
A10: 4.2.3 | B10: Griešana tiek nodrošināta ar dimanta lentes tehnoloģiju vai citu līdzvērtīgu stacionāru precīzijas griešanas tehnoloģiju, kas nodrošina piemērotu kvalitāti patoloģijas paraugiem.
A11: 4.2.4 | B11: Iespēja apstrādāt gan cietus, gan kombinētus kaulu–mīksto audu paraugus.
A12: 4.2.5 | B12: Parauga fiksācija griešanas laikā.
A13: 4.2.6 | B13: Griešanas zonas skalošana
A14: 4.2.7 | B14: Darba galds paraugu novietošanai
A15: 4.2.8 | B15: Darba virsma izgatavota no nerūsējoša tērauda vai līdzvērtīga materiāla
A16: 4.2.9 | B16: Griešanas zonas apgaismojums
... A20: 4.3 | B20: Komplektācija (iekļauta iekārtas cenā, tiek piegādāta kopā ar katru iekārtu):
A21: 4.3.1 | B21: Griešanas elementi. | C21: 5
A22: 4.3.2 | B22: Tīrīšanas piederumi. | C22: 5
A23: 4.3.3 | B23: Paraugu fiksācijas un pozicionēšanas piederumi. | C23: 5
A25: Saimnieciski visizdevīgākā piedāvājuma vērtēšanai norādāmā papildus informācija | D25: Saimnieciski visizdevīgākā piedāvājuma vērtēšanai norādāmā papildus informācija Pretendenta piedāvājums, atsauce uz informatīvo materiālu vai ražotāja apliecinājumu
A26: B | B26: Jānorāda Preces ražotāja noteiktais preces paredzamais lietošanas ilgums (paredzamais lietošanas ilgums) (gados)
A27: C | B27: Jānorāda Preces ražotāja noteiktais elektroenerģijas patēriņš darba režīmā (voltampēros (VA) vai vatos (W)
A29: Daļa | B29: VĒRTĒŠANAS KRITĒRIJI | C29: ĪPATSVARS
A30: A | B30: Vērtējamā summa | C30: 90
A31: B | B31: Preces paredzamais lietošanas ilgums. | C31: 5
A32: C | B32: Elektroenerģijas patēriņš darba režīmā. | C32: 5
A33: ∑ | B33: Maksimālais īpatsvars (kopējais punktu skaits) ∑=A+B+C | C33: 100
A36: Komisija katrā daļā piešķir īpatsvaru (punktu skaitu), šādā kārtībā: 1) A (Vērtējamā summa) un C (Elektroenerģijas patēriņš) daļai - viszemākajai vērtība tiek piešķirts maksimālais punktu skaits. Ja piedāvājumā nav norādīta informācija par elektroenerģijas patēriņu tiek piešķirti 0 punkti. Ja tiek norādīts elektroenerģijas patēriņa diapazons, punktu piešķiršanai tiek izmantota augstākā vērtība. 2) Nākamās vērtības A (Vērtējamā summa) un C (Elektroenerģijas patēriņš) daļai tiek aprēķinātas proporcionāli A vai C = (A vai C zemākā iesniegtā vērtība no visiem pretendentiem )/(faktiskā iesniegtā vērtība konkrētajam pretendentam) x Piešķiramais punktu skaits. 3) B (Preces ražotāja noteiktais preces maksimālais lietošanas ilgums) daļai - vislielākajai vērtības tiek piešķirts maksimālais punktu skaits. Ja piedāvājumā nav norādīta informācija par preces lietošanas ilgumu tiek pieņemts, ka lietošanas ilgums ir noteiktais garantijas laiks. Ja tiek norādīts paredzamā lietošanas ilguma diapazons, punktu piešķiršanai tiek izmantota zemākā vērtība. 4) Nākamās vērtības B (Preces ražotāja noteiktais preces maksimālais lietošanas ilgums) daļai tiek aprēķinātas proporcionāli B = (faktiskā iesniegtā vērtība konkrētajam pretendentam)/(B augstākā iesniegtā vērtība no visiem pretendentiem ) x Piešķiramais punktu skaits.

Sheet TS 5. poz
A1: 5. pozīcija - Automātiska sasaldēto griezumu apstrādes un krāsošanas iekārta | D1: Pretendenta piedāvājums, atsauce uz informatīvo materiālu (Informatīvā materiāla nosaukums, lpp.)
A2: Nr. | B2: Preces nosaukums, veicamās funkcijas, tehniskās prasības un komplektācija | C2: Skaits, gab.***
A3: Piemērs | B3: Piemērs | C3: Piemērs | D3: Informatīvais materiāls 2, 4.lpp
A4: 5 | B4: Nosaukums: Automātiska sasaldēto griezumu apstrādes un krāsošanas iekārta. | C4: 1
A5: 5.1. | B5: Veicamās funkcijas:
A6: 5.1.1 | B6: Sasaldēto audu griezumu apstrādei un krāsošanai pēc standartizētiem protokoliem.
A7: 5.2. | B7: Apsildāma parafīna iegulšanas stacija:
A8: 5.2.1 | B8: Iespēja vienlaicīgi apstrādāt vismaz 6 priekšmetstikliņus.
A9: 5.2.2 | B9: Automātiska priekšmetstikliņu statīva pārvietošana starp apstrādes un krāsošanas tvertnēm.
A10: 5.2.3 | B10: Vismaz 8 soļu programmējams apstrādes/krāsošanas protokols.
A11: 5.2.4 | B11: Iespēja izveidot un pielāgot lietotāja definētus protokolus.
A12: 5.2.5 | B12: Nodrošināta automātiska fiksācija, apstrāde un krāsošana vienā procesā.
A13: 5.2.6 | B13: Iespēja izmantot atvērtu sistēmu ar lietotāja izvēlētiem krāsošanas reaģentiem.
A14: 5.2.7 | B14: Nepārtraukta paraugu ievade (continuous loading) ar iespēju apstrādāt vairākas priekšmetstikliņu partijas pēc kārtas.
A15: 5.2.8 | B15: Vismaz 120 priekšmetstikliņi/stundā vienas partijas režīmā
A16: 5.2.9 | B16: Skārienekrāna vadības panelis.
... A22: 5.2.15 | B22: Iekārtas barošana: 220-240V/50-60 Hz ar Eiropas standartiem atbilstošo adapteri.
A23: 5.4
A24: 5.4.1 | B24: Adapteru komplekts standarta izmera stikliem. | C24: 1
A25: 5.4.2 | B25: Iekārta tiek piegādāta pilnā komplektācijā instalēšanai | C25: 1
A26: 5.4.3 | B26: Iekārta tiek piegādāta pilnā komplektācijā pirmreizējai lietošanai | C26: 1
A28: Saimnieciski visizdevīgākā piedāvājuma vērtēšanai norādāmā papildus informācija | D28: Saimnieciski visizdevīgākā piedāvājuma vērtēšanai norādāmā papildus informācija Pretendenta piedāvājums, atsauce uz informatīvo materiālu vai ražotāja apliecinājumu
A29: B | B29: Jānorāda Preces ražotāja noteiktais preces paredzamais lietošanas ilgums (paredzamais lietošanas ilgums) (gados)
A30: C | B30: Jānorāda Preces ražotāja noteiktais elektroenerģijas patēriņš darba režīmā (voltampēros (VA) vai vatos (W)
A32: Daļa | B32: VĒRTĒŠANAS KRITĒRIJI | C32: ĪPATSVARS
A33: A | B33: Vērtējamā summa | C33: 90
A34: B | B34: Preces paredzamais lietošanas ilgums. | C34: 5
A35: C | B35: Elektroenerģijas patēriņš darba režīmā. | C35: 5
A36: ∑ | B36: Maksimālais īpatsvars (kopējais punktu skaits) ∑=A+B+C | C36: 100
A39: Komisija katrā daļā piešķir īpatsvaru (punktu skaitu), šādā kārtībā: 1) A (Vērtējamā summa) un C (Elektroenerģijas patēriņš) daļai - viszemākajai vērtība tiek piešķirts maksimālais punktu skaits. Ja piedāvājumā nav norādīta informācija par elektroenerģijas patēriņu tiek piešķirti 0 punkti. Ja tiek norādīts elektroenerģijas patēriņa diapazons, punktu piešķiršanai tiek izmantota augstākā vērtība. 2) Nākamās vērtības A (Vērtējamā summa) un C (Elektroenerģijas patēriņš) daļai tiek aprēķinātas proporcionāli A vai C = (A vai C zemākā iesniegtā vērtība no visiem pretendentiem )/(faktiskā iesniegtā vērtība konkrētajam pretendentam) x Piešķiramais punktu skaits. 3) B (Preces ražotāja noteiktais preces maksimālais lietošanas ilgums) daļai - vislielākajai vērtības tiek piešķirts maksimālais punktu skaits. Ja piedāvājumā nav norādīta informācija par preces lietošanas ilgumu tiek pieņemts, ka lietošanas ilgums ir noteiktais garantijas laiks. Ja tiek norādīts paredzamā lietošanas ilguma diapazons, punktu piešķiršanai tiek izmantota zemākā vērtība. 4) Nākamās vērtības B (Preces ražotāja noteiktais preces maksimālais lietošanas ilgums) daļai tiek aprēķinātas proporcionāli B = (faktiskā iesniegtā vērtība konkrētajam pretendentam)/(B augstākā iesniegtā vērtība no visiem pretendentiem ) x Piešķiramais punktu skaits.

Sheet TS 6. poz
A1: 6. pozīcija - Laboratorijas centrifūga priekšmetstikliņu centrifugēšanai | D1: Pretendenta piedāvājums, atsauce uz informatīvo materiālu (Informatīvā materiāla nosaukums, lpp.)
A2: Nr. | B2: Preces nosaukums, veicamās funkcijas, tehniskās prasības un komplektācija | C2: Skaits, gab.***
A3: Piemērs | B3: Piemērs | C3: Piemērs | D3: Informatīvais materiāls 2, 4.lpp
A4: 6 | B4: Nosaukums: Laboratorijas centrifūga priekšmetstikliņu centrifugēšanai. | C4: 1
A5: 6.1. | B5: Veicamās funkcijas:
A6: 6.1.1. | B6: Priekšmetstikliņu centrifugēšanai histoloģijas laboratorijas vajadzībām.
A7: 6.2. | B7: Tehniskās prasības:
A8: 6.2.1 | B8: Maksimālais griešanās ātrums vismaz 6000 apgr/min.
A9: 6.2.2 | B9: Minimālais griešanās ātrums vismaz 500 apgr/ min.
A10: 6.2.3 | B10: Šūpojošais rotora tips (swing-out).
A11: 6.2.4 | B11: Maksimālais RCF vismaz 4 000 x g.
A12: 6.2.5 | B12: Maksimālā ietilpība vismaz 4 x 100 ml.
A13: 6.2.6 | B13: Taimera iestatījumu diapazons vismaz no 1 līdz 99 minūtēm.
A14: 6.2.7 | B14: Bez dzesēšanas funkcijas.
A15: 6.2.8 | B15: Rotors un adapteris ir piemērots priekšmetstikliņu centrifugēšanai.
A16: 6.2.9 | B16: Nelīdzsvarotības detekcijas funkcija.
... A20: 6.3 | B20: Komplektācija (iekļauta iekārtas cenā, tiek piegādāta kopā tikai ar vienu iekārtu):
A21: 6.3.1 | B21: Rotors. | C21: 1
A22: 6.3.2 | B22: Adapteris piemerots vismaz 8 priekšmetstikliņiem. | C22: 1
A23: 6.3.3 | B23: Iekārta tiek piegādāta pilnā komplektācijā instalēšanai. | C23: 1
A24: 6.3.4 | B24: Iekārta tiek piegādāta pilnā komplektācijā pirmreizējai lietošanai. | C24: 1
A26: Saimnieciski visizdevīgākā piedāvājuma vērtēšanai norādāmā papildus informācija | D26: Saimnieciski visizdevīgākā piedāvājuma vērtēšanai norādāmā papildus informācija Pretendenta piedāvājums, atsauce uz informatīvo materiālu vai ražotāja apliecinājumu
A27: B | B27: Jānorāda Preces ražotāja noteiktais preces paredzamais lietošanas ilgums (paredzamais lietošanas ilgums) (gados)
A28: C | B28: Jānorāda Preces ražotāja noteiktais elektroenerģijas patēriņš darba režīmā (voltampēros (VA) vai vatos (W)
A30: Daļa | B30: VĒRTĒŠANAS KRITĒRIJI | C30: ĪPATSVARS
A31: A | B31: Vērtējamā summa | C31: 90
A32: B | B32: Preces paredzamais lietošanas ilgums. | C32: 5
A33: C | B33: Elektroenerģijas patēriņš darba režīmā. | C33: 5
A34: ∑ | B34: Maksimālais īpatsvars (kopējais punktu skaits) ∑=A+B+C | C34: 100
A37: Komisija katrā daļā piešķir īpatsvaru (punktu skaitu), šādā kārtībā: 1) A (Vērtējamā summa) un C (Elektroenerģijas patēriņš) daļai - viszemākajai vērtība tiek piešķirts maksimālais punktu skaits. Ja piedāvājumā nav norādīta informācija par elektroenerģijas patēriņu tiek piešķirti 0 punkti. Ja tiek norādīts elektroenerģijas patēriņa diapazons, punktu piešķiršanai tiek izmantota augstākā vērtība. 2) Nākamās vērtības A (Vērtējamā summa) un C (Elektroenerģijas patēriņš) daļai tiek aprēķinātas proporcionāli A vai C = (A vai C zemākā iesniegtā vērtība no visiem pretendentiem )/(faktiskā iesniegtā vērtība konkrētajam pretendentam) x Piešķiramais punktu skaits. 3) B (Preces ražotāja noteiktais preces maksimālais lietošanas ilgums) daļai - vislielākajai vērtības tiek piešķirts maksimālais punktu skaits. Ja piedāvājumā nav norādīta informācija par preces lietošanas ilgumu tiek pieņemts, ka lietošanas ilgums ir noteiktais garantijas laiks. Ja tiek norādīts paredzamā lietošanas ilguma diapazons, punktu piešķiršanai tiek izmantota zemākā vērtība. 4) Nākamās vērtības B (Preces ražotāja noteiktais preces maksimālais lietošanas ilgums) daļai tiek aprēķinātas proporcionāli B = (faktiskā iesniegtā vērtība konkrētajam pretendentam)/(B augstākā iesniegtā vērtība no visiem pretendentiem ) x Piešķiramais punktu skaits.

Sheet TS 7. poz
A1: 7. pozīcija - Laboratorijas centrifūga ar dzesēšanu | D1: Pretendenta piedāvājums, atsauce uz informatīvo materiālu (Informatīvā materiāla nosaukums, lpp.)
A2: Nr. | B2: Preces nosaukums, veicamās funkcijas, tehniskās prasības un komplektācija | C2: Skaits, gab.***
A3: Piemērs | B3: Piemērs | C3: Piemērs | D3: Informatīvais materiāls 2, 4.lpp
A4: 7 | B4: Nosaukums: Laboratorijas centrifūga. | C4: 1
A5: 7.1. | B5: Veicamās funkcijas:
A6: 7.1.1. | B6: Paraugu centrifugēšanai 15 ml un 50 ml koniskajās mēģenēs vienlaicīgi.
A7: 7.2. | B7: Tehniskās prasības:
A8: 7.2.1 | B8: Maksimālais griešanās ātrums vismaz 14000 apgr/min.
A9: 7.2.2 | B9: Gabarīta izmēri (PxDxA) ir 45 x 55 x 35 cm ± 35%.
A10: 7.2.3 | B10: Minimālais griešanās ātrums vismaz 200 apgr/ min
A11: 7.2.4 | B11: RCF diapazonā vismaz no 100 līdz 1000 x g.
A12: 7.2.5 | B12: Maksimālā ietilpība vismaz 4 x 250 ml.
A13: 7.2.6 | B13: Iespēja saglabāt vismaz 10 dažādas lietotāja definētas programmas.
A14: 7.2.7 | B14: Taimera iestatījumu diapazons vismaz no 1 līdz 99 minūtēm.
A15: 7.2.8 | B15: Ar dzesēšanas funkciju.
A16: 7.2.9 | B16: Temperatūras diapazons vismaz no - 10ºC līdz + 40ºC.
... A22: 7.2.15 | B22: Aprīkota ar šūpojošo (horizontālo, swing-out) rotoru.
A23: 7.2.16 | B23: Vāka bloķēšana centrifugēšanas laikā. | E23: Informatīvais āttels punktiem 7.3.2. un 7.3.3.:
A24: 7.2.17 | B24: Iekārtas barošana: 220-240V/50-60 Hz ar Eiropas standartiem atbilstošo adapteri.
A25: 7.3 | B25: Komplektācija (iekļauta iekārtas cenā, tiek piegādāta kopā tikai ar vienu iekārtu):
A26: 7.3.1 | B26: Rotors ar 4 šūpojošiem turētājiem pa 250 ml (apaļiem kausiem), paredzēts dažādu tilpumu paraugu centrifugēšanai. | C26: 1
A27: 7.3.2 | B27: Adapteris piemērots vismaz četru konisko 15 ml mēģeņu ievietošanai un centrifugēšanai. | C27: 4
A28: 7.3.3 | B28: Adapteris piemerots vismaz vienas 50 ml koniskās mēģenes ievietošanai un centrifugēšanai. | C28: 4
A29: 7.3.4 | B29: Iekārta tiek piegādāta pilnā komplektācijā instalēšanai. | C29: 1
A30: 7.3.5 | B30: Iekārta tiek piegādāta pilnā komplektācijā pirmreizējai lietošanai. | C30: 1
A32: Saimnieciski visizdevīgākā piedāvājuma vērtēšanai norādāmā papildus informācija | D32: Saimnieciski visizdevīgākā piedāvājuma vērtēšanai norādāmā papildus informācija Pretendenta piedāvājums, atsauce uz informatīvo materiālu vai ražotāja apliecinājumu
A33: B | B33: Jānorāda Preces ražotāja noteiktais preces paredzamais lietošanas ilgums (paredzamais lietošanas ilgums) (gados)
A34: C | B34: Jānorāda Preces ražotāja noteiktais elektroenerģijas patēriņš darba režīmā (voltampēros (VA) vai vatos (W)
A36: Daļa | B36: VĒRTĒŠANAS KRITĒRIJI | C36: ĪPATSVARS
A37: A | B37: Vērtējamā summa | C37: 90
A38: B | B38: Preces paredzamais lietošanas ilgums. | C38: 5
A39: C | B39: Elektroenerģijas patēriņš darba režīmā. | C39: 5
A40: ∑ | B40: Maksimālais īpatsvars (kopējais punktu skaits) ∑=A+B+C | C40: 100
A43: Komisija katrā daļā piešķir īpatsvaru (punktu skaitu), šādā kārtībā: 1) A (Vērtējamā summa) un C (Elektroenerģijas patēriņš) daļai - viszemākajai vērtība tiek piešķirts maksimālais punktu skaits. Ja piedāvājumā nav norādīta informācija par elektroenerģijas patēriņu tiek piešķirti 0 punkti. Ja tiek norādīts elektroenerģijas patēriņa diapazons, punktu piešķiršanai tiek izmantota augstākā vērtība. 2) Nākamās vērtības A (Vērtējamā summa) un C (Elektroenerģijas patēriņš) daļai tiek aprēķinātas proporcionāli A vai C = (A vai C zemākā iesniegtā vērtība no visiem pretendentiem )/(faktiskā iesniegtā vērtība konkrētajam pretendentam) x Piešķiramais punktu skaits. 3) B (Preces ražotāja noteiktais preces maksimālais lietošanas ilgums) daļai - vislielākajai vērtības tiek piešķirts maksimālais punktu skaits. Ja piedāvājumā nav norādīta informācija par preces lietošanas ilgumu tiek pieņemts, ka lietošanas ilgums ir noteiktais garantijas laiks. Ja tiek norādīts paredzamā lietošanas ilguma diapazons, punktu piešķiršanai tiek izmantota zemākā vērtība. 4) Nākamās vērtības B (Preces ražotāja noteiktais preces maksimālais lietošanas ilgums) daļai tiek aprēķinātas proporcionāli B = (faktiskā iesniegtā vērtība konkrētajam pretendentam)/(B augstākā iesniegtā vērtība no visiem pretendentiem ) x Piešķiramais punktu skaits.

Sheet TS 8. poz
A1: 8. pozīcija - Automātiskais šūnu skaitītājs | D1: Pretendenta piedāvājums, atsauce uz informatīvo materiālu (Informatīvā materiāla nosaukums, lpp.)
A2: Nr. | B2: Preces nosaukums, veicamās funkcijas, tehniskās prasības un komplektācija | C2: Skaits, gab.***
A3: Piemērs | B3: Piemērs | C3: Piemērs | D3: Informatīvais materiāls 2, 4.lpp
A4: 8 | B4: Nosaukums: Automātiskais šūnu skaitītājs. | C4: 1
A5: 8.1. | B5: Veicamās funkcijas:
A6: 8.1.1. | B6: Iekārta nodrošina ātru un precīzu primāro šūnu un šūnu līniju automātisku skaitīšanu.
A7: 8.2. | B7: Tehniskās prasības:
A8: 8.2.1 | B8: Iekārta ir galda tipa.
A9: 8.2.2 | B9: Automātiska šūnu skaitīšana, izmantojot mašīnmācīšanās algoritmu.
A10: 8.2.3 | B10: Šūnu noteikšanas metodes ir Spilgtlauka (Brightfield) un fluorescences analīze.
A11: 8.2.4 | B11: Atbalsta vismaz divus EVOS fluorescences filtrus (Light Cubes).
A12: 8.2.5 | B12: Mērījumu diapazons ir vismaz no 1 × 10⁴ līdz 1 × 10⁷ šūnām/ml.
A13: 8.2.6 | B13: Pieejami vismaz 15 dažādi fluorescences kanāli.
A14: 8.2.7 | B14: Iekārta atbalsta vismaz spilgtlauka režīmu un fluorescences analīzi ar vismaz trīs kanālu konfigurāciju, vismaz ļaujot: skaitīt šūnas un izolētus kodolus; noteikt šūnu dzīvotspēju; analizēt fluorescenci; novērtēt apoptozi; noteikt transfekcijas efektivitāti.
A15: 8.2.8 | B15: Savietojams gan ar vienreizlietojamiem, gan atkārtoti lietojamiem skaitīšanas slaidiem.
A16: 8.2.9 | B16: Iebūvēts LCD skārienekrāns ar izšķirtspēju vismaz 1280 × 800 pikseļi.
... A24: 8.3 | B24: Piederumi, saderīgi ar piedāvāto iekārtu (tiek norādīta cena par katru piederumu atsevišķi, tiks pasūtīti pēc nepieciešamības, papildus norādīto piederumu cena netiek iekļauta vērtējamajā cenā):
A25: 8.3.1 | B25: Atkārtoti lietojami priekšmetstikli. | C25: 100
A26: 8.3.2 | B26: Vienreizlietojami priekšmetstikli ar tripāna zilo krāsvielu. | C26: 100
A27: 8.3…
A29: Saimnieciski visizdevīgākā piedāvājuma vērtēšanai norādāmā papildus informācija | D29: Saimnieciski visizdevīgākā piedāvājuma vērtēšanai norādāmā papildus informācija Pretendenta piedāvājums, atsauce uz informatīvo materiālu vai ražotāja apliecinājumu
A30: B | B30: Jānorāda Preces ražotāja noteiktais preces paredzamais lietošanas ilgums (paredzamais lietošanas ilgums) (gados)
A31: C | B31: Jānorāda Preces ražotāja noteiktais elektroenerģijas patēriņš darba režīmā (voltampēros (VA) vai vatos (W)
A32: D | B32: Iekārta ir aprīkota ar refokusēšanas funkciju (jā/ nē)
A34: Daļa | B34: VĒRTĒŠANAS KRITĒRIJI | C34: ĪPATSVARS
A35: A | B35: Vērtējamā summa. | C35: 85
A36: B | B36: Preces paredzamais lietošanas ilgums. | C36: 5
A37: C | B37: Elektroenerģijas patēriņš darba režīmā. | C37: 5
A38: D | B38: Iekārta ir aprīkota ar refokusēšanas funkciju. | C38: 5
A39: ∑ | B39: Maksimālais īpatsvars (kopējais punktu skaits) ∑=A+B+C+D | C39: 100
A42: Komisija katrā daļā piešķir īpatsvaru (punktu skaitu), šādā kārtībā: 1) A (Vērtējamā summa) un C (Elektroenerģijas patēriņš) daļai - viszemākajai vērtība tiek piešķirts maksimālais punktu skaits. Ja piedāvājumā nav norādīta informācija par elektroenerģijas patēriņu tiek piešķirti 0 punkti. Ja tiek norādīts elektroenerģijas patēriņa diapazons, punktu piešķiršanai tiek izmantota augstākā vērtība. 2) Nākamās vērtības A (Vērtējamā summa) un C (Elektroenerģijas patēriņš) daļai tiek aprēķinātas proporcionāli A vai C = (A vai C zemākā iesniegtā vērtība no visiem pretendentiem )/(faktiskā iesniegtā vērtība konkrētajam pretendentam) x Piešķiramais punktu skaits. 3) B (Preces ražotāja noteiktais preces maksimālais lietošanas ilgums) daļai - vislielākajai vērtības tiek piešķirts maksimālais punktu skaits. Ja piedāvājumā nav norādīta informācija par preces lietošanas ilgumu tiek pieņemts, ka lietošanas ilgums ir noteiktais garantijas laiks. Ja tiek norādīts paredzamā lietošanas ilguma diapazons, punktu piešķiršanai tiek izmantota zemākā vērtība. 4) Nākamās vērtības B (Preces ražotāja noteiktais preces maksimālais lietošanas ilgums) daļai tiek aprēķinātas proporcionāli B = (faktiskā iesniegtā vērtība konkrētajam pretendentam)/(B augstākā iesniegtā vērtība no visiem pretendentiem ) x Piešķiramais punktu skaits. 5) D (Iekārta ir aprīkota ar refokusēšanas funkciju) tiek piešķirti 5 punkti par izpildi un 0 par neatbilstību prasībai.

Sheet TS 9. poz
A1: 9. pozīcija - Pipete automātiskā vienkanāla | D1: Pretendenta piedāvājums, atsauce uz informatīvo materiālu (Informatīvā materiāla nosaukums, lpp.)
A2: Nr. | B2: Preces nosaukums, veicamās funkcijas, tehniskās prasības un komplektācija | C2: Skaits, gab.***
A3: Piemērs | B3: Piemērs | C3: Piemērs | D3: Informatīvais materiāls 2, 4.lpp
A4: 9. | B4: Nosaukums: Pipete automātiskā vienkanāla.
A5: 9.1. | B5: Veicamās funkcijas:
A6: 9.1.1 | B6: Tilpuma dozēšana ar paaugstinātu precizitāti (Micro-level tehnoloģija vai analogs).
A7: 9.2. | B7: Tehniskās prasības:
A8: 9.2.1 | B8: Tilpuma fiksēšanas tehnoloģija („Set-and-forget” tehnoloģija vai analogs).
A9: 9.2.2 | B9: Atvieglota uzgaļu noņemšanas tehnoloģija („Soft-touch” uzgaļu nometējs vai analoga tehnoloģija).
A10: 9.2.3 | B10: Iespēja regulēt pirksta atbalstu vismaz 120° leņķa ietvaros.
A11: 9.2.4 | B11: Atbilstība IVD 98/79/EC direktīvai.
A12: 9.3. | B12: Darba tilpuma diapazons 0,5-5 μl
A13: 9.3.1 | B13: Tilpuma regulēšanas solis: ≤ 0,002 μl | C13: 3
A14: 9.3.2 | B14: Precizitāte (pie kāda tilpuma): ± 0,030 μl vai labāk (pie 0,5 μl); ± 0,0625 μl vai labāk (pie 2,5 μl); ± 0,075 μl vai labāk (pie 5,0 μl). Jānorāda piedāvātās preces ražotāja noteiktā precizitāte.
A19: 9.3.3 | B19: Atkārtojamība (pie kāda tilpuma): ≤ 0,025 μl (pie 0,5 μl); ≤ 0,0375 μl (pie 2,5 μl); ≤ 0,050 μl (pie 5,0 μl). Jānorāda piedāvātās preces ražotāja noteiktā atkārtojamība
A24: 9.4. | B24: Darba tilpuma diapazons: 20-200 μl
A25: 9.4.1 | B25: Tilpuma regulēšanas solis: ≤ 0,2 μl | C25: 3
A26: 9.4.2 | B26: Precizitāte (pie kāda tilpuma): ± 0,40 μl vai labāk (pie 20,0 μl) ± 1,00 μl vai labāk (pie 100,0 μl); ± 1,60 μl vai labāk (pie 200,0 μl). Jānorāda piedāvātās preces ražotāja noteiktā precizitāte.
A31: 9.4.3 | B31: Atkārtojamība (pie kāda tilpuma): ≤ 0,15 μl (pie 20,0 μl); ≤ 0,40 μl (pie 100,0 μl); ≤ 0,60 μl (pie 200,0 μl). Jānorāda piedāvātās preces ražotāja noteiktā atkārtojamība.
A36: 9.5. | B36: Darba tilpuma diapazons: 100-1000 μl
A37: 9.5.1 | B37: Tilpuma regulēšanas solis: ≤ 1,0 μl | C37: 3
A38: 9.5.2 | B38: Precizitāte (pie kāda tilpuma): ± 1,0 μl vai labāk (pie 100,0 μl) ± 4,0 μl vai labāk (pie 500,0 μl); ± 6,0 μl vai labāk (pie 1000,0 μl). Jānorāda piedāvātās preces ražotāja noteiktā precizitāte
A43: 9.5.3 | B43: Atkārtojamība (pie kāda tilpuma): ≤ 0,6 μl (pie 100,0 μl); ≤ 1,5 μl (pie 500,0 μl); ≤ 3,0 μl (pie 1000,0 μl). Jānorāda piedāvātās preces ražotāja noteiktā atkārtojamība.
A48: 9.6. | B48: Komplektācija:
A49: 9.6.1 | B49: Ražotāja noteiktā smērviela un kalibrēšanas piederumi. | C49: 9
A50: 9.6.2 | B50: Derīgs kalibrēšanas sertifikāts, kas liecina par to, ka kalibrēšana tika veikta vismaz divu mēnešu pirms piegādes datuma. | C50: 9
A51: 9.6.3 | B51: Sterilu uzgaļu komplekts, kas ir saderīgs ar tehniskās specifikācijas 9.3. punktā norādīto iekārtu. | C51: 20
A52: 9.6.4 | B52: Sterilu uzgaļu komplekts, kas ir saderīgs ar tehniskās specifikācijas 9.4. punktā norādīto iekārtu. | C52: 20
A53: 9.6.5 | B53: Sterilu uzgaļu komplekts, kas ir saderīgs ar tehniskās specifikācijas 9.5. punktā norādīto iekārtu. | C53: 20
A54: 9.6.6 | B54: Sterilu uzgaļu komplekts ar filtru, kas ir saderīgs ar tehniskās specifikācijas 9.3. punktā norādīto iekārtu. | C54: 20
A55: 9.6.7 | B55: Sterilu uzgaļu komplekts ar filtru, kas ir saderīgs ar tehniskās specifikācijas 9.4. punktā norādīto iekārtu. | C55: 20
A56: 9.6.8 | B56: Sterilu uzgaļu komplekts ar filtru, kas ir saderīgs ar tehniskās specifikācijas 9.5. punktā norādīto iekārtu. | C56: 20

Sheet TS 10. poz
A1: 10. pozīcija - Šūnu kontrolētas sasaldēšanas konteiners | D1: Pretendenta piedāvājums, atsauce uz informatīvo materiālu (Informatīvā materiāla nosaukums, lpp.)
A2: Nr. | B2: Preces nosaukums, veicamās funkcijas, tehniskās prasības un komplektācija | C2: Skaits, gab.***
A3: Piemērs | B3: Piemērs | C3: Piemērs | D3: Informatīvais materiāls 2, 4.lpp
A4: 10 | B4: Nosaukums: Šūnu kontrolētas sasaldēšanas konteiners. | C4: 6
A5: 10.1. | B5: Veicamās funkcijas:
A6: 10.1.1. | B6: Kontrolēta šūnu paraugu sasaldēšana pirms ilgtermiņa uzglabāšanas zemas temperatūras saldētavās (–80 °C), nodrošinot reproducējamu sasaldēšanas procesu un augstu šūnu dzīvotspēju pēc atkausēšanas.
A7: 10.2. | B7: Tehniskās prasības:
A8: 10.2.1 | B8: Kataloga Nr. 15552771 vai analogs.
A9: 10.2.2 | B9: Sasaldēšana bez spirta vai citu šķidrumu izmantošanas.
A10: 10.2.3 | B10: Nodrošina kontrolētu sasaldēšanas ātrumu vismaz –1 °C/minūtē ievietojot –80 °C saldētavā.
A11: 10.2.4 | B11: Paredzēts vismaz 12 standarta 1–2 ml kriogēno mēģeņu ievietošanai.
A12: 10.2.5 | B12: Nodrošina vienmērīgu temperatūras sadalījumu starp paraugiem, izmantojot radiālu mēģeņu izvietojumu.
A13: 10.2.6 | B13: Materiāls: polietilēna putas vai analogs.
A14: 10.2.7 | B14: Forma: apaļa.
A15: 10.2.8 | B15: Aprīkots ar numurētām ligzdām.
A16: 10.2.9 | B16: Aprīkots ar vaku.
A17: 10.2.10 | B17: Atkārtoti lietojams.

Sheet TS 11. poz
A1: 11. pozīcija - Kriostobriņi bioloģisko paraugu uzglabāšanai | D1: Pretendenta piedāvājums, atsauce uz informatīvo materiālu (Informatīvā materiāla nosaukums, lpp.)
A2: Nr. | B2: Preces nosaukums, veicamās funkcijas, tehniskās prasības un komplektācija | C2: Skaits, gab.***
A3: Piemērs | B3: Piemērs | C3: Piemērs | D3: Informatīvais materiāls 2, 4.lpp
A4: 11. | B4: Nosaukums: Kriostobriņi bioloģisko paraugu uzglabāšanai.
A5: 11.1. | B5: Veicamās funkcijas:
A6: 11.1.1 | B6: Nodrošina paraugu uzglabāšanu kriokastēs zemas temperatūras apstākļos.
A7: 11.2. | B7: Tehniskās prasības:
A8: 11.2.1 | B8: Uzglabāšanai līdz −80°C.
A9: 11.2.2 | B9: RNase/DNase un pirogēnu nesaturoši.
A10: 11.2.3 | B10: Piemēroti ilgstošai uzglabāšanai šķidrā slāpekļa tvaika fāzē.
A11: 11.2.4 | B11: Ārējā vītne (External-thread cryovials).
A12: 11.2.5 | B12: Darba tilpums paraugu uzglabāšanai pie temperatūras līdz −80 °C.
A13: 11.3 | B13: Darba tilpums no 0.5 līdz 0.6 ml.
A14: 11.3.1 | B14: Piemēroti DNS un RNS paraugiem. | C14: 1920 gab.
A15: 11.4 | B15: Darba tilpums no 0.5 līdz 0.6 ml.
A16: 11.4.1 | B16: Piemēroti CSF (cerebrospinālā šķidruma) paraugiem. | C16: 288 gab.
A17: 11.4.2 | B17: Materiāls ar zemu olbaltumvielu adsorbciju un minimālu parauga aizturi, lai samazinātu parauga zudumus (low-binding, low-retention).
A18: 11.5 | B18: Darba tilpums no 0.90 līdz 1 ml.
A19: 11.5.1 | B19: Piemēroti asinīm un asins frakcijām. | C19: 1920 gab.
A20: 11.6 | B20: Darba tilpums no 1.25 līdz 2 ml.
A21: 11.6.1 | B21: Piemēroti urinai un asinīm. | C21: 960 gab.
A22: 11.7 | B22: Darba tilpums 3 līdz 3.2 ml - plata tipa (wide).
A23: 11.7.1 | B23: Piemēroti audiem. | C23: 480 gab.
A24: 11.8 | B24: Piederumi, saderīgi ar piedāvāto iekārtu (tiek norādīta cena par katru piederumu atsevišķi)
A25: 11.8.1 | B25: Kriokastes saderīgas ar 11.3. punktā norādītajiem stobriņiem. | C25: 20
A26: 11.8.2 | B26: Kriokastes saderīgas ar 11.4. punktā norādītajiem stobriņiem. | C26: 3
A27: 11.8.3 | B27: Kriokastes saderīgas ar 11.5. punktā norādītajiem stobriņiem. | C27: 20
A28: 11.8.4 | B28: Kriokastes saderīgas ar 11.6. punktā norādītajiem stobriņiem. | C28: 10
A29: 11.8.5 | B29: Kriokastes saderīgas ar 11.7. punktā norādītajiem stobriņiem. | C29: 5
A30: 11.8.6 | B30: Skrūvējami vāciņi (screw cap), kas ir saderīgi ar 11.3. punktā norādītajiem stobriņiem. | C30: 1920 gab.
A31: 11.8.7 | B31: Skrūvējami vāciņi (screw cap), kas ir saderīgi ar 11.4. punktā norādītajiem stobriņiem. | C31: 288 gab.
A32: 11.8.8 | B32: Skrūvējami vāciņi (screw cap), kas ir saderīgi ar 11.5. punktā norādītajiem stobriņiem. | C32: 1920 gab.
A33: 11.8.9 | B33: Skrūvējami vāciņi (screw cap), kas ir saderīgi ar 11.6. punktā norādītajiem stobriņiem. | C33: 960 gab.
A34: 11.8.10 | B34: Skrūvējami vāciņi (screw cap), kas ir saderīgi ar 11.7. punktā norādītajiem stobriņiem. | C34: 480 gab.

Sheet TS 12. poz
A1: 12. pozīcija - Kriouzlīmes kriostobriņu marķēšanai | D1: Pretendenta piedāvājums, atsauce uz informatīvo materiālu (Informatīvā materiāla nosaukums, lpp.)
A2: Nr. | B2: Preces nosaukums, veicamās funkcijas, tehniskās prasības un komplektācija | C2: Skaits, gab.***
A3: Piemērs | B3: Piemērs | C3: Piemērs | D3: Informatīvais materiāls 2, 4.lpp
A4: 12 | B4: Nosaukums: Kriouzlīmes kriostobriņu marķēšanai.
A5: 12.1. | B5: Veicamās funkcijas:
A6: 12.1.1. | B6: Nodrošina ilgstošu kriostobriņu marķēšanu un uzlīmes noturību temperatūrā līdz –196 °C.
A7: 12.2. | B7: Tehniskās prasības:
A8: 12.2.1 | B8: Darba temperatūras diapazons: no –196 °C līdz vismaz –20 °C, tai skaitā lietošanai šķidrā un tvaika fāzes slāpeklī, ultra zemās temperatūras saldētavās (–120 °C, –80 °C) un transportēšanai uz sausā ledus.
A9: 12.2.2 | B9: Izturīgas pret mitrumu, kondensātu un kriogēnas vides iedarbību.
A10: 12.2.3 | B10: Piemērotas manuālai marķēšanai un/vai drukāšanai ar laboratorijas marķēšanas sistēmām.
A11: 12.2.4 | B11: Nodrošina drošu paraugu identifikāciju un izsekojamību laboratorijas un biobankas procesos.
A12: 12.2.5 | B12: Uzlīmju krāsa: balta. | E12: Informatīvais āttels punktiem 12.4., 12.5., 12.6., 12.7.:
A13: 12.3 | B13: Kriouzlīmes kriokastu ar 96 iedobēm marķēšanai
A14: 12.3.1 | B14: Kataloga Nr. JTTA-36C1-1WH vai analogs. | C14: 5 ruļļi
A15: 12.4 | B15: Kriouzlīmes 0,5 ml kriostobriņu ilgstošai marķēšanai
A16: 12.4.1 | B16: Uzlīmes forma: kombinēta taisnstūra un apaļa forma | C16: 5 ruļļi
A17: 12.5 | B17: Kriouzlīmes 1 ml kriostobriņu ilgstošai marķēšanai
A18: 12.5.1 | B18: Uzlīmes forma: kombinēta taisnstūra un apaļa forma | C18: 5 ruļļi
A19: 12.6 | B19: Kriouzlīmes 2 ml kriostobriņu ilgstošai marķēšanai
A20: 12.6.1 | B20: Uzlīmes forma: kombinēta taisnstūra un apaļa forma | C20: 5 ruļļi
A21: 12.7 | B21: Kriouzlīmes 3 ml kriostobriņu ilgstošai marķēšanai
A22: 12.7.1 | B22: Uzlīmes forma: kombinēta taisnstūra un apaļa forma | C22: 5 ruļļi
A23: 12.8 | B23: Piederumi, saderīgi ar piedāvāto iekārtu (tiek norādīta cena par katru piederumu atsevišķi)
A24: 12.8.1 | B24: Printeris kriouzlīmju drukāšanai, kas nodrošina savietojamību ar piedāvātajām kriouzlīmēm un nodrošina skaidru un noturīgu marķējumu. | C24: 3
A25: 12.8.2 | B25: Manuāls svītrkodu skeneris 1D un 2D kodu nolasīšanai un datu pārnešanai uz datoru. | C25: 3

Sheet TS 13. poz
A1: 13. pozīcija - Termosoma ar aukstumelementu komplektu | D1: Pretendenta piedāvājums, atsauce uz informatīvo materiālu (Informatīvā materiāla nosaukums, lpp.)
A2: Nr. | B2: Preces nosaukums, veicamās funkcijas, tehniskās prasības un komplektācija | C2: Skaits, gab.***
A3: Piemērs | B3: Piemērs | C3: Piemērs | D3: Informatīvais materiāls 2, 4.lpp
A4: 13 | B4: Nosaukums: Termosoma ar aukstumelementu komplektu.
A5: 13.1. | B5: Veicamās funkcijas:
A6: 13.1.1. | B6: Paredzēta Biobankas paraugu temperatūras saglabāšanai iekšējā transportēšanas laikā.
A7: 13.2. | B7: Tehniskās prasības termosomai:
A8: 13.2.1 | B8: Somas materiāls: izturīgs materiāls (neilons vai analogs materiāls) ar atstarojošo pārklājumu un izolācijas slāni, kas aizkavē somā esošo produktu sasilšanu. | C8: 1
A9: 13.2.2 | B9: Soma ir mazgājama un dezinficējama ar nespecifiskiem dezinfekcijas līdzekļiem.
A10: 13.2.3 | B10: Somai ir rokturis un pleca siksna ērtai somas pārvietošanai.
A11: 13.2.4 | B11: Somai ir kabata dokumentu transportēšanai.
A12: 13.2.5 | B12: Skenejamo kodu pārslēgšanās auto režīmā.
A13: 13.2.6 | B13: Somas iekšējais tilpums: 10L; Somas iekšējais izmērs ir ne mazāk kā (platums x garums x augstums) 16 x 27 x 24 cm. BlueLine Bag 10L vai analogs
A14: 13.2.7 | B14: Pleca siksna.
A15: 13.2.8 | B15: Ar piedāvāto somu saderīga maināmā iekšējā virsma.
A16: 13.3 | B16: Tehniskās prasības aukstumelementiem:
A17: 13.3.1 | B17: Aukstumelementu rāmju komplekts (-30C TempShell Frame vai analogs) Piezīme: 1 komplekts ir 2 aukstumelementi. | C17: 3
A18: 13.3.2 | B18: Ir paredzēts atbilstošas temperatūras saglabāšanai paraugu transportēšanas laikā.
A19: 13.3.3 | B19: Paredzēti lietošanai pie -30°C temperatūras.
A20: 13.3.4 | B20: Saderība ar "delta T" ražotāja transportēšanas somām "BlueLine Bag 10L" .
A21: 13.3.5 | B21: Gala aukstumelementu komplekts (-30C TempShell Element vai analogs) Piezīme: 1 komplekts ir 2 aukstumelementi. | C21: 1
A22: 13.3.6 | B22: Ir paredzēts atbilstošas temperatūras saglabāšanai transportēšanas laikā.
A23: 13.3.7 | B23: Paredzēti lietošanai pie -30°C temperatūras.
A24: 13.3.8 | B24: Saderība ar "delta T" ražotāja transportēšanas somām "BlueLine Bag 10L" .

Sheet Iekārtu tehniskā apkalpošana
A2: Ierīcēm, kurām pēcgarantijas periodā periodiski veicamo darbu saturs mainās, Pretendents aizpilda "Iekārtu tehniskā apkalpošana" tabulu, izveidojot papildus rindu/as zem ierīces, katrā jaunā rindā norādot periodiski veicamā darba veidu, pārliecinoties, ka kopumā ir uzskaitīti visi uz ierīci attiecināmie periodiski veicamie darbi pēcgarantijas periodā
A3: Kopējās izmaksas viena periodiski veicamā darba veida veikšanai pēcgarantijas periodā tiek aprēķinātas sekojoši: 13=3*(6*(7+(8*9)) kur norādītie skaitļi ir kolonnas kārtas numurs. 14. kolonnā jānorāda summa par visiem periodiski veicamajiem darbiem visām iekārtām
A4: Iekārtu tehniskā apkalpošana
A5: Iepirkuma pozīcijas numurs | B5: Iekārtas nosaukums | C5: Iekārtu skaits *** | D5: Pēcgarantijas periods, ņemot vērā, ka garantijas periods un pēcgarantijas periods veido piecus gadus | E5: Periodiski veicamā darba veids pēcgarantijas periodā | F5: Periodiski veicamā darba skaits vienai ierīcei pēcgarantijas periodā | G5: Viena periodiski veicamā darba maināmo rezerves daļu izmaksas, ja attiecināms, EUR bez PVN | H5: Viena periodiski veicamā darba paredzamais ilgums, stundas | I5: Periodiski veicamo darbu servisa stundas likme, EUR bez PVN | J5: Remonta servisa stundas likme, EUR bez PVN | K5: Vai ražotājs ir paredzējis elektrodrošības pārbaudes periodiski veicamo darbu ietvaros? (Jā/Nē) | L5: Vai ražotājs ir paredzējis funkcionālās pārbaudes periodiski veicamo darbu ietvaros? (Jā/Nē) | M5: Summa par viena periodiski veicamā darba veidu pēcgarantijas periodā visām iekārtām, EUR bez PVN | N5: Summa par visiem periodiski veicamajiem darbiem pēcgarantijas periodā visām iekārtām, EUR bez PVN | O5: Piezīmes
A6: 1 | B6: 2 | C6: 3 | D6: 4 | E6: 5 | F6: 6 | G6: 7 | H6: 8 | I6: 9 | J6: 10 | K6: 11 | L6: 12 | M6: 13 | N6: 14 | O6: 15
A7: 1 | B7: Laboratorijas inkubators | C7: 2 | M7: =C7*(F7*(G7+(H7*I7))) -> 0 | N7: =M7 -> 0
A8: 2 | B8: Īpaši zemas temperatūras saldētava | C8: 3 | M8: =C8*(F8*(G8+(H8*I8))) -> 0 | N8: =M8 -> 0
A9: 3 | B9: Automatizēta histoloģisko priekšmetstikliņu krāsošanas un pārklāšanas sistēma | C9: 1 | M9: =C9*(F9*(G9+(H9*I9))) -> 0 | N9: =M9 -> 0
A10: 4 | B10: Kaulu zāģēšanas iekārta patoloģijas laboratorijai | C10: 1 | M10: =C10*(F10*(G10+(H10*I10))) -> 0 | N10: =M10 -> 0
A11: 5 | B11: Automātiska sasaldēto griezumu apstrādes un krāsošanas iekārta | C11: 1 | M11: =C11*(F11*(G11+(H11*I11))) -> 0 | N11: =M11 -> 0
A12: 6 | B12: Laboratorijas centrifūga priekšmetstikliņu centrifugēšanai | C12: 1 | M12: =C12*(F12*(G12+(H12*I12))) -> 0 | N12: =M12 -> 0
A13: 7 | B13: Laboratorijas centrifūga ar dzesēšanu | C13: 1 | M13: =C13*(F13*(G13+(H13*I13))) -> 0 | N13: =M13 -> 0
A14: 8 | B14: Automātiskais šūnu skaitītājs | C14: 1 | M14: =C14*(F14*(G14+(H14*I14))) -> 0 | N14: =M14 -> 0
A15: Piemērs
A16: Iekārtu tehniskā apkalpošana
A17: Iepirkuma daļas numurs | B17: Iekārtas nosaukums | C17: Iekārtu skaits * | D17: Pēcgarantijas periods, ņemot vērā, ka garantijas periods un pēcgarantijas periods veido piecus gadus | E17: Periodiski veicamā darba veids pēcgarantijas periodā | F17: Periodiski veicamā darba skaits vienai ierīcei pēcgarantijas periodā | G17: Viena periodiski veicamā darba maināmo rezerves daļu izmaksas, ja attiecināms, EUR bez PVN | H17: Viena periodiski veicamā darba paredzamais ilgums, stundas | I17: Periodiski veicamo darbu servisa stundas likme, EUR bez PVN | J17: Remonta servisa stundas likme, EUR bez PVN | K17: Vai ražotājs ir paredzējis elektrodrošības pārbaudes periodiski veicamo darbu ietvaros? (Jā/Nē) | L17: Vai ražotājs ir paredzējis funkcionālās pārbaudes periodiski veicamo darbu ietvaros? (Jā/Nē) | M17: Summa par viena periodiski veicamā darba veidu pēcgarantijas periodā visām iekārtām, EUR bez PVN | N17: Summa par visiem periodiski veicamajiem darbiem pēcgarantijas periodā visām iekārtām, EUR bez PVN | O17: Piezīmes
A18: 1 | B18: 2 | C18: 3 | D18: 4 | E18: 5 | F18: 6 | G18: 7 | H18: 8 | I18: 9 | J18: 10 | K18: 11 | L18: 12 | M18: 13 | N18: 14 | O18: 15
A19: 1. daļa | B19: Mākslīgā plaušu ventilācijas ierīce | C19: 5 | D19: 3 | E19: 1000h apkope | F19: 2 | G19: 500 | H19: 3 | I19: 35 | J19: 35 | K19: JĀ | L19: JĀ | M19: =C19*(F19*(G19+(H19*I19))) -> 6050 | N19: =M19+M20 -> 6312.5
C20: 5 | D20: 3 | E20: 2 gadu pārbaude | F20: 1 | G20: 0 | H20: 1.5 | I20: 35 | J20: 35 | K20: JĀ | L20: JĀ | M20: =C20*(F20*(G20+(H20*I20))) -> 262.5

Sheet Finanšu piedāvājums
A1: Finanšu piedāvājums
A2: Iekārtu iegādes izmaksas
A3: Iepirkuma pozīcijas numurs | B3: Iekārtas nosaukums | C3: Iekārtu skaits *** | D3: Vienas vienības cena, EUR bez PVN | E3: Summa, EUR bez PVN | F3: PVN likme, % | G3: Summa par iekārtu tehnisko apkalpošanu (ja ražotājs tādu ir paredzējis) | H3: Vērtējamā summa | I3: Komentārs
A4: 1 | B4: Laboratorijas inkubators | C4: 2 | E4: =D4*C4 -> 0 | G4: ='Iekārtu tehniskā apkalpošana'!N7 -> 0 | H4: =E4+G4 -> 0
A5: 2 | B5: Īpaši zemas temperatūras saldētava | C5: 3 | E5: =D5*C5 -> 0 | G5: ='Iekārtu tehniskā apkalpošana'!N8 -> 0 | H5: =E5+G5 -> 0
A6: 3 | B6: Automatizēta histoloģisko priekšmetstikliņu krāsošanas un pārklāšanas sistēma | C6: 1 | E6: =D6*C6 -> 0 | G6: ='Iekārtu tehniskā apkalpošana'!N9 -> 0 | H6: =E6+G6 -> 0
A7: 4 | B7: Kaulu zāģēšanas iekārta patoloģijas laboratorijai | C7: 1 | E7: =D7*C7 -> 0 | G7: ='Iekārtu tehniskā apkalpošana'!N10 -> 0 | H7: =E7+G7 -> 0
A8: 5 | B8: Automātiska sasaldēto griezumu apstrādes un krāsošanas iekārta | C8: 1 | E8: =D8*C8 -> 0 | G8: ='Iekārtu tehniskā apkalpošana'!N11 -> 0 | H8: =E8+G8 -> 0
A9: 6 | B9: Laboratorijas centrifūga priekšmetstikliņu centrifugēšanai | C9: 1 | E9: =D9*C9 -> 0 | G9: ='Iekārtu tehniskā apkalpošana'!N12 -> 0 | H9: =E9+G9 -> 0
A10: 7 | B10: Laboratorijas centrifūga ar dzesēšanu | C10: 1 | E10: =D10*C10 -> 0 | G10: ='Iekārtu tehniskā apkalpošana'!N13 -> 0 | H10: =E10+G10 -> 0
A11: 8 | B11: Automātiskais šūnu skaitītājs | C11: 1 | E11: =D11*C11 -> 0 | G11: ='Iekārtu tehniskā apkalpošana'!N14 -> 0 | H11: =E11+G11+E12+E13 -> 0
A12: 8.3.1 | B12: Atkārtoti lietojami priekšmetstikli. | C12: 100 | E12: =D12*C12 -> 0 | G12: Nav attiecināms
A13: 8.3.2 | B13: Vienreizlietojami priekšmetstikli ar tripāna zilo krāsvielu | C13: 100 | E13: =D13*C13 -> 0
A14: 8.3… | C14: …
A15: 9 | B15: Pipete automātiskā vienkanāla
A16: 9.3. | B16: Darba tilpuma diapazons 0,5-5 μl | C16: 3 | E16: =D16*C16 -> 0 | H16: =E16+E17+E18 -> 0
A17: 9.4. | B17: Darba tilpuma diapazons: 20-200 μl | C17: 3 | E17: =D17*C17 -> 0
A18: 9.5. | B18: Darba tilpuma diapazons: 100-1000 μl | C18: 3 | E18: =D18*C18 -> 0
A19: 10 | B19: Šūnu kontrolētas sasaldēšanas konteiners | C19: 6 | E19: =D19*C19 -> 0 | H19: =E19 -> 0
A20: 11 | B20: Kriostobriņi bioloģisko paraugu uzglabāšanai
A21: 11.3 | B21: Darba tilpums 0.5 ml - Piemēroti DNS un RNS paraugiem | C21: 1920 | E21: =D21*C21 -> 0 | H21: =E21+E22+E23+E24+E25+(SUM(E27:E36)) -> 0
A22: 11.4 | B22: Darba tilpums 0.5 ml - Piemēroti CSF (cerebrospinālā šķidruma) paraugiem | C22: 288 | E22: =D22*C22 -> 0
A23: 11.5 | B23: Darba tilpums 1 ml | C23: 1920 | E23: =D23*C23 -> 0
A24: 11.6 | B24: Darba tilpums 2 ml | C24: 960 | E24: =D24*C24 -> 0
A25: 11.7 | B25: Darba tilpums 3 ml - plata tipa (wide) | C25: 480 | E25: =D25*C25 -> 0
A26: 11.8 | B26: Piederumi, saderīgi ar piedāvāto iekārtu (tiek norādīta cena par katru piederumu atsevišķi)
A27: 11.8.1 | B27: Kriokastes saderīgas ar 11.3. punktā norādītajiem stobriņiem. | C27: 20 | E27: =C27*D27 -> 0
A28: 11.8.2 | B28: Kriokastes saderīgas ar 11.4. punktā norādītajiem stobriņiem. | C28: 3 | E28: =C28*D28 -> 0
A29: 11.8.3 | B29: Kriokastes saderīgas ar 11.5. punktā norādītajiem stobriņiem. | C29: 20 | E29: =C29*D29 -> 0
A30: 11.8.4 | B30: Kriokastes saderīgas ar 11.6. punktā norādītajiem stobriņiem. | C30: 10 | E30: =C30*D30 -> 0
A31: 11.8.5 | B31: Kriokastes saderīgas ar 11.7. punktā norādītajiem stobriņiem. | C31: 5 | E31: =C31*D31 -> 0
A32: 11.8.6 | B32: Skrūvējami vāciņi (screw cap), kas ir saderīgi ar 11.3. punktā norādītajiem stobriņiem. | C32: 1920 | E32: =C32*D32 -> 0
A33: 11.8.7 | B33: Skrūvējami vāciņi (screw cap), kas ir saderīgi ar 11.4. punktā norādītajiem stobriņiem. | C33: 288 | E33: =C33*D33 -> 0
A34: 11.8.8 | B34: Skrūvējami vāciņi (screw cap), kas ir saderīgi ar 11.5. punktā norādītajiem stobriņiem. | C34: 1920 | E34: =C34*D34 -> 0
A35: 11.8.9 | B35: Skrūvējami vāciņi (screw cap), kas ir saderīgi ar 11.6. punktā norādītajiem stobriņiem. | C35: 960 | E35: =C35*D35 -> 0
A36: 11.8.10 | B36: Skrūvējami vāciņi (screw cap), kas ir saderīgi ar 11.7. punktā norādītajiem stobriņiem. | C36: 480 | E36: =C36*D36 -> 0
A37: 12 | B37: Kriouzlīmes kriostobriņu marķēšanai
A38: 12.3 | B38: Kriouzlīmes kriokastu ar 96 iedobēm marķēšanai | C38: 5 | E38: =D38*C38 -> 0 | H38: =E38+E39+E40+E41+E42+E44+E45 -> 0
A39: 12.4 | B39: Kriouzlīmes 0,5 ml kriostobriņu ilgstošai marķēšanai | C39: 5 | E39: =D39*C39 -> 0
A40: 12.5 | B40: Kriouzlīmes 1 ml kriostobriņu ilgstošai marķēšanai | C40: 5 | E40: =D40*C40 -> 0
A41: 12.6 | B41: Kriouzlīmes 2 ml kriostobriņu ilgstošai marķēšanai | C41: 5 | E41: =D41*C41 -> 0
A42: 12.7 | B42: Kriouzlīmes 3 ml kriostobriņu ilgstošai marķēšanai | C42: 5 | E42: =D42*C42 -> 0
A43: 12.8 | B43: Piederumi, saderīgi ar piedāvāto iekārtu (tiek norādīta cena par katru piederumu atsevišķi)
A44: 12.8.1 | B44: Printeris kriouzlīmju drukāšanai, kas nodrošina savietojamību ar piedāvātajām kriouzlīmēm un nodrošina skaidru un noturīgu marķējumu. | C44: 3 | E44: =C44*D44 -> 0
A45: 12.8.2 | B45: Manuāls svītrkodu skeneris 1D un 2D kodu nolasīšanai un datu pārnešanai uz datoru. | C45: 3 | E45: =C45*D45 -> 0
A46: 13 | B46: Termosoma ar aukstumelementu komplektu
A47: 13.2 | B47: Termosoma | C47: 1 | E47: =D47*C47 -> 0 | H47: =E47+E48+E49 -> 0
A48: 13.3.1 | B48: Aukstumelementu rāmju komplekts | C48: 3 | E48: =D48*C48 -> 0
A49: 13.3.5 | B49: Gala aukstumelementu komplekts | C49: 1 | E49: =D49*C49 -> 0
