Workbook
Name _brm2: [1]Taul4!$E$3
Name A: '[2]2'!$A$1
Name aaaa: #REF!
Name aaaaa: #REF!
Name AKZ_Angebot: #REF!
Name AKZ_Auftrag: #REF!
Name Ang._Datum: #REF!
Name Auftr._Datum: #REF!
Name Bearbeiter: #REF!
Name bruttonelio: [1]Taul4!$E$3
Name Cent_Stacija: #REF!
Name code: #REF!
Name d: #REF!
Name da: '[3]Tāme Nr.11'!#REF!
Name da: '[3]Tāme Nr.11'!#REF!
Name eur: #REF!
Name Faktorgruppe1: #REF!
Name Faktorgruppe2: #REF!
Name Faktorgruppe3: #REF!
Name Faktorgruppe4: #REF!
Name Faktorgruppe5: #REF!
Name Faktorgruppe6: #REF!
Name Faktorgruppe7: #REF!
Name Faktorgruppe8: #REF!
Name Faktorgruppe9: #REF!
Name Faktorwerte: #REF!
Name Faktorwerte_der_Faktorgruppen: #REF!
Name Gruppenname1: #REF!
Name Gruppenname2: #REF!
Name Gruppenname3: #REF!
Name Gruppenname4: #REF!
Name Gruppenname5: #REF!
Name Gruppenname6: #REF!
Name Gruppenname7: #REF!
Name Gruppenname8: #REF!
Name Gruppenname9: #REF!
Name kate: #REF!
Name koef_d_tel: [4]VS!#REF!
Name koef_d_tel: [5]VS!#REF!
Name KOEF_d_telSANDRA: [6]VS!#REF!
Name koef_d_tv: #REF!
Name koef_Darbs: #REF!
Name koef_m_tel: [4]VS!#REF!
Name koef_m_tel: [5]VS!#REF!
Name koef_m_tv: #REF!
Name Koeficients: #REF!
Name lapa: #REF!
Name meh: '[3]Tāme Nr.11'!#REF!
Name meh: '[3]Tāme Nr.11'!#REF!
Name P: #REF!
Name Print_Area_MI: Koptāme!$B$16:$C$17
Name PRINT_AREA_MI: #N/A
Name Print_Titles_MI: Koptāme!#REF!
Name Projektname: #REF!
Name risk: #REF!
Name sum: #REF!
Name Tabula: #REF!
Name tikli: #REF!
Name tikli2: [5]VS!#REF!
Name Titul: #REF!

Sheet Koptāme
C1: APSTIPRINU
C2: _______________________________
C3: (pasūtītāja paraksts un tā atšifrējums)
C5: Z.v.
C6: _______.gada ____.___________
B8: Pasūtītāja būvniecības koptāme
A10: Objekta nosaukums: Ķekavas novada sporta stadiona izbūve
A11: Būves nosaukums: Ķekavas novada sporta stadions
A12: Objekta adrese: Brīvības iela 5, Ķekava, Ķekavas pagasts, Ķekavas novads, LV-2123
A13: Pasūtījums Nr.:
C14: Tāme sastādīta _____. gada ___. ___________
A15: Nr.p.k. | B15: Objekta nosaukums | C15: Objekta izmaksas euro
A17: 1 | B17: 2 | C17: 3
A18: 1 | B18: Ķekavas novada sporta stadiona izbūve
A20: 2 | B20: Kopā
A21: 3 | B21: Pasūtītāja finanšu rezerve neparedzētiem darbiem, 5%
A22: 4 | B22: Kopā
A23: 5 | B23: Pievienotās vērtības nodoklis 21.00 %
A24: 6 | B24: Kopējās būvniecības izmaksas
A26: Sastādīja
B27: (paraksts un tā atšifrējums, datums)
A28: Sertifikāta Nr.
A29: Pārbaudīja
B30: (paraksts un tā atšifrējums, datums)
A31: Sertifikāta Nr.

Sheet Kopsavilkums
A1: Kopsavilkuma aprēķins
A2: Objekta nosaukums: Ķekavas novada sporta stadiona izbūve
A3: Būves nosaukums: Ķekavas novada sporta stadions
A4: Objekta adrese: Brīvības iela 5, Ķekava, Ķekavas pagasts, Ķekavas novads, LV-2123
A5: Pasūtījums Nr.:
D6: Par kopējo summu, euro
D7: Kopējā darbietilpība, c/h
I8: Tāme sastādīta _____. gada ___. ___________
A9: N.p.k. | B9: Kārtas Nr.* | C9: Tāmes Nr. | D9: Darba veids vai konstruktīvā elementa nosaukums | E9: Tāmes izmaksas (euro) | F9: Tai skaitā | I9: Darbietilpība (c/h)
F10: darba alga (euro) | G10: materiāli (euro) | H10: mehānismi (euro)
A11: 1 | B11: 2 | C11: 3 | D11: 4 | E11: 5 | F11: 6 | G11: 7 | H11: 8 | I11: 9
A12: 1 | B12: 2. | C12: II-1 | D12: =II_1!G2 -> Žogs un vārti
A13: 2 | B13: 3. | C13: III-1 | D13: =III_1!G2 -> Ārējā kanalizācija K1 (ārpus teritorijas)
A14: 3 | B14: 5. | C14: V-1 | D14: =V_1!G2 -> Demontāžas/sagatavošanas darbi
A15: 4 | B15: 5. | C15: V-2 | D15: =V_2!G2 -> Ārējie elektrotīkli- prožektori
A16: 5 | B16: 5. | C16: V-3 | D16: =V_3!G2 -> Ārējā kanalizācija K1 (teritorijā)
A17: 6 | B17: 5. | C17: V-4 | D17: =V_4!G2 -> Lietus notekūdeņu kanalizācija -K2
A18: 7 | B18: 5. | C18: V-5 | D18: =V_5!G2 -> Ūdensapgādes Ū1 ārējie tīkli
A19: 8 | B19: 5. | C19: V-6 | D19: =V_6!G2 -> Netiek realizēts.
A20: 9 | B20: 5. | C20: V-7 | D20: =V_7!G2 -> Netiek realizēts
A21: 10 | B21: 5. | C21: V-8 | D21: =V_8!G2 -> Stadiona ēkas pamatnes grunts nomaiņa
A22: 11 | B22: 6. | C22: VI-1 | D22: =VI_1!G2 -> Demontāžas/sagatavošanas darbi (teritorija)
A23: 12 | B23: 6. | C23: VI-2 | D23: =VI_2!G2 -> Ceļi un laukumi
A24: 13 | B24: 7. | C24: VII-3 | D24: =VI_3!H2 -> Labiekārtojums - teritorija
A25: 14 | B25: 7. | C25: VII-1 | D25: =VII_1!G2 -> Demontāžas/sagatavošanas darbi (stadions)
A26: 15 | B26: 7. | C26: VII-2 | D26: =VII_2!G2 -> Lietus notekūdeņu kanalizācija - drenāža
A27: 16 | B27: 7. | C27: VII-3 | D27: =VII_3!G2 -> Labiekārtojuma elementi - laukumiem
A28: 17 | B28: 7. | C28: VII-4 | D28: =VII_4!G2 -> Stadions
A29: 18 | B29: 7. | C29: VII-5 | D29: =VII_5!G2 -> Aprīkojums - stadions
A30: 19 | D30: Kopā:
A31: 20 | D31: Virsizdevumi, __%
A32: 21 | D32: t.sk. darba aizsardzība
A33: 22 | D33: Būvdarbu veicēja peļņa, __%
A34: 23 | D34: Pavisam kopā
C36: Sastādīja
D37: (paraksts un tā atšifrējums, datums)
C38: Sertifikāta Nr.
C39: Pārbaudīja
D40: (paraksts un tā atšifrējums, datums)
C41: Sertifikāta Nr.
A44: *Norādītais sadalījums kārtās nav secīgs, projekta kārtu realizācija paredzama tehnoloģiskiem procesiem pakārtotās loģiskās būvdarbu kārtās. Būvprojektā paredzētais kārtu sadalījums:
A45: · 2.kārta: Žogs un vārti, realizējama kopā ar 6. kārtu;
A46: · 3.kārta: Ārējā kanalizācija K1 (ārpus teritorijas), realizējama pirms žoga uzstādīšanas;
A47: · 4.kārta: Demontāžas darbi, elektrotīkli, lietus ūdens kanalizācija K-2, ŪK darbi, aprīkojums, pamatnes grunts nomaiņa;
A48: · 6.kārta: Demontāžas darbi teritorijā, ceļi un laukumi;
A49: · 7.kārta: Labiekārtojums, demontāža, lietus ūdeņu kanalizācija, drenāža, laukumu labiekārtojums, stadions un tā aprīkojums.

Sheet II_1
G1: Lokālā tāme Nr. | H1: =[7]Kopsavilkums!B15 -> II-1
G2: =[7]Kopsavilkums!C15 -> Žogs un vārti
A4: Objekta nosaukums: Ķekavas novada sporta stadiona izbūve
A5: Būves nosaukums: Ķekavas novada sporta stadions
A6: Objekta adrese: Brīvības iela 5, Ķekava, Ķekavas pagasts, Ķekavas novads, LV-2123 | M6: Tāmes izmaksas | O6: =P20 -> 0 | P6: euro
A7: Pasūtījuma Nr.
P9: Tāme sastādīta _____. gada ___. ___________
A10: Nr.p.k. | B10: Kods | C10: Darba nosaukums | D10: Mērvienība | E10: Daudzums | F10: Vienības izmaksas | L10: Kopā uz visu apjomu
F11: laika norma (c/h) | G11: darba samaksas likme (euro/h) | H11: darba alga (euro) | I11: materiāli (euro) | J11: mehānismi (euro) | K11: kopā (euro) | L11: darbietilpība (c/h) | M11: darba alga (euro) | N11: materiāli (euro) | O11: mehānismi (euro) | P11: summa (euro)
A12: 1 | B12: 2 | C12: 3 | D12: 4 | E12: 5 | F12: 6 | G12: 7 | H12: =G12+1 -> 8 | I12: 9 | J12: 10 | K12: =J12+1 -> 11 | L12: =K12+1 -> 12 | M12: =L12+1 -> 13 | N12: =M12+1 -> 14 | O12: =N12+1 -> 15 | P12: =O12+1 -> 16
C13: Žogi
A14: 1 | B14: Lc | C14: Metāla žogs 3D paneļi zaļā krāsā stieples biezums 4 mm gar ielu h=1,8m | D14: m | E14: 148
A15: 2 | B15: Lc | C15: Metāla žogs gar kaimiņu zemesgabaliem h=2,5m 3d paneļi, zaļā krāsā stieples biezums 4 mm | D15: m | E15: 531.6
C16: Vārti
A17: 3 | B17: Lc | C17: Gājēju vārti (vārtu augstums 1,8m, platums 2,2m) 3d paneļi, zaļā krāsā stieples biezums 4 mm | D17: gb. | E17: 1
A18: 4 | B18: Lc | C18: Iebraucamie vārti (vārtu augstums 1,8m, platums 6,2m) | D18: gb. | E18: 1
A19: 5 | B19: Lc | C19: Rezerves vārti (vārtu augstums 2,5 m, platums 3,5m)3d paneļi, zaļā krāsā stieples biezums 4 mm | D19: gb. | E19: 1
K20: Tiešās izmaksas kopā, t. sk. darba devēja sociālais nodoklis (23,59%) | L20: =ROUND(SUM(L13:L19),2) -> 0 | M20: =ROUND(SUM(M13:M19),2) -> 0 | N20: =ROUND(SUM(N13:N19),2) -> 0 | O20: =ROUND(SUM(O13:O19),2) -> 0 | P20: =ROUND(SUM(P13:P19),2) -> 0
B21: Sastādīja
C22: (paraksts un tā atšifrējums, datums)
B23: Sertifikāta Nr.
B24: Pārbaudīja
C25: (paraksts un tā atšifrējums, datums)
B26: Sertifikāta Nr.

Sheet III_1
G1: Lokālā tāme Nr. | H1: =[8]Kopsavilkums!B19 -> III-1
G2: Ārējā kanalizācija K1 (ārpus teritorijas)
A4: Objekta nosaukums: Ķekavas novada sporta stadiona izbūve
A5: Būves nosaukums: Ķekavas novada sporta stadions
A6: Objekta adrese: Brīvības iela 5, Ķekava, Ķekavas pagasts, Ķekavas novads, LV-2123 | M6: Tāmes izmaksas | O6: =P32 -> 0 | P6: euro
A7: Pasūtījuma Nr.
P9: Tāme sastādīta _____. gada ___. ___________
A10: Nr.p.k. | B10: Kods | C10: Darba nosaukums | D10: Mērvienība | E10: Daudzums | F10: Vienības izmaksas | L10: Kopā uz visu apjomu
F11: laika norma (c/h) | G11: darba samaksas likme (euro/h) | H11: darba alga (euro) | I11: materiāli (euro) | J11: mehānismi (euro) | K11: kopā (euro) | L11: darbietilpība (c/h) | M11: darba alga (euro) | N11: materiāli (euro) | O11: mehānismi (euro) | P11: summa (euro)
A12: 1 | B12: 2 | C12: 3 | D12: 4 | E12: 5 | F12: 6 | G12: 7 | H12: =G12+1 -> 8 | I12: 9 | J12: 10 | K12: =J12+1 -> 11 | L12: =K12+1 -> 12 | M12: =L12+1 -> 13 | N12: =M12+1 -> 14 | O12: =N12+1 -> 15 | P12: =O12+1 -> 16
A13: 1 | B13: Lc | C13: Esošo tīklu atzīmes pie esošas sūkņu stacijas precizēšana (Pirms būvdarbiem) | D13: vieta. | E13: 1
A14: 2 | B14: Lc | C14: Pievienojums pie esošas sūkņu stacijas | D14: vieta. | E14: 1
A15: 3 | B15: Lc | C15: leguldīt slapjā gruntī PP KL T8 caurules Dn315mm uz h līdz 3.0m | D15: m | E15: 364
A16: 5 | B16: Lc | C16: Aka no dz/b elementiem Dn1500mm slapjā gruntī h līdz 3.0m | D16: gb. | E16: 1
A17: 6 | B17: Lc | C17: Tas pats Dn1000mm h līdz 2.5m | D17: gb. | E17: 1
A18: 7 | B18: Lc | C18: Aizsargājama čaula caurulei Dn315mm | D18: gb. | E18: 3
A19: 9 | B19: Lc | C19: Polietilēna aka Dn560mm slapjā gruntī h līdz 3.0m | D19: gb. | E19: 3
A20: 10 | B20: Lc | C20: Polietilēna aka Dn400mm slapjā gruntī h līdz 3.0m | D20: gb. | E20: 1
A21: 11 | B21: Lc | C21: Polietilēna aka Dn400mm slapjā gruntī h līdz 2.5m | D21: gb. | E21: 3
A22: 12 | B22: Lc | C22: Polietilēna aka Dn400mm slapjā gruntī h līdz 2.0m | D22: gb. | E22: 1
A23: 14 | B23: Lc | C23: Šķērsošanas ar tīkliem | D23: viet. | E23: 11
A24: 15 | B24: Lc | C24: Šķērsošanas ar kabeļiem | D24: viet. | E24: 3
... A30: 12 | B30: Lc | C30: Palīgmateriāli/Fasondaļas | D30: kpl. | E30: 1
K32: Tiešās izmaksas kopā, t. sk. darba devēja sociālais nodoklis (23,59%) | L32: =SUM(L13:L31) -> 0 | M32: =SUM(M13:M31) -> 0 | N32: =SUM(N13:N31) -> 0 | O32: =SUM(O13:O31) -> 0 | P32: =SUM(P13:P31) -> 0
B34: Sastādīja
C35: (paraksts un tā atšifrējums, datums)
B36: Sertifikāta Nr.
B37: Pārbaudīja
C38: (paraksts un tā atšifrējums, datums)
B39: Sertifikāta Nr.

Sheet V_1
G1: Lokālā tāme Nr. | H1: =[9]Kopsavilkums!B19 -> V-1
G2: Demontāžas/sagatavošanas darbi
A4: Objekta nosaukums: Ķekavas novada sporta stadiona izbūve
A5: Būves nosaukums: Ķekavas novada sporta stadions
A6: Objekta adrese: Brīvības iela 5, Ķekava, Ķekavas pagasts, Ķekavas novads, LV-2123 | M6: Tāmes izmaksas | O6: =P19 -> 0 | P6: euro
A7: Pasūtījuma Nr.
P9: Tāme sastādīta _____. gada ___. ___________
A10: Nr.p.k. | B10: Kods | C10: Darba nosaukums | D10: Mērvienība | E10: Daudzums | F10: Vienības izmaksas | L10: Kopā uz visu apjomu
F11: laika norma (c/h) | G11: darba samaksas likme (euro/h) | H11: darba alga (euro) | I11: materiāli (euro) | J11: mehānismi (euro) | K11: kopā (euro) | L11: darbietilpība (c/h) | M11: darba alga (euro) | N11: materiāli (euro) | O11: mehānismi (euro) | P11: summa (euro)
A12: 1 | B12: 2 | C12: 3 | D12: 4 | E12: 5 | F12: 6 | G12: 7 | H12: =G12+1 -> 8 | I12: 9 | J12: 10 | K12: =J12+1 -> 11 | L12: =K12+1 -> 12 | M12: =L12+1 -> 13 | N12: =M12+1 -> 14 | O12: =N12+1 -> 15 | P12: =O12+1 -> 16
A13: 1 | B13: Lc | C13: Artēziskā urbuma virsbūves demontāža | D13: m3 | E13: 25.5
A14: 2 | B14: Lc | C14: Artēziskā urbuma demontāža | D14: obj. | E14: 1
A15: 3 | B15: Lc | C15: Artēziskā urbuma aiztapēšana | D15: obj. | E15: 1
A16: 4 | B16: Lc | C16: Tīklu pieslēgumu demontāža | D16: obj. | E16: 1
A17: 5 | B17: Lc | C17: Būvgružu savākšana, iekraušana un izvešana uz izgāztuvi | D17: m3 | E17: =E13*1.3 -> 33.15
K19: Tiešās izmaksas kopā, t. sk. darba devēja sociālais nodoklis (23,59%) | L19: =ROUND(SUM(L13:L17),2) -> 0 | M19: =ROUND(SUM(M13:M17),2) -> 0 | N19: =ROUND(SUM(N13:N17),2) -> 0 | O19: =ROUND(SUM(O13:O17),2) -> 0 | P19: =ROUND(SUM(P13:P17),2) -> 0
B21: Sastādīja
C22: (paraksts un tā atšifrējums, datums)
B23: Sertifikāta Nr.
B24: Pārbaudīja
C25: (paraksts un tā atšifrējums, datums)
B26: Sertifikāta Nr.

Sheet V_2
G1: Lokālā tāme Nr. | H1: =[9]Kopsavilkums!B21 -> V-2
G2: Ārējie elektrotīkli- prožektori
A4: Objekta nosaukums: Ķekavas novada sporta stadiona izbūve
A5: Būves nosaukums: Ķekavas novada sporta stadions
A6: Objekta adrese: Brīvības iela 5, Ķekava, Ķekavas pagasts, Ķekavas novads, LV-2123 | M6: Tāmes izmaksas | O6: =P44 -> 0 | P6: euro
A7: Pasūtījuma Nr.
P9: Tāme sastādīta _____. gada ___. ___________
A10: Nr.p.k. | B10: Kods | C10: Darba nosaukums | D10: Mērvienība | E10: Daudzums | F10: Vienības izmaksas | L10: Kopā uz visu apjomu
F11: laika norma (c/h) | G11: darba samaksas likme (euro/h) | H11: darba alga (euro) | I11: materiāli (euro) | J11: mehānismi (euro) | K11: kopā (euro) | L11: darbietilpība (c/h) | M11: darba alga (euro) | N11: materiāli (euro) | O11: mehānismi (euro) | P11: summa (euro)
A12: 1 | B12: 2 | C12: 3 | D12: 4 | E12: 5 | F12: 6 | G12: 7 | H12: =G12+1 -> 8 | I12: 9 | J12: 10 | K12: =J12+1 -> 11 | L12: =K12+1 -> 12 | M12: =L12+1 -> 13 | N12: =M12+1 -> 14 | O12: =N12+1 -> 15 | P12: =O12+1 -> 16
A13: 1 | B13: Lc | C13: Apgaismojuma balsta betona pamats | D13: kpl. | E13: 18
A14: 2 | B14: Lc | C14: Apgaismojuma stabs ar pastiprinātu cinkojumu, H=6.5m (pirms pasūtīšanas saskaņot ar pasūtītāju) | D14: kpl. | E14: 18
A15: 3 | B15: Lc | C15: Apgaismojuma balsta konsole | D15: kpl. | E15: 18
A16: 4 | B16: Lc | C16: Gaismeklis IP65 ar stiprinājumiem vai LED analogs (pirms pasūtīšanas saskaņot ar pasūtītāju) | D16: kpl. | E16: 18
A17: 5 | B17: Lc | C17: Spuldze | D17: kpl. | E17: 18
A18: 6 | B18: Lc | C18: Kabelis NYY-J-3x1,5mm2 balstā, precizēt | D18: m | E18: 180
C19: Prožektoru masti ar pamatiem P-1 DZK-84, DZK-85 | D19: kpl. | E19: 4
A20: 7 | B20: Lc | C20: Grunts rakšana zem pamatiem | D20: m3 | E20: 165.1104
A21: 8 | B21: Lc | C21: Grunts iekraušana un aizvešana (k=1.2) | D21: m3 | E21: 165.1104
A22: 9 | B22: Lc | C22: Blietēta esošā grunts | D22: m2 | E22: 70.56
A23: 10 | B23: Lc | C23: Rupjas smilts uzbēruma izveide 450mm | D23: m2 | E23: 70.56
A24: 11 | B24: Lc | C24: Blietētas šķembas 300 mm | D24: m3 | E24: 23.04
A25: 12 | B25: Lc | C25: Veidņu montāža/noma/demontāža | D25: m2 | E25: 81.6
A26: 13 | B26: Lc | C26: Pamatu stiegrošana Dn 12 B500B-1362 kg , Dn 20 B500 B 249 kg | D26: t | E26: 8.3772
A27: 14 | B27: Lc | C27: Pamatu betonēšana (betons C30/37, XC2) | D27: m3 | E27: 79.38
A28: 15 | B28: Lc | C28: Caurule gofrēta, Čaula Dn 100, I=1800 | D28: m | E28: 7.2
A29: 16 | B29: Lc | C29: Prožektoru masts ar metāla kāpnēm, un drošības margām un apkalpes tiltiņu pie prožektoriem H=20m | D29: kpl. | E29: 4
A30: 17 | B30: Lc | C30: Kronšteins prožektoriem | D30: kpl. | E30: 32
A31: 18 | B31: Lc | C31: Prožektors LED 4000K 105,000 lm ar maināmu apgaismnojuma leņķi | D31: kpl. | E31: 60
... A43: 30 | B43: Lc | C43: Palīgmateriāli | D43: kpl. | E43: 1
K44: Tiešās izmaksas kopā, t. sk. darba devēja sociālais nodoklis (23,59%) | L44: =SUM(L$13:L43) -> 0 | M44: =SUM(M$13:M43) -> 0 | N44: =SUM(N$13:N43) -> 0 | O44: =SUM(O$13:O43) -> 0 | P44: =SUM(P$13:P43) -> 0
B46: Sastādīja
C47: (paraksts un tā atšifrējums, datums)
B48: Sertifikāta Nr.
B49: Pārbaudīja
C50: (paraksts un tā atšifrējums, datums)
B51: Sertifikāta Nr.

Sheet V_3
G1: Lokālā tāme Nr. | H1: =[9]Kopsavilkums!B23 -> V-3
G2: Ārējā kanalizācija K1 (teritorijā)
A4: Objekta nosaukums: Ķekavas novada sporta stadiona izbūve
A5: Būves nosaukums: Ķekavas novada sporta stadions
A6: Objekta adrese: Brīvības iela 5, Ķekava, Ķekavas pagasts, Ķekavas novads, LV-2123 | M6: Tāmes izmaksas | O6: =P23 -> 0 | P6: euro
A7: Pasūtījuma Nr.
P9: Tāme sastādīta _____. gada ___. ___________
A10: Nr.p.k. | B10: Kods | C10: Darba nosaukums | D10: Mērvienība | E10: Daudzums | F10: Vienības izmaksas | L10: Kopā uz visu apjomu
F11: laika norma (c/h) | G11: darba samaksas likme (euro/h) | H11: darba alga (euro) | I11: materiāli (euro) | J11: mehānismi (euro) | K11: kopā (euro) | L11: darbietilpība (c/h) | M11: darba alga (euro) | N11: materiāli (euro) | O11: mehānismi (euro) | P11: summa (euro)
A12: 1 | B12: 2 | C12: 3 | D12: 4 | E12: 5 | F12: 6 | G12: 7 | H12: =G12+1 -> 8 | I12: 9 | J12: 10 | K12: =J12+1 -> 11 | L12: =K12+1 -> 12 | M12: =L12+1 -> 13 | N12: =M12+1 -> 14 | O12: =N12+1 -> 15 | P12: =O12+1 -> 16
A13: 1 | B13: Lc | C13: leguldīt slapjā gruntī PP KL T8 caurules Dn160mm h līdz 2.0m | D13: m | E13: 152
A14: 2 | B14: Lc | C14: Aizsargājama čaula caurulei Dn160mm | D14: gb. | E14: 1
A15: 3 | B15: Lc | C15: Polietilēna aka Dn560mm slapjā gruntī h līdz 2.0m (K1-8) | D15: gb. | E15: 1
A16: 4 | B16: Lc | C16: Polietilēna aka Dn400mm slapjā gruntī h līdz 1.5m | D16: gb. | E16: 7
A17: 5 | B17: Lc | C17: Šķērsošanas ar tīkliem | D17: viet. | E17: 29
A18: 6 | B18: Lc | C18: Šķērsošanas ar kabeļiem | D18: viet. | E18: 12
A19: 7 | B19: Lc | C19: Smilts zem caurulēm h=0.15cm ar blīvumu ne mazāk par 1.55kg/s | D19: m3 | E19: 45.6
A20: 8 | B20: Lc | C20: Mērījumi, nodošana ekspluatācijā | D20: kpl. | E20: 1
A21: 9 | B21: Lc | C21: Palīgmateriāli/Fasondaļas | D21: kpl. | E21: 1
K23: Tiešās izmaksas kopā, t. sk. darba devēja sociālais nodoklis (23,59%) | L23: =SUM(L$13:L22) -> 0 | M23: =SUM(M$13:M22) -> 0 | N23: =SUM(N$13:N22) -> 0 | O23: =SUM(O$13:O22) -> 0 | P23: =SUM(P$13:P22) -> 0
B25: Sastādīja
C26: (paraksts un tā atšifrējums, datums)
B27: Sertifikāta Nr.
B28: Pārbaudīja
C29: (paraksts un tā atšifrējums, datums)
B30: Sertifikāta Nr.

Sheet V_4
G1: Lokālā tāme Nr. | H1: =[9]Kopsavilkums!B25 -> V-4
G2: Lietus notekūdeņu kanalizācija -K2
A4: Objekta nosaukums: Ķekavas novada sporta stadiona izbūve
A5: Būves nosaukums: Ķekavas novada sporta stadions
A6: Objekta adrese: Brīvības iela 5, Ķekava, Ķekavas pagasts, Ķekavas novads, LV-2123 | M6: Tāmes izmaksas | O6: =P59 -> 0 | P6: euro
A7: Pasūtījuma Nr.
P9: Tāme sastādīta _____. gada ___. ___________
A10: Nr.p.k. | B10: Kods | C10: Darba nosaukums | D10: Mērvienība | E10: Daudzums | F10: Vienības izmaksas | L10: Kopā uz visu apjomu
F11: laika norma (c/h) | G11: darba samaksas likme (euro/h) | H11: darba alga (euro) | I11: materiāli (euro) | J11: mehānismi (euro) | K11: kopā (euro) | L11: darbietilpība (c/h) | M11: darba alga (euro) | N11: materiāli (euro) | O11: mehānismi (euro) | P11: summa (euro)
A12: 1 | B12: 2 | C12: 3 | D12: 4 | E12: 5 | F12: 6 | G12: 7 | H12: =G12+1 -> 8 | I12: 9 | J12: 10 | K12: =J12+1 -> 11 | L12: =K12+1 -> 12 | M12: =L12+1 -> 13 | N12: =M12+1 -> 14 | O12: =N12+1 -> 15 | P12: =O12+1 -> 16
A13: 1 | B13: Lc | C13: Gūlija Dn400mm h līdz 1.5m slapjā gruntī | D13: gb. | E13: 9
A14: 2 | B14: Lc | C14: leguldīt polietilēna caurules Dn200 slapjā gruntī h līdz 1.5m | D14: m | E14: 370
A15: 3 | B15: Lc | C15: leguldīt polietilēna caurules Dn200 slapjā gruntī h līdz 2.0m | D15: m | E15: 125
A16: 4 | B16: Lc | C16: leguldīt polietilēna caurules Dn200 slapjā gruntī h līdz 2.5m | D16: m | E16: 50
A17: 5 | B17: Lc | C17: leguldīt polietilēna caurules Dn315 slapjā gruntī h līdz 2.0m | D17: m | E17: 100
A18: 6 | B18: Lc | C18: leguldīt polietilēna caurules Dn315 slapjā gruntī h līdz 2.5m | D18: m | E18: 40
A19: 7 | B19: Lc | C19: leguldīt polietilēna caurules Dn315 slapjā gruntī h līdz 3.5m | D19: m | E19: 25
A20: 8 | B20: Lc | C20: leguldīt polietilēna caurules Dn400 slapjā gruntī h līdz 3.5m | D20: m | E20: 17
A21: 9 | B21: Lc | C21: Futrālis Dn400mm | D21: m | E21: 75
A22: 10 | B22: Lc | C22: Futrālis Dn500mm | D22: m | E22: 10
A23: 11 | B23: Lc | C23: Polietilēna akas Dn400 slapjā gruntī uz h līdz 1.5m | D23: gb. | E23: 16
A24: 12 | B24: Lc | C24: Polietilēna akas Dn400 slapjā gruntī uz h līdz 2.0m | D24: gb. | E24: 14
... A57: 45 | B57: Lc | C57: Mērījumi, nodošana ekspluatācijā | D57: kpl. | E57: 1
K59: Tiešās izmaksas kopā, t. sk. darba devēja sociālais nodoklis (23,59%) | L59: =SUM(L$13:L58) -> 0 | M59: =SUM(M$13:M58) -> 0 | N59: =SUM(N$13:N58) -> 0 | O59: =SUM(O$13:O58) -> 0 | P59: =SUM(P$13:P58) -> 0
B61: Sastādīja
C62: (paraksts un tā atšifrējums, datums)
B63: Sertifikāta Nr.
B64: Pārbaudīja
C65: (paraksts un tā atšifrējums, datums)
B66: Sertifikāta Nr.

Sheet V_5
G1: Lokālā tāme Nr. | H1: =[9]Kopsavilkums!B27 -> V-5
G2: Ūdensapgādes Ū1 ārējie tīkli
A4: Objekta nosaukums: Ķekavas novada sporta stadiona izbūve
A5: Būves nosaukums: Ķekavas novada sporta stadions
A6: Objekta adrese: Brīvības iela 5, Ķekava, Ķekavas pagasts, Ķekavas novads, LV-2123 | M6: Tāmes izmaksas | O6: =P39 -> 0 | P6: euro
A7: Pasūtījuma Nr.
P9: Tāme sastādīta _____. gada ___. ___________
A10: Nr.p.k. | B10: Kods | C10: Darba nosaukums | D10: Mērvienība | E10: Daudzums | F10: Vienības izmaksas | L10: Kopā uz visu apjomu
F11: laika norma (c/h) | G11: darba samaksas likme (euro/h) | H11: darba alga (euro) | I11: materiāli (euro) | J11: mehānismi (euro) | K11: kopā (euro) | L11: darbietilpība (c/h) | M11: darba alga (euro) | N11: materiāli (euro) | O11: mehānismi (euro) | P11: summa (euro)
A12: 1 | B12: 2 | C12: 3 | D12: 4 | E12: 5 | F12: 6 | G12: 7 | H12: =G12+1 -> 8 | I12: 9 | J12: 10 | K12: =J12+1 -> 11 | L12: =K12+1 -> 12 | M12: =L12+1 -> 13 | N12: =M12+1 -> 14 | O12: =N12+1 -> 15 | P12: =O12+1 -> 16
A13: 1 | B13: Lc | C13: Pievienojums pie esošiem ūdensvada tīkliem Dn250mm x Dn100mm | D13: viet. | E13: 1
A14: 2 | B14: Lc | C14: Pazemes aizbīdnis Dn100mm ar kapi ne mazāk par 140mm EN-124 | D14: gb. | E14: 1
A15: 3 | B15: Lc | C15: Ūdensmērītāja šahta Dn3000mm ar pilnu hidroizolāciju h līdz 2.0m ar kāpšļiem un slēdzamo vāku | D15: gb. | E15: 1
A16: 4 | B16: Lc | C16: leguldīt kaļama ķeta caurules Dn100mm slapjā gruntī h līdz 2.0m | D16: m | E16: 5
A17: 5 | B17: Lc | C17: leguldīt PVC PN10 caurules Dn110mm slapjā gruntī h līdz 2.0m vai alternatīva | D17: m | E17: 42
A18: 6 | B18: Lc | C18: Futrālis Dn300mm | D18: m | E18: 7
A19: 7 | B19: Lc | C19: Šķērsošanas ar tīkliem | D19: viet. | E19: 2
A20: 8 | B20: Lc | C20: Šķērsošanas ar kabeļiem | D20: viet. | E20: 2
A21: 9 | B21: Lc | C21: Gumijas blīvētājs | D21: gb. | E21: 2
A22: 10 | B22: Lc | C22: Aizsargājama čaula caurulei Dn110mm | D22: gb. | E22: 1
A23: 11 | B23: Lc | C23: Aizsargājama čaula caurulei Dn100mm | D23: gb. | E23: 1
A24: 12 | B24: Lc | C24: Atloku adapteris Dn100mm | D24: gb. | E24: 2
... A33: 21 | B33: Lc | C33: Dz/b balsts | D33: gb. | E33: 2
A34: 22 | C34: Esošo tīklu atzīmes precizēšana (Pirms būvdarbiem) | D34: pieslēgums | E34: 1
A35: 23 | B35: Lc | C35: Smilts zem caurulēm 0.15cm ar blīvumu ne mazāk par 1.55 kg/s | D35: m³ | E35: 4.935
A36: 24 | B36: Lc | C36: Pazemes tipa (Maskavas) ugunsdzēsības hidranta uzstādīšana uz esoša ūdensvadsa | D36: gb. | E36: 2
A37: 25 | B37: Lc | C37: Mērījumi, nodošana ekspluatācijā | D37: kpl. | E37: 1
A38: 26 | B38: Lc | C38: Palīgmateriāli/Fasondaļas | D38: kpl. | E38: 1
K39: Tiešās izmaksas kopā, t. sk. darba devēja sociālais nodoklis (23,59%) | L39: =SUM(L$13:L38) -> 0 | M39: =SUM(M$13:M38) -> 0 | N39: =SUM(N$13:N38) -> 0 | O39: =SUM(O$13:O38) -> 0 | P39: =SUM(P$13:P38) -> 0
B41: Sastādīja
C42: (paraksts un tā atšifrējums, datums)
B43: Sertifikāta Nr.
B44: Pārbaudīja
C45: (paraksts un tā atšifrējums, datums)
B46: Sertifikāta Nr.

Sheet V_6
G1: Lokālā tāme Nr. | H1: =[9]Kopsavilkums!B29 -> V-6
G2: Netiek realizēts.
A4: Objekta nosaukums: Ķekavas novada sporta stadiona izbūve
A5: Būves nosaukums: Ķekavas novada sporta stadions
A6: Objekta adrese: Brīvības iela 5, Ķekava, Ķekavas pagasts, Ķekavas novads, LV-2123 | M6: Tāmes izmaksas | O6: =P16 -> 0 | P6: euro
A7: Pasūtījuma Nr.
P9: Tāme sastādīta _____. gada ___. ___________
A10: Nr.p.k. | B10: Kods | C10: Darba nosaukums | D10: Mērvienība | E10: Daudzums | F10: Vienības izmaksas | L10: Kopā uz visu apjomu
F11: laika norma (c/h) | G11: darba samaksas likme (euro/h) | H11: darba alga (euro) | I11: materiāli (euro) | J11: mehānismi (euro) | K11: kopā (euro) | L11: darbietilpība (c/h) | M11: darba alga (euro) | N11: materiāli (euro) | O11: mehānismi (euro) | P11: summa (euro)
A12: 1 | B12: 2 | C12: 3 | D12: 4 | E12: 5 | F12: 6 | G12: 7 | H12: =G12+1 -> 8 | I12: 9 | J12: 10 | K12: =J12+1 -> 11 | L12: =K12+1 -> 12 | M12: =L12+1 -> 13 | N12: =M12+1 -> 14 | O12: =N12+1 -> 15 | P12: =O12+1 -> 16
A13: 1 | B13: Lc | C13: Daudzfunkcionāla tablo DT-1 pamati | D13: kpl.
A14: 2 | B14: Lc | C14: Daudzfunkcionāls tablo 6*4 m | D14: kpl.
A15: 3 | B15: Lc | C15: Zemēšanas komplekts | D15: kpl.
K16: Tiešās izmaksas kopā, t. sk. darba devēja sociālais nodoklis (23,59%) | L16: =SUM(L13:L15) -> 0 | M16: =SUM(M13:M15) -> 0 | N16: =SUM(N13:N15) -> 0 | O16: =SUM(O13:O15) -> 0 | P16: =SUM(P13:P15) -> 0
B18: Sastādīja
C19: (paraksts un tā atšifrējums, datums)
B20: Sertifikāta Nr.
B21: Pārbaudīja
C22: (paraksts un tā atšifrējums, datums)
B23: Sertifikāta Nr.

Sheet V_7
G1: Lokālā tāme Nr. | H1: =[9]Kopsavilkums!B31 -> V-7
G2: Netiek realizēts
A4: Objekta nosaukums: Ķekavas novada sporta stadiona izbūve
A5: Būves nosaukums: Ķekavas novada sporta stadions
A6: Objekta adrese: Brīvības iela 5, Ķekava, Ķekavas pagasts, Ķekavas novads, LV-2123 | M6: Tāmes izmaksas | O6: =P64 -> 0 | P6: euro
A7: Pasūtījuma Nr.
P9: Tāme sastādīta _____. gada ___. ___________
A10: Nr.p.k. | B10: Kods | C10: Darba nosaukums | D10: Mērvienība | E10: Daudzums | F10: Vienības izmaksas | L10: Kopā uz visu apjomu
F11: laika norma (c/h) | G11: darba samaksas likme (euro/h) | H11: darba alga (euro) | I11: materiāli (euro) | J11: mehānismi (euro) | K11: kopā (euro) | L11: darbietilpība (c/h) | M11: darba alga (euro) | N11: materiāli (euro) | O11: mehānismi (euro) | P11: summa (euro)
A12: 1 | B12: 2 | C12: 3 | D12: 4 | E12: 5 | F12: 6 | G12: 7 | H12: =G12+1 -> 8 | I12: 9 | J12: 10 | K12: =J12+1 -> 11 | L12: =K12+1 -> 12 | M12: =L12+1 -> 13 | N12: =M12+1 -> 14 | O12: =N12+1 -> 15 | P12: =O12+1 -> 16
A13: 1 | B13: 11102 | C13: Tranšeja - bedre kabeļa vai citu apakšzemes komunikāciju apsekošanai (šurfēšana) | D13: gb.
A14: 2 | B14: 11107 | C14: Tranšejas rakšana un aizbēršana viena līdz divu kabeļu (caurules) guldīšanai 0.7m dziļumā | D14: m
A15: 3 | B15: 11209 | C15: PEHD caurules d=110 līdz 160 mm horizontāla urbšana-caurvilkšana | D15: m
A16: 4 | B16: 11214 | C16: Kabeļa trases uzrādītāja stabiņa uzstādīšana | D16: gb.
A17: 5 | B17: 12103 | C17: ZS kabeļa 185 mm2 un lielāka ieguldīšana gatavā tranšejā | D17: m
A18: 6 | B18: 12106 | C18: ZS kabeļa 185 mm2 un lielāka ievēršana caurulē | D18: m
A19: 7 | B19: 16103 | C19: Kabeļu komutācijas sadalnes montāža (piem. KS tipa) | D19: gb.
A20: 8 | B20: 16125 | C20: Elektroenerģijas ievada uzskaites sadalnes ar strāvmaiņiem uzstādīšana (piem. US24A; US46A tipa) | D20: gb.
A21: 9 | B21: 16117 | C21: Kabeļu komutācijas sadalnes demontāža (piem., KS tipa) | D21: gb.
A22: 10 | B22: 16121 | C22: Sadalnes pamata (statnes) demontāža | D22: gb.
A23: 11 | B23: 18201 | C23: Vertikālā zemētāja dziļumā līdz 2,5 m montāža | D23: gb.
A24: 12 | B24: 19301 | C24: EPL vai sarkanās līnijas nospraušana | D24: km
... A27: 15 | B27: 19404 | C27: Rakšanas atļaujas saņemšana | D27: obj.
C28: Materiālu izmaksas
A29: 16 | B29: Lc | C29: Kabelis 1 kV, 4x240 Al | D29: m
A30: 17 | B30: Lc | C30: Gala apdare (g/a) četrdzīslu kabelim 150-240 mm2 | D30: kpl.
A31: 18 | B31: Lc | C31: Kabeļu aizsardzības caurule d=110, zemē guldāmā, gofrētā, cietā 750N | D31: m
A32: 19 | B32: Lc | C32: Kabeļu aizsardzības caurule d=110, zemē guldāmā, gofrētā, lokanā 450N | D32: m
A33: 20 | B33: Lc | C33: Kabeļu aizsardzības caurule d=110, zemē guldāmā, caurdures 1250N | D33: m
A34: 21 | B34: Lc | C34: Kabeļu aizsardzības caurule d=75, zemē guldāmā, gofrētā, lokanā 450N (pēcuzskaites) | D34: m
A35: 22 | B35: Lc | C35: Informatīvs, zemē ierokams stabs (piketa stabs), dzeltens, 2.2 m | D35: gb.
A36: 23 | B36: Lc | C36: Signāllenta kabeļlīnijai, platums 40 mm | D36: m
A37: 24 | B37: Lc | C37: Zemējuma plakandzelzis, cinkots 4x40 mm | D37: m
A38: 25 | B38: Lc | C38: Zemetājvads Cu (izvadiem, savienošanai) d-16 mm, daudzdzīslu vadītājs | D38: m
A39: 26 | B39: Lc | C39: Spaile zemējuma, universāla, cinkotam metālam, zemējuma elektroda d 16 mm savienošanai ar stiepli d=8- 10 mm vai plakandzeizi 4x40 mm | D39: gb.
A40: 27 | B40: Lc | C40: Zemējuma stieple, necinkota d 10 mm | D40: m
... A52: 39 | B52: Lc | C52: Keramzīts sadalietaisēm frakcija 4/10 | D52: l
C53: Transformatora montāžas darbi
A54: 40 | B54: Lc | C54: TA uzstādīšana | D54: gab
A55: 41 | B55: Lc | C55: Transformators | D55: kpl.
A56: 42 | B56: Lc | C56: Palīgmateriāli | D56: kpl.
A57: 43 | B57: Lc | C57: Datu pārraides radio modēma uzstādīšana, ieregulēšana | D57: gab
A58: 44 | B58: Lc | C58: Radiopārklājuma mērījumi objektā | D58: gab
A59: 45 | B59: Lc | C59: Transformatora temperatūras aizsardzības montāža un pārbaude | D59: gab
A60: 46 | B60: Lc | C60: Tehniskās dokumentācijas izgatavošana | D60: objekts
A61: 47 | B61: Lc | C61: Objekta sagatavošana nodošanai-pieņemšanai ekspluatācijā | D61: objekts
A62: 48 | B62: Lc | C62: Elektrotehniskie palīgmateriāli-blīves,lentas,savilces,stieple,žņaugi | D62: kpl.
A63: 49 | B63: Lc | C63: Elektrosistēmas pārbaude, mērījumi, nodošana ekspluatācijā | D63: kpl.
K64: Tiešās izmaksas kopā, t. sk. darba devēja sociālais nodoklis (23,59%) | L64: =SUM(L$13:L63) -> 0 | M64: =SUM(M$13:M63) -> 0 | N64: =SUM(N$13:N63) -> 0 | O64: =SUM(O$13:O63) -> 0 | P64: =SUM(P$13:P63) -> 0
B66: Sastādīja
C67: (paraksts un tā atšifrējums, datums)
B68: Sertifikāta Nr.
B69: Pārbaudīja
C70: (paraksts un tā atšifrējums, datums)
B71: Sertifikāta Nr.

Sheet V_8
G1: Lokālā tāme Nr. | H1: =[9]Kopsavilkums!B33 -> V-8
G2: Stadiona ēkas pamatnes grunts nomaiņa
A4: Objekta nosaukums: Ķekavas novada sporta stadiona izbūve
A5: Būves nosaukums: Ķekavas novada sporta stadions
A6: Objekta adrese: Brīvības iela 5, Ķekava, Ķekavas pagasts, Ķekavas novads, LV-2123 | M6: Tāmes izmaksas | O6: =P16 -> 0 | P6: euro
A7: Pasūtījuma Nr.
P9: Tāme sastādīta _____. gada ___. ___________
A10: Nr.p.k. | B10: Kods | C10: Darba nosaukums | D10: Mērvienība | E10: Daudzums | F10: Vienības izmaksas | L10: Kopā uz visu apjomu
F11: laika norma (c/h) | G11: darba samaksas likme (euro/h) | H11: darba alga (euro) | I11: materiāli (euro) | J11: mehānismi (euro) | K11: kopā (euro) | L11: darbietilpība (c/h) | M11: darba alga (euro) | N11: materiāli (euro) | O11: mehānismi (euro) | P11: summa (euro)
A12: 1 | B12: 2 | C12: 3 | D12: 4 | E12: 5 | F12: 6 | G12: 7 | H12: =G12+1 -> 8 | I12: 9 | J12: 10 | K12: =J12+1 -> 11 | L12: =K12+1 -> 12 | M12: =L12+1 -> 13 | N12: =M12+1 -> 14 | O12: =N12+1 -> 15 | P12: =O12+1 -> 16
A13: 1 | B13: Lc | C13: Melnzemes noņemšana stadiona ēkas apjomā | D13: m3 | E13: =1700*0.5 -> 850
A14: 2 | B14: Lc | C14: Grunts iekraušana un aizvešana ar transportēšanu uz atbērtni attālums līdz 5km | D14: m3 | E14: =E13 -> 850
A15: 3 | B15: Lc | C15: Pamatnes izlīdzināšana ar pievesto smilti un blietēšana (k=1.2) | D15: m3 | E15: =1700*0.5*1.2 -> 1020
K16: Tiešās izmaksas kopā, t. sk. darba devēja sociālais nodoklis (23,59%) | L16: =ROUND(SUM(L13:L15),2) -> 0 | M16: =ROUND(SUM(M13:M15),2) -> 0 | N16: =ROUND(SUM(N13:N15),2) -> 0 | O16: =ROUND(SUM(O13:O15),2) -> 0 | P16: =ROUND(SUM(P13:P15),2) -> 0
B18: Sastādīja
C19: (paraksts un tā atšifrējums, datums)
B20: Sertifikāta Nr.
B21: Pārbaudīja
C22: (paraksts un tā atšifrējums, datums)
B23: Sertifikāta Nr.

Sheet VI_1
G1: Lokālā tāme Nr. | H1: =[10]Kopsavilkums!B13 -> VI-1
G2: Demontāžas/sagatavošanas darbi (teritorija)
A4: Objekta nosaukums: Ķekavas novada sporta stadiona izbūve
A5: Būves nosaukums: Ķekavas novada sporta stadions
A6: Objekta adrese: Brīvības iela 5, Ķekava, Ķekavas pagasts, Ķekavas novads, LV-2123 | M6: Tāmes izmaksas | O6: =P17 -> 0 | P6: euro
A7: Pasūtījuma Nr.
P9: Tāme sastādīta _____. gada ___. ___________
A10: Nr.p.k. | B10: Kods | C10: Darba nosaukums | D10: Mērvienība | E10: Daudzums | F10: Vienības izmaksas | L10: Kopā uz visu apjomu
F11: laika norma (c/h) | G11: darba samaksas likme (euro/h) | H11: darba alga (euro) | I11: materiāli (euro) | J11: mehānismi (euro) | K11: kopā (euro) | L11: darbietilpība (c/h) | M11: darba alga (euro) | N11: materiāli (euro) | O11: mehānismi (euro) | P11: summa (euro)
A12: 1 | B12: 2 | C12: 3 | D12: 4 | E12: 5 | F12: 6 | G12: 7 | H12: =G12+1 -> 8 | I12: 9 | J12: 10 | K12: =J12+1 -> 11 | L12: =K12+1 -> 12 | M12: =L12+1 -> 13 | N12: =M12+1 -> 14 | O12: =N12+1 -> 15 | P12: =O12+1 -> 16
A13: 1 | B13: Lc | C13: Objekta galveno punktu nospraušana | D13: obj. | E13: 1
A14: 2 | B14: Lc | C14: Esošā betona bruģakmens seguma demontāža un aizvešana uz atbērtni | D14: m2 | E14: 40
A15: 3 | B15: Lc | C15: Esošo betona ceļa/ietves apmaļu demontāža un aizvešana uz atbērtni | D15: m | E15: 48
K17: Tiešās izmaksas kopā, t. sk. darba devēja sociālais nodoklis (23,59%) | L17: =SUM(L13:L16) -> 0 | M17: =SUM(M13:M16) -> 0 | N17: =SUM(N13:N16) -> 0 | O17: =SUM(O13:O16) -> 0 | P17: =SUM(P13:P16) -> 0
B19: Sastādīja
C20: (paraksts un tā atšifrējums, datums)
B21: Sertifikāta Nr.
B22: Pārbaudīja
C23: (paraksts un tā atšifrējums, datums)
B24: Sertifikāta Nr.

Sheet VI_2
G1: Lokālā tāme Nr. | H1: =[10]Kopsavilkums!B15 -> VI-2
G2: Ceļi un laukumi
A4: Objekta nosaukums: Ķekavas novada sporta stadiona izbūve
A5: Būves nosaukums: Ķekavas novada sporta stadions
A6: Objekta adrese: Brīvības iela 5, Ķekava, Ķekavas pagasts, Ķekavas novads, LV-2123 | M6: Tāmes izmaksas | O6: =P51 -> 0 | P6: euro
A7: Pasūtījuma Nr.
P9: Tāme sastādīta _____. gada ___. ___________
A10: Nr.p.k. | B10: Kods | C10: Darba nosaukums | D10: Mērvienība | E10: Daudzums | F10: Vienības izmaksas | L10: Kopā uz visu apjomu
F11: laika norma (c/h) | G11: darba samaksas likme (euro/h) | H11: darba alga (euro) | I11: materiāli (euro) | J11: mehānismi (euro) | K11: kopā (euro) | L11: darbietilpība (c/h) | M11: darba alga (euro) | N11: materiāli (euro) | O11: mehānismi (euro) | P11: summa (euro)
A12: 1 | B12: 2 | C12: 3 | D12: 4 | E12: 5 | F12: 6 | G12: 7 | H12: =G12+1 -> 8 | I12: 9 | J12: 10 | K12: =J12+1 -> 11 | L12: =K12+1 -> 12 | M12: =L12+1 -> 13 | N12: =M12+1 -> 14 | O12: =N12+1 -> 15 | P12: =O12+1 -> 16
C13: Zemes klātne
A14: 1 | B14: Lc | C14: Zemes klātnes uzbēruma būvniecība | D14: m3 | E14: 2000
A15: 2 | B15: Lc | C15: Zemes klātnes ierakuma būvniecība | D15: m3 | E15: =(E17+E24)*1.1*0.8 -> 3110.8
C16: Asfaltbetona brauktuves segums
A17: 3 | B17: Lc | C17: Blietēta esošā grunts | D17: m2 | E17: 3162
A18: 4 | B18: Lc | C18: Salizturīgais slānis no vidēji rupjas smilts uzbēruma 450mm | D18: m2 | E18: 3162
A19: 5 | B19: Lc | C19: Ģeokompozīts Combigrd 30/30 vai analogs | D19: m2 | E19: 3162
A20: 6 | B20: Lc | C20: Šķembu pamats (0-45 mm) 300mm | D20: m2 | E20: 3162
A21: 7 | B21: Lc | C21: Asfaltbetons, ACb 22 60mm | D21: m2 | E21: 3162
A22: 8 | B22: Lc | C22: Asfaltbetons, AC 11 40mm | D22: m2 | E22: 3162
C23: Betona bruģakmens brauktuves segums
A24: 9 | B24: Lc | C24: Blietēta esošā grunts | D24: m2 | E24: 373
A25: 10 | B25: Lc | C25: Salizturīgais slānis no vidēji rupjas smilts uzbēruma 450mm | D25: m2 | E25: 373
A26: 11 | B26: Lc | C26: Ģeokompozīts Combigrd 30/30 vai analogs | D26: m2 | E26: 373
A27: 12 | B27: Lc | C27: Šķembu pamats (0-45 mm) 280mm | D27: m2 | E27: 373
A28: 13 | B28: Lc | C28: Šķembu izsiju izlīdzinošā kārta (0-5 mm) 50mm | D28: m2 | E28: 373
A29: 14 | B29: Lc | C29: Betona bruģakmens 100x50x80mm 80mm | D29: m2 | E29: 373
A30: 15 | B30: Lc | C30: Smilts /grants spraugu aizpildei | D30: m2 | E30: 373
C31: Apmales
A32: 16 | B32: Lc | C32: Ceļu apmale BR100.30.15 uz betona pamatnes | D32: m | E32: 337
A33: 17 | B33: Lc | C33: Ceļu apmale BR100.22.15 uz betona pamatnes | D33: m | E33: 162
A34: 18 | B34: Lc | C34: Slīpā ceļu apmale BR100.30-22.15 labā uz betona pamatnes | D34: m | E34: 5
A35: 19 | B35: Lc | C35: Slīpā ceļu apmale BR100.30-22.15 kreisā uz betona pamatnes | D35: m | E35: 5
A36: 20 | B36: Lc | C36: Rādiusa ceļu apmale R=1.0 BR78.30.15R uz betona pamatnes | D36: m | E36: 2
A37: 21 | B37: Lc | C37: Rādiusa ceļu apmale R=4.0 BR78.30.15R uz betona pamatnes | D37: m | E37: 11
A38: 22 | B38: Lc | C38: Rādiusa ceļu apmale R=8.0 BR78.30.15R uz betona pamatnes | D38: m | E38: 71
C39: Satiksmes organizācijas līdzekļi
A40: 23 | B40: Lc | C40: Ceļa zīme 206.zīme "Dodiet ceļu" | D40: gb | E40: 1
A41: 24 | B41: Lc | C41: Ceļa zīme 326. zīme "Apstāties aizliegts" | D41: gb | E41: 6
A42: 25 | B42: Lc | C42: Ceļa zīme 532. zīme "Stāvvieta" | D42: gb | E42: 4
A43: 26 | B43: Lc | C43: Ceļa zīme 804. papildzīme "Darbības zona" ar tekstu "10,5m" | D43: gb | E43: 1
A44: 27 | B44: Lc | C44: Ceļa zīme 805. papildzīme "Darbības zona" ar tekstu "7,2m pa kreisi/ 7,2m pa labi" | D44: gb | E44: 2
A45: 28 | B45: Lc | C45: Ceļa zīme 816. papildzīme "Transportlīdzekļa veids" | D45: gb | E45: 2
A46: 29 | B46: Lc | C46: Ceļa zīme 837. papildzīme "Invalīdiem" | D46: gb | E46: 2
A47: 30 | B47: Lc | C47: Cinkota metāla balsts ceļa zīmēm | D47: gb | E47: 7
A48: 31 | B48: Lc | C48: Horizontālais apzīmējums 920. | D48: m | E48: 512.5
A49: 32 | B49: Lc | C49: Horizontālais apzīmējums 942. | D49: gb | E49: 8
A50: 33 | B50: Lc | C50: Horizontālais apzīmējums 945. | D50: m | E50: 28.6
K51: Tiešās izmaksas kopā, t. sk. darba devēja sociālais nodoklis (23,59%) | L51: =SUM(L13:L50) -> 0 | M51: =SUM(M13:M50) -> 0 | N51: =SUM(N13:N50) -> 0 | O51: =SUM(O13:O50) -> 0 | P51: =SUM(P13:P50) -> 0
B52: Sastādīja
C53: (paraksts un tā atšifrējums, datums)
B54: Sertifikāta Nr.
B55: Pārbaudīja
C56: (paraksts un tā atšifrējums, datums)
B57: Sertifikāta Nr.

Sheet VI_3
H1: Lokālā tāme Nr. | I1: =[10]Kopsavilkums!B17 -> VI-3
H2: Labiekārtojums - teritorija
A4: Objekta nosaukums: Ķekavas novada sporta stadiona izbūve
A5: Būves nosaukums: Ķekavas novada sporta stadions
A6: Objekta adrese: Brīvības iela 5, Ķekava, Ķekavas pagasts, Ķekavas novads, LV-2123 | N6: Tāmes izmaksas | P6: =Q46 -> 0 | Q6: euro
A7: Pasūtījuma Nr.
A9: Nr.p.k. | B9: Kods | C9: Darba nosaukums | E9: Mērvienība | F9: Daudzums | G9: Vienības izmaksas | M9: Kopā uz visu apjomu
G10: laika norma (c/h) | H10: darba samaksas likme (euro/h) | I10: darba alga (euro) | J10: materiāli (euro) | K10: mehānismi (euro) | L10: kopā (euro) | M10: darbietilpība (c/h) | N10: darba alga (euro) | O10: materiāli (euro) | P10: mehānismi (euro) | Q10: summa (euro)
A11: 1 | B11: 2 | C11: 3 | E11: 4 | F11: 5 | G11: 6 | H11: 7 | I11: =H11+1 -> 8 | J11: 9 | K11: 10 | L11: =K11+1 -> 11 | M11: =L11+1 -> 12 | N11: =M11+1 -> 13 | O11: =N11+1 -> 14 | P11: =O11+1 -> 15 | Q11: =P11+1 -> 16
C12: Bērnu laukuma gumijots segums | L12: =ROUND(SUM(I12:K12),2) -> 0 | M12: =ROUND(F12*G12,2) -> 0 | N12: =ROUND(F12*I12,2) -> 0 | O12: =ROUND(F12*J12,2) -> 0 | P12: =ROUND(F12*K12,2) -> 0 | Q12: =ROUND(SUM(N12:P12),2) -> 0
A13: 1 | B13: Lc | C13: Blietēta esošā grunts | E13: m2 | F13: 106
A14: 2 | B14: Lc | C14: Salnoturīgais slānis no vidēji rupjas smilts uzbēruma 300mm | E14: m2 | F14: 106
A15: 3 | B15: Lc | C15: Ģeokompozīts Combigrd 30/30 vai analogs | E15: m2 | F15: 106
A16: 4 | B16: Lc | C16: Blietētas šķembas (0-45mm) 150mm | E16: m2 | F16: 106
A17: 5 | B17: Lc | C17: Šķembu izsiju izlīdzinošā kārta (0-5 mm) 50mm | E17: m2 | F17: 106
A18: 6 | B18: Lc | C18: Gumijas granulu segums (fr.1-4mm) 70-90mm | E18: m2 | F18: 106
C19: Bērnu laukuma līdz 7 g.v. aprīkojums
A20: 7 | B20: Lc | C20: Šūpoles-balansieris | D20: Prasības bērnu rotaļu laukumam 1.Rotaļu iekārtām jāatbilst noteiktajiem Eiropas Savienības standartiem un Latvijas Republikas normatīvajiem aktiem. Piedāvājumam jāpievieno rotaļu iekārtu starptautiski atzīti, neatkarīga sertificēšanas institūta izdoti TÜV (Tehniskās kontroles apvienība) vai ekvivalenti sertifikāti, ar tajā norādītiem preču kodiem, vizualizācijām un galvenajiem parametriem par atbilstību standartiem EN 1176 “Spēļu laukumu aprīkojums un pārklājums”. Atbilstības deklarācija vai atsevišķu rotaļu iekārtu detaļu sertifikāts, atbilstības apliecinājums, atbilstības deklarācija, atzinums u.tml. nav pielīdzināms TÜV vai ekvivalentam sertifikātam. 2.Pretendentam jānodrošina tādu darbu izpildes tehnoloģiju, pielietotos materiālus un aprīkojumu, kas garantē izbūvēto bērnu rotaļu iekārtu aprīkojuma atbilstību standartiem EN 1176 “Spēļu laukumu aprīkojums un pārklājums” un rotaļu iekārtu pamatnes sagatavošanu atbilstoši standartiem EN 1177 “Triecienus slāpējošas spēļu laukumu virsmas”. Par šo standartu ievērošanu atbildīgs ir rotaļu iekārtas uzstādītājs. 3.Drīkst piedāvāt labiekārtojuma plānā (TS-3) norādītajām ekvivalentas iekārtas. Par ekvivalentām tiks uzskatītas iekārtas, kas ir funkcionāli līdzvērtīgas un atbilst šādiem izmēriem - slidkalniņa starta sekcijas augstums ne mazāk kā 1,2 m; šūpoļu-ligzdas augstums ne mazāk kā 2,2 m. Pārējos iekārtu izmēros ir pieļaujamas atkāpes, taču jāņem vērā, ka iekārtām ar to drošības zonām ir jāietilpst norādītajā rotaļu laukuma gumijotā seguma platībā. Ir pieļaujamas variācijas iekārtu dizainā, taču dizainam un iekārtu materiāliem ir jābūt savstarpēji saskaņotiem. | E20: kpl. | F20: 1
A21: 8 | B21: Lc | C21: Šūpoles-atspere | E21: kpl. | F21: 1
A22: 9 | B22: Lc | C22: Slidkalniņš | E22: kpl. | F22: 1
A23: 10 | B23: Lc | C23: Šūpoles - grozs | E23: kpl. | F23: 1
C24: Augi
A25: 11 | B25: Lc | C25: Zemes augšējās kārtas noņemšana, planēšana, ieskaitot liekās zemes izvešanu, utilizēšanu | E25: m3 | F25: 29
A26: 12 | B26: Lc | C26: Augsnes ielabošana stādījumiem 0,5m dziļumā, melnzemi, papildinot ar organisko un minerālo mēslojumu, skujeņiem ar kūdras substrātu | E26: m3 | F26: 62.28
A27: 13 | B27: Lc | C27: Vidēji rupjas priežu mizas mulčas (6 cm slānis) uzklāšana | E27: m2 | F27: 58
A28: 14 | B28: Lc | C28: Stādījumu konteineri, salizturīgas koka kastes ar metāla karkasu 1,6x1,6x1,2m kokiem | E28: gb. | F28: 10
A29: 15 | B29: Lc | C29: Stādījumu konteineri, salizturīgas koka kastes ar metāla karkasu 1,6x0,4x0,4m krāšņumaugiem | E29: gb. | F29: 10
A30: 16 | B30: Lc | C30: Mieti (6-8cm; garums 2,5 m) ar atsaitēm augu nostiprināšanai | E30: gb. | F30: 21
A31: 17 | B31: Lc | C31: Rietumu tūja, Thuja occidentalis Smaragd, C3 | E31: gb. | F31: 95
A32: 18 | B32: Lc | C32: Holandes liepa, Tilia x vulgaris T.europaea, C15 | E32: gb. | F32: 7
A33: 19 | B33: Lc | C33: Japānas spireja, Spiraea japonica, C5 | E33: gb. | F33: 15
A34: 20 | B34: Lc | C34: Japānas spirejs, Spiraea japonica Goldflame, C3 | E34: gb. | F34: 105
A35: 21 | B35: Lc | C35: Zviedrijas pīlādzis Sorbus intermedia, C7, stāda kastē | E35: gb. | F35: 10
C36: Velosipēdu statīvs
A37: 13 | B37: Lc | C37: Velosipēdu statīvs | E37: gb. | F37: 14
C38: Atkritumu urnas
A39: 14 | B39: Lc | C39: Atkritumu urnas (ar vāciņiem. Koka dēļu apdare, saskaņā ar solu dizainu) | E39: gb. | F39: 21
C40: Karogu masti
A41: 15 | B41: Lc | C41: Karogu masti h=6500mm ar pamatni | E41: gb. | F41: 5
C42: Sadzīves atkritumu konteineru nojume
A43: 16 | B43: Lc | C43: Nojume, koka karkass ar koka līstēm, skārda jumts uz mitrumizturīga saplākšņa ar veramu daļu (1300x6300x2050(h)) | E43: kpl. | F43: 1
C44: Soli
A45: 17 | B45: Lc | C45: Koka dēļu soli ar atzveltnēm, 1,9 m garumā | D45: Soliņš ar atzveltni sastāv no tērauda kājām (rāmja) un līmēta koka dēļiem. Visām metāla daļām jābūt karsti cinkotām no visām pusēm, tai skaitā cauruļveida izstrādājuma iekšpusei un ārpusei, un krāsotām ar pulverkrāsu. Minimālais cinka pārklājums ≥ 60 mikroni. Uz tērauda kājām izzāģējams Ķekavas logo.Tērauda kājas ar betona enkuru nostiprinātas gruntī (iebetonētas) ne mazāk kā 0.50 m dziļumā. Soliņa sēdvirsma izgatavota no impregnēta, sausa līmēta koka vai masīva koka dēļiem, krāsotiem ar ūdens bāzes krāsām vai impregnētiem ar brūnu aizsargeļļu. Galvenie parametri (pielaide ± 50 mm): • garums – 1 900 mm; • platums – 485 mm; • augstums – 800 mm; • Sēdēšanas augstums – 450 mm. | E45: gb. | F45: 34
L46: Tiešās izmaksas kopā, t. sk. darba devēja sociālais nodoklis (23,59%) | M46: =SUM(M12:M45) -> 0 | N46: =SUM(N12:N45) -> 0 | O46: =SUM(O12:O45) -> 0 | P46: =SUM(P12:P45) -> 0 | Q46: =SUM(Q12:Q45) -> 0
B48: Sastādīja
C49: (paraksts un tā atšifrējums, datums)
B50: Sertifikāta Nr.
B51: Pārbaudīja
C52: (paraksts un tā atšifrējums, datums)
B53: Sertifikāta Nr.

Sheet VII_1
G1: Lokālā tāme Nr. | H1: =[11]Kopsavilkums!B14 -> VII-1
G2: Demontāžas/sagatavošanas darbi (stadions)
A4: Objekta nosaukums: Ķekavas novada sporta stadiona izbūve
A5: Būves nosaukums: Ķekavas novada sporta stadions
A6: Objekta adrese: Brīvības iela 5, Ķekava, Ķekavas pagasts, Ķekavas novads, LV-2123 | M6: Tāmes izmaksas | O6: =P20 -> 0 | P6: euro
A7: Pasūtījuma Nr.
P9: Tāme sastādīta _____. gada ___. ___________
A10: Nr.p.k. | B10: Kods | C10: Darba nosaukums | D10: Mērvienība | E10: Daudzums | F10: Vienības izmaksas | L10: Kopā uz visu apjomu
F11: laika norma (c/h) | G11: darba samaksas likme (euro/h) | H11: darba alga (euro) | I11: materiāli (euro) | J11: mehānismi (euro) | K11: kopā (euro) | L11: darbietilpība (c/h) | M11: darba alga (euro) | N11: materiāli (euro) | O11: mehānismi (euro) | P11: summa (euro)
A12: 1 | B12: 2 | C12: 3 | D12: 4 | E12: 5 | F12: 6 | G12: 7 | H12: =G12+1 -> 8 | I12: 9 | J12: 10 | K12: =J12+1 -> 11 | L12: =K12+1 -> 12 | M12: =L12+1 -> 13 | N12: =M12+1 -> 14 | O12: =N12+1 -> 15 | P12: =O12+1 -> 16
A13: 1 | B13: Lc | C13: Objekta galveno punktu nospraušana | D13: obj. | E13: 1
A14: 2 | B14: Lc | C14: Koku zāģēšana un celmu laušana un aizvešana uz atbērtni | D14: gb. | E14: 250
A15: 3 | B15: Lc | C15: Krūmu izzāģēšana un celmu laušana un aizvešana uz atbērtni | D15: obj. | E15: 1
A16: 4 | B16: Lc | C16: Augsnes kārtas noņemšana un liekās grunts norakšana | D16: m2 | E16: 23827
A17: 5 | B17: Lc | C17: Pārējo teritorijas elementu/konstrukciju demontāža un aizvešana uz atbērtni (aptuvens apjoms: demontējama smilts bedre - 24.6m2, demontējams lodes grūšanas sektora aplis - 1gb., demontējama konstrukcija -esošie žogi) | D17: obj. | E17: 1
A18: 6 | B18: Lc | C18: Liekās grunts aizvešana uz atbērtni | D18: m3 | E18: 16157.5
K20: Tiešās izmaksas kopā, t. sk. darba devēja sociālais nodoklis (23,59%) | L20: =SUM(L$13:L19) -> 0 | M20: =SUM(M$13:M19) -> 0 | N20: =SUM(N$13:N19) -> 0 | O20: =SUM(O$13:O19) -> 0 | P20: =SUM(P$13:P19) -> 0
B22: Sastādīja
C23: (paraksts un tā atšifrējums, datums)
B24: Sertifikāta Nr.
B25: Pārbaudīja
C26: (paraksts un tā atšifrējums, datums)
B27: Sertifikāta Nr.

Sheet VII_2
G1: Lokālā tāme Nr. | H1: =[11]Kopsavilkums!B16 -> VII-2
G2: Lietus notekūdeņu kanalizācija - drenāža
A4: Objekta nosaukums: Ķekavas novada sporta stadiona izbūve
A5: Būves nosaukums: Ķekavas novada sporta stadions
A6: Objekta adrese: Brīvības iela 5, Ķekava, Ķekavas pagasts, Ķekavas novads, LV-2123 | M6: Tāmes izmaksas | O6: =P24 -> 0 | P6: euro
A7: Pasūtījuma Nr.
P9: Tāme sastādīta _____. gada ___. ___________
A10: Nr.p.k. | B10: Kods | C10: Darba nosaukums | D10: Mērvienība | E10: Daudzums | F10: Vienības izmaksas | L10: Kopā uz visu apjomu
F11: laika norma (c/h) | G11: darba samaksas likme (euro/h) | H11: darba alga (euro) | I11: materiāli (euro) | J11: mehānismi (euro) | K11: kopā (euro) | L11: darbietilpība (c/h) | M11: darba alga (euro) | N11: materiāli (euro) | O11: mehānismi (euro) | P11: summa (euro)
A12: 1 | B12: 2 | C12: 3 | D12: 4 | E12: 5 | F12: 6 | G12: 7 | H12: =G12+1 -> 8 | I12: 9 | J12: 10 | K12: =J12+1 -> 11 | L12: =K12+1 -> 12 | M12: =L12+1 -> 13 | N12: =M12+1 -> 14 | O12: =N12+1 -> 15 | P12: =O12+1 -> 16
C13: Futbola laukums
A14: 1 | B14: Lc | C14: leguldīt drenāža caurules Dn110 slapjā gruntī h līdz 1.5m | D14: m | E14: 1100
A15: 2 | B15: Lc | C15: leguldīt polietilēna caurules Dn200mm slapjā gruntī h līdz 2.0m | D15: m | E15: 120
A16: 3 | B16: Lc | C16: leguldīt polietilēna caurules Dn250mm slapjā gruntī h līdz 2.5m | D16: m | E16: 200
A17: 4 | B17: Lc | C17: Polietilēna akas Dn400 slapjā gruntī uz h līdz 2.0m | D17: gb. | E17: 4
A18: 5 | B18: Lc | C18: Polietilēna akas Dn400 slapjā gruntī uz h līdz 2.5m | D18: gb. | E18: 3
A19: 6 | C19: Papildus skat, specifikāciju SIA "ACO Nordic" kanāliem un smilšu ķērājiem labiekārtošanā.
A20: 7 | B20: Lc | C20: Grants 15-20mm | D20: m3 | E20: 200
A21: 8 | B21: Lc | C21: Ģeotekstils Secudrain vai alternatīva | D21: m2 | E21: 230
A22: 9 | B22: Lc | C22: Mērījumi, nodošana ekspluatācijā | D22: kpl. | E22: 1
A23: 10 | B23: Lc | C23: Palīgmateriāli/Fasondaļas | D23: kpl. | E23: 1
K24: Tiešās izmaksas kopā, t. sk. darba devēja sociālais nodoklis (23,59%) | L24: =SUM(L$13:L23) -> 0 | M24: =SUM(M$13:M23) -> 0 | N24: =SUM(N$13:N23) -> 0 | O24: =SUM(O$13:O23) -> 0 | P24: =SUM(P$13:P23) -> 0
B26: Sastādīja
C27: (paraksts un tā atšifrējums, datums)
B28: Sertifikāta Nr.
B29: Pārbaudīja
C30: (paraksts un tā atšifrējums, datums)
B31: Sertifikāta Nr.

Sheet VII_3
G1: Lokālā tāme Nr. | H1: =[11]Kopsavilkums!B18 -> VII-3
G2: Labiekārtojuma elementi - laukumiem
A4: Objekta nosaukums: Ķekavas novada sporta stadiona izbūve
A5: Būves nosaukums: Ķekavas novada sporta stadions
A6: Objekta adrese: Brīvības iela 5, Ķekava, Ķekavas pagasts, Ķekavas novads, LV-2123 | M6: Tāmes izmaksas | O6: =P16 -> 0 | P6: euro
A7: Pasūtījuma Nr.
P9: Tāme sastādīta _____. gada ___. ___________
A10: Nr.p.k. | B10: Kods | C10: Darba nosaukums | D10: Mērvienība | E10: Daudzums | F10: Vienības izmaksas | L10: Kopā uz visu apjomu
F11: laika norma (c/h) | G11: darba samaksas likme (euro/h) | H11: darba alga (euro) | I11: materiāli (euro) | J11: mehānismi (euro) | K11: kopā (euro) | L11: darbietilpība (c/h) | M11: darba alga (euro) | N11: materiāli (euro) | O11: mehānismi (euro) | P11: summa (euro)
A12: 1 | B12: 2 | C12: 3 | D12: 4 | E12: 5 | F12: 6 | G12: 7 | H12: =G12+1 -> 8 | I12: 9 | J12: 10 | K12: =J12+1 -> 11 | L12: =K12+1 -> 12 | M12: =L12+1 -> 13 | N12: =M12+1 -> 14 | O12: =N12+1 -> 15 | P12: =O12+1 -> 16
C13: Žogi
A14: 1 | B14: Lc | C14: Žogs ap multifunkcionālu laukumu: žoga sieta paneļi un stabi (augstums 5,0, krāsa: zaļa) | D14: m | E14: 102.5
A15: 2 | B15: Lc | C15: WA sertificēts Diska/vesera mešanas aizsargtīkls (tipu precizēt autoruzraudzības kārtībā) h=7,0m | D15: m | E15: 53.2
K16: Tiešās izmaksas kopā, t. sk. darba devēja sociālais nodoklis (23,59%) | L16: =SUM(L$13:L15) -> 0 | M16: =SUM(M$13:M15) -> 0 | N16: =SUM(N$13:N15) -> 0 | O16: =SUM(O$13:O15) -> 0 | P16: =SUM(P$13:P15) -> 0
B18: Sastādīja
C19: (paraksts un tā atšifrējums, datums)
B20: Sertifikāta Nr.
B21: Pārbaudīja
C22: (paraksts un tā atšifrējums, datums)
B23: Sertifikāta Nr.

Sheet VII_4
G1: Lokālā tāme Nr. | H1: =[11]Kopsavilkums!B20 -> VII-4
G2: Stadions
A4: Objekta nosaukums: Ķekavas novada sporta stadiona izbūve
A5: Būves nosaukums: Ķekavas novada sporta stadions
A6: Objekta adrese: Brīvības iela 5, Ķekava, Ķekavas pagasts, Ķekavas novads, LV-2123 | M6: Tāmes izmaksas | O6: =P114 -> 0 | P6: euro
A7: Pasūtījuma Nr.
P9: Tāme sastādīta _____. gada ___. ___________
A10: Nr.p.k. | B10: Kods | C10: Darba nosaukums | D10: Mērvienība | E10: Daudzums | F10: Vienības izmaksas | L10: Kopā uz visu apjomu
F11: laika norma (c/h) | G11: darba samaksas likme (euro/h) | H11: darba alga (euro) | I11: materiāli (euro) | J11: mehānismi (euro) | K11: kopā (euro) | L11: darbietilpība (c/h) | M11: darba alga (euro) | N11: materiāli (euro) | O11: mehānismi (euro) | P11: summa (euro)
A12: 1 | B12: 2 | C12: 3 | D12: 4 | E12: 5 | F12: 6 | G12: 7 | H12: 8 | I12: 9 | J12: 10 | K12: =J12+1 -> 11 | L12: =K12+1 -> 12 | M12: =L12+1 -> 13 | N12: =M12+1 -> 14 | O12: =N12+1 -> 15 | P12: =O12+1 -> 16
C13: Mākslīgais zāliens
A14: =COUNT(A$13:A13,">0")+1 -> 1 | B14: Lc | C14: Blietēta esošā grunts | D14: m2 | E14: 7897
A15: =COUNT(A$13:A14,">0")+1 -> 2 | B15: Lc | C15: Salnoturīgais slānis no vidēji rupjas smilts uzbēruma 450mm | D15: m2 | E15: 7897
A16: =COUNT(A$13:A15,">0")+1 -> 3 | B16: Lc | C16: Ģeokompozīts Combigrd 30/30 vai analogs | D16: m2 | E16: 7897
A17: =COUNT(A$13:A16,">0")+1 -> 4 | B17: Lc | C17: Blietētas šķembas (0-45mm) 200mm | D17: m2 | E17: 7897
A18: =COUNT(A$13:A17,">0")+1 -> 5 | B18: Lc | C18: Šķembu izsiju izlīdzinošā kārta (0-5 mm) 50mm | D18: m2 | E18: 7897
A19: =COUNT(A$13:A18,">0")+1 -> 6 | B19: Lc | C19: Termiski savienots poliolefīns (PP tipa elastīgais slānis) ar perforācijas atverēm drenāžas nodrošināšanai, neabsorbē ūdeni, materiāla biezums 20 mm | D19: m2 | E19: 7897
A20: =COUNT(A$13:A19,">0")+1 -> 7 | B20: Lc | C20: Mākslīgais zāliens Saltex Polar 40PP vai analogs ieklāšana 40 mm | D20: m2 | E20: 7897
C21: Skrejceļa sintētiskais segums
A22: =COUNT(A$13:A21,">0")+1 -> 8 | B22: Lc | C22: Blietēta esošā grunts | D22: m2 | E22: 3955
A23: =COUNT(A$13:A22,">0")+1 -> 9 | B23: Lc | C23: Salnoturīgais slānis no vidēji rupjas smilts uzbēruma 450mm | D23: m2 | E23: 3955
A24: =COUNT(A$13:A23,">0")+1 -> 10 | B24: Lc | C24: Ģeokompozīts Combigrd 30/30 vai analogs | D24: m2 | E24: 3955
A25: =COUNT(A$13:A24,">0")+1 -> 11 | B25: Lc | C25: Blietētas šķembas (0-45mm) 200mm | D25: m2 | E25: 3955
A26: =COUNT(A$13:A25,">0")+1 -> 12 | B26: Lc | C26: Asfalts AC8 surf (apakškārta) 40mm | D26: m2 | E26: 3955
A27: =COUNT(A$13:A26,">0")+1 -> 13 | B27: Lc | C27: Asfalts AC8 surf (virskārta) 40mm | D27: m2 | E27: 3955
A28: =COUNT(A$13:A27,">0")+1 -> 14 | B28: Lc | C28: Ūdens necaurlaidīgs sintētiskais segums uz ūdens necaurlaidīgas pamatnes "Herculan SR Sprint" vai analogs (sastāv no gumijas amortizējošā slāņa 12mm poru aizpildītāja un pašizlīdzinoša poliuretāna un EPDM gumijas granulu 1-3,5 maisījuma 2mm biezumā) 14 mm | D28: m2 | E28: 3955
C29: Sintētiskais segums
A30: =COUNT(A$13:A29,">0")+1 -> 15 | B30: Lc | C30: Blietēta esošā grunts | D30: m2 | E30: 2811
A31: =COUNT(A$13:A30,">0")+1 -> 16 | B31: Lc | C31: Salnoturīgais slānis no vidēji rupjas smilts uzbēruma 450mm | D31: m2 | E31: 2811
A32: =COUNT(A$13:A31,">0")+1 -> 17 | B32: Lc | C32: Ģeokompozīts Combigrd 30/30 vai analogs | D32: m2 | E32: 2811
A33: =COUNT(A$13:A32,">0")+1 -> 18 | B33: Lc | C33: Blietētas šķembas (0-45mm) 200mm | D33: m2 | E33: 2811
A34: =COUNT(A$13:A33,">0")+1 -> 19 | B34: Lc | C34: Asfalts AC8 surf (apakškārta) 40mm | D34: m2 | E34: 2811
A35: =COUNT(A$13:A34,">0")+1 -> 20 | B35: Lc | C35: Asfalts AC8 surf (virskārta) 40mm | D35: m2 | E35: 2811
A36: =COUNT(A$13:A35,">0")+1 -> 21 | B36: Lc | C36: Ūdens necaurlaidīgs sintētiskais segums uz ūdens necaurlaidīgas pamatnes "Herculan SR Sprint" vai analogs (sastāv no gumijas amortizējošā slāņa 12mm poru aizpildītāja un pašizlīdzinoša poliuretāna un EPDM gumijas granulu 1-3,5 maisījuma 2mm biezumā) 14 mm | D36: m2 | E36: 2811
C37: Sintētiskais segums
A38: =COUNT(A$13:A37,">0")+1 -> 22 | B38: Lc | C38: Blietēta esošā grunts | D38: m2 | E38: 604
A39: =COUNT(A$13:A38,">0")+1 -> 23 | B39: Lc | C39: Salnoturīgais slānis no vidēji rupjas smilts uzbēruma 450mm | D39: m2 | E39: 604
A40: =COUNT(A$13:A39,">0")+1 -> 24 | B40: Lc | C40: Ģeokompozīts Combigrd 30/30 vai analogs | D40: m2 | E40: 604
A41: =COUNT(A$13:A40,">0")+1 -> 25 | B41: Lc | C41: Blietētas šķembas (0-45mm) 200mm | D41: m2 | E41: 604
A42: =COUNT(A$13:A41,">0")+1 -> 26 | B42: Lc | C42: Asfalts AC8 surf (apakškārta) 40mm | D42: m2 | E42: 604
A43: =COUNT(A$13:A42,">0")+1 -> 27 | B43: Lc | C43: Asfalts AC8 surf (virskārta) 40mm | D43: m2 | E43: 604
A44: =COUNT(A$13:A43,">0")+1 -> 28 | B44: Lc | C44: Ūdens necaurlaidīgs sintētiskais segums uz ūdens necaurlaidīgas pamatnes "Herculan RC Court S10C" vai analogs 10 mm | D44: m2 | E44: 604
C45: Grants segums lodes grūšanas sektoros
A46: =COUNT(A$13:A45,">0")+1 -> 29 | B46: Lc | C46: Blietēta esošā grunts | D46: m2 | E46: 415
A47: =COUNT(A$13:A46,">0")+1 -> 30 | B47: Lc | C47: Salnoturīgais slānis no vidēji rupjas smilts uzbēruma 300mm | D47: m2 | E47: 415
A48: =COUNT(A$13:A47,">0")+1 -> 31 | B48: Lc | C48: Ģeokompozīts Combigrd 30/30 vai analogs | D48: m2 | E48: 415
A49: =COUNT(A$13:A48,">0")+1 -> 32 | B49: Lc | C49: Blietētas šķembas (0-45mm) 150mm | D49: m2 | E49: 415
A50: =COUNT(A$13:A49,">0")+1 -> 33 | B50: Lc | C50: Blietēta grants 100mm | D50: m2 | E50: 415
C51: Tāllēkšanas sektori- 8x2,75m TS-6 (2 gb.)
A52: 34 | B52: Lc | C52: Skalotas upes smiltis, smilts-grants maisījuma slānis (kf>1m/dienn.) - min. 300mm | D52: m2 | E52: 44
A53: 35 | B53: Lc | C53: Smilšu uztvērēji ar metāla režģi un perforēto gumijas pārklājumu Aco Sport 7100 vai analogs (izmēri: 1000x500x173mm un 500x500x173mm) uz betona C30/37 un šķembu pamatnes h=10cm montāža | D53: m | E53: 42.18
A54: 36 | B54: Lc | C54: Tāllēkšanas dēļa komplekts (1220x300x100) tipu precizēt autoruzraudzības kārtībā | D54: gb. | E54: 2
A55: 37 | B55: Lc | C55: Ūdens necaurlaidīgs sintētiskais segums uz ūdens necaurlaidīgas pamatnes "Herculan SR Sprint" vai analogs 20 mm | D55: m2 | E55: 31.72
C56: Lodes grūšanas sektora aplis TS-7 | D56: gb. | E56: 2
A57: 38 | B57: Lc | C57: Blietēta esošā grunts | D57: m2 | E57: 8.4
A58: 39 | B58: Lc | C58: Blietētas dolomīta šķembas b=300mm | D58: m3 | E58: 3.4
A59: 40 | B59: Lc | C59: Stiegrošana | D59: t | E59: 0.098
C60: stiegras Ø6 B500B | D60: t | E60: 0.0276
C61: stiegras Ø12 B500B | D61: t | E61: 0.0851
C62: palīgmateriāli (distanceri, sienamās stieples u.c.) | D62: kpl. | E62: 1
A63: 41 | B63: Lc | C63: Betonēšana b=710-100mm (betons C35/45, XC4 XF3; ieskaitot veidņu montāžu/nomu/demontāžu) | D63: m3 | E63: 1.1
A64: 42 | B64: Lc | C64: Iebetonējams lodes grūšanas aplis (cinkots tērauda) "Rantzows Sport" vai analogs | D64: gb. | E64: 2
A65: 43 | B65: Lc | C65: Stop dēlis 300/112x1210mm R=1067mm (pēdas dēlis lodes grūšanas aplim) "Rantzows Sport" vai analogs | D65: gb. | E65: 2
C66: Kārtslēkšanas sektors TS-8; DZK-81
A67: 44 | B67: Lc | C67: Blietēta esošā grunts | D67: m2 | E67: 2.04
A68: 45 | B68: Lc | C68: Blietētas dolomīta šķembas b=300mm | D68: m3 | E68: 0.7
A69: 46 | B69: Lc | C69: Stiegrošana | D69: t | E69: 0.024
C70: stiegras Ø12 B500B | D70: t | E70: 0.0276
C71: palīgmateriāli (distanceri, sienamās stieples u.c.) | D71: kpl. | E71: 1
A72: 47 | B72: Lc | C72: Betonēšana (betons C35/45, XC4 XF3; ieskaitot veidņu montāžu/nomu/demontāžu) | D72: m3 | E72: 0.5
A73: 48 | B73: Lc | C73: Ūdens necaurlaidīgs sintētiskais segums uz ūdens necaurlaidīgas pamatnes "Herculan SR Sprint" vai analogs 20 mm | D73: m2 | E73: 9.76
A74: 49 | B74: Lc | C74: Atspēriena dēlītis (uz betonētas virsmas 1500mm) | D74: gb. | E74: 1
A75: 50 | B75: Lc | C75: Piezemēšanas matracis (Hmin.=800mm) ar platrformu | D75: m2 | E75: 36
A76: 51 | B76: Lc | C76: Kārtslēkšanas statņa stiprinājuma vietu izveidošana (tipu precizēt autoruzraudzības kārtībā) | D76: gb. | E76: 2
A77: 52 | B77: Lc | C77: Noņemamas konstrukcijas vāku izgatavošana (izvietojams virs kārts atspēriena bedres; veids un izvietojums precizējams pie ražotājā; vāka virsmas segums un tonis - analogs sektora segumam "Herculan SR Sprint") | D77: gb. | E77: 1
C78: Augstlēkšanas sektors TS-9
A79: 53 | B79: Lc | C79: Augstlēkšanas latiņa | D79: gb. | E79: 1
A80: 54 | B80: Lc | C80: Piezemēšanas matracis ar platformu | D80: m2 | E80: 24
A81: 55 | B81: Lc | C81: Ūdens necaurlaidīgs sintētiskais segums uz ūdens necaurlaidīgas pamatnes "Herculan SR Sprint" vai analogs 20 mm | D81: m2 | E81: 18
C82: Vesera, diska mešanas sektors TS-11, DZK-78
A83: 58 | B83: Lc | C83: Blietēta esošā grunts | D83: m2 | E83: 4.9
A84: 59 | B84: Lc | C84: Blietētas dolomīta šķembas b=300mm | D84: m3 | E84: 1.8
A85: 60 | B85: Lc | C85: Stiegrošana | D85: t | E85: 0.063
C86: stiegras Ø6 B500B | D86: t | E86: 0.01725
C87: stiegras Ø12 B500B | D87: t | E87: 0.0552
C88: palīgmateriāli (distanceri, sienamās stieples u.c.) | D88: kpl. | E88: 1
A89: 61 | B89: Lc | C89: Betonēšana b=710-100mm (betons C35/45, XC4 XF3; ieskaitot veidņu montāžu/nomu/demontāžu) | D89: m3 | E89: 0.75
A90: 62 | B90: Lc | C90: Iebetonējams vesera mešanas sektora aplis (cinkots tērauda) "Rantzows Sport" vai analogs | D90: gb. | E90: 1
C91: Šķērsļu skrējiena sektors (ūdens baseins) TS-12, DZK-79
A92: 63 | B92: Lc | C92: Blietēta esošā grunts | D92: m2 | E92: 17.64
A93: 64 | B93: Lc | C93: Blietētas dolomīta šķembas b=300mm | D93: m3 | E93: 6.2
A94: 65 | B94: Lc | C94: Stiegrošana | D94: t | E94: 0.626
C95: stiegras Ø6 B500B | D95: t | E95: 0.0184
C96: stiegras Ø12 B500B | D96: t | E96: 0.7015
C97: palīgmateriāli (distanceri, sienamās stieples u.c.) | D97: kpl. | E97: 1
A98: 66 | B98: Lc | C98: Betonēšana (betons C35/45, XC4 XF3; ieskaitot veidņu montāžu/nomu/demontāžu) | D98: m3 | E98: 5.6
A99: 67 | B99: Lc | C99: Hidroizolācija | D99: m2 | E99: 4.62
A100: 68 | B100: Lc | C100: Baseina sienu un grīdu apdare ar gumijas segumu b=25mm | D100: m2 | E100: 22
A101: 69 | B101: Lc | C101: Baseina aizbēršana ar pievesto smilti un blietēšana | D101: m3 | E101: 4
C102: Betona bortakmens
...

Sheet VII_5
G1: Lokālā tāme Nr. | H1: =[11]Kopsavilkums!B22 -> VII-5
G2: Aprīkojums - stadions
A4: Objekta nosaukums: Ķekavas novada sporta stadiona izbūve
A5: Būves nosaukums: Ķekavas novada sporta stadions
A6: Objekta adrese: Brīvības iela 5, Ķekava, Ķekavas pagasts, Ķekavas novads, LV-2123 | M6: Tāmes izmaksas | O6: =P20 -> 0 | P6: euro
A7: Pasūtījuma Nr.
P9: Tāme sastādīta _____. gada ___. ___________
A10: Nr.p.k. | B10: Kods | C10: Darba nosaukums | D10: Mērvienība | E10: Daudzums | F10: Vienības izmaksas | L10: Kopā uz visu apjomu
F11: laika norma (c/h) | G11: darba samaksas likme (euro/h) | H11: darba alga (euro) | I11: materiāli (euro) | J11: mehānismi (euro) | K11: kopā (euro) | L11: darbietilpība (c/h) | M11: darba alga (euro) | N11: materiāli (euro) | O11: mehānismi (euro) | P11: summa (euro)
A12: 1 | B12: 2 | C12: 3 | D12: 4 | E12: 5 | F12: 6 | G12: 7 | H12: =G12+1 -> 8 | I12: 9 | J12: 10 | K12: =J12+1 -> 11 | L12: =K12+1 -> 12 | M12: =L12+1 -> 13 | N12: =M12+1 -> 14 | O12: =N12+1 -> 15 | P12: =O12+1 -> 16
C13: Futbola-regbija laukums | K13: =ROUND(SUM(H13:J13),2) -> 0 | L13: =ROUND(E13*F13,2) -> 0 | M13: =ROUND(E13*H13,2) -> 0 | N13: =ROUND(E13*I13,2) -> 0 | O13: =ROUND(E13*J13,2) -> 0 | P13: =ROUND(SUM(M13:O13),2) -> 0
A14: 1 | B14: Lc | C14: Portatīvie regbija vārti komplektā ar ligzdām un polsteriem | D14: kpl. | E14: 2
A15: 2 | B15: Lc | C15: Pārvietojamie futbola vārti 7,32 x 2,44m | D15: kpl. | E15: 2
C16: Basketbola laukums
A17: 3 | B17: Lc | C17: Laminēta vai rūdīta stikla; vai - Caurspīdīga akrila vai polikarbonāta vairogu. Aprīkojumam jāatbilst FIBA 2.līmeņa sacensību līmenim, kas piemērots ekspluatācijai āra apstākļos publiskā sporta infrastruktūrā | D17: gb. | E17: 2
C18: Volejbola laukums
A19: 4 | B19: Lc | C19: Volejbola laukuma aprīkojums ar polsterētiem stabiem | D19: kpl. | E19: 2
K20: Tiešās izmaksas kopā, t. sk. darba devēja sociālais nodoklis (23,59%) | L20: =SUM(L$13:L19) -> 0 | M20: =SUM(M$13:M19) -> 0 | N20: =SUM(N$13:N19) -> 0 | O20: =SUM(O$13:O19) -> 0 | P20: =SUM(P$13:P19) -> 0
B22: Sastādīja
C23: (paraksts un tā atšifrējums, datums)
B24: Sertifikāta Nr.
B25: Pārbaudīja
C26: (paraksts un tā atšifrējums, datums)
B27: Sertifikāta Nr.
