Workbook
Name Dienas: #REF!
Name higiēnas: #REF!
Name Laiks: #REF!

Sheet Finanšu piedāvājums
A1: Objektu ikdienas telpu uzkopšana (Kritērijs K1)
A2: NPK | B2: OBJEKTS | C2: OBJEKTA KATEGORIJA | D2: TELPU KOPĒJĀ PLATĪBA | E2: KADASTRA NR. | F2: Objektā nodarbināto kopējās stundas | G2: Darbinieku izmaksas stundā Bruto* | H2: VSAOI (darba devēja daļa, riska nodeva, atvaļinājuma, slimības naudas uzkrājums) | I2: DARBINIEKU IZMAKSAS (t.sk. nodokļi) | J2: AR DARBU IZPILDI SAISTĪTĀS IZMAKSAS (materiāli, inventārs, tīr.līdzekļi, hig.preces, tehnika u.c.) | K2: CITAS (administratīvās, kvalitātes kontroles, neparedz. izdevumi, zaudējumi, degvielas pieaugums utml.) | L2: CENA PAR PAKALPOJUMU mēnesī | M2: CENA m²
A3: Nr. | B3: ADRESE | C3: (A,B,C) | D3: (m2) | F3: (h/mēnesī **) | G3: EUR/h (bez PVN) | H3: EUR/mēn | I3: EUR/mēn (bez PVN) | J3: EUR/mēn (bez PVN) | K3: EUR/mēn (bez PVN) | L3: EUR/mēn (bez PVN) | M3: EUR/m² (bez PVN)
A4: 1 | B4: Aspazijas bulvāris 7, Rīga | C4: A | D4: ='Uzkopšanas prasības'!E4 -> 5069.8 | E4: 01000050090 | I4: =(F4*G4)+H4 -> 0 | L4: =I4+J4+K4 -> 0 | M4: =L4/D4 -> 0
A5: 2 | B5: Baznīcas iela 25, Rīga | C5: B | D5: ='Uzkopšanas prasības'!E5 -> 1144.9 | E5: 01000200074 | I5: =(F5*G5)+H5 -> 0 | L5: =I5+J5+K5 -> 0 | M5: =L5/D5 -> 0
A6: 3 | B6: Brīvības bulvāris 32, Rīga | C6: B | D6: ='Uzkopšanas prasības'!E6 -> 88.6 | E6: 01000050051 | I6: =(F6*G6)+H6 -> 0 | L6: =I6+J6+K6 -> 0 | M6: =L6/D6 -> 0
A7: 4 | B7: Brīvības bulvāris 32, Rīga | C7: A | D7: ='Uzkopšanas prasības'!E7 -> 238.1 | E7: 01000050051 | I7: =(F7*G7)+H7 -> 0 | L7: =I7+J7+K7 -> 0 | M7: =L7/D7 -> 0
A8: 5 | B8: Brīvības iela 61, Rīga | C8: B | D8: ='Uzkopšanas prasības'!E8 -> 690 | E8: 01000200031 | I8: =(F8*G8)+H8 -> 0 | L8: =I8+J8+K8 -> 0 | M8: =L8/D8 -> 0
A9: 6 | B9: Brīvības iela 72 k 1, Rīga | C9: A | D9: ='Uzkopšanas prasības'!E9 -> 2359.2 | E9: 01000220020 | I9: =(F9*G9)+H9 -> 0 | L9: =I9+J9+K9 -> 0 | M9: =L9/D9 -> 0
A10: 7 | B10: Citadeles iela 6A | C10: A | D10: ='Uzkopšanas prasības'!E10 -> 720.6 | E10: 01000100150 | I10: =(F10*G10)+H10 -> 0 | L10: =I10+J10+K10 -> 0 | M10: =L10/D10 -> 0
A11: 8 | B11: Čiekurkalna 1.līnija 1 k1,k2,k3,k4,k5,k6,k8, Rīga | C11: A | D11: ='Uzkopšanas prasības'!E11 -> 32060.62 | E11: 01000870368 | I11: =(F11*G11)+H11 -> 0 | L11: =I11+J11+K11 -> 0 | M11: =L11/D11 -> 0
A12: 9 | B12: Doma laukums 6, Rīga | C12: A | D12: ='Uzkopšanas prasības'!E12 -> 5364.9 | E12: 01000080034 | I12: =(F12*G12)+H12 -> 0 | L12: =I12+J12+K12 -> 0 | M12: =L12/D12 -> 0
A13: 10 | B13: Doma laukums 8A, Rīga | C13: A | D13: ='Uzkopšanas prasības'!E13 -> 952.4 | E13: 01000060026 | I13: =(F13*G13)+H13 -> 0 | L13: =I13+J13+K13 -> 0 | M13: =L13/D13 -> 0
A14: 11 | B14: Elizabetes iela 57, Rīga | C14: B | D14: ='Uzkopšanas prasības'!E14 -> 1119.3 | E14: 01000210035 | I14: =(F14*G14)+H14 -> 0 | L14: =I14+J14+K14 -> 0 | M14: =L14/D14 -> 0
A15: 12 | B15: Elizabetes iela 57, Rīga | C15: B | D15: ='Uzkopšanas prasības'!E15 -> 208 | E15: 01000210035 | I15: =(F15*G15)+H15 -> 0 | L15: =I15+J15+K15 -> 0 | M15: =L15/D15 -> 0
... A46: 43 | B46: Zigfrīda Annas Meierovica bulvāris 14, Rīga | C46: A | D46: ='Uzkopšanas prasības'!E46 -> 3051.9 | E46: 01000090030 | I46: =(F46*G46)+H46 -> 0 | L46: =I46+J46+K46 -> 0 | M46: =L46/D46 -> 0
A47: KOPĒJĀ PLATĪBA m²: | D47: =SUM(D4:D46) -> 94583.12 | E47: KOPĒJĀ IKDIENAS TELPU UZKOPŠANAS PAKALPOJUMU VĒRTĒJAMĀ CENA (EUR bez PVN) par telpu uzkopšanu (Kritērijs K1.1.) : | L47: =SUM(L4:L46) -> 0
A48: * - | B48: Bruto darba samaksa ir visu Darba likumā ietverto darba samaksas elementu kopums: darbiniekam regulāri izmaksājamā atlīdzība par darbu, kura ietver darba algu un normatīvajos aktos, darba koplīgumā vai darba līgumā noteiktās piemaksas, kā arī prēmijas un jebkuru cita veida atlīdzību saistībā ar darbu uz darba līguma pamata, pirms darba ņēmēja VSAOI daļas un IIN ieturējumiem. Neto darba samaksa - samaksa, kas tiek aprēķināta, no bruto darba samaksas atņemot valsts sociālās apdrošināšanas obligātās iemaksas, ko maksā strādājošie, un iedzīvotāju ienākuma nodokli.
A49: **- | B49: vidējais dienu skaits mēnesī 30 (trīsdesmit)
A51: NPK | B51: PAPILDUS PAKALPOJUMI * (Kritērijs K1.2.) | C51: MĒRVIENĪBA (gab, m2, h, vienība) | D51: PROVIZORISKAIS APJOMS gadā | E51: CENA PAR MĒRVIENĪBU (EUR bez PVN) | F51: CENA KOPĀ PAR PROVIZORISKO APJOMU (EUR bez PVN)
A52: 1 | B52: GRĪDAS SEGUMU UZKOPŠANA
A53: 1.1 | B53: Mīkstā seguma ķīmiskā tīrīšana | C53: m2 | D53: 10000 | F53: =D53*E53 -> 0
A54: 1.2. | B54: Linoleja vaskošana(vecā vaska noņemšana, tīrīšana un vaskošana 2 kārtās) | C54: m2 | D54: 2000 | F54: =D54*E54 -> 0
A55: 1.3. | B55: Linoleja ķīmiskā pulēšana | C55: m2 | D55: 2000 | F55: =D55*E55 -> 0
A56: 1.4. | B56: Linoleja sausā pulēšana | C56: m2 | D56: 2000 | F56: =D56*E56 -> 0
A57: 1.5. | B57: Parketa vaskošana(vecā vaska noņemšana, tīrīšana un vaskošana 2 kārtās) | C57: m2 | D57: 5700 | F57: =D57*E57 -> 0
A58: 1.6. | B58: Akmens seguma impregnēšana | C58: m2 | D58: 500 | F58: =D58*E58 -> 0
A59: 1.7. | B59: Mehanizēta cietā grīdas seguma mazgāšana | C59: m2 | D59: 7500 | F59: =D59*E59 -> 0
A60: 1.8. | B60: Flīžu un to šuvju tīrīšana | C60: m2 | D60: 800 | F60: =D60*E60 -> 0
A61: 1.9. | B61: Koka kāpņu (t.sk.margu) mazgāšana un eļļošana | C61: m2 | D61: 100 | F61: =D61*E61 -> 0
A62: 2 | B62: LOGU UN STIKLA VIRSMU MAZGĀŠANA (abpusēja)
A63: 2.1. | B63: Pakešu logu (t.sk.rāmju, iekšējo un ārējo palodžu) mazgāšana (BEZ pacēlāja)**** | C63: m2 | D63: 5000 | F63: =D63*E63 -> 0
A64: 2.2. | B64: Pakešu logu (t.sk.rāmju, iekšējo un ārējo palodžu) mazgāšana (AR pacēlāju)**** | C64: m2 | D64: 5000 | F64: =D64*E64 -> 0
A65: 2.3. | B65: Koka logu (t.sk.rāmju, iekšējo un ārējo palodžu) mazgāšana (BEZ pacēlāja)***** | C65: m2 | D65: 5000 | F65: =D65*E65 -> 0
A66: 2.4. | B66: Koka logu (t.sk.rāmju, iekšējo un ārējo palodžu) mazgāšana (AR pacēlāju)***** | C66: m2 | D66: 5000 | F66: =D66*E66 -> 0
A67: 2.5. | B67: Iekšējo žalūziju tīrīšana | C67: m2 | D67: 1000 | F67: =D67*E67 -> 0
A68: 2.6. | B68: Stikla starpsienu mazgāšana*** | C68: m2 | D68: 200 | F68: =D68*E68 -> 0
A69: 3 | B69: CITI TELPU UZKOPŠANAS DARBI
A70: 3.1. | B70: Durvju (t.sk.rokturu), kāpņu margu, sienu vienreizēja padziļināta mazgāšana vai dezinfekcija | C70: h | D70: 20 | F70: =D70*E70 -> 0
A71: 3.2. | B71: Mīksto mēbeļu (krēslu, dīvānu) ķīmiskā tīrīšana | C71: h | D71: 20 | F71: =D71*E71 -> 0
...

Sheet Uzkopšanas prasības
G1: SADALĪJUMS PA TELPU GRUPĀM | Q1: SADALĪJUMS PA SEGUMIEM | V1: UZKOPŠANA JĀVEIC | Z1: PAPILDPRASĪBAS
A2: NPK | B2: OBJEKTS | C2: OBJEKTA KATEGORIJA | D2: KADASTRA NR. | E2: TELPU KOPĒJĀ PLATĪBA (m²) | G2: Ārtelpa | H2: Biroju/darba telpas | I2: Koplietošanas telpas | J2: Sanitārās telpas | K2: Tehniskās telpas | L2: Virtuves, ēdamzāles, atpūtas telpas | M2: Zāles | N2: Ekspozīciju zāles | O2: Īslaicīgās aizturēšanas izolātors | Q2: Cietie grīdas segumi | R2: Dabīgā koka grīdas segums | S2: Mīkstais, paklājs | T2: Citi segumi* | V2: UZKOPŠANA JĀVEIC (cik dienas) | W2: UZKOPŠANA JĀVEIC (kurās dienās) | X2: UZKOPŠANAS LAIKS (no plkst.) | Z2: HIGIĒNAS PRECES (skat.pielikumu "Higiēnas preces") | AA2: DEŽŪRAPKOPĒJI | AB2: LIFTI ĒKĀ | AC2: ĪPAŠĀS PRASĪBAS (JĀŅEM VĒRĀ) | AD2: PĀRVALDNIEKS
A3: Nr. | B3: (Adrese) | C3: (A/B/C) | D3: Nr. | E3: (m²) | G3: (m²) | H3: (m²) | I3: (m²) | J3: (m²) | K3: (m²) | L3: (m²) | M3: (m²) | N3: (m²) | Q3: (m²) | R3: (m²) | S3: (m²) | T3: (m²) | V3: Skaits | W3: Kuras dienas | X3: Izvēlne | Z3: (jānodrošina) | AA3: (skaits) | AB3: (skaits) | AD3: Vārds Uzvārds
A4: 1 | B4: Aspazijas bulvāris 7 | C4: ='Finanšu piedāvājums'!C4 -> A | D4: 1000050090 | E4: =SUM(G4:O4) -> 5069.8 | H4: 2770.5 | I4: 1736.9 | J4: 160.4 | K4: 123 | L4: 77.9 | M4: 201.1 | Q4: 4703.5 | S4: 366.3 | V4: 5 darba dienas | W4: Pr, Ot, Tr, Ce, Pk | X4: no 17:30-8:00 | Z4: - | AA4: - | AB4: 3 | AC4: Pirms pakalpojuma sniegšanas uzsākšanas nepieciešams obligāti iepriekš saskaņot darbiniekus. Darbiniekiem jābūt LR pilsonībai kritiskās infrastruktūras objektā. Jānodrošina uzkopšana no 17:00-7:00. Mainoties apkopējai, pirms darbu uzsākšanas ir obligāti jāveic saskaņošana ar Lietotāju. Lifti nav jāuzkopj. Pagraba telpas nav jāuzkopj. | AD4: Gita Meiere
A5: 2 | B5: Baznīcas iela 25, Rīga | C5: ='Finanšu piedāvājums'!C5 -> B | D5: 01000200074 | E5: =SUM(G5:O5) -> 1144.9 | G5: 27.8 | H5: 745.5 | I5: 280 | J5: 48.8 | M5: 42.8 | Q5: =E5-R5-S5 -> 386.9 | R5: 745.5 | S5: 12.5 | T5: - | V5: 2 darba dienas | W5: Ot, Ce | X5: 17:00-19:00 | Z5: - | AA5: - | AB5: - | AD5: Agnese Sproģe
A6: 3 | B6: Brīvības bulvāris 32, Rīga | C6: ='Finanšu piedāvājums'!C6 -> B | D6: 1000050051 | E6: =SUM(G6:O6) -> 88.6 | G6: - | H6: - | I6: 86.8 | J6: 1.8 | K6: - | L6: - | M6: - | N6: - | Q6: =SUM(I6:J6) -> 88.6 | R6: - | S6: - | T6: - | V6: 5 darba dienas | W6: Pr, Ot, Tr, Ce, Pk | X6: 08:00-19:00 | Z6: jānodrošina | AA6: - | AB6: - | AC6: Kanalizācijas sistēma darbojas ar sūkni, tāpēc ne izlietnē, ne klozetpodā nedrīkst izmest/izliet smilšainu netīro ūdeni, kafijas biezumus, ēdiena atliekas. Netīrais ūdens jāizlej pagalmā. | AD6: Gita Meiere
A7: 4 | B7: Brīvības bulvāris 32, Rīga | C7: ='Finanšu piedāvājums'!C7 -> A | D7: 1000050051 | E7: =SUM(G7:O7) -> 238.1 | H7: 156.2 | I7: 52.2 | J7: 10.1 | L7: 19.6 | Q7: =E7-S7 -> 208.1 | S7: 30 | V7: 5 darba dienas 200 kvm 1 darba dienu 40kvm | W7: Pēc vienošanās | X7: Pēc 18:00 | Z7: jānodrošina | AA7: - | AB7: - | AD7: Gita Meiere
A8: 5 | B8: Brīvības iela 61, Rīga | C8: ='Finanšu piedāvājums'!C8 -> B | D8: 1000200031 | E8: =SUM(G8:O8) -> 690 | G8: - | H8: 252.1 | I8: 281.1 | J8: 36.7 | K8: 88.5 | L8: 31.6 | M8: - | N8: =-N54 -> 0 | Q8: - | R8: - | S8: 30 | T8: =E8-S8 -> 660 | V8: 5 darba dienas | W8: Pr, Ot, Tr, Ce, Pk | X8: 06:00-08:00 | Z8: - | AA8: - | AB8: - | AC8: Pirms piedāvājuma iesniegšanas Objektu jāapseko dabā. Objektam ir specifikas uzkopšanas prasības saistībā ar nepieciešamību saglabāt telpu vēsturisko stāvokli | AD8: Sanda Kovaļova
A9: 6 | B9: Brīvības iela 72 k-1, Rīga | C9: ='Finanšu piedāvājums'!C9 -> A | D9: 1000220020 | E9: =SUM(G9:O9) -> 2359.2 | G9: - | H9: 1694 | I9: 562.8 | J9: 97 | K9: - | L9: 5.4 | M9: - | N9: - | Q9: =E9 -> 2359.2 | R9: - | S9: - | T9: - | V9: 2 darba dienas 1707,2 5 darba dienas 652,0 kvm | W9: Ot, Pk Pr, Ot, Tr, Ce, Pk | X9: 17:00-08:00 Pēc 20:00 | Z9: jānodrošina | AA9: 1 | AB9: 1 | AC9: Dežūrapkopēja Ziemas periodā līdz 30.04. | AD9: Rebeka Gailīte
A10: 7 | B10: Citadeles iela 6A | C10: ='Finanšu piedāvājums'!C10 -> A | D10: 01000100150 | E10: =SUM(G10:O10) -> 720.6 | G10: 2.8 | H10: 652.1 | J10: 19.2 | K10: 21.9 | L10: 24.6 | Q10: 138.7 | S10: 581.9 | V10: 5 darba dienas koplietošanas telpu uzkopšana, 3 darba dienas biroju uzkopšana | W10: Pr, Ot, Tr, Ce, Pk Pr,Tr,Pk | Z10: - | AA10: - | AB10: - | AD10: Sanda Kovaļova
A11: 8 | B11: Čiekurkalna 1.līnija 1 k1,k2,k3,k4,k5,k6,k8, Rīga | C11: ='Finanšu piedāvājums'!C11 -> A | D11: 0100-087-0368-001; 0100-087-0368-002; 0100-087-0368-003; 0100-087-0368-004; 0100-087-0368-005; 0100-087-0368-006; 0100-087-0368-008. | E11: =SUM(G11:O11) -> 32060.62 | G11: 63 | H11: 16756.04 | I11: 9345.13 | J11: 604.9 | K11: 3682.5 | L11: 494.05 | M11: 594 | N11: - | O11: 521 | Q11: =E11-S11 -> 21710.03 | R11: - | S11: 10350.59 | V11: 5 darba dienas 28844, 04 kvm 1 reizi mēnesī 2012,1 kvm | W11: Pr, Ot, Tr, Ce, Pk, Se | Z11: jānodrošina | AA11: 3 | AB11: 12 | AC11: Pirms piedāvājuma iesniegšanas Objektu jāapseko dabā. Ņemot vērā objekta lietotāja izvirzītās prasības, saskaņā ar normatīvajiem aktiem var tikt veiktas līguma izpildē iesaistītā izpildītāja īpašnieku, valdes locekļu un objektā nodarbināmo darbinieku pārbaudes., nepieciešams saskaņot darbinieku sarakstu Valsts drošības dienestā. Darbiniekiem jābūt LR pilsonībai kritiskās infrastruktūras objektā. Īslaicīgā aizturēšanas kameru telpas uzkopšana veicama sešas dienas nedēļā (vai brīvdienās, kas 2023. gadā ir 9. aprīlis, 1. maijs, 6. maijs, 25. jūnijā, 10. jūlijā, 20. novembris, 25. decembris). Dežūrapkopējas nepieciešamas darba dienās no 8:00-16:00. | AD11: Valentīns Tolis
A12: 9 | B12: Doma laukums 6, Rīga | C12: ='Finanšu piedāvājums'!C12 -> A | D12: 1000080034 | E12: =SUM(G12:O12) -> 5364.9 | G12: 112.2 | H12: 431.7 | I12: 2269.6 | J12: 35.6 | K12: 849.9 | L12: 273.2 | N12: 1392.7 | Q12: 1888.4 | R12: 2031.1 | S12: 92.31 | T12: =E12-S12-R12-Q12 -> 1353.09 | V12: 7 dienas (3387 kvm no tiem 35,80 ārtelpas, 1772,90 koplietošanas telpas, 185,60 kvm sanitārās telpas, 478,90 zāles telpas, 913,80 kvm ekspozīcijas telpas) 5 darba dienas ( 846,60kvm no tiem 509,50 kvm biroja telpas, 312,10 kvm virtuves, 25 kvm sanitārās telpas) 1x mēn (1109,40 kvm tehniskās telpas) | W12: Pr, Ot, Tr, Ce, Pk, Se, Sv Pr, Ot, Tr, Ce, Pk | X12: 06:00-09:00 | Z12: jānodrošina | AA12: 1 | AB12: 3 | AC12: Pirms piedāvājuma iesniegšanas Objektu jāapseko dabā. Dežūrapkopēja muzeja darba laikā, no 10:00-18:00, pirmdienas brīvas. Uzkopjot telpas jāievēro Mākslas muzeja izstrādātās instrukcijas, lai netiktu bojātas ekspozīcijas un unikāli priekšmeti. Jāievēro restauratoru izsniegtās instrukcijas dažādu materiālu kopšanā. Instrukcijas tiks izsniegtas uzsākot objekta uzkopšanu. Vaskošanai un ikdienā materiālu kopšanai izmantojami tikai instrukcijās minētie tīrīšanas līdzekļi, vaski un metodes. Dolomīta flīžu grīdas segums - 614.50 kvm Granīta grīdas segums - 504.90 kvm Kapara grīdas segums - 9.80 kvm Marmora grīdas segums - 3.8 kvm Smilšakmens - 28 kvm | AD12: Kristiāna Kupče
A13: 10 | B13: Doma laukums 8A, Rīga | C13: ='Finanšu piedāvājums'!C13 -> A | D13: 1000060026 | E13: =SUM(G13:O13) -> 952.4 | G13: 7.4 | H13: 474.2 | I13: 417.5 | J13: 13.2 | K13: 35.7 | L13: 4.4 | M13: - | N13: - | Q13: =E13-R13-S13 -> 635.3 | R13: 5.2 | S13: 311.9 | T13: - | V13: 3 darba dienas | W13: Pr, Tr., PK | X13: 06:00-08:00 | Z13: - | AA13: - | AB13: 1 | AC13: - | AD13: Oskars Kaļvāns
A14: 11 | B14: Elizabetes iela 57, Rīga | C14: ='Finanšu piedāvājums'!C14 -> B | D14: 1000210035 | E14: =SUM(G14:O14) -> 1119.3 | G14: - | H14: 664 | I14: 160 | J14: 45 | K14: 101.5 | L14: - | M14: 148.8 | N14: - | Q14: 854.2 | R14: 265.1 | S14: - | T14: - | V14: 5 darba dienas koplietošanas un sanitārās telpas (623,30 kvm); 3 darba dienas biroja telpas ( 774,20 kvm), zāles. 1 x mēnesī tehniskās telpas | W14: Pr, Ot, Tr, Ce, Pk, Se, Sv Pr, Tr, Pk | X14: 09:00-17:00 (ĀM biroju telpas un koplietošanas telpas) 17:00-22:00 (koplietošanas telpas 230,1 kvm) | Z14: jānodrošina | AA14: - | AB14: - | AC14: - | AD14: Inita Pilāte
A15: 12 | B15: Elizabetes iela 57, Rīga | C15: ='Finanšu piedāvājums'!C15 -> B | D15: 1000210035 | E15: =SUM(G15:O15) -> 208 | G15: - | H15: - | I15: 208 | J15: - | K15: - | L15: - | M15: - | Q15: 208 | V15: Koplietošanas telpas/kāpņu telpas. Uzkopšana 1 x nedēļā. | W15: pēc vienošanās | AD15: Inita Pilāte
A16: 13 | B16: Elizabetes iela 57A-34, Rīga | C16: ='Finanšu piedāvājums'!C16 -> B | D16: 1000210035 | E16: =SUM(G16:O16) -> 48.4 | G16: - | H16: 41 | I16: 4.8 | J16: 2.6 | K16: - | L16: - | M16: - | Q16: 48.4 | V16: Koplietošanas telpas/kāpņu telpas. Uzkopšana 3 x nedēļā. | W16: Pr, Tr, Pk | AD16: Inita Pilāte
A17: 14 | B17: Gaujas iela 15/17, Rīga | C17: ='Finanšu piedāvājums'!C17 -> A | D17: 0100-087-0149-010; 0100-087-0149-011; 0100-087-0149-043; 0100-087-0149-044; 0100-087-0149-050. | E17: =SUM(G17:O17) -> 13184.9 | G17: - | H17: 7414.2 | I17: 2938.4 | J17: 414.6 | K17: 1239.9 | L17: 99.3 | M17: 1078.5 | N17: - | Q17: =E17 -> 13184.9 | R17: - | S17: - | T17: - | V17: 5 darba dienas (12556,6 kvm, no tiem 7123,6 biroja telpas, 2938,4 koplietošanas telpas, 414,6 sanitārās telpas,893,2 tehniskās telpas, 99,3 virtuves telpas, 1078,50 zāles telpas) 1 reizi mēnesī (628,3 kvm - no tiem381,6 biroji, 346,7 tehniskās telpas ) | W17: Pr, Ot, Tr, Ce, Pk | X17: 06:30-16:30 | Z17: jānodrošina | AA17: 1 | AB17: 1 | AC17: Pirms piedāvājuma iesniegšanas Objektu jāapseko dabā. Pirms pakalpojuma sniegšanas uzsākšanas, nepieciešams saskaņot darbinieku sarakstu Valsts drošības dienestā. Darbiniekiem jābūt LR pilsonībai kritiskās infrastruktūras objektā. Ņemot vērā objekta lietotāja izvirzītās prasības, saskaņā ar normatīvajiem aktiem var tikt veiktas līguma izpildē iesaistītā izpildītāja īpašnieku, valdes locekļu un objektā nodarbināmo darbinieku pārbaudes. Dežūrapkopēja nepieciešamā darba dienās no 8:00-14:00. | AD17: Valentīns Tolis
A18: 15 | B18: Ierēdņu iela 3 | C18: ='Finanšu piedāvājums'!C18 -> A | D18: 01005250014 | E18: =SUM(G18:O18) -> 420.8 | H18: 30 | I18: 384.2 | J18: 6.6 | Q18: =E18 -> 420.8 | V18: 3 darba dienas | W18: Pr, Tr, Pk | Z18: - | AA18: - | AB18: - | AD18: Valentīns Tolis
A19: 16 | B19: Kaļķu iela 11A, Rīga | C19: ='Finanšu piedāvājums'!C19 -> C | D19: 1000060117 | E19: =SUM(G19:O19) -> 187.7 | G19: - | H19: - | I19: 148.1 | J19: 1.7 | K19: 37.9 | L19: - | M19: - | N19: - | Q19: 187.7 | R19: - | S19: - | T19: - | V19: 3 darba dienas | W19: Pr, Tr, Pk | X19: 17:00-09:00 | Z19: - | AA19: - | AB19: 1 | AC19: - | AD19: Rebeka Gailīte
A20: 17 | B20: Kr.Barona iela 99-k1, Rīga | C20: ='Finanšu piedāvājums'!C20 -> C | D20: 1000272014 | E20: =SUM(G20:O20) -> 245.9 | G20: - | H20: - | I20: 229.9 | J20: 16 | K20: - | L20: - | M20: - | N20: - | Q20: 245.9 | R20: - | S20: - | T20: - | V20: 5 darba dienas | W20: Pr, Or, Tr, Ce, Pk | X20: 17:00-20:00 | Z20: jānodrošina | AA20: - | AB20: - | AC20: - | AD20: Natālija Jaunzeme
A21: 18 | B21: Kr. Valdemāra iela 1A, Rīga | C21: ='Finanšu piedāvājums'!C21 -> A | D21: 1000102000 | E21: =SUM(G21:O21) -> 1565.9 | G21: - | H21: 1131.4 | I21: 368.6 | J21: 9.3 | K21: 46.1 | L21: 10.5 | M21: - | Q21: =E21 -> 1565.9 | V21: 5 darba dienas | W21: Pr, Ot, Tr, Ce, Pk | X21: 08:30-16:00 | Z21: jānodrošina | AA21: - | AB21: - | AC21: Pirms pakalpojuma sniegšanas uzsākšanas, nepieciešams saskaņot darbinieku sarakstu Valsts drošības dienestā.Darbiniekiem jābūt LR pilsonībai kritiskās infrastruktūras objektā. Ņemot vērā objekta lietotāja izvirzītās prasības, saskaņā ar normatīvajiem aktiem var tikt veiktas līguma izpildē iesaistītā izpildītāja īpašnieku, valdes locekļu un objektā nodarbināmo darbinieku pārbaudes. | AD21: Valentīns Tolis
A22: 19 | B22: Kr.Valdemāra iela 11A, Rīga | C22: ='Finanšu piedāvājums'!C22 -> A | D22: 1000100110 | E22: =SUM(G22:O22) -> 926.35 | G22: 10 | H22: =468.1+47.3 -> 515.4 | I22: =265+10.3+9.3 -> 284.6 | J22: =25.8+4.35 -> 30.15 | M22: 86.2 | N22: - | Q22: 430.9 | R22: =E22-S22-Q22 -> 480.25 | S22: 15.2 | T22: - | V22: 5 darba dienas | W22: Pr, Ot, Tr, Ce, Pk. Pēc pieprasījuma S, Sv no rīta | X22: pēc 17:00 | Z22: jānodrošina | AA22: - | AB22: - | AC22: Kultūras Ministrija, var būt prasības uzkopt nestandarta laikos un brīvdienu rītos pirms vizītēm. Grafiks uzkopšanai Ministrijas ēka: 1.stāvs un 2.stāvs - koplietošanas telpas 5x nedēļā katru d.d. vakaru; darba kabineti piektdienās; 3.stāvs - koplietošanas telpas 5x nedēļā katru d.d. vakaru; darba kabineti pirmdienās/otrdienās. 4.stāvs - WC, gaitenis 5x nedēļā katru d.d., IT Kabinets jebkurā laikā 1x nedēļā. Kabineta ieejas čips pie apsardzes. Garāžas ēka: koplietošana - WC garāžā,biroja daļas 1.st. WC, kāpņu telpa un gaitenis līdz birojam - 5x nedēļā katru dd. vakaru (čips pie apsardzes); Darba kabineti - trešdienās vai ceturtdienās. | AD22: Agnese Sproģe
A23: 20 | B23: Kr.Valdemāra iela 26, Rīga | C23: ='Finanšu piedāvājums'!C23 -> B | D23: 1000200118 | E23: =SUM(G23:O23) -> 826.6 | G23: - | H23: 626.7 | I23: 176.3 | J23: 13.1 | K23: 10.5 | L23: - | M23: - | N23: - | Q23: =E23 -> 826.6 | R23: - | S23: - | T23: - | V23: 5 darba dienas | W23: Pr, Ot, Tr, Ce, Pk | X23: 17:00-21:00 | Z23: jānodrošina | AA23: - | AB23: - | AC23: Nepieciešams nodrošināt labierīcību uzkopšanu 2 reizes dienā ( 12:00 un vakara uzkopšanas laikā). | AD23: Sanda Kovaļova
A24: 21 | B24: Krustpils iela 4, Rīga | C24: ='Finanšu piedāvājums'!C24 -> A | D24: 1001212324 | E24: =SUM(G24:O24) -> 285.72 | H24: 111.23 | I24: 174.49 | Q24: =E24 -> 285.72 | R24: - | S24: - | T24: - | V24: 5 darba dienas | W24: Pr, Ot, Tr, Ce, Pk | X24: 17:00-21:00 | Z24: jānodrošina
A25: 22 | B25: Krustpils iela 38B, Rīga | C25: ='Finanšu piedāvājums'!C25 -> C | D25: 1005780099 | E25: =SUM(G25:O25) -> 524 | H25: 380.9 | I25: 122.1 | J25: 9.2 | K25: 11.8 | Q25: =E25 -> 524 | R25: - | S25: - | T25: - | V25: 5 darba dienas | W25: Pr, Or, Tr, Ce, Pk | X25: 17:00-20.00 | Z25: jānodrošina | AD25: Natālija Jaunzeme
A26: 23 | B26: Latviešu strēlnieku laukums 1, Rīga | C26: ='Finanšu piedāvājums'!C26 -> A | D26: 1000010095 | E26: =SUM(G26:O26) -> 2391.5 | G26: - | H26: =764+26 -> 790 | I26: 759.8 | J26: 62.6 | K26: 67 | L26: 8.1 | N26: 704 | Q26: =E26-S26 -> 2354.7 | R26: - | S26: 36.8 | T26: - | V26: 7 darba dienas uzkopj 1478,8 kvm, 5 darba dienas uzkopj 439,7 kvm, 3 darba dienas 33,9, vienu reizi mēnesī 262,9 ( iepriekš sastādot grafiku) | W26: Pr, Ot, Tr, Ce, Pk, Se, Sv | X26: 7:00-21:00 | Z26: jānodrošina | AA26: 1 | AB26: 4 | AC26: Grafiks jāpielāgo muzeja/biroja darba laikam, jānodrošina dežūrapkopēja pa dienu muzeja darba laikā no 10:00-18:00 vai pēc pieprasījuma pasākuma laikos. Apgaitu un uzkopšanu dežūrapkopējai jāveic regulāri publiskajās zonās, lielā telpu uzkopšana jāveic no rītiem un vakaros(rīta apkopēja un vakara apkopēja), darba kabinetus uzkopj tikai darbinieku klātbūtnē vienojoties par laiku un prasībām. Objektā ir vinila segumi, ir paceltās grīdas, kas ir jutīgas pret pārlieku daudz mitro uzkopšanas reižu, jāievēro grīdas segumu specifikas uzkopšana. | AD26: Agnese Sproģe
A27: 24 | B27: Lāčplēša iela 106, Rīga | C27: ='Finanšu piedāvājums'!C27 -> A | D27: 1000400021 | E27: =SUM(G27:O27) -> 289.11 | G27: - | H27: - | I27: =230.4+43.71 -> 274.11 | J27: 15 | K27: - | L27: - | M27: - | N27: - | Q27: 289.11 | V27: 5 darba dienas | W27: Pr, Ot, Tr, Ce, Pk | X27: 7:00-10:00 (tikai no rīta) | Z27: jānodrošina | AA27: - | AB27: - | AC27: 1.stāva koplietošanas gaiteņu, ieejas zonu un 1.st. WC uzkopšana veicama darba dienās no rītiem līdz plkst.10:00 | AD27: Agnese Sproģe
A28: 25 | B28: Matīsa iela 11, Rīga | C28: ='Finanšu piedāvājums'!C28 -> A | D28: 1000280104 | E28: =SUM(G28:O28) -> 1019.5 | G28: - | H28: 440 | I28: 192 | J28: 9.6 | K28: 251.5 | L28: 72 | M28: 54.4 | Q28: 1019.5 | V28: 5 darba dienas | W28: Pr, Ot, Tr, Ce, Pk | X28: 6:00 - 18:00 | Z28: jānodrošina | AA28: - | AB28: - | AC28: Dežūrtelpu ( 399,20kvm ar 9 cilvēkiem) uzkopšana 7 dienas nedēļā (vai brīvdienās pēc pieprasījuma) | AD28: Valentīns Tolis
A29: 26 | B29: Mārstaļu iela 2/4, Rīga | C29: ='Finanšu piedāvājums'!C29 -> B | D29: 1000030114 | E29: =SUM(G29:O29) -> 134.6 | G29: - | H29: - | I29: 134.6 | K29: - | L29: - | M29: - | N29: - | Q29: =E29 -> 134.6 | R29: - | S29: - | T29: - | V29: 1 darba diena | W29: CE | X29: 17:00-22:00 | Z29: jānodrošina | AA29: - | AB29: - | AC29: - | AD29: Oskars Kaļvāns
A30: 27 | B30: Mārstaļu iela 6, Rīga | C30: ='Finanšu piedāvājums'!C30 -> A | D30: 01000030113 | E30: =SUM(G30:O30) -> 1293 | G30: 108 | H30: 110.4 | I30: 169.4 | J30: 13.2 | K30: 2 | L30: 149.6 | M30: 401 | N30: 339.4 | Q30: 1159.8 | S30: 133.2 | V30: 6 dienas | W30: otrdiena - svētdiena | X30: vakaros/rītos | Z30: jānodrošina | AA30: - | AB30: 1 | AC30: Cietie segumi ir specifiski - nav viegli kopjami. Ik pa laikam jāviec mīkstā seguma ķīmisko tīrīšanu pēc pieprasījuma. Ārtelpa- iekšpagalms, ēkas priekšpuse | AD30: Oskars Kaļvāns
A31: 28 | B31: Meistaru iela 10, Rīga | C31: ='Finanšu piedāvājums'!C31 -> A | D31: 1000060102 | E31: =SUM(G31:O31) -> 1257.2 | G31: 2 | H31: 349 | I31: 742.4 | J31: 38.2 | L31: 65.2 | M31: 60.4 | N31: - | Q31: =E31 -> 1257.2 | R31: - | S31: - | T31: - | V31: 5 darba dienas 875,72 kvm 3 darba dienas 95,9 kvm 2 darba dienas 27 kvm 1 darba dienu 237,40 kvm | W31: Pr, Ot, Tr, Ce, Pk | X31: 06:00-08:00 (koplietošanas telpas - 680,32 kvm, sanitārās telpas 51,70 kvm, darbinieku atpūtas telpa 44,90 kvm ) 17:00-22:00 (biroju telpas - 459,10 kvm) | Z31: jānodrošina | AA31: - | AB31: 1 | AC31: - | AD31: Sanda Kovaļova
A32: 29 | B32: Pils laukums 3, Rīga | C32: ='Finanšu piedāvājums'!C32 -> A | D32: 1000080006 | E32: =SUM(G32:O32) -> 713.9 | G32: - | H32: 348 | I32: 251.9 | J32: 19.8 | K32: 94.2 | M32: - | N32: - | Q32: =E32-R32 -> 617.6 | R32: 96.3 | S32: - | T32: - | V32: 5 darba dienas | W32: Pr, Ot, Tr, Ce, Pk | X32: 17:00-23:00 | AC32: Pirms pakalpojuma sniegšanas uzsākšanas nepieciešams obligāti iepriekš saskaņot darbiniekus. Darbiniekiem jābūt LR pilsonībai kritiskās infrastruktūras objektā. | AD32: Kristiāna Kupče
A33: 30 | B33: Pils laukums 4, Rīga | C33: ='Finanšu piedāvājums'!C33 -> B | D33: 1000080053 | E33: =SUM(G33:O33) -> 261.4 | G33: - | H33: 9.9 | I33: 231.6 | J33: 9.7 | K33: 10.2 | L33: - | M33: - | N33: - | Q33: 261.4 | R33: - | S33: - | T33: - | V33: 5 darba dienas | W33: Pr, Ot, Tr, Ce, Pk | X33: 17:00-23:00 | Z33: jānodrošina | AA33: - | AB33: - | AC33: - | AD33: Rebeka Gailīte
A34: 31 | B34: Riharda Vāgnera iela 13, Rīga | C34: ='Finanšu piedāvājums'!C34 -> B | D34: 1000020056 | E34: =SUM(G34:O34) -> 242.1 | G34: - | H34: 16.5 | I34: 123.1 | J34: 7.8 | K34: 33.3 | L34: - | M34: - | N34: 61.4 | Q34: =E34-R34 -> 29 | R34: 213.1 | S34: - | T34: - | V34: 5 dienas | W34: Pr, Tr, Ce, Pk, Se | X34: 09:00-17:00 | Z34: - | AA34: - | AB34: - | AC34: - | AD34: Rebeka Gailīte
A35: 32 | B35: Raiņa bulvāris 4, Rīga | C35: ='Finanšu piedāvājums'!C35 -> A | D35: 1000090012 | E35: =SUM(G35:O35) -> 2022.4 | G35: 15.3 | H35: 1055.4 | I35: 696.3 | J35: 70 | K35: 22.7 | L35: 16.1 | M35: 146.6 | N35: - | Q35: =E35-R35-S35 -> 1054.1 | R35: 723.9 | S35: 244.4 | T35: - | V35: 3 darba dienas | W35: Ot, Tr, Pk | X35: 7:30-9:00 vai 16:00-18:00 | Z35: jānodrošina | AA35: - | AB35: 1 | AC35: Uzkopšana 3x, darba dienās ( Otrdien, Trešdien, Piektdien, rītos vai vakaros - 7:30-9:00 vai 16:00-18:00. Piekļuve 3.st. ar čipu, čipu izsniedz uz vietas. | AD35: Agnese Sproģe
A36: 33 | B36: Rūdolfa iela 5, Rīga | C36: ='Finanšu piedāvājums'!C36 -> A | D36: 01000362001-001; 01000362001-002; 01000362001-003; 01000362001-006; 01000362001-008; 01000362001-009 | E36: =SUM(G36:O36) -> 5358.3 | G36: =14.6+8.5 -> 23.1 | H36: =2482.7+66+34.4+59.2+339.7 -> 2982 | I36: =677.4+87.2+334.6+16+38+98.3 -> 1251.5 | J36: =66.7+15+8.6+3.7+1.7+14 -> 109.7 | K36: =48+765.2+6.4+24.7+45.2 -> 889.5 | M36: 46.1 | O36: 56.4 | Q36: =E36 -> 5358.3 | R36: - | S36: - | T36: - | V36: 5 darba dienas | W36: Pr, Ot, Tr, Ce, Pk | X36: 8:00 - 16:00 | Z36: jānodrošina | AA36: 1 | AB36: - | AC36: Pirms pakalpojuma sniegšanas uzsākšanas, nepieciešams saskaņot darbinieku sarakstu Valsts drošības dienestā. Darbiniekiem jābūt LR pilsonībai kritiskās infrastruktūras objektā. Ņemot vērā objekta lietotāja izvirzītās prasības, saskaņā ar normatīvajiem aktiem var tikt veiktas līguma izpildē iesaistītā izpildītāja īpašnieku, valdes locekļu un objektā nodarbināmo darbinieku pārbaudes. Dežūrapkopēja nepieciešama darba dienās no 8:00-16:00. | AD36: Valentīns Tolis
A37: 34 | B37: Smilšu iela 4, Rīga | C37: ='Finanšu piedāvājums'!C37 -> C | D37: 1000080080 | E37: =SUM(G37:O37) -> 157 | G37: - | H37: - | I37: 140.1 | J37: - | K37: 16.9 | L37: - | M37: - | N37: - | Q37: 157 | R37: - | S37: - | T37: - | V37: 5 darba dienas | W37: Pr, Ot, Tr, Ce, Pk | X37: 17:00-22:00 | Z37: - | AA37: - | AB37: - | AC37: - | AD37: Iveta Godaine
A38: 35 | B38: Smilšu iela 4, Rīga | C38: ='Finanšu piedāvājums'!C38 -> A | D38: 1000080080 | E38: =SUM(G38:O38) -> 136 | H38: 134.2 | J38: 1.8 | Q38: 136 | V38: 5 darba dienas | W38: Pr, Ot, Tr, Ce, Pk | X38: 17:00-22:00 | Z38: jānodrošina | AC38: - | AD38: Iveta Godaine
A39: 36 | B39: Smilšu iela 7, Rīga | C39: ='Finanšu piedāvājums'!C39 -> B | D39: 1000060003 | E39: =SUM(G39:O39) -> 233.1 | G39: - | H39: - | I39: 233.1 | J39: - | K39: - | L39: - | M39: - | N39: - | Q39: 233.1 | R39: - | S39: - | T39: - | V39: 1 darba diena | W39: (pēc vienošanās) | X39: 17:00-22:00 | Z39: - | AA39: - | AB39: - | AC39: - | AD39: Sanda Kovaļova
A40: 37 | B40: Šampētera iela 16, Rīga | C40: ='Finanšu piedāvājums'!C40 -> C | D40: 1000760224 | E40: =SUM(G40:O40) -> 841.1 | G40: - | H40: 156 | I40: 647 | J40: 21.8 | K40: 3.4 | L40: 12.9 | M40: - | N40: - | Q40: 841.1 | R40: - | S40: - | T40: - | V40: 5 darba dienas | W40: Pr, Ot, Tr, Ce, Pk | X40: 09:00-17:00 | Z40: - | AA40: - | AB40: - | AC40: - | AD40: Gita Meiere
...

Sheet A-kat kvalitates profils
B1: KVALITĀTES LĪMENIS
A2: UZKOPŠANAS PAKALPOJUMI (A.kategorijas objektiem) | B2: MĒBELES PIEDERUMI | C2: GRĪDAS | D2: SIENAS | E2: GRIESTI
A3: BIROJU/ DARBA TELPAS, ZĀLES, EKSPOZĪCIJU ZĀLES | B3: 4 | C3: 4 | D3: 4 | E3: 3
A4: Atkritumu grozu tukšošana un maisiņu nomaiņa *
A5: Ādas mēbeļu tīrīšana ar atbilstošu līdzekli
A6: Biroja tehnikas ārējo plastmasas korpusu mitrā tīrīšana (Tālruņi, datori, monitori, faksi, skeneri, kopētāji, galda lampas, elektroslēdži, rozetes.)
A7: Cietā grīdas seguma mitrā uzkopšana telpās
A8: Durvju rokturu tīrīšana ar dezinficējošu līdzekli
A9: Elektroslēdžu un rozešu mitrā tīrīšana
A10: Gaismas ķermeņu un reljefu interjera elementu tīrīšana līdz 2 m augstumam
A11: Brīvo galda virsmu mitrā tīrīšana, ja uz virsmas izklaidus nav papīri **
A12: Grīdlīstšu un ventilācijas restu mitrā tīrīšana
A13: Horizontālo un vertikālo virsmu mitrā tīrīšana (skapji, plaukti, palodzes, galdi, krēsli)
A14: Krēslu kāju mitrā tīrīšana
A15: Lokālu traipu tīrīšana no horizontālām un vertikālajām virsmām (skapji, plaukti, galdi, krēsli, durvis, sienas, stikla starpsienas)
... A17: Mīksto mēbeļu (ja tādas ir) izsūkšana ar putekļu sūcēju
A18: SANITĀRĀS, VIRTUVES TELPAS | B18: 4 | C18: 4 | D18: 4 | E18: 3 | F18: HIGIĒNAS PREČU NODROŠINĀŠANA+ VIRTUVES SAKOPŠANA
A19: Atkritumu grozu tukšošana un maisiņu nomaiņa *
A20: Atkritumu tvertnes mazgāšana un dezinficēšana
A21: Cietā grīdas seguma mitrā uzkopšana ar dezinficējošu līdzekli
A22: Durvju rokturu tīrīšana ar dezinficējošu līdzekli
A23: Duškabīnes, dušas stūra vai vannas (ja tāda telpā uzstādīta) tīrīšana
A24: Gaismas ķermeņu un reljefu interjera elementu tīrīšana līdz 2 m augstumam
A25: Grīdlīstšu un ventilācijas restu mitrā tīrīšana
A26: Higiēnas preču turētāju mitrā tīrīšana
A27: Higiēnas preču papildināšana
A28: Higiēnas preču piegāde ***
A29: Horizontālo un vertikālo virsmu mitrā tīrīšana (skapji, plaukti, palodzes, galdi, krēsli)
A30: Lokālu traipu tīrīšana no horizontālajām un vertikālām virsmām
... A39: WC gaisa atsvaidzinātāja nodrošināšana
A40: KOPLIETOŠANAS TELPAS | B40: 3 | C40: 3 | D40: 3 | E40: 2
A41: Atkritumu grozu tukšošana un maisiņu nomaiņa *
A42: Ādas mēbeļu tīrīšana ar atbilstošu līdzekli
A43: Cietā grīdas seguma mitrā uzkopšana
A44: Durvju rokturu tīrīšana ar dezinficējošu līdzekli
A45: Elektroslēdžu un rozešu mitrā tīrīšana
A46: Gaismas ķermeņu un reljefu interjera elemntu tīrīšana līdz 2m augstumam
A47: Grīdlīstšu un ventilācijas restu mitrā tīrīšana
A48: Horizontālo un vertikālo virsmu mitrā tīrīšana (skapji, plaukti, palodzes, galdi, krēsli)
A49: Krēslu kāju mitrā tīrīšana
...

Sheet B-kat kvalitates profils
B1: KVALITĀTES LĪMENIS
A2: UZKOPŠANAS PAKALPOJUMI (B.kategorijas objektiem) | B2: MĒBELES PIEDERUMI | C2: GRĪDAS | D2: SIENAS | E2: GRIESTI
A3: BIROJU/ DARBA TELPAS, ZĀLES, EKSPOZĪCIJU ZĀLES | B3: 3 | C3: 3 | D3: 3 | E3: 2
A4: Atkritumu grozu tukšošana un maisiņu nomaiņa *
A5: Ādas mēbeļu tīrīšana ar atbilstošu līdzekli
A6: Biroja tehnikas ārējo plastmasas korpusu mitrā tīrīšana (Tālruņi, datori, monitori, faksi, skeneri, kopētāji, galda lampas, elektroslēdži, rozetes.)
A7: Cietā grīdas seguma mitrā uzkopšana telpās
A8: Durvju rokturu tīrīšana ar dezinficējošu līdzekli
A9: Elektroslēdžu un rozešu mitrā tīrīšana
A10: Gaismas ķermeņu un reljefu interjera elementu tīrīšana līdz 2 m augstumam
A11: Brīvo galda virsmu mitrā tīrīšana, ja uz virsmas izklaidus nav papīri **
A12: Grīdlīstšu un ventilācijas restu mitrā tīrīšana
A13: Horizontālo un vertikālo virsmu mitrā tīrīšana (skapji, plaukti, palodzes, galdi, krēsli)
A14: Krēslu kāju mitrā tīrīšana
A15: Lokālu traipu tīrīšana no horizontālām un vertikālajām virsmām (skapji, plaukti, galdi, krēsli, durvis, sienas, stikla starpsienas)
... A17: Mīksto mēbeļu (ja tādas ir) izsūkšana ar putekļu sūcēju
A18: SANITĀRĀS, VIRTUVES TELPAS | B18: 3 | C18: 3 | D18: 3 | E18: 3 | F18: HIGIĒNAS PREČU NODROŠINĀŠANA
A19: Atkritumu grozu tukšošana un maisiņu nomaiņa *
A20: Atkritumu tvertnes mazgāšana un dezinficēšana
A21: Cietā grīdas seguma mitrā uzkopšana ar dezinficējošu līdzekli
A22: Durvju rokturu tīrīšana ar dezinficējošu līdzekli
A23: Duškabīnes, dušas stūra vai vannas (ja tāda telpā uzstādīta) tīrīšana
A24: Gaismas ķermeņu un reljefu interjera elementu tīrīšana līdz 2 m augstumam
A25: Grīdlīstšu un ventilācijas restu mitrā tīrīšana
A26: Higiēnas preču turētāju mitrā tīrīšana
A27: Higiēnas preču piegāde un papildināšana ***
A28: Horizontālo un vertikālo virsmu mitrā tīrīšana (skapji, plaukti, palodzes, galdi, krēsli)
A29: Lokālu traipu tīrīšana no horizontālajām un vertikālām virsmām
A30: Spoguļu tīrīšana
... A33: WC gaisa atsvaidzinātāja nodrošināšana ***
A34: KOPLIETOŠANAS TELPAS | B34: 2 | C34: 3 | D34: 3 | E34: 2
A35: Atkritumu grozu tukšošana un maisiņu nomaiņa *
A36: Ādas mēbeļu tīrīšana ar atbilstošu līdzekli
A37: Cietā grīdas seguma mitrā uzkopšana
A38: Durvju rokturu tīrīšana ar dezinficējošu līdzekli
A39: Elektroslēdžu un rozešu mitrā tīrīšana
A40: Gaismas ķermeņu un reljefu interjera elemntu tīrīšana līdz 2m augstumam
A41: Grīdlīstšu un ventilācijas restu mitrā tīrīšana
A42: Horizontālo un vertikālo virsmu mitrā tīrīšana (skapji, plaukti, palodzes, galdi, krēsli)
A43: Krēslu kāju mitrā tīrīšana
...

Sheet C-kat kvalitates profils
B1: KVALITĀTES LĪMENIS
A2: UZKOPŠANAS PAKALPOJUMI (C.kategorijas objektiem) | B2: MĒBELES PIEDERUMI | C2: GRĪDAS | D2: SIENAS | E2: GRIESTI
A3: SANITĀRĀS, VIRTUVES TELPAS | B3: 3 | C3: 3 | D3: 3 | E3: 2
A4: Atkritumu grozu tukšošana un maisiņu nomaiņa *
A5: Atkritumu tvertnes mazgāšana un dezinficēšana
A6: Cietā grīdas seguma mitrā uzkopšana ar dezinficējošu līdzekli
A7: Durvju rokturu tīrīšana ar dezinficējošu līdzekli
A8: Duškabīnes, dušas stūra vai vannas (ja tāda telpā uzstādīta) tīrīšana
A9: Gaismas ķermeņu un reljefu interjera elementu tīrīšana līdz 2 m augstumam
A10: Grīdlīstšu un ventilācijas restu mitrā tīrīšana
A11: Higiēnas preču turētāju mitrā tīrīšana
A12: Horizontālo un vertikālo virsmu mitrā tīrīšana (skapji, plaukti, palodzes, galdi, krēsli)
A13: Lokālu traipu tīrīšana no horizontālajām un vertikālām virsmām
A14: Spoguļu tīrīšana
A15: WC klozetpoda, pisuāra, izlietnes un santehnikas tīrīšana un dezinficēšana
A16: KOPLIETOŠANAS TELPAS | B16: 2 | C16: 3 | D16: 3 | E16: 2
A17: Atkritumu grozu tukšošana un maisiņu nomaiņa *
A18: Ādas mēbeļu tīrīšana ar atbilstošu līdzekli
A19: Cietā grīdas seguma mitrā uzkopšana
A20: Durvju rokturu tīrīšana ar dezinficējošu līdzekli
A21: Elektroslēdžu un rozešu mitrā tīrīšana
A22: Gaismas ķermeņu un reljefu interjera elementu tīrīšana līdz 2m augstumam
A23: Grīdlīstšu un ventilācijas restu mitrā tīrīšana
A24: Horizontālo un vertikālo virsmu mitrā tīrīšana (skapji, plaukti, palodzes, galdi, krēsli)
A25: Krēslu kāju mitrā tīrīšana
A26: Lokālu traipu tīrīšana no horizontālām un vertikālajām virsmām (skapji, plaukti, galdi, krēsli, durvis, sienas, stikla starpsienas)
A27: Kāpņu margu un roku balstu mitrā tīrīšana (ar dezinficējošu)
A28: Mīkstā grīdas seguma izsūkšana ar putekļusūcēju
... A32: Spoguļu tīrīšana
A33: TEHNISKĀS TELPAS | B33: 2 | C33: 2 | D33: 2 | E33: 2
A34: Atkritumu grozu tukšošana un maisiņu nomaiņa *
A35: Cietā grīdas seguma mitrā uzkopšana (serveru telpās uzkopj tikai grīdas segumu)
A36: Elektroslēdžu un rozešu mitrā tīrīšana
A37: Grīdlīstšu un ventilācijas restu mitrā tīrīšana
A38: Horizontāli virsmu mitrā tīrīšana (skapji, plaukti, palodzes, galdi, krēsli)
A39: Horizontālo un vertikālo virsmu mitrā tīrīšana (skapji, plaukti, palodzes, galdi, krēsli)
A41: * - Atkritumi urnas jāiztukšo katru dienu, ja tajās ir atkritumi. Maisiņi tiek mainīti, ja atkritumos ir bioloģiskas izcelsmes atkritumi. Ja ir iespēja un Lietotājs/Pasūtītājs to pieprasa, tad atkritumi arī ir jāšķiro³ Atkritumu šķirošanas maisi jānodrošina atbilstoši tuneļveida šķirošanas tvertnes sistēmai, longopac vai alternatīvi maisi bez papildus maksas.

Sheet Higiēnas preces
A1: NPK | B1: OBJEKTS | C1: Indikatīvais CILVĒKU SKAITS (dienā) | D1: ROKU DVIEĻI / SALVETES | E1: TUALETES PAPĪRS | F1: ŠĶIDRĀS ZIEPES ROKU MAZGĀŠANAI | G1: WC poda birstes komplekts | H1: PAPILDUS PRASĪBAS
A2: 1 | B2: Brīvības bulvāris 32, Rīga | C2: 6 | D2: Vialli roku dvieļu sistēmai vai ekvivalents (2 kārtas) | E2: Vialli tualetes papīra sistēmai vai ekvivalents (2 kārtas) | F2: ziepes pudelītēs ar pumpīti | G2: Jānodrošina | H2: -
A3: 2 | B3: Brīvības bulvāris 32, Rīga | C3: 30 | D3: TORK H1 roku dvieļu sistēmai vai ekvivalents (2 kārtas) | E3: TORK T2 Mini Jumbo tualetes papīra sistēmai vai ekvivalents (2 kārtas) | F3: TORK S1 šķidro ziepju sistēmai vai ekvivalents (1000 reizēm, nearomatizētas) | G3: Jānodrošina | H3: -
A4: 3 | B4: Brīvības iela 72 k-1 | C4: 200 | D4: TORK H1 roku dvieļu sistēmai vai ekvivalents (2 kārtas) | E4: TORK T2 Mini Jumbo tualetes papīra sistēmai vai ekvivalents (2 kārtas) | F4: TORK S1 šķidro ziepju sistēmai vai ekvivalents (1000 reizēm, nearomatizētas) | G4: Jānodrošina | H4: -
A5: 4 | B5: Čiekurkalna 1.līnija 1 k1-k6,k8, Rīga | C5: 2500 | D5: Kimberly-Clark roku dvieļi (6691) sistēmai 6959 vai ekvivalents (2 kārtas) | E5: Kimberly-Clark tualetes papīra salvetes (8035) sistēmai 6946 salvetes vai ekvivalents (2 kārtas) | F5: TORK S1 šķidro ziepju sistēmai vai ekvivalents (1000 reizēm, nearomatizētas) | G5: Jānodrošina | H5: -
A6: 5 | B6: Doma laukums 6, Rīga | C6: 3000 | D6: TORK H2 Multifold roku dvieļu sistēmai vai ekvivalents (2 kārtas) | E6: TORK T2 Mini Jumbo tualetes papīra sistēmai vai ekvivalents (2 kārtas) | F6: TORK S1 šķidro ziepju sistēmai vai ekvivalents (1000 reizēm, nearomatizētas) | G6: Jānodrošina | H6: -
A7: 6 | B7: Elizabetes iela 57, Rīga | C7: 70 | D7: TORK H1 roku dvieļu sistēmai vai ekvivalents (2 kārtas) | E7: TORK T2 Mini Jumbo tualetes papīra sistēmai vai ekvivalents (2 kārtas) | F7: TORK S1 šķidro ziepju sistēmai vai ekvivalents (1000 reizēm, nearomatizētas) | G7: Jānodrošina | H7: -
A8: 7 | B8: Gaujas iela 15/17, Rīga | C8: 800 | D8: TORK H1 roku dvieļu sistēmai vai ekvivalents (2 kārtas) | E8: TORK T2 Mini Jumbo tualetes papīra sistēmai vai ekvivalents (2 kārtas) | F8: TORK S1 šķidro ziepju sistēmai vai ekvivalents (1000 reizēm, nearomatizētas) | G8: Jānodrošina | H8: -
A9: 8 | B9: Kr. Valdemāra iela 1A | C9: 100 | D9: TORK H1 roku dvieļu sistēmai vai ekvivalents (2 kārtas) | E9: TORK T2 Mini Jumbo tualetes papīra sistēmai vai ekvivalents (2 kārtas) | F9: TORK S1 šķidro ziepju sistēmai vai ekvivalents (1000 reizēm, nearomatizētas) | G9: Jānodrošina | H9: -
A10: 9 | B10: Kr.Valdemāra iela 11A, Rīga | C10: 50 | D10: TORK H1 roku dvieļu sistēmai vai ekvivalents (2 kārtas) | E10: TORK T2 Mini Jumbo tualetes papīra sistēmai vai ekvivalents (2 kārtas) | F10: TORK S1 šķidro ziepju sistēmai vai ekvivalents (1000 reizēm, nearomatizētas) | G10: Jānodrošina | H10: -
A11: 10 | B11: Kr.Valdemāra iela 26 , Rīga | C11: 40 | D11: TORK H1 roku dvieļu sistēmai vai ekvivalents (2 kārtas) | E11: TORK T2 Mini Jumbo tualetes papīra sistēmai vai ekvivalents (2 kārtas) | F11: TORK S1 šķidro ziepju sistēmai vai ekvivalents (1000 reizēm, nearomatizētas) | G11: Jānodrošina | H11: Dezinfekcijas līdzekli, gaisa atzvaidzinātājs
A12: 11 | B12: Latviešu strēlnieku laukums 1, Rīga | C12: 250 | D12: TORK H1 roku dvieļu sistēmai vai ekvivalents (2 kārtas) | E12: TORK T2 Mini Jumbo tualetes papīra sistēmai vai ekvivalents (2 kārtas) | F12: TORK S1 šķidro ziepju sistēmai vai ekvivalents (1000 reizēm, nearomatizētas) | G12: Jānodrošina | H12: -
A13: 12 | B13: Lāčplēša iela 106, Rīga | C13: 150 | D13: TORK H1 roku dvieļu sistēmai vai ekvivalents (2 kārtas) | E13: TORK T2 Mini Jumbo tualetes papīra sistēmai vai ekvivalents (2 kārtas) | F13: TORK S1 šķidro ziepju sistēmai vai ekvivalents (1000 reizēm, nearomatizētas) | G13: Jānodrošina | H13: -
... A27: 26 | B27: Kr.Barona iela 99 k1 | C27: 25 | D27: TORK H1 roku dvieļu sistēmai vai ekvivalents (2 kārtas) | E27: TORK T2 Mini Jumbo tualetes papīra sistēmai vai ekvivalents (2 kārtas) | F27: TORK S1 šķidro ziepju sistēmai vai ekvivalents (1000 reizēm, nearomatizētas) | G27: Jānodrošina | H27: -
H28: -

Sheet FP_2. daļa_Rīga
B1: FINANŠU PIEDĀVĀJUMS 2.DAĻA: RĪGA - Centra rajons, Latgales, Kurzemes, Zemgales un Vidzmes priekšpilsēta
A3: NPK | B3: PAKALPOJUMS, ADRESE | C3: KOPĒJĀ PLATĪBA OBJEKTOS | D3: OBJEKTA KATEGORIJA | E3: Objektā nodarbināto sētnieku kopējās stundas | F3: Darbinieku/ sētnieka izmaksas stundā Bruto* | G3: KOPĒJĀS SĒTNIEKU DARBA IZMAKSAS Bruto* | H3: Par darbinieku maksājāmā VSAOI darba devēja daļa, riska nodeva, atvaļinājuma, slimības naudas uzkrājums | I3: DARBINIEKU IZMAKSAS IESKAITOT NODOKĻUS | J3: Materiālu, inventāra, līdzekļu, pamatlīdzekļu, amortizācijas un citas izmaksas mēnesī | K3: Citas izmaksas mēnesī: administrācijas izmaksas, kvalitātes kontroles izmaksas neparedz. izd. utml. | L3: CENA PAR PAKALPOJUMU | M3: CENA m²
A4: nr. | B4: ADRESE | C4: (m2) | E4: (h/dienā) | F4: EUR/h (bez PVN) | G4: EUR/mēn (bez PVN) | H4: EUR/mēn | I4: EUR/mēn (bez PVN) | J4: EUR/mēn (bez PVN) | K4: EUR/mēn (bez PVN) | L4: EUR/mēn (bez PVN) | M4: EUR/m² (bez PVN)
A5: A | B5: B | C5: C | D5: D | E5: E | F5: F | G5: G | H5: H | I5: J | J5: K | K5: L | L5: M | M5: N
A6: 1 | B6: Raiņa bulvāris 27 | C6: 270.16 | D6: C | G6: =E6*F6 -> 0 | I6: =G6+H6 -> 0 | L6: =I6+J6+K6 -> 0 | M6: =L6/C6 -> 0
A7: 2 | B7: Raiņa bulvāris 4 | C7: 479.13 | D7: C | G7: =E7*F7 -> 0 | I7: =G7+H7 -> 0 | L7: =I7+J7+K7 -> 0 | M7: =L7/C7 -> 0
A8: 3 | B8: Raiņa bulvāris 7 | C8: 1284.66 | D8: B | G8: =E8*F8 -> 0 | I8: =G8+H8 -> 0 | L8: =I8+J8+K8 -> 0 | M8: =L8/C8 -> 0
A9: 4 | B9: Aristida Briāna iela 13 | C9: 2242 | D9: C | G9: =E9*F9 -> 0 | I9: =G9+H9 -> 0 | L9: =I9+J9+K9 -> 0 | M9: =L9/C9 -> 0
A10: 5 | B10: Baznīcas iela 25 | C10: 945.36 | D10: C | G10: =E10*F10 -> 0 | I10: =G10+H10 -> 0 | L10: =I10+J10+K10 -> 0 | M10: =L10/C10 -> 0
A11: 6 | B11: Baznīcas iela 30 | C11: 0 | G11: =E11*F11 -> 0 | I11: =G11+H11 -> 0 | L11: =I11+J11+K11 -> 0 | M11: =L11/C11 -> #DIV/0!
A12: 7 | B12: Brīvības bulvāris 32 | C12: 761.62 | D12: B | G12: =E12*F12 -> 0 | I12: =G12+H12 -> 0 | L12: =I12+J12+K12 -> 0 | M12: =L12/C12 -> 0
A13: 8 | B13: Brīvības iela 61 | C13: 842.45 | D13: C | G13: =E13*F13 -> 0 | I13: =G13+H13 -> 0 | L13: =I13+J13+K13 -> 0 | M13: =L13/C13 -> 0
A14: 9 | B14: Brīvības iela 72 K-1 | C14: 364.29 | D14: B | G14: =E14*F14 -> 0 | I14: =G14+H14 -> 0 | L14: =I14+J14+K14 -> 0 | M14: =L14/C14 -> 0
A15: 10 | B15: Brīvības iela 96 | C15: 608.55 | D15: C | G15: =E15*F15 -> 0 | I15: =G15+H15 -> 0 | L15: =I15+J15+K15 -> 0 | M15: =L15/C15 -> 0
A16: 11 | B16: Eksporta iela 6 | C16: 999.9 | D16: B | G16: =E16*F16 -> 0 | I16: =G16+H16 -> 0 | L16: =I16+J16+K16 -> 0 | M16: =L16/C16 -> 0
A17: 12 | B17: Elizabetes iela 49 | C17: 931.23 | D17: B | G17: =E17*F17 -> 0 | I17: =G17+H17 -> 0 | L17: =I17+J17+K17 -> 0 | M17: =L17/C17 -> 0
A18: 13 | B18: Elizabetes iela 57, 57A | C18: 323.6 | D18: B | G18: =E18*F18 -> 0 | I18: =G18+H18 -> 0 | L18: =I18+J18+K18 -> 0 | M18: =L18/C18 -> 0
A19: 14 | B19: Krišjāņa Barona iela 21A | C19: 90.07 | D19: C | G19: =E19*F19 -> 0 | I19: =G19+H19 -> 0 | L19: =I19+J19+K19 -> 0 | M19: =L19/C19 -> 0
A20: 15 | B20: Krišjāņa Barona iela 54/58 | C20: 2162.42 | D20: C | G20: =E20*F20 -> 0 | I20: =G20+H20 -> 0 | L20: =I20+J20+K20 -> 0 | M20: =L20/C20 -> 0
A21: 16 | B21: Krišjāņa Valdemāra iela 1A | C21: 3028.75 | D21: B | G21: =E21*F21 -> 0 | I21: =G21+H21 -> 0 | L21: =I21+J21+K21 -> 0 | M21: =L21/C21 -> 0
A22: 17 | B22: Krišjāņa Valdemāra iela 3 | C22: 2050 | D22: A | G22: =E22*F22 -> 0 | I22: =G22+H22 -> 0 | L22: =I22+J22+K22 -> 0 | M22: =L22/C22 -> 0
A23: 18 | B23: Krišjāņa Valdemāra iela 17A | C23: 625.21 | D23: B | G23: =E23*F23 -> 0 | I23: =G23+H23 -> 0 | L23: =I23+J23+K23 -> 0 | M23: =L23/C23 -> 0
... A59: 54 | B59: Šampētera iela 16 | C59: 2453 | D59: C | G59: =E59*F59 -> 0 | I59: =G59+H59 -> 0 | L59: =I59+J59+K59 -> 0 | M59: =L59/C59 -> 0
B60: KOPĒJĀ PLATĪBA: | C60: =SUM(C6:C59) -> 189009.07 | G60: Kopējā cena (EUR bez PVN) par teritorijas uzkopšanu( kritērijs K1 (90 punkti)): | L60: =SUM(L6:L59) -> 0
A61: * | B61: Bruto darba samaksa ir visu Darba likumā ietverto darba samaksas elementu kopums: darbiniekam regulāri izmaksājamā atlīdzība par darbu, kura ietver darba algu un normatīvajos aktos, darba koplīgumā vai darba līgumā noteiktās piemaksas, kā arī prēmijas un jebkuru cita veida atlīdzību saistībā ar darbu uz darba līguma pamata, pirms darba ņēmēja VSAOI daļas un IIN ieturējumiem. Neto darba samaksa - samaksa, kas tiek aprēķināta, no bruto darba samaksas atņemot valsts sociālās apdrošināšanas obligātās iemaksas, ko maksā strādājošie, un iedzīvotāju ienākuma nodokli.
A63: PAPILDUS PAKALPOJUMI
A64: NPK | B64: Pakalpojumi | C64: Mērvienība | D64: Daudzums | E64: Cena par vienu vienību (EUR bez PVN) | F64: Cena KOPĀ (EUR bez PVN), vērtējamā summa | G64: VĒRTĒŠANAS KRITĒRIJS K2-K8
A65: 1 | B65: Mehanizēta teritorijas attīrīšana no sniega un ledus. GPS atskaite | C65: h | F65: =D65*E65 -> 0 | G65: K2 -1 punkts
A66: 2 | B66: Mehanizēta teritorijas kaisīšana/apstrāde ar pretslīdes materiālu. GPS atskaite | C66: h | F66: =D66*E66 -> 0 | G66: K3 -1 punkts
A67: 3 | B67: Savāktā sniega izvešana (ietverot sniega iekraušanu un izvešanu no teritorijas). Atskaite par m3. | C67: m3 | F67: =D67*E67 -> 0 | G67: K4 -1 punkts
A68: 4 | B68: Dežūrsētnieks | C68: h | F68: =D68*E68 -> 0 | G68: K5 - 2 punkti
A69: 5 | B69: Dārznieks | C69: h | F69: =D69*E69 -> 0 | G69: K6 - 2 punkti
A70: 6 | B70: Mehanizēta teritorijas uzkopšana ar putekļsūcēju. GPS atskaite. | C70: h | F70: =D70*E70 -> 0 | G70: K7 - 1 punkts
A71: 7 | B71: Mehāniska zāles pļaušana | C71: m2 | F71: =D71*E71 -> 0 | G71: K8 - 2 punkti
B73: Cenas norādāmas ar visiem nodokļiem un nodevām, ar ko var tikt aplikts šis pakalpojumus, (izņemot pievienotās vērtības nodokli), ar precizitāti 2 (divas) zīmes aiz komata. Piedāvātajā cenā ir ietvertas visas izmaksas, atlaides un piemaksas, ja tādas paredzētas, kā arī visi iespējamie riski, kas saistīti ar tirgus cenu svārstībām visā līguma izpildes laikā.
B74: Finanšu piedāvājumā ierēķinātas visas izmaksas (darbaspēks, materiāli, piegāde, mehānismi, iekārtas, nodokļi, atļaujas, apmācības u.c.), kas nepieciešamas pilnīgai un kvalitatīvai tehniskajā specifikācijā minēto Darbu izpildei un Papildpakalojumu sniegšanai.
B76: Jaunā cena pievienojamiem objektiem (kategorijas=C/M)
B77: KATEGORIJA | C77: Platība | D77: Cena kopā | E77: Cena kvm
B78: A | C78: 2 | D78: 0 | E78: =GETPIVOTDATA("Cena kopā",$B$77,"OBJEKTA KATEGORIJA","A")/GETPIVOTDATA("Platība ",$B$77,"OBJEKTA KATEGORIJA","A") -> 0
B79: B | C79: 20 | D79: 0 | E79: =GETPIVOTDATA("Cena kopā",$B$77,"OBJEKTA KATEGORIJA","B")/GETPIVOTDATA("Platība ",$B$77,"OBJEKTA KATEGORIJA","B") -> 0
...
