Workbook
Name _Toc278530773: Kopsavilkums!#REF!
Name _Toc278530773: 'Raiņa iela 10'!#REF!
Name _Toc278530773: 'Smilšu iela 10A'!#REF!
Name _Toc278530783: Kopsavilkums!#REF!
Name _Toc278530783: 'Raiņa iela 10'!#REF!
Name _Toc278530783: 'Smilšu iela 10A'!#REF!
Name _Toc45937944: Kopsavilkums!#REF!
Name _Toc45937944: 'Raiņa iela 10'!#REF!
Name _Toc45937944: 'Smilšu iela 10A'!#REF!
Name _Toc45937952: Kopsavilkums!#REF!
Name _Toc45937952: 'Raiņa iela 10'!#REF!
Name _Toc45937952: 'Smilšu iela 10A'!#REF!

Sheet Kopsavilkums
A1: KOPSAVILKUMS
B3: Nr.p.k. | C3: Ielas nosaukums | D3: Izmaksas | E3: Faktiski izpildīts | F3: Atlikums
B4: 1 | C4: ='Smilšu iela 10A'!C3 -> Smilšu iela 10A | D4: ='Smilšu iela 10A'!G28 -> 0 | E4: ='Smilšu iela 10A'!I28 -> 0 | F4: ='Smilšu iela 10A'!K28 -> 0
B5: 2 | C5: ='Raiņa iela 10'!C3 -> Raiņa iela 10 LKT | D5: ='Raiņa iela 10'!G24 -> 0 | E5: ='Raiņa iela 10'!I24 -> 0 | F5: ='Raiņa iela 10'!K24 -> 0
C6: Kopā | D6: =SUM(D4:D5) -> 0 | E6: =SUM(E4:E5) -> 0 | F6: ='Raiņa iela 10'!K24 -> 0
C7: PVN (21%) | D7: =ROUND(D6*0.21,2) -> 0 | E7: =ROUND(E6*0.21,2) -> 0 | F7: =ROUND(F6*0.21,2) -> 0
C8: Kopā ar PVN | D8: =D7+D6 -> 0 | E8: =E7+E6 -> 0 | F8: =F7+F6 -> 0

Sheet Smilšu iela 10A
B2: DARBU APJOMU SARAKSTS
B3: Objekts | C3: Smilšu iela 10A
B4: Adrese | C4: Smilšu iela 10A
B5: Garums,m | C5: 44
H7: Faktiski izpildītais | J7: Atlikums
B8: Izmaksu pozīcija | C8: Darba nosaukums | D8: Mērvienība | E8: Darba daudzums | F8: Vienības cena EUR | G8: Summa EUR | H8: Darbu daudzums | I8: Summa EUR | J8: Darbu daudzums | K8: Summa EUR
B9: 1 | C9: Sagatavošanas darbi
B10: 1.1. | C10: Uzmērīšana un nospraušana | D10: m | E10: 44 | G10: =ROUND(F10*E10,2) -> 0 | I10: =ROUND(H10*F10,2) -> 0 | J10: =E10-H10 -> 44 | K10: =G10-I10 -> 0
B11: 1.2. | C11: Satiksmes organizācija | D11: kompl. | E11: 1 | G11: =ROUND(F11*E11,2) -> 0 | I11: =ROUND(H11*F11,2) -> 0 | J11: =E11-H11 -> 1 | K11: =G11-I11 -> 0
B12: 2 | C12: Demontāžas darbi
B13: 2.1. | C13: Esošās, bojātās, LKT trases atrakšana, grunti transportējot uz atbērtni (2,5-3,0m dziļums) | D13: m3 | E13: 200 | G13: =ROUND(F13*E13,2) -> 0 | I13: =ROUND(H13*F13,2) -> 0 | J13: =E13-H13 -> 200 | K13: =G13-I13 -> 0
B14: 2.2. | C14: Esošās, bojātās, LKT trases atrakšana, būvgružus un citus piemaisījumus utilizējot (2,5-3,0m dziļums) | D14: m3 | E14: 100 | G14: =ROUND(F14*E14,2) -> 0 | I14: =ROUND(H14*F14,2) -> 0 | J14: =E14-H14 -> 100 | K14: =G14-I14 -> 0
B15: 2.3. | C15: Esošās, bojātās, LKT trases demontāža un utilizācija | D15: m | E15: 44 | G15: =ROUND(F15*E15,2) -> 0 | I15: =ROUND(H15*F15,2) -> 0 | J15: =E15-H15 -> 44 | K15: =G15-I15 -> 0
B16: 2.4. | C16: Skatakas (ar betona konstrukcijām) demontāža pie iztekas Pēterupē | D16: gab. | E16: 1 | G16: =ROUND(F16*E16,2) -> 0 | I16: =ROUND(H16*F16,2) -> 0 | J16: =E16-H16 -> 1 | K16: =G16-I16 -> 0
B17: 3 | C17: LKT trases atjaunošana
B18: 3.1. | C18: Smilšu pabēruma zem caurtekas izveide hvid = 30 cm un blietēšana | D18: m3 | E18: 20 | G18: =ROUND(F18*E18,2) -> 0 | I18: =ROUND(H18*F18,2) -> 0 | J18: =E18-H18 -> 20 | K18: =G18-I18 -> 0
B19: 3.2. | C19: Caurtekas PE D800 montāža tranšejā | D19: m | E19: 44 | G19: =ROUND(F19*E19,2) -> 0 | I19: =ROUND(H19*F19,2) -> 0 | J19: =E19-H19 -> 44 | K19: =G19-I19 -> 0
B20: 3.3. | C20: Caurtekas pievienošana pie esošās akas | D20: gab. | E20: 1 | G20: =ROUND(F20*E20,2) -> 0 | J20: =E20-H20 -> 1
B21: 3.4. | C21: Caurtekas apbēršana ar drenējošu smilti un blietēšana pa slāņiem | D21: m3 | E21: 290 | G21: =ROUND(F21*E21,2) -> 0 | I21: =ROUND(H21*F21,2) -> 0 | J21: =E21-H21 -> 290 | K21: =G21-I21 -> 0
B22: 3.5. | C22: Grants šķembu 0-32 (NIII) iestrāde 20cm biezumā, brauktuves zonā | D22: m2 | E22: 50 | G22: =ROUND(F22*E22,2) -> 0 | I22: =ROUND(H22*F22,2) -> 0 | J22: =E22-H22 -> 50 | K22: =G22-I22 -> 0
B23: 3.6. | C23: Caurtekas izteces gala sienas nostripināšana ar laukakmeņiem (D18-20) betonā (C30/37) | D23: m2 | E23: 9 | G23: =ROUND(F23*E23,2) -> 0 | I23: =ROUND(H23*F23,2) -> 0 | J23: =E23-H23 -> 9 | K23: =G23-I23 -> 0
B24: 3.7. | C24: Zaļās zonas atjaunošana ar melnzemi (hvid = 10 cm) un apsēšana ar zālāju sēklām | D24: m2 | E24: 150 | G24: =ROUND(F24*E24,2) -> 0 | I24: =ROUND(H24*F24,2) -> 0 | J24: =E24-H24 -> 150 | K24: =G24-I24 -> 0
B25: 3.8. | C25: Darbu laikā konstatēto šahtu, nedarbojušos tīklu galu aizbetonēšana | D25: m3 | E25: 5 | G25: =ROUND(F25*E25,2) -> 0 | I25: =ROUND(H25*F25,2) -> 0 | J25: =E25-H25 -> 5 | K25: =G25-I25 -> 0
B26: 4 | C26: Citi darbi
B27: 4.1. | C27: Ģeodēziskā uzmērīšana ar dokumentu noformēšanu (izpildtopogrāfija) | D27: kompl. | E27: 1 | G27: =ROUND(F27*E27,2) -> 0 | I27: =ROUND(H27*F27,2) -> 0 | J27: =E27-H27 -> 1 | K27: =G27-I27 -> 0
F28: Kopā | G28: =SUM(G9:G27) -> 0 | H28: Kopā | I28: =SUM(I9:I27) -> 0 | J28: Kopā | K28: =SUM(K9:K27) -> 0
F29: PVN (21%) | G29: =ROUND(G28*0.21,2) -> 0 | H29: PVN (21%) | I29: =ROUND(I28*0.21,2) -> 0 | J29: PVN (21%) | K29: =ROUND(K28*0.21,2) -> 0
F30: Kopā ar PVN | G30: =G29+G28 -> 0 | H30: Kopā ar PVN | I30: =I29+I28 -> 0 | J30: Kopā ar PVN | K30: =K29+K28 -> 0
C32: PIEZĪMES:
C33: 1. Darbi izpildāmi atbilstoši VAS"Latvijas valsts ceļi" „Autoceļu būvdarbu specifikācijas ABS 2026”.
C34: 2. Uzņēmējam jāievērtē darbu apjomu sarakstā minēto darbu veikšanai nepieciešamie
C35: materiāli un papildus darbi, kas nav minēti šajā sarakstā, bet bez kuriem nebūtu iespējama
C36: tehnoloģiski pareiza un spēkā esošajiem normatīviem atbilstoša darbu veikšana pilnā apjomā.

Sheet Raiņa iela 10
B2: DARBU APJOMU SARAKSTS
B3: Objekts | C3: Raiņa iela 10 LKT
B4: Adrese | C4: Raiņa iela 10
B5: Garums,m | C5: 1
H7: Faktiski izpildītais | J7: Atlikums
B8: Izmaksu pozīcija | C8: Darba nosaukums | D8: Mērvienība | E8: Darba daudzums | F8: Vienības cena EUR | G8: Summa EUR | H8: Darbu daudzums | I8: Summa EUR | J8: Darbu daudzums | K8: Summa EUR
B9: 1 | C9: Sagatavošanas darbi
B10: 1.1. | C10: Satiksmes organizācija | D10: kompl. | E10: 1 | G10: =ROUND(F10*E10,2) -> 0 | I10: =ROUND(H10*F10,2) -> 0 | J10: =E10-H10 -> 1 | K10: =G10-I10 -> 0
B11: 2 | C11: Demontāžas darbi
B12: 2.1. | C12: Esošā asfaltbetona seguma demontāža un transportēšana uz darbu veicēja atbērtni | D12: m2 | E12: 9 | G12: =ROUND(F12*E12,2) -> 0 | I12: =ROUND(H12*F12,2) -> 0 | J12: =E12-H12 -> 9 | K12: =G12-I12 -> 0
B13: 2.2. | C13: Betona apmaļu demontāža | D13: m | E13: 5 | G13: =ROUND(F13*E13,2) -> 0 | I13: =ROUND(H13*F13,2) -> 0 | J13: =E13-H13 -> 5 | K13: =G13-I13 -> 0
B14: 2.3. | C14: Esošās, bojātās, LKT trases atrakšana, grunti transportējot uz atbērtni (2,5-3,0m dziļums) | D14: m3 | E14: 10 | G14: =ROUND(F14*E14,2) -> 0 | I14: =ROUND(H14*F14,2) -> 0 | J14: =E14-H14 -> 10 | K14: =G14-I14 -> 0
B15: 3 | C15: LKT trases remonts
B16: 3.1. | C16: Esošās LKT trases remonts veidojot hermētisku kārtu, lai novērstu turpmākus izskalojumus | D16: m | E16: 1 | G16: =ROUND(F16*E16,2) -> 0 | I16: =ROUND(H16*F16,2) -> 0 | J16: =E16-H16 -> 1 | K16: =G16-I16 -> 0
B17: 3.2. | C17: Esošās LKT trases caurules maiņa (D250) un pievienošana pie akas, ieskaitot palīgmateriālus (gadījumā ja pie atrakšanas tiek konstatēts, ka caurule ir jāmaina) | D17: m | E17: 1 | G17: =ROUND(F17*E17,2) -> 0 | I17: =ROUND(H17*F17,2) -> 0 | J17: =E17-H17 -> 1 | K17: =G17-I17 -> 0
B18: 3.3. | C18: LKT trases apbēršana ar drenējošu smilti un blietēšana pa slāņiem | D18: m3 | E18: 9 | G18: =ROUND(F18*E18,2) -> 0 | J18: =E18-H18 -> 9
B19: 3.4. | C19: Dolomīta šķembu 0-45 (NII) iestrāde 20cm biezumā, brauktuves zonā | D19: m2 | E19: 5 | G19: =ROUND(F19*E19,2) -> 0 | I19: =ROUND(H19*F19,2) -> 0 | J19: =E19-H19 -> 5 | K19: =G19-I19 -> 0
B20: 3.5. | C20: Asfaltbetona seguma apakškārta AC22 base/bin (AADTj,kravas 501-1000) | D20: m2 | E20: 5 | G20: =ROUND(F20*E20,2) -> 0 | I20: =ROUND(H20*F20,2) -> 0 | J20: =E20-H20 -> 5 | K20: =G20-I20 -> 0
B21: 3.6. | C21: Asfaltbetona seguma dilumkārta AC11 surf (AADTj,pievestā >3500) | D21: m2 | E21: 9 | G21: =ROUND(F21*E21,2) -> 0 | I21: =ROUND(H21*F21,2) -> 0 | J21: =E21-H21 -> 9 | K21: =G21-I21 -> 0
B22: 3.7. | C22: Betona apmaļu uzstādīšana uz šķembu (0-45 NIII) un betona (C30/37) pamata | D22: m | E22: 5 | G22: =ROUND(F22*E22,2) -> 0 | I22: =ROUND(H22*F22,2) -> 0 | J22: =E22-H22 -> 5 | K22: =G22-I22 -> 0
B23: 3.8. | C23: Zaļās zonas atjaunošana ar melnzemi (hvid = 10 cm) un apsēšana ar zālāju sēklām | D23: m2 | E23: 3 | G23: =ROUND(F23*E23,2) -> 0 | I23: =ROUND(H23*F23,2) -> 0 | J23: =E23-H23 -> 3 | K23: =G23-I23 -> 0
F24: Kopā | G24: =SUM(G9:G23) -> 0 | H24: Kopā | I24: =SUM(I9:I23) -> 0 | J24: Kopā | K24: =SUM(K9:K23) -> 0
F25: PVN (21%) | G25: =ROUND(G24*0.21,2) -> 0 | H25: PVN (21%) | I25: =ROUND(I24*0.21,2) -> 0 | J25: PVN (21%) | K25: =ROUND(K24*0.21,2) -> 0
F26: Kopā ar PVN | G26: =G25+G24 -> 0 | H26: Kopā ar PVN | I26: =I25+I24 -> 0 | J26: Kopā ar PVN | K26: =K25+K24 -> 0
C28: PIEZĪMES:
C29: 1. Darbi izpildāmi atbilstoši VAS"Latvijas valsts ceļi" „Autoceļu būvdarbu specifikācijas ABS 2026”.
C30: 2. Uzņēmējam jāievērtē darbu apjomu sarakstā minēto darbu veikšanai nepieciešamie
C31: materiāli un papildus darbi, kas nav minēti šajā sarakstā, bet bez kuriem nebūtu iespējama
C32: tehnoloģiski pareiza un spēkā esošajiem normatīviem atbilstoša darbu veikšana pilnā apjomā.
