Workbook

Sheet SA
B2: Skaidrojošs apraksts
B3: Objekta nosaukums: Ārējo lietus, ražošanas un sadzīves kanalizācijas tīklu modernizācija Kleistu ielā 28 (autobusu parks Nr.6), Rīgā
B4: Objekta adrese: Kleistu iela 28, Rīga
B5: 1. Vispārīgi
B6: 1.1. | C6: Tāmēs būvizmaksu aprēķins veicams, pamatojoties uz SIA "Firma L4" izstrādāto būvniecības ieceres dokumentāciju - būvprojektu, darba organizēšanas projektu, ņemot vērā skaidrojošos aprakstus, grafisko daļu, norādes, darbu un materiālu specifikācijas.
B7: 1.2. | C7: Tāmes aprēķins veicams saskaņā ar LBN 501-17 "Būvizmaksu noteikšanas kārtība", iesniedzams elektroniskas tabulas formātā (tabulai jābūt saderīgai ar Microsoft Excel), saglabājot formulas. Ievadot vērtības, tām jābūt ar precizitāti divas zīmes aiz komata. Darba devēja sociālā nodokļa daļai jābūt iekļautai attiecīgās darba pozīcijas vienības cenā.
B8: 1.3. | C8: Izstrādājot piedāvājumu, Pretendentam rūpīgi jāiepazīstas ar būvprojektu, darbu organizēšanas projektu un piedāvājumā jāiekļauj arī būvapjomos neuzrādītie darbi, kas nepieciešami, lai kvalitatīvi veiktu būvniecību un bez kuriem nebūtu iespējama tehnoloģiski pareiza un Latvijas Republikā spēkā esošajiem normatīvajiem aktiem atbilstoša būvdarbu veikšana pilnā apjomā.
B9: 1.4. | C9: Materiālu komplektāciju veikt atbilstoši izstrādātājām būvprojektam, ražotāju un Latvijas Republikas normatīvo aktu nosacījumiem. Jāņemj vērā, ka materiālu daudzums ir dots (ja dots), neievertējot atlikumus/atgriezumus.
B10: 1.5. | C10: Visas atsauces uz iekārtu, materiālu un izstrādājumu ražotājiem un/vai konkrētiem modeļiem, kuri norādīti iepirkuma dokumentācijā vai būvniecības ieceres dokumentācijā, liecina tikai par šo izstrādājumu un iekārtu tehnisko parametru, veiktspējas, kvalitātes un apkalpošanas līmeni. Uzrādītos materiālus iespējams aizvietot ar ekvivalentiem (līdzvērtīgiem vai labākiem), Latvijā sertificētiem attiecīgās nozares materiāliem. Ja Pretendents piedāvā ekvivalentu materiālu, tad Tehniskajā piedāvājumā jāpievieno ekvivalentu salīdzināšanas tabula un dokumenti, kas sniedz pietiekamu informāciju par piedāvāto materiālu un tā raksturlielumu atbilstību (līdzvērtīgs vai labāks) iepirkuma dokumentācijā vai būvniecības ieceres dokumentācijā prasītajam. Informācijā obligāti ir jānorāda, kurām tāmes pozīcijām tiek piedāvāts katrs ekvivalents. Pretendentam ir jāpierāda, ka piedāvājums ir ekvivalents (līdzvērtīgs vai labāks) un apmierina Pasūtītāja prasības.
B11: 1.6. | C11: Jebkura vēlāka materiālu nomaiņa būvdarbu procesā ir jāsaskaņo ar Projekta autoru (autoruzraugu), Būvuzraugu un Pasūtītāju.
B12: 1.7. | C12: Būvdarbu veicējam jāparedz un jāiekļauj piedāvājumā visi ar darba izpildi saistītie izdevumi, to skaitā: - normatīvajos aktos un būvdarbu līgumā norādīto būvtāfeļu un informatīvo plakātu izgatavošana, uzstādīšana un demontāža; - uzmērīšana un nospraušana; - visi, ar minēto darbu sarakstu saistīti sagatavošanas darbi, nobeiguma, teritorijas sakārtošanas darbi un darbi, kas tāmē nav minēti, kā atsevišķi darbi, bet ir nepieciešami, lai darbu kvalitāte atbilstu līguma, LVS, LR likumu un normatīvu prasībām; - būvlaukuma ierīkošana un uzturēšana visam būvniecības periodam; - palīgteritoriju iegūšana un uzturēšana, ja nepieciešams; - saskaņojumu un atļauju iegūšana; - sanitāro un drošības normu ievērošana; - satiksmes organizēšana; - nepieciešamās dokumentācijas un atļauju noformēšana; - darba izpildes u.c. nepieciešamo projektu izstrāde (mērījumi, aprēķini, rasējumi, apraksti, plāni, grafiki, darbu veikšanas projekts u.tml.); - kvalitātes nodrošināšana un kontrole (paraugu ņemšana, testēšana, uzmērījumi, dokumentēšana, kvalitātes procedūras, preventīvās darbības u.tml.); - būvmateriālu un būvizstrādājumu sagatavošana, uzglabāšana, piegādes un iestrādes; - iekārtas un ar tām saistītie izdevumi pagaidu darbiem (papildu darbiem, lai izpildītu pamatdarbu); - darbaspēks, materiāli un mehānismi; - būvgružu un demontēto materiālu savākšana, transportēšana un utilizēšana; - zemes darbi, tranšeju sienu nostiprināšana, virsūdens un gruntsūdens atvadīšana, atsūknēšana un priekšattīrīšana; - pagaidu risinājumi, lai nodrošinātu visu esošo inženierkomunikāciju (tajā skaitā ūdensapgādes, kanalizācijas sistēmu, elektroapgādes, vājstrāvas sistēmu, siltumapgādes sistēmu u.c.) nepārtrauktu darbību būvprojektā paredzēto būvdarbu veikšanas laikā;
B13: 1.8. | C13: Būvdarbu veicējam jāparedz un jāiekļauj piedāvājumā visi ar darba izpildi saistītie izdevumi, to skaitā (turpinājums): - vispārējās saistības, atbildības un risku nodrošinājums; - darbu organizācija un administrēšana; - tiesību aktos noteikto nodokļu un nodevu nomaksa, izņemot pievienotās vērtības nodokli; - izpilddokumentācijas sagatavošana 1 papīra eksempārā un elektronisko dokumentu veidā atbilstoši Izpilddokumentācijas sadaļā minētajam (Skatīt lapu "SA_izpilddok".), t.i.izpildīto darbu mērījumi, diagrammas, shēmas, akti, segto darbu akti, deklarācijas, materiālu sertifikāti, detalizētas izpildshēmas ar augstuma atzīmēm un piesaistēm, tehniskā dokumentācija u.c.; - visi izdevumi atzinumu saņemšanai un objekta nodošanai ekspluatācijā; - visi izdevumi Pasūtītāja pārstāvju instruēšanai (apmācībai) par iebūvētajām iekārtām, to ekspluatāciju, apkopēm un garantijas saistību nosacījumiem; - jebkuru citu iepirkuma dokumentācijā un/vai būvniecības ieceres dokumentācijā minēto darbu pozīciju, kas nav atsevišķi norādītas citviet, izmaksas; - jāvērtē visi nepieciešamie darbi, materiāli, būvmašīnas un transports, bez kā nevarētu būt iespējama darba daudzumu sarakstā minēto darbu tehnoloģiski pareiza, Pasūtītāja prasībām atbilstoša izpilde pilnā apjomā.
B14: 1.9. | C14: Ja Pretendents konstatē pretrunas starp būvprojektu, tehnisko specifikāciju un/vai finanšu piedāvājuma formu (tāmi), viņam ir pienākums jautājumu un atbilžu laikā pirms piedāvājumu iesniegšanas pieprasīt skaidrojumu Pasūtītājam. Ja šāds skaidrojums nav pieprasīts, tiek uzskatīts, kā Pretendents ir iecenojis visus darbus un materiālus pilnā apjomā saskaņā ar būvprojektu.
B15: 1.10. | C15: Finanšu piedāvājuma formā, lokālajā tāmē Nr.1-6 BK Būvkonstrukcijas, pozīcijā Nr.11 ir atsauce uz specifikāciju “Pamata plātnes apbērums ar smalku smilti atbilstoši "Autoceļu būvdarbu specifikācijas 2023/3 (ABS 2023/3)" (https://lvceli.lv/wp-content/uploads/2025/10/Autocelu_buvdarbu_specifikacijas_2023_3-1.pdf)”. Būvprojekta grafiskajā daļā ir saglabājusies atsauce uz vecāku specifikāciju. Jāņem vērā finanšu piedāvājuma formā (tāmē) minētā specifikācija.
B16: 1.11. | C16: Pirms piedāvājuma iesniegšanas obligāti jāveic objekta apsekošanu dabā. Objekta apskati nepieciešams pieteikt iepriekš. Lai vienotos par apskates laiku, lūdzam sazināties ar iepirkuma dokumentācijā minēto kontaktpersonu.
B17: 1.12. | C17: Būvdarbu izpildei nav paredzami īpaši apstākļi, izņemot nepieciešamību nodrošināt objekta nepārtrauktu darbību būvdarbu laikā, teritorijas uzturēšanu (pēc Būvlaukuma nodošanas akta parakstīšanas, kas tiks fiksēts ar konstatācijas aktu un fotofiksācijām).
... B21: 1.16. | C21: Visu darbu veikšanas laikā veikt fotofiksāciju un uzrādīt Pasūtītāja pilnvarotajiem pārstāvjiem, kā arī iekļaut Izpilddokumentācijā (Skatīt lapu "SA_izpilddok".)
B22: 2. Izpilddokumentācija
B23: 2.1. | C23: Būvdarbu veicējam būs jāveic izpilddokumentācijas iesniegšana šādos viedos: - BIS vidē, atbilstoši normatīvo aktu un būvniecības informācijas sistēmas prasībām; - BIM / Trimble vidē, atbilstoši Rīgas satiksmes prasībām par dokumentu struktūru un formu; - papīra formātā (atsevišķi norādītās pozīcijas) un elektronisko dokumentu formātā, atbilstoši Rīgas satiksmes prasībām par šīs sadaļas dokumentu struktūru un formu (Skatīt lapu "SA_izpilddok".);
B24: 2.2. | C24: Izpildmērījumiem jābūt veiktiem atbilstoši faktiskajai izbūves situācijai dabā. Izpildmērījumi jāiesniedz elektroniski parakstīta dokumenta veidā DWG vai DGN formātā. Pirms iesniegšanas tiem jābūt reģistrētiem pašvaldības ADTI uzturētāja datubāzē.

Sheet SA_izpilddok
A1: 10 | B1: Skaidrojošs apraksts - Izpilddokumentācija
B3: Vispārīgi | D3: elektroniski | E3: papīrā
B4: {=[1]Visparigi!$B$4:$E$16} -> 1 | C4: Titullapa | D4: elektroniski | E4: precizēt
B5: 2 | C5: Saturs | D5: elektroniski | E5: precizēt
B6: 3 | C6: Ģenerāluzņēmēja Komersanta reģistrācijas apliecība | D6: elektroniski | E6: precizēt
B7: 4 | C7: Ģenerāluzņēmēja Būvkomersanta reģistrācijas apliecība (vai izdruka no BIS sistēmas) | D7: elektroniski | E7: precizēt
B8: 5 | C8: Atbildīgā būvdarbu vadītāja sertifikāti | D8: elektroniski | E8: precizēt
B9: 6 | C9: Darbu veicēja / apakšuzņēmēja Komersanta reģistrācijas apliecība | D9: elektroniski | E9: precizēt
B10: 7 | C10: Darbu veicēja / apakšuzņēmēja Būvkomersanta reģistrācijas apliecība (vai izdruka no BIS sistēmas) | D10: elektroniski | E10: precizēt
B11: 8 | C11: Darbu vadītāja sertifikāti | D11: elektroniski | E11: precizēt
B12: 9 | C12: Izpildrasējumi un izpildshēmas PDF un DWG formātā, atsevišķos gadījumos arī papīra formātā / katrai markai skatīt iespējamos precizējumus | D12: elektroniski | E12: precizēt
B13: 10 | C13: Ekspluatācijas dokumentācija / katrai markai skatīt iespējamos precizējumus | D13: elektroniski | E13: precizēt
B14: 11 | C14: Būvizstrādājumu atbilstības apliecinājumi (ekspluatācijas īpašību deklarācijas, sertifikāti u.c.) / katrai markai skatīt iespējamos precizējumus | D14: elektroniski | E14: precizēt
B15: 12 | C15: Segto (slēpto) darbu pieņemšanas akti (parakstīti ar elektronisko parakstu) | D15: elektroniski | E15: precizēt
B16: 13 | C16: Garantijas dokumentācija un termiņa apliecinājums atbilstoši līguma nosacījumiem. Jābūt norādītai kontaktpersonai garantijas jautājumu risināšanai. / katrai markai skatīt iespējamos precizējumus | D16: elektroniski | E16: precizēt
B18: UKT (Ūdensapgāde un kanalizācija - ārējā) | D18: elektroniski | E18: papīrā
B19: =B16+1 -> 14 | C19: Izpildrasējumi ar augstumu atzīmēm, cauruļvadu diametriem, materiāliem, noslēgarmatūru utt. | D19: elektroniski
B20: =B19+1 -> 15 | C20: Izpildshēma | D20: elektroniski
B21: =B20+1 -> 16 | C21: Izpilduzmērījums, jābūt reģistrētiem pašvaldības ADTI uzturētāja datubāzē | D21: elektroniski | E21: papīrā
B22: =B21+1 -> 17 | C22: Hidrauliskās pārbaudes akts ūdensvadam, ja attiecināms | D22: elektroniski
B23: =B22+1 -> 18 | C23: Skalošanas un dezinfekcijas akts ūdensvadam, ja attiecināms | D23: elektroniski
B24: =B23+1 -> 19 | C24: Pieņemšanas-nodošanas akts ar ūdensapgādes uzņēmumu (vai atzinums), ja attiecināms | D24: elektroniski | E24: papīrā
B25: =B24+1 -> 20 | C25: Kanalizācijas cauruļvadu tīkla CCTV videoinspekcijas atskaite, ar identificējamiem posmiem atbilstoši izpildshēmai vai izpildrasējumam (ja nepieciešams, jāveic atkārtoti pēc seguma izbūves) | D25: elektroniski
B26: =B25+1 -> 21 | C26: Būvizstrādājumu atbilstības apliecinājumi - cauruļvadiem, armatūrai, fasondaļām, iekārtām u.c. | D26: elektroniski
B27: =B26+1 -> 22 | C27: Iekārtu tehniskās pases | D27: elektroniski | E27: papīrā
B28: =B27+1 -> 23 | C28: Iekārtu tehniskā dokumentācija, rokasgrāmatas, automātikas elektrosadalņu shēmas | D28: elektroniski
B29: =B28+1 -> 24 | C29: Apkopes instrukcijas (reglaments, grafiks) | D29: elektroniski | E29: papīrā
B30: =B29+1 -> 25 | C30: Automātikas ieregulēšanas protokols | D30: elektroniski | E30: papīrā
B31: =B30+1 -> 26 | C31: EL, ESS, VAS u.c. saistīto sistēmu apsaistes shēmas | D31: elektroniski
B32: =B31+1 -> 27 | C32: Būvdarbu fotofiksācijas | D32: elektroniski
B33: Piezīmes: | C33: Dokumentāciju sadalīt atbilstoši projekta dokumentācijai / loģiskajiem blokiem, piemēram, atsevišķi par ūdensvadu, sadzīves kanalizāciju, ražošanas kanalizāciju, lietus kanalizāciju, KSS1, KSS2, naftas atdalītājs, smilšu uztvērējs utt. Visām shēmām, instrukcijām, rokasgrāmatām, tehniskajai, ekspluatācijas un garantijas dokumentācijai ir jābūt valsts valodā (latviešu). Dokumentiem jābūt parakstītiem. Titullapā, kā arī uz izpildrasējumiem un izpildshēmām, obligāti jābūt norādītai informācijai: Pasūtītājs jeb Būvniecības ierosinātājs: RP SIA "Rīgas satiksme"; Izpildītājs: ģenerāluzņēmējs, apakšuzņēmējs; un Izstrādātājs: būvspeciālists.

Sheet Koptame
C1: Atbilstoši: Latvijas būvnormatīva LBN 501-17 "Būvizmaksu noteikšanas kārtība" 7.pielikumam
C5: APSTIPRINU:
D6: pasūtītāja pārstāvis, paraksts un tā atšifrējums
D8: Datums:
B11: Būvniecības koptāme
B13: Objekta nosaukums: | C13: Ārējo lietus, ražošanas un sadzīves kanalizācijas tīklu modernizācija Kleistu ielā 28 (autobusu parks Nr.6), Rīgā
B14: Būves nosaukums: | C14: Ārējie kanalizācijas tīkli un inženierbūves
B15: Objekta adrese: | C15: Kleistu iela 28, Rīga
B16: Pasūtījuma / līguma Nr.:
B18: Nr. p.k. | C18: Objekta nosaukums | E18: Objekta izmaksas (EUR bez PVN)
B23: 1 | C23: =C13 -> Ārējo lietus, ražošanas un sadzīves kanalizācijas tīklu modernizācija Kleistu ielā 28 (autobusu parks Nr.6), Rīgā | E23: =Kopsavilkums!F31 -> 0
B25: Kopā: | E25: =ROUND(SUM(E23:E24),2) -> 0
B26: Pievienotās vērtības nodoklis | D26: 0.21 | E26: =ROUND(E25*D26,2) -> 0
B27: Būvniecības izmaksas kopā (EUR ar PVN): | E27: =ROUND(SUM(E25:E26),2) -> 0
B30: Sastādīja:
C31: paraksts un tā atšifrējums, datums
B32: Sertifikāta Nr.:
B34: Tāme sastādīta: | C34: 01.07.2026.
B38: DOKUMENTS IR PARAKSTĪTS AR DROŠU ELEKTRONISKO PARAKSTU UN SATUR LAIKA ZĪMOGU

Sheet Kopsavilkums
G1: Atbilstoši: Latvijas būvnormatīva LBN 501-17 "Būvizmaksu noteikšanas kārtība" 6.pielikumam
B2: Kopsavilkuma aprēķins Nr. | F2: 1
B4: Objekta nosaukums: | D4: =Koptame!C13 -> Ārējo lietus, ražošanas un sadzīves kanalizācijas tīklu modernizācija Kleistu ielā 28 (autobusu parks Nr.6), Rīgā
B5: Būves nosaukums: | D5: =Koptame!C14 -> Ārējie kanalizācijas tīkli un inženierbūves
B6: Objekta adrese: | D6: =Koptame!C15 -> Kleistu iela 28, Rīga
B7: Pasūtījuma / līguma Nr.:
D8: Pavisam kopā (EUR bez PVN): | E8: =F31 -> 0
D9: Kopējā darbietilpība (c/h): | E9: =J27 -> 0
B11: Nr. p.k. | C11: Tāmes Nr. | D11: Būvdarbu veids vai konstruktīvā elementa nosaukums | F11: Tāmes izmaksas (EUR) | G11: Tai skaitā | J11: darbietilpība (c/h)
G12: darba alga (EUR) | H12: būv-izstrādājumi (EUR) | I12: mehānismi (EUR)
B16: 1 | C16: L.t. 1-1 | D16: Pašteces kanalizācija K1 | F16: ='1-1_K1'!P57 -> 0 | G16: ='1-1_K1'!M57 -> 0 | H16: ='1-1_K1'!N57 -> 0 | I16: ='1-1_K1'!O57 -> 0 | J16: ='1-1_K1'!L57 -> 0
B17: =IF(B16<>"",B16+1,"") -> 2 | C17: L.t. 1-2 | D17: Pašteces kanalizācija K2 | F17: ='1-2_K2'!P89 -> 0 | G17: ='1-2_K2'!M89 -> 0 | H17: ='1-2_K2'!N89 -> 0 | I17: ='1-2_K2'!O89 -> 0 | J17: ='1-2_K2'!L89 -> 0
B18: =IF(B17<>"",B17+1,"") -> 3 | C18: L.t. 1-3 | D18: Lietus kanalizācija LK1 | F18: ='1-3_LK1'!P67 -> 0 | G18: ='1-3_LK1'!M67 -> 0 | H18: ='1-3_LK1'!N67 -> 0 | I18: ='1-3_LK1'!O67 -> 0 | J18: ='1-3_LK1'!L67 -> 0
B19: =IF(B18<>"",B18+1,"") -> 4 | C19: L.t. 1-4 | D19: Lietus kanalizācija LK2 | F19: ='1-4_LK2'!P64 -> 0 | G19: ='1-4_LK2'!M64 -> 0 | H19: ='1-4_LK2'!N64 -> 0 | I19: ='1-4_LK2'!O64 -> 0 | J19: ='1-4_LK2'!L64 -> 0
B20: =IF(B19<>"",B19+1,"") -> 5 | C20: L.t. 1-5 | D20: Esošās kanalizācijas demontāža | F20: ='1-5_DEM'!P43 -> 0 | G20: ='1-5_DEM'!M43 -> 0 | H20: ='1-5_DEM'!N43 -> 0 | I20: ='1-5_DEM'!O43 -> 0 | J20: ='1-5_DEM'!L43 -> 0
B21: =IF(B20<>"",B20+1,"") -> 6 | C21: L.t. 1-6 | D21: Būvkonstrukcijas | F21: ='1-6_BK'!P33 -> 0 | G21: ='1-6_BK'!M33 -> 0 | H21: ='1-6_BK'!N33 -> 0 | I21: ='1-6_BK'!O33 -> 0 | J21: ='1-6_BK'!L33 -> 0
B22: =IF(B21<>"",B21+1,"") -> 7 | C22: L.t. 1-7 | D22: Ārējā elektroapgāde, sadalne VS-1 | F22: ='1-7_VS-1'!P61 -> 0 | G22: ='1-7_VS-1'!M61 -> 0 | H22: ='1-7_VS-1'!N61 -> 0 | I22: ='1-7_VS-1'!O61 -> 0 | J22: ='1-7_VS-1'!L61 -> 0
B23: =IF(B22<>"",B22+1,"") -> 8 | C23: L.t. 1-8 | D23: Ārējā elektroapgāde, sadalne VS-2 | F23: ='1-8_VS-2'!P63 -> 0 | G23: ='1-8_VS-2'!M63 -> 0 | H23: ='1-8_VS-2'!N63 -> 0 | I23: ='1-8_VS-2'!O63 -> 0 | J23: ='1-8_VS-2'!L63 -> 0
B24: =IF(B23<>"",B23+1,"") -> 9 | C24: L.t. 1-9 | D24: Ārējā elektroapgāde, sadalne VS-3 | F24: ='1-9_VS-3'!P49 -> 0 | G24: ='1-9_VS-3'!M49 -> 0 | H24: ='1-9_VS-3'!N49 -> 0 | I24: ='1-9_VS-3'!O49 -> 0 | J24: ='1-9_VS-3'!L49 -> 0
B25: =IF(B24<>"",B24+1,"") -> 10 | C25: L.t. 1-10 | D25: Ceļa darbi | F25: ='1-10_TS-CD'!P59 -> 0 | G25: ='1-10_TS-CD'!M59 -> 0 | H25: ='1-10_TS-CD'!N59 -> 0 | I25: ='1-10_TS-CD'!O59 -> 0 | J25: ='1-10_TS-CD'!L59 -> 0
D27: Kopā: | F27: =ROUND(SUM(F16:F26),2) -> 0 | G27: =ROUND(SUM(G16:G26),2) -> 0 | H27: =ROUND(SUM(H16:H26),2) -> 0 | I27: =ROUND(SUM(I16:I26),2) -> 0 | J27: =ROUND(SUM(J16:J26),2) -> 0
B28: Virsizdevumi | E28: 0 | F28: =ROUND(F27*E28,2) -> 0
B29: t. sk. darba aizsardzībai (no virsizdevumiem) | E29: 0 | F29: =ROUND(F28*E29,2) -> 0
B30: Peļņa | E30: 0 | F30: =ROUND(F27*E30,2) -> 0
B31: Pavisam kopā (EUR bez PVN): | F31: =F27+F28+F30 -> 0
C34: Sastādīja:
D35: paraksts un tā atšifrējums, datums
C36: Tāme sastādīta: | D36: =Koptame!C34 -> 01.07.2026.
C39: Pārbaudīja:
D40: paraksts un tā atšifrējums, datums
C41: Sertifikāta Nr.:

Sheet 1-1_K1
M1: Atbilstoši: Latvijas būvnormatīva LBN 501-17 "Būvizmaksu noteikšanas kārtība" 5.pielikumam
C2: Lokālā tāme Nr. | I2: 1-1
C3: Pašteces kanalizācija K1
C4: būvdarbu veids vai konstruktīvā elementa nosaukums
B5: Objekta nosaukums: | D5: =Koptame!C13 -> Ārējo lietus, ražošanas un sadzīves kanalizācijas tīklu modernizācija Kleistu ielā 28 (autobusu parks Nr.6), Rīgā
B6: Būves nosaukums: | D6: =Koptame!C14 -> Ārējie kanalizācijas tīkli un inženierbūves
B7: Objekta adrese: | D7: =Koptame!C15 -> Kleistu iela 28, Rīga
B8: Pasūtījuma / līguma Nr.:
B10: Tāme sastādīta 2026.gada tirgus cenās, pamatojoties uz iepirkuma dokumentāciju. | N10: Tāme sastādīta: | O10: =Koptame!C34 -> 01.07.2026.
N11: Tāmes tiešās izmaksas (EUR bez PVN): | O11: =P57 -> 0
B13: Nr. p.k. | C13: Būvdarbu nosaukums | D13: Mērv. | E13: Daudz. | F13: Vienības izmaksas | L13: Kopā uz visu apjomu
F14: laika norma (c/h) | G14: darba samaksas likme (EUR/h) | H14: darba alga (EUR) | I14: būv-izstrādājumi (EUR) | J14: mehānismi (EUR) | K14: Kopā (EUR) | L14: darbietilpība (c/h) | M14: darba alga (EUR) | N14: būv-izstrādājumi (EUR) | O14: mehānismi (EUR) | P14: Summa (EUR)
B18: 1 | C18: 2 | D18: 3 | E18: 4 | F18: 5 | G18: 6 | H18: 7 | I18: 8 | J18: 9 | K18: 10 | L18: 11 | M18: 12 | N18: 13 | O18: 14 | P18: 15
B19: 1 | C19: Zemes darbi projektēto K1 tīklu darbu zonā
B20: =IF(B19<>"",B19+1,"") -> 2 | C20: Tranšejas rakšana un aizbēršana kanalizācijas tīklu OD110 montāžai (ieskaitot grunts nomaiņu, aizvešanu, atvešanu utt.) H=0,9 - 1,50 m | D20: m | E20: 5.3 | H20: =ROUND(F20*G20,2) -> 0 | K20: =ROUND(SUM(H20:J20),2) -> 0 | L20: =ROUND(E20*F20,2) -> 0 | M20: =ROUND(E20*H20,2) -> 0 | N20: =ROUND(E20*I20,2) -> 0 | O20: =ROUND(E20*J20,2) -> 0 | P20: =ROUND(SUM(M20:O20),2) -> 0
B21: =IF(B20<>"",B20+1,"") -> 3 | C21: Tranšejas rakšana un aizbēršana kanalizācijas tīklu OD160 montāžai (ieskaitot grunts nomaiņu, aizvešanu, atvešanu utt.) H=0,9 - 1,50 m | D21: m | E21: 2.5 | H21: =ROUND(F21*G21,2) -> 0 | K21: =ROUND(SUM(H21:J21),2) -> 0 | L21: =ROUND(E21*F21,2) -> 0 | M21: =ROUND(E21*H21,2) -> 0 | N21: =ROUND(E21*I21,2) -> 0 | O21: =ROUND(E21*J21,2) -> 0 | P21: =ROUND(SUM(M21:O21),2) -> 0
B22: =IF(B21<>"",B21+1,"") -> 4 | C22: Tranšejas rakšana un aizbēršana kanalizācijas tīklu OD200 montāžai (ieskaitot grunts nomaiņu, aizvešanu, atvešanu utt.) H=1,0-2,0 m | D22: m | E22: 104.9 | H22: =ROUND(F22*G22,2) -> 0 | K22: =ROUND(SUM(H22:J22),2) -> 0 | L22: =ROUND(E22*F22,2) -> 0 | M22: =ROUND(E22*H22,2) -> 0 | N22: =ROUND(E22*I22,2) -> 0 | O22: =ROUND(E22*J22,2) -> 0 | P22: =ROUND(SUM(M22:O22),2) -> 0
B23: =IF(B22<>"",B22+1,"") -> 5 | C23: Tranšejas rakšana un aizbēršana kanalizācijas tīklu OD200 montāžai (ieskaitot grunts nomaiņu, aizvešanu, atvešanu utt.) H=2,0-2,5 m | D23: m | E23: 10.3 | H23: =ROUND(F23*G23,2) -> 0 | K23: =ROUND(SUM(H23:J23),2) -> 0 | L23: =ROUND(E23*F23,2) -> 0 | M23: =ROUND(E23*H23,2) -> 0 | N23: =ROUND(E23*I23,2) -> 0 | O23: =ROUND(E23*J23,2) -> 0 | P23: =ROUND(SUM(M23:O23),2) -> 0
B24: =IF(B23<>"",B23+1,"") -> 6 | C24: Tranšejas rakšana un aizbēršana kanalizācijas spiedvada OD90 montāžai (ieskaitot grunts nomaiņu, aizvešanu, atvešanu utt.) H÷ 2,00 m | D24: m | E24: 10.5 | H24: =ROUND(F24*G24,2) -> 0 | K24: =ROUND(SUM(H24:J24),2) -> 0 | L24: =ROUND(E24*F24,2) -> 0 | M24: =ROUND(E24*H24,2) -> 0 | N24: =ROUND(E24*I24,2) -> 0 | O24: =ROUND(E24*J24,2) -> 0 | P24: =ROUND(SUM(M24:O24),2) -> 0
B25: =IF(B24<>"",B24+1,"") -> 7 | C25: Tranšejas sienu nostiprināšana ar metāla vairogiem (divpusēji) pie dziļuma, kas lielāks par 1,50 m. *norādīts tekošais tranšejas garums, pieņemot, ka sienas nostiprinātas abās būvgrāvja pusēs | D25: m | E25: 125.7 | H25: =ROUND(F25*G25,2) -> 0 | K25: =ROUND(SUM(H25:J25),2) -> 0 | L25: =ROUND(E25*F25,2) -> 0 | M25: =ROUND(E25*H25,2) -> 0 | N25: =ROUND(E25*I25,2) -> 0 | O25: =ROUND(E25*J25,2) -> 0 | P25: =ROUND(SUM(M25:O25),2) -> 0
B26: =IF(B25<>"",B25+1,"") -> 8 | C26: Smilts pamatnes ierīkošana zem cauruļvadiem, h=15 cm | D26: m3 | E26: 19.8046 | H26: =ROUND(F26*G26,2) -> 0 | K26: =ROUND(SUM(H26:J26),2) -> 0 | L26: =ROUND(E26*F26,2) -> 0 | M26: =ROUND(E26*H26,2) -> 0 | N26: =ROUND(E26*I26,2) -> 0 | O26: =ROUND(E26*J26,2) -> 0 | P26: =ROUND(SUM(M26:O26),2) -> 0
B27: =IF(B26<>"",B26+1,"") -> 9 | C27: Cauruļvadu smilšu apbērums, h=15 cm | D27: m3 | E27: 41.0304 | H27: =ROUND(F27*G27,2) -> 0 | K27: =ROUND(SUM(H27:J27),2) -> 0 | L27: =ROUND(E27*F27,2) -> 0 | M27: =ROUND(E27*H27,2) -> 0 | N27: =ROUND(E27*I27,2) -> 0 | O27: =ROUND(E27*J27,2) -> 0 | P27: =ROUND(SUM(M27:O27),2) -> 0
B28: =IF(B27<>"",B27+1,"") -> 10 | C28: Gruntsūdens līmeņa pazemināšana | D28: m | E28: 133.5 | H28: =ROUND(F28*G28,2) -> 0 | K28: =ROUND(SUM(H28:J28),2) -> 0 | L28: =ROUND(E28*F28,2) -> 0 | M28: =ROUND(E28*H28,2) -> 0 | N28: =ROUND(E28*I28,2) -> 0 | O28: =ROUND(E28*J28,2) -> 0 | P28: =ROUND(SUM(M28:O28),2) -> 0
B29: =IF(B28<>"",B28+1,"") -> 11 | C29: Kanalizācijas K1 montāžas darbi
B30: =IF(B29<>"",B29+1,"") -> 12 | C30: PP gofrēta dubultsienu kanalizācijas caurules ar uzmavām un blīvi OD110; H=0,90 - 1,50 m, ieguldes klase SN8 montāža un ar to saistītie darbi | D30: m | E30: 5.3 | H30: =ROUND(F30*G30,2) -> 0 | K30: =ROUND(SUM(H30:J30),2) -> 0 | L30: =ROUND(E30*F30,2) -> 0 | M30: =ROUND(E30*H30,2) -> 0 | N30: =ROUND(E30*I30,2) -> 0 | O30: =ROUND(E30*J30,2) -> 0 | P30: =ROUND(SUM(M30:O30),2) -> 0
B31: =IF(B30<>"",B30+1,"") -> 13 | C31: PP gofrēta dubultsienu kanalizācijas caurules ar uzmavām un blīvi OD160; H=0,90 - 1,50 m, ieguldes klase SN8 montāža un ar to saistītie darbi | D31: m | E31: 2.5 | H31: =ROUND(F31*G31,2) -> 0 | K31: =ROUND(SUM(H31:J31),2) -> 0 | L31: =ROUND(E31*F31,2) -> 0 | M31: =ROUND(E31*H31,2) -> 0 | N31: =ROUND(E31*I31,2) -> 0 | O31: =ROUND(E31*J31,2) -> 0 | P31: =ROUND(SUM(M31:O31),2) -> 0
B32: =IF(B31<>"",B31+1,"") -> 14 | C32: PP gofrēta dubultsienu kanalizācijas caurules ar uzmavām un blīvi OD200; H=1,0 - 2,0 m, ieguldes klase SN8 montāža un ar to saistītie darbi | D32: m | E32: 104.9 | H32: =ROUND(F32*G32,2) -> 0 | K32: =ROUND(SUM(H32:J32),2) -> 0 | L32: =ROUND(E32*F32,2) -> 0 | M32: =ROUND(E32*H32,2) -> 0 | N32: =ROUND(E32*I32,2) -> 0 | O32: =ROUND(E32*J32,2) -> 0 | P32: =ROUND(SUM(M32:O32),2) -> 0
B33: =IF(B32<>"",B32+1,"") -> 15 | C33: PP gofrēta dubultsienu kanalizācijas caurules ar uzmavām un blīvi OD200; H=2,0 - 2,50 m, ieguldes klase SN8 montāža un ar to saistītie darbi | D33: m | E33: 10.3 | H33: =ROUND(F33*G33,2) -> 0 | K33: =ROUND(SUM(H33:J33),2) -> 0 | L33: =ROUND(E33*F33,2) -> 0 | M33: =ROUND(E33*H33,2) -> 0 | N33: =ROUND(E33*I33,2) -> 0 | O33: =ROUND(E33*J33,2) -> 0 | P33: =ROUND(SUM(M33:O33),2) -> 0
B34: =IF(B33<>"",B33+1,"") -> 16 | C34: Caurule SDR17 PE100 OD90 PN10; H ÷ 2,0 m, montāža un ar to saistītie darbi | D34: m | E34: 10.5 | H34: =ROUND(F34*G34,2) -> 0 | K34: =ROUND(SUM(H34:J34),2) -> 0 | L34: =ROUND(E34*F34,2) -> 0 | M34: =ROUND(E34*H34,2) -> 0 | N34: =ROUND(E34*I34,2) -> 0 | O34: =ROUND(E34*J34,2) -> 0 | P34: =ROUND(SUM(M34:O34),2) -> 0
B35: =IF(B34<>"",B34+1,"") -> 17 | C35: Sadzīves kanalizācijas sūkņu stacija, korpuss HDPE Ø1500, H=3,51 m; ar aizslēdzamu vāku - uzstādīšana, savienošana ar kanalizācijas pienākošo pašteces vadu un aizejošo kanalizācijas spiedvadu, iekšējā komplektācija atbilstoši rasējumam UKT/LKT-6 | D35: kpl | E35: 1 | H35: =ROUND(F35*G35,2) -> 0 | K35: =ROUND(SUM(H35:J35),2) -> 0 | L35: =ROUND(E35*F35,2) -> 0 | M35: =ROUND(E35*H35,2) -> 0 | N35: =ROUND(E35*I35,2) -> 0 | O35: =ROUND(E35*J35,2) -> 0 | P35: =ROUND(SUM(M35:O35),2) -> 0
B36: =IF(B35<>"",B35+1,"") -> 18 | C36: Sūkņu stacijas vadības un automātikas bloks LC231, kas izvietojams VS-2 sadalnē, atbilstoši rasējumam UKT/LKT-6, ELT-5. | D36: kpl | E36: 1 | H36: =ROUND(F36*G36,2) -> 0 | K36: =ROUND(SUM(H36:J36),2) -> 0 | L36: =ROUND(E36*F36,2) -> 0 | M36: =ROUND(E36*H36,2) -> 0 | N36: =ROUND(E36*I36,2) -> 0 | O36: =ROUND(E36*J36,2) -> 0 | P36: =ROUND(SUM(M36:O36),2) -> 0
B37: =IF(B36<>"",B36+1,"") -> 19 | C37: PP skataka ID600 H=1,0-2,0 m, aku vākiem ir jābūt montētiem uz armēta dzelzbetona slodzi kliedējoša atbalsta gredzena no C50/60 markas betona, ķeta vākiem D400 klases, pamatne ar tekni rūpnieciski izgatavota, montāža un ar to saistītie darbi | D37: kpl | E37: 6 | H37: =ROUND(F37*G37,2) -> 0 | K37: =ROUND(SUM(H37:J37),2) -> 0 | L37: =ROUND(E37*F37,2) -> 0 | M37: =ROUND(E37*H37,2) -> 0 | N37: =ROUND(E37*I37,2) -> 0 | O37: =ROUND(E37*J37,2) -> 0 | P37: =ROUND(SUM(M37:O37),2) -> 0
B38: =IF(B37<>"",B37+1,"") -> 20 | C38: PP skataka ID600 H=2,0-2,5 m, aku vākiem ir jābūt montētiem uz armēta dzelzbetona slodzi kliedējoša atbalsta gredzena no C50/60 markas betona, ķeta vākiem D400 klases, pamatne ar tekni rūpnieciski izgatavota, montāža un ar to saistītie darbi | D38: kpl | E38: 1 | H38: =ROUND(F38*G38,2) -> 0 | K38: =ROUND(SUM(H38:J38),2) -> 0 | L38: =ROUND(E38*F38,2) -> 0 | M38: =ROUND(E38*H38,2) -> 0 | N38: =ROUND(E38*I38,2) -> 0 | O38: =ROUND(E38*J38,2) -> 0 | P38: =ROUND(SUM(M38:O38),2) -> 0
B39: =IF(B38<>"",B38+1,"") -> 21 | C39: Dz. b. skataka DN1000 H=1,0-1,5 m, aku vākiem ir jābūt montētiem uz armēta dzelzbetona slodzi kliedējoša atbalsta gredzena no C50/60 markas betona, ķeta vākiem D400 klases, pamatne ar tekni rūpnieciski izgatavota, spiediena atsitiena plāksne, montāža un ar to saistītie darbi | D39: kpl. | E39: 1 | H39: =ROUND(F39*G39,2) -> 0 | K39: =ROUND(SUM(H39:J39),2) -> 0 | L39: =ROUND(E39*F39,2) -> 0 | M39: =ROUND(E39*H39,2) -> 0 | N39: =ROUND(E39*I39,2) -> 0 | O39: =ROUND(E39*J39,2) -> 0 | P39: =ROUND(SUM(M39:O39),2) -> 0
B40: =IF(B39<>"",B39+1,"") -> 22 | C40: Pieslēguma izbūve kanalizācijas tīkliem d200mm | D40: kpl | E40: 2 | H40: =ROUND(F40*G40,2) -> 0 | K40: =ROUND(SUM(H40:J40),2) -> 0 | L40: =ROUND(E40*F40,2) -> 0 | M40: =ROUND(E40*H40,2) -> 0 | N40: =ROUND(E40*I40,2) -> 0 | O40: =ROUND(E40*J40,2) -> 0 | P40: =ROUND(SUM(M40:O40),2) -> 0
B41: =IF(B40<>"",B40+1,"") -> 23 | C41: Pieslēguma izbūve kanalizācijas tīkliem d150mm | D41: kpl | E41: 2 | H41: =ROUND(F41*G41,2) -> 0 | K41: =ROUND(SUM(H41:J41),2) -> 0 | L41: =ROUND(E41*F41,2) -> 0 | M41: =ROUND(E41*H41,2) -> 0 | N41: =ROUND(E41*I41,2) -> 0 | O41: =ROUND(E41*J41,2) -> 0 | P41: =ROUND(SUM(M41:O41),2) -> 0
... B53: =IF(B52<>"",B52+1,"") -> 35 | C53: Esošo elektrokabeļu un sakaru kabeļu aizsardzība to šķērsojumu vietās ar projektēto kanalizāciju, ievietojot tos saliekamajās aizsargčaulās AROT OD110, L=3m | D53: gb | E53: 7 | H53: =ROUND(F53*G53,2) -> 0 | K53: =ROUND(SUM(H53:J53),2) -> 0 | L53: =ROUND(E53*F53,2) -> 0 | M53: =ROUND(E53*H53,2) -> 0 | N53: =ROUND(E53*I53,2) -> 0 | O53: =ROUND(E53*J53,2) -> 0 | P53: =ROUND(SUM(M53:O53),2) -> 0
B54: =IF(B53<>"",B53+1,"") -> 36 | C54: Citi darbi
B55: =IF(B54<>"",B54+1,"") -> 37 | C55: Esošā žoga rūpīga noņemšana un novietošana atpakaļ (būvdarbu zonā). L=4.0m | D55: kpl | E55: 1 | H55: =ROUND(F55*G55,2) -> 0 | K55: =ROUND(SUM(H55:J55),2) -> 0 | L55: =ROUND(E55*F55,2) -> 0 | M55: =ROUND(E55*H55,2) -> 0 | N55: =ROUND(E55*I55,2) -> 0 | O55: =ROUND(E55*J55,2) -> 0 | P55: =ROUND(SUM(M55:O55),2) -> 0
C57: Tiešās izmaksas kopā, t. sk. darba devēja sociālais nodoklis (23,59%): | L57: =SUM(L19:L56) -> 0 | M57: =SUM(M19:M56) -> 0 | N57: =SUM(N19:N56) -> 0 | O57: =SUM(O19:O56) -> 0 | P57: =SUM(P19:P56) -> 0
...

Sheet 1-2_K2
M1: Atbilstoši: Latvijas būvnormatīva LBN 501-17 "Būvizmaksu noteikšanas kārtība" 5.pielikumam
C2: Lokālā tāme Nr. | I2: 1-2
C3: Pašteces kanalizācija K2
C4: būvdarbu veids vai konstruktīvā elementa nosaukums
B5: Objekta nosaukums: | D5: =Koptame!C13 -> Ārējo lietus, ražošanas un sadzīves kanalizācijas tīklu modernizācija Kleistu ielā 28 (autobusu parks Nr.6), Rīgā
B6: Būves nosaukums: | D6: =Koptame!C14 -> Ārējie kanalizācijas tīkli un inženierbūves
B7: Objekta adrese: | D7: =Koptame!C15 -> Kleistu iela 28, Rīga
B8: Pasūtījuma / līguma Nr.:
B10: Tāme sastādīta 2026.gada tirgus cenās, pamatojoties uz iepirkuma dokumentāciju. | N10: Tāme sastādīta: | O10: =Koptame!C34 -> 01.07.2026.
N11: Tāmes tiešās izmaksas (EUR bez PVN): | O11: =P89 -> 0
B13: Nr. p.k. | C13: Būvdarbu nosaukums | D13: Mērv. | E13: Daudz. | F13: Vienības izmaksas | L13: Kopā uz visu apjomu
F14: laika norma (c/h) | G14: darba samaksas likme (EUR/h) | H14: darba alga (EUR) | I14: būv-izstrādājumi (EUR) | J14: mehānismi (EUR) | K14: Kopā (EUR) | L14: darbietilpība (c/h) | M14: darba alga (EUR) | N14: būv-izstrādājumi (EUR) | O14: mehānismi (EUR) | P14: Summa (EUR)
B18: 1 | C18: 2 | D18: 3 | E18: 4 | F18: 5 | G18: 6 | H18: 7 | I18: 8 | J18: 9 | K18: 10 | L18: 11 | M18: 12 | N18: 13 | O18: 14 | P18: 15
B19: 1 | C19: Zemes darbi projektēto K2 tīklu darbu zonā
B20: =IF(B19<>"",B19+1,"") -> 2 | C20: Tranšejas rakšana un aizbēršana kanalizācijas tīklu OD50 montāžai (ieskaitot grunts nomaiņu*, aizvešanu, atvešanu utt.) H=1,0 - 1,50 m | D20: m | E20: 4.3 | H20: =ROUND(F20*G20,2) -> 0 | K20: =ROUND(SUM(H20:J20),2) -> 0 | L20: =ROUND(E20*F20,2) -> 0 | M20: =ROUND(E20*H20,2) -> 0 | N20: =ROUND(E20*I20,2) -> 0 | O20: =ROUND(E20*J20,2) -> 0 | P20: =ROUND(SUM(M20:O20),2) -> 0
B21: =IF(B20<>"",B20+1,"") -> 3 | C21: Tranšejas rakšana un aizbēršana kanalizācijas tīklu OD110 montāžai (ieskaitot grunts nomaiņu*, aizvešanu, atvešanu utt.) H=1,0 - 1,50 m | D21: m | E21: 4.2 | H21: =ROUND(F21*G21,2) -> 0 | K21: =ROUND(SUM(H21:J21),2) -> 0 | L21: =ROUND(E21*F21,2) -> 0 | M21: =ROUND(E21*H21,2) -> 0 | N21: =ROUND(E21*I21,2) -> 0 | O21: =ROUND(E21*J21,2) -> 0 | P21: =ROUND(SUM(M21:O21),2) -> 0
B22: =IF(B21<>"",B21+1,"") -> 4 | C22: Tranšejas rakšana un aizbēršana kanalizācijas tīklu OD160 montāžai (ieskaitot grunts nomaiņu*, aizvešanu, atvešanu utt.) H=1,0 - 1,50 m | D22: m | E22: 21.1 | H22: =ROUND(F22*G22,2) -> 0 | K22: =ROUND(SUM(H22:J22),2) -> 0 | L22: =ROUND(E22*F22,2) -> 0 | M22: =ROUND(E22*H22,2) -> 0 | N22: =ROUND(E22*I22,2) -> 0 | O22: =ROUND(E22*J22,2) -> 0 | P22: =ROUND(SUM(M22:O22),2) -> 0
B23: =IF(B22<>"",B22+1,"") -> 5 | C23: Tranšejas rakšana un aizbēršana kanalizācijas tīklu OD160 montāžai (ieskaitot grunts nomaiņu*, aizvešanu, atvešanu utt.) H=1,5 - 2,0 m | D23: m | E23: 3.8 | H23: =ROUND(F23*G23,2) -> 0 | K23: =ROUND(SUM(H23:J23),2) -> 0 | L23: =ROUND(E23*F23,2) -> 0 | M23: =ROUND(E23*H23,2) -> 0 | N23: =ROUND(E23*I23,2) -> 0 | O23: =ROUND(E23*J23,2) -> 0 | P23: =ROUND(SUM(M23:O23),2) -> 0
B24: =IF(B23<>"",B23+1,"") -> 6 | C24: Tranšejas rakšana un aizbēršana kanalizācijas tīklu OD200 montāžai (ieskaitot grunts nomaiņu*, aizvešanu, atvešanu utt.) H=1,0-1,50 m | D24: m | E24: 76.5 | H24: =ROUND(F24*G24,2) -> 0 | K24: =ROUND(SUM(H24:J24),2) -> 0 | L24: =ROUND(E24*F24,2) -> 0 | M24: =ROUND(E24*H24,2) -> 0 | N24: =ROUND(E24*I24,2) -> 0 | O24: =ROUND(E24*J24,2) -> 0 | P24: =ROUND(SUM(M24:O24),2) -> 0
B25: =IF(B24<>"",B24+1,"") -> 7 | C25: Tranšejas rakšana un aizbēršana kanalizācijas tīklu OD200 montāžai (ieskaitot grunts nomaiņu*, aizvešanu, atvešanu utt.) H=1,5-2,00 m | D25: m | E25: 96.1 | H25: =ROUND(F25*G25,2) -> 0 | K25: =ROUND(SUM(H25:J25),2) -> 0 | L25: =ROUND(E25*F25,2) -> 0 | M25: =ROUND(E25*H25,2) -> 0 | N25: =ROUND(E25*I25,2) -> 0 | O25: =ROUND(E25*J25,2) -> 0 | P25: =ROUND(SUM(M25:O25),2) -> 0
B26: =IF(B25<>"",B25+1,"") -> 8 | C26: Tranšejas rakšana un aizbēršana kanalizācijas tīklu OD200 montāžai (ieskaitot grunts nomaiņu*, aizvešanu, atvešanu utt.) H=2,00-2,5 m | D26: m | E26: 24.3 | H26: =ROUND(F26*G26,2) -> 0 | K26: =ROUND(SUM(H26:J26),2) -> 0 | L26: =ROUND(E26*F26,2) -> 0 | M26: =ROUND(E26*H26,2) -> 0 | N26: =ROUND(E26*I26,2) -> 0 | O26: =ROUND(E26*J26,2) -> 0 | P26: =ROUND(SUM(M26:O26),2) -> 0
B27: =IF(B26<>"",B26+1,"") -> 9 | C27: Tranšejas rakšana un aizbēršana kanalizācijas tīklu OD200 montāžai (ieskaitot grunts nomaiņu*, aizvešanu, atvešanu utt.) H=2,5-3,0 m | D27: m | E27: 12.2 | H27: =ROUND(F27*G27,2) -> 0 | K27: =ROUND(SUM(H27:J27),2) -> 0 | L27: =ROUND(E27*F27,2) -> 0 | M27: =ROUND(E27*H27,2) -> 0 | N27: =ROUND(E27*I27,2) -> 0 | O27: =ROUND(E27*J27,2) -> 0 | P27: =ROUND(SUM(M27:O27),2) -> 0
B28: =IF(B27<>"",B27+1,"") -> 10 | C28: Tranšejas rakšana un aizbēršana kanalizācijas spiedvada OD90 montāžai (ieskaitot grunts nomaiņu*, aizvešanu, atvešanu utt.) H÷ 2,00 m | D28: m | E28: 68.9 | H28: =ROUND(F28*G28,2) -> 0 | K28: =ROUND(SUM(H28:J28),2) -> 0 | L28: =ROUND(E28*F28,2) -> 0 | M28: =ROUND(E28*H28,2) -> 0 | N28: =ROUND(E28*I28,2) -> 0 | O28: =ROUND(E28*J28,2) -> 0 | P28: =ROUND(SUM(M28:O28),2) -> 0
B29: =IF(B28<>"",B28+1,"") -> 11 | C29: Tranšejas rakšana un aizbēršana kanalizācijas spiedvada OD90 montāžai (ieskaitot grunts nomaiņu*, aizvešanu, atvešanu utt.) H= 2,00-2,5 m | D29: m | E29: 69.4 | H29: =ROUND(F29*G29,2) -> 0 | K29: =ROUND(SUM(H29:J29),2) -> 0 | L29: =ROUND(E29*F29,2) -> 0 | M29: =ROUND(E29*H29,2) -> 0 | N29: =ROUND(E29*I29,2) -> 0 | O29: =ROUND(E29*J29,2) -> 0 | P29: =ROUND(SUM(M29:O29),2) -> 0
B30: =IF(B29<>"",B29+1,"") -> 12 | C30: Tranšejas sienu nostiprināšana ar metāla vairogiem (divpusēji) pie dziļuma, kas lielāks par 1,50 m. *norādīts tekošais tranšejas garums, pieņemot, ka sienas nostiprinātas abās būvgrāvja pusēs | D30: m | E30: 274.7 | H30: =ROUND(F30*G30,2) -> 0 | K30: =ROUND(SUM(H30:J30),2) -> 0 | L30: =ROUND(E30*F30,2) -> 0 | M30: =ROUND(E30*H30,2) -> 0 | N30: =ROUND(E30*I30,2) -> 0 | O30: =ROUND(E30*J30,2) -> 0 | P30: =ROUND(SUM(M30:O30),2) -> 0
B31: =IF(B30<>"",B30+1,"") -> 13 | C31: Smilts pamatnes ierīkošana zem cauruļvadiem, h=15 cm | D31: m3 | E31: 55.1 | H31: =ROUND(F31*G31,2) -> 0 | K31: =ROUND(SUM(H31:J31),2) -> 0 | L31: =ROUND(E31*F31,2) -> 0 | M31: =ROUND(E31*H31,2) -> 0 | N31: =ROUND(E31*I31,2) -> 0 | O31: =ROUND(E31*J31,2) -> 0 | P31: =ROUND(SUM(M31:O31),2) -> 0
... B34: =IF(B33<>"",B33+1,"") -> 16 | C34: Gruntsūdens līmeņa pazemināšana | D34: m | E34: 380.8 | H34: =ROUND(F34*G34,2) -> 0 | K34: =ROUND(SUM(H34:J34),2) -> 0 | L34: =ROUND(E34*F34,2) -> 0 | M34: =ROUND(E34*H34,2) -> 0 | N34: =ROUND(E34*I34,2) -> 0 | O34: =ROUND(E34*J34,2) -> 0 | P34: =ROUND(SUM(M34:O34),2) -> 0
B35: =IF(B34<>"",B34+1,"") -> 17 | C35: Kanalizācijas K2 montāžas darbi
B36: =IF(B35<>"",B35+1,"") -> 18 | C36: PP kanalizācijas caurules ar uzmavām un blīvi OD50; H=1,0 - 1,50 m, ieguldes klase SN8 montāža un ar to saistītie darbi | D36: m | E36: 4.3 | H36: =ROUND(F36*G36,2) -> 0 | K36: =ROUND(SUM(H36:J36),2) -> 0 | L36: =ROUND(E36*F36,2) -> 0 | M36: =ROUND(E36*H36,2) -> 0 | N36: =ROUND(E36*I36,2) -> 0 | O36: =ROUND(E36*J36,2) -> 0 | P36: =ROUND(SUM(M36:O36),2) -> 0
B37: =IF(B36<>"",B36+1,"") -> 19 | C37: PP gofrēta dubultsienu kanalizācijas caurules ar uzmavām un blīvi OD110; H=1,0 - 1,50 m, ieguldes klase SN8 montāža un ar to saistītie darbi | D37: m | E37: 4.2 | H37: =ROUND(F37*G37,2) -> 0 | K37: =ROUND(SUM(H37:J37),2) -> 0 | L37: =ROUND(E37*F37,2) -> 0 | M37: =ROUND(E37*H37,2) -> 0 | N37: =ROUND(E37*I37,2) -> 0 | O37: =ROUND(E37*J37,2) -> 0 | P37: =ROUND(SUM(M37:O37),2) -> 0
B38: =IF(B37<>"",B37+1,"") -> 20 | C38: PP gofrēta dubultsienu kanalizācijas caurules ar uzmavām un blīvi OD160; H=1,0 - 1,50 m, ieguldes klase SN8 montāža un ar to saistītie darbi | D38: m | E38: 21.1 | H38: =ROUND(F38*G38,2) -> 0 | K38: =ROUND(SUM(H38:J38),2) -> 0 | L38: =ROUND(E38*F38,2) -> 0 | M38: =ROUND(E38*H38,2) -> 0 | N38: =ROUND(E38*I38,2) -> 0 | O38: =ROUND(E38*J38,2) -> 0 | P38: =ROUND(SUM(M38:O38),2) -> 0
B39: =IF(B38<>"",B38+1,"") -> 21 | C39: PP gofrēta dubultsienu kanalizācijas caurules ar uzmavām un blīvi OD160; H=1,5 - 2,0 m, ieguldes klase SN8 montāža un ar to saistītie darbi | D39: m | E39: 3.8 | H39: =ROUND(F39*G39,2) -> 0 | K39: =ROUND(SUM(H39:J39),2) -> 0 | L39: =ROUND(E39*F39,2) -> 0 | M39: =ROUND(E39*H39,2) -> 0 | N39: =ROUND(E39*I39,2) -> 0 | O39: =ROUND(E39*J39,2) -> 0 | P39: =ROUND(SUM(M39:O39),2) -> 0
B40: =IF(B39<>"",B39+1,"") -> 22 | C40: PP gofrēta dubultsienu kanalizācijas caurules ar uzmavām un blīvi OD200; H=1,0 - 1,50 m, ieguldes klase SN8 montāža un ar to saistītie darbi | D40: m | E40: 76.5 | H40: =ROUND(F40*G40,2) -> 0 | K40: =ROUND(SUM(H40:J40),2) -> 0 | L40: =ROUND(E40*F40,2) -> 0 | M40: =ROUND(E40*H40,2) -> 0 | N40: =ROUND(E40*I40,2) -> 0 | O40: =ROUND(E40*J40,2) -> 0 | P40: =ROUND(SUM(M40:O40),2) -> 0
B41: =IF(B40<>"",B40+1,"") -> 23 | C41: PP gofrēta dubultsienu kanalizācijas caurules ar uzmavām un blīvi OD200; H=1,50 - 2,00 m, ieguldes klase SN8 montāža un ar to saistītie darbi | D41: m | E41: 96.1 | H41: =ROUND(F41*G41,2) -> 0 | K41: =ROUND(SUM(H41:J41),2) -> 0 | L41: =ROUND(E41*F41,2) -> 0 | M41: =ROUND(E41*H41,2) -> 0 | N41: =ROUND(E41*I41,2) -> 0 | O41: =ROUND(E41*J41,2) -> 0 | P41: =ROUND(SUM(M41:O41),2) -> 0
B42: =IF(B41<>"",B41+1,"") -> 24 | C42: PP gofrēta dubultsienu kanalizācijas caurules ar uzmavām un blīvi OD200; H=2,00 - 2,50 m, ieguldes klase SN8 montāža un ar to saistītie darbi | D42: m | E42: 24.3 | H42: =ROUND(F42*G42,2) -> 0 | K42: =ROUND(SUM(H42:J42),2) -> 0 | L42: =ROUND(E42*F42,2) -> 0 | M42: =ROUND(E42*H42,2) -> 0 | N42: =ROUND(E42*I42,2) -> 0 | O42: =ROUND(E42*J42,2) -> 0 | P42: =ROUND(SUM(M42:O42),2) -> 0
B43: =IF(B42<>"",B42+1,"") -> 25 | C43: PP gofrēta dubultsienu kanalizācijas caurules ar uzmavām un blīvi OD200; H=2,50 - 3,00 m, ieguldes klase SN8 montāža un ar to saistītie darbi | D43: m | E43: 12.2 | H43: =ROUND(F43*G43,2) -> 0 | K43: =ROUND(SUM(H43:J43),2) -> 0 | L43: =ROUND(E43*F43,2) -> 0 | M43: =ROUND(E43*H43,2) -> 0 | N43: =ROUND(E43*I43,2) -> 0 | O43: =ROUND(E43*J43,2) -> 0 | P43: =ROUND(SUM(M43:O43),2) -> 0
B44: =IF(B43<>"",B43+1,"") -> 26 | C44: Caurule SDR17 PE100 OD90 PN10; H ÷ 2,0 m, montāža un ar to saistītie darbi | D44: m | E44: 68.9 | H44: =ROUND(F44*G44,2) -> 0 | K44: =ROUND(SUM(H44:J44),2) -> 0 | L44: =ROUND(E44*F44,2) -> 0 | M44: =ROUND(E44*H44,2) -> 0 | N44: =ROUND(E44*I44,2) -> 0 | O44: =ROUND(E44*J44,2) -> 0 | P44: =ROUND(SUM(M44:O44),2) -> 0
B45: =IF(B44<>"",B44+1,"") -> 27 | C45: Caurule SDR17 PE100 OD90 PN10; H= 2,0-2,5 m, montāža un ar to saistītie darbi | D45: m | E45: 69.4 | H45: =ROUND(F45*G45,2) -> 0 | K45: =ROUND(SUM(H45:J45),2) -> 0 | L45: =ROUND(E45*F45,2) -> 0 | M45: =ROUND(E45*H45,2) -> 0 | N45: =ROUND(E45*I45,2) -> 0 | O45: =ROUND(E45*J45,2) -> 0 | P45: =ROUND(SUM(M45:O45),2) -> 0
B46: =IF(B45<>"",B45+1,"") -> 28 | C46: PP skataka ID600 H=1,0-1,5 m, aku vākiem ir jābūt montētiem uz armēta dzelzbetona slodzi kliedējoša atbalsta gredzena no C50/60 markas betona, ķeta vākiem D400 klases, pamatne ar tekni rūpnieciski izgatavota, montāža un ar to saistītie darbi | D46: kpl | E46: 4 | H46: =ROUND(F46*G46,2) -> 0 | K46: =ROUND(SUM(H46:J46),2) -> 0 | L46: =ROUND(E46*F46,2) -> 0 | M46: =ROUND(E46*H46,2) -> 0 | N46: =ROUND(E46*I46,2) -> 0 | O46: =ROUND(E46*J46,2) -> 0 | P46: =ROUND(SUM(M46:O46),2) -> 0
B47: =IF(B46<>"",B46+1,"") -> 29 | C47: PP skataka ID600 H=1,50-2,0 m, aku vākiem ir jābūt montētiem uz armēta dzelzbetona slodzi kliedējoša atbalsta gredzena no C50/60 markas betona, ķeta vākiem D400 klases, pamatne ar tekni rūpnieciski izgatavota, montāža un ar to saistītie darbi | D47: kpl | E47: 5 | H47: =ROUND(F47*G47,2) -> 0 | K47: =ROUND(SUM(H47:J47),2) -> 0 | L47: =ROUND(E47*F47,2) -> 0 | M47: =ROUND(E47*H47,2) -> 0 | N47: =ROUND(E47*I47,2) -> 0 | O47: =ROUND(E47*J47,2) -> 0 | P47: =ROUND(SUM(M47:O47),2) -> 0
...

Sheet 1-3_LK1
M1: Atbilstoši: Latvijas būvnormatīva LBN 501-17 "Būvizmaksu noteikšanas kārtība" 5.pielikumam
C2: Lokālā tāme Nr. | I2: 1-3
C3: Lietus kanalizācija LK1
C4: būvdarbu veids vai konstruktīvā elementa nosaukums
B5: Objekta nosaukums: | D5: =Koptame!C13 -> Ārējo lietus, ražošanas un sadzīves kanalizācijas tīklu modernizācija Kleistu ielā 28 (autobusu parks Nr.6), Rīgā
B6: Būves nosaukums: | D6: =Koptame!C14 -> Ārējie kanalizācijas tīkli un inženierbūves
B7: Objekta adrese: | D7: =Koptame!C15 -> Kleistu iela 28, Rīga
B8: Pasūtījuma / līguma Nr.:
B10: Tāme sastādīta 2026.gada tirgus cenās, pamatojoties uz iepirkuma dokumentāciju. | N10: Tāme sastādīta: | O10: =Koptame!C34 -> 01.07.2026.
N11: Tāmes tiešās izmaksas (EUR bez PVN): | O11: =P67 -> 0
B13: Nr. p.k. | C13: Būvdarbu nosaukums | D13: Mērv. | E13: Daudz. | F13: Vienības izmaksas | L13: Kopā uz visu apjomu
F14: laika norma (c/h) | G14: darba samaksas likme (EUR/h) | H14: darba alga (EUR) | I14: būv-izstrādājumi (EUR) | J14: mehānismi (EUR) | K14: Kopā (EUR) | L14: darbietilpība (c/h) | M14: darba alga (EUR) | N14: būv-izstrādājumi (EUR) | O14: mehānismi (EUR) | P14: Summa (EUR)
B18: 1 | C18: 2 | D18: 3 | E18: 4 | F18: 5 | G18: 6 | H18: 7 | I18: 8 | J18: 9 | K18: 10 | L18: 11 | M18: 12 | N18: 13 | O18: 14 | P18: 15
B19: 1 | C19: Zemes darbi projektēto LK1 tīklu darbu zonā
B20: =IF(B19<>"",B19+1,"") -> 2 | C20: Tranšejas rakšana un aizbēršana lietus kanalizācijas tīklu OD200 montāžai (ieskaitot grunts nomaiņu*, aizvešanu, atvešanu utt.) H=1,0-1,5 m | D20: m | E20: 122.5 | H20: =ROUND(F20*G20,2) -> 0 | K20: =ROUND(SUM(H20:J20),2) -> 0 | L20: =ROUND(E20*F20,2) -> 0 | M20: =ROUND(E20*H20,2) -> 0 | N20: =ROUND(E20*I20,2) -> 0 | O20: =ROUND(E20*J20,2) -> 0 | P20: =ROUND(SUM(M20:O20),2) -> 0
B21: =IF(B20<>"",B20+1,"") -> 3 | C21: Tranšejas rakšana un aizbēršana lietus kanalizācijas tīklu OD200 montāžai (ieskaitot grunts nomaiņu*, aizvešanu, atvešanu utt.) H=1,5-2,0 m | D21: m | E21: 196.3 | H21: =ROUND(F21*G21,2) -> 0 | K21: =ROUND(SUM(H21:J21),2) -> 0 | L21: =ROUND(E21*F21,2) -> 0 | M21: =ROUND(E21*H21,2) -> 0 | N21: =ROUND(E21*I21,2) -> 0 | O21: =ROUND(E21*J21,2) -> 0 | P21: =ROUND(SUM(M21:O21),2) -> 0
B22: =IF(B21<>"",B21+1,"") -> 4 | C22: Tranšejas rakšana un aizbēršana lietus kanalizācijas tīklu OD315 montāžai (ieskaitot grunts nomaiņu*, aizvešanu, atvešanu utt.) H=2,0-2,5 m | D22: m | E22: 103 | H22: =ROUND(F22*G22,2) -> 0 | K22: =ROUND(SUM(H22:J22),2) -> 0 | L22: =ROUND(E22*F22,2) -> 0 | M22: =ROUND(E22*H22,2) -> 0 | N22: =ROUND(E22*I22,2) -> 0 | O22: =ROUND(E22*J22,2) -> 0 | P22: =ROUND(SUM(M22:O22),2) -> 0
B23: =IF(B22<>"",B22+1,"") -> 5 | C23: Tranšejas rakšana un aizbēršana lietus kanalizācijas tīklu OD315 montāžai (ieskaitot grunts nomaiņu*, aizvešanu, atvešanu utt.) H=2,5-3,0 m | D23: m | E23: 154.4 | H23: =ROUND(F23*G23,2) -> 0 | K23: =ROUND(SUM(H23:J23),2) -> 0 | L23: =ROUND(E23*F23,2) -> 0 | M23: =ROUND(E23*H23,2) -> 0 | N23: =ROUND(E23*I23,2) -> 0 | O23: =ROUND(E23*J23,2) -> 0 | P23: =ROUND(SUM(M23:O23),2) -> 0
B24: =IF(B23<>"",B23+1,"") -> 6 | C24: Tranšejas rakšana un aizbēršana lietus kanalizācijas tīklu OD450 montāžai (ieskaitot grunts nomaiņu*, aizvešanu, atvešanu utt.) H=2,5-3,0 m | D24: m | E24: 17 | H24: =ROUND(F24*G24,2) -> 0 | K24: =ROUND(SUM(H24:J24),2) -> 0 | L24: =ROUND(E24*F24,2) -> 0 | M24: =ROUND(E24*H24,2) -> 0 | N24: =ROUND(E24*I24,2) -> 0 | O24: =ROUND(E24*J24,2) -> 0 | P24: =ROUND(SUM(M24:O24),2) -> 0
B25: =IF(B24<>"",B24+1,"") -> 7 | C25: Tranšejas rakšana un aizbēršana lietus kanalizācijas tīklu OD450 montāžai (ieskaitot grunts nomaiņu*, aizvešanu, atvešanu utt.) H=3,0-3,5 m | D25: m | E25: 70.4 | H25: =ROUND(F25*G25,2) -> 0 | K25: =ROUND(SUM(H25:J25),2) -> 0 | L25: =ROUND(E25*F25,2) -> 0 | M25: =ROUND(E25*H25,2) -> 0 | N25: =ROUND(E25*I25,2) -> 0 | O25: =ROUND(E25*J25,2) -> 0 | P25: =ROUND(SUM(M25:O25),2) -> 0
B26: =IF(B25<>"",B25+1,"") -> 8 | C26: Tranšejas sienu nostiprināšana ar metāla vairogiem (divpusēji) pie dziļuma, kas lielāks par 1,50 m. *norādīts tekošais tranšejas garums, pieņemot, ka sienas nostiprinātas abās būvgrāvja pusēs | D26: m | E26: 541.1 | H26: =ROUND(F26*G26,2) -> 0 | K26: =ROUND(SUM(H26:J26),2) -> 0 | L26: =ROUND(E26*F26,2) -> 0 | M26: =ROUND(E26*H26,2) -> 0 | N26: =ROUND(E26*I26,2) -> 0 | O26: =ROUND(E26*J26,2) -> 0 | P26: =ROUND(SUM(M26:O26),2) -> 0
B27: =IF(B26<>"",B26+1,"") -> 9 | C27: Smilts pamatnes ierīkošana zem cauruļvadiem, h=15 cm | D27: m3 | E27: 103.7 | H27: =ROUND(F27*G27,2) -> 0 | K27: =ROUND(SUM(H27:J27),2) -> 0 | L27: =ROUND(E27*F27,2) -> 0 | M27: =ROUND(E27*H27,2) -> 0 | N27: =ROUND(E27*I27,2) -> 0 | O27: =ROUND(E27*J27,2) -> 0 | P27: =ROUND(SUM(M27:O27),2) -> 0
B28: =IF(B27<>"",B27+1,"") -> 10 | C28: Cauruļvadu smilšu apbērums, h=15cm | D28: m3 | E28: 269.8 | H28: =ROUND(F28*G28,2) -> 0 | K28: =ROUND(SUM(H28:J28),2) -> 0 | L28: =ROUND(E28*F28,2) -> 0 | M28: =ROUND(E28*H28,2) -> 0 | N28: =ROUND(E28*I28,2) -> 0 | O28: =ROUND(E28*J28,2) -> 0 | P28: =ROUND(SUM(M28:O28),2) -> 0
B29: =IF(B28<>"",B28+1,"") -> 11 | C29: Gruntsūdens līmeņa pazemināšana | D29: m | E29: 663.6 | H29: =ROUND(F29*G29,2) -> 0 | K29: =ROUND(SUM(H29:J29),2) -> 0 | L29: =ROUND(E29*F29,2) -> 0 | M29: =ROUND(E29*H29,2) -> 0 | N29: =ROUND(E29*I29,2) -> 0 | O29: =ROUND(E29*J29,2) -> 0 | P29: =ROUND(SUM(M29:O29),2) -> 0
B30: =IF(B29<>"",B29+1,"") -> 12 | C30: Būvbedres sagatavošana 14,0m x 3,0m ar rievsienām lietus ūdens uzkrāšanas tvertnes izbūvei, rakšana un aizbēršana, gruntsūdens atsūknēšana (ieskaitot grunts nomaiņu, aizvešanu, atvešanu utt), H= 4,50m. | D30: kpl | E30: 1 | H30: =ROUND(F30*G30,2) -> 0 | K30: =ROUND(SUM(H30:J30),2) -> 0 | L30: =ROUND(E30*F30,2) -> 0 | M30: =ROUND(E30*H30,2) -> 0 | N30: =ROUND(E30*I30,2) -> 0 | O30: =ROUND(E30*J30,2) -> 0 | P30: =ROUND(SUM(M30:O30),2) -> 0
B31: =IF(B30<>"",B30+1,"") -> 13 | C31: Lietus kanalizācijas LK1 montāžas darbi
B32: =IF(B31<>"",B31+1,"") -> 14 | C32: PP gofrēta dubultsienu lietus kanalizācijas caurules ar uzmavām un blīvi OD200; H=1,0 - 1,5 m, ieguldes klase SN8 montāža un ar to saistītie darbi | D32: m | E32: 122.5 | H32: =ROUND(F32*G32,2) -> 0 | K32: =ROUND(SUM(H32:J32),2) -> 0 | L32: =ROUND(E32*F32,2) -> 0 | M32: =ROUND(E32*H32,2) -> 0 | N32: =ROUND(E32*I32,2) -> 0 | O32: =ROUND(E32*J32,2) -> 0 | P32: =ROUND(SUM(M32:O32),2) -> 0
B33: =IF(B32<>"",B32+1,"") -> 15 | C33: PP gofrēta dubultsienu lietus kanalizācijas caurules ar uzmavām un blīvi OD200; H=1,5 - 2,00m, ieguldes klase SN8 montāža un ar to saistītie darbi | D33: m | E33: 196.3 | H33: =ROUND(F33*G33,2) -> 0 | K33: =ROUND(SUM(H33:J33),2) -> 0 | L33: =ROUND(E33*F33,2) -> 0 | M33: =ROUND(E33*H33,2) -> 0 | N33: =ROUND(E33*I33,2) -> 0 | O33: =ROUND(E33*J33,2) -> 0 | P33: =ROUND(SUM(M33:O33),2) -> 0
B34: =IF(B33<>"",B33+1,"") -> 16 | C34: PP gofrēta dubultsienu lietus kanalizācijas caurules ar uzmavām un blīvi OD315; H=2,0 - 2,50m, ieguldes klase SN8 montāža un ar to saistītie darbi | D34: m | E34: 103 | H34: =ROUND(F34*G34,2) -> 0 | K34: =ROUND(SUM(H34:J34),2) -> 0 | L34: =ROUND(E34*F34,2) -> 0 | M34: =ROUND(E34*H34,2) -> 0 | N34: =ROUND(E34*I34,2) -> 0 | O34: =ROUND(E34*J34,2) -> 0 | P34: =ROUND(SUM(M34:O34),2) -> 0
B35: =IF(B34<>"",B34+1,"") -> 17 | C35: PP gofrēta dubultsienu lietus kanalizācijas caurules ar uzmavām un blīvi OD315; H=2,5 - 3,0m, ieguldes klase SN8 montāža un ar to saistītie darbi | D35: m | E35: 154.4 | H35: =ROUND(F35*G35,2) -> 0 | K35: =ROUND(SUM(H35:J35),2) -> 0 | L35: =ROUND(E35*F35,2) -> 0 | M35: =ROUND(E35*H35,2) -> 0 | N35: =ROUND(E35*I35,2) -> 0 | O35: =ROUND(E35*J35,2) -> 0 | P35: =ROUND(SUM(M35:O35),2) -> 0
B36: =IF(B35<>"",B35+1,"") -> 18 | C36: PP gofrēta dubultsienu lietus kanalizācijas caurules ar uzmavām un blīvi OD450; H=2,5 - 3,0m, ieguldes klase SN8 montāža un ar to saistītie darbi | D36: m | E36: 17 | H36: =ROUND(F36*G36,2) -> 0 | K36: =ROUND(SUM(H36:J36),2) -> 0 | L36: =ROUND(E36*F36,2) -> 0 | M36: =ROUND(E36*H36,2) -> 0 | N36: =ROUND(E36*I36,2) -> 0 | O36: =ROUND(E36*J36,2) -> 0 | P36: =ROUND(SUM(M36:O36),2) -> 0
B37: =IF(B36<>"",B36+1,"") -> 19 | C37: PP gofrēta dubultsienu lietus kanalizācijas caurules ar uzmavām un blīvi OD450; H=3,0 - 3,50m, ieguldes klase SN8 montāža un ar to saistītie darbi | D37: m | E37: 70.4 | H37: =ROUND(F37*G37,2) -> 0 | K37: =ROUND(SUM(H37:J37),2) -> 0 | L37: =ROUND(E37*F37,2) -> 0 | M37: =ROUND(E37*H37,2) -> 0 | N37: =ROUND(E37*I37,2) -> 0 | O37: =ROUND(E37*J37,2) -> 0 | P37: =ROUND(SUM(M37:O37),2) -> 0
B38: =IF(B37<>"",B37+1,"") -> 20 | C38: PP skataka ID600 H=1,0-1,5m, aku vākiem ir jābūt montētiem uz armēta dzelzbetona slodzi kliedējoša atbalsta gredzena no C50/60 markas betona, ķeta vākiem D400 klases, pamatne ar tekni rūpnieciski izgatavota, montāža un ar to saistītie darbi | D38: kpl | E38: 8 | H38: =ROUND(F38*G38,2) -> 0 | K38: =ROUND(SUM(H38:J38),2) -> 0 | L38: =ROUND(E38*F38,2) -> 0 | M38: =ROUND(E38*H38,2) -> 0 | N38: =ROUND(E38*I38,2) -> 0 | O38: =ROUND(E38*J38,2) -> 0 | P38: =ROUND(SUM(M38:O38),2) -> 0
B39: =IF(B38<>"",B38+1,"") -> 21 | C39: PP skataka ID600 H=1,5-2,0m, aku vākiem ir jābūt montētiem uz armēta dzelzbetona slodzi kliedējoša atbalsta gredzena no C50/60 markas betona, ķeta vākiem D400 klases, pamatne ar tekni rūpnieciski izgatavota, montāža un ar to saistītie darbi | D39: kpl | E39: 9 | H39: =ROUND(F39*G39,2) -> 0 | K39: =ROUND(SUM(H39:J39),2) -> 0 | L39: =ROUND(E39*F39,2) -> 0 | M39: =ROUND(E39*H39,2) -> 0 | N39: =ROUND(E39*I39,2) -> 0 | O39: =ROUND(E39*J39,2) -> 0 | P39: =ROUND(SUM(M39:O39),2) -> 0
B40: =IF(B39<>"",B39+1,"") -> 22 | C40: PP skataka ID600 H=2,0-2,50m, aku vākiem ir jābūt montētiem uz armēta dzelzbetona slodzi kliedējoša atbalsta gredzena no C50/60 markas betona, ķeta vākiem D400 klases, pamatne ar tekni rūpnieciski izgatavota, montāža un ar to saistītie darbi | D40: kpl | E40: 2 | H40: =ROUND(F40*G40,2) -> 0 | K40: =ROUND(SUM(H40:J40),2) -> 0 | L40: =ROUND(E40*F40,2) -> 0 | M40: =ROUND(E40*H40,2) -> 0 | N40: =ROUND(E40*I40,2) -> 0 | O40: =ROUND(E40*J40,2) -> 0 | P40: =ROUND(SUM(M40:O40),2) -> 0
B41: =IF(B40<>"",B40+1,"") -> 23 | C41: PP skataka ID1000 H=2,0-2,50m, aku vākiem ir jābūt montētiem uz armēta dzelzbetona slodzi kliedējoša atbalsta gredzena no C50/60 markas betona, ķeta vākiem D400 klases, pamatne ar tekni rūpnieciski izgatavota, montāža un ar to saistītie darbi | D41: kpl | E41: 4 | H41: =ROUND(F41*G41,2) -> 0 | K41: =ROUND(SUM(H41:J41),2) -> 0 | L41: =ROUND(E41*F41,2) -> 0 | M41: =ROUND(E41*H41,2) -> 0 | N41: =ROUND(E41*I41,2) -> 0 | O41: =ROUND(E41*J41,2) -> 0 | P41: =ROUND(SUM(M41:O41),2) -> 0
B42: =IF(B41<>"",B41+1,"") -> 24 | C42: PP skataka ID1000 H=2,5-3,0m, aku vākiem ir jābūt montētiem uz armēta dzelzbetona slodzi kliedējoša atbalsta gredzena no C50/60 markas betona, ķeta vākiem D400 klases, pamatne ar tekni rūpnieciski izgatavota, montāža un ar to saistītie darbi | D42: kpl | E42: 3 | H42: =ROUND(F42*G42,2) -> 0 | K42: =ROUND(SUM(H42:J42),2) -> 0 | L42: =ROUND(E42*F42,2) -> 0 | M42: =ROUND(E42*H42,2) -> 0 | N42: =ROUND(E42*I42,2) -> 0 | O42: =ROUND(E42*J42,2) -> 0 | P42: =ROUND(SUM(M42:O42),2) -> 0
B43: =IF(B42<>"",B42+1,"") -> 25 | C43: PP skataka ID1000 H=3,0-3,50m, aku vākiem ir jābūt montētiem uz armēta dzelzbetona slodzi kliedējoša atbalsta gredzena no C50/60 markas betona, ķeta vākiem D400 klases, pamatne ar tekni rūpnieciski izgatavota, montāža un ar to saistītie darbi | D43: kpl | E43: 4 | H43: =ROUND(F43*G43,2) -> 0 | K43: =ROUND(SUM(H43:J43),2) -> 0 | L43: =ROUND(E43*F43,2) -> 0 | M43: =ROUND(E43*H43,2) -> 0 | N43: =ROUND(E43*I43,2) -> 0 | O43: =ROUND(E43*J43,2) -> 0 | P43: =ROUND(SUM(M43:O43),2) -> 0
... B65: =IF(B64<>"",B64+1,"") -> 47 | C65: Esošo elektrokabeļu un sakaru kabeļu aizsardzība to šķērsojumu vietās ar projektēto kanalizāciju, ievietojot tos saliekamajās aizsargčaulās AROT OD110, L=3m | D65: gb | E65: 17 | H65: =ROUND(F65*G65,2) -> 0 | K65: =ROUND(SUM(H65:J65),2) -> 0 | L65: =ROUND(E65*F65,2) -> 0 | M65: =ROUND(E65*H65,2) -> 0 | N65: =ROUND(E65*I65,2) -> 0 | O65: =ROUND(E65*J65,2) -> 0 | P65: =ROUND(SUM(M65:O65),2) -> 0
C67: Tiešās izmaksas kopā, t. sk. darba devēja sociālais nodoklis (23,59%): | L67: =SUM(L19:L66) -> 0 | M67: =SUM(M19:M66) -> 0 | N67: =SUM(N19:N66) -> 0 | O67: =SUM(O19:O66) -> 0 | P67: =SUM(P19:P66) -> 0
...

Sheet 1-4_LK2
M1: Atbilstoši: Latvijas būvnormatīva LBN 501-17 "Būvizmaksu noteikšanas kārtība" 5.pielikumam
C2: Lokālā tāme Nr. | I2: 1-4
C3: Lietus kanalizācija LK2
C4: būvdarbu veids vai konstruktīvā elementa nosaukums
B5: Objekta nosaukums: | D5: =Koptame!C13 -> Ārējo lietus, ražošanas un sadzīves kanalizācijas tīklu modernizācija Kleistu ielā 28 (autobusu parks Nr.6), Rīgā
B6: Būves nosaukums: | D6: =Koptame!C14 -> Ārējie kanalizācijas tīkli un inženierbūves
B7: Objekta adrese: | D7: =Koptame!C15 -> Kleistu iela 28, Rīga
B8: Pasūtījuma / līguma Nr.:
B10: Tāme sastādīta 2026.gada tirgus cenās, pamatojoties uz iepirkuma dokumentāciju. | N10: Tāme sastādīta: | O10: =Koptame!C34 -> 01.07.2026.
N11: Tāmes tiešās izmaksas (EUR bez PVN): | O11: =P64 -> 0
B13: Nr. p.k. | C13: Būvdarbu nosaukums | D13: Mērv. | E13: Daudz. | F13: Vienības izmaksas | L13: Kopā uz visu apjomu
F14: laika norma (c/h) | G14: darba samaksas likme (EUR/h) | H14: darba alga (EUR) | I14: būv-izstrādājumi (EUR) | J14: mehānismi (EUR) | K14: Kopā (EUR) | L14: darbietilpība (c/h) | M14: darba alga (EUR) | N14: būv-izstrādājumi (EUR) | O14: mehānismi (EUR) | P14: Summa (EUR)
B18: 1 | C18: 2 | D18: 3 | E18: 4 | F18: 5 | G18: 6 | H18: 7 | I18: 8 | J18: 9 | K18: 10 | L18: 11 | M18: 12 | N18: 13 | O18: 14 | P18: 15
B19: 1 | C19: Zemes darbi projektēto LK2 tīklu darbu zonā
B20: =IF(B19<>"",B19+1,"") -> 2 | C20: Tranšejas rakšana un aizbēršana lietus kanalizācijas tīklu OD200 montāžai (ieskaitot grunts nomaiņu*, aizvešanu, atvešanu utt.) H=1,0-1,5 m | D20: m | E20: 40.6 | H20: =ROUND(F20*G20,2) -> 0 | K20: =ROUND(SUM(H20:J20),2) -> 0 | L20: =ROUND(E20*F20,2) -> 0 | M20: =ROUND(E20*H20,2) -> 0 | N20: =ROUND(E20*I20,2) -> 0 | O20: =ROUND(E20*J20,2) -> 0 | P20: =ROUND(SUM(M20:O20),2) -> 0
B21: =IF(B20<>"",B20+1,"") -> 3 | C21: Tranšejas rakšana un aizbēršana lietus kanalizācijas tīklu OD200 montāžai (ieskaitot grunts nomaiņu*, aizvešanu, atvešanu utt.) H=1,5-2,0 m | D21: m | E21: 45.8 | H21: =ROUND(F21*G21,2) -> 0 | K21: =ROUND(SUM(H21:J21),2) -> 0 | L21: =ROUND(E21*F21,2) -> 0 | M21: =ROUND(E21*H21,2) -> 0 | N21: =ROUND(E21*I21,2) -> 0 | O21: =ROUND(E21*J21,2) -> 0 | P21: =ROUND(SUM(M21:O21),2) -> 0
B22: =IF(B21<>"",B21+1,"") -> 4 | C22: Tranšejas rakšana un aizbēršana lietus kanalizācijas tīklu OD200 montāžai (ieskaitot grunts nomaiņu*, aizvešanu, atvešanu utt.) H=2,0-2,5 m | D22: m | E22: 47.9 | H22: =ROUND(F22*G22,2) -> 0 | K22: =ROUND(SUM(H22:J22),2) -> 0 | L22: =ROUND(E22*F22,2) -> 0 | M22: =ROUND(E22*H22,2) -> 0 | N22: =ROUND(E22*I22,2) -> 0 | O22: =ROUND(E22*J22,2) -> 0 | P22: =ROUND(SUM(M22:O22),2) -> 0
B23: =IF(B22<>"",B22+1,"") -> 5 | C23: Tranšejas rakšana un aizbēršana lietus kanalizācijas tīklu OD250 montāžai (ieskaitot grunts nomaiņu*, aizvešanu, atvešanu utt.) H=1,5-2,0 m | D23: m | E23: 30.9 | H23: =ROUND(F23*G23,2) -> 0 | K23: =ROUND(SUM(H23:J23),2) -> 0 | L23: =ROUND(E23*F23,2) -> 0 | M23: =ROUND(E23*H23,2) -> 0 | N23: =ROUND(E23*I23,2) -> 0 | O23: =ROUND(E23*J23,2) -> 0 | P23: =ROUND(SUM(M23:O23),2) -> 0
B24: =IF(B23<>"",B23+1,"") -> 6 | C24: Tranšejas rakšana un aizbēršana lietus kanalizācijas tīklu OD315 montāžai (ieskaitot grunts nomaiņu*, aizvešanu, atvešanu utt.) H=1,5-2,0 m | D24: m | E24: 84.3 | H24: =ROUND(F24*G24,2) -> 0 | K24: =ROUND(SUM(H24:J24),2) -> 0 | L24: =ROUND(E24*F24,2) -> 0 | M24: =ROUND(E24*H24,2) -> 0 | N24: =ROUND(E24*I24,2) -> 0 | O24: =ROUND(E24*J24,2) -> 0 | P24: =ROUND(SUM(M24:O24),2) -> 0
B25: =IF(B24<>"",B24+1,"") -> 7 | C25: Tranšejas rakšana un aizbēršana lietus kanalizācijas tīklu OD315 montāžai (ieskaitot grunts nomaiņu*, aizvešanu, atvešanu utt.) H=2,5-3,0 m | D25: m | E25: 45 | H25: =ROUND(F25*G25,2) -> 0 | K25: =ROUND(SUM(H25:J25),2) -> 0 | L25: =ROUND(E25*F25,2) -> 0 | M25: =ROUND(E25*H25,2) -> 0 | N25: =ROUND(E25*I25,2) -> 0 | O25: =ROUND(E25*J25,2) -> 0 | P25: =ROUND(SUM(M25:O25),2) -> 0
B26: =IF(B25<>"",B25+1,"") -> 8 | C26: Tranšejas rakšana un aizbēršana lietus kanalizācijas tīklu OD160 montāžai (ieskaitot grunts nomaiņu*, aizvešanu, atvešanu utt.) H=1,0-1,50 m | D26: m | E26: 3.2 | H26: =ROUND(F26*G26,2) -> 0 | K26: =ROUND(SUM(H26:J26),2) -> 0 | L26: =ROUND(E26*F26,2) -> 0 | M26: =ROUND(E26*H26,2) -> 0 | N26: =ROUND(E26*I26,2) -> 0 | O26: =ROUND(E26*J26,2) -> 0 | P26: =ROUND(SUM(M26:O26),2) -> 0
B27: =IF(B26<>"",B26+1,"") -> 9 | C27: Tranšejas rakšana un aizbēršana lietus kanalizācijas tīklu OD110 pievadu montāžai (ieskaitot grunts nomaiņu*, aizvešanu, atvešanu utt.) H=1,0-1,5 m | D27: m | E27: 39.9 | H27: =ROUND(F27*G27,2) -> 0 | K27: =ROUND(SUM(H27:J27),2) -> 0 | L27: =ROUND(E27*F27,2) -> 0 | M27: =ROUND(E27*H27,2) -> 0 | N27: =ROUND(E27*I27,2) -> 0 | O27: =ROUND(E27*J27,2) -> 0 | P27: =ROUND(SUM(M27:O27),2) -> 0
B28: =IF(B27<>"",B27+1,"") -> 10 | C28: Tranšejas sienu nostiprināšana ar metāla vairogiem (divpusēji) pie dziļuma, kas lielāks par 1,5m. *norādīts tekošais tranšejas garums, pieņemot, ka sienas nostiprinātas abās būvgrāvja pusēs | D28: m | E28: 253.9 | H28: =ROUND(F28*G28,2) -> 0 | K28: =ROUND(SUM(H28:J28),2) -> 0 | L28: =ROUND(E28*F28,2) -> 0 | M28: =ROUND(E28*H28,2) -> 0 | N28: =ROUND(E28*I28,2) -> 0 | O28: =ROUND(E28*J28,2) -> 0 | P28: =ROUND(SUM(M28:O28),2) -> 0
B29: =IF(B28<>"",B28+1,"") -> 11 | C29: Smilts pamatnes ierīkošana zem cauruļvadiem, h=15 cm | D29: m3 | E29: 51.7 | H29: =ROUND(F29*G29,2) -> 0 | K29: =ROUND(SUM(H29:J29),2) -> 0 | L29: =ROUND(E29*F29,2) -> 0 | M29: =ROUND(E29*H29,2) -> 0 | N29: =ROUND(E29*I29,2) -> 0 | O29: =ROUND(E29*J29,2) -> 0 | P29: =ROUND(SUM(M29:O29),2) -> 0
B30: =IF(B29<>"",B29+1,"") -> 12 | C30: Cauruļvadu smilšu apbērums, h=15 cm | D30: m3 | E30: 121.2 | H30: =ROUND(F30*G30,2) -> 0 | K30: =ROUND(SUM(H30:J30),2) -> 0 | L30: =ROUND(E30*F30,2) -> 0 | M30: =ROUND(E30*H30,2) -> 0 | N30: =ROUND(E30*I30,2) -> 0 | O30: =ROUND(E30*J30,2) -> 0 | P30: =ROUND(SUM(M30:O30),2) -> 0
B31: =IF(B30<>"",B30+1,"") -> 13 | C31: Gruntsūdens līmeņa pazemināšana | D31: m | E31: 337.6 | H31: =ROUND(F31*G31,2) -> 0 | K31: =ROUND(SUM(H31:J31),2) -> 0 | L31: =ROUND(E31*F31,2) -> 0 | M31: =ROUND(E31*H31,2) -> 0 | N31: =ROUND(E31*I31,2) -> 0 | O31: =ROUND(E31*J31,2) -> 0 | P31: =ROUND(SUM(M31:O31),2) -> 0
B32: =IF(B31<>"",B31+1,"") -> 14 | C32: Lietus kanalizācijas LK2 montāžas darbi
B33: =IF(B32<>"",B32+1,"") -> 15 | C33: PP gofrēta dubultsienu lietus kanalizācijas caurules ar uzmavām un blīvi OD200; H=1,0 - 1,5m, ieguldes klase SN8 montāža un ar to saistītie darbi | D33: m | E33: 40.6 | H33: =ROUND(F33*G33,2) -> 0 | K33: =ROUND(SUM(H33:J33),2) -> 0 | L33: =ROUND(E33*F33,2) -> 0 | M33: =ROUND(E33*H33,2) -> 0 | N33: =ROUND(E33*I33,2) -> 0 | O33: =ROUND(E33*J33,2) -> 0 | P33: =ROUND(SUM(M33:O33),2) -> 0
B34: =IF(B33<>"",B33+1,"") -> 16 | C34: PP gofrēta dubultsienu lietus kanalizācijas caurules ar uzmavām un blīvi OD200; H=1,5 - 2,0m, ieguldes klase SN8 montāža un ar to saistītie darbi | D34: m | E34: 45.8 | H34: =ROUND(F34*G34,2) -> 0 | K34: =ROUND(SUM(H34:J34),2) -> 0 | L34: =ROUND(E34*F34,2) -> 0 | M34: =ROUND(E34*H34,2) -> 0 | N34: =ROUND(E34*I34,2) -> 0 | O34: =ROUND(E34*J34,2) -> 0 | P34: =ROUND(SUM(M34:O34),2) -> 0
B35: =IF(B34<>"",B34+1,"") -> 17 | C35: PP gofrēta dubultsienu lietus kanalizācijas caurules ar uzmavām un blīvi OD200; H=2,0 - 2,5m, ieguldes klase SN8 montāža un ar to saistītie darbi | D35: m | E35: 47.9 | H35: =ROUND(F35*G35,2) -> 0 | K35: =ROUND(SUM(H35:J35),2) -> 0 | L35: =ROUND(E35*F35,2) -> 0 | M35: =ROUND(E35*H35,2) -> 0 | N35: =ROUND(E35*I35,2) -> 0 | O35: =ROUND(E35*J35,2) -> 0 | P35: =ROUND(SUM(M35:O35),2) -> 0
