Workbook

Sheet SA
B2: Skaidrojošs apraksts
B3: Objekta nosaukums: Ārējo lietus, ražošanas un sadzīves kanalizācijas tīklu modernizācija Kleistu ielā 28 (autobusu parks Nr.6), Rīgā
B4: Objekta adrese: Kleistu iela 28, Rīga
B5: 1. Vispārīgi
B6: 1.1. | C6: Tāmēs būvizmaksu aprēķins veicams, pamatojoties uz SIA "Firma L4" izstrādāto būvniecības ieceres dokumentāciju - būvprojektu, darba organizēšanas projektu, ņemot vērā skaidrojošos aprakstus, grafisko daļu, norādes, darbu un materiālu specifikācijas.
B7: 1.2. | C7: Tāmes aprēķins veicams saskaņā ar LBN 501-17 "Būvizmaksu noteikšanas kārtība", iesniedzams elektroniskas tabulas formātā (tabulai jābūt saderīgai ar Microsoft Excel), saglabājot formulas. Ievadot vērtības, tām jābūt ar precizitāti divas zīmes aiz komata. Darba devēja sociālā nodokļa daļai jābūt iekļautai attiecīgās darba pozīcijas vienības cenā.
B8: 1.3. | C8: Izstrādājot piedāvājumu, Pretendentam rūpīgi jāiepazīstas ar būvprojektu, darbu organizēšanas projektu un piedāvājumā jāiekļauj arī būvapjomos neuzrādītie darbi, kas nepieciešami, lai kvalitatīvi veiktu būvniecību un bez kuriem nebūtu iespējama tehnoloģiski pareiza un Latvijas Republikā spēkā esošajiem normatīvajiem aktiem atbilstoša būvdarbu veikšana pilnā apjomā.
B9: 1.4. | C9: Materiālu komplektāciju veikt atbilstoši izstrādātājām būvprojektam, ražotāju un Latvijas Republikas normatīvo aktu nosacījumiem. Jāņemj vērā, ka materiālu daudzums ir dots (ja dots), neievertējot atlikumus/atgriezumus.
B10: 1.5. | C10: Visas atsauces uz iekārtu, materiālu un izstrādājumu ražotājiem un/vai konkrētiem modeļiem, kuri norādīti iepirkuma dokumentācijā vai būvniecības ieceres dokumentācijā, liecina tikai par šo izstrādājumu un iekārtu tehnisko parametru, veiktspējas, kvalitātes un apkalpošanas līmeni. Uzrādītos materiālus iespējams aizvietot ar ekvivalentiem (līdzvērtīgiem vai labākiem), Latvijā sertificētiem attiecīgās nozares materiāliem. Ja Pretendents piedāvā ekvivalentu materiālu, tad Tehniskajā piedāvājumā jāpievieno ekvivalentu salīdzināšanas tabula un dokumenti, kas sniedz pietiekamu informāciju par piedāvāto materiālu un tā raksturlielumu atbilstību (līdzvērtīgs vai labāks) iepirkuma dokumentācijā vai būvniecības ieceres dokumentācijā prasītajam. Informācijā obligāti ir jānorāda, kurām tāmes pozīcijām tiek piedāvāts katrs ekvivalents. Pretendentam ir jāpierāda, ka piedāvājums ir ekvivalents (līdzvērtīgs vai labāks) un apmierina Pasūtītāja prasības.
B11: 1.6. | C11: Jebkura vēlāka materiālu nomaiņa būvdarbu procesā ir jāsaskaņo ar Projekta autoru (autoruzraugu), Būvuzraugu un Pasūtītāju.
B12: 1.7. | C12: Būvdarbu veicējam jāparedz un jāiekļauj piedāvājumā visi ar darba izpildi saistītie izdevumi, to skaitā: - normatīvajos aktos un būvdarbu līgumā norādīto būvtāfeļu un informatīvo plakātu izgatavošana, uzstādīšana un demontāža; - uzmērīšana un nospraušana; - visi, ar minēto darbu sarakstu saistīti sagatavošanas darbi, nobeiguma, teritorijas sakārtošanas darbi un darbi, kas tāmē nav minēti, kā atsevišķi darbi, bet ir nepieciešami, lai darbu kvalitāte atbilstu līguma, LVS, LR likumu un normatīvu prasībām; - būvlaukuma ierīkošana un uzturēšana visam būvniecības periodam; - palīgteritoriju iegūšana un uzturēšana, ja nepieciešams; - saskaņojumu un atļauju iegūšana; - sanitāro un drošības normu ievērošana; - satiksmes organizēšana; - nepieciešamās dokumentācijas un atļauju noformēšana; - darba izpildes u.c. nepieciešamo projektu izstrāde (mērījumi, aprēķini, rasējumi, apraksti, plāni, grafiki, darbu veikšanas projekts u.tml.); - kvalitātes nodrošināšana un kontrole (paraugu ņemšana, testēšana, uzmērījumi, dokumentēšana, kvalitātes procedūras, preventīvās darbības u.tml.); - būvmateriālu un būvizstrādājumu sagatavošana, uzglabāšana, piegādes un iestrādes; - iekārtas un ar tām saistītie izdevumi pagaidu darbiem (papildu darbiem, lai izpildītu pamatdarbu); - darbaspēks, materiāli un mehānismi; - būvgružu un demontēto materiālu savākšana, transportēšana un utilizēšana; - zemes darbi, tranšeju sienu nostiprināšana, virsūdens un gruntsūdens atvadīšana, atsūknēšana un priekšattīrīšana; - pagaidu risinājumi, lai nodrošinātu visu esošo inženierkomunikāciju (tajā skaitā ūdensapgādes, kanalizācijas sistēmu, elektroapgādes, vājstrāvas sistēmu, siltumapgādes sistēmu u.c.) nepārtrauktu darbību būvprojektā paredzēto būvdarbu veikšanas laikā;
B13: 1.8. | C13: Būvdarbu veicējam jāparedz un jāiekļauj piedāvājumā visi ar darba izpildi saistītie izdevumi, to skaitā (turpinājums): - vispārējās saistības, atbildības un risku nodrošinājums; - darbu organizācija un administrēšana; - tiesību aktos noteikto nodokļu un nodevu nomaksa, izņemot pievienotās vērtības nodokli; - izpilddokumentācijas sagatavošana 1 papīra eksempārā un elektronisko dokumentu veidā atbilstoši Izpilddokumentācijas sadaļā minētajam (Skatīt lapu "SA_izpilddok".), t.i.izpildīto darbu mērījumi, diagrammas, shēmas, akti, segto darbu akti, deklarācijas, materiālu sertifikāti, detalizētas izpildshēmas ar augstuma atzīmēm un piesaistēm, tehniskā dokumentācija u.c.; - visi izdevumi atzinumu saņemšanai un objekta nodošanai ekspluatācijā; - visi izdevumi Pasūtītāja pārstāvju instruēšanai (apmācībai) par iebūvētajām iekārtām, to ekspluatāciju, apkopēm un garantijas saistību nosacījumiem; - jebkuru citu iepirkuma dokumentācijā un/vai būvniecības ieceres dokumentācijā minēto darbu pozīciju, kas nav atsevišķi norādītas citviet, izmaksas; - jāvērtē visi nepieciešamie darbi, materiāli, būvmašīnas un transports, bez kā nevarētu būt iespējama darba daudzumu sarakstā minēto darbu tehnoloģiski pareiza, Pasūtītāja prasībām atbilstoša izpilde pilnā apjomā.
B14: 1.9. | C14: Ja Pretendents konstatē pretrunas starp būvprojektu, tehnisko specifikāciju un/vai finanšu piedāvājuma formu (tāmi), viņam ir pienākums jautājumu un atbilžu laikā pirms piedāvājumu iesniegšanas pieprasīt skaidrojumu Pasūtītājam. Ja šāds skaidrojums nav pieprasīts, tiek uzskatīts, kā Pretendents ir iecenojis visus darbus un materiālus pilnā apjomā saskaņā ar būvprojektu.
B15: 1.10. | C15: Finanšu piedāvājuma formā, lokālajā tāmē Nr.1-6 BK Būvkonstrukcijas, pozīcijā Nr.11 ir atsauce uz specifikāciju “Pamata plātnes apbērums ar smalku smilti atbilstoši "Autoceļu būvdarbu specifikācijas 2023/3 (ABS 2023/3)" (https://lvceli.lv/wp-content/uploads/2025/10/Autocelu_buvdarbu_specifikacijas_2023_3-1.pdf)”. Būvprojekta grafiskajā daļā ir saglabājusies atsauce uz vecāku specifikāciju. Jāņem vērā finanšu piedāvājuma formā (tāmē) minētā specifikācija.
B16: 1.11. | C16: Pirms piedāvājuma iesniegšanas obligāti jāveic objekta apsekošanu dabā. Objekta apskati nepieciešams pieteikt iepriekš. Lai vienotos par apskates laiku, lūdzam sazināties ar iepirkuma dokumentācijā minēto kontaktpersonu.
B17: 1.12. | C17: Būvdarbu izpildei nav paredzami īpaši apstākļi, izņemot nepieciešamību nodrošināt objekta nepārtrauktu darbību būvdarbu laikā, teritorijas uzturēšanu (pēc Būvlaukuma nodošanas akta parakstīšanas, kas tiks fiksēts ar konstatācijas aktu un fotofiksācijām).
... B21: 1.16. | C21: Visu darbu veikšanas laikā veikt fotofiksāciju un uzrādīt Pasūtītāja pilnvarotajiem pārstāvjiem, kā arī iekļaut Izpilddokumentācijā (Skatīt lapu "SA_izpilddok".)
B22: 2. Izpilddokumentācija
B23: 2.1. | C23: Būvdarbu veicējam būs jāveic izpilddokumentācijas iesniegšana šādos viedos: - BIS vidē, atbilstoši normatīvo aktu un būvniecības informācijas sistēmas prasībām; - BIM / Trimble vidē, atbilstoši Rīgas satiksmes prasībām par dokumentu struktūru un formu; - papīra formātā (atsevišķi norādītās pozīcijas) un elektronisko dokumentu formātā, atbilstoši Rīgas satiksmes prasībām par šīs sadaļas dokumentu struktūru un formu (Skatīt lapu "SA_izpilddok".);
B24: 2.2. | C24: Izpildmērījumiem jābūt veiktiem atbilstoši faktiskajai izbūves situācijai dabā. Izpildmērījumi jāiesniedz elektroniski parakstīta dokumenta veidā DWG vai DGN formātā. Pirms iesniegšanas tiem jābūt reģistrētiem pašvaldības ADTI uzturētāja datubāzē.

Sheet SA_izpilddok
A1: 10 | B1: Skaidrojošs apraksts - Izpilddokumentācija
B3: Vispārīgi | D3: elektroniski | E3: papīrā
B4: {=[1]Visparigi!$B$4:$E$16} -> 1 | C4: Titullapa | D4: elektroniski | E4: precizēt
B5: 2 | C5: Saturs | D5: elektroniski | E5: precizēt
B6: 3 | C6: Ģenerāluzņēmēja Komersanta reģistrācijas apliecība | D6: elektroniski | E6: precizēt
B7: 4 | C7: Ģenerāluzņēmēja Būvkomersanta reģistrācijas apliecība (vai izdruka no BIS sistēmas) | D7: elektroniski | E7: precizēt
B8: 5 | C8: Atbildīgā būvdarbu vadītāja sertifikāti | D8: elektroniski | E8: precizēt
B9: 6 | C9: Darbu veicēja / apakšuzņēmēja Komersanta reģistrācijas apliecība | D9: elektroniski | E9: precizēt
B10: 7 | C10: Darbu veicēja / apakšuzņēmēja Būvkomersanta reģistrācijas apliecība (vai izdruka no BIS sistēmas) | D10: elektroniski | E10: precizēt
B11: 8 | C11: Darbu vadītāja sertifikāti | D11: elektroniski | E11: precizēt
B12: 9 | C12: Izpildrasējumi un izpildshēmas PDF un DWG formātā, atsevišķos gadījumos arī papīra formātā / katrai markai skatīt iespējamos precizējumus | D12: elektroniski | E12: precizēt
B13: 10 | C13: Ekspluatācijas dokumentācija / katrai markai skatīt iespējamos precizējumus | D13: elektroniski | E13: precizēt
B14: 11 | C14: Būvizstrādājumu atbilstības apliecinājumi (ekspluatācijas īpašību deklarācijas, sertifikāti u.c.) / katrai markai skatīt iespējamos precizējumus | D14: elektroniski | E14: precizēt
B15: 12 | C15: Segto (slēpto) darbu pieņemšanas akti (parakstīti ar elektronisko parakstu) | D15: elektroniski | E15: precizēt
B16: 13 | C16: Garantijas dokumentācija un termiņa apliecinājums atbilstoši līguma nosacījumiem. Jābūt norādītai kontaktpersonai garantijas jautājumu risināšanai. / katrai markai skatīt iespējamos precizējumus | D16: elektroniski | E16: precizēt
B18: UKT (Ūdensapgāde un kanalizācija - ārējā) | D18: elektroniski | E18: papīrā
B19: =B16+1 -> 14 | C19: Izpildrasējumi ar augstumu atzīmēm, cauruļvadu diametriem, materiāliem, noslēgarmatūru utt. | D19: elektroniski
B20: =B19+1 -> 15 | C20: Izpildshēma | D20: elektroniski
B21: =B20+1 -> 16 | C21: Izpilduzmērījums, jābūt reģistrētiem pašvaldības ADTI uzturētāja datubāzē | D21: elektroniski | E21: papīrā
B22: =B21+1 -> 17 | C22: Hidrauliskās pārbaudes akts ūdensvadam, ja attiecināms | D22: elektroniski
B23: =B22+1 -> 18 | C23: Skalošanas un dezinfekcijas akts ūdensvadam, ja attiecināms | D23: elektroniski
B24: =B23+1 -> 19 | C24: Pieņemšanas-nodošanas akts ar ūdensapgādes uzņēmumu (vai atzinums), ja attiecināms | D24: elektroniski | E24: papīrā
B25: =B24+1 -> 20 | C25: Kanalizācijas cauruļvadu tīkla CCTV videoinspekcijas atskaite, ar identificējamiem posmiem atbilstoši izpildshēmai vai izpildrasējumam (ja nepieciešams, jāveic atkārtoti pēc seguma izbūves) | D25: elektroniski
B26: =B25+1 -> 21 | C26: Būvizstrādājumu atbilstības apliecinājumi - cauruļvadiem, armatūrai, fasondaļām, iekārtām u.c. | D26: elektroniski
B27: =B26+1 -> 22 | C27: Iekārtu tehniskās pases | D27: elektroniski | E27: papīrā
B28: =B27+1 -> 23 | C28: Iekārtu tehniskā dokumentācija, rokasgrāmatas, automātikas elektrosadalņu shēmas | D28: elektroniski
B29: =B28+1 -> 24 | C29: Apkopes instrukcijas (reglaments, grafiks) | D29: elektroniski | E29: papīrā
B30: =B29+1 -> 25 | C30: Automātikas ieregulēšanas protokols | D30: elektroniski | E30: papīrā
B31: =B30+1 -> 26 | C31: EL, ESS, VAS u.c. saistīto sistēmu apsaistes shēmas | D31: elektroniski
B32: =B31+1 -> 27 | C32: Būvdarbu fotofiksācijas | D32: elektroniski
B33: Piezīmes: | C33: Dokumentāciju sadalīt atbilstoši projekta dokumentācijai / loģiskajiem blokiem, piemēram, atsevišķi par ūdensvadu, sadzīves kanalizāciju, ražošanas kanalizāciju, lietus kanalizāciju, KSS1, KSS2, naftas atdalītājs, smilšu uztvērējs utt. Visām shēmām, instrukcijām, rokasgrāmatām, tehniskajai, ekspluatācijas un garantijas dokumentācijai ir jābūt valsts valodā (latviešu). Dokumentiem jābūt parakstītiem. Titullapā, kā arī uz izpildrasējumiem un izpildshēmām, obligāti jābūt norādītai informācijai: Pasūtītājs jeb Būvniecības ierosinātājs: RP SIA "Rīgas satiksme"; Izpildītājs: ģenerāluzņēmējs, apakšuzņēmējs; un Izstrādātājs: būvspeciālists.

Sheet Koptame
C1: Atbilstoši: Latvijas būvnormatīva LBN 501-17 "Būvizmaksu noteikšanas kārtība" 7.pielikumam
C5: APSTIPRINU:
D6: pasūtītāja pārstāvis, paraksts un tā atšifrējums
D8: Datums:
B11: Būvniecības koptāme
B13: Objekta nosaukums: | C13: Ārējo lietus, ražošanas un sadzīves kanalizācijas tīklu modernizācija Kleistu ielā 28 (autobusu parks Nr.6), Rīgā
B14: Būves nosaukums: | C14: Ārējie kanalizācijas tīkli un inženierbūves
B15: Objekta adrese: | C15: Kleistu iela 28, Rīga
B16: Pasūtījuma / līguma Nr.:
B18: Nr. p.k. | C18: Objekta nosaukums | E18: Objekta izmaksas (EUR bez PVN)
B23: 1 | C23: =C13 -> Ārējo lietus, ražošanas un sadzīves kanalizācijas tīklu modernizācija Kleistu ielā 28 (autobusu parks Nr.6), Rīgā | E23: =Kopsavilkums!F31 -> 0
B25: Kopā: | E25: =ROUND(SUM(E23:E24),2) -> 0
B26: Pievienotās vērtības nodoklis | D26: 0.21 | E26: =ROUND(E25*D26,2) -> 0
B27: Būvniecības izmaksas kopā (EUR ar PVN): | E27: =ROUND(SUM(E25:E26),2) -> 0
B30: Sastādīja:
C31: paraksts un tā atšifrējums, datums
B32: Sertifikāta Nr.:
B34: Tāme sastādīta: | C34: 01.07.2026.
B38: DOKUMENTS IR PARAKSTĪTS AR DROŠU ELEKTRONISKO PARAKSTU UN SATUR LAIKA ZĪMOGU

Sheet Kopsavilkums
G1: Atbilstoši: Latvijas būvnormatīva LBN 501-17 "Būvizmaksu noteikšanas kārtība" 6.pielikumam
B2: Kopsavilkuma aprēķins Nr. | F2: 1
B4: Objekta nosaukums: | D4: =Koptame!C13 -> Ārējo lietus, ražošanas un sadzīves kanalizācijas tīklu modernizācija Kleistu ielā 28 (autobusu parks Nr.6), Rīgā
B5: Būves nosaukums: | D5: =Koptame!C14 -> Ārējie kanalizācijas tīkli un inženierbūves
B6: Objekta adrese: | D6: =Koptame!C15 -> Kleistu iela 28, Rīga
B7: Pasūtījuma / līguma Nr.:
D8: Pavisam kopā (EUR bez PVN): | E8: =F31 -> 0
D9: Kopējā darbietilpība (c/h): | E9: =J27 -> 0
B11: Nr. p.k. | C11: Tāmes Nr. | D11: Būvdarbu veids vai konstruktīvā elementa nosaukums | F11: Tāmes izmaksas (EUR) | G11: Tai skaitā | J11: darbietilpība (c/h)
G12: darba alga (EUR) | H12: būv-izstrādājumi (EUR) | I12: mehānismi (EUR)
B16: 1 | C16: L.t. 1-1 | D16: Pašteces kanalizācija K1 | F16: ='1-1_K1'!P57 -> 0 | G16: ='1-1_K1'!M57 -> 0 | H16: ='1-1_K1'!N57 -> 0 | I16: ='1-1_K1'!O57 -> 0 | J16: ='1-1_K1'!L57 -> 0
B17: =IF(B16<>"",B16+1,"") -> 2 | C17: L.t. 1-2 | D17: Pašteces kanalizācija K2 | F17: ='1-2_K2'!P89 -> 0 | G17: ='1-2_K2'!M89 -> 0 | H17: ='1-2_K2'!N89 -> 0 | I17: ='1-2_K2'!O89 -> 0 | J17: ='1-2_K2'!L89 -> 0
B18: =IF(B17<>"",B17+1,"") -> 3 | C18: L.t. 1-3 | D18: Lietus kanalizācija LK1 | F18: ='1-3_LK1'!P67 -> 0 | G18: ='1-3_LK1'!M67 -> 0 | H18: ='1-3_LK1'!N67 -> 0 | I18: ='1-3_LK1'!O67 -> 0 | J18: ='1-3_LK1'!L67 -> 0
B19: =IF(B18<>"",B18+1,"") -> 4 | C19: L.t. 1-4 | D19: Lietus kanalizācija LK2 | F19: ='1-4_LK2'!P64 -> 0 | G19: ='1-4_LK2'!M64 -> 0 | H19: ='1-4_LK2'!N64 -> 0 | I19: ='1-4_LK2'!O64 -> 0 | J19: ='1-4_LK2'!L64 -> 0
B20: =IF(B19<>"",B19+1,"") -> 5 | C20: L.t. 1-5 | D20: Esošās kanalizācijas demontāža | F20: ='1-5_DEM'!P43 -> 0 | G20: ='1-5_DEM'!M43 -> 0 | H20: ='1-5_DEM'!N43 -> 0 | I20: ='1-5_DEM'!O43 -> 0 | J20: ='1-5_DEM'!L43 -> 0
B21: =IF(B20<>"",B20+1,"") -> 6 | C21: L.t. 1-6 | D21: Būvkonstrukcijas | F21: ='1-6_BK'!P33 -> 0 | G21: ='1-6_BK'!M33 -> 0 | H21: ='1-6_BK'!N33 -> 0 | I21: ='1-6_BK'!O33 -> 0 | J21: ='1-6_BK'!L33 -> 0
B22: =IF(B21<>"",B21+1,"") -> 7 | C22: L.t. 1-7 | D22: Ārējā elektroapgāde, sadalne VS-1 | F22: ='1-7_VS-1'!P61 -> 0 | G22: ='1-7_VS-1'!M61 -> 0 | H22: ='1-7_VS-1'!N61 -> 0 | I22: ='1-7_VS-1'!O61 -> 0 | J22: ='1-7_VS-1'!L61 -> 0
B23: =IF(B22<>"",B22+1,"") -> 8 | C23: L.t. 1-8 | D23: Ārējā elektroapgāde, sadalne VS-2 | F23: ='1-8_VS-2'!P63 -> 0 | G23: ='1-8_VS-2'!M63 -> 0 | H23: ='1-8_VS-2'!N63 -> 0 | I23: ='1-8_VS-2'!O63 -> 0 | J23: ='1-8_VS-2'!L63 -> 0
B24: =IF(B23<>"",B23+1,"") -> 9 | C24: L.t. 1-9 | D24: Ārējā elektroapgāde, sadalne VS-3 | F24: ='1-9_VS-3'!P49 -> 0 | G24: ='1-9_VS-3'!M49 -> 0 | H24: ='1-9_VS-3'!N49 -> 0 | I24: ='1-9_VS-3'!O49 -> 0 | J24: ='1-9_VS-3'!L49 -> 0
B25: =IF(B24<>"",B24+1,"") -> 10 | C25: L.t. 1-10 | D25: Ceļa darbi | F25: ='1-10_TS-CD'!P59 -> 0 | G25: ='1-10_TS-CD'!M59 -> 0 | H25: ='1-10_TS-CD'!N59 -> 0 | I25: ='1-10_TS-CD'!O59 -> 0 | J25: ='1-10_TS-CD'!L59 -> 0
D27: Kopā: | F27: =ROUND(SUM(F16:F26),2) -> 0 | G27: =ROUND(SUM(G16:G26),2) -> 0 | H27: =ROUND(SUM(H16:H26),2) -> 0 | I27: =ROUND(SUM(I16:I26),2) -> 0 | J27: =ROUND(SUM(J16:J26),2) -> 0
B28: Virsizdevumi | E28: 0 | F28: =ROUND(F27*E28,2) -> 0
B29: t. sk. darba aizsardzībai (no virsizdevumiem) | E29: 0 | F29: =ROUND(F28*E29,2) -> 0
B30: Peļņa | E30: 0 | F30: =ROUND(F27*E30,2) -> 0
B31: Pavisam kopā (EUR bez PVN): | F31: =F27+F28+F30 -> 0
C34: Sastādīja:
D35: paraksts un tā atšifrējums, datums
C36: Tāme sastādīta: | D36: =Koptame!C34 -> 01.07.2026.
C39: Pārbaudīja:
D40: paraksts un tā atšifrējums, datums
C41: Sertifikāta Nr.:

Sheet 1-1_K1
M1: Atbilstoši: Latvijas būvnormatīva LBN 501-17 "Būvizmaksu noteikšanas kārtība" 5.pielikumam
C2: Lokālā tāme Nr. | I2: 1-1
C3: Pašteces kanalizācija K1
C4: būvdarbu veids vai konstruktīvā elementa nosaukums
B5: Objekta nosaukums: | D5: =Koptame!C13 -> Ārējo lietus, ražošanas un sadzīves kanalizācijas tīklu modernizācija Kleistu ielā 28 (autobusu parks Nr.6), Rīgā
B6: Būves nosaukums: | D6: =Koptame!C14 -> Ārējie kanalizācijas tīkli un inženierbūves
B7: Objekta adrese: | D7: =Koptame!C15 -> Kleistu iela 28, Rīga
B8: Pasūtījuma / līguma Nr.:
B10: Tāme sastādīta 2026.gada tirgus cenās, pamatojoties uz iepirkuma dokumentāciju. | N10: Tāme sastādīta: | O10: =Koptame!C34 -> 01.07.2026.
N11: Tāmes tiešās izmaksas (EUR bez PVN): | O11: =P57 -> 0
B13: Nr. p.k. | C13: Būvdarbu nosaukums | D13: Mērv. | E13: Daudz. | F13: Vienības izmaksas | L13: Kopā uz visu apjomu
F14: laika norma (c/h) | G14: darba samaksas likme (EUR/h) | H14: darba alga (EUR) | I14: būv-izstrādājumi (EUR) | J14: mehānismi (EUR) | K14: Kopā (EUR) | L14: darbietilpība (c/h) | M14: darba alga (EUR) | N14: būv-izstrādājumi (EUR) | O14: mehānismi (EUR) | P14: Summa (EUR)
B18: 1 | C18: 2 | D18: 3 | E18: 4 | F18: 5 | G18: 6 | H18: 7 | I18: 8 | J18: 9 | K18: 10 | L18: 11 | M18: 12 | N18: 13 | O18: 14 | P18: 15
B19: 1 | C19: Zemes darbi projektēto K1 tīklu darbu zonā
B20: =IF(B19<>"",B19+1,"") -> 2 | C20: Tranšejas rakšana un aizbēršana kanalizācijas tīklu OD110 montāžai (ieskaitot grunts nomaiņu, aizvešanu, atvešanu utt.) H=0,9 - 1,50 m | D20: m | E20: 5.3 | H20: =ROUND(F20*G20,2) -> 0 | K20: =ROUND(SUM(H20:J20),2) -> 0 | L20: =ROUND(E20*F20,2) -> 0 | M20: =ROUND(E20*H20,2) -> 0 | N20: =ROUND(E20*I20,2) -> 0 | O20: =ROUND(E20*J20,2) -> 0 | P20: =ROUND(SUM(M20:O20),2) -> 0
B21: =IF(B20<>"",B20+1,"") -> 3 | C21: Tranšejas rakšana un aizbēršana kanalizācijas tīklu OD160 montāžai (ieskaitot grunts nomaiņu, aizvešanu, atvešanu utt.) H=0,9 - 1,50 m | D21: m | E21: 2.5 | H21: =ROUND(F21*G21,2) -> 0 | K21: =ROUND(SUM(H21:J21),2) -> 0 | L21: =ROUND(E21*F21,2) -> 0 | M21: =ROUND(E21*H21,2) -> 0 | N21: =ROUND(E21*I21,2) -> 0 | O21: =ROUND(E21*J21,2) -> 0 | P21: =ROUND(SUM(M21:O21),2) -> 0
B22: =IF(B21<>"",B21+1,"") -> 4 | C22: Tranšejas rakšana un aizbēršana kanalizācijas tīklu OD200 montāžai (ieskaitot grunts nomaiņu, aizvešanu, atvešanu utt.) H=1,0-2,0 m | D22: m | E22: 104.9 | H22: =ROUND(F22*G22,2) -> 0 | K22: =ROUND(SUM(H22:J22),2) -> 0 | L22: =ROUND(E22*F22,2) -> 0 | M22: =ROUND(E22*H22,2) -> 0 | N22: =ROUND(E22*I22,2) -> 0 | O22: =ROUND(E22*J22,2) -> 0 | P22: =ROUND(SUM(M22:O22),2) -> 0
B23: =IF(B22<>"",B22+1,"") -> 5 | C23: Tranšejas rakšana un aizbēršana kanalizācijas tīklu OD200 montāžai (ieskaitot grunts nomaiņu, aizvešanu, atvešanu utt.) H=2,0-2,5 m | D23: m | E23: 10.3 | H23: =ROUND(F23*G23,2) -> 0 | K23: =ROUND(SUM(H23:J23),2) -> 0 | L23: =ROUND(E23*F23,2) -> 0 | M23: =ROUND(E23*H23,2) -> 0 | N23: =ROUND(E23*I23,2) -> 0 | O23: =ROUND(E23*J23,2) -> 0 | P23: =ROUND(SUM(M23:O23),2) -> 0
B24: =IF(B23<>"",B23+1,"") -> 6 | C24: Tranšejas rakšana un aizbēršana kanalizācijas spiedvada OD90 montāžai (ieskaitot grunts nomaiņu, aizvešanu, atvešanu utt.) H÷ 2,00 m | D24: m | E24: 10.5 | H24: =ROUND(F24*G24,2) -> 0 | K24: =ROUND(SUM(H24:J24),2) -> 0 | L24: =ROUND(E24*F24,2) -> 0 | M24: =ROUND(E24*H24,2) -> 0 | N24: =ROUND(E24*I24,2) -> 0 | O24: =ROUND(E24*J24,2) -> 0 | P24: =ROUND(SUM(M24:O24),2) -> 0
B25: =IF(B24<>"",B24+1,"") -> 7 | C25: Tranšejas sienu nostiprināšana ar metāla vairogiem (divpusēji) pie dziļuma, kas lielāks par 1,50 m. *norādīts tekošais tranšejas garums, pieņemot, ka sienas nostiprinātas abās būvgrāvja pusēs | D25: m | E25: 125.7 | H25: =ROUND(F25*G25,2) -> 0 | K25: =ROUND(SUM(H25:J25),2) -> 0 | L25: =ROUND(E25*F25,2) -> 0 | M25: =ROUND(E25*H25,2) -> 0 | N25: =ROUND(E25*I25,2) -> 0 | O25: =ROUND(E25*J25,2) -> 0 | P25: =ROUND(SUM(M25:O25),2) -> 0
B26: =IF(B25<>"",B25+1,"") -> 8 | C26: Smilts pamatnes ierīkošana zem cauruļvadiem, h=15 cm | D26: m3 | E26: 19.8046 | H26: =ROUND(F26*G26,2) -> 0 | K26: =ROUND(SUM(H26:J26),2) -> 0 | L26: =ROUND(E26*F26,2) -> 0 | M26: =ROUND(E26*H26,2) -> 0 | N26: =ROUND(E26*I26,2) -> 0 | O26: =ROUND(E26*J26,2) -> 0 | P26: =ROUND(SUM(M26:O26),2) -> 0
B27: =IF(B26<>"",B26+1,"") -> 9 | C27: Cauruļvadu smilšu apbērums, h=15 cm | D27: m3 | E27: 41.0304 | H27: =ROUND(F27*G27,2) -> 0 | K27: =ROUND(SUM(H27:J27),2) -> 0 | L27: =ROUND(E27*F27,2) -> 0 | M27: =ROUND(E27*H27,2) -> 0 | N27: =ROUND(E27*I27,2) -> 0 | O27: =ROUND(E27*J27,2) -> 0 | P27: =ROUND(SUM(M27:O27),2) -> 0
B28: =IF(B27<>"",B27+1,"") -> 10 | C28: Gruntsūdens līmeņa pazemināšana | D28: m | E28: 133.5 | H28: =ROUND(F28*G28,2) -> 0 | K28: =ROUND(SUM(H28:J28),2) -> 0 | L28: =ROUND(E28*F28,2) -> 0 | M28: =ROUND(E28*H28,2) -> 0 | N28: =ROUND(E28*I28,2) -> 0 | O28: =ROUND(E28*J28,2) -> 0 | P28: =ROUND(SUM(M28:O28),2) -> 0
B29: =IF(B28<>"",B28+1,"") -> 11 | C29: Kanalizācijas K1 montāžas darbi
B30: =IF(B29<>"",B29+1,"") -> 12 | C30: PP gofrēta dubultsienu kanalizācijas caurules ar uzmavām un blīvi OD110; H=0,90 - 1,50 m, ieguldes klase SN8 montāža un ar to saistītie darbi | D30: m | E30: 5.3 | H30: =ROUND(F30*G30,2) -> 0 | K30: =ROUND(SUM(H30:J30),2) -> 0 | L30: =ROUND(E30*F30,2) -> 0 | M30: =ROUND(E30*H30,2) -> 0 | N30: =ROUND(E30*I30,2) -> 0 | O30: =ROUND(E30*J30,2) -> 0 | P30: =ROUND(SUM(M30:O30),2) -> 0
B31: =IF(B30<>"",B30+1,"") -> 13 | C31: PP gofrēta dubultsienu kanalizācijas caurules ar uzmavām un blīvi OD160; H=0,90 - 1,50 m, ieguldes klase SN8 montāža un ar to saistītie darbi | D31: m | E31: 2.5 | H31: =ROUND(F31*G31,2) -> 0 | K31: =ROUND(SUM(H31:J31),2) -> 0 | L31: =ROUND(E31*F31,2) -> 0 | M31: =ROUND(E31*H31,2) -> 0 | N31: =ROUND(E31*I31,2) -> 0 | O31: =ROUND(E31*J31,2) -> 0 | P31: =ROUND(SUM(M31:O31),2) -> 0
B32: =IF(B31<>"",B31+1,"") -> 14 | C32: PP gofrēta dubultsienu kanalizācijas caurules ar uzmavām un blīvi OD200; H=1,0 - 2,0 m, ieguldes klase SN8 montāža un ar to saistītie darbi | D32: m | E32: 104.9 | H32: =ROUND(F32*G32,2) -> 0 | K32: =ROUND(SUM(H32:J32),2) -> 0 | L32: =ROUND(E32*F32,2) -> 0 | M32: =ROUND(E32*H32,2) -> 0 | N32: =ROUND(E32*I32,2) -> 0 | O32: =ROUND(E32*J32,2) -> 0 | P32: =ROUND(SUM(M32:O32),2) -> 0
B33: =IF(B32<>"",B32+1,"") -> 15 | C33: PP gofrēta dubultsienu kanalizācijas caurules ar uzmavām un blīvi OD200; H=2,0 - 2,50 m, ieguldes klase SN8 montāža un ar to saistītie darbi | D33: m | E33: 10.3 | H33: =ROUND(F33*G33,2) -> 0 | K33: =ROUND(SUM(H33:J33),2) -> 0 | L33: =ROUND(E33*F33,2) -> 0 | M33: =ROUND(E33*H33,2) -> 0 | N33: =ROUND(E33*I33,2) -> 0 | O33: =ROUND(E33*J33,2) -> 0 | P33: =ROUND(SUM(M33:O33),2) -> 0
B34: =IF(B33<>"",B33+1,"") -> 16 | C34: Caurule SDR17 PE100 OD90 PN10; H ÷ 2,0 m, montāža un ar to saistītie darbi | D34: m | E34: 10.5 | H34: =ROUND(F34*G34,2) -> 0 | K34: =ROUND(SUM(H34:J34),2) -> 0 | L34: =ROUND(E34*F34,2) -> 0 | M34: =ROUND(E34*H34,2) -> 0 | N34: =ROUND(E34*I34,2) -> 0 | O34: =ROUND(E34*J34,2) -> 0 | P34: =ROUND(SUM(M34:O34),2) -> 0
B35: =IF(B34<>"",B34+1,"") -> 17 | C35: Sadzīves kanalizācijas sūkņu stacija, korpuss HDPE Ø1500, H=3,51 m; ar aizslēdzamu vāku - uzstādīšana, savienošana ar kanalizācijas pienākošo pašteces vadu un aizejošo kanalizācijas spiedvadu, iekšējā komplektācija atbilstoši rasējumam UKT/LKT-6 | D35: kpl | E35: 1 | H35: =ROUND(F35*G35,2) -> 0 | K35: =ROUND(SUM(H35:J35),2) -> 0 | L35: =ROUND(E35*F35,2) -> 0 | M35: =ROUND(E35*H35,2) -> 0 | N35: =ROUND(E35*I35,2) -> 0 | O35: =ROUND(E35*J35,2) -> 0 | P35: =ROUND(SUM(M35:O35),2) -> 0
B36: =IF(B35<>"",B35+1,"") -> 18 | C36: Sūkņu stacijas vadības un automātikas bloks LC231, kas izvietojams VS-2 sadalnē, atbilstoši rasējumam UKT/LKT-6, ELT-5. | D36: kpl | E36: 1 | H36: =ROUND(F36*G36,2) -> 0 | K36: =ROUND(SUM(H36:J36),2) -> 0 | L36: =ROUND(E36*F36,2) -> 0 | M36: =ROUND(E36*H36,2) -> 0 | N36: =ROUND(E36*I36,2) -> 0 | O36: =ROUND(E36*J36,2) -> 0 | P36: =ROUND(SUM(M36:O36),2) -> 0
B37: =IF(B36<>"",B36+1,"") -> 19 | C37: PP skataka ID600 H=1,0-2,0 m, aku vākiem ir jābūt montētiem uz armēta dzelzbetona slodzi kliedējoša atbalsta gredzena no C50/60 markas betona, ķeta vākiem D400 klases, pamatne ar tekni rūpnieciski izgatavota, montāža un ar to saistītie darbi | D37: kpl | E37: 6 | H37: =ROUND(F37*G37,2) -> 0 | K37: =ROUND(SUM(H37:J37),2) -> 0 | L37: =ROUND(E37*F37,2) -> 0 | M37: =ROUND(E37*H37,2) -> 0 | N37: =ROUND(E37*I37,2) -> 0 | O37: =ROUND(E37*J37,2) -> 0 | P37: =ROUND(SUM(M37:O37),2) -> 0
B38: =IF(B37<>"",B37+1,"") -> 20 | C38: PP skataka ID600 H=2,0-2,5 m, aku vākiem ir jābūt montētiem uz armēta dzelzbetona slodzi kliedējoša atbalsta gredzena no C50/60 markas betona, ķeta vākiem D400 klases, pamatne ar tekni rūpnieciski izgatavota, montāža un ar to saistītie darbi | D38: kpl | E38: 1 | H38: =ROUND(F38*G38,2) -> 0 | K38: =ROUND(SUM(H38:J38),2) -> 0 | L38: =ROUND(E38*F38,2) -> 0 | M38: =ROUND(E38*H38,2) -> 0 | N38: =ROUND(E38*I38,2) -> 0 | O38: =ROUND(E38*J38,2) -> 0 | P38: =ROUND(SUM(M38:O38),2) -> 0
B39: =IF(B38<>"",B38+1,"") -> 21 | C39: Dz. b. skataka DN1000 H=1,0-1,5 m, aku vākiem ir jābūt montētiem uz armēta dzelzbetona slodzi kliedējoša atbalsta gredzena no C50/60 markas betona, ķeta vākiem D400 klases, pamatne ar tekni rūpnieciski izgatavota, spiediena atsitiena plāksne, montāža un ar to saistītie darbi | D39: kpl. | E39: 1 | H39: =ROUND(F39*G39,2) -> 0 | K39: =ROUND(SUM(H39:J39),2) -> 0 | L39: =ROUND(E39*F39,2) -> 0 | M39: =ROUND(E39*H39,2) -> 0 | N39: =ROUND(E39*I39,2) -> 0 | O39: =ROUND(E39*J39,2) -> 0 | P39: =ROUND(SUM(M39:O39),2) -> 0
B40: =IF(B39<>"",B39+1,"") -> 22 | C40: Pieslēguma izbūve kanalizācijas tīkliem d200mm | D40: kpl | E40: 2 | H40: =ROUND(F40*G40,2) -> 0 | K40: =ROUND(SUM(H40:J40),2) -> 0 | L40: =ROUND(E40*F40,2) -> 0 | M40: =ROUND(E40*H40,2) -> 0 | N40: =ROUND(E40*I40,2) -> 0 | O40: =ROUND(E40*J40,2) -> 0 | P40: =ROUND(SUM(M40:O40),2) -> 0
B41: =IF(B40<>"",B40+1,"") -> 23 | C41: Pieslēguma izbūve kanalizācijas tīkliem d150mm | D41: kpl | E41: 2 | H41: =ROUND(F41*G41,2) -> 0 | K41: =ROUND(SUM(H41:J41),2) -> 0 | L41: =ROUND(E41*F41,2) -> 0 | M41: =ROUND(E41*H41,2) -> 0 | N41: =ROUND(E41*I41,2) -> 0 | O41: =ROUND(E41*J41,2) -> 0 | P41: =ROUND(SUM(M41:O41),2) -> 0
... B53: =IF(B52<>"",B52+1,"") -> 35 | C53: Esošo elektrokabeļu un sakaru kabeļu aizsardzība to šķērsojumu vietās ar projektēto kanalizāciju, ievietojot tos saliekamajās aizsargčaulās AROT OD110, L=3m | D53: gb | E53: 7 | H53: =ROUND(F53*G53,2) -> 0 | K53: =ROUND(SUM(H53:J53),2) -> 0 | L53: =ROUND(E53*F53,2) -> 0 | M53: =ROUND(E53*H53,2) -> 0 | N53: =ROUND(E53*I53,2) -> 0 | O53: =ROUND(E53*J53,2) -> 0 | P53: =ROUND(SUM(M53:O53),2) -> 0
B54: =IF(B53<>"",B53+1,"") -> 36 | C54: Citi darbi
B55: =IF(B54<>"",B54+1,"") -> 37 | C55: Esošā žoga rūpīga noņemšana un novietošana atpakaļ (būvdarbu zonā). L=4.0m | D55: kpl | E55: 1 | H55: =ROUND(F55*G55,2) -> 0 | K55: =ROUND(SUM(H55:J55),2) -> 0 | L55: =ROUND(E55*F55,2) -> 0 | M55: =ROUND(E55*H55,2) -> 0 | N55: =ROUND(E55*I55,2) -> 0 | O55: =ROUND(E55*J55,2) -> 0 | P55: =ROUND(SUM(M55:O55),2) -> 0
C57: Tiešās izmaksas kopā, t. sk. darba devēja sociālais nodoklis (23,59%): | L57: =SUM(L19:L56) -> 0 | M57: =SUM(M19:M56) -> 0 | N57: =SUM(N19:N56) -> 0 | O57: =SUM(O19:O56) -> 0 | P57: =SUM(P19:P56) -> 0
C60: Sastādīja:
D61: paraksts un tā atšifrējums, datums
C64: Pārbaudīja:
D65: paraksts un tā atšifrējums, datums
C66: Sertifikāta Nr.:

Sheet 1-2_K2
M1: Atbilstoši: Latvijas būvnormatīva LBN 501-17 "Būvizmaksu noteikšanas kārtība" 5.pielikumam
C2: Lokālā tāme Nr. | I2: 1-2
C3: Pašteces kanalizācija K2
C4: būvdarbu veids vai konstruktīvā elementa nosaukums
B5: Objekta nosaukums: | D5: =Koptame!C13 -> Ārējo lietus, ražošanas un sadzīves kanalizācijas tīklu modernizācija Kleistu ielā 28 (autobusu parks Nr.6), Rīgā
B6: Būves nosaukums: | D6: =Koptame!C14 -> Ārējie kanalizācijas tīkli un inženierbūves
B7: Objekta adrese: | D7: =Koptame!C15 -> Kleistu iela 28, Rīga
B8: Pasūtījuma / līguma Nr.:
B10: Tāme sastādīta 2026.gada tirgus cenās, pamatojoties uz iepirkuma dokumentāciju. | N10: Tāme sastādīta: | O10: =Koptame!C34 -> 01.07.2026.
N11: Tāmes tiešās izmaksas (EUR bez PVN): | O11: =P89 -> 0
B13: Nr. p.k. | C13: Būvdarbu nosaukums | D13: Mērv. | E13: Daudz. | F13: Vienības izmaksas | L13: Kopā uz visu apjomu
F14: laika norma (c/h) | G14: darba samaksas likme (EUR/h) | H14: darba alga (EUR) | I14: būv-izstrādājumi (EUR) | J14: mehānismi (EUR) | K14: Kopā (EUR) | L14: darbietilpība (c/h) | M14: darba alga (EUR) | N14: būv-izstrādājumi (EUR) | O14: mehānismi (EUR) | P14: Summa (EUR)
B18: 1 | C18: 2 | D18: 3 | E18: 4 | F18: 5 | G18: 6 | H18: 7 | I18: 8 | J18: 9 | K18: 10 | L18: 11 | M18: 12 | N18: 13 | O18: 14 | P18: 15
B19: 1 | C19: Zemes darbi projektēto K2 tīklu darbu zonā
B20: =IF(B19<>"",B19+1,"") -> 2 | C20: Tranšejas rakšana un aizbēršana kanalizācijas tīklu OD50 montāžai (ieskaitot grunts nomaiņu*, aizvešanu, atvešanu utt.) H=1,0 - 1,50 m | D20: m | E20: 4.3 | H20: =ROUND(F20*G20,2) -> 0 | K20: =ROUND(SUM(H20:J20),2) -> 0 | L20: =ROUND(E20*F20,2) -> 0 | M20: =ROUND(E20*H20,2) -> 0 | N20: =ROUND(E20*I20,2) -> 0 | O20: =ROUND(E20*J20,2) -> 0 | P20: =ROUND(SUM(M20:O20),2) -> 0
B21: =IF(B20<>"",B20+1,"") -> 3 | C21: Tranšejas rakšana un aizbēršana kanalizācijas tīklu OD110 montāžai (ieskaitot grunts nomaiņu*, aizvešanu, atvešanu utt.) H=1,0 - 1,50 m | D21: m | E21: 4.2 | H21: =ROUND(F21*G21,2) -> 0 | K21: =ROUND(SUM(H21:J21),2) -> 0 | L21: =ROUND(E21*F21,2) -> 0 | M21: =ROUND(E21*H21,2) -> 0 | N21: =ROUND(E21*I21,2) -> 0 | O21: =ROUND(E21*J21,2) -> 0 | P21: =ROUND(SUM(M21:O21),2) -> 0
B22: =IF(B21<>"",B21+1,"") -> 4 | C22: Tranšejas rakšana un aizbēršana kanalizācijas tīklu OD160 montāžai (ieskaitot grunts nomaiņu*, aizvešanu, atvešanu utt.) H=1,0 - 1,50 m | D22: m | E22: 21.1 | H22: =ROUND(F22*G22,2) -> 0 | K22: =ROUND(SUM(H22:J22),2) -> 0 | L22: =ROUND(E22*F22,2) -> 0 | M22: =ROUND(E22*H22,2) -> 0 | N22: =ROUND(E22*I22,2) -> 0 | O22: =ROUND(E22*J22,2) -> 0 | P22: =ROUND(SUM(M22:O22),2) -> 0
B23: =IF(B22<>"",B22+1,"") -> 5 | C23: Tranšejas rakšana un aizbēršana kanalizācijas tīklu OD160 montāžai (ieskaitot grunts nomaiņu*, aizvešanu, atvešanu utt.) H=1,5 - 2,0 m | D23: m | E23: 3.8 | H23: =ROUND(F23*G23,2) -> 0 | K23: =ROUND(SUM(H23:J23),2) -> 0 | L23: =ROUND(E23*F23,2) -> 0 | M23: =ROUND(E23*H23,2) -> 0 | N23: =ROUND(E23*I23,2) -> 0 | O23: =ROUND(E23*J23,2) -> 0 | P23: =ROUND(SUM(M23:O23),2) -> 0
B24: =IF(B23<>"",B23+1,"") -> 6 | C24: Tranšejas rakšana un aizbēršana kanalizācijas tīklu OD200 montāžai (ieskaitot grunts nomaiņu*, aizvešanu, atvešanu utt.) H=1,0-1,50 m | D24: m | E24: 76.5 | H24: =ROUND(F24*G24,2) -> 0 | K24: =ROUND(SUM(H24:J24),2) -> 0 | L24: =ROUND(E24*F24,2) -> 0 | M24: =ROUND(E24*H24,2) -> 0 | N24: =ROUND(E24*I24,2) -> 0 | O24: =ROUND(E24*J24,2) -> 0 | P24: =ROUND(SUM(M24:O24),2) -> 0
B25: =IF(B24<>"",B24+1,"") -> 7 | C25: Tranšejas rakšana un aizbēršana kanalizācijas tīklu OD200 montāžai (ieskaitot grunts nomaiņu*, aizvešanu, atvešanu utt.) H=1,5-2,00 m | D25: m | E25: 96.1 | H25: =ROUND(F25*G25,2) -> 0 | K25: =ROUND(SUM(H25:J25),2) -> 0 | L25: =ROUND(E25*F25,2) -> 0 | M25: =ROUND(E25*H25,2) -> 0 | N25: =ROUND(E25*I25,2) -> 0 | O25: =ROUND(E25*J25,2) -> 0 | P25: =ROUND(SUM(M25:O25),2) -> 0
B26: =IF(B25<>"",B25+1,"") -> 8 | C26: Tranšejas rakšana un aizbēršana kanalizācijas tīklu OD200 montāžai (ieskaitot grunts nomaiņu*, aizvešanu, atvešanu utt.) H=2,00-2,5 m | D26: m | E26: 24.3 | H26: =ROUND(F26*G26,2) -> 0 | K26: =ROUND(SUM(H26:J26),2) -> 0 | L26: =ROUND(E26*F26,2) -> 0 | M26: =ROUND(E26*H26,2) -> 0 | N26: =ROUND(E26*I26,2) -> 0 | O26: =ROUND(E26*J26,2) -> 0 | P26: =ROUND(SUM(M26:O26),2) -> 0
B27: =IF(B26<>"",B26+1,"") -> 9 | C27: Tranšejas rakšana un aizbēršana kanalizācijas tīklu OD200 montāžai (ieskaitot grunts nomaiņu*, aizvešanu, atvešanu utt.) H=2,5-3,0 m | D27: m | E27: 12.2 | H27: =ROUND(F27*G27,2) -> 0 | K27: =ROUND(SUM(H27:J27),2) -> 0 | L27: =ROUND(E27*F27,2) -> 0 | M27: =ROUND(E27*H27,2) -> 0 | N27: =ROUND(E27*I27,2) -> 0 | O27: =ROUND(E27*J27,2) -> 0 | P27: =ROUND(SUM(M27:O27),2) -> 0
B28: =IF(B27<>"",B27+1,"") -> 10 | C28: Tranšejas rakšana un aizbēršana kanalizācijas spiedvada OD90 montāžai (ieskaitot grunts nomaiņu*, aizvešanu, atvešanu utt.) H÷ 2,00 m | D28: m | E28: 68.9 | H28: =ROUND(F28*G28,2) -> 0 | K28: =ROUND(SUM(H28:J28),2) -> 0 | L28: =ROUND(E28*F28,2) -> 0 | M28: =ROUND(E28*H28,2) -> 0 | N28: =ROUND(E28*I28,2) -> 0 | O28: =ROUND(E28*J28,2) -> 0 | P28: =ROUND(SUM(M28:O28),2) -> 0
B29: =IF(B28<>"",B28+1,"") -> 11 | C29: Tranšejas rakšana un aizbēršana kanalizācijas spiedvada OD90 montāžai (ieskaitot grunts nomaiņu*, aizvešanu, atvešanu utt.) H= 2,00-2,5 m | D29: m | E29: 69.4 | H29: =ROUND(F29*G29,2) -> 0 | K29: =ROUND(SUM(H29:J29),2) -> 0 | L29: =ROUND(E29*F29,2) -> 0 | M29: =ROUND(E29*H29,2) -> 0 | N29: =ROUND(E29*I29,2) -> 0 | O29: =ROUND(E29*J29,2) -> 0 | P29: =ROUND(SUM(M29:O29),2) -> 0
B30: =IF(B29<>"",B29+1,"") -> 12 | C30: Tranšejas sienu nostiprināšana ar metāla vairogiem (divpusēji) pie dziļuma, kas lielāks par 1,50 m. *norādīts tekošais tranšejas garums, pieņemot, ka sienas nostiprinātas abās būvgrāvja pusēs | D30: m | E30: 274.7 | H30: =ROUND(F30*G30,2) -> 0 | K30: =ROUND(SUM(H30:J30),2) -> 0 | L30: =ROUND(E30*F30,2) -> 0 | M30: =ROUND(E30*H30,2) -> 0 | N30: =ROUND(E30*I30,2) -> 0 | O30: =ROUND(E30*J30,2) -> 0 | P30: =ROUND(SUM(M30:O30),2) -> 0
B31: =IF(B30<>"",B30+1,"") -> 13 | C31: Smilts pamatnes ierīkošana zem cauruļvadiem, h=15 cm | D31: m3 | E31: 55.1 | H31: =ROUND(F31*G31,2) -> 0 | K31: =ROUND(SUM(H31:J31),2) -> 0 | L31: =ROUND(E31*F31,2) -> 0 | M31: =ROUND(E31*H31,2) -> 0 | N31: =ROUND(E31*I31,2) -> 0 | O31: =ROUND(E31*J31,2) -> 0 | P31: =ROUND(SUM(M31:O31),2) -> 0
... B34: =IF(B33<>"",B33+1,"") -> 16 | C34: Gruntsūdens līmeņa pazemināšana | D34: m | E34: 380.8 | H34: =ROUND(F34*G34,2) -> 0 | K34: =ROUND(SUM(H34:J34),2) -> 0 | L34: =ROUND(E34*F34,2) -> 0 | M34: =ROUND(E34*H34,2) -> 0 | N34: =ROUND(E34*I34,2) -> 0 | O34: =ROUND(E34*J34,2) -> 0 | P34: =ROUND(SUM(M34:O34),2) -> 0
B35: =IF(B34<>"",B34+1,"") -> 17 | C35: Kanalizācijas K2 montāžas darbi
B36: =IF(B35<>"",B35+1,"") -> 18 | C36: PP kanalizācijas caurules ar uzmavām un blīvi OD50; H=1,0 - 1,50 m, ieguldes klase SN8 montāža un ar to saistītie darbi | D36: m | E36: 4.3 | H36: =ROUND(F36*G36,2) -> 0 | K36: =ROUND(SUM(H36:J36),2) -> 0 | L36: =ROUND(E36*F36,2) -> 0 | M36: =ROUND(E36*H36,2) -> 0 | N36: =ROUND(E36*I36,2) -> 0 | O36: =ROUND(E36*J36,2) -> 0 | P36: =ROUND(SUM(M36:O36),2) -> 0
B37: =IF(B36<>"",B36+1,"") -> 19 | C37: PP gofrēta dubultsienu kanalizācijas caurules ar uzmavām un blīvi OD110; H=1,0 - 1,50 m, ieguldes klase SN8 montāža un ar to saistītie darbi | D37: m | E37: 4.2 | H37: =ROUND(F37*G37,2) -> 0 | K37: =ROUND(SUM(H37:J37),2) -> 0 | L37: =ROUND(E37*F37,2) -> 0 | M37: =ROUND(E37*H37,2) -> 0 | N37: =ROUND(E37*I37,2) -> 0 | O37: =ROUND(E37*J37,2) -> 0 | P37: =ROUND(SUM(M37:O37),2) -> 0
B38: =IF(B37<>"",B37+1,"") -> 20 | C38: PP gofrēta dubultsienu kanalizācijas caurules ar uzmavām un blīvi OD160; H=1,0 - 1,50 m, ieguldes klase SN8 montāža un ar to saistītie darbi | D38: m | E38: 21.1 | H38: =ROUND(F38*G38,2) -> 0 | K38: =ROUND(SUM(H38:J38),2) -> 0 | L38: =ROUND(E38*F38,2) -> 0 | M38: =ROUND(E38*H38,2) -> 0 | N38: =ROUND(E38*I38,2) -> 0 | O38: =ROUND(E38*J38,2) -> 0 | P38: =ROUND(SUM(M38:O38),2) -> 0
B39: =IF(B38<>"",B38+1,"") -> 21 | C39: PP gofrēta dubultsienu kanalizācijas caurules ar uzmavām un blīvi OD160; H=1,5 - 2,0 m, ieguldes klase SN8 montāža un ar to saistītie darbi | D39: m | E39: 3.8 | H39: =ROUND(F39*G39,2) -> 0 | K39: =ROUND(SUM(H39:J39),2) -> 0 | L39: =ROUND(E39*F39,2) -> 0 | M39: =ROUND(E39*H39,2) -> 0 | N39: =ROUND(E39*I39,2) -> 0 | O39: =ROUND(E39*J39,2) -> 0 | P39: =ROUND(SUM(M39:O39),2) -> 0
B40: =IF(B39<>"",B39+1,"") -> 22 | C40: PP gofrēta dubultsienu kanalizācijas caurules ar uzmavām un blīvi OD200; H=1,0 - 1,50 m, ieguldes klase SN8 montāža un ar to saistītie darbi | D40: m | E40: 76.5 | H40: =ROUND(F40*G40,2) -> 0 | K40: =ROUND(SUM(H40:J40),2) -> 0 | L40: =ROUND(E40*F40,2) -> 0 | M40: =ROUND(E40*H40,2) -> 0 | N40: =ROUND(E40*I40,2) -> 0 | O40: =ROUND(E40*J40,2) -> 0 | P40: =ROUND(SUM(M40:O40),2) -> 0
B41: =IF(B40<>"",B40+1,"") -> 23 | C41: PP gofrēta dubultsienu kanalizācijas caurules ar uzmavām un blīvi OD200; H=1,50 - 2,00 m, ieguldes klase SN8 montāža un ar to saistītie darbi | D41: m | E41: 96.1 | H41: =ROUND(F41*G41,2) -> 0 | K41: =ROUND(SUM(H41:J41),2) -> 0 | L41: =ROUND(E41*F41,2) -> 0 | M41: =ROUND(E41*H41,2) -> 0 | N41: =ROUND(E41*I41,2) -> 0 | O41: =ROUND(E41*J41,2) -> 0 | P41: =ROUND(SUM(M41:O41),2) -> 0
B42: =IF(B41<>"",B41+1,"") -> 24 | C42: PP gofrēta dubultsienu kanalizācijas caurules ar uzmavām un blīvi OD200; H=2,00 - 2,50 m, ieguldes klase SN8 montāža un ar to saistītie darbi | D42: m | E42: 24.3 | H42: =ROUND(F42*G42,2) -> 0 | K42: =ROUND(SUM(H42:J42),2) -> 0 | L42: =ROUND(E42*F42,2) -> 0 | M42: =ROUND(E42*H42,2) -> 0 | N42: =ROUND(E42*I42,2) -> 0 | O42: =ROUND(E42*J42,2) -> 0 | P42: =ROUND(SUM(M42:O42),2) -> 0
B43: =IF(B42<>"",B42+1,"") -> 25 | C43: PP gofrēta dubultsienu kanalizācijas caurules ar uzmavām un blīvi OD200; H=2,50 - 3,00 m, ieguldes klase SN8 montāža un ar to saistītie darbi | D43: m | E43: 12.2 | H43: =ROUND(F43*G43,2) -> 0 | K43: =ROUND(SUM(H43:J43),2) -> 0 | L43: =ROUND(E43*F43,2) -> 0 | M43: =ROUND(E43*H43,2) -> 0 | N43: =ROUND(E43*I43,2) -> 0 | O43: =ROUND(E43*J43,2) -> 0 | P43: =ROUND(SUM(M43:O43),2) -> 0
B44: =IF(B43<>"",B43+1,"") -> 26 | C44: Caurule SDR17 PE100 OD90 PN10; H ÷ 2,0 m, montāža un ar to saistītie darbi | D44: m | E44: 68.9 | H44: =ROUND(F44*G44,2) -> 0 | K44: =ROUND(SUM(H44:J44),2) -> 0 | L44: =ROUND(E44*F44,2) -> 0 | M44: =ROUND(E44*H44,2) -> 0 | N44: =ROUND(E44*I44,2) -> 0 | O44: =ROUND(E44*J44,2) -> 0 | P44: =ROUND(SUM(M44:O44),2) -> 0
B45: =IF(B44<>"",B44+1,"") -> 27 | C45: Caurule SDR17 PE100 OD90 PN10; H= 2,0-2,5 m, montāža un ar to saistītie darbi | D45: m | E45: 69.4 | H45: =ROUND(F45*G45,2) -> 0 | K45: =ROUND(SUM(H45:J45),2) -> 0 | L45: =ROUND(E45*F45,2) -> 0 | M45: =ROUND(E45*H45,2) -> 0 | N45: =ROUND(E45*I45,2) -> 0 | O45: =ROUND(E45*J45,2) -> 0 | P45: =ROUND(SUM(M45:O45),2) -> 0
B46: =IF(B45<>"",B45+1,"") -> 28 | C46: PP skataka ID600 H=1,0-1,5 m, aku vākiem ir jābūt montētiem uz armēta dzelzbetona slodzi kliedējoša atbalsta gredzena no C50/60 markas betona, ķeta vākiem D400 klases, pamatne ar tekni rūpnieciski izgatavota, montāža un ar to saistītie darbi | D46: kpl | E46: 4 | H46: =ROUND(F46*G46,2) -> 0 | K46: =ROUND(SUM(H46:J46),2) -> 0 | L46: =ROUND(E46*F46,2) -> 0 | M46: =ROUND(E46*H46,2) -> 0 | N46: =ROUND(E46*I46,2) -> 0 | O46: =ROUND(E46*J46,2) -> 0 | P46: =ROUND(SUM(M46:O46),2) -> 0
B47: =IF(B46<>"",B46+1,"") -> 29 | C47: PP skataka ID600 H=1,50-2,0 m, aku vākiem ir jābūt montētiem uz armēta dzelzbetona slodzi kliedējoša atbalsta gredzena no C50/60 markas betona, ķeta vākiem D400 klases, pamatne ar tekni rūpnieciski izgatavota, montāža un ar to saistītie darbi | D47: kpl | E47: 5 | H47: =ROUND(F47*G47,2) -> 0 | K47: =ROUND(SUM(H47:J47),2) -> 0 | L47: =ROUND(E47*F47,2) -> 0 | M47: =ROUND(E47*H47,2) -> 0 | N47: =ROUND(E47*I47,2) -> 0 | O47: =ROUND(E47*J47,2) -> 0 | P47: =ROUND(SUM(M47:O47),2) -> 0
... B50: =IF(B49<>"",B49+1,"") -> 32 | C50: Plūsmas uzskaites aka ID2000 ar aprīkojumu, komplektācija atbilstoši rasējumam UKT/LKT-9, t.sk.: | D50: kpl. | E50: 1 | H50: =ROUND(F50*G50,2) -> 0 | K50: =ROUND(SUM(H50:J50),2) -> 0 | L50: =ROUND(E50*F50,2) -> 0 | M50: =ROUND(E50*H50,2) -> 0 | N50: =ROUND(E50*I50,2) -> 0 | O50: =ROUND(E50*J50,2) -> 0 | P50: =ROUND(SUM(M50:O50),2) -> 0
B51: =IF(B50<>"",B50+1,"") -> 33 | C51: HDPE sūknētavas tvertne ID2000, h=3.75m, SN8 | D51: kpl | E51: 1
B52: =IF(B51<>"",B51+1,"") -> 34 | C52: Stiklašķiedras kompozīta kāpnes ar PE stiprinājumiem | D52: gb | E52: 1
B53: =IF(B52<>"",B52+1,"") -> 35 | C53: Kabeļa ievads | D53: gb | E53: 1
B54: =IF(B53<>"",B53+1,"") -> 36 | C54: HDPE ieplūde D=200 | D54: gb | E54: 1
B55: =IF(B54<>"",B54+1,"") -> 37 | C55: HDPE izplūde D=200 | D55: gb | E55: 1
B56: =IF(B55<>"",B55+1,"") -> 38 | C56: AISI 316 diametru pāreja DN200/100 | D56: gb | E56: 2
B57: =IF(B56<>"",B56+1,"") -> 39 | C57: Atloku plūsmas mērītājs DN100 Optiflux vai ekvivalents | D57: gb | E57: 1
B58: =IF(B57<>"",B57+1,"") -> 40 | C58: Iekšējā apsaiste AISI 316 DN100 | D58: kpl | E58: 1
B59: =IF(B58<>"",B58+1,"") -> 41 | C59: Atloku gala noslēgs DN100 | D59: gb | E59: 1
B60: =IF(B59<>"",B59+1,"") -> 42 | C60: Plūsmas mērītāja vadības bloks IFC 050, kas izvietojams VS-1 sadalnē, atbilstoši rasējumam UKT/LKT-9, ELT-4. | D60: kpl | E60: 1 | H60: =ROUND(F60*G60,2) -> 0 | K60: =ROUND(SUM(H60:J60),2) -> 0 | L60: =ROUND(E60*F60,2) -> 0 | M60: =ROUND(E60*H60,2) -> 0 | N60: =ROUND(E60*I60,2) -> 0 | O60: =ROUND(E60*J60,2) -> 0 | P60: =ROUND(SUM(M60:O60),2) -> 0
B61: =IF(B60<>"",B60+1,"") -> 43 | C61: Naftas produktu atdalītājs ar smilšu nostādinātāju: ACO Oleopator G FST NS 10/1000, montāža, izbūve un ar to saistītie darbi, komplektācija atbilstoši rasējumam UKT/LKT-10 | D61: kpl. | E61: 1 | H61: =ROUND(F61*G61,2) -> 0 | K61: =ROUND(SUM(H61:J61),2) -> 0 | L61: =ROUND(E61*F61,2) -> 0 | M61: =ROUND(E61*H61,2) -> 0 | N61: =ROUND(E61*I61,2) -> 0 | O61: =ROUND(E61*J61,2) -> 0 | P61: =ROUND(SUM(M61:O61),2) -> 0
B62: =IF(B61<>"",B61+1,"") -> 44 | C62: Vadības bloks ID OIL 30, kas izvietojams VS-1 sadalnē, atbilstoši rasējumam UKT/LKT-10, ELT-4. | D62: kpl | E62: 1 | H62: =ROUND(F62*G62,2) -> 0 | K62: =ROUND(SUM(H62:J62),2) -> 0 | L62: =ROUND(E62*F62,2) -> 0 | M62: =ROUND(E62*H62,2) -> 0 | N62: =ROUND(E62*I62,2) -> 0 | O62: =ROUND(E62*J62,2) -> 0 | P62: =ROUND(SUM(M62:O62),2) -> 0
B63: =IF(B62<>"",B62+1,"") -> 45 | C63: Plūsmas sadales aka ID1000 | D63: kpl. | E63: 1 | H63: =ROUND(F63*G63,2) -> 0 | K63: =ROUND(SUM(H63:J63),2) -> 0 | L63: =ROUND(E63*F63,2) -> 0 | M63: =ROUND(E63*H63,2) -> 0 | N63: =ROUND(E63*I63,2) -> 0 | O63: =ROUND(E63*J63,2) -> 0 | P63: =ROUND(SUM(M63:O63),2) -> 0
B64: =IF(B63<>"",B63+1,"") -> 46 | C64: Tehniskais filtrs ACO Stormclean G 1800 FM BP, komplektācija atbilstoši rasējumam UKT/LKT-11 | D64: kpl. | E64: 2 | H64: =ROUND(F64*G64,2) -> 0 | K64: =ROUND(SUM(H64:J64),2) -> 0 | L64: =ROUND(E64*F64,2) -> 0 | M64: =ROUND(E64*H64,2) -> 0 | N64: =ROUND(E64*I64,2) -> 0 | O64: =ROUND(E64*J64,2) -> 0 | P64: =ROUND(SUM(M64:O64),2) -> 0
B65: =IF(B64<>"",B64+1,"") -> 47 | C65: Vadības bloks COM BOX 442, kas izvietojams VS-1 sadalnē, atbilstoši rasējumam UKT/LKT-11, ELT-4. | D65: kpl | E65: 1 | H65: =ROUND(F65*G65,2) -> 0 | K65: =ROUND(SUM(H65:J65),2) -> 0 | L65: =ROUND(E65*F65,2) -> 0 | M65: =ROUND(E65*H65,2) -> 0 | N65: =ROUND(E65*I65,2) -> 0 | O65: =ROUND(E65*J65,2) -> 0 | P65: =ROUND(SUM(M65:O65),2) -> 0
B66: =IF(B65<>"",B65+1,"") -> 48 | C66: Ražošanas kanalizācijas sūkņu stacija, korpuss HDPE Ø1200, H=4,32m; ar aizslēdzamu vāku - uzstādīšana, savienošana ar kanalizācijas pienākošo pašteces vadu un aizejošo kanalizācijas spiedvadu,iekšējā komplektācija atbilstoši rasējumam UKT/LKT-12 | D66: kpl. | E66: 1 | H66: =ROUND(F66*G66,2) -> 0 | K66: =ROUND(SUM(H66:J66),2) -> 0 | L66: =ROUND(E66*F66,2) -> 0 | M66: =ROUND(E66*H66,2) -> 0 | N66: =ROUND(E66*I66,2) -> 0 | O66: =ROUND(E66*J66,2) -> 0 | P66: =ROUND(SUM(M66:O66),2) -> 0
B67: =IF(B66<>"",B66+1,"") -> 49 | C67: Sūkņu stacijas vadības un automātikas bloks LC231, kas izvietojams VS-1 sadalnē, atbilstoši rasējumam UKT/LKT-12, ELT-4. | D67: kpl | E67: 1 | H67: =ROUND(F67*G67,2) -> 0 | K67: =ROUND(SUM(H67:J67),2) -> 0 | L67: =ROUND(E67*F67,2) -> 0 | M67: =ROUND(E67*H67,2) -> 0 | N67: =ROUND(E67*I67,2) -> 0 | O67: =ROUND(E67*J67,2) -> 0 | P67: =ROUND(SUM(M67:O67),2) -> 0
B68: =IF(B67<>"",B67+1,"") -> 50 | C68: Plūsmas mērītāja vadības bloks IFC 050, kas izvietojams VS-1 sadalnē, atbilstoši rasējumam UKT/LKT-12, ELT-4. | D68: kpl | E68: 1 | H68: =ROUND(F68*G68,2) -> 0 | K68: =ROUND(SUM(H68:J68),2) -> 0 | L68: =ROUND(E68*F68,2) -> 0 | M68: =ROUND(E68*H68,2) -> 0 | N68: =ROUND(E68*I68,2) -> 0 | O68: =ROUND(E68*J68,2) -> 0 | P68: =ROUND(SUM(M68:O68),2) -> 0
B69: =IF(B68<>"",B68+1,"") -> 51 | C69: Grodu tipa PE spiediena dzēšanas aka DN625, H=1,20m, komplektā ar betona gredzenu, 40tn ķeta lūku un vāku, montāža un ar to saistītie darbi | D69: kpl. | E69: 1 | H69: =ROUND(F69*G69,2) -> 0 | K69: =ROUND(SUM(H69:J69),2) -> 0 | L69: =ROUND(E69*F69,2) -> 0 | M69: =ROUND(E69*H69,2) -> 0 | N69: =ROUND(E69*I69,2) -> 0 | O69: =ROUND(E69*J69,2) -> 0 | P69: =ROUND(SUM(M69:O69),2) -> 0
B70: =IF(B69<>"",B69+1,"") -> 52 | C70: Naftas produktu krājrezervuārs 10m3 CS10000, montāža, izbūve un ar to saistītie darbi, iekšējā komplektācija atbilstoši rasējumam UKT/LKT-13 | D70: kpl. | E70: 1 | H70: =ROUND(F70*G70,2) -> 0 | K70: =ROUND(SUM(H70:J70),2) -> 0 | L70: =ROUND(E70*F70,2) -> 0 | M70: =ROUND(E70*H70,2) -> 0 | N70: =ROUND(E70*I70,2) -> 0 | O70: =ROUND(E70*J70,2) -> 0 | P70: =ROUND(SUM(M70:O70),2) -> 0
B71: =IF(B70<>"",B70+1,"") -> 53 | C71: Vadības bloks ID OIL-30-3G, kas izvietojams VS-3 sadalnē, atbilstoši rasējumam UKT/LKT-13, ELT-6. | H71: =ROUND(F71*G71,2) -> 0 | K71: =ROUND(SUM(H71:J71),2) -> 0 | L71: =ROUND(E71*F71,2) -> 0 | M71: =ROUND(E71*H71,2) -> 0 | N71: =ROUND(E71*I71,2) -> 0 | O71: =ROUND(E71*J71,2) -> 0 | P71: =ROUND(SUM(M71:O71),2) -> 0
B72: =IF(B71<>"",B71+1,"") -> 54 | C72: Pievienojums pie esošās skatakas | D72: kpl | E72: 1 | H72: =ROUND(F72*G72,2) -> 0 | K72: =ROUND(SUM(H72:J72),2) -> 0 | L72: =ROUND(E72*F72,2) -> 0 | M72: =ROUND(E72*H72,2) -> 0 | N72: =ROUND(E72*I72,2) -> 0 | O72: =ROUND(E72*J72,2) -> 0 | P72: =ROUND(SUM(M72:O72),2) -> 0
B73: =IF(B72<>"",B72+1,"") -> 55 | C73: Pievienojums pie d200 | D73: kpl | E73: 4 | H73: =ROUND(F73*G73,2) -> 0 | K73: =ROUND(SUM(H73:J73),2) -> 0 | L73: =ROUND(E73*F73,2) -> 0 | M73: =ROUND(E73*H73,2) -> 0 | N73: =ROUND(E73*I73,2) -> 0 | O73: =ROUND(E73*J73,2) -> 0 | P73: =ROUND(SUM(M73:O73),2) -> 0
B74: =IF(B73<>"",B73+1,"") -> 56 | C74: Pievienojums pie d160 | D74: kpl. | E74: 3 | H74: =ROUND(F74*G74,2) -> 0 | K74: =ROUND(SUM(H74:J74),2) -> 0 | L74: =ROUND(E74*F74,2) -> 0 | M74: =ROUND(E74*H74,2) -> 0 | N74: =ROUND(E74*I74,2) -> 0 | O74: =ROUND(E74*J74,2) -> 0 | P74: =ROUND(SUM(M74:O74),2) -> 0
B75: =IF(B74<>"",B74+1,"") -> 57 | C75: Pievienojums pie d110 | D75: kpl | E75: 2 | H75: =ROUND(F75*G75,2) -> 0 | K75: =ROUND(SUM(H75:J75),2) -> 0 | L75: =ROUND(E75*F75,2) -> 0 | M75: =ROUND(E75*H75,2) -> 0 | N75: =ROUND(E75*I75,2) -> 0 | O75: =ROUND(E75*J75,2) -> 0 | P75: =ROUND(SUM(M75:O75),2) -> 0
B76: =IF(B75<>"",B75+1,"") -> 58 | C76: Pievienojums pie d50 | D76: kpl | E76: 1 | H76: =ROUND(F76*G76,2) -> 0 | K76: =ROUND(SUM(H76:J76),2) -> 0 | L76: =ROUND(E76*F76,2) -> 0 | M76: =ROUND(E76*H76,2) -> 0 | N76: =ROUND(E76*I76,2) -> 0 | O76: =ROUND(E76*J76,2) -> 0 | P76: =ROUND(SUM(M76:O76),2) -> 0
B77: =IF(B76<>"",B76+1,"") -> 59 | C77: Pieslēgums esošai kanalizācijai d200mm jaunas akā (tajā skaitā: -savienojuma uzmava OD200/d200mm -1.gab; -caurule PP, OD200, L=0,5m –1.gab. | D77: kpl | E77: 1 | H77: =ROUND(F77*G77,2) -> 0 | K77: =ROUND(SUM(H77:J77),2) -> 0 | L77: =ROUND(E77*F77,2) -> 0 | M77: =ROUND(E77*H77,2) -> 0 | N77: =ROUND(E77*I77,2) -> 0 | O77: =ROUND(E77*J77,2) -> 0 | P77: =ROUND(SUM(M77:O77),2) -> 0
B78: =IF(B77<>"",B77+1,"") -> 60 | C78: CCTV inspekcija | D78: m | E78: 238.2 | H78: =ROUND(F78*G78,2) -> 0 | K78: =ROUND(SUM(H78:J78),2) -> 0 | L78: =ROUND(E78*F78,2) -> 0 | M78: =ROUND(E78*H78,2) -> 0 | N78: =ROUND(E78*I78,2) -> 0 | O78: =ROUND(E78*J78,2) -> 0 | P78: =ROUND(SUM(M78:O78),2) -> 0
B79: =IF(B78<>"",B78+1,"") -> 61 | C79: Pašteces kanalizācijas trases nospraušana | D79: m | E79: 242.5 | H79: =ROUND(F79*G79,2) -> 0 | K79: =ROUND(SUM(H79:J79),2) -> 0 | L79: =ROUND(E79*F79,2) -> 0 | M79: =ROUND(E79*H79,2) -> 0 | N79: =ROUND(E79*I79,2) -> 0 | O79: =ROUND(E79*J79,2) -> 0 | P79: =ROUND(SUM(M79:O79),2) -> 0
B80: =IF(B79<>"",B79+1,"") -> 62 | C80: Kanalizācijas spiedvada hidrauliskā pārbaude | D80: m | E80: 138.3 | H80: =ROUND(F80*G80,2) -> 0 | K80: =ROUND(SUM(H80:J80),2) -> 0 | L80: =ROUND(E80*F80,2) -> 0 | M80: =ROUND(E80*H80,2) -> 0 | N80: =ROUND(E80*I80,2) -> 0 | O80: =ROUND(E80*J80,2) -> 0 | P80: =ROUND(SUM(M80:O80),2) -> 0
B81: =IF(B80<>"",B80+1,"") -> 63 | C81: Kanalizācijas spiedvada trases nospraušana | D81: m | E81: 138.3 | H81: =ROUND(F81*G81,2) -> 0 | K81: =ROUND(SUM(H81:J81),2) -> 0 | L81: =ROUND(E81*F81,2) -> 0 | M81: =ROUND(E81*H81,2) -> 0 | N81: =ROUND(E81*I81,2) -> 0 | O81: =ROUND(E81*J81,2) -> 0 | P81: =ROUND(SUM(M81:O81),2) -> 0
B82: =IF(B81<>"",B81+1,"") -> 64 | C82: EM PE līkums OD90 450 | D82: gb | E82: 10 | H82: =ROUND(F82*G82,2) -> 0 | K82: =ROUND(SUM(H82:J82),2) -> 0 | L82: =ROUND(E82*F82,2) -> 0 | M82: =ROUND(E82*H82,2) -> 0 | N82: =ROUND(E82*I82,2) -> 0 | O82: =ROUND(E82*J82,2) -> 0 | P82: =ROUND(SUM(M82:O82),2) -> 0
B83: =IF(B82<>"",B82+1,"") -> 65 | C83: Šķērsojumi ar esošajām inženierkomunikācijām, atšurfēšana, nepārsniedzot 3m dziļumu, minimālā platība 1m², maksimālais garums 5m | D83: skaits | E83: 49 | H83: =ROUND(F83*G83,2) -> 0 | K83: =ROUND(SUM(H83:J83),2) -> 0 | L83: =ROUND(E83*F83,2) -> 0 | M83: =ROUND(E83*H83,2) -> 0 | N83: =ROUND(E83*I83,2) -> 0 | O83: =ROUND(E83*J83,2) -> 0 | P83: =ROUND(SUM(M83:O83),2) -> 0
B84: =IF(B83<>"",B83+1,"") -> 66 | C84: Esošo elektrokabeļu un sakaru kabeļu aizsardzība to šķērsojumu vietās ar projektēto kanalizāciju, ievietojot tos saliekamajās aizsargčaulās AROT OD110, L=3m | D84: gb | E84: 8 | H84: =ROUND(F84*G84,2) -> 0 | K84: =ROUND(SUM(H84:J84),2) -> 0 | L84: =ROUND(E84*F84,2) -> 0 | M84: =ROUND(E84*H84,2) -> 0 | N84: =ROUND(E84*I84,2) -> 0 | O84: =ROUND(E84*J84,2) -> 0 | P84: =ROUND(SUM(M84:O84),2) -> 0
B85: =IF(B84<>"",B84+1,"") -> 67 | C85: Citi darbi
B86: =IF(B85<>"",B85+1,"") -> 68 | C86: Veikt esošās apstrādātās eļļas uzglabāšanas tvertnes skalošanu un uzstādīt līmeņa signalizāciju | D86: kpl | E86: 2 | H86: =ROUND(F86*G86,2) -> 0 | K86: =ROUND(SUM(H86:J86),2) -> 0 | L86: =ROUND(E86*F86,2) -> 0 | M86: =ROUND(E86*H86,2) -> 0 | N86: =ROUND(E86*I86,2) -> 0 | O86: =ROUND(E86*J86,2) -> 0 | P86: =ROUND(SUM(M86:O86),2) -> 0
B87: =IF(B86<>"",B86+1,"") -> 69 | C87: Vadības bloks ID SET 34, kas izvietojams VS-1 sadalnē, atbilstoši rasējumam ELT-6. | D87: kpl | E87: 1 | H87: =ROUND(F87*G87,2) -> 0 | K87: =ROUND(SUM(H87:J87),2) -> 0 | L87: =ROUND(E87*F87,2) -> 0 | M87: =ROUND(E87*H87,2) -> 0 | N87: =ROUND(E87*I87,2) -> 0 | O87: =ROUND(E87*J87,2) -> 0 | P87: =ROUND(SUM(M87:O87),2) -> 0
C89: Tiešās izmaksas kopā, t. sk. darba devēja sociālais nodoklis (23,59%): | L89: =SUM(L19:L88) -> 0 | M89: =SUM(M19:M88) -> 0 | N89: =SUM(N19:N88) -> 0 | O89: =SUM(O19:O88) -> 0 | P89: =SUM(P19:P88) -> 0
C92: Sastādīja:
D93: paraksts un tā atšifrējums, datums
C96: Pārbaudīja:
D97: paraksts un tā atšifrējums, datums
C98: Sertifikāta Nr.:

Sheet 1-3_LK1
M1: Atbilstoši: Latvijas būvnormatīva LBN 501-17 "Būvizmaksu noteikšanas kārtība" 5.pielikumam
C2: Lokālā tāme Nr. | I2: 1-3
C3: Lietus kanalizācija LK1
C4: būvdarbu veids vai konstruktīvā elementa nosaukums
B5: Objekta nosaukums: | D5: =Koptame!C13 -> Ārējo lietus, ražošanas un sadzīves kanalizācijas tīklu modernizācija Kleistu ielā 28 (autobusu parks Nr.6), Rīgā
B6: Būves nosaukums: | D6: =Koptame!C14 -> Ārējie kanalizācijas tīkli un inženierbūves
B7: Objekta adrese: | D7: =Koptame!C15 -> Kleistu iela 28, Rīga
B8: Pasūtījuma / līguma Nr.:
B10: Tāme sastādīta 2026.gada tirgus cenās, pamatojoties uz iepirkuma dokumentāciju. | N10: Tāme sastādīta: | O10: =Koptame!C34 -> 01.07.2026.
N11: Tāmes tiešās izmaksas (EUR bez PVN): | O11: =P67 -> 0
B13: Nr. p.k. | C13: Būvdarbu nosaukums | D13: Mērv. | E13: Daudz. | F13: Vienības izmaksas | L13: Kopā uz visu apjomu
F14: laika norma (c/h) | G14: darba samaksas likme (EUR/h) | H14: darba alga (EUR) | I14: būv-izstrādājumi (EUR) | J14: mehānismi (EUR) | K14: Kopā (EUR) | L14: darbietilpība (c/h) | M14: darba alga (EUR) | N14: būv-izstrādājumi (EUR) | O14: mehānismi (EUR) | P14: Summa (EUR)
B18: 1 | C18: 2 | D18: 3 | E18: 4 | F18: 5 | G18: 6 | H18: 7 | I18: 8 | J18: 9 | K18: 10 | L18: 11 | M18: 12 | N18: 13 | O18: 14 | P18: 15
B19: 1 | C19: Zemes darbi projektēto LK1 tīklu darbu zonā
B20: =IF(B19<>"",B19+1,"") -> 2 | C20: Tranšejas rakšana un aizbēršana lietus kanalizācijas tīklu OD200 montāžai (ieskaitot grunts nomaiņu*, aizvešanu, atvešanu utt.) H=1,0-1,5 m | D20: m | E20: 122.5 | H20: =ROUND(F20*G20,2) -> 0 | K20: =ROUND(SUM(H20:J20),2) -> 0 | L20: =ROUND(E20*F20,2) -> 0 | M20: =ROUND(E20*H20,2) -> 0 | N20: =ROUND(E20*I20,2) -> 0 | O20: =ROUND(E20*J20,2) -> 0 | P20: =ROUND(SUM(M20:O20),2) -> 0
B21: =IF(B20<>"",B20+1,"") -> 3 | C21: Tranšejas rakšana un aizbēršana lietus kanalizācijas tīklu OD200 montāžai (ieskaitot grunts nomaiņu*, aizvešanu, atvešanu utt.) H=1,5-2,0 m | D21: m | E21: 196.3 | H21: =ROUND(F21*G21,2) -> 0 | K21: =ROUND(SUM(H21:J21),2) -> 0 | L21: =ROUND(E21*F21,2) -> 0 | M21: =ROUND(E21*H21,2) -> 0 | N21: =ROUND(E21*I21,2) -> 0 | O21: =ROUND(E21*J21,2) -> 0 | P21: =ROUND(SUM(M21:O21),2) -> 0
B22: =IF(B21<>"",B21+1,"") -> 4 | C22: Tranšejas rakšana un aizbēršana lietus kanalizācijas tīklu OD315 montāžai (ieskaitot grunts nomaiņu*, aizvešanu, atvešanu utt.) H=2,0-2,5 m | D22: m | E22: 103 | H22: =ROUND(F22*G22,2) -> 0 | K22: =ROUND(SUM(H22:J22),2) -> 0 | L22: =ROUND(E22*F22,2) -> 0 | M22: =ROUND(E22*H22,2) -> 0 | N22: =ROUND(E22*I22,2) -> 0 | O22: =ROUND(E22*J22,2) -> 0 | P22: =ROUND(SUM(M22:O22),2) -> 0
B23: =IF(B22<>"",B22+1,"") -> 5 | C23: Tranšejas rakšana un aizbēršana lietus kanalizācijas tīklu OD315 montāžai (ieskaitot grunts nomaiņu*, aizvešanu, atvešanu utt.) H=2,5-3,0 m | D23: m | E23: 154.4 | H23: =ROUND(F23*G23,2) -> 0 | K23: =ROUND(SUM(H23:J23),2) -> 0 | L23: =ROUND(E23*F23,2) -> 0 | M23: =ROUND(E23*H23,2) -> 0 | N23: =ROUND(E23*I23,2) -> 0 | O23: =ROUND(E23*J23,2) -> 0 | P23: =ROUND(SUM(M23:O23),2) -> 0
B24: =IF(B23<>"",B23+1,"") -> 6 | C24: Tranšejas rakšana un aizbēršana lietus kanalizācijas tīklu OD450 montāžai (ieskaitot grunts nomaiņu*, aizvešanu, atvešanu utt.) H=2,5-3,0 m | D24: m | E24: 17 | H24: =ROUND(F24*G24,2) -> 0 | K24: =ROUND(SUM(H24:J24),2) -> 0 | L24: =ROUND(E24*F24,2) -> 0 | M24: =ROUND(E24*H24,2) -> 0 | N24: =ROUND(E24*I24,2) -> 0 | O24: =ROUND(E24*J24,2) -> 0 | P24: =ROUND(SUM(M24:O24),2) -> 0
B25: =IF(B24<>"",B24+1,"") -> 7 | C25: Tranšejas rakšana un aizbēršana lietus kanalizācijas tīklu OD450 montāžai (ieskaitot grunts nomaiņu*, aizvešanu, atvešanu utt.) H=3,0-3,5 m | D25: m | E25: 70.4 | H25: =ROUND(F25*G25,2) -> 0 | K25: =ROUND(SUM(H25:J25),2) -> 0 | L25: =ROUND(E25*F25,2) -> 0 | M25: =ROUND(E25*H25,2) -> 0 | N25: =ROUND(E25*I25,2) -> 0 | O25: =ROUND(E25*J25,2) -> 0 | P25: =ROUND(SUM(M25:O25),2) -> 0
B26: =IF(B25<>"",B25+1,"") -> 8 | C26: Tranšejas sienu nostiprināšana ar metāla vairogiem (divpusēji) pie dziļuma, kas lielāks par 1,50 m. *norādīts tekošais tranšejas garums, pieņemot, ka sienas nostiprinātas abās būvgrāvja pusēs | D26: m | E26: 541.1 | H26: =ROUND(F26*G26,2) -> 0 | K26: =ROUND(SUM(H26:J26),2) -> 0 | L26: =ROUND(E26*F26,2) -> 0 | M26: =ROUND(E26*H26,2) -> 0 | N26: =ROUND(E26*I26,2) -> 0 | O26: =ROUND(E26*J26,2) -> 0 | P26: =ROUND(SUM(M26:O26),2) -> 0
B27: =IF(B26<>"",B26+1,"") -> 9 | C27: Smilts pamatnes ierīkošana zem cauruļvadiem, h=15 cm | D27: m3 | E27: 103.7 | H27: =ROUND(F27*G27,2) -> 0 | K27: =ROUND(SUM(H27:J27),2) -> 0 | L27: =ROUND(E27*F27,2) -> 0 | M27: =ROUND(E27*H27,2) -> 0 | N27: =ROUND(E27*I27,2) -> 0 | O27: =ROUND(E27*J27,2) -> 0 | P27: =ROUND(SUM(M27:O27),2) -> 0
B28: =IF(B27<>"",B27+1,"") -> 10 | C28: Cauruļvadu smilšu apbērums, h=15cm | D28: m3 | E28: 269.8 | H28: =ROUND(F28*G28,2) -> 0 | K28: =ROUND(SUM(H28:J28),2) -> 0 | L28: =ROUND(E28*F28,2) -> 0 | M28: =ROUND(E28*H28,2) -> 0 | N28: =ROUND(E28*I28,2) -> 0 | O28: =ROUND(E28*J28,2) -> 0 | P28: =ROUND(SUM(M28:O28),2) -> 0
B29: =IF(B28<>"",B28+1,"") -> 11 | C29: Gruntsūdens līmeņa pazemināšana | D29: m | E29: 663.6 | H29: =ROUND(F29*G29,2) -> 0 | K29: =ROUND(SUM(H29:J29),2) -> 0 | L29: =ROUND(E29*F29,2) -> 0 | M29: =ROUND(E29*H29,2) -> 0 | N29: =ROUND(E29*I29,2) -> 0 | O29: =ROUND(E29*J29,2) -> 0 | P29: =ROUND(SUM(M29:O29),2) -> 0
B30: =IF(B29<>"",B29+1,"") -> 12 | C30: Būvbedres sagatavošana 14,0m x 3,0m ar rievsienām lietus ūdens uzkrāšanas tvertnes izbūvei, rakšana un aizbēršana, gruntsūdens atsūknēšana (ieskaitot grunts nomaiņu, aizvešanu, atvešanu utt), H= 4,50m. | D30: kpl | E30: 1 | H30: =ROUND(F30*G30,2) -> 0 | K30: =ROUND(SUM(H30:J30),2) -> 0 | L30: =ROUND(E30*F30,2) -> 0 | M30: =ROUND(E30*H30,2) -> 0 | N30: =ROUND(E30*I30,2) -> 0 | O30: =ROUND(E30*J30,2) -> 0 | P30: =ROUND(SUM(M30:O30),2) -> 0
B31: =IF(B30<>"",B30+1,"") -> 13 | C31: Lietus kanalizācijas LK1 montāžas darbi
B32: =IF(B31<>"",B31+1,"") -> 14 | C32: PP gofrēta dubultsienu lietus kanalizācijas caurules ar uzmavām un blīvi OD200; H=1,0 - 1,5 m, ieguldes klase SN8 montāža un ar to saistītie darbi | D32: m | E32: 122.5 | H32: =ROUND(F32*G32,2) -> 0 | K32: =ROUND(SUM(H32:J32),2) -> 0 | L32: =ROUND(E32*F32,2) -> 0 | M32: =ROUND(E32*H32,2) -> 0 | N32: =ROUND(E32*I32,2) -> 0 | O32: =ROUND(E32*J32,2) -> 0 | P32: =ROUND(SUM(M32:O32),2) -> 0
B33: =IF(B32<>"",B32+1,"") -> 15 | C33: PP gofrēta dubultsienu lietus kanalizācijas caurules ar uzmavām un blīvi OD200; H=1,5 - 2,00m, ieguldes klase SN8 montāža un ar to saistītie darbi | D33: m | E33: 196.3 | H33: =ROUND(F33*G33,2) -> 0 | K33: =ROUND(SUM(H33:J33),2) -> 0 | L33: =ROUND(E33*F33,2) -> 0 | M33: =ROUND(E33*H33,2) -> 0 | N33: =ROUND(E33*I33,2) -> 0 | O33: =ROUND(E33*J33,2) -> 0 | P33: =ROUND(SUM(M33:O33),2) -> 0
B34: =IF(B33<>"",B33+1,"") -> 16 | C34: PP gofrēta dubultsienu lietus kanalizācijas caurules ar uzmavām un blīvi OD315; H=2,0 - 2,50m, ieguldes klase SN8 montāža un ar to saistītie darbi | D34: m | E34: 103 | H34: =ROUND(F34*G34,2) -> 0 | K34: =ROUND(SUM(H34:J34),2) -> 0 | L34: =ROUND(E34*F34,2) -> 0 | M34: =ROUND(E34*H34,2) -> 0 | N34: =ROUND(E34*I34,2) -> 0 | O34: =ROUND(E34*J34,2) -> 0 | P34: =ROUND(SUM(M34:O34),2) -> 0
B35: =IF(B34<>"",B34+1,"") -> 17 | C35: PP gofrēta dubultsienu lietus kanalizācijas caurules ar uzmavām un blīvi OD315; H=2,5 - 3,0m, ieguldes klase SN8 montāža un ar to saistītie darbi | D35: m | E35: 154.4 | H35: =ROUND(F35*G35,2) -> 0 | K35: =ROUND(SUM(H35:J35),2) -> 0 | L35: =ROUND(E35*F35,2) -> 0 | M35: =ROUND(E35*H35,2) -> 0 | N35: =ROUND(E35*I35,2) -> 0 | O35: =ROUND(E35*J35,2) -> 0 | P35: =ROUND(SUM(M35:O35),2) -> 0
B36: =IF(B35<>"",B35+1,"") -> 18 | C36: PP gofrēta dubultsienu lietus kanalizācijas caurules ar uzmavām un blīvi OD450; H=2,5 - 3,0m, ieguldes klase SN8 montāža un ar to saistītie darbi | D36: m | E36: 17 | H36: =ROUND(F36*G36,2) -> 0 | K36: =ROUND(SUM(H36:J36),2) -> 0 | L36: =ROUND(E36*F36,2) -> 0 | M36: =ROUND(E36*H36,2) -> 0 | N36: =ROUND(E36*I36,2) -> 0 | O36: =ROUND(E36*J36,2) -> 0 | P36: =ROUND(SUM(M36:O36),2) -> 0
B37: =IF(B36<>"",B36+1,"") -> 19 | C37: PP gofrēta dubultsienu lietus kanalizācijas caurules ar uzmavām un blīvi OD450; H=3,0 - 3,50m, ieguldes klase SN8 montāža un ar to saistītie darbi | D37: m | E37: 70.4 | H37: =ROUND(F37*G37,2) -> 0 | K37: =ROUND(SUM(H37:J37),2) -> 0 | L37: =ROUND(E37*F37,2) -> 0 | M37: =ROUND(E37*H37,2) -> 0 | N37: =ROUND(E37*I37,2) -> 0 | O37: =ROUND(E37*J37,2) -> 0 | P37: =ROUND(SUM(M37:O37),2) -> 0
B38: =IF(B37<>"",B37+1,"") -> 20 | C38: PP skataka ID600 H=1,0-1,5m, aku vākiem ir jābūt montētiem uz armēta dzelzbetona slodzi kliedējoša atbalsta gredzena no C50/60 markas betona, ķeta vākiem D400 klases, pamatne ar tekni rūpnieciski izgatavota, montāža un ar to saistītie darbi | D38: kpl | E38: 8 | H38: =ROUND(F38*G38,2) -> 0 | K38: =ROUND(SUM(H38:J38),2) -> 0 | L38: =ROUND(E38*F38,2) -> 0 | M38: =ROUND(E38*H38,2) -> 0 | N38: =ROUND(E38*I38,2) -> 0 | O38: =ROUND(E38*J38,2) -> 0 | P38: =ROUND(SUM(M38:O38),2) -> 0
B39: =IF(B38<>"",B38+1,"") -> 21 | C39: PP skataka ID600 H=1,5-2,0m, aku vākiem ir jābūt montētiem uz armēta dzelzbetona slodzi kliedējoša atbalsta gredzena no C50/60 markas betona, ķeta vākiem D400 klases, pamatne ar tekni rūpnieciski izgatavota, montāža un ar to saistītie darbi | D39: kpl | E39: 9 | H39: =ROUND(F39*G39,2) -> 0 | K39: =ROUND(SUM(H39:J39),2) -> 0 | L39: =ROUND(E39*F39,2) -> 0 | M39: =ROUND(E39*H39,2) -> 0 | N39: =ROUND(E39*I39,2) -> 0 | O39: =ROUND(E39*J39,2) -> 0 | P39: =ROUND(SUM(M39:O39),2) -> 0
B40: =IF(B39<>"",B39+1,"") -> 22 | C40: PP skataka ID600 H=2,0-2,50m, aku vākiem ir jābūt montētiem uz armēta dzelzbetona slodzi kliedējoša atbalsta gredzena no C50/60 markas betona, ķeta vākiem D400 klases, pamatne ar tekni rūpnieciski izgatavota, montāža un ar to saistītie darbi | D40: kpl | E40: 2 | H40: =ROUND(F40*G40,2) -> 0 | K40: =ROUND(SUM(H40:J40),2) -> 0 | L40: =ROUND(E40*F40,2) -> 0 | M40: =ROUND(E40*H40,2) -> 0 | N40: =ROUND(E40*I40,2) -> 0 | O40: =ROUND(E40*J40,2) -> 0 | P40: =ROUND(SUM(M40:O40),2) -> 0
B41: =IF(B40<>"",B40+1,"") -> 23 | C41: PP skataka ID1000 H=2,0-2,50m, aku vākiem ir jābūt montētiem uz armēta dzelzbetona slodzi kliedējoša atbalsta gredzena no C50/60 markas betona, ķeta vākiem D400 klases, pamatne ar tekni rūpnieciski izgatavota, montāža un ar to saistītie darbi | D41: kpl | E41: 4 | H41: =ROUND(F41*G41,2) -> 0 | K41: =ROUND(SUM(H41:J41),2) -> 0 | L41: =ROUND(E41*F41,2) -> 0 | M41: =ROUND(E41*H41,2) -> 0 | N41: =ROUND(E41*I41,2) -> 0 | O41: =ROUND(E41*J41,2) -> 0 | P41: =ROUND(SUM(M41:O41),2) -> 0
B42: =IF(B41<>"",B41+1,"") -> 24 | C42: PP skataka ID1000 H=2,5-3,0m, aku vākiem ir jābūt montētiem uz armēta dzelzbetona slodzi kliedējoša atbalsta gredzena no C50/60 markas betona, ķeta vākiem D400 klases, pamatne ar tekni rūpnieciski izgatavota, montāža un ar to saistītie darbi | D42: kpl | E42: 3 | H42: =ROUND(F42*G42,2) -> 0 | K42: =ROUND(SUM(H42:J42),2) -> 0 | L42: =ROUND(E42*F42,2) -> 0 | M42: =ROUND(E42*H42,2) -> 0 | N42: =ROUND(E42*I42,2) -> 0 | O42: =ROUND(E42*J42,2) -> 0 | P42: =ROUND(SUM(M42:O42),2) -> 0
B43: =IF(B42<>"",B42+1,"") -> 25 | C43: PP skataka ID1000 H=3,0-3,50m, aku vākiem ir jābūt montētiem uz armēta dzelzbetona slodzi kliedējoša atbalsta gredzena no C50/60 markas betona, ķeta vākiem D400 klases, pamatne ar tekni rūpnieciski izgatavota, montāža un ar to saistītie darbi | D43: kpl | E43: 4 | H43: =ROUND(F43*G43,2) -> 0 | K43: =ROUND(SUM(H43:J43),2) -> 0 | L43: =ROUND(E43*F43,2) -> 0 | M43: =ROUND(E43*H43,2) -> 0 | N43: =ROUND(E43*I43,2) -> 0 | O43: =ROUND(E43*J43,2) -> 0 | P43: =ROUND(SUM(M43:O43),2) -> 0
... B65: =IF(B64<>"",B64+1,"") -> 47 | C65: Esošo elektrokabeļu un sakaru kabeļu aizsardzība to šķērsojumu vietās ar projektēto kanalizāciju, ievietojot tos saliekamajās aizsargčaulās AROT OD110, L=3m | D65: gb | E65: 17 | H65: =ROUND(F65*G65,2) -> 0 | K65: =ROUND(SUM(H65:J65),2) -> 0 | L65: =ROUND(E65*F65,2) -> 0 | M65: =ROUND(E65*H65,2) -> 0 | N65: =ROUND(E65*I65,2) -> 0 | O65: =ROUND(E65*J65,2) -> 0 | P65: =ROUND(SUM(M65:O65),2) -> 0
C67: Tiešās izmaksas kopā, t. sk. darba devēja sociālais nodoklis (23,59%): | L67: =SUM(L19:L66) -> 0 | M67: =SUM(M19:M66) -> 0 | N67: =SUM(N19:N66) -> 0 | O67: =SUM(O19:O66) -> 0 | P67: =SUM(P19:P66) -> 0
C70: Sastādīja:
D71: paraksts un tā atšifrējums, datums
C74: Pārbaudīja:
D75: paraksts un tā atšifrējums, datums
C76: Sertifikāta Nr.:

Sheet 1-4_LK2
M1: Atbilstoši: Latvijas būvnormatīva LBN 501-17 "Būvizmaksu noteikšanas kārtība" 5.pielikumam
C2: Lokālā tāme Nr. | I2: 1-4
C3: Lietus kanalizācija LK2
C4: būvdarbu veids vai konstruktīvā elementa nosaukums
B5: Objekta nosaukums: | D5: =Koptame!C13 -> Ārējo lietus, ražošanas un sadzīves kanalizācijas tīklu modernizācija Kleistu ielā 28 (autobusu parks Nr.6), Rīgā
B6: Būves nosaukums: | D6: =Koptame!C14 -> Ārējie kanalizācijas tīkli un inženierbūves
B7: Objekta adrese: | D7: =Koptame!C15 -> Kleistu iela 28, Rīga
B8: Pasūtījuma / līguma Nr.:
B10: Tāme sastādīta 2026.gada tirgus cenās, pamatojoties uz iepirkuma dokumentāciju. | N10: Tāme sastādīta: | O10: =Koptame!C34 -> 01.07.2026.
N11: Tāmes tiešās izmaksas (EUR bez PVN): | O11: =P64 -> 0
B13: Nr. p.k. | C13: Būvdarbu nosaukums | D13: Mērv. | E13: Daudz. | F13: Vienības izmaksas | L13: Kopā uz visu apjomu
F14: laika norma (c/h) | G14: darba samaksas likme (EUR/h) | H14: darba alga (EUR) | I14: būv-izstrādājumi (EUR) | J14: mehānismi (EUR) | K14: Kopā (EUR) | L14: darbietilpība (c/h) | M14: darba alga (EUR) | N14: būv-izstrādājumi (EUR) | O14: mehānismi (EUR) | P14: Summa (EUR)
B18: 1 | C18: 2 | D18: 3 | E18: 4 | F18: 5 | G18: 6 | H18: 7 | I18: 8 | J18: 9 | K18: 10 | L18: 11 | M18: 12 | N18: 13 | O18: 14 | P18: 15
B19: 1 | C19: Zemes darbi projektēto LK2 tīklu darbu zonā
B20: =IF(B19<>"",B19+1,"") -> 2 | C20: Tranšejas rakšana un aizbēršana lietus kanalizācijas tīklu OD200 montāžai (ieskaitot grunts nomaiņu*, aizvešanu, atvešanu utt.) H=1,0-1,5 m | D20: m | E20: 40.6 | H20: =ROUND(F20*G20,2) -> 0 | K20: =ROUND(SUM(H20:J20),2) -> 0 | L20: =ROUND(E20*F20,2) -> 0 | M20: =ROUND(E20*H20,2) -> 0 | N20: =ROUND(E20*I20,2) -> 0 | O20: =ROUND(E20*J20,2) -> 0 | P20: =ROUND(SUM(M20:O20),2) -> 0
B21: =IF(B20<>"",B20+1,"") -> 3 | C21: Tranšejas rakšana un aizbēršana lietus kanalizācijas tīklu OD200 montāžai (ieskaitot grunts nomaiņu*, aizvešanu, atvešanu utt.) H=1,5-2,0 m | D21: m | E21: 45.8 | H21: =ROUND(F21*G21,2) -> 0 | K21: =ROUND(SUM(H21:J21),2) -> 0 | L21: =ROUND(E21*F21,2) -> 0 | M21: =ROUND(E21*H21,2) -> 0 | N21: =ROUND(E21*I21,2) -> 0 | O21: =ROUND(E21*J21,2) -> 0 | P21: =ROUND(SUM(M21:O21),2) -> 0
B22: =IF(B21<>"",B21+1,"") -> 4 | C22: Tranšejas rakšana un aizbēršana lietus kanalizācijas tīklu OD200 montāžai (ieskaitot grunts nomaiņu*, aizvešanu, atvešanu utt.) H=2,0-2,5 m | D22: m | E22: 47.9 | H22: =ROUND(F22*G22,2) -> 0 | K22: =ROUND(SUM(H22:J22),2) -> 0 | L22: =ROUND(E22*F22,2) -> 0 | M22: =ROUND(E22*H22,2) -> 0 | N22: =ROUND(E22*I22,2) -> 0 | O22: =ROUND(E22*J22,2) -> 0 | P22: =ROUND(SUM(M22:O22),2) -> 0
B23: =IF(B22<>"",B22+1,"") -> 5 | C23: Tranšejas rakšana un aizbēršana lietus kanalizācijas tīklu OD250 montāžai (ieskaitot grunts nomaiņu*, aizvešanu, atvešanu utt.) H=1,5-2,0 m | D23: m | E23: 30.9 | H23: =ROUND(F23*G23,2) -> 0 | K23: =ROUND(SUM(H23:J23),2) -> 0 | L23: =ROUND(E23*F23,2) -> 0 | M23: =ROUND(E23*H23,2) -> 0 | N23: =ROUND(E23*I23,2) -> 0 | O23: =ROUND(E23*J23,2) -> 0 | P23: =ROUND(SUM(M23:O23),2) -> 0
B24: =IF(B23<>"",B23+1,"") -> 6 | C24: Tranšejas rakšana un aizbēršana lietus kanalizācijas tīklu OD315 montāžai (ieskaitot grunts nomaiņu*, aizvešanu, atvešanu utt.) H=1,5-2,0 m | D24: m | E24: 84.3 | H24: =ROUND(F24*G24,2) -> 0 | K24: =ROUND(SUM(H24:J24),2) -> 0 | L24: =ROUND(E24*F24,2) -> 0 | M24: =ROUND(E24*H24,2) -> 0 | N24: =ROUND(E24*I24,2) -> 0 | O24: =ROUND(E24*J24,2) -> 0 | P24: =ROUND(SUM(M24:O24),2) -> 0
B25: =IF(B24<>"",B24+1,"") -> 7 | C25: Tranšejas rakšana un aizbēršana lietus kanalizācijas tīklu OD315 montāžai (ieskaitot grunts nomaiņu*, aizvešanu, atvešanu utt.) H=2,5-3,0 m | D25: m | E25: 45 | H25: =ROUND(F25*G25,2) -> 0 | K25: =ROUND(SUM(H25:J25),2) -> 0 | L25: =ROUND(E25*F25,2) -> 0 | M25: =ROUND(E25*H25,2) -> 0 | N25: =ROUND(E25*I25,2) -> 0 | O25: =ROUND(E25*J25,2) -> 0 | P25: =ROUND(SUM(M25:O25),2) -> 0
B26: =IF(B25<>"",B25+1,"") -> 8 | C26: Tranšejas rakšana un aizbēršana lietus kanalizācijas tīklu OD160 montāžai (ieskaitot grunts nomaiņu*, aizvešanu, atvešanu utt.) H=1,0-1,50 m | D26: m | E26: 3.2 | H26: =ROUND(F26*G26,2) -> 0 | K26: =ROUND(SUM(H26:J26),2) -> 0 | L26: =ROUND(E26*F26,2) -> 0 | M26: =ROUND(E26*H26,2) -> 0 | N26: =ROUND(E26*I26,2) -> 0 | O26: =ROUND(E26*J26,2) -> 0 | P26: =ROUND(SUM(M26:O26),2) -> 0
B27: =IF(B26<>"",B26+1,"") -> 9 | C27: Tranšejas rakšana un aizbēršana lietus kanalizācijas tīklu OD110 pievadu montāžai (ieskaitot grunts nomaiņu*, aizvešanu, atvešanu utt.) H=1,0-1,5 m | D27: m | E27: 39.9 | H27: =ROUND(F27*G27,2) -> 0 | K27: =ROUND(SUM(H27:J27),2) -> 0 | L27: =ROUND(E27*F27,2) -> 0 | M27: =ROUND(E27*H27,2) -> 0 | N27: =ROUND(E27*I27,2) -> 0 | O27: =ROUND(E27*J27,2) -> 0 | P27: =ROUND(SUM(M27:O27),2) -> 0
B28: =IF(B27<>"",B27+1,"") -> 10 | C28: Tranšejas sienu nostiprināšana ar metāla vairogiem (divpusēji) pie dziļuma, kas lielāks par 1,5m. *norādīts tekošais tranšejas garums, pieņemot, ka sienas nostiprinātas abās būvgrāvja pusēs | D28: m | E28: 253.9 | H28: =ROUND(F28*G28,2) -> 0 | K28: =ROUND(SUM(H28:J28),2) -> 0 | L28: =ROUND(E28*F28,2) -> 0 | M28: =ROUND(E28*H28,2) -> 0 | N28: =ROUND(E28*I28,2) -> 0 | O28: =ROUND(E28*J28,2) -> 0 | P28: =ROUND(SUM(M28:O28),2) -> 0
B29: =IF(B28<>"",B28+1,"") -> 11 | C29: Smilts pamatnes ierīkošana zem cauruļvadiem, h=15 cm | D29: m3 | E29: 51.7 | H29: =ROUND(F29*G29,2) -> 0 | K29: =ROUND(SUM(H29:J29),2) -> 0 | L29: =ROUND(E29*F29,2) -> 0 | M29: =ROUND(E29*H29,2) -> 0 | N29: =ROUND(E29*I29,2) -> 0 | O29: =ROUND(E29*J29,2) -> 0 | P29: =ROUND(SUM(M29:O29),2) -> 0
B30: =IF(B29<>"",B29+1,"") -> 12 | C30: Cauruļvadu smilšu apbērums, h=15 cm | D30: m3 | E30: 121.2 | H30: =ROUND(F30*G30,2) -> 0 | K30: =ROUND(SUM(H30:J30),2) -> 0 | L30: =ROUND(E30*F30,2) -> 0 | M30: =ROUND(E30*H30,2) -> 0 | N30: =ROUND(E30*I30,2) -> 0 | O30: =ROUND(E30*J30,2) -> 0 | P30: =ROUND(SUM(M30:O30),2) -> 0
B31: =IF(B30<>"",B30+1,"") -> 13 | C31: Gruntsūdens līmeņa pazemināšana | D31: m | E31: 337.6 | H31: =ROUND(F31*G31,2) -> 0 | K31: =ROUND(SUM(H31:J31),2) -> 0 | L31: =ROUND(E31*F31,2) -> 0 | M31: =ROUND(E31*H31,2) -> 0 | N31: =ROUND(E31*I31,2) -> 0 | O31: =ROUND(E31*J31,2) -> 0 | P31: =ROUND(SUM(M31:O31),2) -> 0
B32: =IF(B31<>"",B31+1,"") -> 14 | C32: Lietus kanalizācijas LK2 montāžas darbi
B33: =IF(B32<>"",B32+1,"") -> 15 | C33: PP gofrēta dubultsienu lietus kanalizācijas caurules ar uzmavām un blīvi OD200; H=1,0 - 1,5m, ieguldes klase SN8 montāža un ar to saistītie darbi | D33: m | E33: 40.6 | H33: =ROUND(F33*G33,2) -> 0 | K33: =ROUND(SUM(H33:J33),2) -> 0 | L33: =ROUND(E33*F33,2) -> 0 | M33: =ROUND(E33*H33,2) -> 0 | N33: =ROUND(E33*I33,2) -> 0 | O33: =ROUND(E33*J33,2) -> 0 | P33: =ROUND(SUM(M33:O33),2) -> 0
B34: =IF(B33<>"",B33+1,"") -> 16 | C34: PP gofrēta dubultsienu lietus kanalizācijas caurules ar uzmavām un blīvi OD200; H=1,5 - 2,0m, ieguldes klase SN8 montāža un ar to saistītie darbi | D34: m | E34: 45.8 | H34: =ROUND(F34*G34,2) -> 0 | K34: =ROUND(SUM(H34:J34),2) -> 0 | L34: =ROUND(E34*F34,2) -> 0 | M34: =ROUND(E34*H34,2) -> 0 | N34: =ROUND(E34*I34,2) -> 0 | O34: =ROUND(E34*J34,2) -> 0 | P34: =ROUND(SUM(M34:O34),2) -> 0
B35: =IF(B34<>"",B34+1,"") -> 17 | C35: PP gofrēta dubultsienu lietus kanalizācijas caurules ar uzmavām un blīvi OD200; H=2,0 - 2,5m, ieguldes klase SN8 montāža un ar to saistītie darbi | D35: m | E35: 47.9 | H35: =ROUND(F35*G35,2) -> 0 | K35: =ROUND(SUM(H35:J35),2) -> 0 | L35: =ROUND(E35*F35,2) -> 0 | M35: =ROUND(E35*H35,2) -> 0 | N35: =ROUND(E35*I35,2) -> 0 | O35: =ROUND(E35*J35,2) -> 0 | P35: =ROUND(SUM(M35:O35),2) -> 0
B36: =IF(B35<>"",B35+1,"") -> 18 | C36: PP gofrēta dubultsienu lietus kanalizācijas caurules ar uzmavām un blīvi OD250; H=1,5-2,0m, ieguldes klase SN8 montāža un ar to saistītie darbi | D36: m | E36: 30.9 | H36: =ROUND(F36*G36,2) -> 0 | K36: =ROUND(SUM(H36:J36),2) -> 0 | L36: =ROUND(E36*F36,2) -> 0 | M36: =ROUND(E36*H36,2) -> 0 | N36: =ROUND(E36*I36,2) -> 0 | O36: =ROUND(E36*J36,2) -> 0 | P36: =ROUND(SUM(M36:O36),2) -> 0
B37: =IF(B36<>"",B36+1,"") -> 19 | C37: PP gofrēta dubultsienu lietus kanalizācijas caurules ar uzmavām un blīvi OD315; H=2,5-3,0m, ieguldes klase SN8 montāža un ar to saistītie darbi | D37: m | E37: 84.3 | H37: =ROUND(F37*G37,2) -> 0 | K37: =ROUND(SUM(H37:J37),2) -> 0 | L37: =ROUND(E37*F37,2) -> 0 | M37: =ROUND(E37*H37,2) -> 0 | N37: =ROUND(E37*I37,2) -> 0 | O37: =ROUND(E37*J37,2) -> 0 | P37: =ROUND(SUM(M37:O37),2) -> 0
B38: =IF(B37<>"",B37+1,"") -> 20 | C38: PP gofrēta dubultsienu lietus kanalizācijas caurules ar uzmavām un blīvi OD315; H=3,0-3,5m, ieguldes klase SN8 montāža un ar to saistītie darbi | D38: m | E38: 45 | H38: =ROUND(F38*G38,2) -> 0 | K38: =ROUND(SUM(H38:J38),2) -> 0 | L38: =ROUND(E38*F38,2) -> 0 | M38: =ROUND(E38*H38,2) -> 0 | N38: =ROUND(E38*I38,2) -> 0 | O38: =ROUND(E38*J38,2) -> 0 | P38: =ROUND(SUM(M38:O38),2) -> 0
B39: =IF(B38<>"",B38+1,"") -> 21 | C39: PP lietus kanalizācijas caurules ar uzmavām un blīvi OD160; H=1,5 - 2,0 m, ieguldes klase SN8 montāža un ar to saistītie darbi | D39: m | E39: 3.2 | H39: =ROUND(F39*G39,2) -> 0 | K39: =ROUND(SUM(H39:J39),2) -> 0 | L39: =ROUND(E39*F39,2) -> 0 | M39: =ROUND(E39*H39,2) -> 0 | N39: =ROUND(E39*I39,2) -> 0 | O39: =ROUND(E39*J39,2) -> 0 | P39: =ROUND(SUM(M39:O39),2) -> 0
B40: =IF(B39<>"",B39+1,"") -> 22 | C40: PP lietus kanalizācijas caurules ar uzmavām un blīvi OD110; H=1,0 - 1,5 m, ieguldes klase SN8 montāža un ar to saistītie darbi (pievadi no nojumes jumtiem) | D40: m | E40: 39.9 | H40: =ROUND(F40*G40,2) -> 0 | K40: =ROUND(SUM(H40:J40),2) -> 0 | L40: =ROUND(E40*F40,2) -> 0 | M40: =ROUND(E40*H40,2) -> 0 | N40: =ROUND(E40*I40,2) -> 0 | O40: =ROUND(E40*J40,2) -> 0 | P40: =ROUND(SUM(M40:O40),2) -> 0
B41: =IF(B40<>"",B40+1,"") -> 23 | C41: PP skataka ID600 H=1,0-1,5 m, aku vākiem ir jābūt montētiem uz armēta dzelzbetona slodzi kliedējoša atbalsta gredzena no C50/60 markas betona, ķeta vākiem D400 klases, pamatne ar tekni rūpnieciski izgatavota, montāža un ar to saistītie darbi | D41: kpl | E41: 2 | H41: =ROUND(F41*G41,2) -> 0 | K41: =ROUND(SUM(H41:J41),2) -> 0 | L41: =ROUND(E41*F41,2) -> 0 | M41: =ROUND(E41*H41,2) -> 0 | N41: =ROUND(E41*I41,2) -> 0 | O41: =ROUND(E41*J41,2) -> 0 | P41: =ROUND(SUM(M41:O41),2) -> 0
B42: =IF(B41<>"",B41+1,"") -> 24 | C42: PP skataka ID600 H=1,5-2,0 m, aku vākiem ir jābūt montētiem uz armēta dzelzbetona slodzi kliedējoša atbalsta gredzena no C50/60 markas betona, ķeta vākiem D400 klases, pamatne ar tekni rūpnieciski izgatavota, montāža un ar to saistītie darbi | D42: kpl | E42: 5 | H42: =ROUND(F42*G42,2) -> 0 | K42: =ROUND(SUM(H42:J42),2) -> 0 | L42: =ROUND(E42*F42,2) -> 0 | M42: =ROUND(E42*H42,2) -> 0 | N42: =ROUND(E42*I42,2) -> 0 | O42: =ROUND(E42*J42,2) -> 0 | P42: =ROUND(SUM(M42:O42),2) -> 0
B43: =IF(B42<>"",B42+1,"") -> 25 | C43: PP skataka ID600 H=2,0-2,50m, aku vākiem ir jābūt montētiem uz armēta dzelzbetona slodzi kliedējoša atbalsta gredzena no C50/60 markas betona, ķeta vākiem D400 klases, pamatne ar tekni rūpnieciski izgatavota, montāža un ar to saistītie darbi | D43: kpl | E43: 3 | H43: =ROUND(F43*G43,2) -> 0 | K43: =ROUND(SUM(H43:J43),2) -> 0 | L43: =ROUND(E43*F43,2) -> 0 | M43: =ROUND(E43*H43,2) -> 0 | N43: =ROUND(E43*I43,2) -> 0 | O43: =ROUND(E43*J43,2) -> 0 | P43: =ROUND(SUM(M43:O43),2) -> 0
B44: =IF(B43<>"",B43+1,"") -> 26 | C44: PP skataka ID600 H=2,50-3,0m, aku vākiem ir jābūt montētiem uz armēta dzelzbetona slodzi kliedējoša atbalsta gredzena no C50/60 markas betona, ķeta vākiem D400 klases, pamatne ar tekni rūpnieciski izgatavota, montāža un ar to saistītie darbi | D44: kpl | E44: 3 | H44: =ROUND(F44*G44,2) -> 0 | K44: =ROUND(SUM(H44:J44),2) -> 0 | L44: =ROUND(E44*F44,2) -> 0 | M44: =ROUND(E44*H44,2) -> 0 | N44: =ROUND(E44*I44,2) -> 0 | O44: =ROUND(E44*J44,2) -> 0 | P44: =ROUND(SUM(M44:O44),2) -> 0
... B59: =IF(B58<>"",B58+1,"") -> 41 | C59: Esošo elektrokabeļu un sakaru kabeļu aizsardzība to šķērsojumu vietās ar projektēto kanalizāciju, ievietojot tos saliekamajās aizsargčaulās AROT OD110, L=3m | D59: gb | E59: 11 | H59: =ROUND(F59*G59,2) -> 0 | K59: =ROUND(SUM(H59:J59),2) -> 0 | L59: =ROUND(E59*F59,2) -> 0 | M59: =ROUND(E59*H59,2) -> 0 | N59: =ROUND(E59*I59,2) -> 0 | O59: =ROUND(E59*J59,2) -> 0 | P59: =ROUND(SUM(M59:O59),2) -> 0
B60: =IF(B59<>"",B59+1,"") -> 42 | C60: Citi darbi
B61: =IF(B60<>"",B60+1,"") -> 43 | C61: Esošo skataku pamatnes rekonstrukcija | D61: kpl | E61: 1 | H61: =ROUND(F61*G61,2) -> 0 | K61: =ROUND(SUM(H61:J61),2) -> 0 | L61: =ROUND(E61*F61,2) -> 0 | M61: =ROUND(E61*H61,2) -> 0 | N61: =ROUND(E61*I61,2) -> 0 | O61: =ROUND(E61*J61,2) -> 0 | P61: =ROUND(SUM(M61:O61),2) -> 0
B62: =IF(B61<>"",B61+1,"") -> 44 | C62: Esošo skatakas nosēddaļas iztukšona un atbrīvošana no gružiem | D62: kpl | E62: 1 | H62: =ROUND(F62*G62,2) -> 0 | K62: =ROUND(SUM(H62:J62),2) -> 0 | L62: =ROUND(E62*F62,2) -> 0 | M62: =ROUND(E62*H62,2) -> 0 | N62: =ROUND(E62*I62,2) -> 0 | O62: =ROUND(E62*J62,2) -> 0 | P62: =ROUND(SUM(M62:O62),2) -> 0
C64: Tiešās izmaksas kopā, t. sk. darba devēja sociālais nodoklis (23,59%): | L64: =SUM(L19:L63) -> 0 | M64: =SUM(M19:M63) -> 0 | N64: =SUM(N19:N63) -> 0 | O64: =SUM(O19:O63) -> 0 | P64: =SUM(P19:P63) -> 0
C67: Sastādīja:
D68: paraksts un tā atšifrējums, datums
C71: Pārbaudīja:
D72: paraksts un tā atšifrējums, datums
C73: Sertifikāta Nr.:

Sheet 1-5_DEM
M1: Atbilstoši: Latvijas būvnormatīva LBN 501-17 "Būvizmaksu noteikšanas kārtība" 5.pielikumam
C2: Lokālā tāme Nr. | I2: 1-5
C3: Esošās kanalizācijas demontāža
C4: būvdarbu veids vai konstruktīvā elementa nosaukums
B5: Objekta nosaukums: | D5: =Koptame!C13 -> Ārējo lietus, ražošanas un sadzīves kanalizācijas tīklu modernizācija Kleistu ielā 28 (autobusu parks Nr.6), Rīgā
B6: Būves nosaukums: | D6: =Koptame!C14 -> Ārējie kanalizācijas tīkli un inženierbūves
B7: Objekta adrese: | D7: =Koptame!C15 -> Kleistu iela 28, Rīga
B8: Pasūtījuma / līguma Nr.:
B10: Tāme sastādīta 2026.gada tirgus cenās, pamatojoties uz iepirkuma dokumentāciju. | N10: Tāme sastādīta: | O10: =Koptame!C34 -> 01.07.2026.
N11: Tāmes tiešās izmaksas (EUR bez PVN): | O11: =P43 -> 0
B13: Nr. p.k. | C13: Būvdarbu nosaukums | D13: Mērv. | E13: Daudz. | F13: Vienības izmaksas | L13: Kopā uz visu apjomu
F14: laika norma (c/h) | G14: darba samaksas likme (EUR/h) | H14: darba alga (EUR) | I14: būv-izstrādājumi (EUR) | J14: mehānismi (EUR) | K14: Kopā (EUR) | L14: darbietilpība (c/h) | M14: darba alga (EUR) | N14: būv-izstrādājumi (EUR) | O14: mehānismi (EUR) | P14: Summa (EUR)
B18: 1 | C18: 2 | D18: 3 | E18: 4 | F18: 5 | G18: 6 | H18: 7 | I18: 8 | J18: 9 | K18: 10 | L18: 11 | M18: 12 | N18: 13 | O18: 14 | P18: 15
B19: 1 | C19: Esošās kanalizācijas demontāža
B20: =IF(B19<>"",B19+1,"") -> 2 | C20: Tranšejas rakšana un aizbēršana kanalizācijas tīklu d90-d315 demontāžai (ieskaitot grunts nomaiņu, aizvešanu, atvešanu utt.) H=1,00 - 2,00 m | D20: m | E20: 887.2 | H20: =ROUND(F20*G20,2) -> 0 | K20: =ROUND(SUM(H20:J20),2) -> 0 | L20: =ROUND(E20*F20,2) -> 0 | M20: =ROUND(E20*H20,2) -> 0 | N20: =ROUND(E20*I20,2) -> 0 | O20: =ROUND(E20*J20,2) -> 0 | P20: =ROUND(SUM(M20:O20),2) -> 0
B21: =IF(B20<>"",B20+1,"") -> 3 | C21: Esošās kanalizācijas D90 tīkla demontāža, utilizēšana un ar to saistītie darbi | D21: m | E21: 18.5 | H21: =ROUND(F21*G21,2) -> 0 | K21: =ROUND(SUM(H21:J21),2) -> 0 | L21: =ROUND(E21*F21,2) -> 0 | M21: =ROUND(E21*H21,2) -> 0 | N21: =ROUND(E21*I21,2) -> 0 | O21: =ROUND(E21*J21,2) -> 0 | P21: =ROUND(SUM(M21:O21),2) -> 0
B22: =IF(B21<>"",B21+1,"") -> 4 | C22: Esošās kanalizācijas D110 tīkla demontāža, utilizēšana un ar to saistītie darbi | D22: m | E22: 27.8 | H22: =ROUND(F22*G22,2) -> 0 | K22: =ROUND(SUM(H22:J22),2) -> 0 | L22: =ROUND(E22*F22,2) -> 0 | M22: =ROUND(E22*H22,2) -> 0 | N22: =ROUND(E22*I22,2) -> 0 | O22: =ROUND(E22*J22,2) -> 0 | P22: =ROUND(SUM(M22:O22),2) -> 0
B23: =IF(B22<>"",B22+1,"") -> 5 | C23: Esošās kanalizācijas D160 tīkla demontāža, utilizēšana un ar to saistītie darbi | D23: m | E23: 174 | H23: =ROUND(F23*G23,2) -> 0 | K23: =ROUND(SUM(H23:J23),2) -> 0 | L23: =ROUND(E23*F23,2) -> 0 | M23: =ROUND(E23*H23,2) -> 0 | N23: =ROUND(E23*I23,2) -> 0 | O23: =ROUND(E23*J23,2) -> 0 | P23: =ROUND(SUM(M23:O23),2) -> 0
B24: =IF(B23<>"",B23+1,"") -> 6 | C24: Esošās kanalizācijas D200 tīkla demontāža, utilizēšana un ar to saistītie darbi | D24: m | E24: 548.4 | H24: =ROUND(F24*G24,2) -> 0 | K24: =ROUND(SUM(H24:J24),2) -> 0 | L24: =ROUND(E24*F24,2) -> 0 | M24: =ROUND(E24*H24,2) -> 0 | N24: =ROUND(E24*I24,2) -> 0 | O24: =ROUND(E24*J24,2) -> 0 | P24: =ROUND(SUM(M24:O24),2) -> 0
B25: =IF(B24<>"",B24+1,"") -> 7 | C25: Esošās kanalizācijas D250 tīkla demontāža, utilizēšana un ar to saistītie darbi | D25: m | E25: 17.4 | H25: =ROUND(F25*G25,2) -> 0 | K25: =ROUND(SUM(H25:J25),2) -> 0 | L25: =ROUND(E25*F25,2) -> 0 | M25: =ROUND(E25*H25,2) -> 0 | N25: =ROUND(E25*I25,2) -> 0 | O25: =ROUND(E25*J25,2) -> 0 | P25: =ROUND(SUM(M25:O25),2) -> 0
B26: =IF(B25<>"",B25+1,"") -> 8 | C26: Esošās kanalizācijas D315 tīkla demontāža, utilizēšana un ar to saistītie darbi | D26: m | E26: 101.1 | H26: =ROUND(F26*G26,2) -> 0 | K26: =ROUND(SUM(H26:J26),2) -> 0 | L26: =ROUND(E26*F26,2) -> 0 | M26: =ROUND(E26*H26,2) -> 0 | N26: =ROUND(E26*I26,2) -> 0 | O26: =ROUND(E26*J26,2) -> 0 | P26: =ROUND(SUM(M26:O26),2) -> 0
B27: =IF(B26<>"",B26+1,"") -> 9 | C27: Esošās dzelzbetona akas demontāža, izrakšana, utilizēšana un ar to saistītie darbi | D27: gb | E27: 62 | H27: =ROUND(F27*G27,2) -> 0 | K27: =ROUND(SUM(H27:J27),2) -> 0 | L27: =ROUND(E27*F27,2) -> 0 | M27: =ROUND(E27*H27,2) -> 0 | N27: =ROUND(E27*I27,2) -> 0 | O27: =ROUND(E27*J27,2) -> 0 | P27: =ROUND(SUM(M27:O27),2) -> 0
B28: =IF(B27<>"",B27+1,"") -> 10 | C28: Esošās sazīves kanalizācijas tīkla d160 tamponēšana un ar to saistītie darbi | D28: kpl | E28: 1 | H28: =ROUND(F28*G28,2) -> 0 | K28: =ROUND(SUM(H28:J28),2) -> 0 | L28: =ROUND(E28*F28,2) -> 0 | M28: =ROUND(E28*H28,2) -> 0 | N28: =ROUND(E28*I28,2) -> 0 | O28: =ROUND(E28*J28,2) -> 0 | P28: =ROUND(SUM(M28:O28),2) -> 0
B29: =IF(B28<>"",B28+1,"") -> 11 | C29: Esošās sazīves kanalizācijas sūkņu stacijas demontāža, izrakšana, utilizēšana un ar to saistītie darbi | D29: gb | E29: 1 | H29: =ROUND(F29*G29,2) -> 0 | K29: =ROUND(SUM(H29:J29),2) -> 0 | L29: =ROUND(E29*F29,2) -> 0 | M29: =ROUND(E29*H29,2) -> 0 | N29: =ROUND(E29*I29,2) -> 0 | O29: =ROUND(E29*J29,2) -> 0 | P29: =ROUND(SUM(M29:O29),2) -> 0
B30: =IF(B29<>"",B29+1,"") -> 12 | C30: Demontēt nolauzto sazīves kanalizācijas cauruļvada veidgabalu akā | D30: kpl | E30: 1 | H30: =ROUND(F30*G30,2) -> 0 | K30: =ROUND(SUM(H30:J30),2) -> 0 | L30: =ROUND(E30*F30,2) -> 0 | M30: =ROUND(E30*H30,2) -> 0 | N30: =ROUND(E30*I30,2) -> 0 | O30: =ROUND(E30*J30,2) -> 0 | P30: =ROUND(SUM(M30:O30),2) -> 0
B31: =IF(B30<>"",B30+1,"") -> 13 | C31: Esošo naftas produktu atdalītāju demontāža, izrakšana, utilizēšana un ar to saistītie darbi | D31: kpl. | E31: 8 | H31: =ROUND(F31*G31,2) -> 0 | K31: =ROUND(SUM(H31:J31),2) -> 0 | L31: =ROUND(E31*F31,2) -> 0 | M31: =ROUND(E31*H31,2) -> 0 | N31: =ROUND(E31*I31,2) -> 0 | O31: =ROUND(E31*J31,2) -> 0 | P31: =ROUND(SUM(M31:O31),2) -> 0
... B41: =IF(B40<>"",B40+1,"") -> 23 | C41: Esošās lietus kanalizācijas tīkla d450 tamponēšana un ar to saistītie darbi | D41: kpl | E41: 2 | H41: =ROUND(F41*G41,2) -> 0 | K41: =ROUND(SUM(H41:J41),2) -> 0 | L41: =ROUND(E41*F41,2) -> 0 | M41: =ROUND(E41*H41,2) -> 0 | N41: =ROUND(E41*I41,2) -> 0 | O41: =ROUND(E41*J41,2) -> 0 | P41: =ROUND(SUM(M41:O41),2) -> 0
C43: Tiešās izmaksas kopā, t. sk. darba devēja sociālais nodoklis (23,59%): | L43: =SUM(L19:L42) -> 0 | M43: =SUM(M19:M42) -> 0 | N43: =SUM(N19:N42) -> 0 | O43: =SUM(O19:O42) -> 0 | P43: =SUM(P19:P42) -> 0
C46: Sastādīja:
D47: paraksts un tā atšifrējums, datums
C50: Pārbaudīja:
D51: paraksts un tā atšifrējums, datums
C52: Sertifikāta Nr.:

Sheet 1-6_BK
M1: Atbilstoši: Latvijas būvnormatīva LBN 501-17 "Būvizmaksu noteikšanas kārtība" 5.pielikumam
C2: Lokālā tāme Nr. | I2: 1-6
C3: Būvkonstrukcijas
C4: būvdarbu veids vai konstruktīvā elementa nosaukums
B5: Objekta nosaukums: | D5: =Koptame!C13 -> Ārējo lietus, ražošanas un sadzīves kanalizācijas tīklu modernizācija Kleistu ielā 28 (autobusu parks Nr.6), Rīgā
B6: Būves nosaukums: | D6: =Koptame!C14 -> Ārējie kanalizācijas tīkli un inženierbūves
B7: Objekta adrese: | D7: =Koptame!C15 -> Kleistu iela 28, Rīga
B8: Pasūtījuma / līguma Nr.:
B10: Tāme sastādīta 2026.gada tirgus cenās, pamatojoties uz iepirkuma dokumentāciju. | N10: Tāme sastādīta: | O10: =Koptame!C34 -> 01.07.2026.
N11: Tāmes tiešās izmaksas (EUR bez PVN): | O11: =P33 -> 0
B13: Nr. p.k. | C13: Būvdarbu nosaukums | D13: Mērv. | E13: Daudz. | F13: Vienības izmaksas | L13: Kopā uz visu apjomu
F14: laika norma (c/h) | G14: darba samaksas likme (EUR/h) | H14: darba alga (EUR) | I14: būv-izstrādājumi (EUR) | J14: mehānismi (EUR) | K14: Kopā (EUR) | L14: darbietilpība (c/h) | M14: darba alga (EUR) | N14: būv-izstrādājumi (EUR) | O14: mehānismi (EUR) | P14: Summa (EUR)
B18: 1 | C18: 2 | D18: 3 | E18: 4 | F18: 5 | G18: 6 | H18: 7 | I18: 8 | J18: 9 | K18: 10 | L18: 11 | M18: 12 | N18: 13 | O18: 14 | P18: 15
B19: 1 | C19: Naftas / smilšu nostādinātāja pamatu un slodzi izlīdzinošā plātne
B20: =IF(B19<>"",B19+1,"") -> 2 | C20: Šķembu pamatojuma izbūve, fr.0/45 | D20: m3 | E20: 7.84 | H20: =ROUND(F20*G20,2) -> 0 | K20: =ROUND(SUM(H20:J20),2) -> 0 | L20: =ROUND(E20*F20,2) -> 0 | M20: =ROUND(E20*H20,2) -> 0 | N20: =ROUND(E20*I20,2) -> 0 | O20: =ROUND(E20*J20,2) -> 0 | P20: =ROUND(SUM(M20:O20),2) -> 0
B21: =IF(B20<>"",B20+1,"") -> 3 | C21: Betona sagataves kārta C8/10 | D21: m3 | E21: 5.17 | H21: =ROUND(F21*G21,2) -> 0 | K21: =ROUND(SUM(H21:J21),2) -> 0 | L21: =ROUND(E21*F21,2) -> 0 | M21: =ROUND(E21*H21,2) -> 0 | N21: =ROUND(E21*I21,2) -> 0 | O21: =ROUND(E21*J21,2) -> 0 | P21: =ROUND(SUM(M21:O21),2) -> 0
B22: =IF(B21<>"",B21+1,"") -> 4 | C22: Pamata P-1 betonēšana, betons C30/37, XC2+XF3, iesk.veidņu montāžu, demontāžu un īri, deformācijas šuvi, ja nepieciešams | D22: m3 | E22: 17.95 | H22: =ROUND(F22*G22,2) -> 0 | K22: =ROUND(SUM(H22:J22),2) -> 0 | L22: =ROUND(E22*F22,2) -> 0 | M22: =ROUND(E22*H22,2) -> 0 | N22: =ROUND(E22*I22,2) -> 0 | O22: =ROUND(E22*J22,2) -> 0 | P22: =ROUND(SUM(M22:O22),2) -> 0
B23: =IF(B22<>"",B22+1,"") -> 5 | C23: Stiegrošana ar tērauda stiegrām d8 B500B | D23: kg | E23: 130 | H23: =ROUND(F23*G23,2) -> 0 | K23: =ROUND(SUM(H23:J23),2) -> 0 | L23: =ROUND(E23*F23,2) -> 0 | M23: =ROUND(E23*H23,2) -> 0 | N23: =ROUND(E23*I23,2) -> 0 | O23: =ROUND(E23*J23,2) -> 0 | P23: =ROUND(SUM(M23:O23),2) -> 0
B24: =IF(B23<>"",B23+1,"") -> 6 | C24: Stiegrošana ar tērauda stiegrām d10 B500B | D24: kg | E24: 830 | H24: =ROUND(F24*G24,2) -> 0 | K24: =ROUND(SUM(H24:J24),2) -> 0 | L24: =ROUND(E24*F24,2) -> 0 | M24: =ROUND(E24*H24,2) -> 0 | N24: =ROUND(E24*I24,2) -> 0 | O24: =ROUND(E24*J24,2) -> 0 | P24: =ROUND(SUM(M24:O24),2) -> 0
B25: =IF(B24<>"",B24+1,"") -> 7 | C25: Stiegrošana ar tērauda stiegrām d12 B500B | D25: kg | E25: 54.7 | H25: =ROUND(F25*G25,2) -> 0 | K25: =ROUND(SUM(H25:J25),2) -> 0 | L25: =ROUND(E25*F25,2) -> 0 | M25: =ROUND(E25*H25,2) -> 0 | N25: =ROUND(E25*I25,2) -> 0 | O25: =ROUND(E25*J25,2) -> 0 | P25: =ROUND(SUM(M25:O25),2) -> 0
B26: =IF(B25<>"",B25+1,"") -> 8 | C26: Slodzi izlīdzinošās plātnes SL1 betonēšana, betons C34/45, XC4+XD3+XF4, iesk.veidņu montāžu, demontāžu un īri, deformācijas šuvi, ja nepieciešams | D26: m3 | E26: 9.4 | H26: =ROUND(F26*G26,2) -> 0 | K26: =ROUND(SUM(H26:J26),2) -> 0 | L26: =ROUND(E26*F26,2) -> 0 | M26: =ROUND(E26*H26,2) -> 0 | N26: =ROUND(E26*I26,2) -> 0 | O26: =ROUND(E26*J26,2) -> 0 | P26: =ROUND(SUM(M26:O26),2) -> 0
B27: =IF(B26<>"",B26+1,"") -> 9 | C27: Stiegrošana ar tērauda stiegrām d10 B500B | D27: kg | E27: 137.4 | H27: =ROUND(F27*G27,2) -> 0 | K27: =ROUND(SUM(H27:J27),2) -> 0 | L27: =ROUND(E27*F27,2) -> 0 | M27: =ROUND(E27*H27,2) -> 0 | N27: =ROUND(E27*I27,2) -> 0 | O27: =ROUND(E27*J27,2) -> 0 | P27: =ROUND(SUM(M27:O27),2) -> 0
B28: =IF(B27<>"",B27+1,"") -> 10 | C28: Stiegrošana ar tērauda stiegrām d12 B500B | D28: kg | E28: 932 | H28: =ROUND(F28*G28,2) -> 0 | K28: =ROUND(SUM(H28:J28),2) -> 0 | L28: =ROUND(E28*F28,2) -> 0 | M28: =ROUND(E28*H28,2) -> 0 | N28: =ROUND(E28*I28,2) -> 0 | O28: =ROUND(E28*J28,2) -> 0 | P28: =ROUND(SUM(M28:O28),2) -> 0
B29: =IF(B28<>"",B28+1,"") -> 11 | C29: Pamata plātnes apbērums ar smalku smilti atbilstoši "Autoceļu būvdarbu specifikācijas 2023/3 (ABS 2023/3)" | D29: m3 | E29: 9 | H29: =ROUND(F29*G29,2) -> 0 | K29: =ROUND(SUM(H29:J29),2) -> 0 | L29: =ROUND(E29*F29,2) -> 0 | M29: =ROUND(E29*H29,2) -> 0 | N29: =ROUND(E29*I29,2) -> 0 | O29: =ROUND(E29*J29,2) -> 0 | P29: =ROUND(SUM(M29:O29),2) -> 0
B30: =IF(B29<>"",B29+1,"") -> 12 | C30: Tvertņu enkurojuma josta | D30: kpl | E30: 1 | H30: =ROUND(F30*G30,2) -> 0 | K30: =ROUND(SUM(H30:J30),2) -> 0 | L30: =ROUND(E30*F30,2) -> 0 | M30: =ROUND(E30*H30,2) -> 0 | N30: =ROUND(E30*I30,2) -> 0 | O30: =ROUND(E30*J30,2) -> 0 | P30: =ROUND(SUM(M30:O30),2) -> 0
B31: =IF(B30<>"",B30+1,"") -> 13 | C31: Gruntsūdens atsūknēšana | D31: kpl | E31: 1 | H31: =ROUND(F31*G31,2) -> 0 | K31: =ROUND(SUM(H31:J31),2) -> 0 | L31: =ROUND(E31*F31,2) -> 0 | M31: =ROUND(E31*H31,2) -> 0 | N31: =ROUND(E31*I31,2) -> 0 | O31: =ROUND(E31*J31,2) -> 0 | P31: =ROUND(SUM(M31:O31),2) -> 0
C33: Tiešās izmaksas kopā, t. sk. darba devēja sociālais nodoklis (23,59%): | L33: =SUM(L19:L32) -> 0 | M33: =SUM(M19:M32) -> 0 | N33: =SUM(N19:N32) -> 0 | O33: =SUM(O19:O32) -> 0 | P33: =SUM(P19:P32) -> 0
C36: Sastādīja:
D37: paraksts un tā atšifrējums, datums
C40: Pārbaudīja:
D41: paraksts un tā atšifrējums, datums
C42: Sertifikāta Nr.:
C46: Piezīme pie 10.pozīcijas: "Autoceļu būvdarbu specifikācijas 2023/3 (ABS 2023/3)" https://lvceli.lv/wp-content/uploads/2025/10/Autocelu_buvdarbu_specifikacijas_2023_3-1.pdf

Sheet 1-7_VS-1
M1: Atbilstoši: Latvijas būvnormatīva LBN 501-17 "Būvizmaksu noteikšanas kārtība" 5.pielikumam
C2: Lokālā tāme Nr. | I2: 1-7
C3: Ārējā elektroapgāde - sadalne VS-1
C4: būvdarbu veids vai konstruktīvā elementa nosaukums
B5: Objekta nosaukums: | D5: =Koptame!C13 -> Ārējo lietus, ražošanas un sadzīves kanalizācijas tīklu modernizācija Kleistu ielā 28 (autobusu parks Nr.6), Rīgā
B6: Būves nosaukums: | D6: =Koptame!C14 -> Ārējie kanalizācijas tīkli un inženierbūves
B7: Objekta adrese: | D7: =Koptame!C15 -> Kleistu iela 28, Rīga
B8: Pasūtījuma / līguma Nr.:
B10: Tāme sastādīta 2026.gada tirgus cenās, pamatojoties uz iepirkuma dokumentāciju. | N10: Tāme sastādīta: | O10: =Koptame!C34 -> 01.07.2026.
N11: Tāmes tiešās izmaksas (EUR bez PVN): | O11: =P61 -> 0
B13: Nr. p.k. | C13: Būvdarbu nosaukums | D13: Mērv. | E13: Daudz. | F13: Vienības izmaksas | L13: Kopā uz visu apjomu
F14: laika norma (c/h) | G14: darba samaksas likme (EUR/h) | H14: darba alga (EUR) | I14: būv-izstrādājumi (EUR) | J14: mehānismi (EUR) | K14: Kopā (EUR) | L14: darbietilpība (c/h) | M14: darba alga (EUR) | N14: būv-izstrādājumi (EUR) | O14: mehānismi (EUR) | P14: Summa (EUR)
B18: 1 | C18: 2 | D18: 3 | E18: 4 | F18: 5 | G18: 6 | H18: 7 | I18: 8 | J18: 9 | K18: 10 | L18: 11 | M18: 12 | N18: 13 | O18: 14 | P18: 15
B19: 1 | C19: Darbu izmaksas
B20: =IF(B19<>"",B19+1,"") -> 2 | C20: Tranšeja - bedre kabeļa vai citu apakšzemes komunikāciju apsekošanai (šurfēšana) | D20: gb | E20: 21 | H20: =ROUND(F20*G20,2) -> 0 | K20: =ROUND(SUM(H20:J20),2) -> 0 | L20: =ROUND(E20*F20,2) -> 0 | M20: =ROUND(E20*H20,2) -> 0 | N20: =ROUND(E20*I20,2) -> 0 | O20: =ROUND(E20*J20,2) -> 0 | P20: =ROUND(SUM(M20:O20),2) -> 0
B21: =IF(B20<>"",B20+1,"") -> 3 | C21: Tranšejas rakšana un aizbēršana viena līdz divu kabeļu (caurules) guldīšanai 0.7m dziļumā | D21: m | E21: 36 | H21: =ROUND(F21*G21,2) -> 0 | K21: =ROUND(SUM(H21:J21),2) -> 0 | L21: =ROUND(E21*F21,2) -> 0 | M21: =ROUND(E21*H21,2) -> 0 | N21: =ROUND(E21*I21,2) -> 0 | O21: =ROUND(E21*J21,2) -> 0 | P21: =ROUND(SUM(M21:O21),2) -> 0
B22: =IF(B21<>"",B21+1,"") -> 4 | C22: Tranšejas rakšana un aizbēršana viena līdz divu kabeļu (caurules) guldīšanai 1m dziļumā | D22: m | E22: 155 | H22: =ROUND(F22*G22,2) -> 0 | K22: =ROUND(SUM(H22:J22),2) -> 0 | L22: =ROUND(E22*F22,2) -> 0 | M22: =ROUND(E22*H22,2) -> 0 | N22: =ROUND(E22*I22,2) -> 0 | O22: =ROUND(E22*J22,2) -> 0 | P22: =ROUND(SUM(M22:O22),2) -> 0
B23: =IF(B22<>"",B22+1,"") -> 5 | C23: Tranšejas rakšana un aizbēršana trīs līdz četru kabeļu (caurules) guldīšanai 1m dziļumā | D23: m | E23: 4 | H23: =ROUND(F23*G23,2) -> 0 | K23: =ROUND(SUM(H23:J23),2) -> 0 | L23: =ROUND(E23*F23,2) -> 0 | M23: =ROUND(E23*H23,2) -> 0 | N23: =ROUND(E23*I23,2) -> 0 | O23: =ROUND(E23*J23,2) -> 0 | P23: =ROUND(SUM(M23:O23),2) -> 0
B24: =IF(B23<>"",B23+1,"") -> 6 | C24: Tranšejas rakšana un aizbēršana piecu līdz astoņu kabeļu (caurules) guldīšanai 1m dziļumā | D24: m | E24: 23 | H24: =ROUND(F24*G24,2) -> 0 | K24: =ROUND(SUM(H24:J24),2) -> 0 | L24: =ROUND(E24*F24,2) -> 0 | M24: =ROUND(E24*H24,2) -> 0 | N24: =ROUND(E24*I24,2) -> 0 | O24: =ROUND(E24*J24,2) -> 0 | P24: =ROUND(SUM(M24:O24),2) -> 0
B25: =IF(B24<>"",B24+1,"") -> 7 | C25: Tranšejas rakšana un aizbēršana viena līdz divu kabeļu (caurules) guldīšanai 0.7m dziļumā ar rokām (kabeļu demontāža) | D25: m | E25: 6 | H25: =ROUND(F25*G25,2) -> 0 | K25: =ROUND(SUM(H25:J25),2) -> 0 | L25: =ROUND(E25*F25,2) -> 0 | M25: =ROUND(E25*H25,2) -> 0 | N25: =ROUND(E25*I25,2) -> 0 | O25: =ROUND(E25*J25,2) -> 0 | P25: =ROUND(SUM(M25:O25),2) -> 0
B26: =IF(B25<>"",B25+1,"") -> 8 | C26: Tranšejas rakšana un aizbēršana trīs līdz četru kabeļu (caurules) guldīšanai 1m dziļumā ar rokām | D26: m | E26: 25 | H26: =ROUND(F26*G26,2) -> 0 | K26: =ROUND(SUM(H26:J26),2) -> 0 | L26: =ROUND(E26*F26,2) -> 0 | M26: =ROUND(E26*H26,2) -> 0 | N26: =ROUND(E26*I26,2) -> 0 | O26: =ROUND(E26*J26,2) -> 0 | P26: =ROUND(SUM(M26:O26),2) -> 0
B27: =IF(B26<>"",B26+1,"") -> 9 | C27: Tranšeja horizontālam zemēšanas kontūram | D27: m | E27: 39 | H27: =ROUND(F27*G27,2) -> 0 | K27: =ROUND(SUM(H27:J27),2) -> 0 | L27: =ROUND(E27*F27,2) -> 0 | M27: =ROUND(E27*H27,2) -> 0 | N27: =ROUND(E27*I27,2) -> 0 | O27: =ROUND(E27*J27,2) -> 0 | P27: =ROUND(SUM(M27:O27),2) -> 0
B28: =IF(B27<>"",B27+1,"") -> 10 | C28: Ekspluatācijā esoša kabeļa kabeļa pārcelšana - bez sprieguma | D28: m | E28: 2 | H28: =ROUND(F28*G28,2) -> 0 | K28: =ROUND(SUM(H28:J28),2) -> 0 | L28: =ROUND(E28*F28,2) -> 0 | M28: =ROUND(E28*H28,2) -> 0 | N28: =ROUND(E28*I28,2) -> 0 | O28: =ROUND(E28*J28,2) -> 0 | P28: =ROUND(SUM(M28:O28),2) -> 0
B29: =IF(B28<>"",B28+1,"") -> 11 | C29: Plastmasas caurules guldīšana gatavā tranšejā | D29: m | E29: 486 | H29: =ROUND(F29*G29,2) -> 0 | K29: =ROUND(SUM(H29:J29),2) -> 0 | L29: =ROUND(E29*F29,2) -> 0 | M29: =ROUND(E29*H29,2) -> 0 | N29: =ROUND(E29*I29,2) -> 0 | O29: =ROUND(E29*J29,2) -> 0 | P29: =ROUND(SUM(M29:O29),2) -> 0
B30: =IF(B29<>"",B29+1,"") -> 12 | C30: ZS kabeļa ievēršana caurulē | D30: m | E30: 584 | H30: =ROUND(F30*G30,2) -> 0 | K30: =ROUND(SUM(H30:J30),2) -> 0 | L30: =ROUND(E30*F30,2) -> 0 | M30: =ROUND(E30*H30,2) -> 0 | N30: =ROUND(E30*I30,2) -> 0 | O30: =ROUND(E30*J30,2) -> 0 | P30: =ROUND(SUM(M30:O30),2) -> 0
B31: =IF(B30<>"",B30+1,"") -> 13 | C31: Kabeļa brīdinājuma lentas ieklāšana | D31: m | E31: 486 | H31: =ROUND(F31*G31,2) -> 0 | K31: =ROUND(SUM(H31:J31),2) -> 0 | L31: =ROUND(E31*F31,2) -> 0 | M31: =ROUND(E31*H31,2) -> 0 | N31: =ROUND(E31*I31,2) -> 0 | O31: =ROUND(E31*J31,2) -> 0 | P31: =ROUND(SUM(M31:O31),2) -> 0
... B38: =IF(B37<>"",B37+1,"") -> 20 | C38: EPL digitālā uzmērīšana | D38: m | E38: 486 | H38: =ROUND(F38*G38,2) -> 0 | K38: =ROUND(SUM(H38:J38),2) -> 0 | L38: =ROUND(E38*F38,2) -> 0 | M38: =ROUND(E38*H38,2) -> 0 | N38: =ROUND(E38*I38,2) -> 0 | O38: =ROUND(E38*J38,2) -> 0 | P38: =ROUND(SUM(M38:O38),2) -> 0
B39: =IF(B38<>"",B38+1,"") -> 21 | C39: Materiālu izmaksas
B40: =IF(B39<>"",B39+1,"") -> 22 | C40: Z/spr. kabelis ar Cu dzīslām NYY-J-5x4 | D40: m | E40: 70 | H40: =ROUND(F40*G40,2) -> 0 | K40: =ROUND(SUM(H40:J40),2) -> 0 | L40: =ROUND(E40*F40,2) -> 0 | M40: =ROUND(E40*H40,2) -> 0 | N40: =ROUND(E40*I40,2) -> 0 | O40: =ROUND(E40*J40,2) -> 0 | P40: =ROUND(SUM(M40:O40),2) -> 0
B41: =IF(B40<>"",B40+1,"") -> 23 | C41: Kontrolkabelis Cu 2x2.5 | D41: m | E41: 423 | H41: =ROUND(F41*G41,2) -> 0 | K41: =ROUND(SUM(H41:J41),2) -> 0 | L41: =ROUND(E41*F41,2) -> 0 | M41: =ROUND(E41*H41,2) -> 0 | N41: =ROUND(E41*I41,2) -> 0 | O41: =ROUND(E41*J41,2) -> 0 | P41: =ROUND(SUM(M41:O41),2) -> 0
B42: =IF(B41<>"",B41+1,"") -> 24 | C42: Kontrolkabelis LiYCY 3x1.5 | D42: m | E42: 83 | H42: =ROUND(F42*G42,2) -> 0 | K42: =ROUND(SUM(H42:J42),2) -> 0 | L42: =ROUND(E42*F42,2) -> 0 | M42: =ROUND(E42*H42,2) -> 0 | N42: =ROUND(E42*I42,2) -> 0 | O42: =ROUND(E42*J42,2) -> 0 | P42: =ROUND(SUM(M42:O42),2) -> 0
B43: =IF(B42<>"",B42+1,"") -> 25 | C43: Kontrolkabelis DS300 | D43: m | E43: 83 | H43: =ROUND(F43*G43,2) -> 0 | K43: =ROUND(SUM(H43:J43),2) -> 0 | L43: =ROUND(E43*F43,2) -> 0 | M43: =ROUND(E43*H43,2) -> 0 | N43: =ROUND(E43*I43,2) -> 0 | O43: =ROUND(E43*J43,2) -> 0 | P43: =ROUND(SUM(M43:O43),2) -> 0
B44: =IF(B43<>"",B43+1,"") -> 26 | C44: Caurule PE D50mm, 450N | D44: m | E44: 23 | H44: =ROUND(F44*G44,2) -> 0 | K44: =ROUND(SUM(H44:J44),2) -> 0 | L44: =ROUND(E44*F44,2) -> 0 | M44: =ROUND(E44*H44,2) -> 0 | N44: =ROUND(E44*I44,2) -> 0 | O44: =ROUND(E44*J44,2) -> 0 | P44: =ROUND(SUM(M44:O44),2) -> 0
B45: =IF(B44<>"",B44+1,"") -> 27 | C45: Caurule PE D50mm, 750N | D45: m | E45: 463 | H45: =ROUND(F45*G45,2) -> 0 | K45: =ROUND(SUM(H45:J45),2) -> 0 | L45: =ROUND(E45*F45,2) -> 0 | M45: =ROUND(E45*H45,2) -> 0 | N45: =ROUND(E45*I45,2) -> 0 | O45: =ROUND(E45*J45,2) -> 0 | P45: =ROUND(SUM(M45:O45),2) -> 0
B46: =IF(B45<>"",B45+1,"") -> 28 | C46: Kabeļa brīdinājuma lente "UZMANĪBU KABELIS" | D46: m | E46: 486 | H46: =ROUND(F46*G46,2) -> 0 | K46: =ROUND(SUM(H46:J46),2) -> 0 | L46: =ROUND(E46*F46,2) -> 0 | M46: =ROUND(E46*H46,2) -> 0 | N46: =ROUND(E46*I46,2) -> 0 | O46: =ROUND(E46*J46,2) -> 0 | P46: =ROUND(SUM(M46:O46),2) -> 0
B47: =IF(B46<>"",B46+1,"") -> 29 | C47: Vadības sadalne VS-1, sadalnes pamatne, ar visiem nepieciešamiem piederumiem pēc shēmas ELT-4 | D47: kpl | E47: 1 | H47: =ROUND(F47*G47,2) -> 0 | K47: =ROUND(SUM(H47:J47),2) -> 0 | L47: =ROUND(E47*F47,2) -> 0 | M47: =ROUND(E47*H47,2) -> 0 | N47: =ROUND(E47*I47,2) -> 0 | O47: =ROUND(E47*J47,2) -> 0 | P47: =ROUND(SUM(M47:O47),2) -> 0
B48: =IF(B47<>"",B47+1,"") -> 30 | C48: Kabeļa gala apdare | D48: kpl | E48: 5 | H48: =ROUND(F48*G48,2) -> 0 | K48: =ROUND(SUM(H48:J48),2) -> 0 | L48: =ROUND(E48*F48,2) -> 0 | M48: =ROUND(E48*H48,2) -> 0 | N48: =ROUND(E48*I48,2) -> 0 | O48: =ROUND(E48*J48,2) -> 0 | P48: =ROUND(SUM(M48:O48),2) -> 0
B49: =IF(B48<>"",B48+1,"") -> 31 | C49: Sadales zemējuma komplekts | D49: kpl | E49: 1 | H49: =ROUND(F49*G49,2) -> 0 | K49: =ROUND(SUM(H49:J49),2) -> 0 | L49: =ROUND(E49*F49,2) -> 0 | M49: =ROUND(E49*H49,2) -> 0 | N49: =ROUND(E49*I49,2) -> 0 | O49: =ROUND(E49*J49,2) -> 0 | P49: =ROUND(SUM(M49:O49),2) -> 0
B50: =IF(B49<>"",B49+1,"") -> 32 | C50: Zemējuma plakandzelzis, cinkots 4x40mm | D50: m | E50: 35 | H50: =ROUND(F50*G50,2) -> 0 | K50: =ROUND(SUM(H50:J50),2) -> 0 | L50: =ROUND(E50*F50,2) -> 0 | M50: =ROUND(E50*H50,2) -> 0 | N50: =ROUND(E50*I50,2) -> 0 | O50: =ROUND(E50*J50,2) -> 0 | P50: =ROUND(SUM(M50:O50),2) -> 0
B51: =IF(B50<>"",B50+1,"") -> 33 | C51: Cinkots apaļdzelzs ∅10 | D51: m | E51: 4 | H51: =ROUND(F51*G51,2) -> 0 | K51: =ROUND(SUM(H51:J51),2) -> 0 | L51: =ROUND(E51*F51,2) -> 0 | M51: =ROUND(E51*H51,2) -> 0 | N51: =ROUND(E51*I51,2) -> 0 | O51: =ROUND(E51*J51,2) -> 0 | P51: =ROUND(SUM(M51:O51),2) -> 0
... B55: =IF(B54<>"",B54+1,"") -> 37 | C55: Pārējie montāžas izstrādājumi | D55: kpl | E55: 1 | H55: =ROUND(F55*G55,2) -> 0 | K55: =ROUND(SUM(H55:J55),2) -> 0 | L55: =ROUND(E55*F55,2) -> 0 | M55: =ROUND(E55*H55,2) -> 0 | N55: =ROUND(E55*I55,2) -> 0 | O55: =ROUND(E55*J55,2) -> 0 | P55: =ROUND(SUM(M55:O55),2) -> 0
B56: =IF(B55<>"",B55+1,"") -> 38 | C56: Darbu izmaksas
B57: =IF(B56<>"",B56+1,"") -> 39 | C57: Transporta un gājēju kustības organizēšana | D57: obj | E57: 1 | H57: =ROUND(F57*G57,2) -> 0 | K57: =ROUND(SUM(H57:J57),2) -> 0 | L57: =ROUND(E57*F57,2) -> 0 | M57: =ROUND(E57*H57,2) -> 0 | N57: =ROUND(E57*I57,2) -> 0 | O57: =ROUND(E57*J57,2) -> 0 | P57: =ROUND(SUM(M57:O57),2) -> 0
B58: =IF(B57<>"",B57+1,"") -> 40 | C58: Rakšanas atļaujas saņemšana | D58: obj | E58: 1 | H58: =ROUND(F58*G58,2) -> 0 | K58: =ROUND(SUM(H58:J58),2) -> 0 | L58: =ROUND(E58*F58,2) -> 0 | M58: =ROUND(E58*H58,2) -> 0 | N58: =ROUND(E58*I58,2) -> 0 | O58: =ROUND(E58*J58,2) -> 0 | P58: =ROUND(SUM(M58:O58),2) -> 0
B59: =IF(B58<>"",B58+1,"") -> 41 | C59: Tehniskās dokumentācijas izgatavošana | D59: obj | E59: 1 | H59: =ROUND(F59*G59,2) -> 0 | K59: =ROUND(SUM(H59:J59),2) -> 0 | L59: =ROUND(E59*F59,2) -> 0 | M59: =ROUND(E59*H59,2) -> 0 | N59: =ROUND(E59*I59,2) -> 0 | O59: =ROUND(E59*J59,2) -> 0 | P59: =ROUND(SUM(M59:O59),2) -> 0
C61: Tiešās izmaksas kopā, t. sk. darba devēja sociālais nodoklis (23,59%): | L61: =SUM(L19:L60) -> 0 | M61: =SUM(M19:M60) -> 0 | N61: =SUM(N19:N60) -> 0 | O61: =SUM(O19:O60) -> 0 | P61: =SUM(P19:P60) -> 0
C64: Sastādīja:
D65: paraksts un tā atšifrējums, datums
C68: Pārbaudīja:
D69: paraksts un tā atšifrējums, datums
C70: Sertifikāta Nr.:

Sheet 1-8_VS-2
M1: Atbilstoši: Latvijas būvnormatīva LBN 501-17 "Būvizmaksu noteikšanas kārtība" 5.pielikumam
C2: Lokālā tāme Nr. | I2: 1-8
C3: Ārējā elektroapgāde - sadalne VS-2
C4: būvdarbu veids vai konstruktīvā elementa nosaukums
B5: Objekta nosaukums: | D5: =Koptame!C13 -> Ārējo lietus, ražošanas un sadzīves kanalizācijas tīklu modernizācija Kleistu ielā 28 (autobusu parks Nr.6), Rīgā
B6: Būves nosaukums: | D6: =Koptame!C14 -> Ārējie kanalizācijas tīkli un inženierbūves
B7: Objekta adrese: | D7: =Koptame!C15 -> Kleistu iela 28, Rīga
B8: Pasūtījuma / līguma Nr.:
B10: Tāme sastādīta 2026.gada tirgus cenās, pamatojoties uz iepirkuma dokumentāciju. | N10: Tāme sastādīta: | O10: =Koptame!C34 -> 01.07.2026.
N11: Tāmes tiešās izmaksas (EUR bez PVN): | O11: =P63 -> 0
B13: Nr. p.k. | C13: Būvdarbu nosaukums | D13: Mērv. | E13: Daudz. | F13: Vienības izmaksas | L13: Kopā uz visu apjomu
F14: laika norma (c/h) | G14: darba samaksas likme (EUR/h) | H14: darba alga (EUR) | I14: būv-izstrādājumi (EUR) | J14: mehānismi (EUR) | K14: Kopā (EUR) | L14: darbietilpība (c/h) | M14: darba alga (EUR) | N14: būv-izstrādājumi (EUR) | O14: mehānismi (EUR) | P14: Summa (EUR)
B18: 1 | C18: 2 | D18: 3 | E18: 4 | F18: 5 | G18: 6 | H18: 7 | I18: 8 | J18: 9 | K18: 10 | L18: 11 | M18: 12 | N18: 13 | O18: 14 | P18: 15
B19: 1 | C19: Darbu izmaksas
B20: =IF(B19<>"",B19+1,"") -> 2 | C20: Tranšeja - bedre kabeļa vai citu apakšzemes komunikāciju apsekošanai (šurfēšana) | D20: gb | E20: 11 | H20: =ROUND(F20*G20,2) -> 0 | K20: =ROUND(SUM(H20:J20),2) -> 0 | L20: =ROUND(E20*F20,2) -> 0 | M20: =ROUND(E20*H20,2) -> 0 | N20: =ROUND(E20*I20,2) -> 0 | O20: =ROUND(E20*J20,2) -> 0 | P20: =ROUND(SUM(M20:O20),2) -> 0
B21: =IF(B20<>"",B20+1,"") -> 3 | C21: Tranšejas rakšana un aizbēršana viena līdz divu kabeļu (caurules) guldīšanai 0.7m dziļumā | D21: m | E21: 18 | H21: =ROUND(F21*G21,2) -> 0 | K21: =ROUND(SUM(H21:J21),2) -> 0 | L21: =ROUND(E21*F21,2) -> 0 | M21: =ROUND(E21*H21,2) -> 0 | N21: =ROUND(E21*I21,2) -> 0 | O21: =ROUND(E21*J21,2) -> 0 | P21: =ROUND(SUM(M21:O21),2) -> 0
B22: =IF(B21<>"",B21+1,"") -> 4 | C22: Tranšejas rakšana un aizbēršana viena līdz divu kabeļu (caurules) guldīšanai 1m dziļumā | D22: m | E22: 13 | H22: =ROUND(F22*G22,2) -> 0 | K22: =ROUND(SUM(H22:J22),2) -> 0 | L22: =ROUND(E22*F22,2) -> 0 | M22: =ROUND(E22*H22,2) -> 0 | N22: =ROUND(E22*I22,2) -> 0 | O22: =ROUND(E22*J22,2) -> 0 | P22: =ROUND(SUM(M22:O22),2) -> 0
B23: =IF(B22<>"",B22+1,"") -> 5 | C23: Tranšejas rakšana un aizbēršana viena līdz divu kabeļu (caurules) guldīšanai 1m dziļumā (kabeļu demontāža) | D23: m | E23: 2 | H23: =ROUND(F23*G23,2) -> 0 | K23: =ROUND(SUM(H23:J23),2) -> 0 | L23: =ROUND(E23*F23,2) -> 0 | M23: =ROUND(E23*H23,2) -> 0 | N23: =ROUND(E23*I23,2) -> 0 | O23: =ROUND(E23*J23,2) -> 0 | P23: =ROUND(SUM(M23:O23),2) -> 0
B24: =IF(B23<>"",B23+1,"") -> 6 | C24: Tranšeja horizontālam zemēšanas kontūram | D24: m | E24: 1 | H24: =ROUND(F24*G24,2) -> 0 | K24: =ROUND(SUM(H24:J24),2) -> 0 | L24: =ROUND(E24*F24,2) -> 0 | M24: =ROUND(E24*H24,2) -> 0 | N24: =ROUND(E24*I24,2) -> 0 | O24: =ROUND(E24*J24,2) -> 0 | P24: =ROUND(SUM(M24:O24),2) -> 0
B25: =IF(B24<>"",B24+1,"") -> 7 | C25: Plastmasas caurules guldīšana gatavā tranšejā | D25: m | E25: 48 | H25: =ROUND(F25*G25,2) -> 0 | K25: =ROUND(SUM(H25:J25),2) -> 0 | L25: =ROUND(E25*F25,2) -> 0 | M25: =ROUND(E25*H25,2) -> 0 | N25: =ROUND(E25*I25,2) -> 0 | O25: =ROUND(E25*J25,2) -> 0 | P25: =ROUND(SUM(M25:O25),2) -> 0
B26: =IF(B25<>"",B25+1,"") -> 8 | C26: Kabeļu aizsargcaurules d=līdz 50 mm montāža telpā | D26: m | E26: 6 | H26: =ROUND(F26*G26,2) -> 0 | K26: =ROUND(SUM(H26:J26),2) -> 0 | L26: =ROUND(E26*F26,2) -> 0 | M26: =ROUND(E26*H26,2) -> 0 | N26: =ROUND(E26*I26,2) -> 0 | O26: =ROUND(E26*J26,2) -> 0 | P26: =ROUND(SUM(M26:O26),2) -> 0
B27: =IF(B26<>"",B26+1,"") -> 9 | C27: ZS kabeļa ievēršana caurulē | D27: m | E27: 94 | H27: =ROUND(F27*G27,2) -> 0 | K27: =ROUND(SUM(H27:J27),2) -> 0 | L27: =ROUND(E27*F27,2) -> 0 | M27: =ROUND(E27*H27,2) -> 0 | N27: =ROUND(E27*I27,2) -> 0 | O27: =ROUND(E27*J27,2) -> 0 | P27: =ROUND(SUM(M27:O27),2) -> 0
B28: =IF(B27<>"",B27+1,"") -> 10 | C28: ZS kabeļa līdz 35 mm2 montāža uz plauktiem, kabeļu tuneļos, kanālos | D28: m | E28: 6 | H28: =ROUND(F28*G28,2) -> 0 | K28: =ROUND(SUM(H28:J28),2) -> 0 | L28: =ROUND(E28*F28,2) -> 0 | M28: =ROUND(E28*H28,2) -> 0 | N28: =ROUND(E28*I28,2) -> 0 | O28: =ROUND(E28*J28,2) -> 0 | P28: =ROUND(SUM(M28:O28),2) -> 0
B29: =IF(B28<>"",B28+1,"") -> 11 | C29: Kabeļa brīdinājuma lentas ieklāšana | D29: m | E29: 48 | H29: =ROUND(F29*G29,2) -> 0 | K29: =ROUND(SUM(H29:J29),2) -> 0 | L29: =ROUND(E29*F29,2) -> 0 | M29: =ROUND(E29*H29,2) -> 0 | N29: =ROUND(E29*I29,2) -> 0 | O29: =ROUND(E29*J29,2) -> 0 | P29: =ROUND(SUM(M29:O29),2) -> 0
B30: =IF(B29<>"",B29+1,"") -> 12 | C30: ZS sausā kabeļa līdz 35 mm2 gala apdare | D30: gb | E30: 6 | H30: =ROUND(F30*G30,2) -> 0 | K30: =ROUND(SUM(H30:J30),2) -> 0 | L30: =ROUND(E30*F30,2) -> 0 | M30: =ROUND(E30*H30,2) -> 0 | N30: =ROUND(E30*I30,2) -> 0 | O30: =ROUND(E30*J30,2) -> 0 | P30: =ROUND(SUM(M30:O30),2) -> 0
B31: =IF(B30<>"",B30+1,"") -> 13 | C31: Visu spriegumu plastm. vai papīra izolācijas kabeļu gala uzgaļi | D31: gb | E31: 2 | H31: =ROUND(F31*G31,2) -> 0 | K31: =ROUND(SUM(H31:J31),2) -> 0 | L31: =ROUND(E31*F31,2) -> 0 | M31: =ROUND(E31*H31,2) -> 0 | N31: =ROUND(E31*I31,2) -> 0 | O31: =ROUND(E31*J31,2) -> 0 | P31: =ROUND(SUM(M31:O31),2) -> 0
... B37: =IF(B36<>"",B36+1,"") -> 19 | C37: EPL digitālā uzmērīšana | D37: m | E37: 48 | H37: =ROUND(F37*G37,2) -> 0 | K37: =ROUND(SUM(H37:J37),2) -> 0 | L37: =ROUND(E37*F37,2) -> 0 | M37: =ROUND(E37*H37,2) -> 0 | N37: =ROUND(E37*I37,2) -> 0 | O37: =ROUND(E37*J37,2) -> 0 | P37: =ROUND(SUM(M37:O37),2) -> 0
B38: =IF(B37<>"",B37+1,"") -> 20 | C38: Materiālu izmaksas
B39: =IF(B38<>"",B38+1,"") -> 21 | C39: Z/spr. kabelis ar Cu dzīslām NYY-J-3x2.5 | D39: m | E39: 1 | H39: =ROUND(F39*G39,2) -> 0 | K39: =ROUND(SUM(H39:J39),2) -> 0 | L39: =ROUND(E39*F39,2) -> 0 | M39: =ROUND(E39*H39,2) -> 0 | N39: =ROUND(E39*I39,2) -> 0 | O39: =ROUND(E39*J39,2) -> 0 | P39: =ROUND(SUM(M39:O39),2) -> 0
B40: =IF(B39<>"",B39+1,"") -> 22 | C40: Z/spr. kabelis ar Cu dzīslām NYY-J-5x4 | D40: m | E40: 24 | H40: =ROUND(F40*G40,2) -> 0 | K40: =ROUND(SUM(H40:J40),2) -> 0 | L40: =ROUND(E40*F40,2) -> 0 | M40: =ROUND(E40*H40,2) -> 0 | N40: =ROUND(E40*I40,2) -> 0 | O40: =ROUND(E40*J40,2) -> 0 | P40: =ROUND(SUM(M40:O40),2) -> 0
B41: =IF(B40<>"",B40+1,"") -> 23 | C41: Z/spr. kabelis ar Cu dzīslām NYY-J-5x6 | D41: m | E41: 34 | H41: =ROUND(F41*G41,2) -> 0 | K41: =ROUND(SUM(H41:J41),2) -> 0 | L41: =ROUND(E41*F41,2) -> 0 | M41: =ROUND(E41*H41,2) -> 0 | N41: =ROUND(E41*I41,2) -> 0 | O41: =ROUND(E41*J41,2) -> 0 | P41: =ROUND(SUM(M41:O41),2) -> 0
B42: =IF(B41<>"",B41+1,"") -> 24 | C42: Kontrolkabelis Cu 2x2.5 | D42: m | E42: 12 | H42: =ROUND(F42*G42,2) -> 0 | K42: =ROUND(SUM(H42:J42),2) -> 0 | L42: =ROUND(E42*F42,2) -> 0 | M42: =ROUND(E42*H42,2) -> 0 | N42: =ROUND(E42*I42,2) -> 0 | O42: =ROUND(E42*J42,2) -> 0 | P42: =ROUND(SUM(M42:O42),2) -> 0
B43: =IF(B42<>"",B42+1,"") -> 25 | C43: Kontrolkabelis LiYCY 3x1.5 | D43: m | E43: 12 | H43: =ROUND(F43*G43,2) -> 0 | K43: =ROUND(SUM(H43:J43),2) -> 0 | L43: =ROUND(E43*F43,2) -> 0 | M43: =ROUND(E43*H43,2) -> 0 | N43: =ROUND(E43*I43,2) -> 0 | O43: =ROUND(E43*J43,2) -> 0 | P43: =ROUND(SUM(M43:O43),2) -> 0
B44: =IF(B43<>"",B43+1,"") -> 26 | C44: Kontrolkabelis DS300 | D44: m | E44: 12 | H44: =ROUND(F44*G44,2) -> 0 | K44: =ROUND(SUM(H44:J44),2) -> 0 | L44: =ROUND(E44*F44,2) -> 0 | M44: =ROUND(E44*H44,2) -> 0 | N44: =ROUND(E44*I44,2) -> 0 | O44: =ROUND(E44*J44,2) -> 0 | P44: =ROUND(SUM(M44:O44),2) -> 0
B45: =IF(B44<>"",B44+1,"") -> 27 | C45: Kape kabeļgalu hermetizēšanai | D45: gb | E45: 2 | H45: =ROUND(F45*G45,2) -> 0 | K45: =ROUND(SUM(H45:J45),2) -> 0 | L45: =ROUND(E45*F45,2) -> 0 | M45: =ROUND(E45*H45,2) -> 0 | N45: =ROUND(E45*I45,2) -> 0 | O45: =ROUND(E45*J45,2) -> 0 | P45: =ROUND(SUM(M45:O45),2) -> 0
B46: =IF(B45<>"",B45+1,"") -> 28 | C46: Caurule PE D50mm, 450N | D46: m | E46: 5 | H46: =ROUND(F46*G46,2) -> 0 | K46: =ROUND(SUM(H46:J46),2) -> 0 | L46: =ROUND(E46*F46,2) -> 0 | M46: =ROUND(E46*H46,2) -> 0 | N46: =ROUND(E46*I46,2) -> 0 | O46: =ROUND(E46*J46,2) -> 0 | P46: =ROUND(SUM(M46:O46),2) -> 0
B47: =IF(B46<>"",B46+1,"") -> 29 | C47: Caurule PE D50mm, 750N | D47: m | E47: 49 | H47: =ROUND(F47*G47,2) -> 0 | K47: =ROUND(SUM(H47:J47),2) -> 0 | L47: =ROUND(E47*F47,2) -> 0 | M47: =ROUND(E47*H47,2) -> 0 | N47: =ROUND(E47*I47,2) -> 0 | O47: =ROUND(E47*J47,2) -> 0 | P47: =ROUND(SUM(M47:O47),2) -> 0
B48: =IF(B47<>"",B47+1,"") -> 30 | C48: Kabeļa brīdinājuma lente "UZMANĪBU KABELIS" | D48: m | E48: 48 | H48: =ROUND(F48*G48,2) -> 0 | K48: =ROUND(SUM(H48:J48),2) -> 0 | L48: =ROUND(E48*F48,2) -> 0 | M48: =ROUND(E48*H48,2) -> 0 | N48: =ROUND(E48*I48,2) -> 0 | O48: =ROUND(E48*J48,2) -> 0 | P48: =ROUND(SUM(M48:O48),2) -> 0
B49: =IF(B48<>"",B48+1,"") -> 31 | C49: Vadības sadalne VS-2, sadalnes pamatne, ar visiem nepieciešamiem piederumiem pēc shēmas ELT-5 | D49: kpl | E49: 1 | H49: =ROUND(F49*G49,2) -> 0 | K49: =ROUND(SUM(H49:J49),2) -> 0 | L49: =ROUND(E49*F49,2) -> 0 | M49: =ROUND(E49*H49,2) -> 0 | N49: =ROUND(E49*I49,2) -> 0 | O49: =ROUND(E49*J49,2) -> 0 | P49: =ROUND(SUM(M49:O49),2) -> 0
B50: =IF(B49<>"",B49+1,"") -> 32 | C50: Kabeļa gala apdare | D50: kpl | E50: 6 | H50: =ROUND(F50*G50,2) -> 0 | K50: =ROUND(SUM(H50:J50),2) -> 0 | L50: =ROUND(E50*F50,2) -> 0 | M50: =ROUND(E50*H50,2) -> 0 | N50: =ROUND(E50*I50,2) -> 0 | O50: =ROUND(E50*J50,2) -> 0 | P50: =ROUND(SUM(M50:O50),2) -> 0
... B57: =IF(B56<>"",B56+1,"") -> 39 | C57: Pārējie montāžas izstrādājumi | D57: kpl | E57: 1 | H57: =ROUND(F57*G57,2) -> 0 | K57: =ROUND(SUM(H57:J57),2) -> 0 | L57: =ROUND(E57*F57,2) -> 0 | M57: =ROUND(E57*H57,2) -> 0 | N57: =ROUND(E57*I57,2) -> 0 | O57: =ROUND(E57*J57,2) -> 0 | P57: =ROUND(SUM(M57:O57),2) -> 0
B58: =IF(B57<>"",B57+1,"") -> 40 | C58: Darbu izmaksas
B59: =IF(B58<>"",B58+1,"") -> 41 | C59: Transporta un gājēju kustības organizēšana | D59: obj | E59: 1 | H59: =ROUND(F59*G59,2) -> 0 | K59: =ROUND(SUM(H59:J59),2) -> 0 | L59: =ROUND(E59*F59,2) -> 0 | M59: =ROUND(E59*H59,2) -> 0 | N59: =ROUND(E59*I59,2) -> 0 | O59: =ROUND(E59*J59,2) -> 0 | P59: =ROUND(SUM(M59:O59),2) -> 0
B60: =IF(B59<>"",B59+1,"") -> 42 | C60: Rakšanas atļaujas saņemšana | D60: obj | E60: 1 | H60: =ROUND(F60*G60,2) -> 0 | K60: =ROUND(SUM(H60:J60),2) -> 0 | L60: =ROUND(E60*F60,2) -> 0 | M60: =ROUND(E60*H60,2) -> 0 | N60: =ROUND(E60*I60,2) -> 0 | O60: =ROUND(E60*J60,2) -> 0 | P60: =ROUND(SUM(M60:O60),2) -> 0
B61: =IF(B60<>"",B60+1,"") -> 43 | C61: Tehniskās dokumentācijas izgatavošana | D61: obj | E61: 1 | H61: =ROUND(F61*G61,2) -> 0 | K61: =ROUND(SUM(H61:J61),2) -> 0 | L61: =ROUND(E61*F61,2) -> 0 | M61: =ROUND(E61*H61,2) -> 0 | N61: =ROUND(E61*I61,2) -> 0 | O61: =ROUND(E61*J61,2) -> 0 | P61: =ROUND(SUM(M61:O61),2) -> 0
C63: Tiešās izmaksas kopā, t. sk. darba devēja sociālais nodoklis (23,59%): | L63: =SUM(L19:L62) -> 0 | M63: =SUM(M19:M62) -> 0 | N63: =SUM(N19:N62) -> 0 | O63: =SUM(O19:O62) -> 0 | P63: =SUM(P19:P62) -> 0
C66: Sastādīja:
D67: paraksts un tā atšifrējums, datums
C70: Pārbaudīja:
D71: paraksts un tā atšifrējums, datums
C72: Sertifikāta Nr.:

Sheet 1-9_VS-3
M1: Atbilstoši: Latvijas būvnormatīva LBN 501-17 "Būvizmaksu noteikšanas kārtība" 5.pielikumam
C2: Lokālā tāme Nr. | I2: 1-9
C3: Ārējā elektroapgāde - sadalne VS-3
C4: būvdarbu veids vai konstruktīvā elementa nosaukums
B5: Objekta nosaukums: | D5: =Koptame!C13 -> Ārējo lietus, ražošanas un sadzīves kanalizācijas tīklu modernizācija Kleistu ielā 28 (autobusu parks Nr.6), Rīgā
B6: Būves nosaukums: | D6: =Koptame!C14 -> Ārējie kanalizācijas tīkli un inženierbūves
B7: Objekta adrese: | D7: =Koptame!C15 -> Kleistu iela 28, Rīga
B8: Pasūtījuma / līguma Nr.:
B10: Tāme sastādīta 2026.gada tirgus cenās, pamatojoties uz iepirkuma dokumentāciju. | N10: Tāme sastādīta: | O10: =Koptame!C34 -> 01.07.2026.
N11: Tāmes tiešās izmaksas (EUR bez PVN): | O11: =P49 -> 0
B13: Nr. p.k. | C13: Būvdarbu nosaukums | D13: Mērv. | E13: Daudz. | F13: Vienības izmaksas | L13: Kopā uz visu apjomu
F14: laika norma (c/h) | G14: darba samaksas likme (EUR/h) | H14: darba alga (EUR) | I14: būv-izstrādājumi (EUR) | J14: mehānismi (EUR) | K14: Kopā (EUR) | L14: darbietilpība (c/h) | M14: darba alga (EUR) | N14: būv-izstrādājumi (EUR) | O14: mehānismi (EUR) | P14: Summa (EUR)
B18: 1 | C18: 2 | D18: 3 | E18: 4 | F18: 5 | G18: 6 | H18: 7 | I18: 8 | J18: 9 | K18: 10 | L18: 11 | M18: 12 | N18: 13 | O18: 14 | P18: 15
B19: 1 | C19: Darbu izmaksas
B20: =IF(B19<>"",B19+1,"") -> 2 | C20: Tranšeja - bedre kabeļa vai citu apakšzemes komunikāciju apsekošanai (šurfēšana) | D20: gb | E20: 2 | H20: =ROUND(F20*G20,2) -> 0 | K20: =ROUND(SUM(H20:J20),2) -> 0 | L20: =ROUND(E20*F20,2) -> 0 | M20: =ROUND(E20*H20,2) -> 0 | N20: =ROUND(E20*I20,2) -> 0 | O20: =ROUND(E20*J20,2) -> 0 | P20: =ROUND(SUM(M20:O20),2) -> 0
B21: =IF(B20<>"",B20+1,"") -> 3 | C21: Tranšejas rakšana un aizbēršana viena līdz divu kabeļu (caurules) guldīšanai 1m dziļumā | D21: m | E21: 12 | H21: =ROUND(F21*G21,2) -> 0 | K21: =ROUND(SUM(H21:J21),2) -> 0 | L21: =ROUND(E21*F21,2) -> 0 | M21: =ROUND(E21*H21,2) -> 0 | N21: =ROUND(E21*I21,2) -> 0 | O21: =ROUND(E21*J21,2) -> 0 | P21: =ROUND(SUM(M21:O21),2) -> 0
B22: =IF(B21<>"",B21+1,"") -> 4 | C22: Caurumu lielāka par 30 mm urbšana līdz 1 m | D22: gb | E22: 1 | H22: =ROUND(F22*G22,2) -> 0 | K22: =ROUND(SUM(H22:J22),2) -> 0 | L22: =ROUND(E22*F22,2) -> 0 | M22: =ROUND(E22*H22,2) -> 0 | N22: =ROUND(E22*I22,2) -> 0 | O22: =ROUND(E22*J22,2) -> 0 | P22: =ROUND(SUM(M22:O22),2) -> 0
B23: =IF(B22<>"",B22+1,"") -> 5 | C23: Plastmasas caurules guldīšana gatavā tranšejā | D23: m | E23: 11 | H23: =ROUND(F23*G23,2) -> 0 | K23: =ROUND(SUM(H23:J23),2) -> 0 | L23: =ROUND(E23*F23,2) -> 0 | M23: =ROUND(E23*H23,2) -> 0 | N23: =ROUND(E23*I23,2) -> 0 | O23: =ROUND(E23*J23,2) -> 0 | P23: =ROUND(SUM(M23:O23),2) -> 0
B24: =IF(B23<>"",B23+1,"") -> 6 | C24: Kabeļu aizsargcaurules d=līdz 50 mm montāža | D24: m | E24: 11 | H24: =ROUND(F24*G24,2) -> 0 | K24: =ROUND(SUM(H24:J24),2) -> 0 | L24: =ROUND(E24*F24,2) -> 0 | M24: =ROUND(E24*H24,2) -> 0 | N24: =ROUND(E24*I24,2) -> 0 | O24: =ROUND(E24*J24,2) -> 0 | P24: =ROUND(SUM(M24:O24),2) -> 0
B25: =IF(B24<>"",B24+1,"") -> 7 | C25: ZS kabeļa ievēršana caurulē | D25: m | E25: 23 | H25: =ROUND(F25*G25,2) -> 0 | K25: =ROUND(SUM(H25:J25),2) -> 0 | L25: =ROUND(E25*F25,2) -> 0 | M25: =ROUND(E25*H25,2) -> 0 | N25: =ROUND(E25*I25,2) -> 0 | O25: =ROUND(E25*J25,2) -> 0 | P25: =ROUND(SUM(M25:O25),2) -> 0
B26: =IF(B25<>"",B25+1,"") -> 8 | C26: ZS kabeļa līdz 35 mm2 montāža ar skavām pa sienām, griestiem, uz troses | D26: m | E26: 11 | H26: =ROUND(F26*G26,2) -> 0 | K26: =ROUND(SUM(H26:J26),2) -> 0 | L26: =ROUND(E26*F26,2) -> 0 | M26: =ROUND(E26*H26,2) -> 0 | N26: =ROUND(E26*I26,2) -> 0 | O26: =ROUND(E26*J26,2) -> 0 | P26: =ROUND(SUM(M26:O26),2) -> 0
B27: =IF(B26<>"",B26+1,"") -> 9 | C27: Kabeļa brīdinājuma lentas ieklāšana | D27: m | E27: 12 | H27: =ROUND(F27*G27,2) -> 0 | K27: =ROUND(SUM(H27:J27),2) -> 0 | L27: =ROUND(E27*F27,2) -> 0 | M27: =ROUND(E27*H27,2) -> 0 | N27: =ROUND(E27*I27,2) -> 0 | O27: =ROUND(E27*J27,2) -> 0 | P27: =ROUND(SUM(M27:O27),2) -> 0
B28: =IF(B27<>"",B27+1,"") -> 10 | C28: Vadības sadalne VS-3 montāža, izgatavošana, piegāde, uzstādīšana un pieslēgšana, ieskaitot visus nepieciešamos materiālus | D28: kpl | E28: 1 | H28: =ROUND(F28*G28,2) -> 0 | K28: =ROUND(SUM(H28:J28),2) -> 0 | L28: =ROUND(E28*F28,2) -> 0 | M28: =ROUND(E28*H28,2) -> 0 | N28: =ROUND(E28*I28,2) -> 0 | O28: =ROUND(E28*J28,2) -> 0 | P28: =ROUND(SUM(M28:O28),2) -> 0
B29: =IF(B28<>"",B28+1,"") -> 11 | C29: Sadales zemējuma montāža | D29: kpl | E29: 1 | H29: =ROUND(F29*G29,2) -> 0 | K29: =ROUND(SUM(H29:J29),2) -> 0 | L29: =ROUND(E29*F29,2) -> 0 | M29: =ROUND(E29*H29,2) -> 0 | N29: =ROUND(E29*I29,2) -> 0 | O29: =ROUND(E29*J29,2) -> 0 | P29: =ROUND(SUM(M29:O29),2) -> 0
B30: =IF(B29<>"",B29+1,"") -> 12 | C30: Automātslēdža montāža sadalnē | D30: gb | E30: 1 | H30: =ROUND(F30*G30,2) -> 0 | K30: =ROUND(SUM(H30:J30),2) -> 0 | L30: =ROUND(E30*F30,2) -> 0 | M30: =ROUND(E30*H30,2) -> 0 | N30: =ROUND(E30*I30,2) -> 0 | O30: =ROUND(E30*J30,2) -> 0 | P30: =ROUND(SUM(M30:O30),2) -> 0
B31: =IF(B30<>"",B30+1,"") -> 13 | C31: EPL vai sarkanās līnijas nospraušana | D31: m | E31: 12 | H31: =ROUND(F31*G31,2) -> 0 | K31: =ROUND(SUM(H31:J31),2) -> 0 | L31: =ROUND(E31*F31,2) -> 0 | M31: =ROUND(E31*H31,2) -> 0 | N31: =ROUND(E31*I31,2) -> 0 | O31: =ROUND(E31*J31,2) -> 0 | P31: =ROUND(SUM(M31:O31),2) -> 0
B32: =IF(B31<>"",B31+1,"") -> 14 | C32: EPL digitālā uzmērīšana | D32: m | E32: 12 | H32: =ROUND(F32*G32,2) -> 0 | K32: =ROUND(SUM(H32:J32),2) -> 0 | L32: =ROUND(E32*F32,2) -> 0 | M32: =ROUND(E32*H32,2) -> 0 | N32: =ROUND(E32*I32,2) -> 0 | O32: =ROUND(E32*J32,2) -> 0 | P32: =ROUND(SUM(M32:O32),2) -> 0
B33: =IF(B32<>"",B32+1,"") -> 15 | C33: Materiālu izmaksas
B34: =IF(B33<>"",B33+1,"") -> 16 | C34: Z/spr. kabelis ar Cu dzīslām NYY-J-2x2.5 | D34: m | E34: 3 | H34: =ROUND(F34*G34,2) -> 0 | K34: =ROUND(SUM(H34:J34),2) -> 0 | L34: =ROUND(E34*F34,2) -> 0 | M34: =ROUND(E34*H34,2) -> 0 | N34: =ROUND(E34*I34,2) -> 0 | O34: =ROUND(E34*J34,2) -> 0 | P34: =ROUND(SUM(M34:O34),2) -> 0
B35: =IF(B34<>"",B34+1,"") -> 17 | C35: Kontrolkabelis Cu 2x2.5 | D35: m | E35: 27 | H35: =ROUND(F35*G35,2) -> 0 | K35: =ROUND(SUM(H35:J35),2) -> 0 | L35: =ROUND(E35*F35,2) -> 0 | M35: =ROUND(E35*H35,2) -> 0 | N35: =ROUND(E35*I35,2) -> 0 | O35: =ROUND(E35*J35,2) -> 0 | P35: =ROUND(SUM(M35:O35),2) -> 0
B36: =IF(B35<>"",B35+1,"") -> 18 | C36: Caurule PE D32mm | D36: m | E36: 11 | H36: =ROUND(F36*G36,2) -> 0 | K36: =ROUND(SUM(H36:J36),2) -> 0 | L36: =ROUND(E36*F36,2) -> 0 | M36: =ROUND(E36*H36,2) -> 0 | N36: =ROUND(E36*I36,2) -> 0 | O36: =ROUND(E36*J36,2) -> 0 | P36: =ROUND(SUM(M36:O36),2) -> 0
B37: =IF(B36<>"",B36+1,"") -> 19 | C37: Caurule PE D50mm, 450N | D37: m | E37: 12 | H37: =ROUND(F37*G37,2) -> 0 | K37: =ROUND(SUM(H37:J37),2) -> 0 | L37: =ROUND(E37*F37,2) -> 0 | M37: =ROUND(E37*H37,2) -> 0 | N37: =ROUND(E37*I37,2) -> 0 | O37: =ROUND(E37*J37,2) -> 0 | P37: =ROUND(SUM(M37:O37),2) -> 0
B38: =IF(B37<>"",B37+1,"") -> 20 | C38: Kabeļa brīdinājuma lente "UZMANĪBU KABELIS" | D38: m | E38: 12 | H38: =ROUND(F38*G38,2) -> 0 | K38: =ROUND(SUM(H38:J38),2) -> 0 | L38: =ROUND(E38*F38,2) -> 0 | M38: =ROUND(E38*H38,2) -> 0 | N38: =ROUND(E38*I38,2) -> 0 | O38: =ROUND(E38*J38,2) -> 0 | P38: =ROUND(SUM(M38:O38),2) -> 0
B39: =IF(B38<>"",B38+1,"") -> 21 | C39: Vadības sadalne VS-3, sadalnes uz kronšteiniem, ar visiem nepieciešamiem piederumiem pēc shēmas ELT-6 | D39: kpl | E39: 1 | H39: =ROUND(F39*G39,2) -> 0 | K39: =ROUND(SUM(H39:J39),2) -> 0 | L39: =ROUND(E39*F39,2) -> 0 | M39: =ROUND(E39*H39,2) -> 0 | N39: =ROUND(E39*I39,2) -> 0 | O39: =ROUND(E39*J39,2) -> 0 | P39: =ROUND(SUM(M39:O39),2) -> 0
B40: =IF(B39<>"",B39+1,"") -> 22 | C40: Automātslēdzis 1P, C, 16A | D40: gb | E40: 1 | H40: =ROUND(F40*G40,2) -> 0 | K40: =ROUND(SUM(H40:J40),2) -> 0 | L40: =ROUND(E40*F40,2) -> 0 | M40: =ROUND(E40*H40,2) -> 0 | N40: =ROUND(E40*I40,2) -> 0 | O40: =ROUND(E40*J40,2) -> 0 | P40: =ROUND(SUM(M40:O40),2) -> 0
B41: =IF(B40<>"",B40+1,"") -> 23 | C41: Sadales zemējuma komplekts | D41: kpl | E41: 1 | H41: =ROUND(F41*G41,2) -> 0 | K41: =ROUND(SUM(H41:J41),2) -> 0 | L41: =ROUND(E41*F41,2) -> 0 | M41: =ROUND(E41*H41,2) -> 0 | N41: =ROUND(E41*I41,2) -> 0 | O41: =ROUND(E41*J41,2) -> 0 | P41: =ROUND(SUM(M41:O41),2) -> 0
B42: =IF(B41<>"",B41+1,"") -> 24 | C42: Celtniecības smilts | D42: m3 | E42: 0.5 | H42: =ROUND(F42*G42,2) -> 0 | K42: =ROUND(SUM(H42:J42),2) -> 0 | L42: =ROUND(E42*F42,2) -> 0 | M42: =ROUND(E42*H42,2) -> 0 | N42: =ROUND(E42*I42,2) -> 0 | O42: =ROUND(E42*J42,2) -> 0 | P42: =ROUND(SUM(M42:O42),2) -> 0
B43: =IF(B42<>"",B42+1,"") -> 25 | C43: Pārējie montāžas izstrādājumi | D43: kpl | E43: 1 | H43: =ROUND(F43*G43,2) -> 0 | K43: =ROUND(SUM(H43:J43),2) -> 0 | L43: =ROUND(E43*F43,2) -> 0 | M43: =ROUND(E43*H43,2) -> 0 | N43: =ROUND(E43*I43,2) -> 0 | O43: =ROUND(E43*J43,2) -> 0 | P43: =ROUND(SUM(M43:O43),2) -> 0
B44: =IF(B43<>"",B43+1,"") -> 26 | C44: Darbu izmaksas
B45: =IF(B44<>"",B44+1,"") -> 27 | C45: Transporta un gājēju kustības organizēšana | D45: obj | E45: 1 | H45: =ROUND(F45*G45,2) -> 0 | K45: =ROUND(SUM(H45:J45),2) -> 0 | L45: =ROUND(E45*F45,2) -> 0 | M45: =ROUND(E45*H45,2) -> 0 | N45: =ROUND(E45*I45,2) -> 0 | O45: =ROUND(E45*J45,2) -> 0 | P45: =ROUND(SUM(M45:O45),2) -> 0
B46: =IF(B45<>"",B45+1,"") -> 28 | C46: Rakšanas atļaujas saņemšana | D46: obj | E46: 1 | H46: =ROUND(F46*G46,2) -> 0 | K46: =ROUND(SUM(H46:J46),2) -> 0 | L46: =ROUND(E46*F46,2) -> 0 | M46: =ROUND(E46*H46,2) -> 0 | N46: =ROUND(E46*I46,2) -> 0 | O46: =ROUND(E46*J46,2) -> 0 | P46: =ROUND(SUM(M46:O46),2) -> 0
B47: =IF(B46<>"",B46+1,"") -> 29 | C47: Tehniskās dokumentācijas izgatavošana | D47: obj | E47: 1 | H47: =ROUND(F47*G47,2) -> 0 | K47: =ROUND(SUM(H47:J47),2) -> 0 | L47: =ROUND(E47*F47,2) -> 0 | M47: =ROUND(E47*H47,2) -> 0 | N47: =ROUND(E47*I47,2) -> 0 | O47: =ROUND(E47*J47,2) -> 0 | P47: =ROUND(SUM(M47:O47),2) -> 0
C49: Tiešās izmaksas kopā, t. sk. darba devēja sociālais nodoklis (23,59%): | L49: =SUM(L19:L48) -> 0 | M49: =SUM(M19:M48) -> 0 | N49: =SUM(N19:N48) -> 0 | O49: =SUM(O19:O48) -> 0 | P49: =SUM(P19:P48) -> 0
C52: Sastādīja:
D53: paraksts un tā atšifrējums, datums
C56: Pārbaudīja:
D57: paraksts un tā atšifrējums, datums
C58: Sertifikāta Nr.:

Sheet 1-10_TS-CD
M1: Atbilstoši: Latvijas būvnormatīva LBN 501-17 "Būvizmaksu noteikšanas kārtība" 5.pielikumam
C2: Lokālā tāme Nr. | I2: 1-10
C3: Ceļa darbi
C4: būvdarbu veids vai konstruktīvā elementa nosaukums
B5: Objekta nosaukums: | D5: =Koptame!C13 -> Ārējo lietus, ražošanas un sadzīves kanalizācijas tīklu modernizācija Kleistu ielā 28 (autobusu parks Nr.6), Rīgā
B6: Būves nosaukums: | D6: =Koptame!C14 -> Ārējie kanalizācijas tīkli un inženierbūves
B7: Objekta adrese: | D7: =Koptame!C15 -> Kleistu iela 28, Rīga
B8: Pasūtījuma / līguma Nr.:
B10: Tāme sastādīta 2026.gada tirgus cenās, pamatojoties uz iepirkuma dokumentāciju. | N10: Tāme sastādīta: | O10: =Koptame!C34 -> 01.07.2026.
N11: Tāmes tiešās izmaksas (EUR bez PVN): | O11: =P59 -> 0
B13: Nr. p.k. | C13: Būvdarbu nosaukums | D13: Mērv. | E13: Daudz. | F13: Vienības izmaksas | L13: Kopā uz visu apjomu
F14: laika norma (c/h) | G14: darba samaksas likme (EUR/h) | H14: darba alga (EUR) | I14: būv-izstrādājumi (EUR) | J14: mehānismi (EUR) | K14: Kopā (EUR) | L14: darbietilpība (c/h) | M14: darba alga (EUR) | N14: būv-izstrādājumi (EUR) | O14: mehānismi (EUR) | P14: Summa (EUR)
B18: 1 | C18: 2 | D18: 3 | E18: 4 | F18: 5 | G18: 6 | H18: 7 | I18: 8 | J18: 9 | K18: 10 | L18: 11 | M18: 12 | N18: 13 | O18: 14 | P18: 15
B19: 1 | C19: Sagatavošanas/ dažādi darbi
B20: =IF(B19<>"",B19+1,"") -> 2 | C20: Uzmērīšana un nospraušana | D20: kpl. | E20: 1 | H20: =ROUND(F20*G20,2) -> 0 | K20: =ROUND(SUM(H20:J20),2) -> 0 | L20: =ROUND(E20*F20,2) -> 0 | M20: =ROUND(E20*H20,2) -> 0 | N20: =ROUND(E20*I20,2) -> 0 | O20: =ROUND(E20*J20,2) -> 0 | P20: =ROUND(SUM(M20:O20),2) -> 0
B21: =IF(B20<>"",B20+1,"") -> 3 | C21: Brauktuves betona bruģa seguma demontāža | D21: m2 | E21: 8450 | H21: =ROUND(F21*G21,2) -> 0 | K21: =ROUND(SUM(H21:J21),2) -> 0 | L21: =ROUND(E21*F21,2) -> 0 | M21: =ROUND(E21*H21,2) -> 0 | N21: =ROUND(E21*I21,2) -> 0 | O21: =ROUND(E21*J21,2) -> 0 | P21: =ROUND(SUM(M21:O21),2) -> 0
B22: =IF(B21<>"",B21+1,"") -> 4 | C22: Ietves betona bruģa seguma demontāža | D22: m2 | E22: 250 | H22: =ROUND(F22*G22,2) -> 0 | K22: =ROUND(SUM(H22:J22),2) -> 0 | L22: =ROUND(E22*F22,2) -> 0 | M22: =ROUND(E22*H22,2) -> 0 | N22: =ROUND(E22*I22,2) -> 0 | O22: =ROUND(E22*J22,2) -> 0 | P22: =ROUND(SUM(M22:O22),2) -> 0
B23: =IF(B22<>"",B22+1,"") -> 5 | C23: Betona apmaļu ar pamatiem demontāža | D23: m | E23: 590 | H23: =ROUND(F23*G23,2) -> 0 | K23: =ROUND(SUM(H23:J23),2) -> 0 | L23: =ROUND(E23*F23,2) -> 0 | M23: =ROUND(E23*H23,2) -> 0 | N23: =ROUND(E23*I23,2) -> 0 | O23: =ROUND(E23*J23,2) -> 0 | P23: =ROUND(SUM(M23:O23),2) -> 0
B24: =IF(B23<>"",B23+1,"") -> 6 | C24: Inženiertīklu aku vāku un kapju līmeņa regulēšana | D24: gb | E24: 22 | H24: =ROUND(F24*G24,2) -> 0 | K24: =ROUND(SUM(H24:J24),2) -> 0 | L24: =ROUND(E24*F24,2) -> 0 | M24: =ROUND(E24*H24,2) -> 0 | N24: =ROUND(E24*I24,2) -> 0 | O24: =ROUND(E24*J24,2) -> 0 | P24: =ROUND(SUM(M24:O24),2) -> 0
B25: =IF(B24<>"",B24+1,"") -> 7 | C25: Zemes klātne
B26: =IF(B25<>"",B25+1,"") -> 8 | C26: Zemes klātnes ierakuma būvniecība | D26: m3 | E26: 1470 | H26: =ROUND(F26*G26,2) -> 0 | K26: =ROUND(SUM(H26:J26),2) -> 0 | L26: =ROUND(E26*F26,2) -> 0 | M26: =ROUND(E26*H26,2) -> 0 | N26: =ROUND(E26*I26,2) -> 0 | O26: =ROUND(E26*J26,2) -> 0 | P26: =ROUND(SUM(M26:O26),2) -> 0
B27: =IF(B26<>"",B26+1,"") -> 9 | C27: Zemes klātnes uzbēruma būvniecība - piebērums (ierakuma materiāls) | D27: m3 | E27: 135 | H27: =ROUND(F27*G27,2) -> 0 | K27: =ROUND(SUM(H27:J27),2) -> 0 | L27: =ROUND(E27*F27,2) -> 0 | M27: =ROUND(E27*H27,2) -> 0 | N27: =ROUND(E27*I27,2) -> 0 | O27: =ROUND(E27*J27,2) -> 0 | P27: =ROUND(SUM(M27:O27),2) -> 0
B28: =IF(B27<>"",B27+1,"") -> 10 | C28: Konstruktīvās kārtas
B29: =IF(B28<>"",B28+1,"") -> 11 | C29: Konstrukcija Nr. 1 - Betona segums brauktuvei
B30: =IF(B29<>"",B29+1,"") -> 12 | C30: Betona segums (apjoms un prasības ietvertas BK sadaļas apjomos (poz. Nr.7-Nr.9))
B31: =IF(B30<>"",B30+1,"") -> 13 | C31: Nesaistītu minerālmateriālu pamata nesošās kārtas būvniecība (Apjoms un prasības ietvertas BK sadaļas apjomos (poz. Nr.1))
B32: =IF(B31<>"",B31+1,"") -> 14 | C32: Minerālmateriālu maisījuma 0/56 vai 0/63pn (N-II) nesošās kārtas būvniecība, h=16cm | D32: m3 | E32: 10 | H32: =ROUND(F32*G32,2) -> 0 | K32: =ROUND(SUM(H32:J32),2) -> 0 | L32: =ROUND(E32*F32,2) -> 0 | M32: =ROUND(E32*H32,2) -> 0 | N32: =ROUND(E32*I32,2) -> 0 | O32: =ROUND(E32*J32,2) -> 0 | P32: =ROUND(SUM(M32:O32),2) -> 0
B33: =IF(B32<>"",B32+1,"") -> 15 | C33: Armēšana ar ģeosintētiskiem materiāliem (F≥40/40 kN) | D33: m2 | E33: 60 | H33: =ROUND(F33*G33,2) -> 0 | K33: =ROUND(SUM(H33:J33),2) -> 0 | L33: =ROUND(E33*F33,2) -> 0 | M33: =ROUND(E33*H33,2) -> 0 | N33: =ROUND(E33*I33,2) -> 0 | O33: =ROUND(E33*J33,2) -> 0 | P33: =ROUND(SUM(M33:O33),2) -> 0
B34: =IF(B33<>"",B33+1,"") -> 16 | C34: Pastiprinātas salizturīgās kārtas būvniecība, hmin=40cm | D34: m3 | E34: 24 | H34: =ROUND(F34*G34,2) -> 0 | K34: =ROUND(SUM(H34:J34),2) -> 0 | L34: =ROUND(E34*F34,2) -> 0 | M34: =ROUND(E34*H34,2) -> 0 | N34: =ROUND(E34*I34,2) -> 0 | O34: =ROUND(E34*J34,2) -> 0 | P34: =ROUND(SUM(M34:O34),2) -> 0
B35: =IF(B34<>"",B34+1,"") -> 17 | C35: Konstrukcija Nr. 2 - Betona bruģa segums brauktuvei
B36: =IF(B35<>"",B35+1,"") -> 18 | C36: Betona bruģa seguma būvniecība, h=12cm | D36: m2 | E36: 7350 | H36: =ROUND(F36*G36,2) -> 0 | K36: =ROUND(SUM(H36:J36),2) -> 0 | L36: =ROUND(E36*F36,2) -> 0 | M36: =ROUND(E36*H36,2) -> 0 | N36: =ROUND(E36*I36,2) -> 0 | O36: =ROUND(E36*J36,2) -> 0 | P36: =ROUND(SUM(M36:O36),2) -> 0
B37: =IF(B36<>"",B36+1,"") -> 19 | C37: Izlīdzinošās starpkārtas būvniecība, h=4cm | D37: m2 | E37: 7350 | H37: =ROUND(F37*G37,2) -> 0 | K37: =ROUND(SUM(H37:J37),2) -> 0 | L37: =ROUND(E37*F37,2) -> 0 | M37: =ROUND(E37*H37,2) -> 0 | N37: =ROUND(E37*I37,2) -> 0 | O37: =ROUND(E37*J37,2) -> 0 | P37: =ROUND(SUM(M37:O37),2) -> 0
B38: =IF(B37<>"",B37+1,"") -> 20 | C38: Minerālmateriālu maisījuma 0/45 (N-I) nesošās kārtas būvniecība, h=15cm | D38: m3 | E38: 1120 | H38: =ROUND(F38*G38,2) -> 0 | K38: =ROUND(SUM(H38:J38),2) -> 0 | L38: =ROUND(E38*F38,2) -> 0 | M38: =ROUND(E38*H38,2) -> 0 | N38: =ROUND(E38*I38,2) -> 0 | O38: =ROUND(E38*J38,2) -> 0 | P38: =ROUND(SUM(M38:O38),2) -> 0
B39: =IF(B38<>"",B38+1,"") -> 21 | C39: Minerālmateriālu maisījuma 0/56 vai 0/63pn (N-II) nesošās kārtas būvniecība, h=20cm | D39: m3 | E39: 1400 | H39: =ROUND(F39*G39,2) -> 0 | K39: =ROUND(SUM(H39:J39),2) -> 0 | L39: =ROUND(E39*F39,2) -> 0 | M39: =ROUND(E39*H39,2) -> 0 | N39: =ROUND(E39*I39,2) -> 0 | O39: =ROUND(E39*J39,2) -> 0 | P39: =ROUND(SUM(M39:O39),2) -> 0
B40: =IF(B39<>"",B39+1,"") -> 22 | C40: Armēšana ar ģeosintētiskiem materiāliem (F≥40/40 kN) | D40: m2 | E40: 5100 | H40: =ROUND(F40*G40,2) -> 0 | K40: =ROUND(SUM(H40:J40),2) -> 0 | L40: =ROUND(E40*F40,2) -> 0 | M40: =ROUND(E40*H40,2) -> 0 | N40: =ROUND(E40*I40,2) -> 0 | O40: =ROUND(E40*J40,2) -> 0 | P40: =ROUND(SUM(M40:O40),2) -> 0
B41: =IF(B40<>"",B40+1,"") -> 23 | C41: Pastiprinātas salizturīgās kārtas būvniecība, hmin=40cm | D41: m3 | E41: 2140 | H41: =ROUND(F41*G41,2) -> 0 | K41: =ROUND(SUM(H41:J41),2) -> 0 | L41: =ROUND(E41*F41,2) -> 0 | M41: =ROUND(E41*H41,2) -> 0 | N41: =ROUND(E41*I41,2) -> 0 | O41: =ROUND(E41*J41,2) -> 0 | P41: =ROUND(SUM(M41:O41),2) -> 0
B42: =IF(B41<>"",B41+1,"") -> 24 | C42: Konstrukcija Nr. 2a - Brauktuves seguma atjaunošana
B43: =IF(B42<>"",B42+1,"") -> 25 | C43: Betona bruģa seguma būvniecība, h=12cm | D43: m2 | E43: 1100 | H43: =ROUND(F43*G43,2) -> 0 | K43: =ROUND(SUM(H43:J43),2) -> 0 | L43: =ROUND(E43*F43,2) -> 0 | M43: =ROUND(E43*H43,2) -> 0 | N43: =ROUND(E43*I43,2) -> 0 | O43: =ROUND(E43*J43,2) -> 0 | P43: =ROUND(SUM(M43:O43),2) -> 0
B44: =IF(B43<>"",B43+1,"") -> 26 | C44: Izlīdzinošās starpkārtas būvniecība, h=4cm | D44: m2 | E44: 1100 | H44: =ROUND(F44*G44,2) -> 0 | K44: =ROUND(SUM(H44:J44),2) -> 0 | L44: =ROUND(E44*F44,2) -> 0 | M44: =ROUND(E44*H44,2) -> 0 | N44: =ROUND(E44*I44,2) -> 0 | O44: =ROUND(E44*J44,2) -> 0 | P44: =ROUND(SUM(M44:O44),2) -> 0
B45: =IF(B44<>"",B44+1,"") -> 27 | C45: Konstrukcija Nr. 3 - Betona bruģa segums ietvei
B46: =IF(B45<>"",B45+1,"") -> 28 | C46: Betona bruģa seguma būvniecība, h=6cm | D46: m2 | E46: 210 | H46: =ROUND(F46*G46,2) -> 0 | K46: =ROUND(SUM(H46:J46),2) -> 0 | L46: =ROUND(E46*F46,2) -> 0 | M46: =ROUND(E46*H46,2) -> 0 | N46: =ROUND(E46*I46,2) -> 0 | O46: =ROUND(E46*J46,2) -> 0 | P46: =ROUND(SUM(M46:O46),2) -> 0
B47: =IF(B46<>"",B46+1,"") -> 29 | C47: Izlīdzinošās starpkārtas būvniecība, h=4cm | D47: m2 | E47: 210 | H47: =ROUND(F47*G47,2) -> 0 | K47: =ROUND(SUM(H47:J47),2) -> 0 | L47: =ROUND(E47*F47,2) -> 0 | M47: =ROUND(E47*H47,2) -> 0 | N47: =ROUND(E47*I47,2) -> 0 | O47: =ROUND(E47*J47,2) -> 0 | P47: =ROUND(SUM(M47:O47),2) -> 0
B48: =IF(B47<>"",B47+1,"") -> 30 | C48: Minerālmateriālu maisījuma 0/45 (N-III) nesošās kārtas būvniecība, h=15cm | D48: m3 | E48: 32 | H48: =ROUND(F48*G48,2) -> 0 | K48: =ROUND(SUM(H48:J48),2) -> 0 | L48: =ROUND(E48*F48,2) -> 0 | M48: =ROUND(E48*H48,2) -> 0 | N48: =ROUND(E48*I48,2) -> 0 | O48: =ROUND(E48*J48,2) -> 0 | P48: =ROUND(SUM(M48:O48),2) -> 0
B49: =IF(B48<>"",B48+1,"") -> 31 | C49: Nepastiprinātas salizturīgās kārtas būvniecība, hmin=30cm | D49: m3 | E49: 94 | H49: =ROUND(F49*G49,2) -> 0 | K49: =ROUND(SUM(H49:J49),2) -> 0 | L49: =ROUND(E49*F49,2) -> 0 | M49: =ROUND(E49*H49,2) -> 0 | N49: =ROUND(E49*I49,2) -> 0 | O49: =ROUND(E49*J49,2) -> 0 | P49: =ROUND(SUM(M49:O49),2) -> 0
B50: =IF(B49<>"",B49+1,"") -> 32 | C50: Konstrukcija Nr. 3a - Ietves seguma atjaunošana
B51: =IF(B50<>"",B50+1,"") -> 33 | C51: Betona bruģa seguma būvniecība, h=6cm | D51: m2 | E51: 25 | H51: =ROUND(F51*G51,2) -> 0 | K51: =ROUND(SUM(H51:J51),2) -> 0 | L51: =ROUND(E51*F51,2) -> 0 | M51: =ROUND(E51*H51,2) -> 0 | N51: =ROUND(E51*I51,2) -> 0 | O51: =ROUND(E51*J51,2) -> 0 | P51: =ROUND(SUM(M51:O51),2) -> 0
B52: =IF(B51<>"",B51+1,"") -> 34 | C52: Izlīdzinošās starpkārtas būvniecība, h=4cm | D52: m2 | E52: 25 | H52: =ROUND(F52*G52,2) -> 0 | K52: =ROUND(SUM(H52:J52),2) -> 0 | L52: =ROUND(E52*F52,2) -> 0 | M52: =ROUND(E52*H52,2) -> 0 | N52: =ROUND(E52*I52,2) -> 0 | O52: =ROUND(E52*J52,2) -> 0 | P52: =ROUND(SUM(M52:O52),2) -> 0
B53: =IF(B52<>"",B52+1,"") -> 35 | C53: Tips 4 - Apzaļumošana
B54: =IF(B53<>"",B53+1,"") -> 36 | C54: Apzaļumošana NN-3, h=10cm | D54: m2 | E54: 560 | H54: =ROUND(F54*G54,2) -> 0 | K54: =ROUND(SUM(H54:J54),2) -> 0 | L54: =ROUND(E54*F54,2) -> 0 | M54: =ROUND(E54*H54,2) -> 0 | N54: =ROUND(E54*I54,2) -> 0 | O54: =ROUND(E54*J54,2) -> 0 | P54: =ROUND(SUM(M54:O54),2) -> 0
B55: =IF(B54<>"",B54+1,"") -> 37 | C55: Satiksmes aprīkojums
B56: =IF(B55<>"",B55+1,"") -> 38 | C56: Betona apmales 100x30x15 uzstādīšana (uz minerālmateriālu maisījuma un betona pamata) | D56: m | E56: 440 | H56: =ROUND(F56*G56,2) -> 0 | K56: =ROUND(SUM(H56:J56),2) -> 0 | L56: =ROUND(E56*F56,2) -> 0 | M56: =ROUND(E56*H56,2) -> 0 | N56: =ROUND(E56*I56,2) -> 0 | O56: =ROUND(E56*J56,2) -> 0 | P56: =ROUND(SUM(M56:O56),2) -> 0
B57: =IF(B56<>"",B56+1,"") -> 39 | C57: Betona apmales 100x20x8 uzstādīšana (uz minerālmateriālu maisījuma un betona pamata) | D57: m | E57: 150 | H57: =ROUND(F57*G57,2) -> 0 | K57: =ROUND(SUM(H57:J57),2) -> 0 | L57: =ROUND(E57*F57,2) -> 0 | M57: =ROUND(E57*H57,2) -> 0 | N57: =ROUND(E57*I57,2) -> 0 | O57: =ROUND(E57*J57,2) -> 0 | P57: =ROUND(SUM(M57:O57),2) -> 0
C59: Tiešās izmaksas kopā, t. sk. darba devēja sociālais nodoklis (23,59%): | L59: =SUM(L19:L58) -> 0 | M59: =SUM(M19:M58) -> 0 | N59: =SUM(N19:N58) -> 0 | O59: =SUM(O19:O58) -> 0 | P59: =SUM(P19:P58) -> 0
C62: Sastādīja:
D63: paraksts un tā atšifrējums, datums
C66: Pārbaudīja:
D67: paraksts un tā atšifrējums, datums
C68: Sertifikāta Nr.:

Sheet Sheet1
