Workbook

Sheet Saturs
B1: 2. pielikums Nolikumam “BAHA implantu operācijām nepieciešamo ķirurģisko instrumentu piegāde”, identifikācijas Nr. PSKUS 2026/___
A2: BAHA implantu operācijām nepieciešamo ķirurģisko instrumentu piegāde
A3: Pozīcijas Nr.p.k. | B3: Saturs | E3: Summa, EUR bez PVN
A4: 1 | B4: ='1'!C30 -> Konvencionālie instrumenti kohleāro implantu ievietošanai
A5: 2 | B5: ='2'!C30 -> Mikroinstrumenti kohleāro implantu ievietošanai
A6: 3 | B6: ='3'!C30 -> Papildinstrumenti kohleāro implantu ievietošanai
A7: 4 | B7: ='4'!C21 -> Spēka instrumentu konsole ar irigācijas sistēmu kohlearo implantu ievietošanai

Sheet 1
A1: 2. pielikums Nolikumam “BAHA implantu operācijām nepieciešamo ķirurģisko instrumentu piegāde”, identifikācijas Nr. PSKUS 2026/106
A2: Tehniskā specifikācija/Tehniskais-finanšu piedāvājums
A3: =Saturs!A2 -> BAHA implantu operācijām nepieciešamo ķirurģisko instrumentu piegāde
A4: (identifikācijas Nr. PSKUS 2026/106)
A5: =CONCATENATE("",A30,"pozīcija ",C30," ") -> 1.pozīcija Konvencionālie instrumenti kohleāro implantu ievietošanai
C6: Tehniskās specifikācijas aktualizācijas datums 23.07.2026.
A7: Vispārīgās prasības: | G7: Atbilstība:
A8: 1 | C8: Finanšu piedāvājumā Pretendentam jāietver visi izdevumi un izmaksas, kas saistītas ar Preces piegādi, transportu un Preces nodošanu ekspluatācijā;
A9: 2 | C9: Piegāde 12 nedēļu laikā no pasūtījuma brīža;
A10: 3 | C10: Visiem instrumentiem ir jābūt izgatavotiem no nerūsējošā tērauda ar nepieciešamajiem piejaukumiem atbilstoši ISO 7153-1 vai analoga standarta prasībām, ja nav norādīts citādāk;
A11: 4 | C11: Uz katra instrumenta jābūt iegravētam ražotāja logo un artikula numuram, pēc kura to var atrast ražotājfirmas katalogā;
A12: 5 | C12: Uz katra instrumenta jābūt iegravētam datu matricas (Data Matrix) 2D kodam, kas satur ražotāja sniegto informāciju par instrumentu - unikālo iekārtu indentifikācijas kodu (UDI), ko iespējams validēt ar struktūrvienībā esošo skeneri; Kods tiek iegravēts ražotājrūpnīcā, ir noturīgs pret nodilumu un nekaitē instrumenta funkcionalitātei.
A13: 6 | C13: Piedāvātajām precēm garantijas termiņš ir ___ (______________) mēneši no pavadzīmes-rēķina abpusējas parakstīšanas brīža, bet ne mazāk kā 24 mēneši
A14: 7 | C14: * Pretendenta tehniskajā piedāvājumā norāda Preces ražotāju un modeli atbilstošos parametrus;
A15: 8 | C15: ** Parametru atbilstību pamatot ar norādi uz pavadošo dokumentu (informatīvie materiāli) , kas ļauj pārliecināties par piegādājamās Preces atbilstību tehniskajai specifikācijai. Informatīvajos materiālos pretendents atzīmē uz kuru iepirkuma tehniskās specifikācijas pozīciju pievienotā informācija attiecināma;
A16: 9 | C16: ***Piedāvājumam jāpievieno piedāvātas Preces EK atbilstības deklarācijas kopija atbilstoši regulas 2017/745 prasībām un CE sertifikāta kopija (ja ražotājs noteicis ierīču klasi: I klases sterilas ierīces un I klases ierīces ar mērīšanas funkciju, IIa, IIb vai III klases ierīces), norādot attiecīgajā ailē medicīnas ierīces klasi saskaņā ar EK atbilstības deklarācijas datiem;
A17: 10 | C17: ****Paredzamais daudzums (2 gadiem) tiek izmantots Pretendentu finanšu piedāvājumu objektīvai vērtēšanai. Līgumi tiek slēgti par vienas vienības cenu, nosakot visa iepirkuma kopējo apjomu naudas izteiksmē un nenosakot katras pozīcijas apjomu. Pasūtītājam ir tiesības neiegādāties visu tehniskajā specifikācijā uzrādīto Preču daudzumu vai iegādāties lielāku Preču apjomu par norādīto;
A18: 11 | C18: Pretendentam jāiesniedz ražotāja apliecinājums, kas apstiprina, ka metāla sakausējums no kā tiek ražoti ķirurģiskie instrumenti ir paredzēts lietošanai medicīnā, ir atkārtoti dezinficējams un sterilizējams;
A19: 12 | C19: Pretendentam jāiesniedz ķirurģisko instrumentu ražotāja apliecinājums par pretendenta iespējām nodrošināt ķirurģisko instrumentu remontu;
... A28: 21 | C28: Visām piedāvātām grieznēm asmeņi savienoti ar skrūvēm, atkārtoti asināmi, nedrīkst būt kniedēti
A30: 1. | C30: Konvencionālie instrumenti kohleāro implantu ievietošanai
C31: Apakšpozīcijas: | D31: Preces modelis, ref kods, ražotājs*: | E31: Medicīnas ierīces klase***: | F31: Paredzamais daudzums (gab.)****: | G31: 1 vienības cena bez PVN, EUR:
A32: =$A$30 -> 1. | B32: 1 | C32: Pincete SEMKEN tipa, Ķirurģiska, Darba virsma: šaura ar horizontālu tekstūru vidusdaļā, Darba gali 1x2 zobu, Instrumenta garums 147± 3mm, Atsauces ref. AESCULAP BD669R vai ekvivalents | F32: 4 | G32: 0
A33: =$A$30 -> 1. | B33: 2 | C33: Pincete anatomiska, Darba virsma: delikāta, atraumatiska, Darba gali smaili, smalki horizontālu tekstūru, Instrumenta garums 147±3mm, Atsauces ref. AESCULAP BD305R vai ekvivalents | F33: 4 | G33: 0
A34: =$A$30 -> 1. | B34: 3 | C34: Pincete anatomiska JANSEN tipa, bajonetes formas rokturis, Darba gali šauri noapaļotu galu, horizontālu tekstūru, gali taisni, kopējais instrumenta garums 160±3mm (Atsauces Nr. BD880R vai ekvivalents) | F34: 4 | G34: 0
A35: =$A$30 -> 1. | B35: 4 | C35: Adatturis HEGAR-OLSEN tipa, darba daļa taisna, viens rokturis liekts uz augšu, darba virsma ar šķērssvītrotu rievojumu, ar garenisku gropi, darba virsma kombinēta adatturis un griezošā mala, instrumenta kopējais garums: 140±3 mm, Atsauces nr. Aesculap BM290R vai ekvivalents. | F35: 2 | G35: 0
A36: =$A$30 -> 1. | B36: 5 | C36: Spaile BACKHAUS tipa, Instrumenta garums: 110±3 mm, darba virsma liekta, darba gali asi, Rokturis ar trīspakāpju fiksatoru, Paredzēta labročiem, Atsauces Nr. Aesculap BF432R vai ekvivalents. | F36: 6 | G36: 0
A37: =$A$30 -> 1. | B37: 6 | C37: Spaile BABY-ALLIS tipa, Darba virsma: taisna, Darba gali 4 x 5 zobu, Instrumenta garums 130± 3mm, Atsauces ref. AESCULAP EA012R vai ekvivalents | F37: 2 | G37: 0
A38: =$A$30 -> 1. | B38: 7 | C38: ROCHESTER-PEAN tipa asinsvadu spaile, Darba gali taisni, Darba galiem smalks, horizontāls rievojums visā to garumā, Instrumentam esot aizvērtā veidā darba virsmas pamatnē jāveidojas "olīvei", kas norāda uz īpaši delikātu asinsvadu/audu satveršanu, Instrumenta garums: 160±3 mm, Rokturis ar trīspakāpju fiksatoru, Atsauces nr. Aesculap BH442R vai ekvivalents; | F38: 12 | G38: 0
A39: =$A$30 -> 1. | B39: 8 | C39: Raspators FARABEUF taisns, Instrumenta garums: 142±3 mm, Darba daļas platums: 12,5±0,1 mm, Taisns, Darba gala sāna ieliektajā daļā horizontāls rievojums, Ar plakanu gludu rokturi, (Atsauces Nr. AESCULAP FK340R vai ekvivalents). | F39: 2 | G39: 0
A40: =$A$30 -> 1. | B40: 9 | C40: Kalts COTTLE tipa, Darba virsma: taisna graduēta, Darba gala izmērs 7,0±0,1mm, gals slīps, Instrumenta garums 180± 3mm, Atsauces ref. AESCULAP OL302R vai ekvivalents | F40: 2 | G40: 0
A41: =$A$30 -> 1. | B41: 10 | C41: Kalts ALEXANDER tipa, Instrumenta garums 170±3mm, Darba gals iedobts ar gropi, gals ieapaļš, Gala izmērs 7,0±0,1 mm, Atsauces Nr. AESCULAP FL343R vai ekvivalents | F41: 2 | G41: 0
A42: =$A$30 -> 1. | B42: 11 | C42: Kalts, Instrumenta garums 140±3 mm, Darba virsma: taisna, horizontālu tekstūru, Darba gals iedobts ar dziļu gropi, Gala izmērs 4±0,1 mm, Atsauces Nr. AESCULAP FL130R vai ekvivalents | F42: 2 | G42: 0
A43: =$A$30 -> 1. | B43: 12 | C43: Elevators FREER tipa, Instrumenta garums 185±3 mm, Gali liekti, apaļš rokturis, Abpusēja darba virsma ass/neass, gala izmērs 4,0±0,1mm, gals ieapaļš Atsauces Nr. AESCULAP OL165R vai ekvivalents | F43: 2 | G43: 0
... A65: =$A$30 -> 1. | B65: 34 | C65: Siets 1/2STU konteinerim ar perforāciju un silikona sietveida paklāju vai pretslīdes reljefa perforāciju, augstums (ārējais) 105±3mm, saderīgs ar piedāvāto konteinera pamatni (Aesculap JJ264R vai ekvivalents) | F65: 2 | G65: 0
F66: =CONCATENATE("Kopējā cena par ",A30," pozīciju bez PVN, EUR:") -> Kopējā cena par 1. pozīciju bez PVN, EUR: | G66: =SUMPRODUCT(G32:G65*F32:F65) -> 0
C67: Prasības: | D67: Pretendenta piedāvātie parametri* | F67: Atsauce uz informatīvo materiālu**
A68: =$A$30 -> 1. | B68: 35 | C68: Pincete SEMKEN tipa, Ķirurģiska, Darba virsma: šaura ar horizontālu tekstūru vidusdaļā, Darba gali 1x2 zobu, Instrumenta garums 147± 3mm, Atsauces ref. AESCULAP BD669R vai ekvivalents
A69: =$A$30 -> 1. | B69: 36 | C69: Pincete anatomiska, Darba virsma: delikāta, atraumatiska, Darba gali smaili, smalki horizontālu tekstūru, Instrumenta garums 147±3mm, Atsauces ref. AESCULAP BD305R vai ekvivalents
A70: =$A$30 -> 1. | B70: 37 | C70: Pincete anatomiska JANSEN tipa, bajonetes formas rokturis, Darba gali šauri noapaļotu galu, horizontālu tekstūru, gali taisni, kopējais instrumenta garums 160±3mm (Atsauces Nr. BD880R vai ekvivalents)
A71: =$A$30 -> 1. | B71: 38 | C71: Adatturis HEGAR-OLSEN tipa, darba daļa taisna, viens rokturis liekts uz augšu, darba virsma ar šķērssvītrotu rievojumu, ar garenisku gropi, darba virsma kombinēta adatturis un griezošā mala, instrumenta kopējais garums: 140±3 mm, Atsauces nr. Aesculap BM290R vai ekvivalents.
A72: =$A$30 -> 1. | B72: 39 | C72: Spaile BACKHAUS tipa, Instrumenta garums: 110±3 mm, darba virsma liekta, darba gali asi, Rokturis ar trīspakāpju fiksatoru, Paredzēta labročiem, Atsauces Nr. Aesculap BF432R vai ekvivalents.
A73: =$A$30 -> 1. | B73: 40 | C73: Spaile BABY-ALLIS tipa, Darba virsma: taisna, Darba gali 4 x 5 zobu, Instrumenta garums 130± 3mm, Atsauces ref. AESCULAP EA012R vai ekvivalents
A74: =$A$30 -> 1. | B74: 41 | C74: ROCHESTER-PEAN tipa asinsvadu spaile, Darba gali taisni, Darba galiem smalks, horizontāls rievojums visā to garumā, Instrumentam esot aizvērtā veidā darba virsmas pamatnē jāveidojas "olīvei", kas norāda uz īpaši delikātu asinsvadu/audu satveršanu, Instrumenta garums: 160±3 mm, Rokturis ar trīspakāpju fiksatoru, Atsauces nr. Aesculap BH442R vai ekvivalents;
A75: =$A$30 -> 1. | B75: 42 | C75: Raspators FARABEUF taisns, Instrumenta garums: 142±3 mm, Darba daļas platums: 12,5±0,1 mm, Taisns, Darba gala sāna ieliektajā daļā horizontāls rievojums, Ar plakanu gludu rokturi, (Atsauces Nr. AESCULAP FK340R vai ekvivalents).
A76: =$A$30 -> 1. | B76: 43 | C76: Kalts COTTLE tipa, Darba virsma: taisna graduēta, Darba gala izmērs 7,0±0,1mm, gals slīps, Instrumenta garums 180± 3mm, Atsauces ref. AESCULAP OL302R vai ekvivalents
A77: =$A$30 -> 1. | B77: 44 | C77: Kalts ALEXANDER tipa, Instrumenta garums 170±3mm, Darba gals iedobts ar gropi, gals ieapaļš, Gala izmērs 7,0±0,1 mm, Atsauces Nr. AESCULAP FL343R vai ekvivalents
A78: =$A$30 -> 1. | B78: 45 | C78: Kalts, Instrumenta garums 140±3 mm, Darba virsma: taisna, horizontālu tekstūru, Darba gals iedobts ar dziļu gropi, Gala izmērs 4±0,1 mm, Atsauces Nr. AESCULAP FL130R vai ekvivalents
A79: =$A$30 -> 1. | B79: 46 | C79: Elevators FREER tipa, Instrumenta garums 185±3 mm, Gali liekti, apaļš rokturis, Abpusēja darba virsma ass/neass, gala izmērs 4,0±0,1mm, gals ieapaļš Atsauces Nr. AESCULAP OL165R vai ekvivalents
... A101: =$A$30 -> 1. | B101: 68 | C101: Siets 1/2STU konteinerim ar perforāciju un silikona sietveida paklāju vai pretslīdes reljefa perforāciju, augstums (ārējais) 105±3mm, saderīgs ar piedāvāto konteinera pamatni (Aesculap JJ264R vai ekvivalents)

Sheet 2
A1: 2. pielikums Nolikumam “BAHA implantu operācijām nepieciešamo ķirurģisko instrumentu piegāde”, identifikācijas Nr. PSKUS 2026/106
A2: Tehniskā specifikācija/Tehniskais-finanšu piedāvājums
A3: =Saturs!A2 -> BAHA implantu operācijām nepieciešamo ķirurģisko instrumentu piegāde
A4: (identifikācijas Nr. PSKUS 2026/106)
A5: =CONCATENATE("",A30,"pozīcija ",C30," ") -> 2.pozīcija Mikroinstrumenti kohleāro implantu ievietošanai
C6: Tehniskās specifikācijas aktualizācijas datums 24.08.2026.
A7: Vispārīgās prasības: | G7: Atbilstība:
A8: 1 | C8: Finanšu piedāvājumā Pretendentam jāietver visi izdevumi un izmaksas, kas saistītas ar Preces piegādi, transportu un Preces nodošanu ekspluatācijā;
A9: 2 | C9: Piegāde 12 nedēļu laikā no pasūtījuma brīža;
A10: 3 | C10: Visiem instrumentiem ir jābūt izgatavotiem no nerūsējošā tērauda ar nepieciešamajiem piejaukumiem atbilstoši ISO 7153-1 vai analoga standarta prasībām, ja nav norādīts citādāk;
A11: 4 | C11: Uz katra instrumenta jābūt iegravētam ražotāja logo un artikula numuram, pēc kura to var atrast ražotājfirmas katalogā;
A12: 5 | C12: Uz katra instrumenta jābūt iegravētam datu matricas (Data Matrix) 2D kodam, kas satur ražotāja sniegto informāciju par instrumentu - unikālo iekārtu indentifikācijas kodu (UDI), ko iespējams validēt ar struktūrvienībā esošo skeneri; Kods tiek iegravēts ražotājrūpnīcā, ir noturīgs pret nodilumu un nekaitē instrumenta funkcionalitātei.
A13: 6 | C13: Piedāvātajām precēm garantijas termiņš ir ___ (______________) mēneši no pavadzīmes-rēķina abpusējas parakstīšanas brīža, bet ne mazāk kā 24 mēneši
A14: 7 | C14: * Pretendenta tehniskajā piedāvājumā norāda Preces ražotāju un modeli atbilstošos parametrus;
A15: 8 | C15: ** Parametru atbilstību pamatot ar norādi uz pavadošo dokumentu (informatīvie materiāli) , kas ļauj pārliecināties par piegādājamās Preces atbilstību tehniskajai specifikācijai. Informatīvajos materiālos pretendents atzīmē uz kuru iepirkuma tehniskās specifikācijas pozīciju pievienotā informācija attiecināma;
A16: 9 | C16: ***Piedāvājumam jāpievieno piedāvātas Preces EK atbilstības deklarācijas kopija atbilstoši regulas 2017/745 prasībām un CE sertifikāta kopija (ja ražotājs noteicis ierīču klasi: I klases sterilas ierīces un I klases ierīces ar mērīšanas funkciju, IIa, IIb vai III klases ierīces), norādot attiecīgajā ailē medicīnas ierīces klasi saskaņā ar EK atbilstības deklarācijas datiem;
A17: 10 | C17: ****Paredzamais daudzums (2 gadiem) tiek izmantots Pretendentu finanšu piedāvājumu objektīvai vērtēšanai. Līgumi tiek slēgti par vienas vienības cenu, nosakot visa iepirkuma kopējo apjomu naudas izteiksmē un nenosakot katras pozīcijas apjomu. Pasūtītājam ir tiesības neiegādāties visu tehniskajā specifikācijā uzrādīto Preču daudzumu vai iegādāties lielāku Preču apjomu par norādīto;
A18: 11 | C18: Pretendentam jāiesniedz ražotāja apliecinājums, kas apstiprina, ka metāla sakausējums no kā tiek ražoti ķirurģiskie instrumenti ir paredzēts lietošanai medicīnā, ir atkārtoti dezinficējams un sterilizējams;
A19: 12 | C19: Pretendentam jāiesniedz ķirurģisko instrumentu ražotāja apliecinājums par pretendenta iespējām nodrošināt ķirurģisko instrumentu remontu;
... A28: 21 | C28: Visām piedāvātām grieznēm asmeņi savienoti ar skrūvēm, atkārtoti asināmi, nedrīkst būt kniedēti
A30: 2. | C30: Mikroinstrumenti kohleāro implantu ievietošanai
C31: Apakšpozīcijas: | D31: Preces modelis, ref kods, ražotājs*: | E31: Medicīnas ierīces klase***: | F31: Paredzamais daudzums (gab.)****: | G31: 1 vienības cena bez PVN, EUR:
A32: =$A$30 -> 2. | B32: 1 | C32: T-kaniles ievietotājs, Darba daļas garums 89± 2mm; Darba žokļu izmērs 2,3±0,1mm x 7,0±0,5mm. Atsauces ref. INTEGRA MicroFrance MCO781 | F32: 3 | G32: 0
A33: =$A$30 -> 2. | B33: 2 | C33: Lancete miringotomijai, Liekta, Instrumenta garums 170±3mm; Darba gala izmērs 3,0±0,1mm. Atsauces ref. INTEGRA MicroFrance 7721-1 | F33: 10 | G33: 0
A34: =$A$30 -> 2. | B34: 3 | C34: Retraktors DESMARRES tipa, Instrumenta garums 140± 3mm, Darba daļas platums 10± 1mm, Atsauces ref. INTEGRA MicroFrance CP822-10 | F34: 10 | G34: 0
A35: =$A$30 -> 2. | B35: 4 | C35: Retraktors DESMARRES tipa, Instrumenta garums 140± 3mm, Darba daļas platums 12± 1mm, Atsauces ref. INTEGRA MicroFrance CP822-12 | F35: 10 | G35: 0
A36: =$A$30 -> 2. | B36: 5 | C36: Retraktors DESMARRES tipa, Instrumenta garums 140± 3mm, Darba daļas platums 14± 1mm, Atsauces ref. INTEGRA MicroFrance CP822-14 | F36: 10 | G36: 0
A37: =$A$30 -> 2. | B37: 6 | C37: Retraktors WEITLANER Baby tipa, Instrumenta garums 110± 3mm 3*3 asi zobi, rokturis ar sprūdrata fiksatoru, Atsauces ref. INTEGRA MicroFrance 0-28-8 | F37: 10 | G37: 0
A38: =$A$30 -> 2. | B38: 7 | C38: Retraktors WEITLANER tipa, Instrumenta garums 160± 3mm 3*4 asi zobi, rokturis ar sprūdrata fiksatoru, Atsauces ref. INTEGRA MicroFrance 0-28-7 | F38: 6 | G38: 0
A39: =$A$30 -> 2. | B39: 8 | C39: Kanile, Darba daļas garums 160± 3mm, Kaniles diametrs 3,0± 0,3mm, darba daļa liekta 150± 3 grādu leņķī, ar mandrēnu. Atsauces ref. INTEGRA MicroFrance MCEN 23-3-0 | F39: 10 | G39: 0
A40: =$A$30 -> 2. | B40: 9 | C40: Kanile, Darba daļas garums 160± 3mm, Kaniles diametrs 2,5± 0,3mm, darba daļa liekta 150± 3 grādu leņķī, ar mandrēnu. Atsauces ref. INTEGRA MicroFrance MCEN 23-2-5 | F40: 10 | G40: 0
A41: =$A$30 -> 2. | B41: 10 | C41: Mikrokanile ROSEN tipa, Liekta 135± 3 grādu leņķī, Kaniles diametrs 0,5± 0,1mm, darba garums 85± 1mm. Atsauces ref. INTEGRA MicroFrance MCO3P05 | F41: 10 | G41: 0
A42: =$A$30 -> 2. | B42: 11 | C42: Mikrokanile ROSEN tipa, Liekta 135± 3 grādu leņķī, Kaniles diametrs 0,7± 0,1mm, darba garums 85± 1mm. Atsauces ref. INTEGRA MicroFrance MCO3P07 | F42: 10 | G42: 0
A43: =$A$30 -> 2. | B43: 12 | C43: Mikrokanile ROSEN tipa, Liekta 135± 3 grādu leņķī, Kaniles diametrs 1,0± 0,1mm, darba garums 85± 1mm. Atsauces ref. INTEGRA MicroFrance MCO3P10 | F43: 10 | G43: 0
... A58: =$A$30 -> 2. | B58: 27 | C58: Nazis JORDAN tipa stapedektomijai, Darba daļa 45°± 3° leņķī, Darba daļas izmēri 3,0*2,0± 0,1mm, Instrumenta garums 165± 3mm, Atsauces ref. INTEGRA MicroFrance 3724293 | F58: 3 | G58: 0
F59: =CONCATENATE("Kopējā cena par ",A30," pozīciju bez PVN, EUR:") -> Kopējā cena par 2. pozīciju bez PVN, EUR: | G59: =SUMPRODUCT(G32:G58*F32:F58) -> 0
C60: Prasības: | D60: Pretendenta piedāvātie parametri* | F60: Atsauce uz informatīvo materiālu**
A61: =$A$30 -> 2. | B61: 31 | C61: T-kaniles ievietotājs, Darba daļas garums 89± 2mm; Darba žokļu izmērs 2,3±0,1mm x 7,0±0,5mm. Atsauces ref. INTEGRA MicroFrance MCO781
A62: =$A$30 -> 2. | B62: 32 | C62: Lancete miringotomijai, Liekta, Instrumenta garums 170±3mm; Darba gala izmērs 3,0±0,1mm. Atsauces ref. INTEGRA MicroFrance 7721-1
A63: =$A$30 -> 2. | B63: 33 | C63: Retraktors DESMARRES tipa, Instrumenta garums 140± 3mm, Darba daļas platums 10± 1mm, Atsauces ref. INTEGRA MicroFrance CP822-10
A64: =$A$30 -> 2. | B64: 34 | C64: Retraktors DESMARRES tipa, Instrumenta garums 140± 3mm, Darba daļas platums 12± 1mm, Atsauces ref. INTEGRA MicroFrance CP822-12
A65: =$A$30 -> 2. | B65: 35 | C65: Retraktors DESMARRES tipa, Instrumenta garums 140± 3mm, Darba daļas platums 14± 1mm, Atsauces ref. INTEGRA MicroFrance CP822-14
A66: =$A$30 -> 2. | B66: 36 | C66: Retraktors WEITLANER Baby tipa, Instrumenta garums 110± 3mm 3*3 asi zobi, rokturis ar sprūdrata fiksatoru, Atsauces ref. INTEGRA MicroFrance 0-28-8
A67: =$A$30 -> 2. | B67: 37 | C67: Retraktors WEITLANER tipa, Instrumenta garums 160± 3mm 3*4 asi zobi, rokturis ar sprūdrata fiksatoru, Atsauces ref. INTEGRA MicroFrance 0-28-7
A68: =$A$30 -> 2. | B68: 38 | C68: Kanile, Darba daļas garums 160± 3mm, Kaniles diametrs 3,0± 0,3mm, darba daļa liekta 150± 3 grādu leņķī, ar mandrēnu. Atsauces ref. INTEGRA MicroFrance MCEN 23-3-0
A69: =$A$30 -> 2. | B69: 39 | C69: Kanile, Darba daļas garums 160± 3mm, Kaniles diametrs 2,5± 0,3mm, darba daļa liekta 150± 3 grādu leņķī, ar mandrēnu. Atsauces ref. INTEGRA MicroFrance MCEN 23-2-5
A70: =$A$30 -> 2. | B70: 40 | C70: Mikrokanile ROSEN tipa, Liekta 135± 3 grādu leņķī, Kaniles diametrs 0,5± 0,1mm, darba garums 85± 1mm. Atsauces ref. INTEGRA MicroFrance MCO3P05
A71: =$A$30 -> 2. | B71: 41 | C71: Mikrokanile ROSEN tipa, Liekta 135± 3 grādu leņķī, Kaniles diametrs 0,7± 0,1mm, darba garums 85± 1mm. Atsauces ref. INTEGRA MicroFrance MCO3P07
A72: =$A$30 -> 2. | B72: 42 | C72: Mikrokanile ROSEN tipa, Liekta 135± 3 grādu leņķī, Kaniles diametrs 1,0± 0,1mm, darba garums 85± 1mm. Atsauces ref. INTEGRA MicroFrance MCO3P10
... A87: =$A$30 -> 2. | B87: 57 | C87: Nazis JORDAN tipa stapedektomijai, Darba daļa 45°± 3° leņķī, Darba daļas izmēri 3,0*2,0± 0,1mm, Instrumenta garums 165± 3mm, Atsauces ref. INTEGRA MicroFrance 3724293

Sheet 3
A1: 2. pielikums Nolikumam “BAHA implantu operācijām nepieciešamo ķirurģisko instrumentu piegāde”, identifikācijas Nr. PSKUS 2026/106
A2: Tehniskā specifikācija/Tehniskais-finanšu piedāvājums
A3: =Saturs!A2 -> BAHA implantu operācijām nepieciešamo ķirurģisko instrumentu piegāde
A4: (identifikācijas Nr. PSKUS 2026/106)
A5: =CONCATENATE("",A30,"pozīcija ",C30," ") -> 3.pozīcija Papildinstrumenti kohleāro implantu ievietošanai
C6: Tehniskās specifikācijas aktualizācijas datums 23.07.2026.
A7: Vispārīgās prasības: | G7: Atbilstība:
A8: 1 | C8: Finanšu piedāvājumā Pretendentam jāietver visi izdevumi un izmaksas, kas saistītas ar Preces piegādi, transportu un Preces nodošanu ekspluatācijā;
A9: 2 | C9: Piegāde 12 nedēļu laikā no pasūtījuma brīža;
A10: 3 | C10: Visiem instrumentiem ir jābūt izgatavotiem no nerūsējošā tērauda ar nepieciešamajiem piejaukumiem atbilstoši ISO 7153-1 vai analoga standarta prasībām, ja nav norādīts citādāk;
A11: 4 | C11: Uz katra instrumenta jābūt iegravētam ražotāja logo un artikula numuram, pēc kura to var atrast ražotājfirmas katalogā;
A12: 5 | C12: Uz katra instrumenta jābūt iegravētam datu matricas (Data Matrix) 2D kodam, kas satur ražotāja sniegto informāciju par instrumentu - unikālo iekārtu indentifikācijas kodu (UDI), ko iespējams validēt ar struktūrvienībā esošo skeneri; Kods tiek iegravēts ražotājrūpnīcā, ir noturīgs pret nodilumu un nekaitē instrumenta funkcionalitātei.
A13: 6 | C13: Piedāvātajām precēm garantijas termiņš ir ___ (______________) mēneši no pavadzīmes-rēķina abpusējas parakstīšanas brīža, bet ne mazāk kā 24 mēneši
A14: 7 | C14: * Pretendenta tehniskajā piedāvājumā norāda Preces ražotāju un modeli atbilstošos parametrus;
A15: 8 | C15: ** Parametru atbilstību pamatot ar norādi uz pavadošo dokumentu (informatīvie materiāli) , kas ļauj pārliecināties par piegādājamās Preces atbilstību tehniskajai specifikācijai. Informatīvajos materiālos pretendents atzīmē uz kuru iepirkuma tehniskās specifikācijas pozīciju pievienotā informācija attiecināma;
A16: 9 | C16: ***Piedāvājumam jāpievieno piedāvātas Preces EK atbilstības deklarācijas kopija atbilstoši regulas 2017/745 prasībām un CE sertifikāta kopija (ja ražotājs noteicis ierīču klasi: I klases sterilas ierīces un I klases ierīces ar mērīšanas funkciju, IIa, IIb vai III klases ierīces), norādot attiecīgajā ailē medicīnas ierīces klasi saskaņā ar EK atbilstības deklarācijas datiem;
A17: 10 | C17: ****Paredzamais daudzums (2 gadiem) tiek izmantots Pretendentu finanšu piedāvājumu objektīvai vērtēšanai. Līgumi tiek slēgti par vienas vienības cenu, nosakot visa iepirkuma kopējo apjomu naudas izteiksmē un nenosakot katras pozīcijas apjomu. Pasūtītājam ir tiesības neiegādāties visu tehniskajā specifikācijā uzrādīto Preču daudzumu vai iegādāties lielāku Preču apjomu par norādīto;
A18: 11 | C18: Pretendentam jāiesniedz ražotāja apliecinājums, kas apstiprina, ka metāla sakausējums no kā tiek ražoti ķirurģiskie instrumenti ir paredzēts lietošanai medicīnā, ir atkārtoti dezinficējams un sterilizējams;
A19: 12 | C19: Pretendentam jāiesniedz ķirurģisko instrumentu ražotāja apliecinājums par pretendenta iespējām nodrošināt ķirurģisko instrumentu remontu;
... A28: 21 | C28: Visām piedāvātām grieznēm asmeņi savienoti ar skrūvēm, atkārtoti asināmi, nedrīkst būt kniedēti
A30: 3. | C30: Papildinstrumenti kohleāro implantu ievietošanai
C31: Apakšpozīcijas: | D31: Preces modelis, ref kods, ražotājs*: | E31: Medicīnas ierīces klase***: | F31: Paredzamais daudzums (gab.)****: | G31: 1 vienības cena bez PVN, EUR:
A32: =$A$30 -> 3. | B32: 1 | C32: Griešanas paliktnis, Izgatavots no tērauda vai PPSU, Paliktņa izmēri (garums*platums*dziļums) 85± 2mm * 55± 2mm * 10±1mm, autoklavējams temperatūrā vismaz 134 grādu C | F32: 10 | G32: 0
A33: =$A$30 -> 3. | B33: 2 | C33: Nazis mikro timpanoplastijai HOUSE tipa, Darba daļa liekta, Darba daļas garums 6,0± 0,1mm x 1,5± 0,1mm; Instrumenta garums 160± 3mm, apaļš rokturis | F33: 3 | G33: 0
A34: =$A$30 -> 3. | B34: 3 | C34: Nazis mikro inkudostapediālai locītavai HOUSE tipa, forma apaļa, Darba daļa 30± 3° leņķī, Darba daļas diametrs 1,0± 0,1mm, Instrumenta garums 150± 3mm | F34: 3 | G34: 0
A35: =$A$30 -> 3. | B35: 4 | C35: Kirete SPRATT tipa, mastoidāla, Darba virsmas izmērs: 2.5±0,1 x 4,0±0,1 mm, kopējais garums 180± 3mm | F35: 2 | G35: 0
A36: =$A$30 -> 3. | B36: 5 | C36: Kirete SPRATT tipa, mastoidāla, Darba virsmas izmērs: 3,0±0,1 x 4,3±0,1 mm, kopējais garums 180± 3mm | F36: 2 | G36: 0
F37: =CONCATENATE("Kopējā cena par ",A30," pozīciju bez PVN, EUR:") -> Kopējā cena par 3. pozīciju bez PVN, EUR: | G37: =SUMPRODUCT(G32:G36*F32:F36) -> 0
C38: Prasības: | D38: Pretendenta piedāvātie parametri* | F38: Atsauce uz informatīvo materiālu**
A39: =$A$30 -> 3. | B39: 6 | C39: Griešanas paliktnis, Izgatavots no tērauda vai PPSU, Paliktņa izmēri (garums*platums*dziļums) 85± 2mm * 55± 2mm * 10±1mm, autoklavējams temperatūrā vismaz 134 grādu C
A40: =$A$30 -> 3. | B40: 7 | C40: Nazis mikro timpanoplastijai HOUSE tipa, Darba daļa liekta, Darba daļas garums 6,0± 0,1mm x 1,5± 0,1mm; Instrumenta garums 160± 3mm, apaļš rokturis
A41: =$A$30 -> 3. | B41: 8 | C41: Nazis mikro inkudostapediālai locītavai HOUSE tipa, forma apaļa, Darba daļa 30± 3° leņķī, Darba daļas diametrs 1,0± 0,1mm, Instrumenta garums 150± 3mm
A42: =$A$30 -> 3. | B42: 9 | C42: Kirete SPRATT tipa, mastoidāla, Darba virsmas izmērs: 2.5±0,1 x 4,0±0,1 mm, kopējais garums 180± 3mm
A43: =$A$30 -> 3. | B43: 10 | C43: Kirete SPRATT tipa, mastoidāla, Darba virsmas izmērs: 3,0±0,1 x 5,0±0,1 mm, kopējais garums 180± 3mm

Sheet 4
A1: 2. pielikums Nolikumam “BAHA implantu operācijām nepieciešamo ķirurģisko instrumentu piegāde”, identifikācijas Nr. PSKUS 2026/106
A2: Tehniskā specifikācija/Tehniskais-finanšu piedāvājums
A3: =Saturs!A2 -> BAHA implantu operācijām nepieciešamo ķirurģisko instrumentu piegāde
A4: (identifikācijas Nr. PSKUS 2026/106)
A5: =CONCATENATE("",A21,"pozīcija ",C21," ") -> 4.pozīcija Spēka instrumentu konsole ar irigācijas sistēmu kohlearo implantu ievietošanai
C6: Tehniskās specifikācijas aktualizācijas datums 24.08.2026.
A7: Vispārīgās prasības: | G7: Atbilstība:
A8: 1 | C8: Finanšu piedāvājumā pretendentam jāietver visi izdevumi un izmaksas, kas saistītas ar Preces piegādi, transportu, iekārtu nodošanu ekspluatācijā un lietotāju apmācību;
A9: 2 | C9: Piegāde 12 nedēļu laikā no pasūtījuma brīža;
A10: 3 | C10: Piedāvātajām precēm garantijas termiņš ir ___ (______________) mēneši no pieņemšanas - nodošanas akta abpusējas parakstīšanas brīža, bet ne mazāk kā 24 mēneši
A11: 4 | C11: * Pretendenta tehniskajā piedāvājumā norāda Preces ražotāju un modeli atbilstošos parametrus;
A12: 5 | C12: ** Parametru atbilstību pamatot ar norādi uz pavadošo dokumentu (informatīvie materiāli) , kas ļauj pārliecināties par piegādājamās Preces atbilstību tehniskajai specifikācijai. Informatīvajos materiālos pretendents atzīmē uz kuru iepirkuma tehniskās specifikācijas pozīciju pievienotā informācija attiecināma;
A13: 6 | C13: ***Piedāvājumam jāpievieno piedāvātas Preces EK atbilstības deklarācijas kopija atbilstoši regulas 2017/745 prasībām un CE sertifikāta kopija (ja ražotājs noteicis ierīču klasi: I klases sterilas ierīces un I klases ierīces ar mērīšanas funkciju, IIa, IIb vai III klases ierīces), norādot attiecīgajā ailē medicīnas ierīces klasi saskaņā ar EK atbilstības deklarācijas datiem;
A14: 7 | C14: ****Paredzamais daudzums (2 gadiem) tiek izmantots Pretendentu finanšu piedāvājumu objektīvai vērtēšanai. Līgumi tiek slēgti par vienas vienības cenu, nosakot visa iepirkuma kopējo apjomu naudas izteiksmē un nenosakot katras pozīcijas apjomu. Pasūtītājam ir tiesības neiegādāties visu tehniskajā specifikācijā uzrādīto Preču daudzumu vai iegādāties lielāku Preču apjomu par norādīto;
A15: 8 | C15: Visas piedāvātās Preces ir jaunas (ražotas ne vēlāk kā 12 mēnešu laikā no pasūtījuma brīža), iepriekš nelietotas un nesatur iepriekš lietotas vai atjaunotas sastāvdaļas vai komponentes, uzglabātas un transportētas atbilstoši ražotāja noteiktajām prasībām un instrukcijām par Preces uzglabāšanu un transportēšanu;
A16: 9 | C16: Piedāvājumam jāpievieno Preces ražotāja izsniegta autorizācijas vēstule, kas apliecina, ka pretendents ir tiesīgs Preci izplatīt un nodrošināt tās servisu Eiropas Savienībā, tajā skaitā Latvijas Republikā. Ja iesniegti ražotāja autorizēta pārstāvja izsniegti apliecinoši dokumenti, tad tie ir jāpapildina ar ražotāja izdotu dokumentu, kas apliecina šī autorizētā pārstāvja tiesības nodot pilnvarojumu trešajām pusēm ražotāja produkta izplatīšanai;
A17: 10 | C17: Pēc Pasūtītāja pieprasījuma Pretendentam jānodrošina Preces paraugs (paraugu izvērtēšanas kārtību skatīt nolikumā);
A18: 11 | C18: Ņemot vērā, ka neparedzamu apstākļu dēļ, Līguma 1..pielikumā norādīto preču klāsts var mainīties 10% apmērā no Vienošanās kopējās summas, tehniskajā un finanšu piedāvājumā neiekļauto preču cenas tiek atsevišķi saskaņotas ar Pasūtītāju, nepārsniedzot vidējās tirgus cenas Latvijā un nemainot Vienošanās kopējo summu;
A19: 12 | C19: Pusēm vienojoties Vienošanās darbības termiņš var tikt pagarināts saskaņā ar Publisko iepirkumu likumā noteikto.
A21: 4. | C21: Spēka instrumentu konsole ar irigācijas sistēmu kohlearo implantu ievietošanai
C22: Apakšpozīcijas: | D22: Preces modelis, ref kods, ražotājs*: | E22: Medicīnas ierīces klase***: | F22: Paredzamais daudzums (gab.)****: | G22: 1 vienības cena bez PVN, EUR:
A23: =$A$21 -> 4. | B23: 1 | C23: Spēka sistēma ar pedāli un irigācijas sistēmas statīvu (komplekts) | F23: 1 | G23: 0
A24: =$A$21 -> 4. | B24: 2 | C24: Irigācijas sistēma, vienreizlietojama (cena par gab.) | F24: 12 | G24: 0
A25: =$A$21 -> 4. | B25: 3 | C25: Elektromotors | F25: 1 | G25: 0
A26: =$A$21 -> 4. | B26: 4 | C26: Uzgalis implantācijai | F26: 1 | G26: 0
A27: =$A$21 -> 4. | B27: 5 | C27: Kasete/siets instrumentu sterilizācijai | F27: 1 | G27: 0
F28: =CONCATENATE("Kopējā cena par ",A21," pozīciju bez PVN, EUR (A kritērijs):") -> Kopējā cena par 4. pozīciju bez PVN, EUR (A kritērijs): | G28: =SUMPRODUCT(F23:F27*G23:G27) -> 0
F29: Elektroenerģijas patēriņs (VA), darbība pie maksimālās izejas jaudas (B kritērijs):
C30: Prasības: | D30: Pretendenta piedāvātie parametri* | F30: Atsauce uz informatīvo materiālu**
A31: =$A$21 -> 4. | B31: 6 | C31: Veicamās funkcijas:
A32: =$A$21 -> 4. | B32: 6.1 | C32: Spēka sistēma paredzēta ENT un sejas žokļu ķirurģijas operācijām
A33: =$A$21 -> 4. | B33: 7 | C33: Tehniskās prasības:
A34: =$A$21 -> 4. | B34: 7.1 | C34: Ieejas spriegums 100-240 V ± 10%, Frekvence 50/60 Hz
A35: =$A$21 -> 4. | B35: 7.2 | C35: Mikromotora apgriezienu diapazons ne šaurāk kā no 200 līdz 40 000 min-1
A36: =$A$21 -> 4. | B36: 7.3 | C36: Maksimālais griešanas momentrs mikromotoram ne mazāk kā 4,2 Ncm
A37: =$A$21 -> 4. | B37: 7.4 | C37: Dzesētāja plūsmas ātrums ne mazāk kā 50 ml/min
A38: =$A$21 -> 4. | B38: 7.5 | C38: Darba uzgaļi izjaucami, aprīkoti ar dzesēšanas sprauslu, sterilizējami
A39: =$A$21 -> 4. | B39: 8 | C39: Komplektācijā pie konsoles:
A40: =$A$21 -> 4. | B40: 8.1 | C40: Ar kāju darbināms pedālis
A41: =$A$21 -> 4. | B41: 8.2 | C41: Irigācijas sistēmas statīvs
A42: =$A$21 -> 4. | B42: 9 | C42: Atsauces nr. W&H Amadeo vai ekvivalents
A44: Pretendentu piedāvājumu vērtēšanas kritēriji
A45: Daļa | B45: Kritēriji | D45: Punktu kopsavilkums
A46: A | B46: Iekārtas cena | D46: 95
A47: B | B47: Elektroenerģijas patēriņs (VA) | D47: 5
A48: ∑ | B48: Maksimālais iespējamais kopējais punktu skaits | D48: =SUM(D46:E47) -> 100
C50: ∑= A+B
A52: Iekārtas cena (A)
C53: (A) piedāvājums ar viszemāko piedāvāto cenu (EUR) bez PVN tiek vērtēts ar maksimāli iespējamo punktu skaitu – 95 punkti. Pārējiem piedāvājumiem piešķiramie punkti tiek aprēķināti, izmantojot šādu formulu:
C54: A = Av/Afakt x 95, kur
C55: Av – viszemākā piedāvātā kopējā cena,
C56: Afakt– vērtējamā piedāvājuma kopējā cena.
C57: Nosakot punktu skaitu kritērijā A un ∑ ņem vērā 2 ciparus aiz komata
A59: Elektroenerģijas patēriņs (B)
A60: N.p.k. | B60: Elektroenerģijas patēriņš VA | D60: Piešķirtie punkti
A61: 1. | B61: no 0 līdz 200 VA | D61: 5
A62: 2. | B62: no 201 līdz 350 VA | D62: 3
A63: 3. | B63: > 350 VA | D63: 0
