Workbook
Name __xlnm.Print_Titles_10: #REF!
Name __xlnm.Print_Titles_11: #REF!
Name __xlnm.Print_Titles_4: #REF!
Name __xlnm.Print_Titles_5: #REF!
Name __xlnm.Print_Titles_6: #REF!
Name __xlnm.Print_Titles_7: #REF!
Name __xlnm.Print_Titles_8: #REF!
Name __xlnm.Print_Titles_9: #REF!
Name Excel_BuiltIn__FilterDatabase_1: #REF!
Name Excel_BuiltIn_Print_Area_1: #REF!
Name Excel_BuiltIn_Print_Titles_1: #REF!
Name gab: #REF!
Name likme: [1]KT!$E$22

Sheet Skaidrojošais apraksts
A2: Autostāvvietu elektronisko kontroles iekārtu elektroapgāde, Rīgā
A4: Būves nosaukums | C4: =A2 -> Autostāvvietu elektronisko kontroles iekārtu elektroapgāde, Rīgā
A5: Objekta adrese | C5: Grostona iela, Zirņu iela, Rūpniecības iela, Hospitāļu iela, Tomsona iela, Rīga
A6: Nr. | B6: Skaidrojošais apraksts
A7: Būvdarbu izpildes un visu apstākļu (tai skaitā apgrūtinošo) raksturojums vai atbilstoša atsauce uz tehniskajām specifikācijām
A8: 1 | B8: Būvdarbu izpildei nav paredzami īpaši apstākļi, izņemot nepieciešamību nodrošināt teritorijas uzturēšanu būvdarbu laikā (pēc Būvlaukuma nodošanas akta parakstīšanas), arī tehnoloģiskā pārtraukuma laikā, kas tiks fiksēts ar konstatācijas aktu (pēc nepieciešamības) Būvlaukuma uzturēšanas izmaksas jāiekļauj pozīciju cenās.
A9: 2 | B9: Darbu daudzumu sarakstā minētos darbus veikt atbilstoši būvprojektam un Autoceļu būvdarbu specifikācijām ABS 2023/2.
A10: 3 | B10: Būvdarbu veicējam jāvērtē visi nepieciešamie darbi, materiāli, būvmašīnas un transports, bez kā nevarētu būt iespējama darba daudzumu sarakstā minēto darbu tehnoloģiski pareiza, Pasūtītāja prasībām atbilstoša izpilde pilnā apjomā.
A11: 4 | B11: Konstrukciju un materiālu kopsavilkuma būvdarbu apjomus skatīt un skaitīt kopā ar būvdarbu apjomu sarakstu, būvprojekta dokumentāciju, skaidrojošo aprakstu un grafisko daļu. Tāmju aprakstos ietvertais darbu apraksts atspoguļo min būvdarbu tehnoloģiju, konstrukciju raksturlielumus un markas. Tāmes aprēķins ir sastādāms saskaņā ar LBN 501-17 "Būvizmaksu noteikšanas kārtība" un iesniedzams elektroniskās tabulas Excel formātā ar aktīvām formulām. Tāmes pozīcijās, ja nav atsevišķi uzrādīts, jāparedz arī materiālu iebūves un montāžas izmaksas.
A12: 5 | B12: Darbu izmaksās jāiekļauj visi ar darba izpildi nepieciešamie izdevumi: tehniskajās specifikācijās “Autoceļu būvdarbu specifikācijas ABS 2023/2” 2. nodaļā minēto vispārējo prasību izpildei nepieciešamie izdevumi, izdevumi normatīvajos aktos un būvdarbu līgumā norādīto būvtāfeļu un informatīvo plakātu izgatavošanai, uzstādīšanai un demontāžai, izdevumi, ierīkojot un uzturot apbraucamos ceļus būvdarbu laikā atbilstoši satiksmes organizācijai, kas saskaņota ar VAS “Latvijas Valsts ceļi”, apbraucamo ceļu ar nesaistītu segumu planēšanas un atputekļošanas (laistīšanas) izdevumi, izdevumi visu skarto un bojāto segumu atjaunošanai pēc būvdarbu pabeigšanas. Darba izpildes gaitā Pasūtītāja pārstāvis nosaka, kuri no atgūtajiem materiāliem ir saglabājami un rakstiski informē par to Izpildītāju (darbu veicēju). Pēc Pasūtītāja pārstāvja pieprasījuma saglabājamos materiālus Izpildītājs (darbu veicējs) nogādā uz norādīto vietu. Ja Pasūtītāja pārstāvis nepieprasa materiālus, Izpildītājs tos nogādā uz savu atbērtni vai uz utilizāciju, par ko izmaksas sedz Izpildītājs.
A13: 6 | B13: Ja atsevišķus darbu posmus būs nepieciešams veikt ārpus darba laika vai nakts laikā, tas iepriekš jāsaskaņo ar Pasūtītāju.
A14: 7 | B14: Būvdarbi veicami un būvizstrādājumi pielietojami saskaņā ar ražotāju tehnoloģijām, tehnisko specifikāciju un būvprojektu.
A15: 8 | B15: Virsizdevumos iekļaujamas arī visas izmaksas, kas saistītas ar atļauju saņemšanu, būvlaukumu iekārtošanu, sagatavošanas darbiem, būvdarbu zonas nodalīšanu, būvdarbu zonas pretputekļu aizsardzību, būvtāfeles izgatavošanu un uzstādīšanu, iekārtu nosegšanu, teritorijas sakārtošanu būvdarbu izpildes laikā un pirms objekta nodošanas, kas ir vajadzīgi darbu veiksmīgai realizācijai (ģenerālā tīrīšana), izpilddokumentācijas izstrādi, kas ir vajadzīga Darbu veiksmīgai realizācijai, bet nav iekļauta tieši tāmju apjomos, kā arī visas pārējas izmaksas, kas ir iekļautas iepirkuma nolikumā.
A16: 9 | B16: Tāmē dotās atsauces uz konkrētu ražotāju izstrādātiem būvmateriāliem ir kā kvalitātes standarts. Būvorganizācija un pasūtītājs būvniecības laikā drīkst izmantot citu ražotāju izstrādājumus, kuru tehniskie un kvalitātes rādītāji ir ekvivalenti vai augstāki nekā būvprojektā norādītam būvmateriālam, tad šīs pozīcijas ir norādāmas sadaļā "Ekvivalents", kur šo būvizstrādājumu uzstādīšanu un pieslēgšanu / palaišanu jāiekļauj vienības cenā, ja nav šim darbam izdalīta atsevišķa tāmes sadaļa.
A17: 10 | B17: Palīgmateriālu, stiprinājumu un citu palīglietu, kā arī izpilddokumentācijas izstrādes izmaksas norādāmas katra attiecīgā darba pozīcijā.
A18: 11 | B18: Būvdarbu veicējam jāvērtē visi nepieciešamie darbi, materiāli, būvmašīnas un transports, bez kā nevarētu būt iespējama darba daudzumu sarakstā minēto darbu tehnoloģiski pareiza, Pasūtītāja prasībām atbilstoša izpilde pilnā apjomā. Darba apjomus skatīt kopā ar plānu, profiliem, tehniskajiem risinājumiem un pielikumiem. Izstrādājot piedāvājumu, būvdarbu veicējam rūpīgi pārskatīt projektu, un apjomos jāiekļauj arī neuzrādītie darbi un materiāli, lai kvalitatīvi veiktu būvniecību atbilstoši konkrētā būvdarbu veicēja pielietotajai tehnoloģijai, un bez kuriem nebūtu iespējama būvdarbu tehnoloģiski pareiza un spēkā esošajiem normatīviem atbilstoša veikšana pilnā apjomā. Materiālu komplektāciju veikt atbilstoši izstrādātājam projektam, ražotājfirmu un LR normatīvo aktu nosacījumiem, jāņem vērā, ka materiālu daudzums ir dots, neievērtējot atgriezumus vai materiāla pārlaidumus.
A19: 12 | B19: Pirms un pēc veicamo darbu pabeigšanas veikt fotofiksāciju un uzrādīt (pēc nepieciešamības) Pasūtītāja pilnvarotajiem pārstāvim.
... A21: 14 | B21: Izstrādājot piedāvājumu, Būvdarbu veicējam rūpīgi jāpārskata būvprojekts un apjomos jāiekļauj arī neuzrādītie darbi un materiāli (jārēķinās, ka materiālu apjomi doti nesablīvētā veidā), lai kvalitatīvi veiktu būvniecību atbilstoši konkrētā Būvdarbu veicēja pielietotajai tehnoloģijai, un bez kuriem nebūtu iespējama būvdarbu tehnoloģiski pareiza un spēkā esošajiem normatīviem atbilstoša veikšana pilnā apjomā. Darbu izmaksās jāiekļauj visi ar darba izpildi nepieciešamie izdevumi: tehniskajās specifikācijās prasību izpildei nepieciešamie izdevumi, izdevumi normatīvajos aktos un būvdarbu līgumā norādīto būvtāfeļu un informatīvo plakātu izgatavošanai, uzstādīšanai un demontāžai, izdevumi, ierīkojot pagaidu stiprinājumus (rievsienas) būvdarbu laikā atbilstoši nepieciešamībai, izdevumi visu skarto un bojāto segumu atjaunošanai pēc būvdarbu pabeigšanas, ūdens pieslēgums, pagaidu elektrības pieslēgums un pagaidu instalācija, ieskaitot būvlaukuma apgaismojumu u.t.t., pamatojoties uz DOP projekta daļas risinājumiem, tehnisko specifikāciju un Būvdarbu veicēja piedāvātajiem tehniskajiem risinājumiem..
A22: Būvdarbu organizācijas īss apraksts
A23: 15 | B23: Būvdarbu izpilde nav paredzēta kārtās, prognozējamais būvdarbiem nepieciešamais laiks: darbu veikšanai - 6 (sešas) nedēļas, dokumentācijas noformēšanai un nodošanai ekspluatācijā - 4 (četras) nedēļas.
A24: 16 | B24: Būvdarbu laikā nodrošināt gājēju un transporta līdzekļu drošu pārvietošanos gar būvdarbu zonu.
A25: 17 | B25: Būvdarbu darbietilpību atspoguļot lokālajā tāmē.
A26: 18 | B26: Visu pozīciju vienības cenās ievērtēt gan darbu, gan būvizstrādājumu apjomu izmaksas un rezervi ietverot materiālu piegādi un izkraušanu objektā, tai skaitā nogādāšanu līdz tiešai darbu izpildes vietai.
A27: 19 | B27: Būvgružu savākšanas un utilizācijas izmaksas, kā arī materiālu pārvietošanas (pacelšana uz konkrēto stāvu vai jumtu) iekļaujamas katra attiecīgā darba mehānismu izmaksās (piemēram, demontāžas darbi, konteinera izvešana, jumta seguma montāža), ja tāmē nav paredzētas attiecīgas pozīcijas. Būvlaukuma uzturēšanas izmaksas; 'Ikmēneša maksājumi par elektroapgādi, apsardzi, vidoenovērošanu, komunikācijām, apkuri, ūdensapgādi - atbilstoši Līguma nosacījumiem, kā arī visi izdevumi, kas saistīti būvlaukuma uzturēšanu, uzkopšanu, tīrīšanu (arī no sniega), mehānismu nomas maksas, apkalpošana, atkritumu izvešana, EDLUS sistēmas uzturēšana, BIS uzturēšanas nodrošināšana. Būvlaukuma teritorijas sagatavošana (koku, krūmu zāģēšana, celmu izrakšana, esošo konstrukciju un segumu demontāža, pagaidu ceļu izbūve, piekļuves kontrole, ceļazīmes u.t.t.), iekārtošana un aprīkojuma (pagaidu ēkas un būves, aprīkojums, mehānismi, nožogojums, informācijas zīmes, pagaidu starpsienas, norobežojumi, nosegšanas darbi u.t.t.) piegāde, uzglabāšana transportēšana, uzstādīšana, izbūve, demontāža, pamatojoties uz DOP projekta daļas risinājumiem, tehnisko specifikāciju un Būvdarbu veicēja piedāvātajiem tehniskajiem risinājumiem. Darbos jāparedz arī visu saistīto inženiersistēmu un pagaidu inženiersistēmu pieslēgumi, pārcelšanas, regulēšanas, demontāžas darbi.)
A28: 20 | B28: DOP daļas izmaksas ievērtēt attiecīgo būvdarbu cenās.
A29: Izpilddokumentācija
A30: 21 | B30: Ja kādiem tāmē norādītiem darbiem nav paredzēti sagatavošanas darbi, būvlaukuma iekārtošana, pagaidu būvju uzstādīšana/izbūve, būvzonas nosegšana/izbūve vai grīdas nosegšana, satiksmes organizēšana (Būvtāfele, Zīme "Bīstama zona", Ceļazīme būvdarba laikā, pārvietojami strādnieku vagoniņš, būvžogs / norobežojums ar vārtiem, prožektori, atkritumu konteiners, BIO tualete, atļauju saņemšana un noslēgšana u.tml.), izpilddokumentācijas sagatavošana, tad visas papildu izmaksas ir iekļaujamas virsizdevumos. Izpilddokumentācija - montāžas un segto darbu akti, būvizstrādājumu deklarācijas, būvizstrādājumu tehniskā informācija/dokumentācija, būvizstrādājumu apstiprināšanas formas, sistēmu pārbaudes un pieņemšanas akti, būvdarbu izpildshēmas (dwg un pdf formātā), apstiprināti atzinumi saskaņā ar MK noteikumu Nr.238 6. un 7.pielikumu, iekārtu ekspluatācijas dokumentācija, izmaksas par apmācību objekta iekārtu lietošanā, būvizstrādājumu un iekārtu testēšanu, iestatījumu uzstādīšana, salāgošana u.c. dokumentācija atbilstoši normatīvo aktu prasībām.
A31: 22 | B31: Virsizdevumos iekļaujamas arī visas izmaksas, kas attiecas uz dokumentācijas sagatavošanu, iesniegšanu un atļauju/saskaņojumu/atzinumu saņemšanu darbu procesa uzsākšanai, nodrošināšanai un nodošanai ekspluatācijā, t.sk.: - atzīmes par būvdarbu uzsākšanas nosacījumu izpildi saņemšana, iesnieguma iesniegšana būvvaldē, - rakšanas atļauju saņemšana, - izpilduzmērījumu plānu sagatavošana un reģistrēšana, - atzinumu par ēkas vai tās daļas gatavību ekspluatācijai saņemšana; - objekta nodošana ekspluatācijā, - zemēšanas kontūra pretestības mērīšana, - izpildshēmas, - sistēmu palaišanas un regulēšanas darbi, testēšana, lietošanas instrukcijas, Pasūtītāja darbinieku apmacība; - citi dokumenti un darbības, ka nepieciešamas sekmīgai procesu un būvdarbu noslēgšanai.

Sheet Būvniecības koptāme
C1: APSTIPRINU
C3: ______________________________________
C4: (pasūtītāja paraksts un tā atšifrējums)
C5: Z.v.
C6: ______.gada______._______________
A8: Būvniecības koptāme
A10: Objekta nosaukums: Autostāvvietu elektronisko kontroles iekārtu elektroapgāde, Rīgā
A11: Būves nosaukums: Autostāvvietu elektronisko kontroles iekārtu elektroapgāde, Rīgā
A12: Objekta adrese: Grostona iela, Zirņu iela, Rūpniecības iela, Hospitāļu iela, Tomsona iela, Rīga
A13: Pasūtītājs: RP SIA "Rīgas satiksme"
A14: Pasūtījuma Nr.:
A15: Pretendents:
B16: Tāme sastādīta:
A18: Nr.p.k. | B18: Objekta nosaukums | C18: Objekta izmaksas (EUR)
A20: 1 | B20: 2 | C20: 3
A21: 1 | B21: Autostāvvietu elektronisko kontroles iekārtu elektroapgāde, Rīgā | C21: =Kopsavilkums!E29 -> 0
A22: Kopā (bez PVN): | C22: =SUM(C21:C21) -> 0
A24: PVN (21%): | C24: =ROUND(C22*21%,2) -> 0
A26: PAVISAM KOPĀ (ar PVN 21%): | C26: =ROUND(C21+C24,2) -> 0
A28: * Skaidrojošais apraksts, t.i. visparīgas piezīmes, piezīmes par būvdarbu izpildes raksturojumu, par būvdarbu organizācijas aprakstu, par izpilddokumentāciju ir būvniecības tāmju neatņemama sastāvdaļa.
A30: Sastādīja:
B31: (paraksts un tā atšifrējums, datums)
A33: Pārbaudīja:
B34: (paraksts un tā atšifrējums, datums)
A36: Sertifikāta Nr.

Sheet Kopsavilkums
A1: Kopsavilkuma aprēķins
A2: Autostāvvietu elektronisko kontroles iekārtu elektroapgāde
A3: (būvdarbu veids vai konstruktīvā elementa nosaukums)
A5: ='Būvniecības koptāme'!A10 -> Objekta nosaukums: Autostāvvietu elektronisko kontroles iekārtu elektroapgāde, Rīgā
A6: ='Būvniecības koptāme'!A11 -> Būves nosaukums: Autostāvvietu elektronisko kontroles iekārtu elektroapgāde, Rīgā
A7: ='Būvniecības koptāme'!A12 -> Objekta adrese: Grostona iela, Zirņu iela, Rūpniecības iela, Hospitāļu iela, Tomsona iela, Rīga
A8: ='Būvniecības koptāme'!A13 -> Pasūtītājs: RP SIA "Rīgas satiksme"
A9: ='Būvniecības koptāme'!A14 -> Pasūtījuma Nr.:
A10: ='Būvniecības koptāme'!A15 -> Pretendents: | C10: ='Būvniecības koptāme'!B15 -> 0
H11: Par kopējo summu, EUR | I11: =E29 -> 0
H12: Kopējā darbietilpība, c/h | I12: =I25 -> 0
H14: Tāme sastādīta: | I14: ='Būvniecības koptāme'!C16 -> 0
A16: Nr.p.k. | B16: Kods, tāmes Nr. | C16: Būvdarbu veids vai konstruktīvā elementa nosaukums | E16: Tāmes izmaksas | F16: Tai skaitā | I16: Darbietilpība (c/h)
F17: darba alga | G17: būvizstrādājumi | H17: mehānismi
A18: 1 | B18: 2 | C18: 3 | E18: 4 | F18: 5 | G18: 6 | H18: 7 | I18: 8
A19: 1 | B19: 1-1 | C19: Autostāvvietu elektronisko kontroles iekārtas (turpmāk – EKI) uzstādīšana un elektroapgādes pievada izbūve Grostonas ielā, BIS-BL-911826-124505 | E19: ='1-1'!P31 -> 0 | F19: ='1-1'!M31 -> 0 | G19: ='1-1'!N31 -> 0 | H19: ='1-1'!O31 -> 0 | I19: ='1-1'!L31 -> 0
A20: 2 | B20: 1-2 | C20: Autostāvvietu elektronisko kontroles iekārtas (turpmāk – EKI) uzstādīšana un elektroapgādes pievada izbūve Zirņu ielā, BIS-BL-911832-123128 | E20: ='1-2'!P29 -> 0 | F20: ='1-2'!M29 -> 0 | G20: ='1-2'!N29 -> 0 | H20: ='1-2'!O29 -> 0 | I20: ='1-2'!L29 -> 0
A21: 3 | B21: 1-3 | C21: Autostāvvietu elektronisko kontroles iekārtu (turpmāk – EKI) uzstādīšanai un elektroapgādes tīkla izbūvei Rūpniecības iela, BIS-BL-911828-124102 | E21: ='1-3'!P32 -> 0 | F21: ='1-3'!M32 -> 0 | G21: ='1-3'!N32 -> 0 | H21: ='1-3'!O32 -> 0 | I21: ='1-3'!L32 -> 0
A22: 4 | B22: 1-4 | C22: Autostāvvietu elektronisko kontroles iekārtu (turpmāk – EKI) uzstādīšanai un elektroapgādes tīkla izbūvei Hospitāļu ielā, BIS-BL-911827-123483 | E22: ='1-4'!P32 -> 0 | F22: ='1-4'!M32 -> 0 | G22: ='1-4'!N32 -> 0 | H22: ='1-4'!O32 -> 0 | I22: ='1-4'!L32 -> 0
A23: 5 | B23: 1-5 | C23: Autostāvvietu elektronisko kontroles iekārtas (turpmāk – EKI) uzstādīšana un elektroapgādes pievada izbūve Tomsona ielā 18, BIS-BL-911829-123672 | E23: ='1-5'!P29 -> 0 | F23: ='1-5'!M29 -> 0 | G23: ='1-5'!N29 -> 0 | H23: ='1-5'!O29 -> 0 | I23: ='1-5'!L29 -> 0
A24: 6 | B24: 1-6 | C24: Autostāvvietu elektronisko kontroles iekārtas (turpmāk – EKI) uzstādīšana un elektroapgādes pievada izbūve Tomsona ielā 40, BIS-BL-911830-124153 | E24: ='1-6'!P30 -> 0 | F24: ='1-6'!M30 -> 0 | G24: ='1-6'!N30 -> 0 | H24: ='1-6'!O30 -> 0 | I24: ='1-6'!L30 -> 0
C25: Tiešās izmaksas kopā: | E25: =SUM(E19:E24) -> 0 | F25: =SUM(F19:F24) -> 0 | G25: =SUM(G19:G24) -> 0 | H25: =SUM(H19:H24) -> 0 | I25: =SUM(I19:I24) -> 0
A26: Virsizdevumi (t.sk. izdevumi sasakaņā ar "Skaidrojošo aprakstu") | E26: =ROUND(E25*D26,2) -> 0
C27: t.sk. darba aizsardzība | E27: =ROUND(E26*D27,2) -> 0
C28: Peļņa | E28: =ROUND(E25*D28,2) -> 0
C29: Pavisam kopā: | E29: =E28+E26+E25 -> 0
B30: Piezīmes:
A31: * Skaidrojošais apraksts, t.i. visparīgas piezīmes, piezīmes par būvdarbu izpildes raksturojumu, par būvdarbu organizācijas aprakstu, par izpilddokumentāciju ir būvniecības tāmju neatņemama sastāvdaļa.
A33: Sastādīja:
C34: (paraksts un tā atšifrējums, datums)
A36: Pārbaudīja:
C37: (paraksts un tā atšifrējums, datums)
A38: Sertifikāta Nr.

Sheet 1-1
A1: Lokālā tāme Nr.1-1 | I1: #REF!
A2: Autostāvvietu elektronisko kontroles iekārtas (turpmāk – EKI) uzstādīšana un elektroapgādes pievada izbūve Grostonas ielā, BIS-BL-911826-124505
A3: (būvdarbu veids vai konstruktīvā elementa nosaukums)
A5: ='Būvniecības koptāme'!A10 -> Objekta nosaukums: Autostāvvietu elektronisko kontroles iekārtu elektroapgāde, Rīgā
A6: ='Būvniecības koptāme'!A11 -> Būves nosaukums: Autostāvvietu elektronisko kontroles iekārtu elektroapgāde, Rīgā
A7: Objekta adrese: Grostonas ielā, Rīga
A8: ='Būvniecības koptāme'!A13 -> Pasūtītājs: RP SIA "Rīgas satiksme"
A9: ='Būvniecības koptāme'!A14 -> Pasūtījuma Nr.:
A10: ='Būvniecības koptāme'!A15 -> Pretendents: | C10: =Kopsavilkums!C10 -> 0
O11: Tāmes izmaksas EUR: | P11: =P31 -> 0
A12: Tāme sastādīta 2026. gada tirgus cenās pamatojoties uz ELT daļas rasējumiem | O12: Tāme sastādīta: | P12: =Kopsavilkums!I14 -> 0
A14: Nr.p.k. | B14: Kods | C14: Būvdarbu nosaukums | D14: Mērvienība | E14: Daudzums | F14: Vienības izmaksas | L14: Kopā uz visu apjomu
F15: Laika norma (c/h) | G15: Darba samaksas likme (Eur/h) | H15: Darba alga | I15: Būvizstrādājumi | J15: Mehānismi | K15: Kopā | L15: Darbietilpība (c/h) | M15: Darba alga | N15: Būvizstrādājumi | O15: Mehānismi | P15: Summa
A16: 1 | B16: 2 | C16: 3 | D16: 4 | E16: 5 | F16: 6 | G16: 7 | H16: 8 | I16: 9 | J16: 10 | K16: 11 | L16: 12 | M16: 13 | N16: 14 | O16: 15 | P16: 16
C17: 0.4kV KL izbūve
A18: 1 | B18: l.c. | C18: Caurdures uzsākšanas-uztveršanas bedre | D18: gab | E18: 4 | H18: =ROUND(F18*G18,2) -> 0 | K18: =ROUND(SUM(H18:J18),2) -> 0 | L18: =ROUND(F18*E18,2) -> 0 | M18: =ROUND(H18*E18,2) -> 0 | N18: =ROUND(I18*E18,2) -> 0 | O18: =ROUND(J18*E18,2) -> 0 | P18: =ROUND(SUM(M18:O18),2) -> 0
A19: 2 | B19: l.c. | C19: Tranšejas rakšana un aizbēršana viena līdz divu kabeļu (caurules) gūldīšanai 0.7m dziļumā ar rokām | D19: m | E19: 10 | H19: =ROUND(F19*G19,2) -> 0 | K19: =ROUND(SUM(H19:J19),2) -> 0 | L19: =ROUND(F19*E19,2) -> 0 | M19: =ROUND(H19*E19,2) -> 0 | N19: =ROUND(I19*E19,2) -> 0 | O19: =ROUND(J19*E19,2) -> 0 | P19: =ROUND(SUM(M19:O19),2) -> 0
A20: 3 | B20: l.c. | C20: Gofrētas kabeļu aizsargcaurules d=75mm, 450N, L=10m ieguldīšana gatavā tranšejā | D20: m | E20: 10 | H20: =ROUND(F20*G20,2) -> 0 | K20: =ROUND(SUM(H20:J20),2) -> 0 | L20: =ROUND(F20*E20,2) -> 0 | M20: =ROUND(H20*E20,2) -> 0 | N20: =ROUND(I20*E20,2) -> 0 | O20: =ROUND(J20*E20,2) -> 0 | P20: =ROUND(SUM(M20:O20),2) -> 0
A21: 4 | B21: l.c. | C21: PEHD caurules d=110mm, 1250N, L=89m horizontāla urbšana-caurvilkšana | D21: m | E21: 89 | H21: =ROUND(F21*G21,2) -> 0 | K21: =ROUND(SUM(H21:J21),2) -> 0 | L21: =ROUND(F21*E21,2) -> 0 | M21: =ROUND(H21*E21,2) -> 0 | N21: =ROUND(I21*E21,2) -> 0 | O21: =ROUND(J21*E21,2) -> 0 | P21: =ROUND(SUM(M21:O21),2) -> 0
A22: 5 | B22: l.c. | C22: Ietves bruģa seguma demontāža | D22: m2 | E22: 14.5 | H22: =ROUND(F22*G22,2) -> 0 | K22: =ROUND(SUM(H22:J22),2) -> 0 | L22: =ROUND(F22*E22,2) -> 0 | M22: =ROUND(H22*E22,2) -> 0 | N22: =ROUND(I22*E22,2) -> 0 | O22: =ROUND(J22*E22,2) -> 0 | P22: =ROUND(SUM(M22:O22),2) -> 0
A23: 6 | B23: l.c. | C23: Ietves bruģa seguma montāža | D23: m2 | E23: 29 | H23: =ROUND(F23*G23,2) -> 0 | K23: =ROUND(SUM(H23:J23),2) -> 0 | L23: =ROUND(F23*E23,2) -> 0 | M23: =ROUND(H23*E23,2) -> 0 | N23: =ROUND(I23*E23,2) -> 0 | O23: =ROUND(J23*E23,2) -> 0 | P23: =ROUND(SUM(M23:O23),2) -> 0
A24: 7 | B24: l.c. | C24: ZS trīsdzīslu kabeļa Cu 3x4, 1kV, L=111m ievēršana caurulē | D24: m | E24: 102 | H24: =ROUND(F24*G24,2) -> 0 | K24: =ROUND(SUM(H24:J24),2) -> 0 | L24: =ROUND(F24*E24,2) -> 0 | M24: =ROUND(H24*E24,2) -> 0 | N24: =ROUND(I24*E24,2) -> 0 | O24: =ROUND(J24*E24,2) -> 0 | P24: =ROUND(SUM(M24:O24),2) -> 0
A25: 8 | B25: l.c. | C25: EKI uzstādīšana un montāža (t.sk.ierīkošana un uzstādīšana uz betona pamata, pieslēgumi inženiertīkliem, zemējums. EKI iegādā un uz objektu piegādā Pasūtītājs) | D25: gab | E25: 1 | H25: =ROUND(F25*G25,2) -> 0 | K25: =ROUND(SUM(H25:J25),2) -> 0 | L25: =ROUND(F25*E25,2) -> 0 | M25: =ROUND(H25*E25,2) -> 0 | N25: =ROUND(I25*E25,2) -> 0 | O25: =ROUND(J25*E25,2) -> 0 | P25: =ROUND(SUM(M25:O25),2) -> 0
A26: 9 | B26: l.c. | C26: Drošinātāja NH-00, 10A uzstādīšana esošajā sadalnē | D26: gab | E26: 1 | H26: =ROUND(F26*G26,2) -> 0 | K26: =ROUND(SUM(H26:J26),2) -> 0 | L26: =ROUND(F26*E26,2) -> 0 | M26: =ROUND(H26*E26,2) -> 0 | N26: =ROUND(I26*E26,2) -> 0 | O26: =ROUND(J26*E26,2) -> 0 | P26: =ROUND(SUM(M26:O26),2) -> 0
A27: 10 | B27: l.c. | C27: ZS kabeļlīnijas pievienošana sadalnē/iekārtā (spaiļu komplekts 3x4mm2 kabeļa pieslēgšanai pie NH-00 drošinātāju līstes - 1 gab.) | D27: gab | E27: 2 | H27: =ROUND(F27*G27,2) -> 0 | K27: =ROUND(SUM(H27:J27),2) -> 0 | L27: =ROUND(F27*E27,2) -> 0 | M27: =ROUND(H27*E27,2) -> 0 | N27: =ROUND(I27*E27,2) -> 0 | O27: =ROUND(J27*E27,2) -> 0 | P27: =ROUND(SUM(M27:O27),2) -> 0
C28: Citi darbi | H28: =ROUND(F28*G28,2) -> 0 | K28: =ROUND(SUM(H28:J28),2) -> 0 | L28: =ROUND(F28*E28,2) -> 0 | M28: =ROUND(H28*E28,2) -> 0 | N28: =ROUND(I28*E28,2) -> 0 | O28: =ROUND(J28*E28,2) -> 0 | P28: =ROUND(SUM(M28:O28),2) -> 0
A29: 1 | B29: l.c. | C29: EPL vai sarkanās līnijas nospraušana | D29: m | E29: 102 | H29: =ROUND(F29*G29,2) -> 0 | K29: =ROUND(SUM(H29:J29),2) -> 0 | L29: =ROUND(F29*E29,2) -> 0 | M29: =ROUND(H29*E29,2) -> 0 | N29: =ROUND(I29*E29,2) -> 0 | O29: =ROUND(J29*E29,2) -> 0 | P29: =ROUND(SUM(M29:O29),2) -> 0
A30: 2 | B30: l.c. | C30: EPL digitālā uzmērīšana | D30: m | E30: =E29 -> 102 | H30: =ROUND(F30*G30,2) -> 0 | K30: =ROUND(SUM(H30:J30),2) -> 0 | L30: =ROUND(F30*E30,2) -> 0 | M30: =ROUND(H30*E30,2) -> 0 | N30: =ROUND(I30*E30,2) -> 0 | O30: =ROUND(J30*E30,2) -> 0 | P30: =ROUND(SUM(M30:O30),2) -> 0
A31: Tiešās izmaksas kopā, t.sk. darba devēja sociālais nodoklis (23.59%): | L31: =SUM(L18:L30) -> 0 | M31: =SUM(M18:M30) -> 0 | N31: =SUM(N18:N30) -> 0 | O31: =SUM(O18:O30) -> 0 | P31: =SUM(P18:P30) -> 0
B35: Sastādīja: | D35: vārds, uzvārds, datums
C36: (paraksts un tā atšifrējums, datums)
B38: Pārbaudīja: | D38: vārds, uzvārds, datums
C39: (paraksts un tā atšifrējums, datums)
B41: Sertifikāta Nr.

Sheet 1-2
A1: Lokālā tāme Nr.1-2 | I1: #REF!
A2: Autostāvvietu elektronisko kontroles iekārtas (turpmāk – EKI) uzstādīšana un elektroapgādes pievada izbūve Zirņu ielā, BIS-BL-911832-123128
A3: (būvdarbu veids vai konstruktīvā elementa nosaukums)
A5: ='1-1'!A5 -> Objekta nosaukums: Autostāvvietu elektronisko kontroles iekārtu elektroapgāde, Rīgā
A6: ='1-1'!A6 -> Būves nosaukums: Autostāvvietu elektronisko kontroles iekārtu elektroapgāde, Rīgā
A7: Objekta adrese: Zirņu ielā, Rīga
A8: ='1-1'!A8 -> Pasūtītājs: RP SIA "Rīgas satiksme"
A9: ='1-1'!A9 -> Pasūtījuma Nr.:
A10: ='1-1'!A10 -> Pretendents: | C10: ='1-1'!C10 -> 0
O11: Tāmes izmaksas EUR: | P11: =P29 -> 0
A12: Tāme sastādīta 2026. gada tirgus cenās pamatojoties uz ELT daļas rasējumiem | O12: Tāme sastādīta: | P12: =Kopsavilkums!I14 -> 0
A14: Nr.p.k. | B14: Kods | C14: Būvdarbu nosaukums | D14: Mērvienība | E14: Daudzums | F14: Vienības izmaksas | L14: Kopā uz visu apjomu
F15: Laika norma (c/h) | G15: Darba samaksas likme (Eur/h) | H15: Darba alga | I15: Būvizstrādājumi | J15: Mehānismi | K15: Kopā | L15: Darbietilpība (c/h) | M15: Darba alga | N15: Būvizstrādājumi | O15: Mehānismi | P15: Summa
A16: 1 | B16: 2 | C16: 3 | D16: 4 | E16: 5 | F16: 6 | G16: 7 | H16: 8 | I16: 9 | J16: 10 | K16: 11 | L16: 12 | M16: 13 | N16: 14 | O16: 15 | P16: 16
C17: 0.4kV KL izbūve
A18: 1 | B18: l.c. | C18: Tranšejas rakšana un aizbēršana viena līdz divu kabeļu (caurules) gūldīšanai 0.7m dziļumā ar rokām | D18: m | E18: 6 | H18: =ROUND(F18*G18,2) -> 0 | K18: =ROUND(SUM(H18:J18),2) -> 0 | L18: =ROUND(F18*E18,2) -> 0 | M18: =ROUND(H18*E18,2) -> 0 | N18: =ROUND(I18*E18,2) -> 0 | O18: =ROUND(J18*E18,2) -> 0 | P18: =ROUND(SUM(M18:O18),2) -> 0
A19: 2 | B19: l.c. | C19: Gofrētas kabeļu aizsargcaurules d=75mm, 450N, L=7m ieguldīšana gatavā tranšejā | D19: m | E19: 6 | H19: =ROUND(F19*G19,2) -> 0 | K19: =ROUND(SUM(H19:J19),2) -> 0 | L19: =ROUND(F19*E19,2) -> 0 | M19: =ROUND(H19*E19,2) -> 0 | N19: =ROUND(I19*E19,2) -> 0 | O19: =ROUND(J19*E19,2) -> 0 | P19: =ROUND(SUM(M19:O19),2) -> 0
A20: 3 | B20: l.c. | C20: Dalāmās aizsargcaurules d=160mm, 750N uzstādīša esošam kabelim | D20: m | E20: 1 | H20: =ROUND(F20*G20,2) -> 0 | K20: =ROUND(SUM(H20:J20),2) -> 0 | L20: =ROUND(F20*E20,2) -> 0 | M20: =ROUND(H20*E20,2) -> 0 | N20: =ROUND(I20*E20,2) -> 0 | O20: =ROUND(J20*E20,2) -> 0 | P20: =ROUND(SUM(M20:O20),2) -> 0
A21: 4 | B21: l.c. | C21: Zaļās zonas seguma atjaunošana | D21: m2 | E21: 2 | H21: =ROUND(F21*G21,2) -> 0 | K21: =ROUND(SUM(H21:J21),2) -> 0 | L21: =ROUND(F21*E21,2) -> 0 | M21: =ROUND(H21*E21,2) -> 0 | N21: =ROUND(I21*E21,2) -> 0 | O21: =ROUND(J21*E21,2) -> 0 | P21: =ROUND(SUM(M21:O21),2) -> 0
A22: 5 | B22: l.c. | C22: ZS trīsdzīslu kabeļa Cu 3x4, 1kV, L=10m ievēršana caurulē | D22: m | E22: 7 | H22: =ROUND(F22*G22,2) -> 0 | K22: =ROUND(SUM(H22:J22),2) -> 0 | L22: =ROUND(F22*E22,2) -> 0 | M22: =ROUND(H22*E22,2) -> 0 | N22: =ROUND(I22*E22,2) -> 0 | O22: =ROUND(J22*E22,2) -> 0 | P22: =ROUND(SUM(M22:O22),2) -> 0
A23: 6 | B23: l.c. | C23: EKI uzstādīšana un montāža (t.sk.ierīkošana un uzstādīšana uz betona pamata, pieslēgumi inženiertīkliem, zemējums. EKI iegādā un uz objektu piegādā Pasūtītājs) | D23: gab | E23: 1 | H23: =ROUND(F23*G23,2) -> 0 | K23: =ROUND(SUM(H23:J23),2) -> 0 | L23: =ROUND(F23*E23,2) -> 0 | M23: =ROUND(H23*E23,2) -> 0 | N23: =ROUND(I23*E23,2) -> 0 | O23: =ROUND(J23*E23,2) -> 0 | P23: =ROUND(SUM(M23:O23),2) -> 0
A24: 7 | B24: l.c. | C24: Nozarojuma uzmavas uzstādīšana | D24: gab | E24: 1 | H24: =ROUND(F24*G24,2) -> 0 | K24: =ROUND(SUM(H24:J24),2) -> 0 | L24: =ROUND(F24*E24,2) -> 0 | M24: =ROUND(H24*E24,2) -> 0 | N24: =ROUND(I24*E24,2) -> 0 | O24: =ROUND(J24*E24,2) -> 0 | P24: =ROUND(SUM(M24:O24),2) -> 0
A25: 8 | B25: l.c. | C25: ZS kabeļlīnijas pievienošana sadalnē/iekārtā | D25: gab | E25: 2 | H25: =ROUND(F25*G25,2) -> 0 | K25: =ROUND(SUM(H25:J25),2) -> 0 | L25: =ROUND(F25*E25,2) -> 0 | M25: =ROUND(H25*E25,2) -> 0 | N25: =ROUND(I25*E25,2) -> 0 | O25: =ROUND(J25*E25,2) -> 0 | P25: =ROUND(SUM(M25:O25),2) -> 0
C26: Citi darbi | H26: =ROUND(F26*G26,2) -> 0 | K26: =ROUND(SUM(H26:J26),2) -> 0 | L26: =ROUND(F26*E26,2) -> 0 | M26: =ROUND(H26*E26,2) -> 0 | N26: =ROUND(I26*E26,2) -> 0 | O26: =ROUND(J26*E26,2) -> 0 | P26: =ROUND(SUM(M26:O26),2) -> 0
A27: 1 | B27: l.c. | C27: EPL vai sarkanās līnijas nospraušana | D27: m | E27: 6 | H27: =ROUND(F27*G27,2) -> 0 | K27: =ROUND(SUM(H27:J27),2) -> 0 | L27: =ROUND(F27*E27,2) -> 0 | M27: =ROUND(H27*E27,2) -> 0 | N27: =ROUND(I27*E27,2) -> 0 | O27: =ROUND(J27*E27,2) -> 0 | P27: =ROUND(SUM(M27:O27),2) -> 0
A28: 2 | B28: l.c. | C28: EPL digitālā uzmērīšana | D28: m | E28: 6 | H28: =ROUND(F28*G28,2) -> 0 | K28: =ROUND(SUM(H28:J28),2) -> 0 | L28: =ROUND(F28*E28,2) -> 0 | M28: =ROUND(H28*E28,2) -> 0 | N28: =ROUND(I28*E28,2) -> 0 | O28: =ROUND(J28*E28,2) -> 0 | P28: =ROUND(SUM(M28:O28),2) -> 0
A29: Tiešās izmaksas kopā, t.sk. darba devēja sociālais nodoklis (23.59%): | L29: =SUM(L18:L28) -> 0 | M29: =SUM(M18:M28) -> 0 | N29: =SUM(N18:N28) -> 0 | O29: =SUM(O18:O28) -> 0 | P29: =SUM(P18:P28) -> 0
B33: Sastādīja: | D33: vārds, uzvārds, datums
C34: (paraksts un tā atšifrējums, datums)
B36: Pārbaudīja: | D36: vārds, uzvārds, datums
C37: (paraksts un tā atšifrējums, datums)
B39: Sertifikāta Nr.

Sheet 1-3
A1: Lokālā tāme Nr.1-3 | I1: #REF!
A2: Autostāvvietu elektronisko kontroles iekārtu (turpmāk – EKI) uzstādīšanai un elektroapgādes tīkla izbūvei Rūpniecības iela, BIS-BL-911828-124102
A3: (būvdarbu veids vai konstruktīvā elementa nosaukums)
A5: ='1-2'!A5 -> Objekta nosaukums: Autostāvvietu elektronisko kontroles iekārtu elektroapgāde, Rīgā
A6: ='1-2'!A6 -> Būves nosaukums: Autostāvvietu elektronisko kontroles iekārtu elektroapgāde, Rīgā
A7: Objekta adrese: Rūpniecības ielā, Rīga
A8: ='1-2'!A8 -> Pasūtītājs: RP SIA "Rīgas satiksme"
A9: ='1-2'!A9 -> Pasūtījuma Nr.:
A10: ='1-2'!A10 -> Pretendents: | C10: ='1-2'!C10 -> 0
O11: Tāmes izmaksas EUR: | P11: =P32 -> 0
A12: Tāme sastādīta 2026. gada tirgus cenās pamatojoties uz ELT daļas rasējumiem | O12: Tāme sastādīta: | P12: =Kopsavilkums!I14 -> 0
A14: Nr.p.k. | B14: Kods | C14: Būvdarbu nosaukums | D14: Mērvienība | E14: Daudzums | F14: Vienības izmaksas | L14: Kopā uz visu apjomu
F15: Laika norma (c/h) | G15: Darba samaksas likme (Eur/h) | H15: Darba alga | I15: Būvizstrādājumi | J15: Mehānismi | K15: Kopā | L15: Darbietilpība (c/h) | M15: Darba alga | N15: Būvizstrādājumi | O15: Mehānismi | P15: Summa
A16: 1 | B16: 2 | C16: 3 | D16: 4 | E16: 5 | F16: 6 | G16: 7 | H16: 8 | I16: 9 | J16: 10 | K16: 11 | L16: 12 | M16: 13 | N16: 14 | O16: 15 | P16: 16
C17: 0.4kV KL izbūve
A18: 1 | B18: l.c. | C18: Tranšejas rakšana un aizbēršana viena līdz divu kabeļu (caurules) gūldīšanai 0.7m dziļumā ar rokām | D18: m | E18: 6 | H18: =ROUND(F18*G18,2) -> 0 | K18: =ROUND(SUM(H18:J18),2) -> 0 | L18: =ROUND(F18*E18,2) -> 0 | M18: =ROUND(H18*E18,2) -> 0 | N18: =ROUND(I18*E18,2) -> 0 | O18: =ROUND(J18*E18,2) -> 0 | P18: =ROUND(SUM(M18:O18),2) -> 0
A19: 2 | B19: l.c. | C19: Gofrētas kabeļu aizsargcaurules d=75mm, 450N, L=6m ieguldīšana gatavā tranšejā | D19: m | E19: 6 | H19: =ROUND(F19*G19,2) -> 0 | K19: =ROUND(SUM(H19:J19),2) -> 0 | L19: =ROUND(F19*E19,2) -> 0 | M19: =ROUND(H19*E19,2) -> 0 | N19: =ROUND(I19*E19,2) -> 0 | O19: =ROUND(J19*E19,2) -> 0 | P19: =ROUND(SUM(M19:O19),2) -> 0
A20: 3 | B20: l.c. | C20: Ietves bruģa seguma demontāža | D20: m2 | E20: 2.5 | H20: =ROUND(F20*G20,2) -> 0 | K20: =ROUND(SUM(H20:J20),2) -> 0 | L20: =ROUND(F20*E20,2) -> 0 | M20: =ROUND(H20*E20,2) -> 0 | N20: =ROUND(I20*E20,2) -> 0 | O20: =ROUND(J20*E20,2) -> 0 | P20: =ROUND(SUM(M20:O20),2) -> 0
A21: 4 | B21: l.c. | C21: Ietves bruģa seguma montāža | D21: m2 | E21: 2.5 | H21: =ROUND(F21*G21,2) -> 0 | K21: =ROUND(SUM(H21:J21),2) -> 0 | L21: =ROUND(F21*E21,2) -> 0 | M21: =ROUND(H21*E21,2) -> 0 | N21: =ROUND(I21*E21,2) -> 0 | O21: =ROUND(J21*E21,2) -> 0 | P21: =ROUND(SUM(M21:O21),2) -> 0
A22: 5 | B22: l.c. | C22: ZS trīsdzīslu kabeļa Cu 3x4, 1kV, L=8m ievēršana caurulē | D22: m | E22: 6 | H22: =ROUND(F22*G22,2) -> 0 | K22: =ROUND(SUM(H22:J22),2) -> 0 | L22: =ROUND(F22*E22,2) -> 0 | M22: =ROUND(H22*E22,2) -> 0 | N22: =ROUND(I22*E22,2) -> 0 | O22: =ROUND(J22*E22,2) -> 0 | P22: =ROUND(SUM(M22:O22),2) -> 0
A23: 6 | B23: l.c. | C23: EKI uzstādīšana un montāža (t.sk.ierīkošana un uzstādīšana uz betona pamata, pieslēgumi inženiertīkliem, zemējums. EKI iegādā un uz objektu piegādā Pasūtītājs) | D23: gab | E23: 1 | H23: =ROUND(F23*G23,2) -> 0 | K23: =ROUND(SUM(H23:J23),2) -> 0 | L23: =ROUND(F23*E23,2) -> 0 | M23: =ROUND(H23*E23,2) -> 0 | N23: =ROUND(I23*E23,2) -> 0 | O23: =ROUND(J23*E23,2) -> 0 | P23: =ROUND(SUM(M23:O23),2) -> 0
A24: 7 | B24: l.c. | C24: ZS kabeļlīnijas pievienošana sadalnē/iekārtā | D24: gab | E24: 2 | H24: =ROUND(F24*G24,2) -> 0 | K24: =ROUND(SUM(H24:J24),2) -> 0 | L24: =ROUND(F24*E24,2) -> 0 | M24: =ROUND(H24*E24,2) -> 0 | N24: =ROUND(I24*E24,2) -> 0 | O24: =ROUND(J24*E24,2) -> 0 | P24: =ROUND(SUM(M24:O24),2) -> 0
C25: 0.4 kV ST drošinātāja izbūve | H25: =ROUND(F25*G25,2) -> 0 | K25: =ROUND(SUM(H25:J25),2) -> 0 | L25: =ROUND(F25*E25,2) -> 0 | M25: =ROUND(H25*E25,2) -> 0 | N25: =ROUND(I25*E25,2) -> 0 | O25: =ROUND(J25*E25,2) -> 0 | P25: =ROUND(SUM(M25:O25),2) -> 0
A26: 1 | B26: l.c. | C26: Drošinātāja E-27, 10A uzstādīšana | D26: gab | E26: 1 | H26: =ROUND(F26*G26,2) -> 0 | K26: =ROUND(SUM(H26:J26),2) -> 0 | L26: =ROUND(F26*E26,2) -> 0 | M26: =ROUND(H26*E26,2) -> 0 | N26: =ROUND(I26*E26,2) -> 0 | O26: =ROUND(J26*E26,2) -> 0 | P26: =ROUND(SUM(M26:O26),2) -> 0
A27: 2 | B27: l.c. | C27: Drošinātāja pamatnes E-27 uzstādīšana esošajā sadalnē | D27: gab | E27: 1 | H27: =ROUND(F27*G27,2) -> 0 | K27: =ROUND(SUM(H27:J27),2) -> 0 | L27: =ROUND(F27*E27,2) -> 0 | M27: =ROUND(H27*E27,2) -> 0 | N27: =ROUND(I27*E27,2) -> 0 | O27: =ROUND(J27*E27,2) -> 0 | P27: =ROUND(SUM(M27:O27),2) -> 0
A28: 3 | B28: l.c. | C28: ZS sadalnes shēmojuma vadu montāža (vads ar vara dzīslām Cu-1x6mm2 -1m, kabeļu kurpe 6 mm, M12 - 1gab, kabeļu uzgalis riņķveida 4-6 mm², M10 - 1 gab) | D28: sadalne | E28: 1 | H28: =ROUND(F28*G28,2) -> 0 | K28: =ROUND(SUM(H28:J28),2) -> 0 | L28: =ROUND(F28*E28,2) -> 0 | M28: =ROUND(H28*E28,2) -> 0 | N28: =ROUND(I28*E28,2) -> 0 | O28: =ROUND(J28*E28,2) -> 0 | P28: =ROUND(SUM(M28:O28),2) -> 0
C29: Citi darbi | H29: =ROUND(F29*G29,2) -> 0 | K29: =ROUND(SUM(H29:J29),2) -> 0 | L29: =ROUND(F29*E29,2) -> 0 | M29: =ROUND(H29*E29,2) -> 0 | N29: =ROUND(I29*E29,2) -> 0 | O29: =ROUND(J29*E29,2) -> 0 | P29: =ROUND(SUM(M29:O29),2) -> 0
A30: 1 | B30: l.c. | C30: EPL vai sarkanās līnijas nospraušana | D30: m | E30: 6 | H30: =ROUND(F30*G30,2) -> 0 | K30: =ROUND(SUM(H30:J30),2) -> 0 | L30: =ROUND(F30*E30,2) -> 0 | M30: =ROUND(H30*E30,2) -> 0 | N30: =ROUND(I30*E30,2) -> 0 | O30: =ROUND(J30*E30,2) -> 0 | P30: =ROUND(SUM(M30:O30),2) -> 0
A31: 2 | B31: l.c. | C31: EPL digitālā uzmērīšana | D31: m | E31: 6 | H31: =ROUND(F31*G31,2) -> 0 | K31: =ROUND(SUM(H31:J31),2) -> 0 | L31: =ROUND(F31*E31,2) -> 0 | M31: =ROUND(H31*E31,2) -> 0 | N31: =ROUND(I31*E31,2) -> 0 | O31: =ROUND(J31*E31,2) -> 0 | P31: =ROUND(SUM(M31:O31),2) -> 0
A32: Tiešās izmaksas kopā, t.sk. darba devēja sociālais nodoklis (23.59%): | L32: =SUM(L18:L31) -> 0 | M32: =SUM(M18:M31) -> 0 | N32: =SUM(N18:N31) -> 0 | O32: =SUM(O18:O31) -> 0 | P32: =SUM(P18:P31) -> 0
B36: Sastādīja: | D36: vārds, uzvārds, datums
C37: (paraksts un tā atšifrējums, datums)
B39: Pārbaudīja: | D39: vārds, uzvārds, datums
C40: (paraksts un tā atšifrējums, datums)
B42: Sertifikāta Nr.

Sheet 1-4
A1: Lokālā tāme Nr.1-4 | I1: #REF!
A2: Autostāvvietu elektronisko kontroles iekārtu (turpmāk – EKI) uzstādīšanai un elektroapgādes tīkla izbūvei Hospitāļu ielā, BIS-BL-911827-123483
A3: (būvdarbu veids vai konstruktīvā elementa nosaukums)
A5: ='1-3'!A5 -> Objekta nosaukums: Autostāvvietu elektronisko kontroles iekārtu elektroapgāde, Rīgā
A6: ='1-3'!A6 -> Būves nosaukums: Autostāvvietu elektronisko kontroles iekārtu elektroapgāde, Rīgā
A7: Objekta adrese: Hospitāļu ielā, Rīga
A8: ='1-3'!A8 -> Pasūtītājs: RP SIA "Rīgas satiksme"
A9: ='1-3'!A9 -> Pasūtījuma Nr.:
A10: ='1-3'!A10 -> Pretendents: | C10: ='1-2'!C10 -> 0
O11: Tāmes izmaksas EUR: | P11: =P32 -> 0
A12: Tāme sastādīta 2026. gada tirgus cenās pamatojoties uz ELT daļas rasējumiem | O12: Tāme sastādīta: | P12: =Kopsavilkums!I14 -> 0
A14: Nr.p.k. | B14: Kods | C14: Būvdarbu nosaukums | D14: Mērvienība | E14: Daudzums | F14: Vienības izmaksas | L14: Kopā uz visu apjomu
F15: Laika norma (c/h) | G15: Darba samaksas likme (Eur/h) | H15: Darba alga | I15: Būvizstrādājumi | J15: Mehānismi | K15: Kopā | L15: Darbietilpība (c/h) | M15: Darba alga | N15: Būvizstrādājumi | O15: Mehānismi | P15: Summa
A16: 1 | B16: 2 | C16: 3 | D16: 4 | E16: 5 | F16: 6 | G16: 7 | H16: 8 | I16: 9 | J16: 10 | K16: 11 | L16: 12 | M16: 13 | N16: 14 | O16: 15 | P16: 16
C17: 0.4kV KL izbūve
A18: 1 | B18: l.c. | C18: Tranšejas rakšana un aizbēršana viena līdz divu kabeļu (caurules) gūldīšanai 0.7m dziļumā ar rokām | D18: m | E18: 18 | H18: =ROUND(F18*G18,2) -> 0 | K18: =ROUND(SUM(H18:J18),2) -> 0 | L18: =ROUND(F18*E18,2) -> 0 | M18: =ROUND(H18*E18,2) -> 0 | N18: =ROUND(I18*E18,2) -> 0 | O18: =ROUND(J18*E18,2) -> 0 | P18: =ROUND(SUM(M18:O18),2) -> 0
A19: 2 | B19: l.c. | C19: Gofrētas kabeļu aizsargcaurules d=75mm, 750N, L=18m ieguldīšana gatavā tranšejā | D19: m | E19: 18 | H19: =ROUND(F19*G19,2) -> 0 | K19: =ROUND(SUM(H19:J19),2) -> 0 | L19: =ROUND(F19*E19,2) -> 0 | M19: =ROUND(H19*E19,2) -> 0 | N19: =ROUND(I19*E19,2) -> 0 | O19: =ROUND(J19*E19,2) -> 0 | P19: =ROUND(SUM(M19:O19),2) -> 0
A20: 3 | B20: l.c. | C20: Ietves bruģa seguma demontāža | D20: m2 | E20: 4 | H20: =ROUND(F20*G20,2) -> 0 | K20: =ROUND(SUM(H20:J20),2) -> 0 | L20: =ROUND(F20*E20,2) -> 0 | M20: =ROUND(H20*E20,2) -> 0 | N20: =ROUND(I20*E20,2) -> 0 | O20: =ROUND(J20*E20,2) -> 0 | P20: =ROUND(SUM(M20:O20),2) -> 0
A21: 4 | B21: l.c. | C21: Ietves bruģa seguma montāža | D21: m2 | E21: 4 | H21: =ROUND(F21*G21,2) -> 0 | K21: =ROUND(SUM(H21:J21),2) -> 0 | L21: =ROUND(F21*E21,2) -> 0 | M21: =ROUND(H21*E21,2) -> 0 | N21: =ROUND(I21*E21,2) -> 0 | O21: =ROUND(J21*E21,2) -> 0 | P21: =ROUND(SUM(M21:O21),2) -> 0
A22: 5 | B22: l.c. | C22: Ietves asfalta seguma demontāža | D22: m2 | E22: 0.5 | H22: =ROUND(F22*G22,2) -> 0 | K22: =ROUND(SUM(H22:J22),2) -> 0 | L22: =ROUND(F22*E22,2) -> 0 | M22: =ROUND(H22*E22,2) -> 0 | N22: =ROUND(I22*E22,2) -> 0 | O22: =ROUND(J22*E22,2) -> 0 | P22: =ROUND(SUM(M22:O22),2) -> 0
A23: 6 | B23: l.c. | C23: Ietves asfalta 0.1m3 seguma montāža | D23: m2 | E23: 0.5 | H23: =ROUND(F23*G23,2) -> 0 | K23: =ROUND(SUM(H23:J23),2) -> 0 | L23: =ROUND(F23*E23,2) -> 0 | M23: =ROUND(H23*E23,2) -> 0 | N23: =ROUND(I23*E23,2) -> 0 | O23: =ROUND(J23*E23,2) -> 0 | P23: =ROUND(SUM(M23:O23),2) -> 0
A24: 7 | B24: l.c. | C24: ZS trīsdzīslu kabeļa Cu 3x4, 1kV, L=22m ievēršana caurulē | D24: m | E24: 18 | H24: =ROUND(F24*G24,2) -> 0 | K24: =ROUND(SUM(H24:J24),2) -> 0 | L24: =ROUND(F24*E24,2) -> 0 | M24: =ROUND(H24*E24,2) -> 0 | N24: =ROUND(I24*E24,2) -> 0 | O24: =ROUND(J24*E24,2) -> 0 | P24: =ROUND(SUM(M24:O24),2) -> 0
A25: 8 | B25: l.c. | C25: EKI uzstādīšana un montāža (t.sk.ierīkošana un uzstādīšana uz betona pamata, pieslēgumi inženiertīkliem, zemējums. EKI iegādā un uz objektu piegādā Pasūtītājs) | D25: gab | E25: 1 | H25: =ROUND(F25*G25,2) -> 0 | K25: =ROUND(SUM(H25:J25),2) -> 0 | L25: =ROUND(F25*E25,2) -> 0 | M25: =ROUND(H25*E25,2) -> 0 | N25: =ROUND(I25*E25,2) -> 0 | O25: =ROUND(J25*E25,2) -> 0 | P25: =ROUND(SUM(M25:O25),2) -> 0
A26: 9 | B26: l.c. | C26: Drošinātāja NH-00, 10A uzstādīšana esošajā sadalnē | D26: gab | E26: 1 | H26: =ROUND(F26*G26,2) -> 0 | K26: =ROUND(SUM(H26:J26),2) -> 0 | L26: =ROUND(F26*E26,2) -> 0 | M26: =ROUND(H26*E26,2) -> 0 | N26: =ROUND(I26*E26,2) -> 0 | O26: =ROUND(J26*E26,2) -> 0 | P26: =ROUND(SUM(M26:O26),2) -> 0
A27: 10 | B27: l.c. | C27: ZS kabeļlīnijas pievienošana sadalnē/iekārtā (spaiļu komplekts 3x4mm2 kabeļa pieslēgšanai pie NH-00 drošinātāju līstes - 1 gab.) | D27: gab | E27: 2 | H27: =ROUND(F27*G27,2) -> 0 | K27: =ROUND(SUM(H27:J27),2) -> 0 | L27: =ROUND(F27*E27,2) -> 0 | M27: =ROUND(H27*E27,2) -> 0 | N27: =ROUND(I27*E27,2) -> 0 | O27: =ROUND(J27*E27,2) -> 0 | P27: =ROUND(SUM(M27:O27),2) -> 0
A28: 11 | B28: l.c. | C28: Dalītās aizsargcaurules d.110, 450N, L=1m uzlikšana darbojošam (ĀMD) elektroapgādes kabelim | D28: m | E28: 1 | H28: =ROUND(F28*G28,2) -> 0 | K28: =ROUND(SUM(H28:J28),2) -> 0 | L28: =ROUND(F28*E28,2) -> 0 | M28: =ROUND(H28*E28,2) -> 0 | N28: =ROUND(I28*E28,2) -> 0 | O28: =ROUND(J28*E28,2) -> 0 | P28: =ROUND(SUM(M28:O28),2) -> 0
C29: Citi darbi | H29: =ROUND(F29*G29,2) -> 0 | K29: =ROUND(SUM(H29:J29),2) -> 0 | L29: =ROUND(F29*E29,2) -> 0 | M29: =ROUND(H29*E29,2) -> 0 | N29: =ROUND(I29*E29,2) -> 0 | O29: =ROUND(J29*E29,2) -> 0 | P29: =ROUND(SUM(M29:O29),2) -> 0
A30: 1 | B30: l.c. | C30: EPL vai sarkanās līnijas nospraušana | D30: m | E30: 18 | H30: =ROUND(F30*G30,2) -> 0 | K30: =ROUND(SUM(H30:J30),2) -> 0 | L30: =ROUND(F30*E30,2) -> 0 | M30: =ROUND(H30*E30,2) -> 0 | N30: =ROUND(I30*E30,2) -> 0 | O30: =ROUND(J30*E30,2) -> 0 | P30: =ROUND(SUM(M30:O30),2) -> 0
A31: 2 | B31: l.c. | C31: EPL digitālā uzmērīšana | D31: m | E31: 18 | H31: =ROUND(F31*G31,2) -> 0 | K31: =ROUND(SUM(H31:J31),2) -> 0 | L31: =ROUND(F31*E31,2) -> 0 | M31: =ROUND(H31*E31,2) -> 0 | N31: =ROUND(I31*E31,2) -> 0 | O31: =ROUND(J31*E31,2) -> 0 | P31: =ROUND(SUM(M31:O31),2) -> 0
A32: Tiešās izmaksas kopā, t.sk. darba devēja sociālais nodoklis (23.59%): | L32: =SUM(L18:L31) -> 0 | M32: =SUM(M18:M31) -> 0 | N32: =SUM(N18:N31) -> 0 | O32: =SUM(O18:O31) -> 0 | P32: =SUM(P18:P31) -> 0
B36: Sastādīja: | D36: vārds, uzvārds, datums
C37: (paraksts un tā atšifrējums, datums)
B39: Pārbaudīja: | D39: vārds, uzvārds, datums
C40: (paraksts un tā atšifrējums, datums)
B42: Sertifikāta Nr.

Sheet 1-5
A1: Lokālā tāme Nr.1-5 | I1: #REF!
A2: Autostāvvietu elektronisko kontroles iekārtas (turpmāk – EKI) uzstādīšana un elektroapgādes pievada izbūve Tomsona ielā 18, BIS-BL-911829-123672
A3: (būvdarbu veids vai konstruktīvā elementa nosaukums)
A5: ='1-4'!A5 -> Objekta nosaukums: Autostāvvietu elektronisko kontroles iekārtu elektroapgāde, Rīgā
A6: ='1-4'!A6 -> Būves nosaukums: Autostāvvietu elektronisko kontroles iekārtu elektroapgāde, Rīgā
A7: Objekta adrese: Tomsona ielā 18, Rīga
A8: ='1-4'!A8 -> Pasūtītājs: RP SIA "Rīgas satiksme"
A9: ='1-4'!A9 -> Pasūtījuma Nr.:
A10: ='1-4'!A10 -> Pretendents: | C10: ='1-2'!C10 -> 0
O11: Tāmes izmaksas EUR: | P11: =P29 -> 0
A12: Tāme sastādīta 2026. gada tirgus cenās pamatojoties uz ELT daļas rasējumiem | O12: Tāme sastādīta: | P12: =Kopsavilkums!I14 -> 0
A14: Nr.p.k. | B14: Kods | C14: Būvdarbu nosaukums | D14: Mērvienība | E14: Daudzums | F14: Vienības izmaksas | L14: Kopā uz visu apjomu
F15: Laika norma (c/h) | G15: Darba samaksas likme (Eur/h) | H15: Darba alga | I15: Būvizstrādājumi | J15: Mehānismi | K15: Kopā | L15: Darbietilpība (c/h) | M15: Darba alga | N15: Būvizstrādājumi | O15: Mehānismi | P15: Summa
A16: 1 | B16: 2 | C16: 3 | D16: 4 | E16: 5 | F16: 6 | G16: 7 | H16: 8 | I16: 9 | J16: 10 | K16: 11 | L16: 12 | M16: 13 | N16: 14 | O16: 15 | P16: 16
C17: 0.4kV KL izbūve
A18: 1 | B18: l.c. | C18: Tranšejas rakšana un aizbēršana viena līdz divu kabeļu (caurules) gūldīšanai 0.7m dziļumā ar rokām | D18: m | E18: 23 | H18: =ROUND(F18*G18,2) -> 0 | K18: =ROUND(SUM(H18:J18),2) -> 0 | L18: =ROUND(F18*E18,2) -> 0 | M18: =ROUND(H18*E18,2) -> 0 | N18: =ROUND(I18*E18,2) -> 0 | O18: =ROUND(J18*E18,2) -> 0 | P18: =ROUND(SUM(M18:O18),2) -> 0
A19: 2 | B19: l.c. | C19: Gofrētas kabeļu aizsargcaurules d=75mm, 750N, L=25m ieguldīšana gatavā tranšejā | D19: m | E19: 23 | H19: =ROUND(F19*G19,2) -> 0 | K19: =ROUND(SUM(H19:J19),2) -> 0 | L19: =ROUND(F19*E19,2) -> 0 | M19: =ROUND(H19*E19,2) -> 0 | N19: =ROUND(I19*E19,2) -> 0 | O19: =ROUND(J19*E19,2) -> 0 | P19: =ROUND(SUM(M19:O19),2) -> 0
A20: 3 | B20: l.c. | C20: Ietves asfalta seguma demontāža | D20: m2 | E20: 9 | H20: =ROUND(F20*G20,2) -> 0 | K20: =ROUND(SUM(H20:J20),2) -> 0 | L20: =ROUND(F20*E20,2) -> 0 | M20: =ROUND(H20*E20,2) -> 0 | N20: =ROUND(I20*E20,2) -> 0 | O20: =ROUND(J20*E20,2) -> 0 | P20: =ROUND(SUM(M20:O20),2) -> 0
A21: 4 | B21: l.c. | C21: Ietves asfalta 1.4m3 seguma montāža | D21: m2 | E21: 9 | H21: =ROUND(F21*G21,2) -> 0 | K21: =ROUND(SUM(H21:J21),2) -> 0 | L21: =ROUND(F21*E21,2) -> 0 | M21: =ROUND(H21*E21,2) -> 0 | N21: =ROUND(I21*E21,2) -> 0 | O21: =ROUND(J21*E21,2) -> 0 | P21: =ROUND(SUM(M21:O21),2) -> 0
A22: 5 | B22: l.c. | C22: ZS trīsdzīslu kabeļa Cu 3x4, 1kV, L=27m ievēršana caurulē | D22: m | E22: 25 | H22: =ROUND(F22*G22,2) -> 0 | K22: =ROUND(SUM(H22:J22),2) -> 0 | L22: =ROUND(F22*E22,2) -> 0 | M22: =ROUND(H22*E22,2) -> 0 | N22: =ROUND(I22*E22,2) -> 0 | O22: =ROUND(J22*E22,2) -> 0 | P22: =ROUND(SUM(M22:O22),2) -> 0
A23: 6 | B23: l.c. | C23: EKI uzstādīšana un montāža (t.sk.ierīkošana un uzstādīšana uz betona pamata, pieslēgumi inženiertīkliem, zemējums. EKI iegādā un uz objektu piegādā Pasūtītājs) | D23: gab | E23: 1 | H23: =ROUND(F23*G23,2) -> 0 | K23: =ROUND(SUM(H23:J23),2) -> 0 | L23: =ROUND(F23*E23,2) -> 0 | M23: =ROUND(H23*E23,2) -> 0 | N23: =ROUND(I23*E23,2) -> 0 | O23: =ROUND(J23*E23,2) -> 0 | P23: =ROUND(SUM(M23:O23),2) -> 0
A24: 7 | B24: l.c. | C24: Drošinātāja NH-00, 10A uzstādīšana esošajā sadalnē | D24: gab | E24: 1 | H24: =ROUND(F24*G24,2) -> 0 | K24: =ROUND(SUM(H24:J24),2) -> 0 | L24: =ROUND(F24*E24,2) -> 0 | M24: =ROUND(H24*E24,2) -> 0 | N24: =ROUND(I24*E24,2) -> 0 | O24: =ROUND(J24*E24,2) -> 0 | P24: =ROUND(SUM(M24:O24),2) -> 0
A25: 8 | B25: l.c. | C25: ZS kabeļlīnijas pievienošana sadalnē/iekārtā (spaiļu komplekts 3x4mm2 kabeļa pieslēgšanai pie NH-00 drošinātāju līstes - 1 gab.) | D25: gab | E25: 2 | H25: =ROUND(F25*G25,2) -> 0 | K25: =ROUND(SUM(H25:J25),2) -> 0 | L25: =ROUND(F25*E25,2) -> 0 | M25: =ROUND(H25*E25,2) -> 0 | N25: =ROUND(I25*E25,2) -> 0 | O25: =ROUND(J25*E25,2) -> 0 | P25: =ROUND(SUM(M25:O25),2) -> 0
C26: Citi darbi | H26: =ROUND(F26*G26,2) -> 0 | K26: =ROUND(SUM(H26:J26),2) -> 0 | L26: =ROUND(F26*E26,2) -> 0 | M26: =ROUND(H26*E26,2) -> 0 | N26: =ROUND(I26*E26,2) -> 0 | O26: =ROUND(J26*E26,2) -> 0 | P26: =ROUND(SUM(M26:O26),2) -> 0
A27: 1 | B27: l.c. | C27: EPL vai sarkanās līnijas nospraušana | D27: m | E27: 23 | H27: =ROUND(F27*G27,2) -> 0 | K27: =ROUND(SUM(H27:J27),2) -> 0 | L27: =ROUND(F27*E27,2) -> 0 | M27: =ROUND(H27*E27,2) -> 0 | N27: =ROUND(I27*E27,2) -> 0 | O27: =ROUND(J27*E27,2) -> 0 | P27: =ROUND(SUM(M27:O27),2) -> 0
A28: 2 | B28: l.c. | C28: EPL digitālā uzmērīšana | D28: m | E28: 23 | H28: =ROUND(F28*G28,2) -> 0 | K28: =ROUND(SUM(H28:J28),2) -> 0 | L28: =ROUND(F28*E28,2) -> 0 | M28: =ROUND(H28*E28,2) -> 0 | N28: =ROUND(I28*E28,2) -> 0 | O28: =ROUND(J28*E28,2) -> 0 | P28: =ROUND(SUM(M28:O28),2) -> 0
A29: Tiešās izmaksas kopā, t.sk. darba devēja sociālais nodoklis (23.59%): | L29: =SUM(L18:L28) -> 0 | M29: =SUM(M18:M28) -> 0 | N29: =SUM(N18:N28) -> 0 | O29: =SUM(O18:O28) -> 0 | P29: =SUM(P18:P28) -> 0
B33: Sastādīja: | D33: vārds, uzvārds, datums
C34: (paraksts un tā atšifrējums, datums)
B36: Pārbaudīja: | D36: vārds, uzvārds, datums
C37: (paraksts un tā atšifrējums, datums)
B39: Sertifikāta Nr.

Sheet 1-6
A1: Lokālā tāme Nr.1-6 | I1: #REF!
A2: Autostāvvietu elektronisko kontroles iekārtas (turpmāk – EKI) uzstādīšana un elektroapgādes pievada izbūve Tomsona ielā 40, BIS-BL-911830-124153
A3: (būvdarbu veids vai konstruktīvā elementa nosaukums)
A5: ='1-5'!A5 -> Objekta nosaukums: Autostāvvietu elektronisko kontroles iekārtu elektroapgāde, Rīgā
A6: ='1-5'!A6 -> Būves nosaukums: Autostāvvietu elektronisko kontroles iekārtu elektroapgāde, Rīgā
A7: Objekta adrese: Tomsona ielā 40
A8: ='1-5'!A8 -> Pasūtītājs: RP SIA "Rīgas satiksme"
A9: ='1-5'!A9 -> Pasūtījuma Nr.:
A10: ='1-5'!A10 -> Pretendents: | C10: ='1-2'!C10 -> 0
O11: Tāmes izmaksas EUR: | P11: =P30 -> 0
A12: Tāme sastādīta 2026. gada tirgus cenās pamatojoties uz ELT daļas rasējumiem | O12: Tāme sastādīta: | P12: =Kopsavilkums!I14 -> 0
A14: Nr.p.k. | B14: Kods | C14: Būvdarbu nosaukums | D14: Mērvienība | E14: Daudzums | F14: Vienības izmaksas | L14: Kopā uz visu apjomu
F15: Laika norma (c/h) | G15: Darba samaksas likme (Eur/h) | H15: Darba alga | I15: Būvizstrādājumi | J15: Mehānismi | K15: Kopā | L15: Darbietilpība (c/h) | M15: Darba alga | N15: Būvizstrādājumi | O15: Mehānismi | P15: Summa
A16: 1 | B16: 2 | C16: 3 | D16: 4 | E16: 5 | F16: 6 | G16: 7 | H16: 8 | I16: 9 | J16: 10 | K16: 11 | L16: 12 | M16: 13 | N16: 14 | O16: 15 | P16: 16
C17: 0.4kV KL izbūve
A18: 1 | B18: l.c. | C18: Tranšejas rakšana un aizbēršana viena līdz divu kabeļu (caurules) gūldīšanai 0.7m dziļumā ar rokām | D18: m | E18: 8 | H18: =ROUND(F18*G18,2) -> 0 | K18: =ROUND(SUM(H18:J18),2) -> 0 | L18: =ROUND(F18*E18,2) -> 0 | M18: =ROUND(H18*E18,2) -> 0 | N18: =ROUND(I18*E18,2) -> 0 | O18: =ROUND(J18*E18,2) -> 0 | P18: =ROUND(SUM(M18:O18),2) -> 0
A19: 2 | B19: l.c. | C19: Gofrētas kabeļu aizsargcaurules d=75mm, 750N, L=10m ieguldīšana gatavā tranšejā | D19: m | E19: 8 | H19: =ROUND(F19*G19,2) -> 0 | K19: =ROUND(SUM(H19:J19),2) -> 0 | L19: =ROUND(F19*E19,2) -> 0 | M19: =ROUND(H19*E19,2) -> 0 | N19: =ROUND(I19*E19,2) -> 0 | O19: =ROUND(J19*E19,2) -> 0 | P19: =ROUND(SUM(M19:O19),2) -> 0
A20: 3 | B20: l.c. | C20: Ietves asfalta seguma demontāža | D20: m2 | E20: 4 | H20: =ROUND(F20*G20,2) -> 0 | K20: =ROUND(SUM(H20:J20),2) -> 0 | L20: =ROUND(F20*E20,2) -> 0 | M20: =ROUND(H20*E20,2) -> 0 | N20: =ROUND(I20*E20,2) -> 0 | O20: =ROUND(J20*E20,2) -> 0 | P20: =ROUND(SUM(M20:O20),2) -> 0
A21: 4 | B21: l.c. | C21: Ietves asfalta 0.6m3 seguma montāža | D21: m2 | E21: 4 | H21: =ROUND(F21*G21,2) -> 0 | K21: =ROUND(SUM(H21:J21),2) -> 0 | L21: =ROUND(F21*E21,2) -> 0 | M21: =ROUND(H21*E21,2) -> 0 | N21: =ROUND(I21*E21,2) -> 0 | O21: =ROUND(J21*E21,2) -> 0 | P21: =ROUND(SUM(M21:O21),2) -> 0
A22: 5 | B22: l.c. | C22: ZS trīsdzīslu kabeļa Cu 3x4, 1kV, L=11m ievēršana caurulē | D22: m | E22: 10 | H22: =ROUND(F22*G22,2) -> 0 | K22: =ROUND(SUM(H22:J22),2) -> 0 | L22: =ROUND(F22*E22,2) -> 0 | M22: =ROUND(H22*E22,2) -> 0 | N22: =ROUND(I22*E22,2) -> 0 | O22: =ROUND(J22*E22,2) -> 0 | P22: =ROUND(SUM(M22:O22),2) -> 0
A23: 6 | B23: l.c. | C23: EKI uzstādīšana un montāža (t.sk.ierīkošana un uzstādīšana uz betona pamata, pieslēgumi inženiertīkliem, zemējums. EKI iegādā un uz objektu piegādā Pasūtītājs) | D23: gab | E23: 1 | H23: =ROUND(F23*G23,2) -> 0 | K23: =ROUND(SUM(H23:J23),2) -> 0 | L23: =ROUND(F23*E23,2) -> 0 | M23: =ROUND(H23*E23,2) -> 0 | N23: =ROUND(I23*E23,2) -> 0 | O23: =ROUND(J23*E23,2) -> 0 | P23: =ROUND(SUM(M23:O23),2) -> 0
A24: 7 | B24: l.c. | C24: Drošinātāja NH-00, 10A uzstādīšana esošajā sadalnē | D24: gab | E24: 1 | H24: =ROUND(F24*G24,2) -> 0 | K24: =ROUND(SUM(H24:J24),2) -> 0 | L24: =ROUND(F24*E24,2) -> 0 | M24: =ROUND(H24*E24,2) -> 0 | N24: =ROUND(I24*E24,2) -> 0 | O24: =ROUND(J24*E24,2) -> 0 | P24: =ROUND(SUM(M24:O24),2) -> 0
A25: 8 | B25: l.c. | C25: ZS kabeļlīnijas pievienošana sadalnē/iekārtā (spaiļu komplekts 3x4mm2 kabeļa pieslēgšanai pie NH-00 drošinātāju līstes - 1 gab.) | D25: gab | E25: 2 | H25: =ROUND(F25*G25,2) -> 0 | K25: =ROUND(SUM(H25:J25),2) -> 0 | L25: =ROUND(F25*E25,2) -> 0 | M25: =ROUND(H25*E25,2) -> 0 | N25: =ROUND(I25*E25,2) -> 0 | O25: =ROUND(J25*E25,2) -> 0 | P25: =ROUND(SUM(M25:O25),2) -> 0
A26: 9 | B26: l.c. | C26: Teritorijas labiekārtošana/zāļās zonas atjaunošana | D26: m2 | E26: 0.5 | H26: =ROUND(F26*G26,2) -> 0 | K26: =ROUND(SUM(H26:J26),2) -> 0 | L26: =ROUND(F26*E26,2) -> 0 | M26: =ROUND(H26*E26,2) -> 0 | N26: =ROUND(I26*E26,2) -> 0 | O26: =ROUND(J26*E26,2) -> 0 | P26: =ROUND(SUM(M26:O26),2) -> 0
C27: Citi darbi | H27: =ROUND(F27*G27,2) -> 0 | K27: =ROUND(SUM(H27:J27),2) -> 0 | L27: =ROUND(F27*E27,2) -> 0 | M27: =ROUND(H27*E27,2) -> 0 | N27: =ROUND(I27*E27,2) -> 0 | O27: =ROUND(J27*E27,2) -> 0 | P27: =ROUND(SUM(M27:O27),2) -> 0
A28: 1 | B28: l.c. | C28: EPL vai sarkanās līnijas nospraušana | D28: m | E28: 8 | H28: =ROUND(F28*G28,2) -> 0 | K28: =ROUND(SUM(H28:J28),2) -> 0 | L28: =ROUND(F28*E28,2) -> 0 | M28: =ROUND(H28*E28,2) -> 0 | N28: =ROUND(I28*E28,2) -> 0 | O28: =ROUND(J28*E28,2) -> 0 | P28: =ROUND(SUM(M28:O28),2) -> 0
A29: 2 | B29: l.c. | C29: EPL digitālā uzmērīšana | D29: m | E29: 8 | H29: =ROUND(F29*G29,2) -> 0 | K29: =ROUND(SUM(H29:J29),2) -> 0 | L29: =ROUND(F29*E29,2) -> 0 | M29: =ROUND(H29*E29,2) -> 0 | N29: =ROUND(I29*E29,2) -> 0 | O29: =ROUND(J29*E29,2) -> 0 | P29: =ROUND(SUM(M29:O29),2) -> 0
A30: Tiešās izmaksas kopā, t.sk. darba devēja sociālais nodoklis (23.59%): | L30: =SUM(L18:L29) -> 0 | M30: =SUM(M18:M29) -> 0 | N30: =SUM(N18:N29) -> 0 | O30: =SUM(O18:O29) -> 0 | P30: =SUM(P18:P29) -> 0
B34: Sastādīja: | D34: vārds, uzvārds, datums
C35: (paraksts un tā atšifrējums, datums)
B37: Pārbaudīja: | D37: vārds, uzvārds, datums
C38: (paraksts un tā atšifrējums, datums)
B40: Sertifikāta Nr.

Sheet Ekvivalents
A2: PIEDĀVĀTIE EKVIVALENTI
A3: Ja Lokālajā tāmē, būvprojekta dokumentācijā un tā pielikumos norādīti konkrēti būvizstrādājumu, būvizstrādājumu ražotāju, preču (materiālu), iekārtu vai standarta nosaukumi, klases vai kāda cita norāde uz specifisku preču (materiālu) izcelsmi, īpašu procesu, zīmolu vai veidu, pretendents var piedāvāt ekvivalentas preces vai atbilstību ekvivalentiem standartiem, kas atbilst tehniskās specifikācijas, būvprojekta dokumentācijas prasībām un parametriem.
A4: Ekvivalences skaidrojums - par ekvivalentu iepirkuma ietvaros piegādājamajai precei (materiālam) vai būvizstrādājumam tiks uzskatīta prece (materiāls), kura/š ir ekvivalenta/s pieprasītajai pēc to funkcionalitātes un tehniskajām iespējām. Piedāvātajai precei (materiālam) jābūt arī ekonomiski ekvivalentai/am attiecībā uz izmaksām, kas varētu rasties preces (materiāla) ieviešanas un lietošanas laikā.
A5: Funkcionalitāte tiek uzskatīta par ekvivalentu arī tad, ja piedāvātajai precei (materiālam) tā ir plašāka, nekā pieprasītajai (tomēr ietver pieprasītās preces (materiāla) funkcionalitāti pilnā apjomā).
A6: Ja Pretendents izvēlas norādītajiem materiāliem, būvizstrādājumiem, iekārtām, aprīkojumam utt., piedāvāt ekvivalentu, tad attiecīgajā pozīcijā jānorāda piedāvātā ekvivalenta nosaukums, kā arī pie tehniskā piedāvājuma jāiesniedz salīdzinoša tabula, kurā norādīts prasāmā un piedāvātā ekvivalenta tehniskais salīdzinājums
A8: Lokālās tāme un pozīcija, kurai piedāvāts ekvivalents | B8: Tāmes pozīcijā norādītais produkts (materiāls/zīmols, modelis, marka, utt.) | C8: Tāmes pozīcijā norādītais produkts ekvivalenta nosaukums (marka) | D8: Ekvivalenta tehniskais raksturojums, kas apliecina tā ekvivalenci pasūtītāja noteiktajām prasībām
