Workbook

Sheet Saturs
B1: 2. pielikums Nolikumam “Vienreizlietojamo ķirurģisko instrumentu piegāde”, identifikācijas Nr. PSKUS 2026/6
A3: Pozīcijas Nr.p.k. | B3: Saturs | E3: Summa, EUR bez PVN
A4: 1 | B4: ='1'!C22 -> Vienreizlietojamie digitālie operāciju cistoskopi un ureterorenoskopi ar stacionāru videoprocesoru
A5: 2 | B5: ='2'!C22 -> Vienreizlietojamie digitāli endoskopi diagnostikai un biopsijai uroloģijā ar stacionāru videoprocesoru
A6: 3 | B6: ='3'!C22 -> Ierobežota lietošnas laika digitālie lokanie cistoskopi un ureterorenoskopi ar kompaktu videosistēmu
A7: 4 | B7: ='4'!C22 -> Ginekoloģiskais operāciju retraktors
A8: 5 | B8: ='5'!C22 -> Vienreizlietojams digitālais lokanais bronhoskops

Sheet 1
D1: 2. pielikums Nolikumam “Vienreizlietojamo ķirurģisko instrumentu piegāde”, identifikācijas Nr. PSKUS 2026/6
A2: Tehniskā specifikācija/Tehniskais-finanšu piedāvājums
A3: Vienreizlietojamo ķirurģisko instrumentu piegāde
A4: (identifikācijas Nr. PSKUS 2026/6)
A5: =CONCATENATE("",A22,"pozīcija ",C22," ") -> 1.pozīcija Vienreizlietojamie digitālie operāciju cistoskopi un ureterorenoskopi ar stacionāru videoprocesoru
C6: Tehniskās specifikācijas pēdējais aktualizācijas datums 25.08.2026.
A7: Vispārīgās prasības: | G7: Atbilstība:
A8: 1) | C8: Finanšu piedāvājumā Pretendentam jāietver visi izdevumi un izmaksas, kas saistītas ar Preces piegādi, transportu un Preces nodošanu ekspluatācijā (ja paredzēts);
A9: 2) | C9: Piegāde 4 nedēļu laikā no pasūtījuma brīža;
A10: 3) | C10: Vienreiz lietojamām un ierobežotu lietošanas reižu piedāvātajām Precēm derīguma termiņš (nosaka Pretendents) ir ___ (______________) mēneši no pavadzīmes-rēķina abpusējas parakstīšanas brīža, bet ne mazāk kā 12 mēneši. Daudzreiz lietojamam piedāvātajām Precēm garantijas termiņš (nosaka Pretendents) ir ___ (______________) mēneši no pavadzīmes-rēķina abpusējas parakstīšanas brīža, bet ne mazāk kā 12 mēneši;
A11: 4) | C11: *Pretendenta tehniskajā piedāvājumā norāda Preces modeli, kataloga numuru jeb ref kodu un ražotāju;
A12: 5) | C12: ** Parametru atbilstību pamatot ar norādi uz tehniskajām datu lapām ("data sheet'') jeb informatīviem materiāliem, kas apliecina atbilstību (oriģinālvalodā un tulkojumi valsts valodā, ja oriģinālvalodā nav angļu), norādot atsauci tehniskajā piedāvājumā uz konkrēto lapaspusi. Informatīvajos materiālos pretendents atzīmē uz kuru iepirkuma tehniskās specifikācijas pozīciju pievienotā informācija attiecināma;
A13: 6) | C13: Visas piedāvātās Preces ir jaunas (ražotas ne vēlāk kā 12 mēnešu laikā no pasūtījuma brīža), iepriekš nelietotas un nesatur iepriekš lietotas vai atjaunotas sastāvdaļas vai komponentes, uzglabātas un transportētas atbilstoši ražotāja noteiktajām prasībām un instrukcijām par Preces uzglabāšanu un transportēšanu;
A14: 7) | C14: ***Piedāvājumam jāpievieno piedāvātas Preces EK atbilstības deklarācijas kopija atbilstoši regulas 2017/745 prasībām un CE sertifikāta kopija (ja ražotājs noteicis ierīču klasi: I klases sterilas ierīces un I klases ierīces ar mērīšanas funkciju, IIa, IIb vai III klases ierīces), norādot attiecīgajā ailē medicīnas ierīces klasi saskaņā ar EK atbilstības deklarācijas datiem;
A15: 8) | C15: ****Paredzamais daudzums (4 gadiem) tiek izmantots Pretendentu finanšu piedāvājumu objektīvai vērtēšanai. Līgumi tiek slēgti par vienas vienības cenu, nosakot visa iepirkuma kopējo apjomu naudas izteiksmē un nenosakot katras pozīcijas apjomu. Pasūtītājam ir tiesības neiegādāties visu tehniskajā specifikācijā uzrādīto Preču daudzumu;
A16: 9) | C16: Piedāvājumam jāpievieno Preces ražotāja izsniegta autorizācijas vēstule, kas apliecina, ka Pretendents tiesīgs izplatīt un nodrošināt servisu (ja paredzēts) piedāvātai Precei Latvijas Republikā;
A17: 10) | C17: Pēc Pasūtītāja pieprasījuma Pretendentam jānodrošina Preces paraugs (paraugu izvērtēšanas kārtību skatīt nolikumā);
A18: 11) | C18: Ņemot vērā, ka neparedzamu apstākļu dēļ, Līguma ___.pielikumā norādīto preču klāsts var mainīties 10% apmērā no Vienošanās kopējās summas, tehniskajā un finanšu piedāvājumā neiekļauto preču cenas tiek atsevišķi saskaņotas ar Pasūtītāju, nepārsniedzot vidējās tirgus cenas Latvijā un nemainot Vienošanās kopējo summu.;
A19: 12) | C19: Pusēm vienojoties Vienošanās darbības termiņš var tikt pagarināts saskaņā ar Publisko iepirkumu likumā noteikto;
A20: 13) | C20: Skaitliskiem parametriem pielaide ± 10%, ja nav norādīts citādāk.
A22: 1. | C22: Vienreizlietojamie digitālie operāciju cistoskopi un ureterorenoskopi ar stacionāru videoprocesoru | D22: Pretendenta (ierakstiet uzņēmuma nosaukumu) piedāvājums
C23: Pozīcijas: | D23: Preces modelis, ref kods, ražotājs*: | E23: Medicīnas ierīces klase***: | F23: Paredzamais daudzums (gab.)****: | G23: 1 vienības cena bez PVN, EUR:
A24: =$A$22 -> 1. | B24: 1 | C24: Digitālais lokanais cistoskops, diametrs ne lielāks kā 16,5Fr | F24: 5
A25: =$A$22 -> 1. | B25: 2 | C25: Digitālais lokanais ureterorenoskops, diametrs ne vairāk kā 8,1Fr | F25: 5
A26: =$A$22 -> 1. | B26: 3 | C26: Digitālais lokanais ureterorenoskops, diametrs ne lielāks kā 9,6Fr ar taisnu darba kanālu | F26: 5
F27: =CONCATENATE("KOPĒJĀ CENA par 1.pozīciju bez PVN, EUR:") -> KOPĒJĀ CENA par 1.pozīciju bez PVN, EUR: | G27: =SUMPRODUCT(F24:F26,G24:G26) -> 0
C28: Veicamās funkcijas: | D28: Pretendenta piedāvātie parametri** | F28: Atsauce uz informatīvo materiālu**
A29: =$A$22 -> 1. | B29: 4 | C29: Prasības cistoskopam:
A30: =$A$22 -> 1. | B30: 4.1 | C30: Skata leņķis 110⁰±10⁰;
A31: =$A$22 -> 1. | B31: 4.2 | C31: Redzes lauka dziļums diapazonā no 5 līdz 100mm vai plašāk;
A32: =$A$22 -> 1. | B32: 4.3 | C32: Distālai daļai diametrs ne vairāk kā 16,5Fr (5,5mm);
A33: =$A$22 -> 1. | B33: 4.4 | C33: Darba kanāla diametrs ne mazāk kā 7,2Fr (2,4mm);
A34: =$A$22 -> 1. | B34: 4.5 | C34: Distālās daļas izliekums diapazonā no 210⁰ uz augšu/ 180⁰ uz leju vai plašāk;
A35: =$A$22 -> 1. | B35: 4.6 | C35: Lokanās daļas darba garums 380±10mm;
A36: =$A$22 -> 1. | B36: 4.7 | C36: CMOS tehnoloģija ar ne mazāk kā 800x800 pikseļu izšķirtspēju
A37: =$A$22 -> 1. | B37: 4.8 | C37: Rokturī integrēts LUER-LOCK savienojums irigācijai un piederumiem;
A38: =$A$22 -> 1. | B38: 4.9 | C38: Vienreizlietojami, sterilā iepakojumā;
A39: =$A$22 -> 1. | B39: 5 | C39: Prasības ureterorenoskopam līdz 8,1Fr:
A40: =$A$22 -> 1. | B40: 5.1 | C40: Skata leņķis 120⁰±10⁰;
A41: =$A$22 -> 1. | B41: 5.2 | C41: Redzes lauka dziļums diapazonā no 3 līdz 100mm vai plašāk;
...

Sheet 2
D1: 2. pielikums Nolikumam “Vienreizlietojamo ķirurģisko instrumentu piegāde”, identifikācijas Nr. PSKUS 2026/6
A2: Tehniskā specifikācija/Tehniskais-finanšu piedāvājums
A3: Vienreizlietojamo ķirurģisko instrumentu piegāde
A4: (identifikācijas Nr. PSKUS 2026/6)
A5: =CONCATENATE("",A22,"pozīcija ",C22," ") -> 2.pozīcija Vienreizlietojamie digitāli endoskopi diagnostikai un biopsijai uroloģijā ar stacionāru videoprocesoru
C6: Tehniskās specifikācijas pēdējais aktualizācijas datums 25.08.2026.
A7: Vispārīgās prasības: | G7: Atbilstība:
A8: 1) | C8: Finanšu piedāvājumā Pretendentam jāietver visi izdevumi un izmaksas, kas saistītas ar Preces piegādi, transportu un Preces nodošanu ekspluatācijā (ja paredzēts);
A9: 2) | C9: Piegāde 4 nedēļu laikā no pasūtījuma brīža;
A10: 3) | C10: Vienreiz lietojamām un ierobežotu lietošanas reižu piedāvātajām Precēm derīguma termiņš (nosaka Pretendents) ir ___ (______________) mēneši no pavadzīmes-rēķina abpusējas parakstīšanas brīža, bet ne mazāk kā 12 mēneši. Daudzreiz lietojamam piedāvātajām Precēm garantijas termiņš (nosaka Pretendents) ir ___ (______________) mēneši no pavadzīmes-rēķina abpusējas parakstīšanas brīža, bet ne mazāk kā 12 mēneši;
A11: 4) | C11: *Pretendenta tehniskajā piedāvājumā norāda Preces modeli, kataloga numuru jeb ref kodu un ražotāju;
A12: 5) | C12: ** Parametru atbilstību pamatot ar norādi uz tehniskajām datu lapām ("data sheet'') jeb informatīviem materiāliem, kas apliecina atbilstību (oriģinālvalodā un tulkojumi valsts valodā, ja oriģinālvalodā nav angļu), norādot atsauci tehniskajā piedāvājumā uz konkrēto lapaspusi. Informatīvajos materiālos pretendents atzīmē uz kuru iepirkuma tehniskās specifikācijas pozīciju pievienotā informācija attiecināma;
A13: 6) | C13: Visas piedāvātās Preces ir jaunas (ražotas ne vēlāk kā 12 mēnešu laikā no pasūtījuma brīža), iepriekš nelietotas un nesatur iepriekš lietotas vai atjaunotas sastāvdaļas vai komponentes, uzglabātas un transportētas atbilstoši ražotāja noteiktajām prasībām un instrukcijām par Preces uzglabāšanu un transportēšanu;
A14: 7) | C14: ***Piedāvājumam jāpievieno piedāvātas Preces EK atbilstības deklarācijas kopija atbilstoši regulas 2017/745 prasībām un CE sertifikāta kopija (ja ražotājs noteicis ierīču klasi: I klases sterilas ierīces un I klases ierīces ar mērīšanas funkciju, IIa, IIb vai III klases ierīces), norādot attiecīgajā ailē medicīnas ierīces klasi saskaņā ar EK atbilstības deklarācijas datiem;
A15: 8) | C15: ****Paredzamais daudzums (4 gadiem) tiek izmantots Pretendentu finanšu piedāvājumu objektīvai vērtēšanai. Līgumi tiek slēgti par vienas vienības cenu, nosakot visa iepirkuma kopējo apjomu naudas izteiksmē un nenosakot katras pozīcijas apjomu. Pasūtītājam ir tiesības neiegādāties visu tehniskajā specifikācijā uzrādīto Preču daudzumu;
A16: 9) | C16: Piedāvājumam jāpievieno Preces ražotāja izsniegta autorizācijas vēstule, kas apliecina, ka Pretendents tiesīgs izplatīt un nodrošināt servisu (ja paredzēts) piedāvātai Precei Latvijas Republikā;
A17: 10) | C17: Pēc Pasūtītāja pieprasījuma Pretendentam jānodrošina Preces paraugs (paraugu izvērtēšanas kārtību skatīt nolikumā);
A18: 11) | C18: Ņemot vērā, ka neparedzamu apstākļu dēļ, Līguma ___.pielikumā norādīto preču klāsts var mainīties 10% apmērā no Vienošanās kopējās summas, tehniskajā un finanšu piedāvājumā neiekļauto preču cenas tiek atsevišķi saskaņotas ar Pasūtītāju, nepārsniedzot vidējās tirgus cenas Latvijā un nemainot Vienošanās kopējo summu.;
A19: 12) | C19: Pusēm vienojoties Vienošanās darbības termiņš var tikt pagarināts saskaņā ar Publisko iepirkumu likumā noteikto;
A20: 13) | C20: Skaitliskiem parametriem pielaide ± 10%, ja nav norādīts citādāk.
A22: 2. | C22: Vienreizlietojamie digitāli endoskopi diagnostikai un biopsijai uroloģijā ar stacionāru videoprocesoru | D22: Pretendenta (ierakstiet uzņēmuma nosaukumu) piedāvājums
C23: Pozīcijas: | D23: Preces modelis, ref kods, ražotājs*: | E23: Medicīnas ierīces klase***: | F23: Paredzamais daudzums (gab.)****: | G23: 1 vienības cena bez PVN, EUR:
A24: =$A$22 -> 2. | B24: 1 | C24: Digitālais lokanais cistoskops, ievadīšanas tubuss vairāk kā 13,8 Fr ar labās rokas atpakaļgaitas novirzi; | F24: 5
A25: =$A$22 -> 2. | B25: 2 | C25: Digitālais lokanais ureterorenoskops, ievadīšanas tubuss ne vairāk kā 8,6 Fr ar labās rokas atpakaļgaitas novirzi; | F25: 5
F26: =CONCATENATE("KOPĒJĀ CENA par 2.pozīciju bez PVN, EUR:") -> KOPĒJĀ CENA par 2.pozīciju bez PVN, EUR: | G26: =SUMPRODUCT(F24:F25,G24:G25) -> 0
C27: Veicamās funkcijas: | D27: Pretendenta piedāvātie parametri** | F27: Atsauce uz informatīvo materiālu**
A28: =$A$22 -> 2. | B28: 3 | C28: Prasības 9 Fr cistoskopam:
A29: =$A$22 -> 2. | B29: 3.1 | C29: Skata leņķis ne mazāk kā 100⁰;
A30: =$A$22 -> 2. | B30: 3.2 | C30: Redzes lauka dziļums diapazonā no 2 līdz 50mm vai plašāk;
A31: =$A$22 -> 2. | B31: 3.3 | C31: Distālā daļa ne vairāk kā 9 Fr;
A32: =$A$22 -> 2. | B32: 3.4 | C32: Ievadīšanas tubusa nominālais ārējais diametrs ne vairāk kā 13,8 Fr;
A33: =$A$22 -> 2. | B33: 3.5 | C33: Labās rokas ar atpakaļgaitas novirzi;
A34: =$A$22 -> 2. | B34: 3.6 | C34: Darba kanāla diametrs ne mazāk kā 6,6Fr;
A35: =$A$22 -> 2. | B35: 3.7 | C35: Distālās daļas izliekums diapazonā no 180⁰ uz augšu/ 180⁰ uz leju vai plašāk;
A36: =$A$22 -> 2. | B36: 3.8 | C36: Lokanās daļas darba garums 380±10mm;
A37: =$A$22 -> 2. | B37: 3.9 | C37: Rokturī integrēti LUER-LOCK pievienojumi irigācijai un piederumiem;
A38: =$A$22 -> 2. | B38: 3.10 | C38: Attēla izšķirtspēja ne mazāka kā 400x400 pikseļu
A39: =$A$22 -> 2. | B39: 3.11 | C39: Vienreizlietojami, sterilā iepakojumā;
A40: =$A$22 -> 2. | B40: 4 | C40: Prasības 8,6 Fr ureterorenoskopam:
A41: =$A$22 -> 2. | B41: 4.1 | C41: Skata leņķis ne mazāk kā 100⁰;
...

Sheet 3
D1: 2. pielikums Nolikumam “Vienreizlietojamo ķirurģisko instrumentu piegāde”, identifikācijas Nr. PSKUS 2026/6
A2: Tehniskā specifikācija/Tehniskais-finanšu piedāvājums
A3: Vienreizlietojamo ķirurģisko instrumentu piegāde
A4: (identifikācijas Nr. PSKUS 2026/6)
A5: =CONCATENATE("",A22,"pozīcija ",C22," ") -> 3.pozīcija Ierobežota lietošnas laika digitālie lokanie cistoskopi un ureterorenoskopi ar kompaktu videosistēmu
C6: Tehniskās specifikācijas pēdējais aktualizācijas datums 25.08.2026.
A7: Vispārīgās prasības: | G7: Atbilstība:
A8: 1) | C8: Finanšu piedāvājumā Pretendentam jāietver visi izdevumi un izmaksas, kas saistītas ar Preces piegādi, transportu un Preces nodošanu ekspluatācijā (ja paredzēts);
A9: 2) | C9: Piegāde 4 nedēļu laikā no pasūtījuma brīža;
A10: 3) | C10: Vienreiz lietojamām un ierobežotu lietošanas reižu piedāvātajām Precēm derīguma termiņš (nosaka Pretendents) ir ___ (______________) mēneši no pavadzīmes-rēķina abpusējas parakstīšanas brīža, bet ne mazāk kā 12 mēneši. Daudzreiz lietojamam piedāvātajām Precēm garantijas termiņš (nosaka Pretendents) ir ___ (______________) mēneši no pavadzīmes-rēķina abpusējas parakstīšanas brīža, bet ne mazāk kā 12 mēneši;
A11: 4) | C11: *Pretendenta tehniskajā piedāvājumā norāda Preces modeli, kataloga numuru jeb ref kodu un ražotāju;
A12: 5) | C12: ** Parametru atbilstību pamatot ar norādi uz tehniskajām datu lapām ("data sheet'') jeb informatīviem materiāliem, kas apliecina atbilstību (oriģinālvalodā un tulkojumi valsts valodā, ja oriģinālvalodā nav angļu), norādot atsauci tehniskajā piedāvājumā uz konkrēto lapaspusi. Informatīvajos materiālos pretendents atzīmē uz kuru iepirkuma tehniskās specifikācijas pozīciju pievienotā informācija attiecināma;
A13: 6) | C13: Visas piedāvātās Preces ir jaunas (ražotas ne vēlāk kā 12 mēnešu laikā no pasūtījuma brīža), iepriekš nelietotas un nesatur iepriekš lietotas vai atjaunotas sastāvdaļas vai komponentes, uzglabātas un transportētas atbilstoši ražotāja noteiktajām prasībām un instrukcijām par Preces uzglabāšanu un transportēšanu;
A14: 7) | C14: ***Piedāvājumam jāpievieno piedāvātas Preces EK atbilstības deklarācijas kopija atbilstoši regulas 2017/745 prasībām un CE sertifikāta kopija (ja ražotājs noteicis ierīču klasi: I klases sterilas ierīces un I klases ierīces ar mērīšanas funkciju, IIa, IIb vai III klases ierīces), norādot attiecīgajā ailē medicīnas ierīces klasi saskaņā ar EK atbilstības deklarācijas datiem;
A15: 8) | C15: ****Paredzamais daudzums (4 gadiem) tiek izmantots Pretendentu finanšu piedāvājumu objektīvai vērtēšanai. Līgumi tiek slēgti par vienas vienības cenu, nosakot visa iepirkuma kopējo apjomu naudas izteiksmē un nenosakot katras pozīcijas apjomu. Pasūtītājam ir tiesības neiegādāties visu tehniskajā specifikācijā uzrādīto Preču daudzumu;
A16: 9) | C16: Piedāvājumam jāpievieno Preces ražotāja izsniegta autorizācijas vēstule, kas apliecina, ka Pretendents tiesīgs izplatīt un nodrošināt servisu (ja paredzēts) piedāvātai Precei Latvijas Republikā;
A17: 10) | C17: Pēc Pasūtītāja pieprasījuma Pretendentam jānodrošina Preces paraugs (paraugu izvērtēšanas kārtību skatīt nolikumā);
A18: 11) | C18: Ņemot vērā, ka neparedzamu apstākļu dēļ, Līguma ___.pielikumā norādīto preču klāsts var mainīties 10% apmērā no Vienošanās kopējās summas, tehniskajā un finanšu piedāvājumā neiekļauto preču cenas tiek atsevišķi saskaņotas ar Pasūtītāju, nepārsniedzot vidējās tirgus cenas Latvijā un nemainot Vienošanās kopējo summu.;
A19: 12) | C19: Pusēm vienojoties Vienošanās darbības termiņš var tikt pagarināts saskaņā ar Publisko iepirkumu likumā noteikto;
A20: 13) | C20: Skaitliskiem parametriem pielaide ± 10%, ja nav norādīts citādāk.
A22: 3. | C22: Ierobežota lietošnas laika digitālie lokanie cistoskopi un ureterorenoskopi ar kompaktu videosistēmu | D22: Pretendenta (ierakstiet uzņēmuma nosaukumu) piedāvājums
C23: Pozīcijas: | D23: Preces modelis, ref kods, ražotājs*: | E23: Medicīnas ierīces klase***: | F23: Paredzamais daudzums (gab.)****: | G23: 1 vienības cena bez PVN, EUR:
A24: =$A$22 -> 3. | B24: 1 | C24: Digitālais lokanais cistoskops 15,0Fr | F24: 5
A25: =$A$22 -> 3. | B25: 2 | C25: Digitālais lokanais ureterorenoskops, 9,6Fr | F25: 5
F26: =CONCATENATE("KOPĒJĀ CENA par 3.pozīciju bez PVN, EUR:") -> KOPĒJĀ CENA par 3.pozīciju bez PVN, EUR: | G26: =SUMPRODUCT(F24:F25,G24:G25) -> 0
C27: Veicamās funkcijas: | D27: Pretendenta piedāvātie parametri** | F27: Atsauce uz informatīvo materiālu**
A28: =$A$22 -> 3. | B28: 3 | C28: Prasības cistoskopam:
A29: =$A$22 -> 3. | B29: 3.1 | C29: Skata leņķis 110⁰±10⁰;
A30: =$A$22 -> 3. | B30: 3.2 | C30: Redzes lauka dziļums diapazonā no 5 līdz 50mm vai plašāk;
A31: =$A$22 -> 3. | B31: 3.3 | C31: Distālai daļai diametrs ne vairāk kā 13,5Fr (4,5mm);
A32: =$A$22 -> 3. | B32: 3.4 | C32: Ievadīšanas tubusa ārējais maksimālais diametrs ne vairāk kā 15,0 Fr (5mm);
A33: =$A$22 -> 3. | B33: 3.5 | C33: Darba kanāla diametrs ne mazāk kā 6Fr (2,0mm);
A34: =$A$22 -> 3. | B34: 3.6 | C34: Distālās daļas izliekums diapazonā no 210⁰ uz augšu/ 180⁰ uz leju vai plašāk;
A35: =$A$22 -> 3. | B35: 3.7 | C35: Lokanās daļas darba garums 380±10mm;
A36: =$A$22 -> 3. | B36: 3.8 | C36: Rokturī integrēts LUER-LOCK savienojums irigācijai un piederumiem;
A37: =$A$22 -> 3. | B37: 3.9 | C37: Ražotājs paredz instrumentu apstrādi ierobežotām lietošanas reizēm.
A38: =$A$22 -> 3. | B38: 4 | C38: Prasības ureterorenoskopam:
A39: =$A$22 -> 3. | B39: 4.1 | C39: Skata leņķis 110⁰±10⁰;
A40: =$A$22 -> 3. | B40: 4.2 | C40: Redzes lauka dziļums diapazonā no 5 līdz 50mm vai plašāk;
A41: =$A$22 -> 3. | B41: 4.3 | C41: Distālai daļai diametrs ne vairāk kā 7,5Fr;
...

Sheet 4
D1: 2. pielikums Nolikumam “Vienreizlietojamo ķirurģisko instrumentu piegāde”, identifikācijas Nr. PSKUS 2026/6
A2: Tehniskā specifikācija/Tehniskais-finanšu piedāvājums
A3: Vienreizlietojamo ķirurģisko instrumentu piegāde
A4: (identifikācijas Nr. PSKUS 2026/6)
A5: =CONCATENATE("",A22,"pozīcija ",C22," ") -> 4.pozīcija Ginekoloģiskais operāciju retraktors
C6: Tehniskās specifikācijas pēdējais aktualizācijas datums 25.08.2026.
A7: Vispārīgās prasības: | G7: Atbilstība:
A8: 1) | C8: Finanšu piedāvājumā Pretendentam jāietver visi izdevumi un izmaksas, kas saistītas ar Preces piegādi, transportu un Preces nodošanu ekspluatācijā (ja paredzēts);
A9: 2) | C9: Piegāde 4 nedēļu laikā no pasūtījuma brīža;
A10: 3) | C10: Vienreiz lietojamām un ierobežotu lietošanas reižu piedāvātajām Precēm derīguma termiņš (nosaka Pretendents) ir ___ (______________) mēneši no pavadzīmes-rēķina abpusējas parakstīšanas brīža, bet ne mazāk kā 12 mēneši. Daudzreiz lietojamam piedāvātajām Precēm garantijas termiņš (nosaka Pretendents) ir ___ (______________) mēneši no pavadzīmes-rēķina abpusējas parakstīšanas brīža, bet ne mazāk kā 12 mēneši;
A11: 4) | C11: *Pretendenta tehniskajā piedāvājumā norāda Preces modeli, kataloga numuru jeb ref kodu un ražotāju;
A12: 5) | C12: ** Parametru atbilstību pamatot ar norādi uz tehniskajām datu lapām ("data sheet'') jeb informatīviem materiāliem, kas apliecina atbilstību (oriģinālvalodā un tulkojumi valsts valodā, ja oriģinālvalodā nav angļu), norādot atsauci tehniskajā piedāvājumā uz konkrēto lapaspusi. Informatīvajos materiālos pretendents atzīmē uz kuru iepirkuma tehniskās specifikācijas pozīciju pievienotā informācija attiecināma;
A13: 6) | C13: Visas piedāvātās Preces ir jaunas (ražotas ne vēlāk kā 12 mēnešu laikā no pasūtījuma brīža), iepriekš nelietotas un nesatur iepriekš lietotas vai atjaunotas sastāvdaļas vai komponentes, uzglabātas un transportētas atbilstoši ražotāja noteiktajām prasībām un instrukcijām par Preces uzglabāšanu un transportēšanu;
A14: 7) | C14: ***Piedāvājumam jāpievieno piedāvātas Preces EK atbilstības deklarācijas kopija atbilstoši regulas 2017/745 prasībām un CE sertifikāta kopija (ja ražotājs noteicis ierīču klasi: I klases sterilas ierīces un I klases ierīces ar mērīšanas funkciju, IIa, IIb vai III klases ierīces), norādot attiecīgajā ailē medicīnas ierīces klasi saskaņā ar EK atbilstības deklarācijas datiem;
A15: 8) | C15: ****Paredzamais daudzums (4 gadiem) tiek izmantots Pretendentu finanšu piedāvājumu objektīvai vērtēšanai. Līgumi tiek slēgti par vienas vienības cenu, nosakot visa iepirkuma kopējo apjomu naudas izteiksmē un nenosakot katras pozīcijas apjomu. Pasūtītājam ir tiesības neiegādāties visu tehniskajā specifikācijā uzrādīto Preču daudzumu;
A16: 9) | C16: Piedāvājumam jāpievieno Preces ražotāja izsniegta autorizācijas vēstule, kas apliecina, ka Pretendents tiesīgs izplatīt un nodrošināt servisu (ja paredzēts) piedāvātai Precei Latvijas Republikā;
A17: 10) | C17: Pēc Pasūtītāja pieprasījuma Pretendentam jānodrošina Preces paraugs (paraugu izvērtēšanas kārtību skatīt nolikumā);
A18: 11) | C18: Ņemot vērā, ka neparedzamu apstākļu dēļ, Līguma ___.pielikumā norādīto preču klāsts var mainīties 10% apmērā no Vienošanās kopējās summas, tehniskajā un finanšu piedāvājumā neiekļauto preču cenas tiek atsevišķi saskaņotas ar Pasūtītāju, nepārsniedzot vidējās tirgus cenas Latvijā un nemainot Vienošanās kopējo summu.;
A19: 12) | C19: Pusēm vienojoties Vienošanās darbības termiņš var tikt pagarināts saskaņā ar Publisko iepirkumu likumā noteikto;
A20: 13) | C20: Skaitliskiem parametriem pielaide ± 10%, ja nav norādīts citādāk.
A22: 4. | C22: Ginekoloģiskais operāciju retraktors | D22: Pretendenta (ierakstiet uzņēmuma nosaukumu) piedāvājums
C23: Pozīcijas: | D23: Preces modelis, ref kods, ražotājs*: | E23: Medicīnas ierīces klase***: | F23: Paredzamais daudzums (gab.)****: | G23: 1 vienības cena bez PVN, EUR:
A24: =$A$22 -> 4. | B24: 1 | C24: Retraktora komplekts sniegavīra tipa gredzeni, komplektā ar 5mm asiem āķiem (Atsauces Nr. Galaxy II JUNE3000S5 vai ekvivalents) | F24: 10
A25: =$A$22 -> 4. | B25: 2 | C25: Retraktora komplekts sniegavīra tipa gredzeni, komplektā ar 5mm truliem āķiem (Atsauces Nr. Galaxy II JUNE3000B5 vai ekvivalents) | F25: 10
A26: =$A$22 -> 4. | B26: 3 | C26: Retraktora komplekts sniegavīra tipa gredzeni, komplektā ar 12mm truliem āķiem (Atsauces Nr. Galaxy II JUNE3000B12 vai ekvivalents) | F26: 10
A27: =$A$22 -> 4. | B27: 4 | C27: Retraktora rezerves rāmis sniegavīra tipa (Atsauces nr. Galaxy II JUNE 3000 vai ekvivalents) | F27: 10
A28: =$A$22 -> 4. | B28: 5 | C28: Āķis 5±1mm, truls gals (Atsauces Nr. Galaxy II JUNE3002B vai ekvivalents) | F28: 50
A29: =$A$22 -> 4. | B29: 6 | C29: Āķis 5±1mm, ass gals (Atsauces Nr. Galaxy II JUNE3002S vai ekvivalents) | F29: 50
A30: =$A$22 -> 4. | B30: 7 | C30: Āķis 12±1mm, truls gals (Atsauces Nr. Galaxy II JUNE3003B vai ekvivalents) | F30: 50
A31: =$A$22 -> 4. | B31: 8 | C31: Āķis dubultais 7±1mm, asi gali (Atsauces Nr. Galaxy II JUNE3004S vai ekvivalents) | F31: 50
A32: =$A$22 -> 4. | B32: 9 | C32: Āķis platais ar 3 zariem 20±1mm, asi gali (Atsauces Nr. Galaxy II JUNE3005B vai ekvivalents) | F32: 50
F33: =CONCATENATE("KOPĒJĀ CENA par 4.pozīciju bez PVN, EUR:") -> KOPĒJĀ CENA par 4.pozīciju bez PVN, EUR: | G33: =SUMPRODUCT(F24:F32,G24:G32) -> 0
C34: Veicamās funkcijas: | D34: Pretendenta piedāvātie parametri** | F34: Atsauce uz informatīvo materiālu**
A35: =$A$22 -> 4. | B35: 10 | C35: Plastmasas retraktors, silikona un metāla materiālu āķi;
A36: =$A$22 -> 4. | B36: 11 | C36: Komplekts sastāv no retraktora gredzena un elastīgiem atvilcēja āķiem;
A37: =$A$22 -> 4. | B37: 12 | C37: Komplektā retraktors un ne mazāk kā 8 elastīgi āķi;
A38: =$A$22 -> 4. | B38: 13 | C38: Sterilā iepakojumā, vienreizlietojami;
A39: =$A$22 -> 4. | B39: 14 | C39: Astotnieka formas retraktors: lielā apļa iekšējais diametrs 180±10mm, mazā apļa iekšējais diametrs 120±10mm;
A40: =$A$22 -> 4. | B40: 15 | C40: Pieejamie āķu veidi:
A41: =$A$22 -> 4. | B41: 15.1 | C41: 5±1mm, truls gals (Atsauces Nr. Galaxy II JUNE3002B vai ekvivalents)
...

Sheet 5
D1: 2. pielikums Nolikumam “Vienreizlietojamo ķirurģisko instrumentu piegāde”, identifikācijas Nr. PSKUS 2026/6
A2: Tehniskā specifikācija/Tehniskais-finanšu piedāvājums
A3: Vienreizlietojamo ķirurģisko instrumentu piegāde
A4: (identifikācijas Nr. PSKUS 2026/6)
A5: =CONCATENATE("",A22,"pozīcija ",C22," ") -> 5.pozīcija Vienreizlietojams digitālais lokanais bronhoskops
C6: Tehniskās specifikācijas pēdējais aktualizācijas datums 25.08.2026.
A7: Vispārīgās prasības: | G7: Atbilstība:
A8: 1) | C8: Finanšu piedāvājumā Pretendentam jāietver visi izdevumi un izmaksas, kas saistītas ar Preces piegādi, transportu un Preces nodošanu ekspluatācijā (ja paredzēts);
A9: 2) | C9: Piegāde 4 nedēļu laikā no pasūtījuma brīža;
A10: 3) | C10: Vienreiz lietojamām un ierobežotu lietošanas reižu piedāvātajām Precēm derīguma termiņš (nosaka Pretendents) ir ___ (______________) mēneši no pavadzīmes-rēķina abpusējas parakstīšanas brīža, bet ne mazāk kā 12 mēneši. Daudzreiz lietojamam piedāvātajām Precēm garantijas termiņš (nosaka Pretendents) ir ___ (______________) mēneši no pavadzīmes-rēķina abpusējas parakstīšanas brīža, bet ne mazāk kā 12 mēneši;
A11: 4) | C11: *Pretendenta tehniskajā piedāvājumā norāda Preces modeli, kataloga numuru jeb ref kodu un ražotāju;
A12: 5) | C12: ** Parametru atbilstību pamatot ar norādi uz tehniskajām datu lapām ("data sheet'') jeb informatīviem materiāliem, kas apliecina atbilstību (oriģinālvalodā un tulkojumi valsts valodā, ja oriģinālvalodā nav angļu), norādot atsauci tehniskajā piedāvājumā uz konkrēto lapaspusi. Informatīvajos materiālos pretendents atzīmē uz kuru iepirkuma tehniskās specifikācijas pozīciju pievienotā informācija attiecināma;
A13: 6) | C13: Visas piedāvātās Preces ir jaunas (ražotas ne vēlāk kā 12 mēnešu laikā no pasūtījuma brīža), iepriekš nelietotas un nesatur iepriekš lietotas vai atjaunotas sastāvdaļas vai komponentes, uzglabātas un transportētas atbilstoši ražotāja noteiktajām prasībām un instrukcijām par Preces uzglabāšanu un transportēšanu;
A14: 7) | C14: ***Piedāvājumam jāpievieno piedāvātas Preces EK atbilstības deklarācijas kopija atbilstoši regulas 2017/745 prasībām un CE sertifikāta kopija (ja ražotājs noteicis ierīču klasi: I klases sterilas ierīces un I klases ierīces ar mērīšanas funkciju, IIa, IIb vai III klases ierīces), norādot attiecīgajā ailē medicīnas ierīces klasi saskaņā ar EK atbilstības deklarācijas datiem;
A15: 8) | C15: ****Paredzamais daudzums (4 gadiem) tiek izmantots Pretendentu finanšu piedāvājumu objektīvai vērtēšanai. Līgumi tiek slēgti par vienas vienības cenu, nosakot visa iepirkuma kopējo apjomu naudas izteiksmē un nenosakot katras pozīcijas apjomu. Pasūtītājam ir tiesības neiegādāties visu tehniskajā specifikācijā uzrādīto Preču daudzumu;
A16: 9) | C16: Piedāvājumam jāpievieno Preces ražotāja izsniegta autorizācijas vēstule, kas apliecina, ka Pretendents tiesīgs izplatīt un nodrošināt servisu (ja paredzēts) piedāvātai Precei Latvijas Republikā;
A17: 10) | C17: Pēc Pasūtītāja pieprasījuma Pretendentam jānodrošina Preces paraugs (paraugu izvērtēšanas kārtību skatīt nolikumā);
A18: 11) | C18: Ņemot vērā, ka neparedzamu apstākļu dēļ, Līguma ___.pielikumā norādīto preču klāsts var mainīties 10% apmērā no Vienošanās kopējās summas, tehniskajā un finanšu piedāvājumā neiekļauto preču cenas tiek atsevišķi saskaņotas ar Pasūtītāju, nepārsniedzot vidējās tirgus cenas Latvijā un nemainot Vienošanās kopējo summu.;
A19: 12) | C19: Pusēm vienojoties Vienošanās darbības termiņš var tikt pagarināts saskaņā ar Publisko iepirkumu likumā noteikto;
A20: 13) | C20: Skaitliskiem parametriem pielaide ± 10%, ja nav norādīts citādāk.
A22: 5. | C22: Vienreizlietojams digitālais lokanais bronhoskops | D22: Pretendenta (ierakstiet uzņēmuma nosaukumu) piedāvājums
C23: Pozīcijas: | D23: Preces modelis, ref kods, ražotājs*: | E23: Medicīnas ierīces klase***: | F23: Paredzamais daudzums (gab.)****: | G23: 1 vienības cena bez PVN, EUR:
A24: =$A$22 -> 5. | B24: 1 | C24: Digitālais lokanais bronhoskops ar darba kanālu ne mazāku kā 1,4mm | F24: 5
A25: =$A$22 -> 5. | B25: 2 | C25: Digitālais lokanais bronhoskops ar darba kanālu ne mazāku kā 2,8mm | F25: 5
F26: =CONCATENATE("KOPĒJĀ CENA par 3.pozīciju bez PVN, EUR:") -> KOPĒJĀ CENA par 3.pozīciju bez PVN, EUR: | G26: =SUMPRODUCT(F24:F25,G24:G25) -> 0
C27: Veicamās funkcijas: | D27: Pretendenta piedāvātie parametri** | F27: Atsauce uz informatīvo materiālu**
A28: =$A$22 -> 5. | B28: 3 | C28: Digitālais lokanais bronhoskops ar darba kanālu ne mazāku kā 1,4mm:
A29: =$A$22 -> 5. | B29: 3.1 | C29: Skata leņķis ne mazāk kā 87⁰;
A30: =$A$22 -> 5. | B30: 3.2 | C30: Skata virziens 0⁰±1⁰;
A31: =$A$22 -> 5. | B31: 3.3 | C31: Redzes lauka dziļums diapazonā no 5 līdz 50mm vai plašāk;
A32: =$A$22 -> 5. | B32: 3.5 | C32: Ievadīšanas tubusa maksimālais ārējais diametrs ne vairāk kā 3,9mm;
A33: =$A$22 -> 5. | B33: 3.6 | C33: Savietojams ar intubācijas cauruli (iekšējais diametrs) 5mm
A34: =$A$22 -> 5. | B34: 3.7 | C34: Darba kanāla iekšējais diametrs ne mazāk kā 1,4mm;
A35: =$A$22 -> 5. | B35: 3.8 | C35: Savietojams ar dubultlūmena cauruli (iekšējais diametrs) 35Fr
A36: =$A$22 -> 5. | B36: 3.9 | C36: Distālās daļas izliekums diapazonā no 220⁰ uz augšu/ 220⁰ uz leju vai plašāk;
A37: =$A$22 -> 5. | B37: 3.10 | C37: Lokanās daļas darba garums 605±10mm;
A38: =$A$22 -> 5. | B38: 3.9 | C38: Attēla izšķirtspēja ne mazāka kā 400x400 pikseļu
A39: =$A$22 -> 5. | B39: 4 | C39: Digitālais lokanais bronhoskops ar darba kanālu ne mazāku kā 2,8mm:
A40: =$A$22 -> 5. | B40: 4.1 | C40: Skata leņķis ne mazāk kā 87,5⁰;
A41: =$A$22 -> 5. | B41: 4.2 | C41: Skata virziens 0⁰±1⁰;
...
