Workbook

Sheet KOPT
A1: BŪVNIECĪBAS KOPTĀME
A3: Būves nosaukums: | C3: =KOPS!D4 -> MĀKSLĪGA MITRĀJA IZVEIDOŠANA JĒKABPILS NOVADA SAUKAS UN ELKŠŅU PAGASTU KLAUCES UPES VECUPES POSMĀ
A4: Būves adrese: | C4: =KOPS!D5 -> JĒKABPILS NOVADS, SAUKAS UN ELKŠŅU PAGASTI
A5: Pasūtījuma Nr.
A6: Tāme sastādīta: 2026.gada februāris
A8: Nr.p.k. | B8: Objekta Nr. | C8: Objekta nosaukums | D8: Objekta izmaksas (euro)
A11: 1 | B11: 1 | C11: =KOPS!D3 -> MĀKSLĪGA MITRĀJA IZVEIDOŠANA | D11: =KOPS!D21 -> 0
C13: KOPĀ | D13: =SUM(D11:D12) -> 0
C14: PVN 21% | D14: =D13*21% -> 0

Sheet KOPS
D1: KOPSAVILKUMA APRĒĶINS Nr. 1
A3: Būves nosaukums: | D3: MĀKSLĪGA MITRĀJA IZVEIDOŠANA
A4: Objekta nosaukums: | D4: MĀKSLĪGA MITRĀJA IZVEIDOŠANA JĒKABPILS NOVADA SAUKAS UN ELKŠŅU PAGASTU KLAUCES UPES VECUPES POSMĀ
A5: Objekta adrese: | D5: JĒKABPILS NOVADS, SAUKAS UN ELKŠŅU PAGASTI
A6: Pasūtījuma Nr.
A7: Par kopējo summu, euro | D7: =D19 -> 0
A8: Kopējā darbietilpība, c/st | D8: =H15 -> 0
A9: =KOPT!A6 -> Tāme sastādīta: 2026.gada februāris
A10: Nr.p.k. | B10: Kods, tāmes Nr. | C10: Būvdarbu veids vai konstruktīvā elementa nosaukums | D10: Tāmes izmaksas (euro) | E10: Tai skaitā | H10: Darbietilpība (c/h)
E11: Darba alga (euro) | F11: Būvizstrādājumi (euro) | G11: Mehānismi (euro)
A13: 1 | B13: 1-1 | C13: MĀKSLĪGĀ MITRĀJA IZVEIDOŠANA | D13: =Mitrājs!O63 -> 0 | E13: =Mitrājs!L63 -> 0 | F13: =Mitrājs!M63 -> 0 | G13: =Mitrājs!N63 -> 0 | H13: =Mitrājs!K63 -> 0
C15: Kopā | D15: =SUM(D13:D14) -> 0 | E15: =SUM(E13:E14) -> 0 | F15: =SUM(F13:F14) -> 0 | G15: =SUM(G13:G14) -> 0 | H15: =SUM(H13:H14) -> 0
C16: Virsizdevumi 15% | D16: =ROUND(D15*15%,2) -> 0
C17: t.sk. darba aizsardzībai | D17: =ROUND(D16*10%,2) -> 0
C18: Peļņa 5% | D18: =ROUND(D15*5%,2) -> 0
C19: PAVISAM KOPĀ | D19: =D15+D16+D18 -> 0
C20: Finanšu rezerve neparedzētiem darbiem 5% | D20: =D19*5% -> 0
C21: PAVISAM KOPĀ | D21: =SUM(D19:D20) -> 0
A23: Piezīme. Būvlaukuma izveidošanas un uzturēšanas izmaksas iekļautas virsizdevumos.

Sheet Mitrājs
C1: LOKĀLĀ TĀME Nr.1-1
C2: =KOPS!C13 -> MĀKSLĪGĀ MITRĀJA IZVEIDOŠANA
A4: Būves nosaukums: | C4: =KOPS!D3 -> MĀKSLĪGA MITRĀJA IZVEIDOŠANA
A5: Objekta nosaukums: | C5: =KOPS!D4 -> MĀKSLĪGA MITRĀJA IZVEIDOŠANA JĒKABPILS NOVADA SAUKAS UN ELKŠŅU PAGASTU KLAUCES UPES VECUPES POSMĀ
A6: Objekta adrese: | C6: =KOPS!D5 -> JĒKABPILS NOVADS, SAUKAS UN ELKŠŅU PAGASTI
A7: Pasūtījuma Nr.
A8: Tāme sastādīta 2026.gada tirgus cenās, pamatojoties uz darbu apjomu sarakstiem. | N8: Tāmes tiešās izmaksas euro bez PVN | O8: =O63 -> 0
A9: =KOPT!A6 -> Tāme sastādīta: 2026.gada februāris
A10: Nr.p.k. | B10: Būvdarbu nosaukums | C10: Mērvienība | D10: Daudzums | E10: Vienības izmaksas | K10: Kopā uz visu apjomu
E11: Laika norma (c/h) | F11: Darba samaksas likme (euro/h) | G11: Darba alga (euro) | H11: Būvizstrādājumi (euro) | I11: Mehānismi (euro) | J11: Kopā (euro) | K11: Darbietilpība (c/h) | L11: Darba alga (euro) | M11: Būvizstrādājumi (euro) | N11: Mehānismi (euro) | O11: Summa (euro)
A13: 1 | B13: Apauguma novākšana, krb lauksaimniecības zemē. | Q13: =D13*0.1 -> 0
A14: 1.1 | B14: kontūra Nr.1 | C14: ha | D14: 0.069 | G14: =ROUND(E14*F14,2) -> 0 | J14: =SUM(G14:I14) -> 0 | L14: =ROUND(D14*G14,2) -> 0 | M14: =ROUND(D14*H14,2) -> 0 | N14: =ROUND(I14*D14,2) -> 0 | O14: =SUM(L14:N14) -> 0 | Q14: =D14*0.08 -> 0.00552
A15: 2 | B15: Apauguma novākšana, mežaudze 10Ba15 | Q15: =D15*0.08 -> 0
A16: 2.1 | B16: kontūra Nr.2 | C16: ha | D16: 0.01 | G16: =ROUND(E16*F16,2) -> 0 | J16: =SUM(G16:I16) -> 0 | L16: =ROUND(D16*G16,2) -> 0 | M16: =ROUND(D16*H16,2) -> 0 | N16: =ROUND(I16*D16,2) -> 0 | O16: =SUM(L16:N16) -> 0 | Q16: =D16*0.04 -> 0.0004
A17: 2.2 | B17: kontūra Nr.3 | C17: ha | D17: 0.11 | G17: =ROUND(E17*F17,2) -> 0 | J17: =SUM(G17:I17) -> 0 | L17: =ROUND(D17*G17,2) -> 0 | M17: =ROUND(D17*H17,2) -> 0 | N17: =ROUND(I17*D17,2) -> 0 | O17: =SUM(L17:N17) -> 0
A18: 2.3 | B18: kontūra Nr.4 | C18: ha | D18: 0.1 | G18: =ROUND(E18*F18,2) -> 0 | J18: =SUM(G18:I18) -> 0 | L18: =ROUND(D18*G18,2) -> 0 | M18: =ROUND(D18*H18,2) -> 0 | N18: =ROUND(I18*D18,2) -> 0 | O18: =SUM(L18:N18) -> 0 | Q18: =SUM(Q13:Q17) -> 0.00592
A19: 3 | B19: Piketāžas izspraušana dabā | Q19: =Q18*1.3 -> 0.007696
A20: 3.1 | B20: Mākslīgā mitrāja (koplietošanas novadgrāvja MK KODS 3864452:K:12 lejteces) piketāžas izspraušana dabā. | C20: m | D20: 450 | G20: =ROUND(E20*F20,2) -> 0 | J20: =SUM(G20:I20) -> 0 | L20: =ROUND(D20*G20,2) -> 0 | M20: =ROUND(D20*H20,2) -> 0 | N20: =ROUND(I20*D20,2) -> 0 | O20: =SUM(L20:N20) -> 0
A21: 3.2 | B21: Klauces upes (MK KODS 3864452:K:112) piketāžas izspraušana dabā. | C21: m | D21: 300 | G21: =ROUND(E21*F21,2) -> 0 | J21: =SUM(G21:I21) -> 0 | L21: =ROUND(D21*G21,2) -> 0 | M21: =ROUND(D21*H21,2) -> 0 | N21: =ROUND(I21*D21,2) -> 0 | O21: =SUM(L21:N21) -> 0
A22: 4 | B22: Bebru dambju likvidēšana
A23: 4.1 | B23: Bebru dambja likvidēšana uz koplietošanas ūdensnotekas MK KODS 3864452:K:112 ar vienkausa ekskavatoru. | C23: m3 | D23: 2 | G23: =ROUND(E23*F23,2) -> 0 | J23: =SUM(G23:I23) -> 0 | L23: =ROUND(D23*G23,2) -> 0 | M23: =ROUND(D23*H23,2) -> 0 | N23: =ROUND(I23*D23,2) -> 0 | O23: =SUM(L23:N23) -> 0
A24: 4.2 | B24: Bebru dambja likvidēšana uz valsts nozīmes ūdensnotekas MK KODS 3864452:01 ar vienkausa ekskavatoru. | C24: m3 | D24: 5 | G24: =ROUND(E24*F24,2) -> 0 | J24: =SUM(G24:I24) -> 0 | L24: =ROUND(D24*G24,2) -> 0 | M24: =ROUND(D24*H24,2) -> 0 | N24: =ROUND(I24*D24,2) -> 0 | O24: =SUM(L24:N24) -> 0
A25: 5 | B25: Virskārtas - augsnes izstrādāšana un pārvietošana no projektētā mākslīgā mitrāja teritorijas
A26: 5.1 | B26: Augsnes grunts izstrādāšana un pārvietošana ar mehānismiem, attālumā līdz 40m (augsnes vid dziļums 20cm). | C26: m3 | D26: 560 | G26: =ROUND(E26*F26,2) -> 0 | J26: =SUM(G26:I26) -> 0 | L26: =ROUND(D26*G26,2) -> 0 | M26: =ROUND(D26*H26,2) -> 0 | N26: =ROUND(I26*D26,2) -> 0 | O26: =SUM(L26:N26) -> 0
A27: 5.2 | B27: Izstrādātās augsnes grunts pārvietošana un sastumšana kaudzēs. Grunts pārvietošanas attālums līdz 10m. | C27: m3 | D27: 336 | G27: =ROUND(E27*F27,2) -> 0 | J27: =SUM(G27:I27) -> 0 | L27: =ROUND(D27*G27,2) -> 0 | M27: =ROUND(D27*H27,2) -> 0 | N27: =ROUND(I27*D27,2) -> 0 | O27: =SUM(L27:N27) -> 0
A28: 6 | B28: Mākslīgā mitrāja izbūve
A29: 6.1 | B29: II grupas grunts rakšana ar vienkausa ekskavatoru. | C29: m3 | D29: 7911.4 | G29: =ROUND(E29*F29,2) -> 0 | J29: =SUM(G29:I29) -> 0 | L29: =ROUND(D29*G29,2) -> 0 | M29: =ROUND(D29*H29,2) -> 0 | N29: =ROUND(I29*D29,2) -> 0 | O29: =SUM(L29:N29) -> 0
A30: 6.2 | B30: Kūdras grunts rakšana projektētā mitrāja gultnē. | C30: m3 | D30: 563.15 | G30: =ROUND(E30*F30,2) -> 0 | J30: =SUM(G30:I30) -> 0 | L30: =ROUND(D30*G30,2) -> 0 | M30: =ROUND(D30*H30,2) -> 0 | N30: =ROUND(I30*D30,2) -> 0 | O30: =SUM(L30:N30) -> 0
A31: 6.3 | B31: Vienreizējā grunts pārmešana. | C31: m3 | D31: 2824.85 | G31: =ROUND(E31*F31,2) -> 0 | J31: =SUM(G31:I31) -> 0 | L31: =ROUND(D31*G31,2) -> 0 | M31: =ROUND(D31*H31,2) -> 0 | N31: =ROUND(I31*D31,2) -> 0 | O31: =SUM(L31:N31) -> 0
A32: 6.4 | B32: No mākslīgā mitrāja gultnes izraktās kūdras grunts aizvietošana ar izrakto minerālgrunti no mitrāja būvniecības. | C32: m3 | D32: 563.15 | G32: =ROUND(E32*F32,2) -> 0 | J32: =SUM(G32:I32) -> 0 | L32: =ROUND(D32*G32,2) -> 0 | M32: =ROUND(D32*H32,2) -> 0 | N32: =ROUND(I32*D32,2) -> 0 | O32: =SUM(L32:N32) -> 0
A33: 6.5 | B33: Atsūknēšanas būvbedres padziļināšana ar roku darbu. | C33: m3 | D33: 5 | G33: =ROUND(E33*F33,2) -> 0 | J33: =SUM(G33:I33) -> 0 | L33: =ROUND(D33*G33,2) -> 0 | M33: =ROUND(D33*H33,2) -> 0 | N33: =ROUND(I33*D33,2) -> 0 | O33: =SUM(L33:N33) -> 0
A34: 6.6 | B34: Ūdens atsūknēšana ar motorsūkni. | C34: m/h | D34: 720 | G34: =ROUND(E34*F34,2) -> 0 | J34: =SUM(G34:I34) -> 0 | L34: =ROUND(D34*G34,2) -> 0 | M34: =ROUND(D34*H34,2) -> 0 | N34: =ROUND(I34*D34,2) -> 0 | O34: =SUM(L34:N34) -> 0
A35: 6.7 | B35: Aizbēruma veidošana uz koplietošanas novadgrāvja MK KODS 3864452:K:112, lai tā trasi novirzītu uz projektēto mākslīgo mitrāju un esošās Klauces vecupes posma aizbēršana:
A36: 6.7.1 | B36: - Aizbērumu veido līdz augstuma atzīmei 81,00m LAS-2000,5. Nogāzes veido 1:2. | C36: m3 | D36: 303 | G36: =ROUND(E36*F36,2) -> 0 | J36: =SUM(G36:I36) -> 0 | L36: =ROUND(D36*G36,2) -> 0 | M36: =ROUND(D36*H36,2) -> 0 | N36: =ROUND(I36*D36,2) -> 0 | O36: =SUM(L36:N36) -> 0
A37: 6.7.2 | B37: - Uzbērtās virsmas planēšana ar vienkausa ekskavatora kausu. | C37: m2 | D37: 386 | G37: =ROUND(E37*F37,2) -> 0 | J37: =SUM(G37:I37) -> 0 | L37: =ROUND(D37*G37,2) -> 0 | M37: =ROUND(D37*H37,2) -> 0 | N37: =ROUND(I37*D37,2) -> 0 | O37: =SUM(L37:N37) -> 0
A38: 6.7.3 | B38: - Nogāzes nostiprināšana Klauces upei (MK KODS 3864452:01) pik. 7/90-8/00 ar ģeopaklāju (Enkamat flatback 7210/7220) un akmens šķembu (fr. 40-70mm) bērumu (h=30cm) . | C38: m2 | D38: 80 | G38: =ROUND(E38*F38,2) -> 0 | J38: =SUM(G38:I38) -> 0 | L38: =ROUND(D38*G38,2) -> 0 | M38: =ROUND(D38*H38,2) -> 0 | N38: =ROUND(I38*D38,2) -> 0 | O38: =SUM(L38:N38) -> 0
A39: 6.7.4 | B39: - Uzbēruma virsmas labiekārtošana ar zāļu sēju uz 5 cm augsnes uzbēruma. | C39: m2 | D39: 386 | G39: =ROUND(E39*F39,2) -> 0 | J39: =SUM(G39:I39) -> 0 | L39: =ROUND(D39*G39,2) -> 0 | M39: =ROUND(D39*H39,2) -> 0 | N39: =ROUND(I39*D39,2) -> 0 | O39: =SUM(L39:N39) -> 0
B40: Zālāju sēklas | C40: kg | D40: 9.6 | G40: =ROUND(E40*F40,2) -> 0 | J40: =SUM(G40:I40) -> 0 | L40: =ROUND(D40*G40,2) -> 0 | M40: =ROUND(D40*H40,2) -> 0 | N40: =ROUND(I40*D40,2) -> 0 | O40: =SUM(L40:N40) -> 0
A41: 6.8 | B41: ZA pusē esošā grāvja pārvirzīšana uz Klauces upi, t.sk.
A42: 6.8.1 | B42: - jaunas grāvja trases posma izbūve ar vienkausa ekskavatoru. Projektētā grāvja posma dziļums vid.0,8m; m=1:1,5; b=0,6m). | C42: m3 | D42: 10 | G42: =ROUND(E42*F42,2) -> 0 | J42: =SUM(G42:I42) -> 0 | L42: =ROUND(D42*G42,2) -> 0 | M42: =ROUND(D42*H42,2) -> 0 | N42: =ROUND(I42*D42,2) -> 0 | O42: =SUM(L42:N42) -> 0
...
