Workbook

Sheet Būvn_Koptāme
E2: 2.pielikums
E3: konkursa
E4: ID Nr. CNP/2026/79/ERAF nolikumam
B10: Būvniecības KOPTĀME
B12: Objekts nosaukums: Pacēlāja uzstādīšana Zaubes Kultūras namā
B13: Būves nosaukums:
B14: Objekta adrese: "Kalna Bērzaines", Zaube, Zaubes pagasts, Cēsu novads
B15: Pasūtītājs: Cēsu novada pašvaldība
B17: Tāme sastādīta__________
D18: Tāmes kopējās izmaksas (ar PVN 21%), EUR | E18: =E28 -> 0
D19: Kopējā normatīvā darbietilpība, c/h | E19: =Kopsavilkums!I19 -> 0
E21: Kopējās objekta
A22: Nr.p.k. | B22: Tāmes Nr. | C22: Objekta izmaksu nosaukums | E22: izmaksas
E23: /EUR/
A24: 1 | B24: 1 | C24: Pacēlāja uzstādīšana Zaubes Kultūras namā | E24: =Kopsavilkums!E23 -> 0
C26: Kopā : | E26: =ROUND(SUM(E24:E25),2) -> 0
C27: PVN | D27: 0.21 | E27: =ROUND(E26*D27,2) -> 0
C28: Kopā ar PVN: | E28: =SUM(E26:E27) -> 0
C31: Tāmi sastādīja:______________________________________
C32: (paraksts un tā atšifrējums,datums)
C34: LBS būvpr. sertifikāts Nr.

Sheet Kopsavilkums
A2: KOPSAVILKUMA APRĒĶINS
B4: =Būvn_Koptāme!B12 -> Objekts nosaukums: Pacēlāja uzstādīšana Zaubes Kultūras namā
B5: =Būvn_Koptāme!B13 -> Būves nosaukums:
B6: =Būvn_Koptāme!B14 -> Objekta adrese: "Kalna Bērzaines", Zaube, Zaubes pagasts, Cēsu novads
B7: =Būvn_Koptāme!B15 -> Pasūtītājs: Cēsu novada pašvaldība
H10: Par kopējo summu, EUR | I10: =E23 -> 0
C11: =Būvn_Koptāme!B17 -> Tāme sastādīta__________ | H11: Kopējā darbietilpība, c/h | I11: =I19 -> 0
A13: Nr.p.k. | B13: Lokālās tāmes Nr. | C13: Darba veids vai konstruktīvā elementa nosaukums | E13: Tāmes izmaksa (EUR) | F13: Tai skaitā | I13: Darbietilpība (c/h)
F14: Darba alga (EUR) | G14: Materiāli (EUR) | H14: Mehān., instr.īre, amortizācija (EUR)
A16: 1 | B16: 1 | C16: Būvdarbi | E16: ='1-būvdarbi'!P34 -> 0 | F16: ='1-būvdarbi'!M34 -> 0 | G16: ='1-būvdarbi'!N34 -> 0 | H16: ='1-būvdarbi'!O34 -> 0 | I16: ='1-būvdarbi'!L34 -> 0
A17: 2 | B17: 2 | C17: Pacēlāja/lifta iegāde, piegāde un uzstādīšana | E17: ='2-pacēlājs'!P19 -> 0 | F17: ='2-pacēlājs'!M19 -> 0 | G17: ='2-pacēlājs'!N19 -> 0 | H17: ='2-pacēlājs'!O19 -> 0 | I17: ='2-pacēlājs'!L19 -> 0
A19: KOPĀ: | E19: =SUM(E16:E18) -> 0 | F19: =SUM(F16:F18) -> 0 | G19: =SUM(G16:G18) -> 0 | H19: =SUM(H16:H18) -> 0 | I19: =SUM(I16:I18) -> 0
A20: Virsizdevumi (%) | E20: =ROUND(E19*D20,2) -> 0
A21: t.sk.darba aizsardzība | E21: =ROUND(E20*D21,2) -> 0
A22: Plānota peļņa (%) | E22: =ROUND(E19*D22,2) -> 0
A23: PAVISAM KOPĀ bez PVN | E23: =SUM(E19:E22)-E21 -> 0
C26: Tāmi sastādīja:______________________________________
C27: (paraksts un tā atšifrējums,datums)
C29: LBS būvpr. sertifikāts Nr.

Sheet 1-būvdarbi
H2: Lokālā tāme Nr. 1
G3: Vispārīgie celtniecības darbi
H4: (darbu veids)
C5: =Būvn_Koptāme!B12 -> Objekts nosaukums: Pacēlāja uzstādīšana Zaubes Kultūras namā
C6: =Būvn_Koptāme!B13 -> Būves nosaukums:
C7: =Būvn_Koptāme!B14 -> Objekta adrese: "Kalna Bērzaines", Zaube, Zaubes pagasts, Cēsu novads
C8: =Būvn_Koptāme!B15 -> Pasūtītājs: Cēsu novada pašvaldība
C9: =Būvn_Koptāme!B16 -> 0
M11: Tāmes izmaksas EUR | O11: =P34 -> 0
C12: Tāme sastādīta 2026. gada tirgus cenās
L13: =Būvn_Koptāme!B17 -> Tāme sastādīta__________
A15: Nr.p.k. | B15: Kods | C15: Darba nosaukums | D15: Mērvienība | E15: Daudzums | F15: Vienības izmaksas | L15: Kopā uz visu apjomu
F16: Laika norma (c/h) | G16: Darba samaksas likme* (Euro/h) | H16: Darba alga (Euro) | I16: Būvizstrādājumi (Euro) | J16: Mehānismi (Euro) | K16: Kopā (Euro) | L16: Darbietilpība (c/h) | M16: Darba alga (Euro) | N16: Būvizstrādājumi (Euro) | O16: Mehānismi (Euro) | P16: Summa (Euro)
A17: 1 | B17: 2 | C17: 2 | D17: 3 | E17: 4 | F17: 5 | G17: 6 | H17: 7 | I17: 8 | J17: 9 | K17: 10 | L17: 11 | M17: 12 | N17: 13 | O17: 14 | P17: 15
A18: 1 | C18: Elektromontāža | D18: 0 | E18: 0 | F18: 0 | G18: 0 | H18: =ROUND(F18*G18,2) -> 0 | I18: 0 | J18: 0 | K18: =ROUND(SUM(H18:J18),2) -> 0 | L18: =ROUND(E18*F18,2) -> 0 | M18: =ROUND(E18*H18,2) -> 0 | N18: =ROUND(E18*I18,2) -> 0 | O18: =ROUND(E18*J18,2) -> 0 | P18: =ROUND(SUM(M18:O18),2) -> 0
A19: 2 | C19: Automātslēdzis Ex9B N, 1p, C16A, 250V ("Noark" vai analogs) | D19: gb | E19: 1 | K19: =ROUND(SUM(H19:J19),2) -> 0 | L19: =ROUND(E19*F19,2) -> 0 | M19: =ROUND(E19*H19,2) -> 0 | N19: =ROUND(E19*I19,2) -> 0 | O19: =ROUND(E19*J19,2) -> 0 | P19: =ROUND(SUM(M19:O19),2) -> 0
A20: 3 | C20: Kabelis ar vara dzīslām NYM -3* 2.5mm2 ("Eselo" vai analogs) | D20: m | E20: 25 | K20: =ROUND(SUM(H20:J20),2) -> 0 | L20: =ROUND(E20*F20,2) -> 0 | M20: =ROUND(E20*H20,2) -> 0 | N20: =ROUND(E20*I20,2) -> 0 | O20: =ROUND(E20*J20,2) -> 0 | P20: =ROUND(SUM(M20:O20),2) -> 0
A21: 4 | C21: Gofrēta PVC caurule FFKuM -25 ("Eselo" vai analogs) | D21: m | E21: 10 | K21: =ROUND(SUM(H21:J21),2) -> 0 | L21: =ROUND(E21*F21,2) -> 0 | M21: =ROUND(E21*H21,2) -> 0 | N21: =ROUND(E21*I21,2) -> 0 | O21: =ROUND(E21*J21,2) -> 0 | P21: =ROUND(SUM(M21:O21),2) -> 0
A22: 5 | C22: Kabeļkanāls PVC CK-20x30mm ("Eselo" vai analogs) | D22: m | E22: 12 | K22: =ROUND(SUM(H22:J22),2) -> 0 | L22: =ROUND(E22*F22,2) -> 0 | M22: =ROUND(E22*H22,2) -> 0 | N22: =ROUND(E22*I22,2) -> 0 | O22: =ROUND(E22*J22,2) -> 0 | P22: =ROUND(SUM(M22:O22),2) -> 0
A23: 6 | C23: Palīgmateriāli spēka elektromontāžai | D23: k-ts | E23: 1 | K23: =ROUND(SUM(H23:J23),2) -> 0 | L23: =ROUND(E23*F23,2) -> 0 | M23: =ROUND(E23*H23,2) -> 0 | N23: =ROUND(E23*I23,2) -> 0 | O23: =ROUND(E23*J23,2) -> 0 | P23: =ROUND(SUM(M23:O23),2) -> 0
A24: 7 | C24: Elektriskie mērījumi un tehniskā dokumentācija | D24: k-ts | E24: 1 | K24: =ROUND(SUM(H24:J24),2) -> 0 | L24: =ROUND(E24*F24,2) -> 0 | M24: =ROUND(E24*H24,2) -> 0 | N24: =ROUND(E24*I24,2) -> 0 | O24: =ROUND(E24*J24,2) -> 0 | P24: =ROUND(SUM(M24:O24),2) -> 0
A25: 8 | C25: Lifta pamatne | K25: =ROUND(SUM(H25:J25),2) -> 0 | L25: =ROUND(E25*F25,2) -> 0 | M25: =ROUND(E25*H25,2) -> 0 | N25: =ROUND(E25*I25,2) -> 0 | O25: =ROUND(E25*J25,2) -> 0 | P25: =ROUND(SUM(M25:O25),2) -> 0
A26: 9 | C26: Padziļinājuma izveide grīdā ~50cm dziļumā, izkaļot betona grīdu un izrokot grunti | D26: m2 | E26: 2.7 | K26: =ROUND(SUM(H26:J26),2) -> 0 | L26: =ROUND(E26*F26,2) -> 0 | M26: =ROUND(E26*H26,2) -> 0 | N26: =ROUND(E26*I26,2) -> 0 | O26: =ROUND(E26*J26,2) -> 0 | P26: =ROUND(SUM(M26:O26),2) -> 0
A27: 10 | C27: Pamatnes grunts blietēšana | D27: m2 | E27: 2.7 | K27: =ROUND(SUM(H27:J27),2) -> 0 | L27: =ROUND(E27*F27,2) -> 0 | M27: =ROUND(E27*H27,2) -> 0 | N27: =ROUND(E27*I27,2) -> 0 | O27: =ROUND(E27*J27,2) -> 0 | P27: =ROUND(SUM(M27:O27),2) -> 0
A28: 11 | C28: Blietētu šķembu pamatojuma b=300mm izveide | D28: m3 | E28: 0.8 | K28: =ROUND(SUM(H28:J28),2) -> 0 | L28: =ROUND(E28*F28,2) -> 0 | M28: =ROUND(E28*H28,2) -> 0 | N28: =ROUND(E28*I28,2) -> 0 | O28: =ROUND(E28*J28,2) -> 0 | P28: =ROUND(SUM(M28:O28),2) -> 0
A29: 12 | C29: Armējuma sieta d10/150x150 uzstādīšana divās kārtās ar beton aizsargjoslas distanceriem un starpsietu distanceru | D29: m2 | E29: 2.7 | K29: =ROUND(SUM(H29:J29),2) -> 0 | L29: =ROUND(E29*F29,2) -> 0 | M29: =ROUND(E29*H29,2) -> 0 | N29: =ROUND(E29*I29,2) -> 0 | O29: =ROUND(E29*J29,2) -> 0 | P29: =ROUND(SUM(M29:O29),2) -> 0
A30: 13 | C30: Pamatu plātnes betonēšana ar gatavo betonu maisos | D30: m2 | E30: 2.7 | K30: =ROUND(SUM(H30:J30),2) -> 0 | L30: =ROUND(E30*F30,2) -> 0 | M30: =ROUND(E30*H30,2) -> 0 | N30: =ROUND(E30*I30,2) -> 0 | O30: =ROUND(E30*J30,2) -> 0 | P30: =ROUND(SUM(M30:O30),2) -> 0
A31: 14 | C31: Kāpņu margu demontāža/montāža 2. stāvā (margas saglabājot un uzstādot atpakaļ atbilstoši atveres izmēriem) | D31: m | E31: 1.5 | K31: =ROUND(SUM(H31:J31),2) -> 0 | L31: =ROUND(E31*F31,2) -> 0 | M31: =ROUND(E31*H31,2) -> 0 | N31: =ROUND(E31*I31,2) -> 0 | O31: =ROUND(E31*J31,2) -> 0 | P31: =ROUND(SUM(M31:O31),2) -> 0
A32: 15 | C32: Būvgružu savākšana un utilizācija | D32: m3 | E32: 1 | K32: =ROUND(SUM(H32:J32),2) -> 0 | L32: =ROUND(E32*F32,2) -> 0 | M32: =ROUND(E32*H32,2) -> 0 | N32: =ROUND(E32*I32,2) -> 0 | O32: =ROUND(E32*J32,2) -> 0 | P32: =ROUND(SUM(M32:O32),2) -> 0
K33: =ROUND(SUM(H33:J33),2) -> 0 | L33: =ROUND(E33*F33,2) -> 0 | M33: =ROUND(E33*H33,2) -> 0 | N33: =ROUND(E33*I33,2) -> 0 | O33: =ROUND(E33*J33,2) -> 0 | P33: =ROUND(SUM(M33:O33),2) -> 0
A34: Tiešās izmaksas kopā, t.sk. soc. nod. 23.59% | L34: =ROUND(SUM(L18:L33),2) -> 0 | M34: =ROUND(SUM(M18:M33),2) -> 0 | N34: =ROUND(SUM(N18:N33),2) -> 0 | O34: =ROUND(SUM(O18:O33),2) -> 0 | P34: =ROUND(SUM(P18:P33),2) -> 0
C38: Tāmi sastādīja:______________________________________
C39: (paraksts un tā atšifrējums,datums)
C41: LBS būvpr. sertifikāts Nr.

Sheet 2-pacēlājs
H2: Lokālā tāme Nr. 2
G3: Pacēlāja/lifta iegāde, piegāde un uzstādīšana
C4: =Būvn_Koptāme!B12 -> Objekts nosaukums: Pacēlāja uzstādīšana Zaubes Kultūras namā | H4: (darbu veids)
C5: =Būvn_Koptāme!B13 -> Būves nosaukums:
C6: =Būvn_Koptāme!B14 -> Objekta adrese: "Kalna Bērzaines", Zaube, Zaubes pagasts, Cēsu novads
C7: =Būvn_Koptāme!B15 -> Pasūtītājs: Cēsu novada pašvaldība
M9: Tāmes izmaksas EUR | O9: =P19 -> 0
C10: Tāme sastādīta 2026. gada tirgus cenās
L11: =Būvn_Koptāme!B17 -> Tāme sastādīta__________
A13: Nr.p.k. | B13: Kods | C13: Darba nosaukums | D13: Mērvienība | E13: Daudzums | F13: Vienības izmaksas | L13: Kopā uz visu apjomu
F14: Laika norma (c/h) | G14: Darba samaksas likme* (Euro/h) | H14: Darba alga (Euro) | I14: Būvizstrādājumi (Euro) | J14: Mehānismi (Euro) | K14: Kopā (Euro) | L14: Darbietilpība (c/h) | M14: Darba alga (Euro) | N14: Būvizstrādājumi (Euro) | O14: Mehānismi (Euro) | P14: Summa (Euro)
A15: 1 | B15: 2 | C15: 2 | D15: 3 | E15: 4 | F15: 5 | G15: 6 | H15: 7 | I15: 8 | J15: 9 | K15: 10 | L15: 11 | M15: 12 | N15: 13 | O15: 14 | P15: 15
A16: 1 | C16: Pacēlājs
A17: 2 | C17: Pacēlājāja piegāde un uzstādīšana | D17: k-ts | E17: 1 | H17: =ROUND(F17*G17,2) -> 0 | K17: =ROUND(SUM(H17:J17),2) -> 0 | L17: =ROUND(E17*F17,2) -> 0 | M17: =ROUND(E17*H17,2) -> 0 | N17: =ROUND(E17*I17,2) -> 0 | O17: =ROUND(E17*J17,2) -> 0 | P17: =ROUND(SUM(M17:O17),2) -> 0
H18: =ROUND(F18*G18,2) -> 0 | K18: =ROUND(SUM(H18:J18),2) -> 0 | L18: =ROUND(E18*F18,2) -> 0 | M18: =ROUND(E18*H18,2) -> 0 | N18: =ROUND(E18*I18,2) -> 0 | O18: =ROUND(E18*J18,2) -> 0 | P18: =ROUND(SUM(M18:O18),2) -> 0
A19: Tiešās izmaksas kopā, t.sk. soc. nod. 23.59% | L19: =ROUND(SUM(L16:L18),2) -> 0 | M19: =ROUND(SUM(M16:M18),2) -> 0 | N19: =ROUND(SUM(N16:N18),2) -> 0 | O19: =ROUND(SUM(O16:O18),2) -> 0 | P19: =ROUND(SUM(P16:P18),2) -> 0
C23: Tāmi sastādīja:______________________________________
C24: (paraksts un tā atšifrējums,datums)
C26: LBS būvpr. sertifikāts Nr.
