Workbook
Name _Hlk225340788: Kopsavilkums!$C$32

Sheet Kopsavilkums
B2: Kopsavilkuma aprēķins Nr. 1
B3: Būves nosaukums: | C3: Notekūdeņu attīrīšanas iekārtās “Krīgeri” Dobeles aglomerācijā” (Id. Nr.Nr. DŪ 2026/APS/1)
B4: Objekta nosaukums: | C4: Automātikas sistēmas modernizācija notekūdeņu attīrīšanas iekārtās “Krīgeri” Dobeles aglomerācijā
B5: Objekta adrese: | C5: “Krīgeri” Bērzes pagasts, Dobeles novads, Latvija, LV-3732 | F5: Par kopējo summu: | G5: =D14 -> 0 | H5: EUR
F6: Kopējā darbietilpība: | G6: =SUM(H11:H13) -> 0 | H6: c/st.
B9: Tāmes Nr. | C9: Darba veids vai konstruktīvā elementa nosaukums | D9: Tāmes izmaksas, EUR | E9: tai skaitā | H9: Darbietilpība, c/st.
E10: Darba alga, EUR | F10: Būvizstrādājumi, EUR | G10: Mehānismi, EUR
B11: 1 | C11: Projekta izstrāde | D11: =SUM(E11:G11) -> 0 | E11: ='Lok.tāme Nr.1'!O18 -> 0 | F11: ='Lok.tāme Nr.1'!P18 -> 0 | G11: ='Lok.tāme Nr.1'!Q18 -> 0 | H11: ='Lok.tāme Nr.1'!N18 -> 0
B12: 2 | C12: Autoruzraudzība | D12: =SUM(E12:G12) -> 0 | E12: ='Lok.tāme Nr.2'!O17 -> 0 | F12: ='Lok.tāme Nr.2'!P17 -> 0 | G12: ='Lok.tāme Nr.2'!Q17 -> 0 | H12: ='Lok.tāme Nr.2'!N17 -> 0
B13: 3 | C13: Būvdarbi | D13: =SUM(E13:G13) -> 0 | E13: ='Lok.tāme Nr.3'!O48 -> 0 | F13: ='Lok.tāme Nr.3'!P48 -> 0 | G13: ='Lok.tāme Nr.3'!Q48 -> 0 | H13: ='Lok.tāme Nr.3'!N48 -> 0
B14: Kopā: | D14: =SUM(D11:D13) -> 0 | E14: =SUM(E11:E13) -> 0 | F14: =SUM(F11:F13) -> 0 | G14: =SUM(G11:G13) -> 0 | H14: =SUM(H11:H13) -> 0
B15: PVN (21%) | D15: =ROUND(D14*21%,2) -> 0
B16: Kopā ar PVN (21%) | D16: =D14+D15 -> 0

Sheet Lok.tāme Nr.1
A2: Lokālā tāme Nr.1 - Projektēšana
B6: Būves nosaukums: | D6: =Kopsavilkums!C3 -> Notekūdeņu attīrīšanas iekārtās “Krīgeri” Dobeles aglomerācijā” (Id. Nr.Nr. DŪ 2026/APS/1)
B7: Objekta nosaukums: | D7: =Kopsavilkums!C4 -> Automātikas sistēmas modernizācija notekūdeņu attīrīšanas iekārtās “Krīgeri” Dobeles aglomerācijā
B8: Objekta adrese: | D8: =Kopsavilkums!C5 -> “Krīgeri” Bērzes pagasts, Dobeles novads, Latvija, LV-3732
P11: Tāmes izmaksas: | Q11: =R18 -> 0 | R11: EUR
C14: Nr.p.k. | D14: Darbu nosaukums | E14: Veids | F14: Mērvienība | G14: Daudzums | H14: Vienības izmaksas | N14: Kopā visam apjomam
H15: Laika norma, c/st. | I15: Darba samaksas likme, EUR/st. | J15: Darba alga, EUR | K15: Būvizstrādājumi, EUR | L15: Mehānismi, EUR | M15: Kopā, EUR | N15: Darbietilpība, c/st. | O15: Darba alga, EUR | P15: Būvizstrādājumi, EUR | Q15: Mehānismi, EUR | R15: Summa, EUR
C16: 1.1 | D16: Inženiertopogrāfija | E16: Pakalpojums | F16: ha | G16: 1 | J16: =ROUND(H16*I16,2) -> 0 | M16: =ROUND(J16+K16+L16,2) -> 0 | N16: =ROUND(H16*G16,2) -> 0 | O16: =ROUND(G16*J16,2) -> 0 | P16: =ROUND(G16*K16,2) -> 0 | Q16: =ROUND(G16*L16,2) -> 0 | R16: =SUM(O16:Q16) -> 0
C17: 1.2 | D17: Projekta izstrāde (t.sk. arī būvprojekta, ja nepieciešams) | E17: Pakalpojums | F17: k-ts | G17: 1 | J17: =ROUND(H17*I17,2) -> 0 | M17: =ROUND(J17+K17+L17,2) -> 0 | N17: =ROUND(H17*G17,2) -> 0 | O17: =ROUND(G17*J17,2) -> 0 | P17: =ROUND(G17*K17,2) -> 0 | Q17: =ROUND(G17*L17,2) -> 0 | R17: =SUM(O17:Q17) -> 0
C18: KOPĀ | N18: =SUM(N16:N17) -> 0 | O18: =SUM(O16:O17) -> 0 | P18: =SUM(P16:P17) -> 0 | Q18: =SUM(Q16:Q17) -> 0 | R18: =SUM(R16:R17) -> 0

Sheet Lok.tāme Nr.2
A2: Lokālā tāme Nr.2 - Autoruzraudzība
B6: Būves nosaukums: | D6: =Kopsavilkums!C3 -> Notekūdeņu attīrīšanas iekārtās “Krīgeri” Dobeles aglomerācijā” (Id. Nr.Nr. DŪ 2026/APS/1)
B7: Objekta nosaukums: | D7: =Kopsavilkums!C4 -> Automātikas sistēmas modernizācija notekūdeņu attīrīšanas iekārtās “Krīgeri” Dobeles aglomerācijā
B8: Objekta adrese: | D8: =Kopsavilkums!C5 -> “Krīgeri” Bērzes pagasts, Dobeles novads, Latvija, LV-3732
P11: Tāmes izmaksas: | Q11: =R17 -> 0 | R11: EUR
C14: Nr.p.k. | D14: Darbu nosaukums | E14: Veids | F14: Mērvienība | G14: Daudzums | H14: Vienības izmaksas | N14: Kopā visam apjomam
H15: Laika norma, c/st. | I15: Darba samaksas likme, EUR/st. | J15: Darba alga, EUR | K15: Būvizstrādājumi, EUR | L15: Mehānismi, EUR | M15: Kopā, EUR | N15: Darbietilpība, c/st. | O15: Darba alga, EUR | P15: Būvizstrādājumi, EUR | Q15: Mehānismi, EUR | R15: Summa, EUR
C16: 1 | D16: Autoruzraudzība (ja nepieciešams) | E16: Pakalpojums | F16: kompl. | G16: 1 | M16: =ROUND(J16+K16+L16,2) -> 0 | N16: =ROUND(H16*G16,2) -> 0 | O16: =ROUND(G16*J16,2) -> 0 | P16: =ROUND(G16*K16,2) -> 0 | Q16: =ROUND(G16*L16,2) -> 0 | R16: =SUM(O16:Q16) -> 0
C17: KOPĀ | N17: =SUM(N16:N16) -> 0 | O17: =SUM(O16:O16) -> 0 | P17: =SUM(P16:P16) -> 0 | Q17: =SUM(Q16:Q16) -> 0 | R17: =SUM(R16:R16) -> 0

Sheet Lok.tāme Nr.3
A2: Lokālā tāme Nr.3 - Būvdarbi
B6: Būves nosaukums: | D6: =Kopsavilkums!C3 -> Notekūdeņu attīrīšanas iekārtās “Krīgeri” Dobeles aglomerācijā” (Id. Nr.Nr. DŪ 2026/APS/1)
B7: Objekta nosaukums: | D7: =Kopsavilkums!C4 -> Automātikas sistēmas modernizācija notekūdeņu attīrīšanas iekārtās “Krīgeri” Dobeles aglomerācijā
B8: Objekta adrese: | D8: =Kopsavilkums!C5 -> “Krīgeri” Bērzes pagasts, Dobeles novads, Latvija, LV-3732
P11: Tāmes izmaksas: | Q11: =R48 -> 0 | R11: EUR
C14: Nr.p.k. | D14: Darbu nosaukums | E14: Veids | F14: Mērvienība | G14: Daudzums | H14: Vienības izmaksas | N14: Kopā visam apjomam
H15: Laika norma, c/st. | I15: Darba samaksas likme, EUR/st. | J15: Darba alga, EUR | K15: Būvizstrādājumi, EUR | L15: Mehānismi, EUR | M15: Kopā, EUR | N15: Darbietilpība, c/st. | O15: Darba alga, EUR | P15: Būvizstrādājumi, EUR | Q15: Mehānismi, EUR | R15: Summa, EUR
C16: 1 | D16: Automātikas sistēmas izveide NAI darbības uzlabošanai | E16: Būvdarbi /piegāde
C17: 1.1 | D17: PLC sistēmas piegāde un montāža izmantojot esošo infrastruktūru un izveidojot jaunu jaunajiem elementiem un sensoriem. | E17: Būvdarbi /piegāde
C18: 1.1.1 | D18: PLC-1 ar nepieciešamajiem papildus blokiem | E18: Būvdarbi /piegāde | F18: k-ts | G18: 1 | J18: =ROUND(H18*I18,2) -> 0 | M18: =ROUND(J18+K18+L18,2) -> 0 | N18: =ROUND(H18*G18,2) -> 0 | O18: =ROUND(G18*J18,2) -> 0 | P18: =ROUND(G18*K18,2) -> 0 | Q18: =ROUND(G18*L18,2) -> 0 | R18: =SUM(O18:Q18) -> 0
C19: 1.1.2 | D19: PLC-2 ar nepieciešamajiem papildus blokiem | E19: Būvdarbi /piegāde | F19: k-ts | G19: 1 | J19: =ROUND(H19*I19,2) -> 0 | M19: =ROUND(J19+K19+L19,2) -> 0 | N19: =ROUND(H19*G19,2) -> 0 | O19: =ROUND(G19*J19,2) -> 0 | P19: =ROUND(G19*K19,2) -> 0 | Q19: =ROUND(G19*L19,2) -> 0 | R19: =SUM(O19:Q19) -> 0
C20: 1.1.3 | D20: Esošo releju nomaiņa | E20: Būvdarbi /piegāde | F20: k-ts | G20: 1 | J20: =ROUND(H20*I20,2) -> 0 | M20: =ROUND(J20+K20+L20,2) -> 0 | N20: =ROUND(H20*G20,2) -> 0 | O20: =ROUND(G20*J20,2) -> 0 | P20: =ROUND(G20*K20,2) -> 0 | Q20: =ROUND(G20*L20,2) -> 0 | R20: =SUM(O20:Q20) -> 0
C21: 1.1.4 | D21: Esošo slēdžu nomaiņa | E21: Būvdarbi /piegāde | F21: k-ts | G21: 1 | J21: =ROUND(H21*I21,2) -> 0 | M21: =ROUND(J21+K21+L21,2) -> 0 | N21: =ROUND(H21*G21,2) -> 0 | O21: =ROUND(G21*J21,2) -> 0 | P21: =ROUND(G21*K21,2) -> 0 | Q21: =ROUND(G21*L21,2) -> 0 | R21: =SUM(O21:Q21) -> 0
C22: 1.1.5 | D22: Cita nepieminētā vecā automātikas sistēmas aprīkojuma nomaiņa, tai skaitā UPS sistēmas | E22: Būvdarbi /piegāde | F22: k-ts | G22: 1 | J22: =ROUND(H22*I22,2) -> 0 | M22: =ROUND(J22+K22+L22,2) -> 0 | N22: =ROUND(H22*G22,2) -> 0 | O22: =ROUND(G22*J22,2) -> 0 | P22: =ROUND(G22*K22,2) -> 0 | Q22: =ROUND(G22*L22,2) -> 0 | R22: =SUM(O22:Q22) -> 0
C23: 1.1.6 | D23: Kabeļu tīkla piegāde un montāža sensoru pieslegšanai, papildus funkcionalitātes un citu atbilstošu tehnoloģisko risinājumu nodrošināšanai | E23: Būvdarbi /piegāde | F23: k-ts | G23: 1 | J23: =ROUND(H23*I23,2) -> 0 | M23: =ROUND(J23+K23+L23,2) -> 0 | N23: =ROUND(H23*G23,2) -> 0 | O23: =ROUND(G23*J23,2) -> 0 | P23: =ROUND(G23*K23,2) -> 0 | Q23: =ROUND(G23*L23,2) -> 0 | R23: =SUM(O23:Q23) -> 0
C24: 1.2 | D24: NAI procesa Vizuālizācijas datortehnikas un programmatūras piegāde un uzstādīšana | E24: Būvdarbi /piegāde
C25: 1.2.1 | D25: SCADA dators (I7, RAM16 GB, SSD HDD - 1 TB) ar atbilstošu programmatūru, klaviatūru un peli | E25: Būvdarbi /piegāde | F25: k-ts | G25: 1 | J25: =ROUND(H25*I25,2) -> 0 | M25: =ROUND(J25+K25+L25,2) -> 0 | N25: =ROUND(H25*G25,2) -> 0 | O25: =ROUND(G25*J25,2) -> 0 | P25: =ROUND(G25*K25,2) -> 0 | Q25: =ROUND(G25*L25,2) -> 0 | R25: =SUM(O25:Q25) -> 0
C26: 1.2.2 | D26: SCADA datora monitors 27" | E26: Būvdarbi /piegāde | F26: k-ts | G26: 1 | J26: =ROUND(H26*I26,2) -> 0 | M26: =ROUND(J26+K26+L26,2) -> 0 | N26: =ROUND(H26*G26,2) -> 0 | O26: =ROUND(G26*J26,2) -> 0 | P26: =ROUND(G26*K26,2) -> 0 | Q26: =ROUND(G26*L26,2) -> 0 | R26: =SUM(O26:Q26) -> 0
C27: 1.2.3 | D27: Datu bāzes dators (I7, RAM 16GB,SSD HDD - 1TB - 3 gab. (2 darbam paralēlā, dublējošā slēgumā un 1 datu bāzes rezerves kopiju glabāšanai), ar atbilstošu programmatūru, klaviatūru un peli | E27: Būvdarbi /piegāde | F27: k-ts | G27: 1 | J27: =ROUND(H27*I27,2) -> 0 | M27: =ROUND(J27+K27+L27,2) -> 0 | N27: =ROUND(H27*G27,2) -> 0 | O27: =ROUND(G27*J27,2) -> 0 | P27: =ROUND(G27*K27,2) -> 0 | Q27: =ROUND(G27*L27,2) -> 0 | R27: =SUM(O27:Q27) -> 0
C28: 1.2.4 | D28: Datu bāzes datora monitors 27" | E28: Būvdarbi /piegāde | F28: k-ts | G28: 1 | J28: =ROUND(H28*I28,2) -> 0 | M28: =ROUND(J28+K28+L28,2) -> 0 | N28: =ROUND(H28*G28,2) -> 0 | O28: =ROUND(G28*J28,2) -> 0 | P28: =ROUND(G28*K28,2) -> 0 | Q28: =ROUND(G28*L28,2) -> 0 | R28: =SUM(O28:Q28) -> 0
C29: 1.2.5 | D29: Datortīkli, to iekārtas un aprīkojums | E29: Būvdarbi /piegāde | F29: k-ts | G29: 1 | J29: =ROUND(H29*I29,2) -> 0 | M29: =ROUND(J29+K29+L29,2) -> 0 | N29: =ROUND(H29*G29,2) -> 0 | O29: =ROUND(G29*J29,2) -> 0 | P29: =ROUND(G29*K29,2) -> 0 | Q29: =ROUND(G29*L29,2) -> 0 | R29: =SUM(O29:Q29) -> 0
C30: 1.2.6 | D30: Drošas attālinātas piekļuves pieslēguma nodrošināšana | E30: Būvdarbi /piegāde | F30: k-ts | G30: 1 | J30: =ROUND(H30*I30,2) -> 0 | M30: =ROUND(J30+K30+L30,2) -> 0 | N30: =ROUND(H30*G30,2) -> 0 | O30: =ROUND(G30*J30,2) -> 0 | P30: =ROUND(G30*K30,2) -> 0 | Q30: =ROUND(G30*L30,2) -> 0 | R30: =SUM(O30:Q30) -> 0
C31: 1.2.7 | D31: Relācijas tipa datu bāze un tās programēšana | E31: Būvdarbi /piegāde | F31: k-ts | G31: 1 | J31: =ROUND(H31*I31,2) -> 0 | M31: =ROUND(J31+K31+L31,2) -> 0 | N31: =ROUND(H31*G31,2) -> 0 | O31: =ROUND(G31*J31,2) -> 0 | P31: =ROUND(G31*K31,2) -> 0 | Q31: =ROUND(G31*L31,2) -> 0 | R31: =SUM(O31:Q31) -> 0
C32: 1.3 | D32: PLC sistēmas programmēšanas darbi un savienošana ar SCADA sistēmu | E32: Būvdarbi
C33: 1.3.1 | D33: Esošās funkcionalitātes nodrošināšana jaunajiem PLC | E33: Būvdarbi | F33: k-ts | G33: 1 | J33: =ROUND(H33*I33,2) -> 0 | M33: =ROUND(J33+K33+L33,2) -> 0 | N33: =ROUND(H33*G33,2) -> 0 | O33: =ROUND(G33*J33,2) -> 0 | P33: =ROUND(G33*K33,2) -> 0 | Q33: =ROUND(G33*L33,2) -> 0 | R33: =SUM(O33:Q33) -> 0
C34: 1.3.2 | D34: Pasūtītāja prasītās papildus funkcionalitātes un papildus sensoru pieslēgšanas nodrošināšana NAI | E34: Būvdarbi | F34: k-ts | G34: 1 | J34: =ROUND(H34*I34,2) -> 0 | M34: =ROUND(J34+K34+L34,2) -> 0 | N34: =ROUND(H34*G34,2) -> 0 | O34: =ROUND(G34*J34,2) -> 0 | P34: =ROUND(G34*K34,2) -> 0 | Q34: =ROUND(G34*L34,2) -> 0 | R34: =SUM(O34:Q34) -> 0
C35: 1.4 | D35: SCADA sistēmas izveide un savienošana ar PLC sistēmu | E35: Būvdarbi
C36: 1.4.1 | D36: SCADA sistēmas programmēšana | E36: Būvdarbi | F36: k-ts | G36: 1 | J36: =ROUND(H36*I36,2) -> 0 | M36: =ROUND(J36+K36+L36,2) -> 0 | N36: =ROUND(H36*G36,2) -> 0 | O36: =ROUND(G36*J36,2) -> 0 | P36: =ROUND(G36*K36,2) -> 0 | Q36: =ROUND(G36*L36,2) -> 0 | R36: =SUM(O36:Q36) -> 0
C37: 1.4.2 | D37: SCADA sistēmas pieslēgšana pie PLC un nepieciešamās pārbaudes | E37: Būvdarbi | F37: k-ts | G37: 1 | J37: =ROUND(H37*I37,2) -> 0 | M37: =ROUND(J37+K37+L37,2) -> 0 | N37: =ROUND(H37*G37,2) -> 0 | O37: =ROUND(G37*J37,2) -> 0 | P37: =ROUND(G37*K37,2) -> 0 | Q37: =ROUND(G37*L37,2) -> 0 | R37: =SUM(O37:Q37) -> 0
C38: 1.5 | D38: Esošā un jaunā tehnoloģiskā aprīkojuma (t.sk. sensoru) un tās vadības pieslēgšana pie automātikas un vadības sistēmas | E38: Būvdarbi
C39: 1.5.1 | D39: Dūņu atūdeņošanas sistēmas Automātikas un vadības (t.sk.SCADA) integrācija, sadarbībā ar dūņu atūdeņošanas un blīvēšanas sistēmas piegādātāju (t.sk recirkulācijas un iekšējās sūkņu stacijas pieslēgšana pēc to rekonstrukcijas) | E39: Būvdarbi | F39: k-ts | G39: 1 | J39: =ROUND(H39*I39,2) -> 0 | M39: =ROUND(J39+K39+L39,2) -> 0 | N39: =ROUND(H39*G39,2) -> 0 | O39: =ROUND(G39*J39,2) -> 0 | P39: =ROUND(G39*K39,2) -> 0 | Q39: =ROUND(G39*L39,2) -> 0 | R39: =SUM(O39:Q39) -> 0
C40: 1.5.2 | D40: Esošā pārējā tehnoloģiskā aprīkojuma un tās vadības pieslēgšana pie Automātikas un vadības sistēmas | E40: Būvdarbi | F40: k-ts | G40: 1 | J40: =ROUND(H40*I40,2) -> 0 | M40: =ROUND(J40+K40+L40,2) -> 0 | N40: =ROUND(H40*G40,2) -> 0 | O40: =ROUND(G40*J40,2) -> 0 | P40: =ROUND(G40*K40,2) -> 0 | Q40: =ROUND(G40*L40,2) -> 0 | R40: =SUM(O40:Q40) -> 0
C41: 1.5.3 | D41: Papildus sensoru pieslēgšana pie Automātikas un vadības sistēmas (t.sk SCADA) | E41: Būvdarbi | F41: k-ts | G41: 1 | J41: =ROUND(H41*I41,2) -> 0 | M41: =ROUND(J41+K41+L41,2) -> 0 | N41: =ROUND(H41*G41,2) -> 0 | O41: =ROUND(G41*J41,2) -> 0 | P41: =ROUND(G41*K41,2) -> 0 | Q41: =ROUND(G41*L41,2) -> 0 | R41: =SUM(O41:Q41) -> 0
C42: 1.5.4 | D42: Nepieciešamās papildus funkcionalitātes nodrošināšana | E42: Būvdarbi | F42: k-ts | G42: 1 | J42: =ROUND(H42*I42,2) -> 0 | M42: =ROUND(J42+K42+L42,2) -> 0 | N42: =ROUND(H42*G42,2) -> 0 | O42: =ROUND(G42*J42,2) -> 0 | P42: =ROUND(G42*K42,2) -> 0 | Q42: =ROUND(G42*L42,2) -> 0 | R42: =SUM(O42:Q42) -> 0
C43: 1.5.5 | D43: DKS sistēmas integrācija jaunajā SCADA sistēmā (kā atsevišķs nesaistīts modulis) | E43: Pakalpojums | F43: k-ts | G43: 1 | J43: =ROUND(H43*I43,2) -> 0 | M43: =ROUND(J43+K43+L43,2) -> 0 | N43: =ROUND(H43*G43,2) -> 0 | O43: =ROUND(G43*J43,2) -> 0 | P43: =ROUND(G43*K43,2) -> 0 | Q43: =ROUND(G43*L43,2) -> 0 | R43: =SUM(O43:Q43) -> 0
C44: 1.7 | D44: Programmēšanas kodu rezerves kopiju sagatavošana un nodošana pasūtītājam | E44: Pakalpojums | F44: k-ts | G44: 1 | J44: =ROUND(H44*I44,2) -> 0 | M44: =ROUND(J44+K44+L44,2) -> 0 | N44: =ROUND(H44*G44,2) -> 0 | O44: =ROUND(G44*J44,2) -> 0 | P44: =ROUND(G44*K44,2) -> 0 | Q44: =ROUND(G44*L44,2) -> 0 | R44: =SUM(O44:Q44) -> 0
C45: 1.8 | D45: NAI darba parametru datu saglabāšanas un dubultās dublēšanas sistēmas izveide izmantojot lokālus un mākoņrisinājumus | E45: Pakalpojums
C46: 1.8.1 | D46: Datu kopiju veidošanas sistēmas izveide datu bāzē un datu bāzes datu kopijas saglabāšana Datu bāzes datorā | E46: Pakalpojums | F46: k-ts | G46: 1 | J46: =ROUND(H46*I46,2) -> 0 | M46: =ROUND(J46+K46+L46,2) -> 0 | N46: =ROUND(H46*G46,2) -> 0 | O46: =ROUND(G46*J46,2) -> 0 | P46: =ROUND(G46*K46,2) -> 0 | Q46: =ROUND(G46*L46,2) -> 0 | R46: =SUM(O46:Q46) -> 0
C47: 1.8.2 | D47: Datu bāzes datu rezerves kopiju saglabāšanas sistēmas izveide mākoņrisinājumam | E47: Pakalpojums | F47: k-ts | G47: 1 | J47: =ROUND(H47*I47,2) -> 0 | M47: =ROUND(J47+K47+L47,2) -> 0 | N47: =ROUND(H47*G47,2) -> 0 | O47: =ROUND(G47*J47,2) -> 0 | P47: =ROUND(G47*K47,2) -> 0 | Q47: =ROUND(G47*L47,2) -> 0 | R47: =SUM(O47:Q47) -> 0
B48: KOPĀ | N48: =SUM(N16:N47) -> 0 | O48: =SUM(O16:O47) -> 0 | P48: =SUM(P16:P47) -> 0 | Q48: =SUM(Q16:Q47) -> 0 | R48: =SUM(R16:R47) -> 0
