Workbook

Sheet Saturs
A3: Nr.p.k. | B3: Nosaukums | C3: Lapa
A5: 1 | B5: Saturs | C5: 2
A6: 2 | B6: Skaidrojošais apraksts | C6: 3
A7: 3 | B7: Būvniecības koptāme | C7: 4
A8: 4 | B8: Kopsavilkuma aprēķini pa darbu vai konstruktīvo elementu veidiem Nr.1 | C8: 5
A9: 5 | B9: Lokālā tāme Nr. 1.1 (TS-CD) | C9: 6-14
A10: 6 | B10: Lokālā tāme Nr. 1.2 (ELT, apgaismojums) | C10: 15-16

Sheet Buvniecibas koptame
A3: Būvniecības koptāme
A5: ='T-Nr.1.1 (TS-CD)'!A3 -> Objekta nosaukums: Autostāvvietu izbūve Komunālajā ielā 6, Ķegumā, Ogres novadā
A6: ='T-Nr.1.1 (TS-CD)'!A4 -> Būves nosaukums: Iela
A7: ='T-Nr.1.1 (TS-CD)'!A5 -> Objekta adrese: Komunālā iela, Ķegums, Ogres novads
A8: ='T-Nr.1.1 (TS-CD)'!A6 -> Pasūtījuma Nr. 5-1.2/2026-24
C9: ='T-Nr.1.1 (TS-CD)'!L8 -> Tāme sastādīta 2026. gada 8.jūnijā
A11: Nr.p.k. | B11: Objekta nosaukums | C11: Objekta izmaksas (EUR)
A13: 1 | B13: 2 | C13: 3
A14: 1 | B14: Autostāvvietu izbūve Komunālajā ielā 6, Ķegumā, Ogres novadā | C14: ='K-Nr.1'!D20 -> 0 | D14: 6142700 | E14: =D14-C14 -> 6142700
D15: 431549.66 | E15: =D15-C15 -> 431549.66
B16: Kopā | C16: =SUM(C14:C15) -> 0
B17: PVN (21%) | C17: =C16*0.21 -> 0
B18: Kopējās būvniecības izmaksas | C18: =C16+C17 -> 0 | D18: 9873935.4 | E18: =D18-C18 -> 9873935.4
B21: Sastādīja:___________Helmuts Nelsons | C21: Pārbaudīja:___________Helmuts Nelsons
B22: Sertifikāta Nr.3-01336 | C22: Sertifikāta Nr.3-01336

Sheet K-Nr.1
A1: Kopsavilkuma aprēķini pa darbu vai konstruktīvo elementu veidiem Nr.1
A3: ='T-Nr.1.1 (TS-CD)'!A3 -> Objekta nosaukums: Autostāvvietu izbūve Komunālajā ielā 6, Ķegumā, Ogres novadā
A4: ='T-Nr.1.1 (TS-CD)'!A4 -> Būves nosaukums: Iela
A5: ='T-Nr.1.1 (TS-CD)'!A5 -> Objekta adrese: Komunālā iela, Ķegums, Ogres novads
A6: ='T-Nr.1.1 (TS-CD)'!A6 -> Pasūtījuma Nr. 5-1.2/2026-24
C7: Par kopējo summu, (EUR) | D7: =D20 -> 0
C8: Kopējā darbietilbība, (c/h) | D8: =H16 -> 0
D9: ='T-Nr.1.1 (TS-CD)'!L8 -> Tāme sastādīta 2026. gada 8.jūnijā
A11: Nr.p.k. | B11: Kods, tāmes Nr. | C11: Būvdarbu veids vai konstruktīvā elementa nosaukums | D11: Tāmes izmaksas (EUR) | E11: Tajā skaitā | H11: Darb- ietilpība (c/h)
E12: Darba alga (EUR) | F12: Būvizstrādājumi (EUR) | G12: Mehānismi (EUR)
A13: 1 | B13: 2 | C13: 3 | D13: 4 | E13: 5 | F13: 6 | G13: 7 | H13: 8
A14: 1 | B14: 1.1 | C14: Izbūves darbi (Ceļa darbi, TS-CD) | D14: =SUM(E14:G14) -> 0 | E14: ='T-Nr.1.1 (TS-CD)'!M94 -> 0 | F14: ='T-Nr.1.1 (TS-CD)'!N94 -> 0 | G14: ='T-Nr.1.1 (TS-CD)'!O94 -> 0 | H14: ='T-Nr.1.1 (TS-CD)'!L93 -> 0
A15: 2 | B15: 1.2 | C15: Izbūves darbi (Elektroapgāde (ārējā): apgaismojums, ELT) | D15: =SUM(E15:G15) -> 0 | E15: ='T-Nr.1.2 (ELT_Apgaismojums)'!M40 -> 0 | F15: ='T-Nr.1.2 (ELT_Apgaismojums)'!N40 -> 0 | G15: ='T-Nr.1.2 (ELT_Apgaismojums)'!O40 -> 0 | H15: ='T-Nr.1.2 (ELT_Apgaismojums)'!L39 -> 0
C16: Kopā 1-2: | D16: =SUM(D14:D15) -> 0 | E16: =SUM(E14:E15) -> 0 | F16: =SUM(F14:F15) -> 0 | G16: =SUM(G14:G15) -> 0 | H16: =SUM(H14:H15) -> 0
C17: Virsizdevumi (6%) | D17: =D16*0.06 -> 0
C18: t.sk darba aizsardzība | D18: =D17*0.15 -> 0
C19: Peļņa (3%) | D19: =D16*0.03 -> 0
C20: Kopā | D20: =SUM(D16:D19)-D18 -> 0
C23: Sastādīja:___________Helmuts Nelsons | F23: Pārbaudīja:___________Helmuts Nelsons
C24: Sertifikāta Nr.3-01336 | F24: Sertifikāta Nr.3-01336

Sheet T-Nr.1.1 (TS-CD)
A1: Lokālā tāme Nr.1.1
A2: (Ceļa darbi, TS-CD)
A3: Objekta nosaukums: Autostāvvietu izbūve Komunālajā ielā 6, Ķegumā, Ogres novadā
A4: Būves nosaukums: Iela
A5: Objekta adrese: Komunālā iela, Ķegums, Ogres novads
A6: Pasūtījuma Nr. 5-1.2/2026-24
A7: Tāme sastādīta 2026. gada tirgus cenās, pamatojoties uz TS-CD daļas rasējumiem. | L7: Tāmes izmaksas | N7: =P94 -> 0 | P7: EUR
L8: Tāme sastādīta 2026. gada 8.jūnijā
A11: Nr.p.k. | B11: Būvdarbu nosaukums | C11: Rasējuma Nr. | D11: Mērvienība | E11: Daudzums | F11: Vienības izmaksas | L11: Kopā uz visu apjomu
F12: Laika norma (c/h) | G12: Darba samaksas likme (EUR/h) | H12: Darba alga (EUR) | I12: Būvizstrādājumi (EUR) | J12: Mehānismi (EUR) | K12: Kopā (EUR) | L12: Darbietilpība (c/h) | M12: Darba alga (EUR) | N12: Būvizstrādājumi (EUR) | O12: Mehānismi (EUR) | P12: Summa (EUR)
A13: 1 | B13: 2 | C13: 3 | D13: 3 | E13: 4 | F13: 5 | G13: 6 | H13: 7 | I13: 8 | J13: 9 | K13: 10 | L13: 11 | M13: 12 | N13: 13 | O13: 14 | P13: 15
A14: 1 | B14: Dažādi darbi
A15: 1.1 | B15: Objekta galveno punktu uzmērīšana un nospraušana | C15: GP-1 | D15: kpl | E15: 1 | F15: 0 | G15: 0 | H15: =ROUND(F15*G15,2) -> 0 | I15: 0 | J15: 0 | K15: =SUM(H15:J15) -> 0 | L15: =ROUND(E15*F15,2) -> 0 | M15: =ROUND(E15*H15,2) -> 0 | N15: =ROUND(E15*I15,2) -> 0 | O15: =ROUND(J15*E15,2) -> 0 | P15: =SUM(M15:O15) -> 0
A16: 1.2 | B16: Celma laušana vai nofrēzēšana, transportējot uz būvdarbu veicēja atbērtni | C16: GP-1 | D16: gb | E16: 1 | F16: 0 | G16: 0 | H16: =ROUND(F16*G16,2) -> 0 | I16: 0 | J16: 0 | K16: =SUM(H16:J16) -> 0 | L16: =ROUND(E16*F16,2) -> 0 | M16: =ROUND(E16*H16,2) -> 0 | N16: =ROUND(E16*I16,2) -> 0 | O16: =ROUND(J16*E16,2) -> 0 | P16: =SUM(M16:O16) -> 0
A17: 1.3 | B17: Asfaltbetona seguma zāģēšana | C17: GP-1 | D17: m | E17: 33 | F17: 0 | G17: 0 | H17: =ROUND(F17*G17,2) -> 0 | I17: 0 | J17: 0 | K17: =SUM(H17:J17) -> 0 | L17: =ROUND(E17*F17,2) -> 0 | M17: =ROUND(E17*H17,2) -> 0 | N17: =ROUND(E17*I17,2) -> 0 | O17: =ROUND(J17*E17,2) -> 0 | P17: =SUM(M17:O17) -> 0
A18: 1.4 | B18: Brauktuves asfaltbetona seguma demontāža (vid. biezums 10cm) un transportēšana uz būvdarbu veicēja atbērtni | C18: GP-1 | D18: m2 | E18: 19 | F18: 0 | G18: 0 | H18: =ROUND(F18*G18,2) -> 0 | I18: 0 | J18: 0 | K18: =SUM(H18:J18) -> 0 | L18: =ROUND(E18*F18,2) -> 0 | M18: =ROUND(E18*H18,2) -> 0 | N18: =ROUND(E18*I18,2) -> 0 | O18: =ROUND(J18*E18,2) -> 0 | P18: =SUM(M18:O18) -> 0
A19: 1.5 | B19: Asfaltbetona seguma savienojumu frēzēšana (vid. biezums 4cm) un transportēšana uz būvdarbu veicēja atbērtni | C19: GP-1 | D19: m2 | E19: 20 | F19: 0 | G19: 0 | H19: =ROUND(F19*G19,2) -> 0 | I19: 0 | J19: 0 | K19: =SUM(H19:J19) -> 0 | L19: =ROUND(E19*F19,2) -> 0 | M19: =ROUND(E19*H19,2) -> 0 | N19: =ROUND(E19*I19,2) -> 0 | O19: =ROUND(J19*E19,2) -> 0 | P19: =SUM(M19:O19) -> 0
A20: 1.6 | B20: Betona bruģa demontāža (biezums 6cm), tīrīšana, novietošana uz paletēm un transportēšana uz Pasūtītāja norādīto vietu. Piezīme: Ja Pasūtītājs atsakās no viņam piederošā materiāla apjoma vai materiāls nav derīgs atkārtotai izmantošanai, tad šis apjoms jātransportē uz būvdarbu veicēja atbērtni | C20: GP-1 | D20: m2 | E20: 18 | F20: 0 | G20: 0 | H20: =ROUND(F20*G20,2) -> 0 | I20: 0 | J20: 0 | K20: =SUM(H20:J20) -> 0 | L20: =ROUND(E20*F20,2) -> 0 | M20: =ROUND(E20*H20,2) -> 0 | N20: =ROUND(E20*I20,2) -> 0 | O20: =ROUND(J20*E20,2) -> 0 | P20: =SUM(M20:O20) -> 0
A21: 1.7 | B21: Betona bruģa demontāža (biezums 6cm), tīrīšana, novietošana uz paletēm, bruģi sagatavojot un saglabājot atkārtotai izbūvei. | C21: GP-1 | D21: m2 | E21: 1 | F21: 0 | G21: 0 | H21: =ROUND(F21*G21,2) -> 0 | I21: 0 | J21: 0 | K21: =SUM(H21:J21) -> 0 | L21: =ROUND(E21*F21,2) -> 0 | M21: =ROUND(E21*H21,2) -> 0 | N21: =ROUND(E21*I21,2) -> 0 | O21: =ROUND(J21*E21,2) -> 0 | P21: =SUM(M21:O21) -> 0
A22: 1.8 | B22: Betona bruģa demontāža (biezums 8cm), tīrīšana, novietošana uz paletēm, bruģi sagatavojot un saglabājot atkārtotai izbūvei. | C22: GP-1 | D22: m2 | E22: 2 | F22: 0 | G22: 0 | H22: =ROUND(F22*G22,2) -> 0 | I22: 0 | J22: 0 | K22: =SUM(H22:J22) -> 0 | L22: =ROUND(E22*F22,2) -> 0 | M22: =ROUND(E22*H22,2) -> 0 | N22: =ROUND(E22*I22,2) -> 0 | O22: =ROUND(J22*E22,2) -> 0 | P22: =SUM(M22:O22) -> 0
A23: 1.9 | B23: Ietves betona apmaļu nojaukšana un transportēšana uz būvdarbu veicēja atbērtni | C23: GP-1 | D23: m | E23: 19 | F23: 0 | G23: 0 | H23: =ROUND(F23*G23,2) -> 0 | I23: 0 | J23: 0 | K23: =SUM(H23:J23) -> 0 | L23: =ROUND(E23*F23,2) -> 0 | M23: =ROUND(E23*H23,2) -> 0 | N23: =ROUND(E23*I23,2) -> 0 | O23: =ROUND(J23*E23,2) -> 0 | P23: =SUM(M23:O23) -> 0
A24: 1.10 | B24: Ielas betona apmaļu nojaukšana un transportēšana uz būvdarbu veicēja atbērtni | C24: GP-1 | D24: m | E24: 47 | F24: 0 | G24: 0 | H24: =ROUND(F24*G24,2) -> 0 | I24: 0 | J24: 0 | K24: =SUM(H24:J24) -> 0 | L24: =ROUND(E24*F24,2) -> 0 | M24: =ROUND(E24*H24,2) -> 0 | N24: =ROUND(E24*I24,2) -> 0 | O24: =ROUND(J24*E24,2) -> 0 | P24: =SUM(M24:O24) -> 0
B25: 1. Kopā: | L25: =SUM(L15:L24) -> 0 | M25: =SUM(M15:M24) -> 0 | N25: =SUM(N15:N24) -> 0 | O25: =SUM(O15:O24) -> 0 | P25: =SUM(P15:P24) -> 0
A26: 2 | B26: Zemes klātne
A27: 2.1 | B27: Zemes klātnes ierakuma būvniecība (tajā skaitā nederīgās grunts izrakšana, augu zemes noņemšana pilnā biezumā) un liekās (atkārtoti neizmantojamās) grunts transportēšana uz būvdarbu veicēja atbērtni. Piezīme: Ja esošajā gruntī tiek konstatēts, tad asfaltbetona seguma, būvgružu, betona elementu un betona apmaļu izrakšana. | C27: TS-CD-2, TS-CD-4, TS-CD-5 | D27: m3 | E27: 355 | F27: 0 | G27: 0 | H27: =ROUND(F27*G27,2) -> 0 | I27: 0 | J27: 0 | K27: =SUM(H27:J27) -> 0 | L27: =ROUND(E27*F27,2) -> 0 | M27: =ROUND(E27*H27,2) -> 0 | N27: =ROUND(E27*I27,2) -> 0 | O27: =ROUND(J27*E27,2) -> 0 | P27: =SUM(M27:O27) -> 0
A28: 2.2 | B28: Zemes klātnes uzbēruma būvniecība no atgūtā (izmaksu pozīcijā 2.1. uzrādītā) grunts materiāla apjoma (lielākais pieļaujamais organisko piejaukumu daudzums uzbēruma veidošanā izmantojamajai gruntij - 2% no masas) | C28: TS-CD-2, TS-CD-4, TS-CD-5 | D28: m3 | E28: 80 | F28: 0 | G28: 0 | H28: =ROUND(F28*G28,2) -> 0 | I28: 0 | J28: 0 | K28: =SUM(H28:J28) -> 0 | L28: =ROUND(E28*F28,2) -> 0 | M28: =ROUND(E28*H28,2) -> 0 | N28: =ROUND(E28*I28,2) -> 0 | O28: =ROUND(J28*E28,2) -> 0 | P28: =SUM(M28:O28) -> 0
A29: 2.3 | B29: Zemes klātnes uzbēruma būvniecība no pievesta "Autoceļu būvdarbu specifikācijas ABS 2026" noteiktajām prasībām atbilstoša materiāla (lielākais pieļaujamais organisko piejaukumu daudzums uzbēruma veidošanā izmantojamajai gruntij - 2% no masas) | C29: TS-CD-2, TS-CD-4, TS-CD-5 | D29: m3 | E29: 58 | F29: 0 | G29: 0 | H29: =ROUND(F29*G29,2) -> 0 | I29: 0 | J29: 0 | K29: =SUM(H29:J29) -> 0 | L29: =ROUND(E29*F29,2) -> 0 | M29: =ROUND(E29*H29,2) -> 0 | N29: =ROUND(E29*I29,2) -> 0 | O29: =ROUND(J29*E29,2) -> 0 | P29: =SUM(M29:O29) -> 0
A30: 2.4 | B30: Apzaļumošana un nogāžu nostiprināšana ar augu zemi 15cm biezumā,apsējot ar daudzgadīgu zāliena sēklām (NN-3) | C30: TS-CD-2, TS-CD-4, TS-CD-5 | D30: m2 | E30: 219 | F30: 0 | G30: 0 | H30: =ROUND(F30*G30,2) -> 0 | I30: 0 | J30: 0 | K30: =SUM(H30:J30) -> 0 | L30: =ROUND(E30*F30,2) -> 0 | M30: =ROUND(E30*H30,2) -> 0 | N30: =ROUND(E30*I30,2) -> 0 | O30: =ROUND(J30*E30,2) -> 0 | P30: =SUM(M30:O30) -> 0
B31: 2. Kopā: | L31: =SUM(L27:L30) -> 0 | M31: =SUM(M27:M30) -> 0 | N31: =SUM(N27:N30) -> 0 | O31: =SUM(O27:O30) -> 0 | P31: =SUM(P27:P30) -> 0
A32: 3 | B32: Ar saistvielām nesaistītas konstruktīvās kārtas
A33: 3.1 | B33: 1. segas tipa izbūves zona
A34: 3.1.1 | B34: Nesaistītu minerālmateriālu pamata nesošās virskārtas 0/45 būvniecība 10cm biezumā (N-III klase) | C34: TS-CD-2, TS-CD-4, TS-CD-5 | D34: m2 | E34: 274 | F34: 0 | G34: 0 | H34: =ROUND(F34*G34,2) -> 0 | I34: 0 | J34: 0 | K34: =SUM(H34:J34) -> 0 | L34: =ROUND(E34*F34,2) -> 0 | M34: =ROUND(E34*H34,2) -> 0 | N34: =ROUND(E34*I34,2) -> 0 | O34: =ROUND(J34*E34,2) -> 0 | P34: =SUM(M34:O34) -> 0
A35: 3.1.2 | B35: Nesaistītu minerālmateriālu pamata nesošās apakškārtas 0/56 būvniecība 14cm biezumā (N-IV klase) | C35: TS-CD-2, TS-CD-4, TS-CD-6 | D35: m2 | E35: 274 | F35: 0 | G35: 0 | H35: =ROUND(F35*G35,2) -> 0 | I35: 0 | J35: 0 | K35: =SUM(H35:J35) -> 0 | L35: =ROUND(E35*F35,2) -> 0 | M35: =ROUND(E35*H35,2) -> 0 | N35: =ROUND(E35*I35,2) -> 0 | O35: =ROUND(J35*E35,2) -> 0 | P35: =SUM(M35:O35) -> 0
A36: 3.1.3 | B36: Nepastiprinātas salizturīgās kārtas būvniecība ≥40cm biezumā | C36: TS-CD-2, TS-CD-4, TS-CD-5 | D36: m3 | E36: 125 | F36: 0 | G36: 0 | H36: =ROUND(F36*G36,2) -> 0 | I36: 0 | J36: 0 | K36: =SUM(H36:J36) -> 0 | L36: =ROUND(E36*F36,2) -> 0 | M36: =ROUND(E36*H36,2) -> 0 | N36: =ROUND(E36*I36,2) -> 0 | O36: =ROUND(J36*E36,2) -> 0 | P36: =SUM(M36:O36) -> 0
A37: 3.2 | B37: 2. segas tipa izbūves zona
A38: 3.2.1 | B38: Betona bruģa seguma izbūve 6cm biezumā. Izmēri: 200x100x60mm, forma: taisnstūris (ar fāzi), krāsa: pelēks, bruģa raksts: atbilstoši rasējumam TS-CD-5 | C38: TS-CD-2, TS-CD-4, TS-CD-5 | D38: m2 | E38: 188 | F38: 0 | G38: 0 | H38: =ROUND(F38*G38,2) -> 0 | I38: 0 | J38: 0 | K38: =SUM(H38:J38) -> 0 | L38: =ROUND(E38*F38,2) -> 0 | M38: =ROUND(E38*H38,2) -> 0 | N38: =ROUND(E38*I38,2) -> 0 | O38: =ROUND(J38*E38,2) -> 0 | P38: =SUM(M38:O38) -> 0
A39: 3.2.2 | B39: Taktila betona bruģa brīdinošās joslas izbūve (platums 0.60m) 6cm biezumā. Izmēri: 200x100x60mm, forma: ar izciļņu struktūru, krāsa: dzeltens, bruģa raksts: atbilstoši rasējumam TS-CD-5 | C39: TS-CD-2, TS-CD-4, TS-CD-5 | D39: m2 | E39: 7 | F39: 0 | G39: 0 | H39: =ROUND(F39*G39,2) -> 0 | I39: 0 | J39: 0 | K39: =SUM(H39:J39) -> 0 | L39: =ROUND(E39*F39,2) -> 0 | M39: =ROUND(E39*H39,2) -> 0 | N39: =ROUND(E39*I39,2) -> 0 | O39: =ROUND(J39*E39,2) -> 0 | P39: =SUM(M39:O39) -> 0
A40: 3.2.3 | B40: Nesaistītu minerālmateriālu 2/5 izlīdzinošās kārtas būvniecība vid.3cm biezumā | C40: TS-CD-2, TS-CD-4, TS-CD-5 | D40: m2 | E40: 195 | F40: 0 | G40: 0 | H40: =ROUND(F40*G40,2) -> 0 | I40: 0 | J40: 0 | K40: =SUM(H40:J40) -> 0 | L40: =ROUND(E40*F40,2) -> 0 | M40: =ROUND(E40*H40,2) -> 0 | N40: =ROUND(E40*I40,2) -> 0 | O40: =ROUND(J40*E40,2) -> 0 | P40: =SUM(M40:O40) -> 0
A41: 3.2.4 | B41: Nesaistītu minerālmateriālu pamata nesošās kārtas 0/45 būvniecība 15cm biezumā (N-III klase) | C41: TS-CD-2, TS-CD-4, TS-CD-5 | D41: m2 | E41: 195 | F41: 0 | G41: 0 | H41: =ROUND(F41*G41,2) -> 0 | I41: 0 | J41: 0 | K41: =SUM(H41:J41) -> 0 | L41: =ROUND(E41*F41,2) -> 0 | M41: =ROUND(E41*H41,2) -> 0 | N41: =ROUND(E41*I41,2) -> 0 | O41: =ROUND(J41*E41,2) -> 0 | P41: =SUM(M41:O41) -> 0
A42: 3.2.5 | B42: Nepastiprinātas salizturīgās kārtas būvniecība ≥30cm biezumā | C42: TS-CD-2, TS-CD-4, TS-CD-5 | D42: m3 | E42: 75 | F42: 0 | G42: 0 | H42: =ROUND(F42*G42,2) -> 0 | I42: 0 | J42: 0 | K42: =SUM(H42:J42) -> 0 | L42: =ROUND(E42*F42,2) -> 0 | M42: =ROUND(E42*H42,2) -> 0 | N42: =ROUND(E42*I42,2) -> 0 | O42: =ROUND(J42*E42,2) -> 0 | P42: =SUM(M42:O42) -> 0
...

Sheet T-Nr.1.2 (ELT_Apgaismojums)
A1: Lokālā tāme Nr.1.2
A2: (Elektroapgāde (ārējā): apgaismojums, ELT)
A3: ='T-Nr.1.1 (TS-CD)'!A3 -> Objekta nosaukums: Autostāvvietu izbūve Komunālajā ielā 6, Ķegumā, Ogres novadā
A4: ='T-Nr.1.1 (TS-CD)'!A4 -> Būves nosaukums: Iela
A5: ='T-Nr.1.1 (TS-CD)'!A5 -> Objekta adrese: Komunālā iela, Ķegums, Ogres novads
A6: ='T-Nr.1.1 (TS-CD)'!A6 -> Pasūtījuma Nr. 5-1.2/2026-24
A7: Tāme sastādīta 2026. gada tirgus cenās, pamatojoties uz ELT daļas rasējumiem. | L7: Tāmes izmaksas | N7: =P40 -> 0 | P7: EUR
L8: ='T-Nr.1.1 (TS-CD)'!L8 -> Tāme sastādīta 2026. gada 8.jūnijā
A11: Nr.p.k. | B11: Būvdarbu nosaukums | C11: Rasējuma Nr. | D11: Mērvienība | E11: Daudzums | F11: Vienības izmaksas | L11: Kopā uz visu apjomu
F12: Laika norma (c/h) | G12: Darba samaksas likme (EUR/h) | H12: Darba alga (EUR) | I12: Būvizstrādājumi (EUR) | J12: Mehānismi (EUR) | K12: Kopā (EUR) | L12: Darbietilpība (c/h) | M12: Darba alga (EUR) | N12: Būvizstrādājumi (EUR) | O12: Mehānismi (EUR) | P12: Summa (EUR)
A13: 1 | B13: 2 | D13: 3 | E13: 4 | F13: 5 | G13: 6 | H13: 7 | I13: 8 | J13: 9 | K13: 10 | L13: 11 | M13: 12 | N13: 13 | O13: 14 | P13: 15
A14: 1 | B14: Galvenie darbi
A15: 1.1 | B15: Jauna apgaismojuma balsta ar pamatu montāža uzstādot LED gaismekli, veicot visus nepieciešamos darbus | C15: ELT-1 | D15: kpl | E15: 1 | F15: 0 | G15: 0 | H15: =ROUND(F15*G15,2) -> 0 | I15: 0 | J15: 0 | K15: =SUM(H15:J15) -> 0 | L15: =ROUND(E15*F15,2) -> 0 | M15: =ROUND(E15*H15,2) -> 0 | N15: =ROUND(E15*I15,2) -> 0 | O15: =ROUND(J15*E15,2) -> 0 | P15: =SUM(M15:O15) -> 0
A16: 1.2 | B16: Apgaismojuma kabeļa izbūve (iekļaujot rakšanas darbus, segumu atjaunošanas darbus) | C16: ELT-1 | D16: m | E16: 9 | F16: 0 | G16: 0 | H16: =ROUND(F16*G16,2) -> 0 | I16: 0 | J16: 0 | K16: =SUM(H16:J16) -> 0 | L16: =ROUND(E16*F16,2) -> 0 | M16: =ROUND(E16*H16,2) -> 0 | N16: =ROUND(E16*I16,2) -> 0 | O16: =ROUND(J16*E16,2) -> 0 | P16: =SUM(M16:O16) -> 0
A17: 1.3 | B17: Apgaismojuma kabeļa montāža balstā | C17: ELT-1 | D17: gb | E17: 1 | F17: 0 | G17: 0 | H17: =ROUND(F17*G17,2) -> 0 | I17: 0 | J17: 0 | K17: =SUM(H17:J17) -> 0 | L17: =ROUND(E17*F17,2) -> 0 | M17: =ROUND(E17*H17,2) -> 0 | N17: =ROUND(E17*I17,2) -> 0 | O17: =ROUND(J17*E17,2) -> 0 | P17: =SUM(M17:O17) -> 0
A18: 1.4 | B18: Plastmasas caurules izbūve (iekļaujot rakšanas darbus, segumu atjaunošanas darbus) | C18: ELT-1 | D18: m | E18: 7 | F18: 0 | G18: 0 | H18: =ROUND(F18*G18,2) -> 0 | I18: 0 | J18: 0 | K18: =SUM(H18:J18) -> 0 | L18: =ROUND(E18*F18,2) -> 0 | M18: =ROUND(E18*H18,2) -> 0 | N18: =ROUND(E18*I18,2) -> 0 | O18: =ROUND(J18*E18,2) -> 0 | P18: =SUM(M18:O18) -> 0
A19: 1.5 | B19: Kabeļa gala apdares montāža | C19: ELT-1 | D19: gb | E19: 2 | F19: 0 | G19: 0 | H19: =ROUND(F19*G19,2) -> 0 | I19: 0 | J19: 0 | K19: =SUM(H19:J19) -> 0 | L19: =ROUND(E19*F19,2) -> 0 | M19: =ROUND(E19*H19,2) -> 0 | N19: =ROUND(E19*I19,2) -> 0 | O19: =ROUND(J19*E19,2) -> 0 | P19: =SUM(M19:O19) -> 0
A20: 1.6 | B20: Esošā kabeļa (caurulē) pārgriešana, pārcelšana, pieslēgšana pie jaunā balsta | C20: ELT-1 | D20: gb | E20: 1 | F20: 0 | G20: 0 | H20: =ROUND(F20*G20,2) -> 0 | I20: 0 | J20: 0 | K20: =SUM(H20:J20) -> 0 | L20: =ROUND(E20*F20,2) -> 0 | M20: =ROUND(E20*H20,2) -> 0 | N20: =ROUND(E20*I20,2) -> 0 | O20: =ROUND(J20*E20,2) -> 0 | P20: =SUM(M20:O20) -> 0
A21: 1.7 | B21: Savienojuma uzmavas montāža | C21: ELT-1 | D21: gb | E21: 1 | F21: 0 | G21: 0 | H21: =ROUND(F21*G21,2) -> 0 | I21: 0 | J21: 0 | K21: =SUM(H21:J21) -> 0 | L21: =ROUND(E21*F21,2) -> 0 | M21: =ROUND(E21*H21,2) -> 0 | N21: =ROUND(E21*I21,2) -> 0 | O21: =ROUND(J21*E21,2) -> 0 | P21: =SUM(M21:O21) -> 0
A22: 1.8 | B22: Apgaismojuma sistēmas ieprogrammēšana atbilstoši Ogres novada pašvaldības dimmēšanas grafikam, testēšana, nodošana pasūtītājam | C22: ELT-1 | D22: objekts | E22: 1 | F22: 0 | G22: 0 | H22: =ROUND(F22*G22,2) -> 0 | I22: 0 | J22: 0 | K22: =SUM(H22:J22) -> 0 | L22: =ROUND(E22*F22,2) -> 0 | M22: =ROUND(E22*H22,2) -> 0 | N22: =ROUND(E22*I22,2) -> 0 | O22: =ROUND(J22*E22,2) -> 0 | P22: =SUM(M22:O22) -> 0
A23: 1.9 | B23: EPL nospraušana (digi, GPS) | C23: ELT-1 | D23: objekts | E23: 1 | F23: 0 | G23: 0 | H23: =ROUND(F23*G23,2) -> 0 | I23: 0 | J23: 0 | K23: =SUM(H23:J23) -> 0 | L23: =ROUND(E23*F23,2) -> 0 | M23: =ROUND(E23*H23,2) -> 0 | N23: =ROUND(E23*I23,2) -> 0 | O23: =ROUND(J23*E23,2) -> 0 | P23: =SUM(M23:O23) -> 0
A24: 1.10 | B24: EPL digitālā uzmērīšana | C24: ELT-1 | D24: objekts | E24: 1 | F24: 0 | G24: 0 | H24: =ROUND(F24*G24,2) -> 0 | I24: 0 | J24: 0 | K24: =SUM(H24:J24) -> 0 | L24: =ROUND(E24*F24,2) -> 0 | M24: =ROUND(E24*H24,2) -> 0 | N24: =ROUND(E24*I24,2) -> 0 | O24: =ROUND(J24*E24,2) -> 0 | P24: =SUM(M24:O24) -> 0
B25: 1. Kopā: | L25: =SUM(L15:L24) -> 0 | M25: =SUM(M15:M24) -> 0 | N25: =SUM(N15:N24) -> 0 | O25: =SUM(O15:O24) -> 0 | P25: =SUM(P15:P24) -> 0
A26: 2 | B26: Galvenie materiāli
A27: 2.1 | B27: 0,4kV kabelis, montāžai zemē AXPK-4x16mm (vai ekvivalents) | C27: ELT-1 | D27: m | E27: 9 | F27: 0 | G27: 0 | H27: =ROUND(F27*G27,2) -> 0 | I27: 0 | J27: 0 | K27: =SUM(H27:J27) -> 0 | L27: =ROUND(E27*F27,2) -> 0 | M27: =ROUND(E27*H27,2) -> 0 | N27: =ROUND(E27*I27,2) -> 0 | O27: =ROUND(J27*E27,2) -> 0 | P27: =SUM(M27:O27) -> 0
A28: 2.2 | B28: 0,4kV kabelis, montāžai balstā, XPK 3x1,5mm (vai ekvivalents) | C28: ELT-1 | D28: m | E28: 6 | F28: 0 | G28: 0 | H28: =ROUND(F28*G28,2) -> 0 | I28: 0 | J28: 0 | K28: =SUM(H28:J28) -> 0 | L28: =ROUND(E28*F28,2) -> 0 | M28: =ROUND(E28*H28,2) -> 0 | N28: =ROUND(E28*I28,2) -> 0 | O28: =ROUND(J28*E28,2) -> 0 | P28: =SUM(M28:O28) -> 0
A29: 2.3 | B29: Drošinātāju bloks ar 6A drošinātāju, EKM2020 (TE) (vai ekvivalents), ar iespēju pievienot līdz 3x kabeļiem tranzītā | C29: ELT-1 | D29: kpl | E29: 1 | F29: 0 | G29: 0 | H29: =ROUND(F29*G29,2) -> 0 | I29: 0 | J29: 0 | K29: =SUM(H29:J29) -> 0 | L29: =ROUND(E29*F29,2) -> 0 | M29: =ROUND(E29*H29,2) -> 0 | N29: =ROUND(E29*I29,2) -> 0 | O29: =ROUND(J29*E29,2) -> 0 | P29: =SUM(M29:O29) -> 0
A30: 2.4 | B30: Gala apdare kabelim 4x16 | C30: ELT-1 | D30: gb | E30: 2 | F30: 0 | G30: 0 | H30: =ROUND(F30*G30,2) -> 0 | I30: 0 | J30: 0 | K30: =SUM(H30:J30) -> 0 | L30: =ROUND(E30*F30,2) -> 0 | M30: =ROUND(E30*H30,2) -> 0 | N30: =ROUND(E30*I30,2) -> 0 | O30: =ROUND(J30*E30,2) -> 0 | P30: =SUM(M30:O30) -> 0
A31: 2.5 | B31: Savienojuma uzmava kabelim 4x16 | C31: ELT-1 | D31: gb | E31: 1 | F31: 0 | G31: 0 | H31: =ROUND(F31*G31,2) -> 0 | I31: 0 | J31: 0 | K31: =SUM(H31:J31) -> 0 | L31: =ROUND(E31*F31,2) -> 0 | M31: =ROUND(E31*H31,2) -> 0 | N31: =ROUND(E31*I31,2) -> 0 | O31: =ROUND(J31*E31,2) -> 0 | P31: =SUM(M31:O31) -> 0
A32: 2.6 | B32: LED gaismeklis, Vizulo - Stork Little Brother 70 W 64 LED, ar Zhaga konektoru, ar pārspriegumaizsardzības bloku; ar C-node RF; SRLE 070 757 L36 AB064 (vai ekvivalents) | C32: ELT-1 | D32: gb | E32: 1 | F32: 0 | G32: 0 | H32: =ROUND(F32*G32,2) -> 0 | I32: 0 | J32: 0 | K32: =SUM(H32:J32) -> 0 | L32: =ROUND(E32*F32,2) -> 0 | M32: =ROUND(E32*H32,2) -> 0 | N32: =ROUND(E32*I32,2) -> 0 | O32: =ROUND(J32*E32,2) -> 0 | P32: =SUM(M32:O32) -> 0
A33: 2.7 | B33: Metāla balsts "Zebra" gājēju pārejas, H=6m, komplektā ar pamatu P-2, konsoli L=1m garu, ar blīvējumiem | C33: ELT-1 | D33: kpl | E33: 1 | F33: 0 | G33: 0 | H33: =ROUND(F33*G33,2) -> 0 | I33: 0 | J33: 0 | K33: =SUM(H33:J33) -> 0 | L33: =ROUND(E33*F33,2) -> 0 | M33: =ROUND(E33*H33,2) -> 0 | N33: =ROUND(E33*I33,2) -> 0 | O33: =ROUND(J33*E33,2) -> 0 | P33: =SUM(M33:O33) -> 0
A34: 2.8 | B34: Plastmasas caurule montāžai zemē, d75mm, 450N | C34: ELT-1 | D34: m | E34: 7 | F34: 0 | G34: 0 | H34: =ROUND(F34*G34,2) -> 0 | I34: 0 | J34: 0 | K34: =SUM(H34:J34) -> 0 | L34: =ROUND(E34*F34,2) -> 0 | M34: =ROUND(E34*H34,2) -> 0 | N34: =ROUND(E34*I34,2) -> 0 | O34: =ROUND(J34*E34,2) -> 0 | P34: =SUM(M34:O34) -> 0
A35: 2.9 | B35: Signāllenta kabeļlīnijai | C35: ELT-1 | D35: m | E35: 10 | F35: 0 | G35: 0 | H35: =ROUND(F35*G35,2) -> 0 | I35: 0 | J35: 0 | K35: =SUM(H35:J35) -> 0 | L35: =ROUND(E35*F35,2) -> 0 | M35: =ROUND(E35*H35,2) -> 0 | N35: =ROUND(E35*I35,2) -> 0 | O35: =ROUND(J35*E35,2) -> 0 | P35: =SUM(M35:O35) -> 0
A36: 2.10 | B36: Balsta atkārtots zemējuma komplekts (Zn d20mm, L=6m, zemējuma vads) | C36: ELT-1 | D36: kpl | E36: 1 | F36: 0 | G36: 0 | H36: =ROUND(F36*G36,2) -> 0 | I36: 0 | J36: 0 | K36: =SUM(H36:J36) -> 0 | L36: =ROUND(E36*F36,2) -> 0 | M36: =ROUND(E36*H36,2) -> 0 | N36: =ROUND(E36*I36,2) -> 0 | O36: =ROUND(J36*E36,2) -> 0 | P36: =SUM(M36:O36) -> 0
A37: 2.11 | B37: Palīgmateriāli | C37: ELT-1 | D37: kpl | E37: 1 | F37: 0 | G37: 0 | H37: =ROUND(F37*G37,2) -> 0 | I37: 0 | J37: 0 | K37: =SUM(H37:J37) -> 0 | L37: =ROUND(E37*F37,2) -> 0 | M37: =ROUND(E37*H37,2) -> 0 | N37: =ROUND(E37*I37,2) -> 0 | O37: =ROUND(J37*E37,2) -> 0 | P37: =SUM(M37:O37) -> 0
B38: 2. Kopā: | L38: =SUM(L27:L37) -> 0 | M38: =SUM(M27:M37) -> 0 | N38: =SUM(N27:N37) -> 0 | O38: =SUM(O27:O37) -> 0 | P38: =SUM(P27:P37) -> 0
B39: 1.-2. Kopā: | L39: =SUM(L25,L38) -> 0 | M39: =SUM(M25,M38) -> 0 | N39: =SUM(N25,N38) -> 0 | O39: =SUM(O25,O38) -> 0 | P39: =SUM(P25,P38) -> 0
A40: Tiešās izmaksas kopā t. sk. darba devēja sociālais nodoklis (23.59%): | M40: =SUM(M39:M39) -> 0 | N40: =SUM(N39:N39) -> 0 | O40: =SUM(O39:O39) -> 0 | P40: =SUM(P39:P39) -> 0
B42: Piezīmes:
B43: 1. Būvuzņēmējam jāievērtē darbu daudzumu sarakstā minēto darbu veikšanai nepieciešamie materiāli un papildus darbi, kas nav minēti šajā sarakstā, bet bez kuriem nebūtu iespējama būvdarbu tehnoloģiski pareiza un spēkā esošajiem normatīviem atbilstoša darba veikšana pilnā apjomā.
...
