Workbook

Sheet Saturs
A3: Nr.p.k. | B3: Nosaukums | C3: Lapa
A5: 1 | B5: Saturs | C5: 2
A6: 2 | B6: Skaidrojošais apraksts | C6: 3
A7: 3 | B7: Būvniecības koptāme | C7: 4
A8: 4 | B8: Kopsavilkuma aprēķini pa darbu vai konstruktīvo elementu veidiem Nr.1 | C8: 5
A9: 5 | B9: Lokālā tāme Nr. 1.1 (TS-CD) | C9: 6-14
A10: 6 | B10: Lokālā tāme Nr. 1.2 (ELT, apgaismojums) | C10: 15-16

Sheet Buvniecibas koptame
A3: Būvniecības koptāme
A5: ='T-Nr.1.1 (TS-CD)'!A3 -> Objekta nosaukums: Autostāvvietu izbūve Komunālajā ielā 6, Ķegumā, Ogres novadā
A6: ='T-Nr.1.1 (TS-CD)'!A4 -> Būves nosaukums: Iela
A7: ='T-Nr.1.1 (TS-CD)'!A5 -> Objekta adrese: Komunālā iela, Ķegums, Ogres novads
A8: ='T-Nr.1.1 (TS-CD)'!A6 -> Pasūtījuma Nr. 5-1.2/2026-24
C9: ='T-Nr.1.1 (TS-CD)'!L8 -> Tāme sastādīta 2026. gada 8.jūnijā
A11: Nr.p.k. | B11: Objekta nosaukums | C11: Objekta izmaksas (EUR)
A13: 1 | B13: 2 | C13: 3
A14: 1 | B14: Autostāvvietu izbūve Komunālajā ielā 6, Ķegumā, Ogres novadā | C14: ='K-Nr.1'!D20 -> 0 | D14: 6142700 | E14: =D14-C14 -> 6142700
D15: 431549.66 | E15: =D15-C15 -> 431549.66
B16: Kopā | C16: =SUM(C14:C15) -> 0
B17: PVN (21%) | C17: =C16*0.21 -> 0
B18: Kopējās būvniecības izmaksas | C18: =C16+C17 -> 0 | D18: 9873935.4 | E18: =D18-C18 -> 9873935.4
B21: Sastādīja:___________Helmuts Nelsons | C21: Pārbaudīja:___________Helmuts Nelsons
B22: Sertifikāta Nr.3-01336 | C22: Sertifikāta Nr.3-01336

Sheet K-Nr.1
A1: Kopsavilkuma aprēķini pa darbu vai konstruktīvo elementu veidiem Nr.1
A3: ='T-Nr.1.1 (TS-CD)'!A3 -> Objekta nosaukums: Autostāvvietu izbūve Komunālajā ielā 6, Ķegumā, Ogres novadā
A4: ='T-Nr.1.1 (TS-CD)'!A4 -> Būves nosaukums: Iela
A5: ='T-Nr.1.1 (TS-CD)'!A5 -> Objekta adrese: Komunālā iela, Ķegums, Ogres novads
A6: ='T-Nr.1.1 (TS-CD)'!A6 -> Pasūtījuma Nr. 5-1.2/2026-24
C7: Par kopējo summu, (EUR) | D7: =D20 -> 0
C8: Kopējā darbietilbība, (c/h) | D8: =H16 -> 0
D9: ='T-Nr.1.1 (TS-CD)'!L8 -> Tāme sastādīta 2026. gada 8.jūnijā
A11: Nr.p.k. | B11: Kods, tāmes Nr. | C11: Būvdarbu veids vai konstruktīvā elementa nosaukums | D11: Tāmes izmaksas (EUR) | E11: Tajā skaitā | H11: Darb- ietilpība (c/h)
E12: Darba alga (EUR) | F12: Būvizstrādājumi (EUR) | G12: Mehānismi (EUR)
A13: 1 | B13: 2 | C13: 3 | D13: 4 | E13: 5 | F13: 6 | G13: 7 | H13: 8
A14: 1 | B14: 1.1 | C14: Izbūves darbi (Ceļa darbi, TS-CD) | D14: =SUM(E14:G14) -> 0 | E14: ='T-Nr.1.1 (TS-CD)'!M94 -> 0 | F14: ='T-Nr.1.1 (TS-CD)'!N94 -> 0 | G14: ='T-Nr.1.1 (TS-CD)'!O94 -> 0 | H14: ='T-Nr.1.1 (TS-CD)'!L93 -> 0
A15: 2 | B15: 1.2 | C15: Izbūves darbi (Elektroapgāde (ārējā): apgaismojums, ELT) | D15: =SUM(E15:G15) -> 0 | E15: ='T-Nr.1.2 (ELT_Apgaismojums)'!M40 -> 0 | F15: ='T-Nr.1.2 (ELT_Apgaismojums)'!N40 -> 0 | G15: ='T-Nr.1.2 (ELT_Apgaismojums)'!O40 -> 0 | H15: ='T-Nr.1.2 (ELT_Apgaismojums)'!L39 -> 0
C16: Kopā 1-2: | D16: =SUM(D14:D15) -> 0 | E16: =SUM(E14:E15) -> 0 | F16: =SUM(F14:F15) -> 0 | G16: =SUM(G14:G15) -> 0 | H16: =SUM(H14:H15) -> 0
C17: Virsizdevumi (6%) | D17: =D16*0.06 -> 0
C18: t.sk darba aizsardzība | D18: =D17*0.15 -> 0
C19: Peļņa (3%) | D19: =D16*0.03 -> 0
C20: Kopā | D20: =SUM(D16:D19)-D18 -> 0
C23: Sastādīja:___________Helmuts Nelsons | F23: Pārbaudīja:___________Helmuts Nelsons
C24: Sertifikāta Nr.3-01336 | F24: Sertifikāta Nr.3-01336

Sheet T-Nr.1.1 (TS-CD)
A1: Lokālā tāme Nr.1.1
A2: (Ceļa darbi, TS-CD)
A3: Objekta nosaukums: Autostāvvietu izbūve Komunālajā ielā 6, Ķegumā, Ogres novadā
A4: Būves nosaukums: Iela
A5: Objekta adrese: Komunālā iela, Ķegums, Ogres novads
A6: Pasūtījuma Nr. 5-1.2/2026-24
A7: Tāme sastādīta 2026. gada tirgus cenās, pamatojoties uz TS-CD daļas rasējumiem. | L7: Tāmes izmaksas | N7: =P94 -> 0 | P7: EUR
L8: Tāme sastādīta 2026. gada 8.jūnijā
A11: Nr.p.k. | B11: Būvdarbu nosaukums | C11: Rasējuma Nr. | D11: Mērvienība | E11: Daudzums | F11: Vienības izmaksas | L11: Kopā uz visu apjomu
F12: Laika norma (c/h) | G12: Darba samaksas likme (EUR/h) | H12: Darba alga (EUR) | I12: Būvizstrādājumi (EUR) | J12: Mehānismi (EUR) | K12: Kopā (EUR) | L12: Darbietilpība (c/h) | M12: Darba alga (EUR) | N12: Būvizstrādājumi (EUR) | O12: Mehānismi (EUR) | P12: Summa (EUR)
A13: 1 | B13: 2 | C13: 3 | D13: 3 | E13: 4 | F13: 5 | G13: 6 | H13: 7 | I13: 8 | J13: 9 | K13: 10 | L13: 11 | M13: 12 | N13: 13 | O13: 14 | P13: 15
A14: 1 | B14: Dažādi darbi
A15: 1.1 | B15: Objekta galveno punktu uzmērīšana un nospraušana | C15: GP-1 | D15: kpl | E15: 1 | F15: 0 | G15: 0 | H15: =ROUND(F15*G15,2) -> 0 | I15: 0 | J15: 0 | K15: =SUM(H15:J15) -> 0 | L15: =ROUND(E15*F15,2) -> 0 | M15: =ROUND(E15*H15,2) -> 0 | N15: =ROUND(E15*I15,2) -> 0 | O15: =ROUND(J15*E15,2) -> 0 | P15: =SUM(M15:O15) -> 0
A16: 1.2 | B16: Celma laušana vai nofrēzēšana, transportējot uz būvdarbu veicēja atbērtni | C16: GP-1 | D16: gb | E16: 1 | F16: 0 | G16: 0 | H16: =ROUND(F16*G16,2) -> 0 | I16: 0 | J16: 0 | K16: =SUM(H16:J16) -> 0 | L16: =ROUND(E16*F16,2) -> 0 | M16: =ROUND(E16*H16,2) -> 0 | N16: =ROUND(E16*I16,2) -> 0 | O16: =ROUND(J16*E16,2) -> 0 | P16: =SUM(M16:O16) -> 0
A17: 1.3 | B17: Asfaltbetona seguma zāģēšana | C17: GP-1 | D17: m | E17: 33 | F17: 0 | G17: 0 | H17: =ROUND(F17*G17,2) -> 0 | I17: 0 | J17: 0 | K17: =SUM(H17:J17) -> 0 | L17: =ROUND(E17*F17,2) -> 0 | M17: =ROUND(E17*H17,2) -> 0 | N17: =ROUND(E17*I17,2) -> 0 | O17: =ROUND(J17*E17,2) -> 0 | P17: =SUM(M17:O17) -> 0
A18: 1.4 | B18: Brauktuves asfaltbetona seguma demontāža (vid. biezums 10cm) un transportēšana uz būvdarbu veicēja atbērtni | C18: GP-1 | D18: m2 | E18: 19 | F18: 0 | G18: 0 | H18: =ROUND(F18*G18,2) -> 0 | I18: 0 | J18: 0 | K18: =SUM(H18:J18) -> 0 | L18: =ROUND(E18*F18,2) -> 0 | M18: =ROUND(E18*H18,2) -> 0 | N18: =ROUND(E18*I18,2) -> 0 | O18: =ROUND(J18*E18,2) -> 0 | P18: =SUM(M18:O18) -> 0
A19: 1.5 | B19: Asfaltbetona seguma savienojumu frēzēšana (vid. biezums 4cm) un transportēšana uz būvdarbu veicēja atbērtni | C19: GP-1 | D19: m2 | E19: 20 | F19: 0 | G19: 0 | H19: =ROUND(F19*G19,2) -> 0 | I19: 0 | J19: 0 | K19: =SUM(H19:J19) -> 0 | L19: =ROUND(E19*F19,2) -> 0 | M19: =ROUND(E19*H19,2) -> 0 | N19: =ROUND(E19*I19,2) -> 0 | O19: =ROUND(J19*E19,2) -> 0 | P19: =SUM(M19:O19) -> 0
A20: 1.6 | B20: Betona bruģa demontāža (biezums 6cm), tīrīšana, novietošana uz paletēm un transportēšana uz Pasūtītāja norādīto vietu. Piezīme: Ja Pasūtītājs atsakās no viņam piederošā materiāla apjoma vai materiāls nav derīgs atkārtotai izmantošanai, tad šis apjoms jātransportē uz būvdarbu veicēja atbērtni | C20: GP-1 | D20: m2 | E20: 18 | F20: 0 | G20: 0 | H20: =ROUND(F20*G20,2) -> 0 | I20: 0 | J20: 0 | K20: =SUM(H20:J20) -> 0 | L20: =ROUND(E20*F20,2) -> 0 | M20: =ROUND(E20*H20,2) -> 0 | N20: =ROUND(E20*I20,2) -> 0 | O20: =ROUND(J20*E20,2) -> 0 | P20: =SUM(M20:O20) -> 0
A21: 1.7 | B21: Betona bruģa demontāža (biezums 6cm), tīrīšana, novietošana uz paletēm, bruģi sagatavojot un saglabājot atkārtotai izbūvei. | C21: GP-1 | D21: m2 | E21: 1 | F21: 0 | G21: 0 | H21: =ROUND(F21*G21,2) -> 0 | I21: 0 | J21: 0 | K21: =SUM(H21:J21) -> 0 | L21: =ROUND(E21*F21,2) -> 0 | M21: =ROUND(E21*H21,2) -> 0 | N21: =ROUND(E21*I21,2) -> 0 | O21: =ROUND(J21*E21,2) -> 0 | P21: =SUM(M21:O21) -> 0
A22: 1.8 | B22: Betona bruģa demontāža (biezums 8cm), tīrīšana, novietošana uz paletēm, bruģi sagatavojot un saglabājot atkārtotai izbūvei. | C22: GP-1 | D22: m2 | E22: 2 | F22: 0 | G22: 0 | H22: =ROUND(F22*G22,2) -> 0 | I22: 0 | J22: 0 | K22: =SUM(H22:J22) -> 0 | L22: =ROUND(E22*F22,2) -> 0 | M22: =ROUND(E22*H22,2) -> 0 | N22: =ROUND(E22*I22,2) -> 0 | O22: =ROUND(J22*E22,2) -> 0 | P22: =SUM(M22:O22) -> 0
A23: 1.9 | B23: Ietves betona apmaļu nojaukšana un transportēšana uz būvdarbu veicēja atbērtni | C23: GP-1 | D23: m | E23: 19 | F23: 0 | G23: 0 | H23: =ROUND(F23*G23,2) -> 0 | I23: 0 | J23: 0 | K23: =SUM(H23:J23) -> 0 | L23: =ROUND(E23*F23,2) -> 0 | M23: =ROUND(E23*H23,2) -> 0 | N23: =ROUND(E23*I23,2) -> 0 | O23: =ROUND(J23*E23,2) -> 0 | P23: =SUM(M23:O23) -> 0
A24: 1.10 | B24: Ielas betona apmaļu nojaukšana un transportēšana uz būvdarbu veicēja atbērtni | C24: GP-1 | D24: m | E24: 47 | F24: 0 | G24: 0 | H24: =ROUND(F24*G24,2) -> 0 | I24: 0 | J24: 0 | K24: =SUM(H24:J24) -> 0 | L24: =ROUND(E24*F24,2) -> 0 | M24: =ROUND(E24*H24,2) -> 0 | N24: =ROUND(E24*I24,2) -> 0 | O24: =ROUND(J24*E24,2) -> 0 | P24: =SUM(M24:O24) -> 0
B25: 1. Kopā: | L25: =SUM(L15:L24) -> 0 | M25: =SUM(M15:M24) -> 0 | N25: =SUM(N15:N24) -> 0 | O25: =SUM(O15:O24) -> 0 | P25: =SUM(P15:P24) -> 0
A26: 2 | B26: Zemes klātne
A27: 2.1 | B27: Zemes klātnes ierakuma būvniecība (tajā skaitā nederīgās grunts izrakšana, augu zemes noņemšana pilnā biezumā) un liekās (atkārtoti neizmantojamās) grunts transportēšana uz būvdarbu veicēja atbērtni. Piezīme: Ja esošajā gruntī tiek konstatēts, tad asfaltbetona seguma, būvgružu, betona elementu un betona apmaļu izrakšana. | C27: TS-CD-2, TS-CD-4, TS-CD-5 | D27: m3 | E27: 355 | F27: 0 | G27: 0 | H27: =ROUND(F27*G27,2) -> 0 | I27: 0 | J27: 0 | K27: =SUM(H27:J27) -> 0 | L27: =ROUND(E27*F27,2) -> 0 | M27: =ROUND(E27*H27,2) -> 0 | N27: =ROUND(E27*I27,2) -> 0 | O27: =ROUND(J27*E27,2) -> 0 | P27: =SUM(M27:O27) -> 0
A28: 2.2 | B28: Zemes klātnes uzbēruma būvniecība no atgūtā (izmaksu pozīcijā 2.1. uzrādītā) grunts materiāla apjoma (lielākais pieļaujamais organisko piejaukumu daudzums uzbēruma veidošanā izmantojamajai gruntij - 2% no masas) | C28: TS-CD-2, TS-CD-4, TS-CD-5 | D28: m3 | E28: 80 | F28: 0 | G28: 0 | H28: =ROUND(F28*G28,2) -> 0 | I28: 0 | J28: 0 | K28: =SUM(H28:J28) -> 0 | L28: =ROUND(E28*F28,2) -> 0 | M28: =ROUND(E28*H28,2) -> 0 | N28: =ROUND(E28*I28,2) -> 0 | O28: =ROUND(J28*E28,2) -> 0 | P28: =SUM(M28:O28) -> 0
A29: 2.3 | B29: Zemes klātnes uzbēruma būvniecība no pievesta "Autoceļu būvdarbu specifikācijas ABS 2026" noteiktajām prasībām atbilstoša materiāla (lielākais pieļaujamais organisko piejaukumu daudzums uzbēruma veidošanā izmantojamajai gruntij - 2% no masas) | C29: TS-CD-2, TS-CD-4, TS-CD-5 | D29: m3 | E29: 58 | F29: 0 | G29: 0 | H29: =ROUND(F29*G29,2) -> 0 | I29: 0 | J29: 0 | K29: =SUM(H29:J29) -> 0 | L29: =ROUND(E29*F29,2) -> 0 | M29: =ROUND(E29*H29,2) -> 0 | N29: =ROUND(E29*I29,2) -> 0 | O29: =ROUND(J29*E29,2) -> 0 | P29: =SUM(M29:O29) -> 0
A30: 2.4 | B30: Apzaļumošana un nogāžu nostiprināšana ar augu zemi 15cm biezumā,apsējot ar daudzgadīgu zāliena sēklām (NN-3) | C30: TS-CD-2, TS-CD-4, TS-CD-5 | D30: m2 | E30: 219 | F30: 0 | G30: 0 | H30: =ROUND(F30*G30,2) -> 0 | I30: 0 | J30: 0 | K30: =SUM(H30:J30) -> 0 | L30: =ROUND(E30*F30,2) -> 0 | M30: =ROUND(E30*H30,2) -> 0 | N30: =ROUND(E30*I30,2) -> 0 | O30: =ROUND(J30*E30,2) -> 0 | P30: =SUM(M30:O30) -> 0
B31: 2. Kopā: | L31: =SUM(L27:L30) -> 0 | M31: =SUM(M27:M30) -> 0 | N31: =SUM(N27:N30) -> 0 | O31: =SUM(O27:O30) -> 0 | P31: =SUM(P27:P30) -> 0
A32: 3 | B32: Ar saistvielām nesaistītas konstruktīvās kārtas
A33: 3.1 | B33: 1. segas tipa izbūves zona
A34: 3.1.1 | B34: Nesaistītu minerālmateriālu pamata nesošās virskārtas 0/45 būvniecība 10cm biezumā (N-III klase) | C34: TS-CD-2, TS-CD-4, TS-CD-5 | D34: m2 | E34: 274 | F34: 0 | G34: 0 | H34: =ROUND(F34*G34,2) -> 0 | I34: 0 | J34: 0 | K34: =SUM(H34:J34) -> 0 | L34: =ROUND(E34*F34,2) -> 0 | M34: =ROUND(E34*H34,2) -> 0 | N34: =ROUND(E34*I34,2) -> 0 | O34: =ROUND(J34*E34,2) -> 0 | P34: =SUM(M34:O34) -> 0
A35: 3.1.2 | B35: Nesaistītu minerālmateriālu pamata nesošās apakškārtas 0/56 būvniecība 14cm biezumā (N-IV klase) | C35: TS-CD-2, TS-CD-4, TS-CD-6 | D35: m2 | E35: 274 | F35: 0 | G35: 0 | H35: =ROUND(F35*G35,2) -> 0 | I35: 0 | J35: 0 | K35: =SUM(H35:J35) -> 0 | L35: =ROUND(E35*F35,2) -> 0 | M35: =ROUND(E35*H35,2) -> 0 | N35: =ROUND(E35*I35,2) -> 0 | O35: =ROUND(J35*E35,2) -> 0 | P35: =SUM(M35:O35) -> 0
A36: 3.1.3 | B36: Nepastiprinātas salizturīgās kārtas būvniecība ≥40cm biezumā | C36: TS-CD-2, TS-CD-4, TS-CD-5 | D36: m3 | E36: 125 | F36: 0 | G36: 0 | H36: =ROUND(F36*G36,2) -> 0 | I36: 0 | J36: 0 | K36: =SUM(H36:J36) -> 0 | L36: =ROUND(E36*F36,2) -> 0 | M36: =ROUND(E36*H36,2) -> 0 | N36: =ROUND(E36*I36,2) -> 0 | O36: =ROUND(J36*E36,2) -> 0 | P36: =SUM(M36:O36) -> 0
A37: 3.2 | B37: 2. segas tipa izbūves zona
A38: 3.2.1 | B38: Betona bruģa seguma izbūve 6cm biezumā. Izmēri: 200x100x60mm, forma: taisnstūris (ar fāzi), krāsa: pelēks, bruģa raksts: atbilstoši rasējumam TS-CD-5 | C38: TS-CD-2, TS-CD-4, TS-CD-5 | D38: m2 | E38: 188 | F38: 0 | G38: 0 | H38: =ROUND(F38*G38,2) -> 0 | I38: 0 | J38: 0 | K38: =SUM(H38:J38) -> 0 | L38: =ROUND(E38*F38,2) -> 0 | M38: =ROUND(E38*H38,2) -> 0 | N38: =ROUND(E38*I38,2) -> 0 | O38: =ROUND(J38*E38,2) -> 0 | P38: =SUM(M38:O38) -> 0
A39: 3.2.2 | B39: Taktila betona bruģa brīdinošās joslas izbūve (platums 0.60m) 6cm biezumā. Izmēri: 200x100x60mm, forma: ar izciļņu struktūru, krāsa: dzeltens, bruģa raksts: atbilstoši rasējumam TS-CD-5 | C39: TS-CD-2, TS-CD-4, TS-CD-5 | D39: m2 | E39: 7 | F39: 0 | G39: 0 | H39: =ROUND(F39*G39,2) -> 0 | I39: 0 | J39: 0 | K39: =SUM(H39:J39) -> 0 | L39: =ROUND(E39*F39,2) -> 0 | M39: =ROUND(E39*H39,2) -> 0 | N39: =ROUND(E39*I39,2) -> 0 | O39: =ROUND(J39*E39,2) -> 0 | P39: =SUM(M39:O39) -> 0
A40: 3.2.3 | B40: Nesaistītu minerālmateriālu 2/5 izlīdzinošās kārtas būvniecība vid.3cm biezumā | C40: TS-CD-2, TS-CD-4, TS-CD-5 | D40: m2 | E40: 195 | F40: 0 | G40: 0 | H40: =ROUND(F40*G40,2) -> 0 | I40: 0 | J40: 0 | K40: =SUM(H40:J40) -> 0 | L40: =ROUND(E40*F40,2) -> 0 | M40: =ROUND(E40*H40,2) -> 0 | N40: =ROUND(E40*I40,2) -> 0 | O40: =ROUND(J40*E40,2) -> 0 | P40: =SUM(M40:O40) -> 0
A41: 3.2.4 | B41: Nesaistītu minerālmateriālu pamata nesošās kārtas 0/45 būvniecība 15cm biezumā (N-III klase) | C41: TS-CD-2, TS-CD-4, TS-CD-5 | D41: m2 | E41: 195 | F41: 0 | G41: 0 | H41: =ROUND(F41*G41,2) -> 0 | I41: 0 | J41: 0 | K41: =SUM(H41:J41) -> 0 | L41: =ROUND(E41*F41,2) -> 0 | M41: =ROUND(E41*H41,2) -> 0 | N41: =ROUND(E41*I41,2) -> 0 | O41: =ROUND(J41*E41,2) -> 0 | P41: =SUM(M41:O41) -> 0
A42: 3.2.5 | B42: Nepastiprinātas salizturīgās kārtas būvniecība ≥30cm biezumā | C42: TS-CD-2, TS-CD-4, TS-CD-5 | D42: m3 | E42: 75 | F42: 0 | G42: 0 | H42: =ROUND(F42*G42,2) -> 0 | I42: 0 | J42: 0 | K42: =SUM(H42:J42) -> 0 | L42: =ROUND(E42*F42,2) -> 0 | M42: =ROUND(E42*H42,2) -> 0 | N42: =ROUND(E42*I42,2) -> 0 | O42: =ROUND(J42*E42,2) -> 0 | P42: =SUM(M42:O42) -> 0
A43: 3.3 | B43: Brauktuves asfaltbetona seguma remontzona
A44: 3.3.1 | B44: Nesaistītu minerālmateriālu pamata nesošās kārtas 0/45 būvniecība vid.25cm biezumā (N-III klase) | C44: TS-CD-2, TS-CD-4, TS-CD-5 | D44: m2 | E44: 16 | F44: 0 | G44: 0 | H44: =ROUND(F44*G44,2) -> 0 | I44: 0 | J44: 0 | K44: =SUM(H44:J44) -> 0 | L44: =ROUND(E44*F44,2) -> 0 | M44: =ROUND(E44*H44,2) -> 0 | N44: =ROUND(E44*I44,2) -> 0 | O44: =ROUND(J44*E44,2) -> 0 | P44: =SUM(M44:O44) -> 0
A45: 3.4 | B45: Brauktuves betona bruģa seguma remontzona
A46: 3.4.1 | B46: Betona bruģa seguma izbūve 8cm biezumā, maksimāli daudz izmantojot demontēto (esošo) betona bruģi. Izmēri, forma, krāsa un raksts: analogi esošajam seguma rakstam. | C46: TS-CD-2, TS-CD-4, TS-CD-5 | D46: m2 | E46: 2 | F46: 0 | G46: 0 | H46: =ROUND(F46*G46,2) -> 0 | I46: 0 | J46: 0 | K46: =SUM(H46:J46) -> 0 | L46: =ROUND(E46*F46,2) -> 0 | M46: =ROUND(E46*H46,2) -> 0 | N46: =ROUND(E46*I46,2) -> 0 | O46: =ROUND(J46*E46,2) -> 0 | P46: =SUM(M46:O46) -> 0
A47: 3.4.2 | B47: Nesaistītu minerālmateriālu 2/5 izlīdzinošās kārtas būvniecība vid.3cm biezumā | C47: TS-CD-2, TS-CD-4, TS-CD-5 | D47: m2 | E47: 2 | F47: 0 | G47: 0 | H47: =ROUND(F47*G47,2) -> 0 | I47: 0 | J47: 0 | K47: =SUM(H47:J47) -> 0 | L47: =ROUND(E47*F47,2) -> 0 | M47: =ROUND(E47*H47,2) -> 0 | N47: =ROUND(E47*I47,2) -> 0 | O47: =ROUND(J47*E47,2) -> 0 | P47: =SUM(M47:O47) -> 0
A48: 3.4.3 | B48: Nesaistītu minerālmateriālu pamata nesošās kārtas 0/45 būvniecība vid.25cm biezumā (N-III klase) | C48: TS-CD-2, TS-CD-4, TS-CD-5 | D48: m2 | E48: 2 | F48: 0 | G48: 0 | H48: =ROUND(F48*G48,2) -> 0 | I48: 0 | J48: 0 | K48: =SUM(H48:J48) -> 0 | L48: =ROUND(E48*F48,2) -> 0 | M48: =ROUND(E48*H48,2) -> 0 | N48: =ROUND(E48*I48,2) -> 0 | O48: =ROUND(J48*E48,2) -> 0 | P48: =SUM(M48:O48) -> 0
A49: 3.5 | B49: Ietves betona bruģa seguma remontzona
A50: 3.5.1 | B50: Betona bruģa seguma izbūve 6cm biezumā, maksimāli daudz izmantojot demontēto (esošo) betona bruģi. Izmēri, forma, krāsa un raksts: analogi esošajam seguma rakstam. | C50: TS-CD-2, TS-CD-4, TS-CD-5 | D50: m2 | E50: 1 | F50: 0 | G50: 0 | H50: =ROUND(F50*G50,2) -> 0 | I50: 0 | J50: 0 | K50: =SUM(H50:J50) -> 0 | L50: =ROUND(E50*F50,2) -> 0 | M50: =ROUND(E50*H50,2) -> 0 | N50: =ROUND(E50*I50,2) -> 0 | O50: =ROUND(J50*E50,2) -> 0 | P50: =SUM(M50:O50) -> 0
A51: 3.5.2 | B51: Nesaistītu minerālmateriālu 2/5 izlīdzinošās kārtas būvniecība vid.3cm biezumā | C51: TS-CD-2, TS-CD-4, TS-CD-5 | D51: m2 | E51: 1 | F51: 0 | G51: 0 | H51: =ROUND(F51*G51,2) -> 0 | I51: 0 | J51: 0 | K51: =SUM(H51:J51) -> 0 | L51: =ROUND(E51*F51,2) -> 0 | M51: =ROUND(E51*H51,2) -> 0 | N51: =ROUND(E51*I51,2) -> 0 | O51: =ROUND(J51*E51,2) -> 0 | P51: =SUM(M51:O51) -> 0
A52: 3.6 | B52: Betona apmaļu pamata izbūve
A53: 3.6.1 | B53: Nesaistītu minerālmateriālu pamata 0/45 būvniecība ietves betona apmalēm 10cm biezumā (N-III klase) | C53: TS-CD-2, TS-CD-4, TS-CD-5 | D53: m2 | E53: 42 | F53: 0 | G53: 0 | H53: =ROUND(F53*G53,2) -> 0 | I53: 0 | J53: 0 | K53: =SUM(H53:J53) -> 0 | L53: =ROUND(E53*F53,2) -> 0 | M53: =ROUND(E53*H53,2) -> 0 | N53: =ROUND(E53*I53,2) -> 0 | O53: =ROUND(J53*E53,2) -> 0 | P53: =SUM(M53:O53) -> 0
A54: 3.6.2 | B54: Nesaistītu minerālmateriālu pamata 0/45 būvniecība ielas betona apmalēm 18cm biezumā (N-III klase) | C54: TS-CD-2, TS-CD-4, TS-CD-5 | D54: m2 | E54: 56 | F54: 0 | G54: 0 | H54: =ROUND(F54*G54,2) -> 0 | I54: 0 | J54: 0 | K54: =SUM(H54:J54) -> 0 | L54: =ROUND(E54*F54,2) -> 0 | M54: =ROUND(E54*H54,2) -> 0 | N54: =ROUND(E54*I54,2) -> 0 | O54: =ROUND(J54*E54,2) -> 0 | P54: =SUM(M54:O54) -> 0
B55: 3. Kopā: | L55: =SUM(L34:L54) -> 0 | M55: =SUM(M34:M54) -> 0 | N55: =SUM(N34:N54) -> 0 | O55: =SUM(O34:O54) -> 0 | P55: =SUM(P34:P54) -> 0
A56: 4 | B56: Ar saistvielām saistītas konstruktīvās kārtas
A57: 4.1 | B57: 1. segas tipa izbūves zona
A58: 4.1.1 | B58: Karstā asfalta dilumkārtas AC 11 surf PMB būvniecība 6cm biezumā (S-III klase) | C58: TS-CD-2, TS-CD-4, TS-CD-5 | D58: m2 | E58: 274 | F58: 0 | G58: 0 | H58: =ROUND(F58*G58,2) -> 0 | I58: 0 | J58: 0 | K58: =SUM(H58:J58) -> 0 | L58: =ROUND(E58*F58,2) -> 0 | M58: =ROUND(E58*H58,2) -> 0 | N58: =ROUND(E58*I58,2) -> 0 | O58: =ROUND(J58*E58,2) -> 0 | P58: =SUM(M58:O58) -> 0
A59: 4.2 | B59: Brauktuves asfaltbetona seguma remontzona
A60: 4.2.1 | B60: Karstā asfalta dilumkārtas AC 11 surf PMB būvniecība 4cm biezumā (S-III klase) | C60: TS-CD-2, TS-CD-4, TS-CD-5 | D60: m2 | E60: 16 | F60: 0 | G60: 0 | H60: =ROUND(F60*G60,2) -> 0 | I60: 0 | J60: 0 | K60: =SUM(H60:J60) -> 0 | L60: =ROUND(E60*F60,2) -> 0 | M60: =ROUND(E60*H60,2) -> 0 | N60: =ROUND(E60*I60,2) -> 0 | O60: =ROUND(J60*E60,2) -> 0 | P60: =SUM(M60:O60) -> 0
A61: 4.2.2 | B61: Karstā asfalta apakškārtas AC 22 base būvniecība 6cm biezumā (S-IV klase) | C61: TS-CD-2, TS-CD-4, TS-CD-5 | D61: m2 | E61: 16 | F61: 0 | G61: 0 | H61: =ROUND(F61*G61,2) -> 0 | I61: 0 | J61: 0 | K61: =SUM(H61:J61) -> 0 | L61: =ROUND(E61*F61,2) -> 0 | M61: =ROUND(E61*H61,2) -> 0 | N61: =ROUND(E61*I61,2) -> 0 | O61: =ROUND(J61*E61,2) -> 0 | P61: =SUM(M61:O61) -> 0
A62: 4.3 | B62: Brauktuves asfaltbetona seguma savienojumu frēzējuma zona
A63: 4.3.1 | B63: Karstā asfalta dilumkārtas AC 11 surf PMB būvniecība 4cm biezumā (S-III klase) | C63: TS-CD-2, TS-CD-4, TS-CD-5 | D63: m2 | E63: 20 | F63: 0 | G63: 0 | H63: =ROUND(F63*G63,2) -> 0 | I63: 0 | J63: 0 | K63: =SUM(H63:J63) -> 0 | L63: =ROUND(E63*F63,2) -> 0 | M63: =ROUND(E63*H63,2) -> 0 | N63: =ROUND(E63*I63,2) -> 0 | O63: =ROUND(J63*E63,2) -> 0 | P63: =SUM(M63:O63) -> 0
B64: 4. Kopā: | L64: =SUM(L58:L63) -> 0 | M64: =SUM(M58:M63) -> 0 | N64: =SUM(N58:N63) -> 0 | O64: =SUM(O58:O63) -> 0 | P64: =SUM(P58:P63) -> 0
A65: 5 | B65: Satiksmes aprīkojums
A66: 5.1 | B66: Ielas betona apmales 100.30.15 uzstādīšana uz betona C30/37 pamata | C66: TS-CD-4, TS-CD-5 | D66: m | E66: 59 | F66: 0 | G66: 0 | H66: =ROUND(F66*G66,2) -> 0 | I66: 0 | J66: 0 | K66: =SUM(H66:J66) -> 0 | L66: =ROUND(E66*F66,2) -> 0 | M66: =ROUND(E66*H66,2) -> 0 | N66: =ROUND(E66*I66,2) -> 0 | O66: =ROUND(J66*E66,2) -> 0 | P66: =SUM(M66:O66) -> 0
A67: 5.2 | B67: Ielas betona apmales 100.30/22.15 K. uzstādīšana uz betona C30/37 pamata | C67: TS-CD-4, TS-CD-5 | D67: m | E67: 5 | F67: 0 | G67: 0 | H67: =ROUND(F67*G67,2) -> 0 | I67: 0 | J67: 0 | K67: =SUM(H67:J67) -> 0 | L67: =ROUND(E67*F67,2) -> 0 | M67: =ROUND(E67*H67,2) -> 0 | N67: =ROUND(E67*I67,2) -> 0 | O67: =ROUND(J67*E67,2) -> 0 | P67: =SUM(M67:O67) -> 0
A68: 5.3 | B68: Ielas betona apmales 100.30/22.15 L. uzstādīšana uz betona C30/37 pamata | C68: TS-CD-4, TS-CD-5 | D68: m | E68: 5 | F68: 0 | G68: 0 | H68: =ROUND(F68*G68,2) -> 0 | I68: 0 | J68: 0 | K68: =SUM(H68:J68) -> 0 | L68: =ROUND(E68*F68,2) -> 0 | M68: =ROUND(E68*H68,2) -> 0 | N68: =ROUND(E68*I68,2) -> 0 | O68: =ROUND(J68*E68,2) -> 0 | P68: =SUM(M68:O68) -> 0
A69: 5.4 | B69: Ielas betona apmales 100.22.15 (ar taisnām malām - kantaina) uzstādīšana uz betona C30/37 pamata. Piezīme: Ja nav pieejama apmale ar taisnām malām - kantaina, tad to saskaņojot ar Pasūtitāju un projekta autoru iespējams aizstāt ar apmali, kurai ir noapaļota mala. | C69: TS-CD-4, TS-CD-5 | D69: m | E69: 38 | F69: 0 | G69: 0 | H69: =ROUND(F69*G69,2) -> 0 | I69: 0 | J69: 0 | K69: =SUM(H69:J69) -> 0 | L69: =ROUND(E69*F69,2) -> 0 | M69: =ROUND(E69*H69,2) -> 0 | N69: =ROUND(E69*I69,2) -> 0 | O69: =ROUND(J69*E69,2) -> 0 | P69: =SUM(M69:O69) -> 0
A70: 5.5 | B70: Ietves betona apmales 100.20.08 uzstādīšana uz betona C30/37 pamata | C70: TS-CD-4, TS-CD-5 | D70: m | E70: 113 | F70: 0 | G70: 0 | H70: =ROUND(F70*G70,2) -> 0 | I70: 0 | J70: 0 | K70: =SUM(H70:J70) -> 0 | L70: =ROUND(E70*F70,2) -> 0 | M70: =ROUND(E70*H70,2) -> 0 | N70: =ROUND(E70*I70,2) -> 0 | O70: =ROUND(J70*E70,2) -> 0 | P70: =SUM(M70:O70) -> 0
A71: 5.6 | B71: Ceļa zīmju metāla balsta uzstādīšana metāla čaulas (h=800mm) pamatā (komplektā ar ķīli) | C71: TS-CD-3, TS-CD-5 | D71: gb | E71: 5 | F71: 0 | G71: 0 | H71: =ROUND(F71*G71,2) -> 0 | I71: 0 | J71: 0 | K71: =SUM(H71:J71) -> 0 | L71: =ROUND(E71*F71,2) -> 0 | M71: =ROUND(E71*H71,2) -> 0 | N71: =ROUND(E71*I71,2) -> 0 | O71: =ROUND(J71*E71,2) -> 0 | P71: =SUM(M71:O71) -> 0
A72: 5.7 | B72: Ceļa zīmes Nr. 206 uzstādīšana | C72: TS-CD-3, TS-CD-5 | D72: gb | E72: 1 | F72: 0 | G72: 0 | H72: =ROUND(F72*G72,2) -> 0 | I72: 0 | J72: 0 | K72: =SUM(H72:J72) -> 0 | L72: =ROUND(E72*F72,2) -> 0 | M72: =ROUND(E72*H72,2) -> 0 | N72: =ROUND(E72*I72,2) -> 0 | O72: =ROUND(J72*E72,2) -> 0 | P72: =SUM(M72:O72) -> 0
A73: 5.8 | B73: Ceļa zīmes Nr. 535 uzstādīšana (1gb uzstādāma uz apgaismojuma balsta) | C73: TS-CD-3, TS-CD-5 | D73: gb | E73: 2 | F73: 0 | G73: 0 | H73: =ROUND(F73*G73,2) -> 0 | I73: 0 | J73: 0 | K73: =SUM(H73:J73) -> 0 | L73: =ROUND(E73*F73,2) -> 0 | M73: =ROUND(E73*H73,2) -> 0 | N73: =ROUND(E73*I73,2) -> 0 | O73: =ROUND(J73*E73,2) -> 0 | P73: =SUM(M73:O73) -> 0
A74: 5.9 | B74: Ceļa zīmes Nr. 536 uzstādīšana (1gb uzstādāma uz apgaismojuma balsta) | C74: TS-CD-3, TS-CD-5 | D74: gb | E74: 2 | F74: 0 | G74: 0 | H74: =ROUND(F74*G74,2) -> 0 | I74: 0 | J74: 0 | K74: =SUM(H74:J74) -> 0 | L74: =ROUND(E74*F74,2) -> 0 | M74: =ROUND(E74*H74,2) -> 0 | N74: =ROUND(E74*I74,2) -> 0 | O74: =ROUND(J74*E74,2) -> 0 | P74: =SUM(M74:O74) -> 0
A75: 5.10 | B75: Ceļa zīmes Nr. 537 uzstādīšana | C75: TS-CD-3, TS-CD-5 | D75: gb | E75: 3 | F75: 0 | G75: 0 | H75: =ROUND(F75*G75,2) -> 0 | I75: 0 | J75: 0 | K75: =SUM(H75:J75) -> 0 | L75: =ROUND(E75*F75,2) -> 0 | M75: =ROUND(E75*H75,2) -> 0 | N75: =ROUND(E75*I75,2) -> 0 | O75: =ROUND(J75*E75,2) -> 0 | P75: =SUM(M75:O75) -> 0
A76: 5.11 | B76: Ceļa zīmes Nr. 805 uzstādīšana | C76: TS-CD-3, TS-CD-5 | D76: gb | E76: 2 | F76: 0 | G76: 0 | H76: =ROUND(F76*G76,2) -> 0 | I76: 0 | J76: 0 | K76: =SUM(H76:J76) -> 0 | L76: =ROUND(E76*F76,2) -> 0 | M76: =ROUND(E76*H76,2) -> 0 | N76: =ROUND(E76*I76,2) -> 0 | O76: =ROUND(J76*E76,2) -> 0 | P76: =SUM(M76:O76) -> 0
A77: 5.12 | B77: Ceļa zīmes Nr. 807 uzstādīšana | C77: TS-CD-3, TS-CD-5 | D77: gb | E77: 1 | F77: 0 | G77: 0 | H77: =ROUND(F77*G77,2) -> 0 | I77: 0 | J77: 0 | K77: =SUM(H77:J77) -> 0 | L77: =ROUND(E77*F77,2) -> 0 | M77: =ROUND(E77*H77,2) -> 0 | N77: =ROUND(E77*I77,2) -> 0 | O77: =ROUND(J77*E77,2) -> 0 | P77: =SUM(M77:O77) -> 0
... A82: 5.17 | B82: Ceļa horizontālā apzīmējuma Nr. 942 uzklāšana ar roku darbu (plastika, balts, a*b=1.00*0.70m) | C82: TS-CD-3 | D82: gb | E82: 1 | F82: 0 | G82: 0 | H82: =ROUND(F82*G82,2) -> 0 | I82: 0 | J82: 0 | K82: =SUM(H82:J82) -> 0 | L82: =ROUND(E82*F82,2) -> 0 | M82: =ROUND(E82*H82,2) -> 0 | N82: =ROUND(E82*I82,2) -> 0 | O82: =ROUND(J82*E82,2) -> 0 | P82: =SUM(M82:O82) -> 0
B83: 5. Kopā: | L83: =SUM(L66:L82) -> 0 | M83: =SUM(M66:M82) -> 0 | N83: =SUM(N66:N82) -> 0 | O83: =SUM(O66:O82) -> 0 | P83: =SUM(P66:P82) -> 0
A84: 6 | B84: Citi darbi
A85: 6.1 | B85: Dalītās P/E aizsargcaurules Ø110mm izbūve esošajam kabelim (meh. izt. 750N), tajā skaitā tranšejas rakšana nepieciešamajā dziļumā, tranšejas aizbēršana ar salizturīgu smilti līdz projektētās segas konstrukcijas nesaistītu minerālmateriālu pamata nesošajai apakškārtai (zaļās zonas gadījumā līdz augu zemes kārtai), kabeļa signāllentas MBN ieguldīšana un liekās grunts transportēšana uz būvdarbu veicēja atbērtni. Piezīme: Ja paredzēto būvdarbu dziļumā esošais zemsprieguma elektrokabelis netiek konstatēts un atsegts, tad atļauts proj. aizsargcauruli neizbūvēt. Veicamo darbu apjoms precizējams būvdarbu laikā. | C85: GP-1, TS-CD-4 | D85: m | E85: 6 | F85: 0 | G85: 0 | H85: =ROUND(F85*G85,2) -> 0 | I85: 0 | J85: 0 | K85: =SUM(H85:J85) -> 0 | L85: =ROUND(E85*F85,2) -> 0 | M85: =ROUND(E85*H85,2) -> 0 | N85: =ROUND(E85*I85,2) -> 0 | O85: =ROUND(J85*E85,2) -> 0 | P85: =SUM(M85:O85) -> 0
A86: 6.2 | B86: Dalītās P/E aizsargcaurules Ø160mm izbūve esošajam kabelim (meh. izt. 750N), tajā skaitā tranšejas rakšana nepieciešamajā dziļumā, tranšejas aizbēršana ar salizturīgu smilti līdz projektētās segas konstrukcijas nesaistītu minerālmateriālu pamata nesošajai apakškārtai (zaļās zonas gadījumā līdz augu zemes kārtai), kabeļa signāllentas MBN ieguldīšana un liekās grunts transportēšana uz būvdarbu veicēja atbērtni. | C86: GP-1, TS-CD-4 | D86: m | E86: 20 | F86: 0 | G86: 0 | H86: =ROUND(F86*G86,2) -> 0 | I86: 0 | J86: 0 | K86: =SUM(H86:J86) -> 0 | L86: =ROUND(E86*F86,2) -> 0 | M86: =ROUND(E86*H86,2) -> 0 | N86: =ROUND(E86*I86,2) -> 0 | O86: =ROUND(J86*E86,2) -> 0 | P86: =SUM(M86:O86) -> 0
A87: 6.3 | B87: PVC gludsienu aizsargcaurules Ø110mm izbūve 0.70m dziļumā no proj. seguma virsmas (meh. izt. 750N), tajā skaitā caurules galu aizvākošana, tranšejas rakšana nepieciešamajā dziļumā, salizturīgas smilts "spilvena" izveidošana ap kabeli min. 10cm no visām pusēm, tranšejas aizbēršana ar salizturīgu smilti līdz projektētās segas konstrukcijas nesaistītu minerālmateriālu pamata nesošajai apakškārtai (zaļās zonas gadījumā līdz augu zemes kārtai), kabeļu signāllentas MBN ieguldīšana un liekās grunts transportēšana uz būvdarbu veicēja atbērtni. | C87: GP-1, TS-CD-4 | D87: m | E87: 39 | F87: 0 | G87: 0 | H87: =ROUND(F87*G87,2) -> 0 | I87: 0 | J87: 0 | K87: =SUM(H87:J87) -> 0 | L87: =ROUND(E87*F87,2) -> 0 | M87: =ROUND(E87*H87,2) -> 0 | N87: =ROUND(E87*I87,2) -> 0 | O87: =ROUND(J87*E87,2) -> 0 | P87: =SUM(M87:O87) -> 0
A88: 6.4 | B88: Esošā SIA "Tet" elektronisko sakaru kabeļa, kas šķērso projektēto ielas brauktuvi un ietvi padziļināšana līdz 0,7m dziļumam no projektētās brauktuves seguma virsmas un līdz 0,4m no projektētās ietves seguma virsmas, tajā skaitā tranšejas rakšana nepieciešamajā dziļumā, salizturīgas smilts "spilvena" izveidošana ap kabeli min. 10cm no visām pusēm, kabeļa signāllentas MBN ieguldīšana, tranšejas aizbēršana ar salizturīgu smilti līdz projektētās segas konstrukcijas nesaistītu minerālmateriālu pamata nesošajai apakškārtai (zaļās zonas gadījumā līdz augu zemes kārtai) un liekās grunts transportēšana uz būvdarbu veicēja atbērtni. Piezīme: SIA "Tet" pārstāvja klātbūtnē precizēt elektronisko sakaru kabeļa novietojumu un dziļumu. Varbūtējs darbs - ja tiek konstatēts, ka elektronisko sakaru kabelis zem proj. ielas brauktuves seguma virsmas atrodas seklāk par 0,7m dziļumu, bet ietves gadījumā seklāk par 0,4m dziļumu un nepieciešama tā padziļināšana. Veicamo darbu apjoms precizējams būvdarbu laikā. | C88: GP-1, TS-CD-4 | D88: m | E88: 39 | F88: 0 | G88: 0 | H88: =ROUND(F88*G88,2) -> 0 | I88: 0 | J88: 0 | K88: =SUM(H88:J88) -> 0 | L88: =ROUND(E88*F88,2) -> 0 | M88: =ROUND(E88*H88,2) -> 0 | N88: =ROUND(E88*I88,2) -> 0 | O88: =ROUND(J88*E88,2) -> 0 | P88: =SUM(M88:O88) -> 0
A89: 6.5 | B89: Esošā SIA "EdAn ELEKTRO" apgaismojuma kabeļa, kas šķērso projektēto ietvi padziļināšana līdz 0.7m dziļumam no projektētās ietves seguma virsmas, tajā skaitā tranšejas rakšana nepieciešamajā dziļumā, salizturīgas smilts "spilvena" izveidošana ap kabeli min. 10cm no visām pusēm, kabeļa signāllentas MBN ieguldīšana, tranšejas aizbēršana ar salizturīgu smilti līdz projektētās segas konstrukcijas nesaistītu minerālmateriālu pamata nesošajai apakškārtai (zaļās zonas gadījumā līdz augu zemes kārtai) un liekās grunts transportēšana uz būvdarbu veicēja atbērtni. Piezīme: SIA "EdAn ELEKTRO" pārstāvja klātbūtnē precizēt apgaismojuma kabeļa novietojumu un dziļumu. Varbūtējs darbs - ja tiek konstatēts, ka apgaismojuma kabelis zem proj. ietves seguma virsmas atrodas seklāk par 0.7m dziļumu un nepieciešama tā padziļināšana. Veicamo darbu apjoms precizējams būvdarbu laikā. | C89: GP-1, TS-CD-4 | D89: m | E89: 4 | F89: 0 | G89: 0 | H89: =ROUND(F89*G89,2) -> 0 | I89: 0 | J89: 0 | K89: =SUM(H89:J89) -> 0 | L89: =ROUND(E89*F89,2) -> 0 | M89: =ROUND(E89*H89,2) -> 0 | N89: =ROUND(E89*I89,2) -> 0 | O89: =ROUND(J89*E89,2) -> 0 | P89: =SUM(M89:O89) -> 0
A90: 6.6 | B90: Esošā zemsprieguma elektroapgādes kabeļa, kas šķērso projektēto ietvi padziļināšana līdz 0,7m no projektētās ietves seguma virsmas, tajā skaitā tranšejas rakšana nepieciešamajā dziļumā, salizturīgas smilts "spilvena" izveidošana ap kabeli min. 10cm no visām pusēm, kabeļa signāllentas MBN ieguldīšana, tranšejas aizbēršana ar salizturīgu smilti līdz projektētās segas konstrukcijas nesaistītu minerālmateriālu pamata nesošajai apakškārtai (zaļās zonas gadījumā līdz augu zemes kārtai) un liekās grunts transportēšana uz būvdarbu veicēja atbērtni. Piezīme: Precizēt zemsprieguma elektrokabeļa novietojumu un dziļumu. Varbūtējs darbs - ja tiek konstatēts, ka zemsprieguma elektrokabelis zem proj. ietves seguma virsmas atrodas seklāk par 0,7m dziļumu un nepieciešama tā padziļināšana. Veicamo darbu apjoms precizējams būvdarbu laikā. | C90: GP-1, TS-CD-4 | D90: m | E90: 6 | F90: 0 | G90: 0 | H90: =ROUND(F90*G90,2) -> 0 | I90: 0 | J90: 0 | K90: =SUM(H90:J90) -> 0 | L90: =ROUND(E90*F90,2) -> 0 | M90: =ROUND(E90*H90,2) -> 0 | N90: =ROUND(E90*I90,2) -> 0 | O90: =ROUND(J90*E90,2) -> 0 | P90: =SUM(M90:O90) -> 0
A91: 6.7 | B91: Esošā AS "Sadales tīkls" vidsprieguma elektroapgādes kabeļa, kas šķērso projektēto ielas brauktuvi un ietvi padziļināšana līdz 1m dziļumam no projektētās brauktuves seguma virsmas un līdz 0,7m no projektētās ietves seguma virsmas, tajā skaitā tranšejas rakšana nepieciešamajā dziļumā, salizturīgas smilts "spilvena" izveidošana ap kabeli min. 10cm no visām pusēm, kabeļa signāllentas MBN ieguldīšana, tranšejas aizbēršana ar salizturīgu smilti līdz projektētās segas konstrukcijas nesaistītu minerālmateriālu pamata nesošajai apakškārtai (zaļās zonas gadījumā līdz augu zemes kārtai) un liekās grunts transportēšana uz būvdarbu veicēja atbērtni. Piezīme: Visā būvdarbu skartajā teritorijā AS "Sadales tīkls" pārstāvja klātbūtnē precizēt vidsprieguma elektrokabeļa novietojumu un dziļumu. Varbūtējs darbs - ja tiek konstatēts, ka vidsprieguma elektrokabelis zem proj. ielas brauktuves seguma virsmas atrodas seklāk par 1m dziļumu, bet ietves gadījumā seklāk par 0,7m dziļumu un nepieciešama tā padziļināšana. Veicamo darbu apjoms precizējams būvdarbu laikā. | C91: GP-1, TS-CD-4 | D91: m | E91: 42 | F91: 0 | G91: 0 | H91: =ROUND(F91*G91,2) -> 0 | I91: 0 | J91: 0 | K91: =SUM(H91:J91) -> 0 | L91: =ROUND(E91*F91,2) -> 0 | M91: =ROUND(E91*H91,2) -> 0 | N91: =ROUND(E91*I91,2) -> 0 | O91: =ROUND(J91*E91,2) -> 0 | P91: =SUM(M91:O91) -> 0
B92: 6. Kopā: | L92: =SUM(L85:L91) -> 0 | M92: =SUM(M85:M91) -> 0 | N92: =SUM(N85:N91) -> 0 | O92: =SUM(O85:O91) -> 0 | P92: =SUM(P85:P91) -> 0
B93: 1.-6. Kopā: | L93: =SUM(L31,L25,L55,L64,L83,L92) -> 0 | M93: =SUM(M31,M25,M55,M64,M83,M92) -> 0 | N93: =SUM(N31,N25,N55,N64,N83,N92) -> 0 | O93: =SUM(O31,O25,O55,O64,O83,O92) -> 0 | P93: =SUM(P31,P25,P55,P64,P83,P92) -> 0
A94: Tiešās izmaksas kopā t. sk. darba devēja sociālais nodoklis (23.59%): | M94: =SUM(M93:M93) -> 0 | N94: =SUM(N93:N93) -> 0 | O94: =SUM(O93:O93) -> 0 | P94: =SUM(P93:P93) -> 0
B96: Piezīmes:
B97: 1. Izbūves materiāli doti sablīvētā veidā, būvdarbu veicējam ievērtēt uzirdinājuma koeficientu.
B98: 2. Būvdarbi un materiāli - atbilstoši "Autoceļu būvdarbu specifikācijas ABS 2026" prasībām. Izņēmums ir nesaistītu minerālmateriālu kārtu būvdarbi, kuru uzrādītais un uzmērāmais apjoms projektā tiek noteikts m2.
B99: 3. Materiālu komplektāciju veikt atbilstoši izstrādātājam projektam, ražotājfirmu un LR normatīvo aktu nosacījumiem.
B100: 4. Konstruktīvo kārtu laukumi (m2) uzdoti pa kārtas augšējo virsmu. Materiāla tilpuma apjoms nosakāms, pielietojot trapeces šķērsgriezuma laukumu.
B101: 5. Ceļa zīmes uzstādīt 1.izmēra grupas ar 1.gaismas atstarošanas klasi. Visas ceļa zīmes ar mikroprizmatisko atstarošanās virsmu uz metāliskas pamatnes, materiāla aplikācijām un aizsargmateriāliem jābūt izgatavotiem pie viena ražotāja un savstarpēji saderīgiem. Horizontālos apzīmējumus uzklāt no plastiska materiāla.
B102: 6. Atbilstoši "Autoceļu būvdarbu specifikācijas ABS 2026" izejas lielumi materiālu izvēlei projektā noteikti AADTj,-kravas ≤ 100 (A/24h) un AADTj,-pievestā = 501-1500 (A/24h). Prasības materiāliem un konstruktīvo kārtu nestspējai uzrādītas Skaidrojošajā aprakstā un rasējumā TS-CD-2 "Projektēto segumu eksplikācija".
B103: 7. Būvdarbu veicējam jāievērtē Būvdarbu apjomu sarakstā minēto darbu veikšanai nepieciešamie materiāli un papildus darbi, kas nav minēti šajā sarakstā, bet bez kuriem nebūtu iespējama būvdarbu tehnoloģiski pareiza un spēkā esošajiem normatīviem, izvirzītajiem tehniskajiem noteikumiem atbilstoša veikšana pilnā apjomā.
B104: 8. Veicot būvizmaksu aprēķinus būvdarbu veicējam būvizmaksu aprēķinu izmaksās jāievērtē satiksmes un gājēju kustības organizācija būvdarbu laikā, tajā skaitā mobilizācija un būvlaukuma ierīkošana un uzturēšana/demobilizācija, pagaidu piebraucamo ceļu, nobrauktuvju un apbraucamo ceļu izbūve/demontāža un uzturēšana būvdarbu laikā, DVP izstrādāšana un saskaņošana ar ieinteresētajām institūcijām, būvtāfeles uzstādīšana un visu nepieciešamo atļauju saņemšana.
B105: 9. Veicot būvizmaksu aprēķinus (tāmes sastādīšanu) ņemt vērā galveno darbu apjomus, projekta rasējumus un tehnisko noteikumu prasības un citas lietas, bez kurām nav iespējams veikt būvdarbus.
B106: 10. Saskaņojot ar Pasūtītāju, ekspluatējošo organizāciju un Projektētāju iespējams izmantot ekvivalentus citu ražotāju izstrādājumus.
B107: 11. Būvniecības laikā veikt nepieciešamos pasākumus sētu/ēku pamatu nostiprināšanai pret sabrukšanu/apgāšanos.
...

Sheet T-Nr.1.2 (ELT_Apgaismojums)
A1: Lokālā tāme Nr.1.2
A2: (Elektroapgāde (ārējā): apgaismojums, ELT)
A3: ='T-Nr.1.1 (TS-CD)'!A3 -> Objekta nosaukums: Autostāvvietu izbūve Komunālajā ielā 6, Ķegumā, Ogres novadā
A4: ='T-Nr.1.1 (TS-CD)'!A4 -> Būves nosaukums: Iela
A5: ='T-Nr.1.1 (TS-CD)'!A5 -> Objekta adrese: Komunālā iela, Ķegums, Ogres novads
A6: ='T-Nr.1.1 (TS-CD)'!A6 -> Pasūtījuma Nr. 5-1.2/2026-24
A7: Tāme sastādīta 2026. gada tirgus cenās, pamatojoties uz ELT daļas rasējumiem. | L7: Tāmes izmaksas | N7: =P40 -> 0 | P7: EUR
L8: ='T-Nr.1.1 (TS-CD)'!L8 -> Tāme sastādīta 2026. gada 8.jūnijā
A11: Nr.p.k. | B11: Būvdarbu nosaukums | C11: Rasējuma Nr. | D11: Mērvienība | E11: Daudzums | F11: Vienības izmaksas | L11: Kopā uz visu apjomu
F12: Laika norma (c/h) | G12: Darba samaksas likme (EUR/h) | H12: Darba alga (EUR) | I12: Būvizstrādājumi (EUR) | J12: Mehānismi (EUR) | K12: Kopā (EUR) | L12: Darbietilpība (c/h) | M12: Darba alga (EUR) | N12: Būvizstrādājumi (EUR) | O12: Mehānismi (EUR) | P12: Summa (EUR)
A13: 1 | B13: 2 | D13: 3 | E13: 4 | F13: 5 | G13: 6 | H13: 7 | I13: 8 | J13: 9 | K13: 10 | L13: 11 | M13: 12 | N13: 13 | O13: 14 | P13: 15
A14: 1 | B14: Galvenie darbi
A15: 1.1 | B15: Jauna apgaismojuma balsta ar pamatu montāža uzstādot LED gaismekli, veicot visus nepieciešamos darbus | C15: ELT-1 | D15: kpl | E15: 1 | F15: 0 | G15: 0 | H15: =ROUND(F15*G15,2) -> 0 | I15: 0 | J15: 0 | K15: =SUM(H15:J15) -> 0 | L15: =ROUND(E15*F15,2) -> 0 | M15: =ROUND(E15*H15,2) -> 0 | N15: =ROUND(E15*I15,2) -> 0 | O15: =ROUND(J15*E15,2) -> 0 | P15: =SUM(M15:O15) -> 0
A16: 1.2 | B16: Apgaismojuma kabeļa izbūve (iekļaujot rakšanas darbus, segumu atjaunošanas darbus) | C16: ELT-1 | D16: m | E16: 9 | F16: 0 | G16: 0 | H16: =ROUND(F16*G16,2) -> 0 | I16: 0 | J16: 0 | K16: =SUM(H16:J16) -> 0 | L16: =ROUND(E16*F16,2) -> 0 | M16: =ROUND(E16*H16,2) -> 0 | N16: =ROUND(E16*I16,2) -> 0 | O16: =ROUND(J16*E16,2) -> 0 | P16: =SUM(M16:O16) -> 0
A17: 1.3 | B17: Apgaismojuma kabeļa montāža balstā | C17: ELT-1 | D17: gb | E17: 1 | F17: 0 | G17: 0 | H17: =ROUND(F17*G17,2) -> 0 | I17: 0 | J17: 0 | K17: =SUM(H17:J17) -> 0 | L17: =ROUND(E17*F17,2) -> 0 | M17: =ROUND(E17*H17,2) -> 0 | N17: =ROUND(E17*I17,2) -> 0 | O17: =ROUND(J17*E17,2) -> 0 | P17: =SUM(M17:O17) -> 0
A18: 1.4 | B18: Plastmasas caurules izbūve (iekļaujot rakšanas darbus, segumu atjaunošanas darbus) | C18: ELT-1 | D18: m | E18: 7 | F18: 0 | G18: 0 | H18: =ROUND(F18*G18,2) -> 0 | I18: 0 | J18: 0 | K18: =SUM(H18:J18) -> 0 | L18: =ROUND(E18*F18,2) -> 0 | M18: =ROUND(E18*H18,2) -> 0 | N18: =ROUND(E18*I18,2) -> 0 | O18: =ROUND(J18*E18,2) -> 0 | P18: =SUM(M18:O18) -> 0
A19: 1.5 | B19: Kabeļa gala apdares montāža | C19: ELT-1 | D19: gb | E19: 2 | F19: 0 | G19: 0 | H19: =ROUND(F19*G19,2) -> 0 | I19: 0 | J19: 0 | K19: =SUM(H19:J19) -> 0 | L19: =ROUND(E19*F19,2) -> 0 | M19: =ROUND(E19*H19,2) -> 0 | N19: =ROUND(E19*I19,2) -> 0 | O19: =ROUND(J19*E19,2) -> 0 | P19: =SUM(M19:O19) -> 0
A20: 1.6 | B20: Esošā kabeļa (caurulē) pārgriešana, pārcelšana, pieslēgšana pie jaunā balsta | C20: ELT-1 | D20: gb | E20: 1 | F20: 0 | G20: 0 | H20: =ROUND(F20*G20,2) -> 0 | I20: 0 | J20: 0 | K20: =SUM(H20:J20) -> 0 | L20: =ROUND(E20*F20,2) -> 0 | M20: =ROUND(E20*H20,2) -> 0 | N20: =ROUND(E20*I20,2) -> 0 | O20: =ROUND(J20*E20,2) -> 0 | P20: =SUM(M20:O20) -> 0
A21: 1.7 | B21: Savienojuma uzmavas montāža | C21: ELT-1 | D21: gb | E21: 1 | F21: 0 | G21: 0 | H21: =ROUND(F21*G21,2) -> 0 | I21: 0 | J21: 0 | K21: =SUM(H21:J21) -> 0 | L21: =ROUND(E21*F21,2) -> 0 | M21: =ROUND(E21*H21,2) -> 0 | N21: =ROUND(E21*I21,2) -> 0 | O21: =ROUND(J21*E21,2) -> 0 | P21: =SUM(M21:O21) -> 0
A22: 1.8 | B22: Apgaismojuma sistēmas ieprogrammēšana atbilstoši Ogres novada pašvaldības dimmēšanas grafikam, testēšana, nodošana pasūtītājam | C22: ELT-1 | D22: objekts | E22: 1 | F22: 0 | G22: 0 | H22: =ROUND(F22*G22,2) -> 0 | I22: 0 | J22: 0 | K22: =SUM(H22:J22) -> 0 | L22: =ROUND(E22*F22,2) -> 0 | M22: =ROUND(E22*H22,2) -> 0 | N22: =ROUND(E22*I22,2) -> 0 | O22: =ROUND(J22*E22,2) -> 0 | P22: =SUM(M22:O22) -> 0
A23: 1.9 | B23: EPL nospraušana (digi, GPS) | C23: ELT-1 | D23: objekts | E23: 1 | F23: 0 | G23: 0 | H23: =ROUND(F23*G23,2) -> 0 | I23: 0 | J23: 0 | K23: =SUM(H23:J23) -> 0 | L23: =ROUND(E23*F23,2) -> 0 | M23: =ROUND(E23*H23,2) -> 0 | N23: =ROUND(E23*I23,2) -> 0 | O23: =ROUND(J23*E23,2) -> 0 | P23: =SUM(M23:O23) -> 0
A24: 1.10 | B24: EPL digitālā uzmērīšana | C24: ELT-1 | D24: objekts | E24: 1 | F24: 0 | G24: 0 | H24: =ROUND(F24*G24,2) -> 0 | I24: 0 | J24: 0 | K24: =SUM(H24:J24) -> 0 | L24: =ROUND(E24*F24,2) -> 0 | M24: =ROUND(E24*H24,2) -> 0 | N24: =ROUND(E24*I24,2) -> 0 | O24: =ROUND(J24*E24,2) -> 0 | P24: =SUM(M24:O24) -> 0
B25: 1. Kopā: | L25: =SUM(L15:L24) -> 0 | M25: =SUM(M15:M24) -> 0 | N25: =SUM(N15:N24) -> 0 | O25: =SUM(O15:O24) -> 0 | P25: =SUM(P15:P24) -> 0
A26: 2 | B26: Galvenie materiāli
A27: 2.1 | B27: 0,4kV kabelis, montāžai zemē AXPK-4x16mm (vai ekvivalents) | C27: ELT-1 | D27: m | E27: 9 | F27: 0 | G27: 0 | H27: =ROUND(F27*G27,2) -> 0 | I27: 0 | J27: 0 | K27: =SUM(H27:J27) -> 0 | L27: =ROUND(E27*F27,2) -> 0 | M27: =ROUND(E27*H27,2) -> 0 | N27: =ROUND(E27*I27,2) -> 0 | O27: =ROUND(J27*E27,2) -> 0 | P27: =SUM(M27:O27) -> 0
A28: 2.2 | B28: 0,4kV kabelis, montāžai balstā, XPK 3x1,5mm (vai ekvivalents) | C28: ELT-1 | D28: m | E28: 6 | F28: 0 | G28: 0 | H28: =ROUND(F28*G28,2) -> 0 | I28: 0 | J28: 0 | K28: =SUM(H28:J28) -> 0 | L28: =ROUND(E28*F28,2) -> 0 | M28: =ROUND(E28*H28,2) -> 0 | N28: =ROUND(E28*I28,2) -> 0 | O28: =ROUND(J28*E28,2) -> 0 | P28: =SUM(M28:O28) -> 0
A29: 2.3 | B29: Drošinātāju bloks ar 6A drošinātāju, EKM2020 (TE) (vai ekvivalents), ar iespēju pievienot līdz 3x kabeļiem tranzītā | C29: ELT-1 | D29: kpl | E29: 1 | F29: 0 | G29: 0 | H29: =ROUND(F29*G29,2) -> 0 | I29: 0 | J29: 0 | K29: =SUM(H29:J29) -> 0 | L29: =ROUND(E29*F29,2) -> 0 | M29: =ROUND(E29*H29,2) -> 0 | N29: =ROUND(E29*I29,2) -> 0 | O29: =ROUND(J29*E29,2) -> 0 | P29: =SUM(M29:O29) -> 0
A30: 2.4 | B30: Gala apdare kabelim 4x16 | C30: ELT-1 | D30: gb | E30: 2 | F30: 0 | G30: 0 | H30: =ROUND(F30*G30,2) -> 0 | I30: 0 | J30: 0 | K30: =SUM(H30:J30) -> 0 | L30: =ROUND(E30*F30,2) -> 0 | M30: =ROUND(E30*H30,2) -> 0 | N30: =ROUND(E30*I30,2) -> 0 | O30: =ROUND(J30*E30,2) -> 0 | P30: =SUM(M30:O30) -> 0
A31: 2.5 | B31: Savienojuma uzmava kabelim 4x16 | C31: ELT-1 | D31: gb | E31: 1 | F31: 0 | G31: 0 | H31: =ROUND(F31*G31,2) -> 0 | I31: 0 | J31: 0 | K31: =SUM(H31:J31) -> 0 | L31: =ROUND(E31*F31,2) -> 0 | M31: =ROUND(E31*H31,2) -> 0 | N31: =ROUND(E31*I31,2) -> 0 | O31: =ROUND(J31*E31,2) -> 0 | P31: =SUM(M31:O31) -> 0
A32: 2.6 | B32: LED gaismeklis, Vizulo - Stork Little Brother 70 W 64 LED, ar Zhaga konektoru, ar pārspriegumaizsardzības bloku; ar C-node RF; SRLE 070 757 L36 AB064 (vai ekvivalents) | C32: ELT-1 | D32: gb | E32: 1 | F32: 0 | G32: 0 | H32: =ROUND(F32*G32,2) -> 0 | I32: 0 | J32: 0 | K32: =SUM(H32:J32) -> 0 | L32: =ROUND(E32*F32,2) -> 0 | M32: =ROUND(E32*H32,2) -> 0 | N32: =ROUND(E32*I32,2) -> 0 | O32: =ROUND(J32*E32,2) -> 0 | P32: =SUM(M32:O32) -> 0
A33: 2.7 | B33: Metāla balsts "Zebra" gājēju pārejas, H=6m, komplektā ar pamatu P-2, konsoli L=1m garu, ar blīvējumiem | C33: ELT-1 | D33: kpl | E33: 1 | F33: 0 | G33: 0 | H33: =ROUND(F33*G33,2) -> 0 | I33: 0 | J33: 0 | K33: =SUM(H33:J33) -> 0 | L33: =ROUND(E33*F33,2) -> 0 | M33: =ROUND(E33*H33,2) -> 0 | N33: =ROUND(E33*I33,2) -> 0 | O33: =ROUND(J33*E33,2) -> 0 | P33: =SUM(M33:O33) -> 0
A34: 2.8 | B34: Plastmasas caurule montāžai zemē, d75mm, 450N | C34: ELT-1 | D34: m | E34: 7 | F34: 0 | G34: 0 | H34: =ROUND(F34*G34,2) -> 0 | I34: 0 | J34: 0 | K34: =SUM(H34:J34) -> 0 | L34: =ROUND(E34*F34,2) -> 0 | M34: =ROUND(E34*H34,2) -> 0 | N34: =ROUND(E34*I34,2) -> 0 | O34: =ROUND(J34*E34,2) -> 0 | P34: =SUM(M34:O34) -> 0
A35: 2.9 | B35: Signāllenta kabeļlīnijai | C35: ELT-1 | D35: m | E35: 10 | F35: 0 | G35: 0 | H35: =ROUND(F35*G35,2) -> 0 | I35: 0 | J35: 0 | K35: =SUM(H35:J35) -> 0 | L35: =ROUND(E35*F35,2) -> 0 | M35: =ROUND(E35*H35,2) -> 0 | N35: =ROUND(E35*I35,2) -> 0 | O35: =ROUND(J35*E35,2) -> 0 | P35: =SUM(M35:O35) -> 0
A36: 2.10 | B36: Balsta atkārtots zemējuma komplekts (Zn d20mm, L=6m, zemējuma vads) | C36: ELT-1 | D36: kpl | E36: 1 | F36: 0 | G36: 0 | H36: =ROUND(F36*G36,2) -> 0 | I36: 0 | J36: 0 | K36: =SUM(H36:J36) -> 0 | L36: =ROUND(E36*F36,2) -> 0 | M36: =ROUND(E36*H36,2) -> 0 | N36: =ROUND(E36*I36,2) -> 0 | O36: =ROUND(J36*E36,2) -> 0 | P36: =SUM(M36:O36) -> 0
A37: 2.11 | B37: Palīgmateriāli | C37: ELT-1 | D37: kpl | E37: 1 | F37: 0 | G37: 0 | H37: =ROUND(F37*G37,2) -> 0 | I37: 0 | J37: 0 | K37: =SUM(H37:J37) -> 0 | L37: =ROUND(E37*F37,2) -> 0 | M37: =ROUND(E37*H37,2) -> 0 | N37: =ROUND(E37*I37,2) -> 0 | O37: =ROUND(J37*E37,2) -> 0 | P37: =SUM(M37:O37) -> 0
B38: 2. Kopā: | L38: =SUM(L27:L37) -> 0 | M38: =SUM(M27:M37) -> 0 | N38: =SUM(N27:N37) -> 0 | O38: =SUM(O27:O37) -> 0 | P38: =SUM(P27:P37) -> 0
B39: 1.-2. Kopā: | L39: =SUM(L25,L38) -> 0 | M39: =SUM(M25,M38) -> 0 | N39: =SUM(N25,N38) -> 0 | O39: =SUM(O25,O38) -> 0 | P39: =SUM(P25,P38) -> 0
A40: Tiešās izmaksas kopā t. sk. darba devēja sociālais nodoklis (23.59%): | M40: =SUM(M39:M39) -> 0 | N40: =SUM(N39:N39) -> 0 | O40: =SUM(O39:O39) -> 0 | P40: =SUM(P39:P39) -> 0
B42: Piezīmes:
B43: 1. Būvuzņēmējam jāievērtē darbu daudzumu sarakstā minēto darbu veikšanai nepieciešamie materiāli un papildus darbi, kas nav minēti šajā sarakstā, bet bez kuriem nebūtu iespējama būvdarbu tehnoloģiski pareiza un spēkā esošajiem normatīviem atbilstoša darba veikšana pilnā apjomā.
B44: 2. Veicot būvizmaksu aprēķinus (tāmes sastādīšanu) ņemt vērā galveno darbu apjomus, projekta rasējumus un tehnisko noteikumu prasības un citas lietas, bez kurām nav iespējams veikt būvdarbus.
B45: 3. Vietās, kur būvuzņēmējs inženierkomunikāciju tranšejas un būvbedres plāno aizbērt ar esošo grunti, to iepriekš nepieciešams saskaņot ar būvuzraugu, lai tas var pārliecināties, ka esošā grunts ir piemērota tranšejas vai būvbedres aizbēršanai.
B46: 4. Būvdarbu veicējam ievērtēt būvniecības kalendāro laika periodu, un paredzēt papildus darbus, kas var rasties būvniecībai nelabvēlīgu laika apstākļu dēļ (sasaluma periods, virsūdeņu pieplūšana u.c.)
B47: 5. Tāmē paredzēt palīgmateriālus un papildmateriālus balstoties uz pieredzi līdzīgu objektu realizācijā.
B48: 6. Uzrādītos materiālus iespējams aizstāt ar ekvivalentiem materiāliem.
B49: 7. Būvdarbu apjomu saraksts skatāms kopā ar projekta rasējumiem, skaidrojošo aprakstu un Specifikācijām.
B51: Sastādīja:___________Helmuts Nelsons | M51: Sastādīja:___________Helmuts Nelsons
B52: Sertifikāta Nr.3-01336 | M52: Sertifikāta Nr.3-01336
