Workbook

Sheet Koptāme
B2: APSTIPRINU
C3: Pasūtītāja paraksts un
C5: tā atšifrējums Z.v.
C6: Z.v.
B7: ______.gada | C7: ___. ____________
B9: Koptāme
A10: Grīdas seguma atjaunošanas darbi
B11: (būvdarbu veids vai konstruktīvā elementa nosaukums)
B13: Rīgas valstspilsētas pašvaldības Labklājības departaments, Baznīcas ielā 19/23, Rīgā
B14: Objekta nosaukums un adrese
B17: Tāme sastādīta 2026.gada _____. ___________
A19: Nr.p.k. | B19: Objekta nosaukums | C19: Objekta izmaksas EUR bez PVN 21%
A20: 1 | B20: Grīdas seguma atjaunošanas darbi | C20: =Kopsavilkums!E19 -> 0
B21: Kopā | C21: =C20 -> 0
B22: PVN 21% | C22: =C21*0.21 -> 0
B23: Kopā ar PVN | C23: =SUM(C21:C22) -> 0
A26: Sastādīja:
A28: Pārbaudīja:

Sheet Kopsavilkums
A1: Kopsavilkums
C2: Grīdas segumu atjaunošanas darbi
C3: (būvdarbu veids vai konstruktīvā elementa nosaukums)
A6: Objekta nosaukums: Rīgas valstspilsētas pašvaldības Labklājības departaments
A7: Būves nosaukums: Nedzīvojama ēka, birojs
A8: Objekta adrese: Baznīcas iela 19/23, Rīga
F9: Par kopējo summu, EUR: | I9: =E19 -> 0
G10: Kopējā darbietilpība, c/h: | I10: =I15 -> 0
A12: Nr. p.k. | B12: Kods, tāmes Nr. | C12: Būvrba veids vai konstruktīva elementa nosaukums | E12: Tāmes izmaksas EUR | F12: Tai skaitā: | I12: Darbietilpība (c/h)
F13: darba alga EUR | G13: Būvizstrādājumi (materiāli) EUR | H13: Mehānismi EUR
A14: 1 | B14: 1 | C14: Grīgas segumu atjaunošanas un remonta darbi | E14: ='Tāme _LD_1_daļa'!P26 -> 0 | F14: ='Tāme _LD_1_daļa'!M26 -> 0 | G14: ='Tāme _LD_1_daļa'!N26 -> 0 | H14: ='Tāme _LD_1_daļa'!O26 -> 0 | I14: ='Tāme _LD_1_daļa'!L26 -> 0
A15: Kopā | E15: =SUM(E14:E14) -> 0 | F15: =SUM(F14:F14) -> 0 | G15: =SUM(G14:G14) -> 0 | H15: =SUM(H14:H14) -> 0 | I15: =SUM(I14:I14) -> 0
A16: Virslzdevumi, % | D16: 0 | E16: =E15*D16 -> 0
A17: t.sk. darba aizsardzība | E17: =E16*0.2 -> 0
A18: Pelņa, % | D18: 0 | E18: =E15*D18 -> 0
A19: Pavisam kopā | E19: =SUM(E15:E18) -> 0
C22: Sastādīja:

Sheet Tāme _LD_1_daļa
B1: LOKĀLĀ TĀME Nr.1
B2: Grīdas segumu atjaunošanas darbi
B3: (būvdarbu veids vai konstruktīvā elementa nosaukums)
A4: Objekta nosaukums: Rīgas valstspilsētas pašvaldības Labklājības departaments
A5: Būves nosaukums: Nedzīvojamā ēka, birojs
A6: Objekta adrese: Baznīcas iela 19/23, Rīga
A7: Pasūtītājs: Rīgas valstspilsētas pašvaldības Labklājības departaments
B9: Tāme sastādīta _______. gada tirgus cenās pamatojoties uz Tehnisko specifikāciju | K9: Tāmes izmaksas | M9: =P29 -> 0 | N9: euro bez PVN
K10: Tāme sastādīta ___.____.2026.
A12: Nr. p. k. | B12: Kods | C12: Darba nosaukums | D12: Mērvienība | E12: Daudzums | F12: Vienības izmaksas | L12: Kopā uz visu apjomu
F13: laika norma (c/h) | G13: darba samaksas likme EUR | H13: darba alga EUR | I13: būvizstrādajumi EUR | J13: mehānismi EUR | K13: kopā EUR | L13: darbietilpība (C/h) | M13: darba alga EUR | N13: būvizstrādajumi EUR | O13: mehānismi EUR | P13: summa EUR
A14: 1 | C14: 3 | D14: 4 | E14: 5 | F14: 6 | G14: 7 | H14: 8 | I14: 9 | J14: 10 | K14: 11 | L14: 12 | M14: 13 | N14: 14 | O14: 15 | P14: 16
A16: 1 | C16: Zona A - Grīdas seguma maiņa 2.stāvā (telpas inventarizācijas lietā Nr.2 (5.80 kvm), Nr.34 (12.50 kvm), Nr.32 (12.41 kvm), Nr.10 (12.00 kvm)
A17: 1.1 | C17: Vecā grīdas seguma (linolejs) demontāža un jauna daudzslāņu 3-rindu lakota ozola parketa ieklāšana t.sk. zemsegums, grīdas seguma pārklāšana ar atbilstošas stiprības aizsargvasku. Pakalpojuma sniedzējam jānodrošina, ka viss ieklājamais parketa materiāls ir no vienas ražošanas partijas, nodrošinot vienmērīgu vizuālo kvalitāti visā ieklāšanas zonā. | D17: m2 | E17: 42.71 | F17: 0 | G17: 0 | H17: 0 | I17: 0 | J17: 0 | K17: =SUM(H17:J17) -> 0 | L17: =E17*F17 -> 0 | M17: =E17*H17 -> 0 | N17: =E17*I17 -> 0 | O17: 0 | P17: 0
A18: 1.2 | C18: Grīdlīstu demontāža un jaunu lakotu grīdlīstu ar ozola finierējumu H-8/10 cm montāža ar skrūvēm, dībeļiem | D18: m2 | E18: 42.71 | F18: 0 | G18: 0 | H18: 0 | I18: 0 | J18: 0 | K18: =SUM(H18:J18) -> 0 | L18: =E18*F18 -> 0 | M18: =E18*H18 -> 0 | N18: =E18*I18 -> 0 | O18: 0 | P18: 0
A19: 1.3 | C19: Alumīnija pārejas līstu demontāža/montāža | D19: gab. | E19: 4 | F19: 0 | G19: 0 | H19: 0 | I19: 0 | J19: 0 | K19: =SUM(H19:J19) -> 0 | L19: =E19*F19 -> 0 | M19: =E19*H19 -> 0 | N19: =E19*I19 -> 0 | O19: 0 | P19: 0
A20: 1.4 | C20: Kraušanas darbi un būvmateriālu utilizācija | D20: m2 | E20: 42.71 | F20: 0 | G20: 0 | H20: 0 | I20: 0 | J20: 0 | K20: =SUM(H20:J20) -> 0 | L20: =E20*F20 -> 0 | M20: =E20*H20 -> 0 | N20: =E20*I20 -> 0 | O20: 0 | P20: 0
A21: 1.5 | C21: Transporta izdevumi | D21: komp. | E21: 1 | F21: 0 | G21: 0 | H21: =F21*G21 -> 0 | I21: 0 | J21: 0 | K21: =SUM(H21:J21) -> 0 | L21: =E21*F21 -> 0 | M21: =E21*H21 -> 0 | N21: =E21*I21 -> 0 | O21: 0 | P21: 0
A22: 2 | C22: Zona B - Grīdas seguma remonts 3.stāvā (telpa inventarizācijas lietā Nr.27 (86.50 kvm)
A23: 2.1 | C23: Esošā parketa slīpēšana, labošana, lakošana, pulēšana, bojāto dēļu aizstāšana, grīdas seguma pārklāšana ar atbilstošas stiprības aizsargvasku | D23: m2 | E23: 86.5 | F23: 0 | G23: 0 | H23: =F23*G23 -> 0 | I23: 0 | J23: 0 | K23: =SUM(H23:J23) -> 0 | L23: =E23*F23 -> 0 | M23: =E23*H23 -> 0 | N23: =E23*I23 -> 0 | O23: 0 | P23: =SUM(L23:O23) -> 0
A24: 2.2 | C24: Esošo grīdlīstu atjaunošana vai demontāža un jaunas grīdlīstes ar ozola finierējumu H-8/10 cm montāža ar skrūvēm, dībeļiem | D24: m2 | E24: 86.5 | F24: 0 | G24: 0 | H24: =F24*G24 -> 0 | I24: 0 | J24: 0 | K24: =SUM(H24:J24) -> 0 | L24: =E24*F24 -> 0 | M24: =E24*H24 -> 0 | N24: =E24*I24 -> 0 | O24: 0 | P24: =SUM(L24:O24) -> 0
A25: 2.3 | C25: Transporta izdevumi | D25: komp. | E25: 1 | F25: 0 | G25: 0 | H25: =F25*G25 -> 0 | I25: 0 | J25: 0 | K25: =SUM(H25:J25) -> 0 | L25: =E25*F25 -> 0 | M25: =E25*H25 -> 0 | N25: =E25*I25 -> 0 | O25: 0 | P25: =SUM(L25:O25) -> 0
B26: Tiešās izmaksas kopā, t. sk. darba devēja sociālais nodoklis (23.59%) | L26: =SUM(L16:L25) -> 0 | M26: =SUM(M16:M25) -> 0 | N26: =SUM(N16:N25) -> 0 | O26: =SUM(O16:O25) -> 0 | P26: =SUM(P16:P25) -> 0
H27: Virsizdevumi ____%
H28: Peļņa ____%
H29: Pavisam kopā bez PVN | P29: =P26+P27+P28 -> 0
B31: Sastādīja
E32: (paraksts un tā atšifrējums, datums)
A33: Tāme sastādīta _______. gada tirgus cenās pamatojoties uz Tehnisko specifikāciju
B35: Pārbaudīja
E36: (paraksts un tā atšifrējums, datums)
B37: Sertifikāta Nr.
