Workbook

Sheet Koptāme
A1: Koptāme Nr.1
A2: Telpu remonts
A4: Pasūtītājs: SIA "Rīgas 2. slimnīca"
A5: Objekta nosaukums: Pirmā un otrā stāva kosmētiskais remonts
A6: Izpildītājs:
A8: Nr. p.k. | B8: Darba nosaukums | C8: Summa
A10: 1 | B10: 3 | C10: 4
A11: 1 | B11: Telpu remonts
A12: 1.1. | B12: ='1.stāvs'!C11 -> 1. stāva kosmētiskais remonts | C12: ='1.stāvs'!P38 -> 0
A13: 1.2. | B13: ='2.stāvs'!C11 -> 2. stāva kordora kosmētiskais remonts | C13: ='2.stāvs'!P112 -> 0
A14: 1.3. | B14: Kopā: | C14: =C12+C13 -> 0
A15: 1.4. | B15: Virsizdevumi: | C15: 0
A16: 1.5. | B16: Peļņa: | C16: 0
B17: Kopā: | C17: =C14+C15+C16 -> 0
B18: PVN (21%): | C18: =ROUND(C17*0.21,2) -> 0
B19: Summa: | C19: =SUM(C17:C18) -> 0
A23: Sastādīja:
B24: (paraksts, tā atšifrējums un datums)
A25: Sertifikāta Nr.:
A28: Pārbaudīja:
B29: (paraksts, tā atšifrējums un datums)
A30: Sertifikāta Nr.:

Sheet 1.stāvs
A1: Lokālā tāme Nr.1.1.
A2: Rīgas 2. slimnīcas 1.stāva kosmētiskais remonts
A4: =Koptāme!A4 -> Pasūtītājs: SIA "Rīgas 2. slimnīca" | L4: Tiešās tāmes izmaksas, euro bez PVN: | P4: =P38 -> 0
A5: =Koptāme!A5 -> Objekta nosaukums: Pirmā un otrā stāva kosmētiskais remonts
A6: Izpildītājs: | C6: =Koptāme!B6 -> 0 | L6: Tāme sastādīta: 2024. gada
A8: Nr. p.k. | B8: Kods | C8: Darba nosaukums | D8: Mērvienība | E8: Daudzums | F8: Vienības izmaksas: | L8: Kopā uz visu apjomu:
F9: Laika norma, c/h | G9: Darba samaksas likme, euro/h | H9: Darba alga, euro | I9: Materiāli, euro | J9: Mehānismi, euro | K9: Kopā, euro | L9: Darbietilpība, c/h | M9: Darba alga, euro | N9: Materiāli, euro | O9: Mehānismi, euro | P9: Summa, euro
A10: 1 | B10: 2 | C10: 3 | D10: 4 | E10: 5 | F10: =E10+1 -> 6 | G10: =F10+1 -> 7 | H10: =G10+1 -> 8 | I10: =H10+1 -> 9 | J10: =I10+1 -> 10 | K10: =J10+1 -> 11 | L10: =K10+1 -> 12 | M10: =L10+1 -> 13 | ... P10: =O10+1 -> 16
A11: 1 | C11: 1. stāva kosmētiskais remonts
A12: =A11+1 -> 2 | C12: Demontāža
A13: =A12+1 -> 3 | C13: Durvju demontāža | D13: gab | E13: 21 | F13: 0 | G13: 0 | H13: =ROUND((G13*F13),2) -> 0 | J13: 0 | K13: =ROUND((J13+I13+H13),2) -> 0 | L13: =ROUND((F13*E13),2) -> 0 | M13: =ROUND((H13*E13),2) -> 0 | N13: =ROUND((I13*E13),2) -> 0 | O13: =ROUND((J13*E13),2) -> 0 | P13: =ROUND((O13+N13+M13),2) -> 0
A14: =A13+1 -> 4 | C14: Sienu apdares demontāža | D14: m2 | E14: 486.73 | F14: 0 | G14: 0 | H14: =ROUND((G14*F14),2) -> 0 | I14: 0 | J14: 0 | K14: =ROUND((J14+I14+H14),2) -> 0 | L14: =ROUND((F14*E14),2) -> 0 | M14: =ROUND((H14*E14),2) -> 0 | N14: =ROUND((I14*E14),2) -> 0 | O14: =ROUND((J14*E14),2) -> 0 | P14: =ROUND((O14+N14+M14),2) -> 0
A15: =A14+1 -> 5 | C15: Grīdas seguma demontāža, t.sk. grīdlīstes | D15: m2 | E15: 193.2 | F15: 0 | G15: 0 | H15: =ROUND((G15*F15),2) -> 0 | J15: 0 | K15: =ROUND((J15+I15+H15),2) -> 0 | L15: =ROUND((F15*E15),2) -> 0 | M15: =ROUND((H15*E15),2) -> 0 | N15: =ROUND((I15*E15),2) -> 0 | O15: =ROUND((J15*E15),2) -> 0 | P15: =ROUND((O15+N15+M15),2) -> 0
A16: =A15+1 -> 6 | C16: Iekārto griestu demontāža | D16: m2 | E16: 121 | F16: 0 | G16: 0 | H16: =ROUND((G16*F16),2) -> 0 | J16: 0 | K16: =ROUND((J16+I16+H16),2) -> 0 | L16: =ROUND((F16*E16),2) -> 0 | M16: =ROUND((H16*E16),2) -> 0 | N16: =ROUND((I16*E16),2) -> 0 | O16: =ROUND((J16*E16),2) -> 0 | P16: =ROUND((O16+N16+M16),2) -> 0
A17: =A16+1 -> 7 | C17: Apgaismojuma iekārtu demontāža, t.sk. kabeļi | D17: kompl. | E17: 1 | F17: 0 | G17: 0 | H17: =ROUND((G17*F17),2) -> 0 | J17: 0 | K17: =ROUND((J17+I17+H17),2) -> 0 | L17: =ROUND((F17*E17),2) -> 0 | M17: =ROUND((H17*E17),2) -> 0 | N17: =ROUND((I17*E17),2) -> 0 | O17: =ROUND((J17*E17),2) -> 0 | P17: =ROUND((O17+N17+M17),2) -> 0
A18: =A17+1 -> 8 | C18: Ventilācijas un kondicionēšanas deflektoru (restu) demontāža/ montāža | D18: kompl. | E18: 1 | F18: 0 | G18: 0 | H18: =ROUND((G18*F18),2) -> 0 | J18: 0 | K18: =ROUND((J18+I18+H18),2) -> 0 | L18: =ROUND((F18*E18),2) -> 0 | M18: =ROUND((H18*E18),2) -> 0 | N18: =ROUND((I18*E18),2) -> 0 | O18: =ROUND((J18*E18),2) -> 0 | P18: =ROUND((O18+N18+M18),2) -> 0
A19: =A18+1 -> 9 | C19: Būvgružu iznešana un utilizācija | D19: m3 | E19: 50 | F19: 0 | G19: 0 | H19: =ROUND((G19*F19),2) -> 0 | J19: 0 | K19: =ROUND((J19+I19+H19),2) -> 0 | L19: =ROUND((F19*E19),2) -> 0 | M19: =ROUND((H19*E19),2) -> 0 | N19: =ROUND((I19*E19),2) -> 0 | O19: =ROUND((J19*E19),2) -> 0 | P19: =ROUND((O19+N19+M19),2) -> 0
A20: =A19+1 -> 10 | C20: Sienas | G20: 0 | H20: =ROUND((G20*F20),2) -> 0 | K20: =ROUND((J20+I20+H20),2) -> 0 | L20: =ROUND((F20*E20),2) -> 0 | M20: =ROUND((H20*E20),2) -> 0 | N20: =ROUND((I20*E20),2) -> 0 | O20: =ROUND((J20*E20),2) -> 0 | P20: =ROUND((O20+N20+M20),2) -> 0
A21: =A20+1 -> 11 | C21: Ģipškartona starpsiena - 150mm • Ģipškartons - 12.5mm • Ģipškartons - 12.5mm • Metāla karkass ar siltumizolāciju - 100mm • Ģipškartons - 12.5mm • Ģipškartons - 12.5mm | D21: m2 | E21: 20 | F21: 0 | G21: 0 | H21: =ROUND((G21*F21),2) -> 0 | I21: 0 | J21: 0 | K21: =ROUND((J21+I21+H21),2) -> 0 | L21: =ROUND((F21*E21),2) -> 0 | M21: =ROUND((H21*E21),2) -> 0 | N21: =ROUND((I21*E21),2) -> 0 | O21: =ROUND((J21*E21),2) -> 0 | P21: =ROUND((O21+N21+M21),2) -> 0
A22: =A21+1 -> 12 | C22: Sienu špaktelēšana un krāsošana, toņi: tumši pelēks, balts | D22: m2 | E22: 486.73 | F22: 0 | G22: 0 | H22: =ROUND((G22*F22),2) -> 0 | I22: 0 | J22: 0 | K22: =ROUND((J22+I22+H22),2) -> 0 | L22: =ROUND((F22*E22),2) -> 0 | M22: =ROUND((H22*E22),2) -> 0 | N22: =ROUND((I22*E22),2) -> 0 | O22: =ROUND((J22*E22),2) -> 0 | P22: =ROUND((O22+N22+M22),2) -> 0
A23: =A22+1 -> 13 | C23: Sienu aizsargpaneļu '' geflor'' 300mm montāža | D23: m | E23: 157 | F23: 0 | G23: 0 | H23: =ROUND((G23*F23),2) -> 0 | I23: 0 | J23: 0 | K23: =ROUND((J23+I23+H23),2) -> 0 | L23: =ROUND((F23*E23),2) -> 0 | M23: =ROUND((H23*E23),2) -> 0 | N23: =ROUND((I23*E23),2) -> 0 | O23: =ROUND((J23*E23),2) -> 0 | P23: =ROUND((O23+N23+M23),2) -> 0
A24: =A23+1 -> 14 | C24: Durvis | G24: 0 | H24: =ROUND((G24*F24),2) -> 0 | K24: =ROUND((J24+I24+H24),2) -> 0 | L24: =ROUND((F24*E24),2) -> 0 | M24: =ROUND((H24*E24),2) -> 0 | N24: =ROUND((I24*E24),2) -> 0 | O24: =ROUND((J24*E24),2) -> 0 | P24: =ROUND((O24+N24+M24),2) -> 0
A25: =A24+1 -> 15 | C25: D-1, 1000*2100 mm, finierētas,ar hpl pārklājumu ner. tērauda furnitūra (enģes 3 gab, slēdzene, rokturis, cilindrs), tai skaitā aiļu apdare | D25: gab | E25: 19 | F25: 0 | G25: 0 | H25: =ROUND((G25*F25),2) -> 0 | I25: 0 | J25: 0 | K25: =ROUND((J25+I25+H25),2) -> 0 | L25: =ROUND((F25*E25),2) -> 0 | M25: =ROUND((H25*E25),2) -> 0 | N25: =ROUND((I25*E25),2) -> 0 | O25: =ROUND((J25*E25),2) -> 0 | P25: =ROUND((O25+N25+M25),2) -> 0
A26: =A25+1 -> 16 | C26: D-2, Alumīnija konstrukcijas divviru durvis3000*5100 mm, precīzu izmēru un dalījumu saskaņot ar pasūtītāju, tai skaitā aiļu apdare | D26: gab | E26: 2 | F26: 0 | G26: 0 | H26: =ROUND((G26*F26),2) -> 0 | I26: 0 | J26: 0 | K26: =ROUND((J26+I26+H26),2) -> 0 | L26: =ROUND((F26*E26),2) -> 0 | M26: =ROUND((H26*E26),2) -> 0 | N26: =ROUND((I26*E26),2) -> 0 | O26: =ROUND((J26*E26),2) -> 0 | P26: =ROUND((O26+N26+M26),2) -> 0
A27: =A26+1 -> 17 | C27: Griesti | G27: 0 | H27: =ROUND((G27*F27),2) -> 0
A28: =A27+1 -> 18 | C28: Piekārtie griesti. H=2500/2700 mm. AMF Piekaramo griestu konstrukcijas. , Balta 600x600mm. | D28: m2 | E28: 121 | F28: 0 | G28: 0 | H28: =ROUND((G28*F28),2) -> 0 | I28: 0 | J28: 0 | K28: =ROUND((J28+I28+H28),2) -> 0 | L28: =ROUND((F28*E28),2) -> 0 | M28: =ROUND((H28*E28),2) -> 0 | N28: =ROUND((I28*E28),2) -> 0 | O28: =ROUND((J28*E28),2) -> 0 | P28: =ROUND((O28+N28+M28),2) -> 0
A29: =A28+1 -> 19 | C29: Grīda | G29: 0 | H29: =ROUND((G29*F29),2) -> 0 | K29: =ROUND((J29+I29+H29),2) -> 0 | L29: =ROUND((F29*E29),2) -> 0 | M29: =ROUND((H29*E29),2) -> 0 | N29: =ROUND((I29*E29),2) -> 0 | O29: =ROUND((J29*E29),2) -> 0 | P29: =ROUND((O29+N29+M29),2) -> 0
A30: =A29+1 -> 20
A31: =A30+1 -> 21 | C31: Grīdas izlīdzināšana ar pašizlīdzināšo sastāvu | D31: m2 | E31: 193.2 | F31: 0 | G31: 0 | H31: =ROUND((G31*F31),2) -> 0 | I31: 0 | J31: 0 | K31: =ROUND((J31+I31+H31),2) -> 0 | L31: =ROUND((F31*E31),2) -> 0 | M31: =ROUND((H31*E31),2) -> 0 | N31: =ROUND((I31*E31),2) -> 0 | O31: =ROUND((J31*E31),2) -> 0 | P31: =ROUND((O31+N31+M31),2) -> 0
A32: =A31+1 -> 22 | C32: Linoleja ieklāšana ar uzlocījumu uz sienas 100 mm | D32: m2 | E32: =E31*1.15 -> 222.18 | F32: 0 | G32: 0 | H32: =ROUND((G32*F32),2) -> 0 | I32: 0 | J32: 0 | K32: =ROUND((J32+I32+H32),2) -> 0 | L32: =ROUND((F32*E32),2) -> 0 | M32: =ROUND((H32*E32),2) -> 0 | N32: =ROUND((I32*E32),2) -> 0 | O32: =ROUND((J32*E32),2) -> 0 | P32: =ROUND((O32+N32+M32),2) -> 0
A33: =A32+1 -> 23 | C33: Dažadi darbi | G33: 0 | H33: =ROUND((G33*F33),2) -> 0 | K33: =ROUND((J33+I33+H33),2) -> 0 | L33: =ROUND((F33*E33),2) -> 0 | M33: =ROUND((H33*E33),2) -> 0 | N33: =ROUND((I33*E33),2) -> 0 | O33: =ROUND((J33*E33),2) -> 0 | P33: =ROUND((O33+N33+M33),2) -> 0
A34: =A33+1 -> 24 | C34: Vadu sakārtošana virs piekārtajiem griestiem | D34: kompl. | E34: 1 | F34: 0 | G34: 0 | H34: =ROUND((G34*F34),2) -> 0 | I34: 0 | J34: 0 | K34: =ROUND((J34+I34+H34),2) -> 0 | L34: =ROUND((F34*E34),2) -> 0 | M34: =ROUND((H34*E34),2) -> 0 | N34: =ROUND((I34*E34),2) -> 0 | O34: =ROUND((J34*E34),2) -> 0 | P34: =ROUND((O34+N34+M34),2) -> 0
A35: =A34+1 -> 25 | C35: Informatīvo tablo demontāža un atpakaļ uzstādīšana pēc būvdarbiem | D35: kompl. | E35: 1 | F35: 0 | G35: 0 | H35: =ROUND((G35*F35),2) -> 0 | I35: 0 | J35: 0 | K35: =ROUND((J35+I35+H35),2) -> 0 | L35: =ROUND((F35*E35),2) -> 0 | M35: =ROUND((H35*E35),2) -> 0 | N35: =ROUND((I35*E35),2) -> 0 | O35: =ROUND((J35*E35),2) -> 0 | P35: =ROUND((O35+N35+M35),2) -> 0
A37: Kopā: | L37: =SUM(L13:L36) -> 0 | M37: =SUM(M13:M36) -> 0 | N37: =SUM(N13:N36) -> 0 | O37: =SUM(O13:O36) -> 0 | P37: =SUM(P13:P36) -> 0
A38: Kopā: | P38: =SUM(P37) -> 0
A39: PVN (21%): | P39: =ROUND(P38*0.21,2) -> 0
A40: Pavisam kopā: | P40: =P38+P39 -> 0
A44: Sastādīja: | J44: Pārbaudīja:
D45: (paraksts, tā atšifrējums un datums) | L45: (paraksts, tā atšifrējums un datums)
A46: Sertifikāta Nr.: | J46: Sertifikāta Nr.:

Sheet 2.stāvs
A1: Lokālā tāme Nr.1.2.
A2: Rīgas 2. slimnīcas 2.stāva kosmētiskais remonts
A4: =Koptāme!A4 -> Pasūtītājs: SIA "Rīgas 2. slimnīca" | L4: Tiešās tāmes izmaksas, euro bez PVN: | P4: =P112 -> 0
A5: =Koptāme!A5 -> Objekta nosaukums: Pirmā un otrā stāva kosmētiskais remonts
A6: =Koptāme!A6 -> Izpildītājs: | C6: =Koptāme!B6 -> 0 | L6: Tāme sastādīta: 2024. gada
A8: Nr. p.k. | B8: Kods | C8: Darba nosaukums | D8: Mērvienība | E8: Daudzums | F8: Vienības izmaksas: | L8: Kopā uz visu apjomu:
F9: Laika norma, c/h | G9: Darba samaksas likme, euro/h | H9: Darba alga, euro | I9: Materiāli, euro | J9: Mehānismi, euro | K9: Kopā, euro | L9: Darbietilpība, c/h | M9: Darba alga, euro | N9: Materiāli, euro | O9: Mehānismi, euro | P9: Summa, euro
A10: 1 | B10: 2 | C10: 3 | D10: 4 | E10: 5 | F10: =E10+1 -> 6 | G10: =F10+1 -> 7 | H10: =G10+1 -> 8 | I10: =H10+1 -> 9 | J10: =I10+1 -> 10 | K10: =J10+1 -> 11 | L10: =K10+1 -> 12 | M10: =L10+1 -> 13 | ... P10: =O10+1 -> 16
A11: 1 | C11: 2. stāva kordora kosmētiskais remonts
A12: =A11+1 -> 2 | C12: Demontāža
A13: =A12+1 -> 3 | C13: Durvju demontāža | D13: gab | E13: 21 | F13: 0 | G13: 0 | H13: =ROUND((G13*F13),2) -> 0 | J13: 0 | K13: =ROUND((J13+I13+H13),2) -> 0 | L13: =ROUND((F13*E13),2) -> 0 | M13: =ROUND((H13*E13),2) -> 0 | N13: =ROUND((I13*E13),2) -> 0 | O13: =ROUND((J13*E13),2) -> 0 | P13: =ROUND((O13+N13+M13),2) -> 0
A14: =A13+1 -> 4 | C14: Sienas flīžu demontāža | D14: m2 | E14: 20 | F14: 0 | G14: 0 | H14: =ROUND((G14*F14),2) -> 0 | J14: 0 | K14: =ROUND((J14+I14+H14),2) -> 0 | L14: =ROUND((F14*E14),2) -> 0 | M14: =ROUND((H14*E14),2) -> 0 | N14: =ROUND((I14*E14),2) -> 0 | O14: =ROUND((J14*E14),2) -> 0 | P14: =ROUND((O14+N14+M14),2) -> 0
A15: =A14+1 -> 5 | C15: Sienu apdares demontāža | D15: m2 | E15: 250 | F15: 0 | G15: 0 | H15: =ROUND((G15*F15),2) -> 0 | I15: 0 | J15: 0 | K15: =ROUND((J15+I15+H15),2) -> 0 | L15: =ROUND((F15*E15),2) -> 0 | M15: =ROUND((H15*E15),2) -> 0 | N15: =ROUND((I15*E15),2) -> 0 | O15: =ROUND((J15*E15),2) -> 0 | P15: =ROUND((O15+N15+M15),2) -> 0
A16: =A15+1 -> 6 | C16: Ģipškartona starpsienas demontāža | D16: m2 | E16: 30 | F16: 0 | G16: 0 | H16: =ROUND((G16*F16),2) -> 0 | J16: 0 | K16: =ROUND((J16+I16+H16),2) -> 0 | L16: =ROUND((F16*E16),2) -> 0 | M16: =ROUND((H16*E16),2) -> 0 | N16: =ROUND((I16*E16),2) -> 0 | O16: =ROUND((J16*E16),2) -> 0 | P16: =ROUND((O16+N16+M16),2) -> 0
A17: =A16+1 -> 7 | C17: Grīdas seguma demontāža, t.sk. grīdlīstes | D17: m2 | E17: 97.5 | F17: 0 | G17: 0 | H17: =ROUND((G17*F17),2) -> 0 | J17: 0 | K17: =ROUND((J17+I17+H17),2) -> 0 | L17: =ROUND((F17*E17),2) -> 0 | M17: =ROUND((H17*E17),2) -> 0 | N17: =ROUND((I17*E17),2) -> 0 | O17: =ROUND((J17*E17),2) -> 0 | P17: =ROUND((O17+N17+M17),2) -> 0
A18: =A17+1 -> 8 | C18: Santehnikas demontāža | D18: gab | E18: 1 | F18: 0 | G18: 0 | H18: =ROUND((G18*F18),2) -> 0 | J18: 0 | K18: =ROUND((J18+I18+H18),2) -> 0 | L18: =ROUND((F18*E18),2) -> 0 | M18: =ROUND((H18*E18),2) -> 0 | N18: =ROUND((I18*E18),2) -> 0 | O18: =ROUND((J18*E18),2) -> 0 | P18: =ROUND((O18+N18+M18),2) -> 0
A19: =A18+1 -> 9 | C19: Apgaismojuma iekārtu demontāža, t.sk. kabeļi | D19: kompl. | E19: 1 | F19: 0 | G19: 0 | H19: =ROUND((G19*F19),2) -> 0 | J19: 0 | K19: =ROUND((J19+I19+H19),2) -> 0 | L19: =ROUND((F19*E19),2) -> 0 | M19: =ROUND((H19*E19),2) -> 0 | N19: =ROUND((I19*E19),2) -> 0 | O19: =ROUND((J19*E19),2) -> 0 | P19: =ROUND((O19+N19+M19),2) -> 0
A20: =A19+1 -> 10 | C20: Ventilācijas un kondicionēšanas deflektoru (restu) demontāža/ montāža | D20: kompl. | E20: 1 | F20: 0 | G20: 0 | H20: =ROUND((G20*F20),2) -> 0 | J20: 0 | K20: =ROUND((J20+I20+H20),2) -> 0 | L20: =ROUND((F20*E20),2) -> 0 | M20: =ROUND((H20*E20),2) -> 0 | N20: =ROUND((I20*E20),2) -> 0 | O20: =ROUND((J20*E20),2) -> 0 | P20: =ROUND((O20+N20+M20),2) -> 0
A21: =A20+1 -> 11 | C21: Būvgružu iznešana un utilizācija | D21: m3 | E21: 30 | F21: 0 | G21: 0 | H21: =ROUND((G21*F21),2) -> 0 | J21: 0 | K21: =ROUND((J21+I21+H21),2) -> 0 | L21: =ROUND((F21*E21),2) -> 0 | M21: =ROUND((H21*E21),2) -> 0 | N21: =ROUND((I21*E21),2) -> 0 | O21: =ROUND((J21*E21),2) -> 0 | P21: =ROUND((O21+N21+M21),2) -> 0
A22: =A21+1 -> 12 | C22: Sienas | G22: 0 | H22: =ROUND((G22*F22),2) -> 0 | K22: =ROUND((J22+I22+H22),2) -> 0 | L22: =ROUND((F22*E22),2) -> 0 | M22: =ROUND((H22*E22),2) -> 0 | N22: =ROUND((I22*E22),2) -> 0 | O22: =ROUND((J22*E22),2) -> 0 | P22: =ROUND((O22+N22+M22),2) -> 0
A23: =A22+1 -> 13 | C23: Ģipškartona starpsiena - 150mm • Ģipškartons - 12.5mm • Ģipškartons - 12.5mm • Metāla karkass ar siltumizolāciju - 100mm • Ģipškartons - 12.5mm • Ģipškartons - 12.5mm | D23: m2 | E23: 20 | F23: 0 | G23: 0 | H23: =ROUND((G23*F23),2) -> 0 | I23: 0 | J23: 0 | K23: =ROUND((J23+I23+H23),2) -> 0 | L23: =ROUND((F23*E23),2) -> 0 | M23: =ROUND((H23*E23),2) -> 0 | N23: =ROUND((I23*E23),2) -> 0 | O23: =ROUND((J23*E23),2) -> 0 | P23: =ROUND((O23+N23+M23),2) -> 0
A24: =A23+1 -> 14 | C24: Sienu špaktelēšana un krāsošana, toņi: tumši pelēks, balts | D24: m2 | E24: 250 | F24: 0 | G24: 0 | H24: =ROUND((G24*F24),2) -> 0 | I24: 0 | J24: 0 | K24: =ROUND((J24+I24+H24),2) -> 0 | L24: =ROUND((F24*E24),2) -> 0 | M24: =ROUND((H24*E24),2) -> 0 | N24: =ROUND((I24*E24),2) -> 0 | O24: =ROUND((J24*E24),2) -> 0 | P24: =ROUND((O24+N24+M24),2) -> 0
A25: =A24+1 -> 15 | C25: Kabinets 03-10 | G25: 0 | H25: =ROUND((G25*F25),2) -> 0 | K25: =ROUND((J25+I25+H25),2) -> 0 | L25: =ROUND((F25*E25),2) -> 0 | M25: =ROUND((H25*E25),2) -> 0 | N25: =ROUND((I25*E25),2) -> 0 | O25: =ROUND((J25*E25),2) -> 0 | P25: =ROUND((O25+N25+M25),2) -> 0
A26: =A25+1 -> 16 | C26: Apgaismojuma iekārtu demontāža, t.sk. kabeļi | D26: kompl. | E26: 1 | F26: 0 | G26: 0 | H26: =ROUND((G26*F26),2) -> 0 | J26: 0 | K26: =ROUND((J26+I26+H26),2) -> 0 | L26: =ROUND((F26*E26),2) -> 0 | M26: =ROUND((H26*E26),2) -> 0 | N26: =ROUND((I26*E26),2) -> 0 | O26: =ROUND((J26*E26),2) -> 0 | P26: =ROUND((O26+N26+M26),2) -> 0
A27: =A26+1 -> 17 | C27: Ventilācijas un kondicionēšanas deflektoru (restu) demontāža/ montāža | D27: kompl. | E27: 1 | F27: 0 | G27: 0 | H27: =ROUND((G27*F27),2) -> 0 | I27: 0 | J27: 0 | K27: =ROUND((J27+I27+H27),2) -> 0 | L27: =ROUND((F27*E27),2) -> 0 | M27: =ROUND((H27*E27),2) -> 0 | N27: =ROUND((I27*E27),2) -> 0 | O27: =ROUND((J27*E27),2) -> 0 | P27: =ROUND((O27+N27+M27),2) -> 0
A28: =A27+1 -> 18 | C28: Būvgružu iznešana un utilizācija | D28: m3 | E28: 1 | F28: 0 | G28: 0 | H28: =ROUND((G28*F28),2) -> 0 | J28: 0 | K28: =ROUND((J28+I28+H28),2) -> 0 | L28: =ROUND((F28*E28),2) -> 0 | M28: =ROUND((H28*E28),2) -> 0 | N28: =ROUND((I28*E28),2) -> 0 | O28: =ROUND((J28*E28),2) -> 0 | P28: =ROUND((O28+N28+M28),2) -> 0
A29: =A28+1 -> 19 | C29: Jaunu gaismekļu uzstādīšana tai skaitā slēdžu un jaunas elektroinstalācijas ievilkšana. | D29: kompl. | E29: 1 | F29: 0 | G29: 0 | H29: =ROUND((G29*F29),2) -> 0 | I29: 0 | J29: 0 | K29: =ROUND((J29+I29+H29),2) -> 0 | L29: =ROUND((F29*E29),2) -> 0 | M29: =ROUND((H29*E29),2) -> 0 | N29: =ROUND((I29*E29),2) -> 0 | O29: =ROUND((J29*E29),2) -> 0 | P29: =ROUND((O29+N29+M29),2) -> 0
A30: =A29+1 -> 20 | C30: Sienu špaktelēšana un krāsošana, toņi: tumši pelēks, balts | D30: m2 | E30: =(5.1+3.6)*2*(3)+(5.1*3.6) -> 70.56 | F30: 0 | G30: 0 | H30: =ROUND((G30*F30),2) -> 0 | I30: 0 | J30: 0 | K30: =ROUND((J30+I30+H30),2) -> 0 | L30: =ROUND((F30*E30),2) -> 0 | M30: =ROUND((H30*E30),2) -> 0 | N30: =ROUND((I30*E30),2) -> 0 | O30: =ROUND((J30*E30),2) -> 0 | P30: =ROUND((O30+N30+M30),2) -> 0
A31: =A30+1 -> 21 | C31: Kabinets 03-7 | G31: 0 | H31: =ROUND((G31*F31),2) -> 0 | K31: =ROUND((J31+I31+H31),2) -> 0 | L31: =ROUND((F31*E31),2) -> 0 | M31: =ROUND((H31*E31),2) -> 0 | N31: =ROUND((I31*E31),2) -> 0 | O31: =ROUND((J31*E31),2) -> 0 | P31: =ROUND((O31+N31+M31),2) -> 0
A32: =A31+1 -> 22 | C32: Apgaismojuma iekārtu demontāža, t.sk. kabeļi | D32: kompl. | E32: 1 | F32: 0 | G32: 0 | H32: =ROUND((G32*F32),2) -> 0 | J32: 0 | K32: =ROUND((J32+I32+H32),2) -> 0 | L32: =ROUND((F32*E32),2) -> 0 | M32: =ROUND((H32*E32),2) -> 0 | N32: =ROUND((I32*E32),2) -> 0 | O32: =ROUND((J32*E32),2) -> 0 | P32: =ROUND((O32+N32+M32),2) -> 0
A33: =A32+1 -> 23 | C33: Ventilācijas un kondicionēšanas deflektoru (restu) demontāža/ montāža | D33: kompl. | E33: 1 | F33: 0 | G33: 0 | H33: =ROUND((G33*F33),2) -> 0 | I33: 0 | J33: 0 | K33: =ROUND((J33+I33+H33),2) -> 0 | L33: =ROUND((F33*E33),2) -> 0 | M33: =ROUND((H33*E33),2) -> 0 | N33: =ROUND((I33*E33),2) -> 0 | O33: =ROUND((J33*E33),2) -> 0 | P33: =ROUND((O33+N33+M33),2) -> 0
A34: =A33+1 -> 24 | C34: Būvgružu iznešana un utilizācija | D34: m3 | E34: 1 | F34: 0 | G34: 0 | H34: =ROUND((G34*F34),2) -> 0 | J34: 0 | K34: =ROUND((J34+I34+H34),2) -> 0 | L34: =ROUND((F34*E34),2) -> 0 | M34: =ROUND((H34*E34),2) -> 0 | N34: =ROUND((I34*E34),2) -> 0 | O34: =ROUND((J34*E34),2) -> 0 | P34: =ROUND((O34+N34+M34),2) -> 0
A35: =A34+1 -> 25 | C35: Jaunu gaismekļu uzstādīšana tai skaitā slēdžu un jaunas elektroinstalācijas ievilkšana. | D35: kompl. | E35: 1 | F35: 0 | G35: 0 | H35: =ROUND((G35*F35),2) -> 0 | I35: 0 | J35: 0 | K35: =ROUND((J35+I35+H35),2) -> 0 | L35: =ROUND((F35*E35),2) -> 0 | M35: =ROUND((H35*E35),2) -> 0 | N35: =ROUND((I35*E35),2) -> 0 | O35: =ROUND((J35*E35),2) -> 0 | P35: =ROUND((O35+N35+M35),2) -> 0
A36: =A35+1 -> 26 | C36: Sienu špaktelēšana un krāsošana, toņi: tumši pelēks, balts | D36: m2 | E36: =(5.1+2.7)*2*(3)+(5.1*2.7) -> 60.57 | F36: 0 | G36: 0 | H36: =ROUND((G36*F36),2) -> 0 | I36: 0 | J36: 0 | K36: =ROUND((J36+I36+H36),2) -> 0 | L36: =ROUND((F36*E36),2) -> 0 | M36: =ROUND((H36*E36),2) -> 0 | N36: =ROUND((I36*E36),2) -> 0 | O36: =ROUND((J36*E36),2) -> 0 | P36: =ROUND((O36+N36+M36),2) -> 0
A37: =A36+1 -> 27 | C37: Kabinets 03-6 | G37: 0 | H37: =ROUND((G37*F37),2) -> 0 | K37: =ROUND((J37+I37+H37),2) -> 0 | L37: =ROUND((F37*E37),2) -> 0 | M37: =ROUND((H37*E37),2) -> 0 | N37: =ROUND((I37*E37),2) -> 0 | O37: =ROUND((J37*E37),2) -> 0 | P37: =ROUND((O37+N37+M37),2) -> 0
A38: =A37+1 -> 28 | C38: Apgaismojuma iekārtu demontāža, t.sk. kabeļi | D38: kompl. | E38: 1 | F38: 0 | G38: 0 | H38: =ROUND((G38*F38),2) -> 0 | J38: 0 | K38: =ROUND((J38+I38+H38),2) -> 0 | L38: =ROUND((F38*E38),2) -> 0 | M38: =ROUND((H38*E38),2) -> 0 | N38: =ROUND((I38*E38),2) -> 0 | O38: =ROUND((J38*E38),2) -> 0 | P38: =ROUND((O38+N38+M38),2) -> 0
A39: =A38+1 -> 29 | C39: Ventilācijas un kondicionēšanas deflektoru (restu) demontāža/ montāža | D39: kompl. | E39: 1 | F39: 0 | G39: 0 | H39: =ROUND((G39*F39),2) -> 0 | I39: 0 | J39: 0 | K39: =ROUND((J39+I39+H39),2) -> 0 | L39: =ROUND((F39*E39),2) -> 0 | M39: =ROUND((H39*E39),2) -> 0 | N39: =ROUND((I39*E39),2) -> 0 | O39: =ROUND((J39*E39),2) -> 0 | P39: =ROUND((O39+N39+M39),2) -> 0
A40: =A39+1 -> 30 | C40: Būvgružu iznešana un utilizācija | D40: m3 | E40: 1 | F40: 0 | G40: 0 | H40: =ROUND((G40*F40),2) -> 0 | J40: 0 | K40: =ROUND((J40+I40+H40),2) -> 0 | L40: =ROUND((F40*E40),2) -> 0 | M40: =ROUND((H40*E40),2) -> 0 | N40: =ROUND((I40*E40),2) -> 0 | O40: =ROUND((J40*E40),2) -> 0 | P40: =ROUND((O40+N40+M40),2) -> 0
A41: =A40+1 -> 31 | C41: Jaunu gaismekļu uzstādīšana tai skaitā slēdžu un jaunas elektroinstalācijas ievilkšana. | D41: kompl. | E41: 1 | F41: 0 | G41: 0 | H41: =ROUND((G41*F41),2) -> 0 | I41: 0 | J41: 0 | K41: =ROUND((J41+I41+H41),2) -> 0 | L41: =ROUND((F41*E41),2) -> 0 | M41: =ROUND((H41*E41),2) -> 0 | N41: =ROUND((I41*E41),2) -> 0 | O41: =ROUND((J41*E41),2) -> 0 | P41: =ROUND((O41+N41+M41),2) -> 0
A42: =A41+1 -> 32 | C42: Sienu špaktelēšana un krāsošana, toņi: tumši pelēks, balts | D42: m2 | E42: =(5.1+1.9)*2*(3)+(5.1*1.9) -> 51.69 | F42: 0 | G42: 0 | H42: =ROUND((G42*F42),2) -> 0 | I42: 0 | J42: 0 | K42: =ROUND((J42+I42+H42),2) -> 0 | L42: =ROUND((F42*E42),2) -> 0 | M42: =ROUND((H42*E42),2) -> 0 | N42: =ROUND((I42*E42),2) -> 0 | O42: =ROUND((J42*E42),2) -> 0 | P42: =ROUND((O42+N42+M42),2) -> 0
...
