Workbook

Sheet Koptāme
A1: Koptāme Nr.1
A2: Telpu remonts
A4: Pasūtītājs: SIA "Rīgas 2. slimnīca"
A5: Objekta nosaukums: Pirmā un otrā stāva kosmētiskais remonts
A6: Izpildītājs:
A8: Nr. p.k. | B8: Darba nosaukums | C8: Summa
A10: 1 | B10: 3 | C10: 4
A11: 1 | B11: Telpu remonts
A12: 1.1. | B12: ='1.stāvs'!C11 -> 1. stāva kosmētiskais remonts | C12: ='1.stāvs'!P38 -> 0
A13: 1.2. | B13: ='2.stāvs'!C11 -> 2. stāva kordora kosmētiskais remonts | C13: ='2.stāvs'!P112 -> 0
A14: 1.3. | B14: Kopā: | C14: =C12+C13 -> 0
A15: 1.4. | B15: Virsizdevumi: | C15: 0
A16: 1.5. | B16: Peļņa: | C16: 0
B17: Kopā: | C17: =C14+C15+C16 -> 0
B18: PVN (21%): | C18: =ROUND(C17*0.21,2) -> 0
B19: Summa: | C19: =SUM(C17:C18) -> 0
A23: Sastādīja:
B24: (paraksts, tā atšifrējums un datums)
A25: Sertifikāta Nr.:
A28: Pārbaudīja:
B29: (paraksts, tā atšifrējums un datums)
A30: Sertifikāta Nr.:

Sheet 1.stāvs
A1: Lokālā tāme Nr.1.1.
A2: Rīgas 2. slimnīcas 1.stāva kosmētiskais remonts
A4: =Koptāme!A4 -> Pasūtītājs: SIA "Rīgas 2. slimnīca" | L4: Tiešās tāmes izmaksas, euro bez PVN: | P4: =P38 -> 0
A5: =Koptāme!A5 -> Objekta nosaukums: Pirmā un otrā stāva kosmētiskais remonts
A6: Izpildītājs: | C6: =Koptāme!B6 -> 0 | L6: Tāme sastādīta: 2024. gada
A8: Nr. p.k. | B8: Kods | C8: Darba nosaukums | D8: Mērvienība | E8: Daudzums | F8: Vienības izmaksas: | L8: Kopā uz visu apjomu:
F9: Laika norma, c/h | G9: Darba samaksas likme, euro/h | H9: Darba alga, euro | I9: Materiāli, euro | J9: Mehānismi, euro | K9: Kopā, euro | L9: Darbietilpība, c/h | M9: Darba alga, euro | N9: Materiāli, euro | O9: Mehānismi, euro | P9: Summa, euro
A10: 1 | B10: 2 | C10: 3 | D10: 4 | E10: 5 | F10: =E10+1 -> 6 | G10: =F10+1 -> 7 | H10: =G10+1 -> 8 | I10: =H10+1 -> 9 | J10: =I10+1 -> 10 | K10: =J10+1 -> 11 | L10: =K10+1 -> 12 | M10: =L10+1 -> 13 | ... P10: =O10+1 -> 16
A11: 1 | C11: 1. stāva kosmētiskais remonts
A12: =A11+1 -> 2 | C12: Demontāža
A13: =A12+1 -> 3 | C13: Durvju demontāža | D13: gab | E13: 21 | F13: 0 | G13: 0 | H13: =ROUND((G13*F13),2) -> 0 | J13: 0 | K13: =ROUND((J13+I13+H13),2) -> 0 | L13: =ROUND((F13*E13),2) -> 0 | M13: =ROUND((H13*E13),2) -> 0 | N13: =ROUND((I13*E13),2) -> 0 | O13: =ROUND((J13*E13),2) -> 0 | P13: =ROUND((O13+N13+M13),2) -> 0
A14: =A13+1 -> 4 | C14: Sienu apdares demontāža | D14: m2 | E14: 486.73 | F14: 0 | G14: 0 | H14: =ROUND((G14*F14),2) -> 0 | I14: 0 | J14: 0 | K14: =ROUND((J14+I14+H14),2) -> 0 | L14: =ROUND((F14*E14),2) -> 0 | M14: =ROUND((H14*E14),2) -> 0 | N14: =ROUND((I14*E14),2) -> 0 | O14: =ROUND((J14*E14),2) -> 0 | P14: =ROUND((O14+N14+M14),2) -> 0
A15: =A14+1 -> 5 | C15: Grīdas seguma demontāža, t.sk. grīdlīstes | D15: m2 | E15: 193.2 | F15: 0 | G15: 0 | H15: =ROUND((G15*F15),2) -> 0 | J15: 0 | K15: =ROUND((J15+I15+H15),2) -> 0 | L15: =ROUND((F15*E15),2) -> 0 | M15: =ROUND((H15*E15),2) -> 0 | N15: =ROUND((I15*E15),2) -> 0 | O15: =ROUND((J15*E15),2) -> 0 | P15: =ROUND((O15+N15+M15),2) -> 0
A16: =A15+1 -> 6 | C16: Iekārto griestu demontāža | D16: m2 | E16: 121 | F16: 0 | G16: 0 | H16: =ROUND((G16*F16),2) -> 0 | J16: 0 | K16: =ROUND((J16+I16+H16),2) -> 0 | L16: =ROUND((F16*E16),2) -> 0 | M16: =ROUND((H16*E16),2) -> 0 | N16: =ROUND((I16*E16),2) -> 0 | O16: =ROUND((J16*E16),2) -> 0 | P16: =ROUND((O16+N16+M16),2) -> 0
A17: =A16+1 -> 7 | C17: Apgaismojuma iekārtu demontāža, t.sk. kabeļi | D17: kompl. | E17: 1 | F17: 0 | G17: 0 | H17: =ROUND((G17*F17),2) -> 0 | J17: 0 | K17: =ROUND((J17+I17+H17),2) -> 0 | L17: =ROUND((F17*E17),2) -> 0 | M17: =ROUND((H17*E17),2) -> 0 | N17: =ROUND((I17*E17),2) -> 0 | O17: =ROUND((J17*E17),2) -> 0 | P17: =ROUND((O17+N17+M17),2) -> 0
A18: =A17+1 -> 8 | C18: Ventilācijas un kondicionēšanas deflektoru (restu) demontāža/ montāža | D18: kompl. | E18: 1 | F18: 0 | G18: 0 | H18: =ROUND((G18*F18),2) -> 0 | J18: 0 | K18: =ROUND((J18+I18+H18),2) -> 0 | L18: =ROUND((F18*E18),2) -> 0 | M18: =ROUND((H18*E18),2) -> 0 | N18: =ROUND((I18*E18),2) -> 0 | O18: =ROUND((J18*E18),2) -> 0 | P18: =ROUND((O18+N18+M18),2) -> 0
A19: =A18+1 -> 9 | C19: Būvgružu iznešana un utilizācija | D19: m3 | E19: 50 | F19: 0 | G19: 0 | H19: =ROUND((G19*F19),2) -> 0 | J19: 0 | K19: =ROUND((J19+I19+H19),2) -> 0 | L19: =ROUND((F19*E19),2) -> 0 | M19: =ROUND((H19*E19),2) -> 0 | N19: =ROUND((I19*E19),2) -> 0 | O19: =ROUND((J19*E19),2) -> 0 | P19: =ROUND((O19+N19+M19),2) -> 0
A20: =A19+1 -> 10 | C20: Sienas | G20: 0 | H20: =ROUND((G20*F20),2) -> 0 | K20: =ROUND((J20+I20+H20),2) -> 0 | L20: =ROUND((F20*E20),2) -> 0 | M20: =ROUND((H20*E20),2) -> 0 | N20: =ROUND((I20*E20),2) -> 0 | O20: =ROUND((J20*E20),2) -> 0 | P20: =ROUND((O20+N20+M20),2) -> 0
A21: =A20+1 -> 11 | C21: Ģipškartona starpsiena - 150mm • Ģipškartons - 12.5mm • Ģipškartons - 12.5mm • Metāla karkass ar siltumizolāciju - 100mm • Ģipškartons - 12.5mm • Ģipškartons - 12.5mm | D21: m2 | E21: 20 | F21: 0 | G21: 0 | H21: =ROUND((G21*F21),2) -> 0 | I21: 0 | J21: 0 | K21: =ROUND((J21+I21+H21),2) -> 0 | L21: =ROUND((F21*E21),2) -> 0 | M21: =ROUND((H21*E21),2) -> 0 | N21: =ROUND((I21*E21),2) -> 0 | O21: =ROUND((J21*E21),2) -> 0 | P21: =ROUND((O21+N21+M21),2) -> 0
A22: =A21+1 -> 12 | C22: Sienu špaktelēšana un krāsošana, toņi: tumši pelēks, balts | D22: m2 | E22: 486.73 | F22: 0 | G22: 0 | H22: =ROUND((G22*F22),2) -> 0 | I22: 0 | J22: 0 | K22: =ROUND((J22+I22+H22),2) -> 0 | L22: =ROUND((F22*E22),2) -> 0 | M22: =ROUND((H22*E22),2) -> 0 | N22: =ROUND((I22*E22),2) -> 0 | O22: =ROUND((J22*E22),2) -> 0 | P22: =ROUND((O22+N22+M22),2) -> 0
A23: =A22+1 -> 13 | C23: Sienu aizsargpaneļu '' geflor'' 300mm montāža | D23: m | E23: 157 | F23: 0 | G23: 0 | H23: =ROUND((G23*F23),2) -> 0 | I23: 0 | J23: 0 | K23: =ROUND((J23+I23+H23),2) -> 0 | L23: =ROUND((F23*E23),2) -> 0 | M23: =ROUND((H23*E23),2) -> 0 | N23: =ROUND((I23*E23),2) -> 0 | O23: =ROUND((J23*E23),2) -> 0 | P23: =ROUND((O23+N23+M23),2) -> 0
A24: =A23+1 -> 14 | C24: Durvis | G24: 0 | H24: =ROUND((G24*F24),2) -> 0 | K24: =ROUND((J24+I24+H24),2) -> 0 | L24: =ROUND((F24*E24),2) -> 0 | M24: =ROUND((H24*E24),2) -> 0 | N24: =ROUND((I24*E24),2) -> 0 | O24: =ROUND((J24*E24),2) -> 0 | P24: =ROUND((O24+N24+M24),2) -> 0
A25: =A24+1 -> 15 | C25: D-1, 1000*2100 mm, finierētas,ar hpl pārklājumu ner. tērauda furnitūra (enģes 3 gab, slēdzene, rokturis, cilindrs), tai skaitā aiļu apdare | D25: gab | E25: 19 | F25: 0 | G25: 0 | H25: =ROUND((G25*F25),2) -> 0 | I25: 0 | J25: 0 | K25: =ROUND((J25+I25+H25),2) -> 0 | L25: =ROUND((F25*E25),2) -> 0 | M25: =ROUND((H25*E25),2) -> 0 | N25: =ROUND((I25*E25),2) -> 0 | O25: =ROUND((J25*E25),2) -> 0 | P25: =ROUND((O25+N25+M25),2) -> 0
A26: =A25+1 -> 16 | C26: D-2, Alumīnija konstrukcijas divviru durvis3000*5100 mm, precīzu izmēru un dalījumu saskaņot ar pasūtītāju, tai skaitā aiļu apdare | D26: gab | E26: 2 | F26: 0 | G26: 0 | H26: =ROUND((G26*F26),2) -> 0 | I26: 0 | J26: 0 | K26: =ROUND((J26+I26+H26),2) -> 0 | L26: =ROUND((F26*E26),2) -> 0 | M26: =ROUND((H26*E26),2) -> 0 | N26: =ROUND((I26*E26),2) -> 0 | O26: =ROUND((J26*E26),2) -> 0 | P26: =ROUND((O26+N26+M26),2) -> 0
A27: =A26+1 -> 17 | C27: Griesti | G27: 0 | H27: =ROUND((G27*F27),2) -> 0
A28: =A27+1 -> 18 | C28: Piekārtie griesti. H=2500/2700 mm. AMF Piekaramo griestu konstrukcijas. , Balta 600x600mm. | D28: m2 | E28: 121 | F28: 0 | G28: 0 | H28: =ROUND((G28*F28),2) -> 0 | I28: 0 | J28: 0 | K28: =ROUND((J28+I28+H28),2) -> 0 | L28: =ROUND((F28*E28),2) -> 0 | M28: =ROUND((H28*E28),2) -> 0 | N28: =ROUND((I28*E28),2) -> 0 | O28: =ROUND((J28*E28),2) -> 0 | P28: =ROUND((O28+N28+M28),2) -> 0
A29: =A28+1 -> 19 | C29: Grīda | G29: 0 | H29: =ROUND((G29*F29),2) -> 0 | K29: =ROUND((J29+I29+H29),2) -> 0 | L29: =ROUND((F29*E29),2) -> 0 | M29: =ROUND((H29*E29),2) -> 0 | N29: =ROUND((I29*E29),2) -> 0 | O29: =ROUND((J29*E29),2) -> 0 | P29: =ROUND((O29+N29+M29),2) -> 0
A30: =A29+1 -> 20
A31: =A30+1 -> 21 | C31: Grīdas izlīdzināšana ar pašizlīdzināšo sastāvu | D31: m2 | E31: 193.2 | F31: 0 | G31: 0 | H31: =ROUND((G31*F31),2) -> 0 | I31: 0 | J31: 0 | K31: =ROUND((J31+I31+H31),2) -> 0 | L31: =ROUND((F31*E31),2) -> 0 | M31: =ROUND((H31*E31),2) -> 0 | N31: =ROUND((I31*E31),2) -> 0 | O31: =ROUND((J31*E31),2) -> 0 | P31: =ROUND((O31+N31+M31),2) -> 0
A32: =A31+1 -> 22 | C32: Linoleja ieklāšana ar uzlocījumu uz sienas 100 mm | D32: m2 | E32: =E31*1.15 -> 222.18 | F32: 0 | G32: 0 | H32: =ROUND((G32*F32),2) -> 0 | I32: 0 | J32: 0 | K32: =ROUND((J32+I32+H32),2) -> 0 | L32: =ROUND((F32*E32),2) -> 0 | M32: =ROUND((H32*E32),2) -> 0 | N32: =ROUND((I32*E32),2) -> 0 | O32: =ROUND((J32*E32),2) -> 0 | P32: =ROUND((O32+N32+M32),2) -> 0
A33: =A32+1 -> 23 | C33: Dažadi darbi | G33: 0 | H33: =ROUND((G33*F33),2) -> 0 | K33: =ROUND((J33+I33+H33),2) -> 0 | L33: =ROUND((F33*E33),2) -> 0 | M33: =ROUND((H33*E33),2) -> 0 | N33: =ROUND((I33*E33),2) -> 0 | O33: =ROUND((J33*E33),2) -> 0 | P33: =ROUND((O33+N33+M33),2) -> 0
A34: =A33+1 -> 24 | C34: Vadu sakārtošana virs piekārtajiem griestiem | D34: kompl. | E34: 1 | F34: 0 | G34: 0 | H34: =ROUND((G34*F34),2) -> 0 | I34: 0 | J34: 0 | K34: =ROUND((J34+I34+H34),2) -> 0 | L34: =ROUND((F34*E34),2) -> 0 | M34: =ROUND((H34*E34),2) -> 0 | N34: =ROUND((I34*E34),2) -> 0 | O34: =ROUND((J34*E34),2) -> 0 | P34: =ROUND((O34+N34+M34),2) -> 0
A35: =A34+1 -> 25 | C35: Informatīvo tablo demontāža un atpakaļ uzstādīšana pēc būvdarbiem | D35: kompl. | E35: 1 | F35: 0 | G35: 0 | H35: =ROUND((G35*F35),2) -> 0 | I35: 0 | J35: 0 | K35: =ROUND((J35+I35+H35),2) -> 0 | L35: =ROUND((F35*E35),2) -> 0 | M35: =ROUND((H35*E35),2) -> 0 | N35: =ROUND((I35*E35),2) -> 0 | O35: =ROUND((J35*E35),2) -> 0 | P35: =ROUND((O35+N35+M35),2) -> 0
A37: Kopā: | L37: =SUM(L13:L36) -> 0 | M37: =SUM(M13:M36) -> 0 | N37: =SUM(N13:N36) -> 0 | O37: =SUM(O13:O36) -> 0 | P37: =SUM(P13:P36) -> 0
A38: Kopā: | P38: =SUM(P37) -> 0
A39: PVN (21%): | P39: =ROUND(P38*0.21,2) -> 0
A40: Pavisam kopā: | P40: =P38+P39 -> 0
A44: Sastādīja: | J44: Pārbaudīja:
D45: (paraksts, tā atšifrējums un datums) | L45: (paraksts, tā atšifrējums un datums)
A46: Sertifikāta Nr.: | J46: Sertifikāta Nr.:

Sheet 2.stāvs
A1: Lokālā tāme Nr.1.2.
A2: Rīgas 2. slimnīcas 2.stāva kosmētiskais remonts
A4: =Koptāme!A4 -> Pasūtītājs: SIA "Rīgas 2. slimnīca" | L4: Tiešās tāmes izmaksas, euro bez PVN: | P4: =P112 -> 0
A5: =Koptāme!A5 -> Objekta nosaukums: Pirmā un otrā stāva kosmētiskais remonts
A6: =Koptāme!A6 -> Izpildītājs: | C6: =Koptāme!B6 -> 0 | L6: Tāme sastādīta: 2024. gada
A8: Nr. p.k. | B8: Kods | C8: Darba nosaukums | D8: Mērvienība | E8: Daudzums | F8: Vienības izmaksas: | L8: Kopā uz visu apjomu:
F9: Laika norma, c/h | G9: Darba samaksas likme, euro/h | H9: Darba alga, euro | I9: Materiāli, euro | J9: Mehānismi, euro | K9: Kopā, euro | L9: Darbietilpība, c/h | M9: Darba alga, euro | N9: Materiāli, euro | O9: Mehānismi, euro | P9: Summa, euro
A10: 1 | B10: 2 | C10: 3 | D10: 4 | E10: 5 | F10: =E10+1 -> 6 | G10: =F10+1 -> 7 | H10: =G10+1 -> 8 | I10: =H10+1 -> 9 | J10: =I10+1 -> 10 | K10: =J10+1 -> 11 | L10: =K10+1 -> 12 | M10: =L10+1 -> 13 | ... P10: =O10+1 -> 16
A11: 1 | C11: 2. stāva kordora kosmētiskais remonts
A12: =A11+1 -> 2 | C12: Demontāža
A13: =A12+1 -> 3 | C13: Durvju demontāža | D13: gab | E13: 21 | F13: 0 | G13: 0 | H13: =ROUND((G13*F13),2) -> 0 | J13: 0 | K13: =ROUND((J13+I13+H13),2) -> 0 | L13: =ROUND((F13*E13),2) -> 0 | M13: =ROUND((H13*E13),2) -> 0 | N13: =ROUND((I13*E13),2) -> 0 | O13: =ROUND((J13*E13),2) -> 0 | P13: =ROUND((O13+N13+M13),2) -> 0
A14: =A13+1 -> 4 | C14: Sienas flīžu demontāža | D14: m2 | E14: 20 | F14: 0 | G14: 0 | H14: =ROUND((G14*F14),2) -> 0 | J14: 0 | K14: =ROUND((J14+I14+H14),2) -> 0 | L14: =ROUND((F14*E14),2) -> 0 | M14: =ROUND((H14*E14),2) -> 0 | N14: =ROUND((I14*E14),2) -> 0 | O14: =ROUND((J14*E14),2) -> 0 | P14: =ROUND((O14+N14+M14),2) -> 0
A15: =A14+1 -> 5 | C15: Sienu apdares demontāža | D15: m2 | E15: 250 | F15: 0 | G15: 0 | H15: =ROUND((G15*F15),2) -> 0 | I15: 0 | J15: 0 | K15: =ROUND((J15+I15+H15),2) -> 0 | L15: =ROUND((F15*E15),2) -> 0 | M15: =ROUND((H15*E15),2) -> 0 | N15: =ROUND((I15*E15),2) -> 0 | O15: =ROUND((J15*E15),2) -> 0 | P15: =ROUND((O15+N15+M15),2) -> 0
A16: =A15+1 -> 6 | C16: Ģipškartona starpsienas demontāža | D16: m2 | E16: 30 | F16: 0 | G16: 0 | H16: =ROUND((G16*F16),2) -> 0 | J16: 0 | K16: =ROUND((J16+I16+H16),2) -> 0 | L16: =ROUND((F16*E16),2) -> 0 | M16: =ROUND((H16*E16),2) -> 0 | N16: =ROUND((I16*E16),2) -> 0 | O16: =ROUND((J16*E16),2) -> 0 | P16: =ROUND((O16+N16+M16),2) -> 0
A17: =A16+1 -> 7 | C17: Grīdas seguma demontāža, t.sk. grīdlīstes | D17: m2 | E17: 97.5 | F17: 0 | G17: 0 | H17: =ROUND((G17*F17),2) -> 0 | J17: 0 | K17: =ROUND((J17+I17+H17),2) -> 0 | L17: =ROUND((F17*E17),2) -> 0 | M17: =ROUND((H17*E17),2) -> 0 | N17: =ROUND((I17*E17),2) -> 0 | O17: =ROUND((J17*E17),2) -> 0 | P17: =ROUND((O17+N17+M17),2) -> 0
A18: =A17+1 -> 8 | C18: Santehnikas demontāža | D18: gab | E18: 1 | F18: 0 | G18: 0 | H18: =ROUND((G18*F18),2) -> 0 | J18: 0 | K18: =ROUND((J18+I18+H18),2) -> 0 | L18: =ROUND((F18*E18),2) -> 0 | M18: =ROUND((H18*E18),2) -> 0 | N18: =ROUND((I18*E18),2) -> 0 | O18: =ROUND((J18*E18),2) -> 0 | P18: =ROUND((O18+N18+M18),2) -> 0
A19: =A18+1 -> 9 | C19: Apgaismojuma iekārtu demontāža, t.sk. kabeļi | D19: kompl. | E19: 1 | F19: 0 | G19: 0 | H19: =ROUND((G19*F19),2) -> 0 | J19: 0 | K19: =ROUND((J19+I19+H19),2) -> 0 | L19: =ROUND((F19*E19),2) -> 0 | M19: =ROUND((H19*E19),2) -> 0 | N19: =ROUND((I19*E19),2) -> 0 | O19: =ROUND((J19*E19),2) -> 0 | P19: =ROUND((O19+N19+M19),2) -> 0
A20: =A19+1 -> 10 | C20: Ventilācijas un kondicionēšanas deflektoru (restu) demontāža/ montāža | D20: kompl. | E20: 1 | F20: 0 | G20: 0 | H20: =ROUND((G20*F20),2) -> 0 | J20: 0 | K20: =ROUND((J20+I20+H20),2) -> 0 | L20: =ROUND((F20*E20),2) -> 0 | M20: =ROUND((H20*E20),2) -> 0 | N20: =ROUND((I20*E20),2) -> 0 | O20: =ROUND((J20*E20),2) -> 0 | P20: =ROUND((O20+N20+M20),2) -> 0
A21: =A20+1 -> 11 | C21: Būvgružu iznešana un utilizācija | D21: m3 | E21: 30 | F21: 0 | G21: 0 | H21: =ROUND((G21*F21),2) -> 0 | J21: 0 | K21: =ROUND((J21+I21+H21),2) -> 0 | L21: =ROUND((F21*E21),2) -> 0 | M21: =ROUND((H21*E21),2) -> 0 | N21: =ROUND((I21*E21),2) -> 0 | O21: =ROUND((J21*E21),2) -> 0 | P21: =ROUND((O21+N21+M21),2) -> 0
A22: =A21+1 -> 12 | C22: Sienas | G22: 0 | H22: =ROUND((G22*F22),2) -> 0 | K22: =ROUND((J22+I22+H22),2) -> 0 | L22: =ROUND((F22*E22),2) -> 0 | M22: =ROUND((H22*E22),2) -> 0 | N22: =ROUND((I22*E22),2) -> 0 | O22: =ROUND((J22*E22),2) -> 0 | P22: =ROUND((O22+N22+M22),2) -> 0
A23: =A22+1 -> 13 | C23: Ģipškartona starpsiena - 150mm • Ģipškartons - 12.5mm • Ģipškartons - 12.5mm • Metāla karkass ar siltumizolāciju - 100mm • Ģipškartons - 12.5mm • Ģipškartons - 12.5mm | D23: m2 | E23: 20 | F23: 0 | G23: 0 | H23: =ROUND((G23*F23),2) -> 0 | I23: 0 | J23: 0 | K23: =ROUND((J23+I23+H23),2) -> 0 | L23: =ROUND((F23*E23),2) -> 0 | M23: =ROUND((H23*E23),2) -> 0 | N23: =ROUND((I23*E23),2) -> 0 | O23: =ROUND((J23*E23),2) -> 0 | P23: =ROUND((O23+N23+M23),2) -> 0
A24: =A23+1 -> 14 | C24: Sienu špaktelēšana un krāsošana, toņi: tumši pelēks, balts | D24: m2 | E24: 250 | F24: 0 | G24: 0 | H24: =ROUND((G24*F24),2) -> 0 | I24: 0 | J24: 0 | K24: =ROUND((J24+I24+H24),2) -> 0 | L24: =ROUND((F24*E24),2) -> 0 | M24: =ROUND((H24*E24),2) -> 0 | N24: =ROUND((I24*E24),2) -> 0 | O24: =ROUND((J24*E24),2) -> 0 | P24: =ROUND((O24+N24+M24),2) -> 0
A25: =A24+1 -> 15 | C25: Kabinets 03-10 | G25: 0 | H25: =ROUND((G25*F25),2) -> 0 | K25: =ROUND((J25+I25+H25),2) -> 0 | L25: =ROUND((F25*E25),2) -> 0 | M25: =ROUND((H25*E25),2) -> 0 | N25: =ROUND((I25*E25),2) -> 0 | O25: =ROUND((J25*E25),2) -> 0 | P25: =ROUND((O25+N25+M25),2) -> 0
A26: =A25+1 -> 16 | C26: Apgaismojuma iekārtu demontāža, t.sk. kabeļi | D26: kompl. | E26: 1 | F26: 0 | G26: 0 | H26: =ROUND((G26*F26),2) -> 0 | J26: 0 | K26: =ROUND((J26+I26+H26),2) -> 0 | L26: =ROUND((F26*E26),2) -> 0 | M26: =ROUND((H26*E26),2) -> 0 | N26: =ROUND((I26*E26),2) -> 0 | O26: =ROUND((J26*E26),2) -> 0 | P26: =ROUND((O26+N26+M26),2) -> 0
A27: =A26+1 -> 17 | C27: Ventilācijas un kondicionēšanas deflektoru (restu) demontāža/ montāža | D27: kompl. | E27: 1 | F27: 0 | G27: 0 | H27: =ROUND((G27*F27),2) -> 0 | I27: 0 | J27: 0 | K27: =ROUND((J27+I27+H27),2) -> 0 | L27: =ROUND((F27*E27),2) -> 0 | M27: =ROUND((H27*E27),2) -> 0 | N27: =ROUND((I27*E27),2) -> 0 | O27: =ROUND((J27*E27),2) -> 0 | P27: =ROUND((O27+N27+M27),2) -> 0
A28: =A27+1 -> 18 | C28: Būvgružu iznešana un utilizācija | D28: m3 | E28: 1 | F28: 0 | G28: 0 | H28: =ROUND((G28*F28),2) -> 0 | J28: 0 | K28: =ROUND((J28+I28+H28),2) -> 0 | L28: =ROUND((F28*E28),2) -> 0 | M28: =ROUND((H28*E28),2) -> 0 | N28: =ROUND((I28*E28),2) -> 0 | O28: =ROUND((J28*E28),2) -> 0 | P28: =ROUND((O28+N28+M28),2) -> 0
A29: =A28+1 -> 19 | C29: Jaunu gaismekļu uzstādīšana tai skaitā slēdžu un jaunas elektroinstalācijas ievilkšana. | D29: kompl. | E29: 1 | F29: 0 | G29: 0 | H29: =ROUND((G29*F29),2) -> 0 | I29: 0 | J29: 0 | K29: =ROUND((J29+I29+H29),2) -> 0 | L29: =ROUND((F29*E29),2) -> 0 | M29: =ROUND((H29*E29),2) -> 0 | N29: =ROUND((I29*E29),2) -> 0 | O29: =ROUND((J29*E29),2) -> 0 | P29: =ROUND((O29+N29+M29),2) -> 0
A30: =A29+1 -> 20 | C30: Sienu špaktelēšana un krāsošana, toņi: tumši pelēks, balts | D30: m2 | E30: =(5.1+3.6)*2*(3)+(5.1*3.6) -> 70.56 | F30: 0 | G30: 0 | H30: =ROUND((G30*F30),2) -> 0 | I30: 0 | J30: 0 | K30: =ROUND((J30+I30+H30),2) -> 0 | L30: =ROUND((F30*E30),2) -> 0 | M30: =ROUND((H30*E30),2) -> 0 | N30: =ROUND((I30*E30),2) -> 0 | O30: =ROUND((J30*E30),2) -> 0 | P30: =ROUND((O30+N30+M30),2) -> 0
A31: =A30+1 -> 21 | C31: Kabinets 03-7 | G31: 0 | H31: =ROUND((G31*F31),2) -> 0 | K31: =ROUND((J31+I31+H31),2) -> 0 | L31: =ROUND((F31*E31),2) -> 0 | M31: =ROUND((H31*E31),2) -> 0 | N31: =ROUND((I31*E31),2) -> 0 | O31: =ROUND((J31*E31),2) -> 0 | P31: =ROUND((O31+N31+M31),2) -> 0
A32: =A31+1 -> 22 | C32: Apgaismojuma iekārtu demontāža, t.sk. kabeļi | D32: kompl. | E32: 1 | F32: 0 | G32: 0 | H32: =ROUND((G32*F32),2) -> 0 | J32: 0 | K32: =ROUND((J32+I32+H32),2) -> 0 | L32: =ROUND((F32*E32),2) -> 0 | M32: =ROUND((H32*E32),2) -> 0 | N32: =ROUND((I32*E32),2) -> 0 | O32: =ROUND((J32*E32),2) -> 0 | P32: =ROUND((O32+N32+M32),2) -> 0
A33: =A32+1 -> 23 | C33: Ventilācijas un kondicionēšanas deflektoru (restu) demontāža/ montāža | D33: kompl. | E33: 1 | F33: 0 | G33: 0 | H33: =ROUND((G33*F33),2) -> 0 | I33: 0 | J33: 0 | K33: =ROUND((J33+I33+H33),2) -> 0 | L33: =ROUND((F33*E33),2) -> 0 | M33: =ROUND((H33*E33),2) -> 0 | N33: =ROUND((I33*E33),2) -> 0 | O33: =ROUND((J33*E33),2) -> 0 | P33: =ROUND((O33+N33+M33),2) -> 0
A34: =A33+1 -> 24 | C34: Būvgružu iznešana un utilizācija | D34: m3 | E34: 1 | F34: 0 | G34: 0 | H34: =ROUND((G34*F34),2) -> 0 | J34: 0 | K34: =ROUND((J34+I34+H34),2) -> 0 | L34: =ROUND((F34*E34),2) -> 0 | M34: =ROUND((H34*E34),2) -> 0 | N34: =ROUND((I34*E34),2) -> 0 | O34: =ROUND((J34*E34),2) -> 0 | P34: =ROUND((O34+N34+M34),2) -> 0
A35: =A34+1 -> 25 | C35: Jaunu gaismekļu uzstādīšana tai skaitā slēdžu un jaunas elektroinstalācijas ievilkšana. | D35: kompl. | E35: 1 | F35: 0 | G35: 0 | H35: =ROUND((G35*F35),2) -> 0 | I35: 0 | J35: 0 | K35: =ROUND((J35+I35+H35),2) -> 0 | L35: =ROUND((F35*E35),2) -> 0 | M35: =ROUND((H35*E35),2) -> 0 | N35: =ROUND((I35*E35),2) -> 0 | O35: =ROUND((J35*E35),2) -> 0 | P35: =ROUND((O35+N35+M35),2) -> 0
A36: =A35+1 -> 26 | C36: Sienu špaktelēšana un krāsošana, toņi: tumši pelēks, balts | D36: m2 | E36: =(5.1+2.7)*2*(3)+(5.1*2.7) -> 60.57 | F36: 0 | G36: 0 | H36: =ROUND((G36*F36),2) -> 0 | I36: 0 | J36: 0 | K36: =ROUND((J36+I36+H36),2) -> 0 | L36: =ROUND((F36*E36),2) -> 0 | M36: =ROUND((H36*E36),2) -> 0 | N36: =ROUND((I36*E36),2) -> 0 | O36: =ROUND((J36*E36),2) -> 0 | P36: =ROUND((O36+N36+M36),2) -> 0
A37: =A36+1 -> 27 | C37: Kabinets 03-6 | G37: 0 | H37: =ROUND((G37*F37),2) -> 0 | K37: =ROUND((J37+I37+H37),2) -> 0 | L37: =ROUND((F37*E37),2) -> 0 | M37: =ROUND((H37*E37),2) -> 0 | N37: =ROUND((I37*E37),2) -> 0 | O37: =ROUND((J37*E37),2) -> 0 | P37: =ROUND((O37+N37+M37),2) -> 0
A38: =A37+1 -> 28 | C38: Apgaismojuma iekārtu demontāža, t.sk. kabeļi | D38: kompl. | E38: 1 | F38: 0 | G38: 0 | H38: =ROUND((G38*F38),2) -> 0 | J38: 0 | K38: =ROUND((J38+I38+H38),2) -> 0 | L38: =ROUND((F38*E38),2) -> 0 | M38: =ROUND((H38*E38),2) -> 0 | N38: =ROUND((I38*E38),2) -> 0 | O38: =ROUND((J38*E38),2) -> 0 | P38: =ROUND((O38+N38+M38),2) -> 0
A39: =A38+1 -> 29 | C39: Ventilācijas un kondicionēšanas deflektoru (restu) demontāža/ montāža | D39: kompl. | E39: 1 | F39: 0 | G39: 0 | H39: =ROUND((G39*F39),2) -> 0 | I39: 0 | J39: 0 | K39: =ROUND((J39+I39+H39),2) -> 0 | L39: =ROUND((F39*E39),2) -> 0 | M39: =ROUND((H39*E39),2) -> 0 | N39: =ROUND((I39*E39),2) -> 0 | O39: =ROUND((J39*E39),2) -> 0 | P39: =ROUND((O39+N39+M39),2) -> 0
A40: =A39+1 -> 30 | C40: Būvgružu iznešana un utilizācija | D40: m3 | E40: 1 | F40: 0 | G40: 0 | H40: =ROUND((G40*F40),2) -> 0 | J40: 0 | K40: =ROUND((J40+I40+H40),2) -> 0 | L40: =ROUND((F40*E40),2) -> 0 | M40: =ROUND((H40*E40),2) -> 0 | N40: =ROUND((I40*E40),2) -> 0 | O40: =ROUND((J40*E40),2) -> 0 | P40: =ROUND((O40+N40+M40),2) -> 0
A41: =A40+1 -> 31 | C41: Jaunu gaismekļu uzstādīšana tai skaitā slēdžu un jaunas elektroinstalācijas ievilkšana. | D41: kompl. | E41: 1 | F41: 0 | G41: 0 | H41: =ROUND((G41*F41),2) -> 0 | I41: 0 | J41: 0 | K41: =ROUND((J41+I41+H41),2) -> 0 | L41: =ROUND((F41*E41),2) -> 0 | M41: =ROUND((H41*E41),2) -> 0 | N41: =ROUND((I41*E41),2) -> 0 | O41: =ROUND((J41*E41),2) -> 0 | P41: =ROUND((O41+N41+M41),2) -> 0
A42: =A41+1 -> 32 | C42: Sienu špaktelēšana un krāsošana, toņi: tumši pelēks, balts | D42: m2 | E42: =(5.1+1.9)*2*(3)+(5.1*1.9) -> 51.69 | F42: 0 | G42: 0 | H42: =ROUND((G42*F42),2) -> 0 | I42: 0 | J42: 0 | K42: =ROUND((J42+I42+H42),2) -> 0 | L42: =ROUND((F42*E42),2) -> 0 | M42: =ROUND((H42*E42),2) -> 0 | N42: =ROUND((I42*E42),2) -> 0 | O42: =ROUND((J42*E42),2) -> 0 | P42: =ROUND((O42+N42+M42),2) -> 0
A43: =A42+1 -> 33 | C43: Kabinets 03-5 | G43: 0 | H43: =ROUND((G43*F43),2) -> 0 | K43: =ROUND((J43+I43+H43),2) -> 0 | L43: =ROUND((F43*E43),2) -> 0 | M43: =ROUND((H43*E43),2) -> 0 | N43: =ROUND((I43*E43),2) -> 0 | O43: =ROUND((J43*E43),2) -> 0 | P43: =ROUND((O43+N43+M43),2) -> 0
A44: =A43+1 -> 34 | C44: Apgaismojuma iekārtu demontāža, t.sk. kabeļi | D44: kompl. | E44: 1 | F44: 0 | G44: 0 | H44: =ROUND((G44*F44),2) -> 0 | J44: 0 | K44: =ROUND((J44+I44+H44),2) -> 0 | L44: =ROUND((F44*E44),2) -> 0 | M44: =ROUND((H44*E44),2) -> 0 | N44: =ROUND((I44*E44),2) -> 0 | O44: =ROUND((J44*E44),2) -> 0 | P44: =ROUND((O44+N44+M44),2) -> 0
A45: =A44+1 -> 35 | C45: Ventilācijas un kondicionēšanas deflektoru (restu) demontāža/ montāža | D45: kompl. | E45: 1 | F45: 0 | G45: 0 | H45: =ROUND((G45*F45),2) -> 0 | I45: 0 | J45: 0 | K45: =ROUND((J45+I45+H45),2) -> 0 | L45: =ROUND((F45*E45),2) -> 0 | M45: =ROUND((H45*E45),2) -> 0 | N45: =ROUND((I45*E45),2) -> 0 | O45: =ROUND((J45*E45),2) -> 0 | P45: =ROUND((O45+N45+M45),2) -> 0
A46: =A45+1 -> 36 | C46: Būvgružu iznešana un utilizācija | D46: m3 | E46: 1 | F46: 0 | G46: 0 | H46: =ROUND((G46*F46),2) -> 0 | J46: 0 | K46: =ROUND((J46+I46+H46),2) -> 0 | L46: =ROUND((F46*E46),2) -> 0 | M46: =ROUND((H46*E46),2) -> 0 | N46: =ROUND((I46*E46),2) -> 0 | O46: =ROUND((J46*E46),2) -> 0 | P46: =ROUND((O46+N46+M46),2) -> 0
A47: =A46+1 -> 37 | C47: Jaunu gaismekļu uzstādīšana tai skaitā slēdžu un jaunas elektroinstalācijas ievilkšana. | D47: kompl. | E47: 1 | F47: 0 | G47: 0 | H47: =ROUND((G47*F47),2) -> 0 | I47: 0 | J47: 0 | K47: =ROUND((J47+I47+H47),2) -> 0 | L47: =ROUND((F47*E47),2) -> 0 | M47: =ROUND((H47*E47),2) -> 0 | N47: =ROUND((I47*E47),2) -> 0 | O47: =ROUND((J47*E47),2) -> 0 | P47: =ROUND((O47+N47+M47),2) -> 0
A48: =A47+1 -> 38 | C48: Sienu špaktelēšana un krāsošana, toņi: tumši pelēks, balts | D48: m2 | E48: =(5.1+2.24)*2*(3)+(5.1*2.24) -> 55.464 | F48: 0 | G48: 0 | H48: =ROUND((G48*F48),2) -> 0 | I48: 0 | J48: 0 | K48: =ROUND((J48+I48+H48),2) -> 0 | L48: =ROUND((F48*E48),2) -> 0 | M48: =ROUND((H48*E48),2) -> 0 | N48: =ROUND((I48*E48),2) -> 0 | O48: =ROUND((J48*E48),2) -> 0 | P48: =ROUND((O48+N48+M48),2) -> 0
A49: =A48+1 -> 39 | C49: Kabinets 03-4 | G49: 0 | H49: =ROUND((G49*F49),2) -> 0 | K49: =ROUND((J49+I49+H49),2) -> 0 | L49: =ROUND((F49*E49),2) -> 0 | M49: =ROUND((H49*E49),2) -> 0 | N49: =ROUND((I49*E49),2) -> 0 | O49: =ROUND((J49*E49),2) -> 0 | P49: =ROUND((O49+N49+M49),2) -> 0
A50: =A49+1 -> 40 | C50: Apgaismojuma iekārtu demontāža, t.sk. kabeļi | D50: kompl. | E50: 1 | F50: 0 | G50: 0 | H50: =ROUND((G50*F50),2) -> 0 | J50: 0 | K50: =ROUND((J50+I50+H50),2) -> 0 | L50: =ROUND((F50*E50),2) -> 0 | M50: =ROUND((H50*E50),2) -> 0 | N50: =ROUND((I50*E50),2) -> 0 | O50: =ROUND((J50*E50),2) -> 0 | P50: =ROUND((O50+N50+M50),2) -> 0
A51: =A50+1 -> 41 | C51: Ventilācijas un kondicionēšanas deflektoru (restu) demontāža/ montāža | D51: kompl. | E51: 1 | F51: 0 | G51: 0 | H51: =ROUND((G51*F51),2) -> 0 | I51: 0 | J51: 0 | K51: =ROUND((J51+I51+H51),2) -> 0 | L51: =ROUND((F51*E51),2) -> 0 | M51: =ROUND((H51*E51),2) -> 0 | N51: =ROUND((I51*E51),2) -> 0 | O51: =ROUND((J51*E51),2) -> 0 | P51: =ROUND((O51+N51+M51),2) -> 0
A52: =A51+1 -> 42 | C52: Būvgružu iznešana un utilizācija | D52: m3 | E52: 1 | F52: 0 | G52: 0 | H52: =ROUND((G52*F52),2) -> 0 | J52: 0 | K52: =ROUND((J52+I52+H52),2) -> 0 | L52: =ROUND((F52*E52),2) -> 0 | M52: =ROUND((H52*E52),2) -> 0 | N52: =ROUND((I52*E52),2) -> 0 | O52: =ROUND((J52*E52),2) -> 0 | P52: =ROUND((O52+N52+M52),2) -> 0
A53: =A52+1 -> 43 | C53: Jaunu gaismekļu uzstādīšana tai skaitā slēdžu un jaunas elektroinstalācijas ievilkšana. | D53: kompl. | E53: 1 | F53: 0 | G53: 0 | H53: =ROUND((G53*F53),2) -> 0 | I53: 0 | J53: 0 | K53: =ROUND((J53+I53+H53),2) -> 0 | L53: =ROUND((F53*E53),2) -> 0 | M53: =ROUND((H53*E53),2) -> 0 | N53: =ROUND((I53*E53),2) -> 0 | O53: =ROUND((J53*E53),2) -> 0 | P53: =ROUND((O53+N53+M53),2) -> 0
A54: =A53+1 -> 44 | C54: Sienu špaktelēšana un krāsošana, toņi: tumši pelēks, balts | D54: m2 | E54: =(5.1+3.84)*2*(3)+(5.1*3.84) -> 73.224 | F54: 0 | G54: 0 | H54: =ROUND((G54*F54),2) -> 0 | I54: 0 | J54: 0 | K54: =ROUND((J54+I54+H54),2) -> 0 | L54: =ROUND((F54*E54),2) -> 0 | M54: =ROUND((H54*E54),2) -> 0 | N54: =ROUND((I54*E54),2) -> 0 | O54: =ROUND((J54*E54),2) -> 0 | P54: =ROUND((O54+N54+M54),2) -> 0
A55: =A54+1 -> 45 | C55: Kabinets 03-2 | G55: 0 | H55: =ROUND((G55*F55),2) -> 0 | K55: =ROUND((J55+I55+H55),2) -> 0 | L55: =ROUND((F55*E55),2) -> 0 | M55: =ROUND((H55*E55),2) -> 0 | N55: =ROUND((I55*E55),2) -> 0 | O55: =ROUND((J55*E55),2) -> 0 | P55: =ROUND((O55+N55+M55),2) -> 0
A56: =A55+1 -> 46 | C56: Apgaismojuma iekārtu demontāža, t.sk. kabeļi | D56: kompl. | E56: 1 | F56: 0 | G56: 0 | H56: =ROUND((G56*F56),2) -> 0 | J56: 0 | K56: =ROUND((J56+I56+H56),2) -> 0 | L56: =ROUND((F56*E56),2) -> 0 | M56: =ROUND((H56*E56),2) -> 0 | N56: =ROUND((I56*E56),2) -> 0 | O56: =ROUND((J56*E56),2) -> 0 | P56: =ROUND((O56+N56+M56),2) -> 0
A57: =A56+1 -> 47 | C57: Ventilācijas un kondicionēšanas deflektoru (restu) demontāža/ montāža | D57: kompl. | E57: 1 | F57: 0 | G57: 0 | H57: =ROUND((G57*F57),2) -> 0 | I57: 0 | J57: 0 | K57: =ROUND((J57+I57+H57),2) -> 0 | L57: =ROUND((F57*E57),2) -> 0 | M57: =ROUND((H57*E57),2) -> 0 | N57: =ROUND((I57*E57),2) -> 0 | O57: =ROUND((J57*E57),2) -> 0 | P57: =ROUND((O57+N57+M57),2) -> 0
A58: =A57+1 -> 48 | C58: Būvgružu iznešana un utilizācija | D58: m3 | E58: 1 | F58: 0 | G58: 0 | H58: =ROUND((G58*F58),2) -> 0 | J58: 0 | K58: =ROUND((J58+I58+H58),2) -> 0 | L58: =ROUND((F58*E58),2) -> 0 | M58: =ROUND((H58*E58),2) -> 0 | N58: =ROUND((I58*E58),2) -> 0 | O58: =ROUND((J58*E58),2) -> 0 | P58: =ROUND((O58+N58+M58),2) -> 0
A59: =A58+1 -> 49 | C59: Jaunu gaismekļu uzstādīšana tai skaitā slēdžu un jaunas elektroinstalācijas ievilkšana. | D59: kompl. | E59: 1 | F59: 0 | G59: 0 | H59: =ROUND((G59*F59),2) -> 0 | I59: 0 | J59: 0 | K59: =ROUND((J59+I59+H59),2) -> 0 | L59: =ROUND((F59*E59),2) -> 0 | M59: =ROUND((H59*E59),2) -> 0 | N59: =ROUND((I59*E59),2) -> 0 | O59: =ROUND((J59*E59),2) -> 0 | P59: =ROUND((O59+N59+M59),2) -> 0
A60: =A59+1 -> 50 | C60: Sienu špaktelēšana un krāsošana, toņi: tumši pelēks, balts | D60: m2 | E60: =(5.1+4.2)*2*(3)+(5.1*4.2) -> 77.22 | F60: 0 | G60: 0 | H60: =ROUND((G60*F60),2) -> 0 | I60: 0 | J60: 0 | K60: =ROUND((J60+I60+H60),2) -> 0 | L60: =ROUND((F60*E60),2) -> 0 | M60: =ROUND((H60*E60),2) -> 0 | N60: =ROUND((I60*E60),2) -> 0 | O60: =ROUND((J60*E60),2) -> 0 | P60: =ROUND((O60+N60+M60),2) -> 0
A61: =A60+1 -> 51 | C61: Kabinets 03-83 | G61: 0 | H61: 0 | K61: =ROUND((J61+I61+H61),2) -> 0 | L61: =ROUND((F61*E61),2) -> 0 | M61: =ROUND((H61*E61),2) -> 0 | N61: =ROUND((I61*E61),2) -> 0 | O61: =ROUND((J61*E61),2) -> 0 | P61: =ROUND((O61+N61+M61),2) -> 0
A62: =A61+1 -> 52 | C62: Apgaismojuma iekārtu demontāža, t.sk. kabeļi | D62: kompl. | E62: 1 | F62: 0 | G62: 0 | H62: 0 | J62: 0 | K62: =ROUND((J62+I62+H62),2) -> 0 | L62: =ROUND((F62*E62),2) -> 0 | M62: =ROUND((H62*E62),2) -> 0 | N62: =ROUND((I62*E62),2) -> 0 | O62: =ROUND((J62*E62),2) -> 0 | P62: =ROUND((O62+N62+M62),2) -> 0
A63: =A62+1 -> 53 | C63: Ventilācijas un kondicionēšanas deflektoru (restu) demontāža/ montāža | D63: kompl. | E63: 1 | F63: 0 | G63: 0 | H63: 0 | I63: 0 | J63: 0 | K63: =ROUND((J63+I63+H63),2) -> 0 | L63: =ROUND((F63*E63),2) -> 0 | M63: =ROUND((H63*E63),2) -> 0 | N63: =ROUND((I63*E63),2) -> 0 | O63: =ROUND((J63*E63),2) -> 0 | P63: =ROUND((O63+N63+M63),2) -> 0
A64: =A63+1 -> 54 | C64: Būvgružu iznešana un utilizācija | D64: m3 | E64: 1 | F64: 0 | G64: 0 | H64: 0 | J64: 0 | K64: =ROUND((J64+I64+H64),2) -> 0 | L64: =ROUND((F64*E64),2) -> 0 | M64: =ROUND((H64*E64),2) -> 0 | N64: =ROUND((I64*E64),2) -> 0 | O64: =ROUND((J64*E64),2) -> 0 | P64: =ROUND((O64+N64+M64),2) -> 0
A65: =A64+1 -> 55 | C65: Jaunu gaismekļu uzstādīšana tai skaitā slēdžu un jaunas elektroinstalācijas ievilkšana. | D65: kompl. | E65: 1 | F65: 0 | G65: 0 | H65: 0 | I65: 0 | J65: 0 | K65: =ROUND((J65+I65+H65),2) -> 0 | L65: =ROUND((F65*E65),2) -> 0 | M65: =ROUND((H65*E65),2) -> 0 | N65: =ROUND((I65*E65),2) -> 0 | O65: =ROUND((J65*E65),2) -> 0 | P65: =ROUND((O65+N65+M65),2) -> 0
A66: =A65+1 -> 56 | C66: Sienu špaktelēšana un krāsošana, toņi: tumši pelēks, balts | D66: m2 | E66: =(4+3.2)*2*(3)+(4*3.2) -> 56 | F66: 0 | G66: 0 | H66: 0 | I66: 0 | J66: 0 | K66: =ROUND((J66+I66+H66),2) -> 0 | L66: =ROUND((F66*E66),2) -> 0 | M66: =ROUND((H66*E66),2) -> 0 | N66: =ROUND((I66*E66),2) -> 0 | O66: =ROUND((J66*E66),2) -> 0 | P66: =ROUND((O66+N66+M66),2) -> 0
A67: =A66+1 -> 57 | C67: Kabinets 03-83 | G67: 0 | H67: 0 | K67: =ROUND((J67+I67+H67),2) -> 0 | L67: =ROUND((F67*E67),2) -> 0 | M67: =ROUND((H67*E67),2) -> 0 | N67: =ROUND((I67*E67),2) -> 0 | O67: =ROUND((J67*E67),2) -> 0 | P67: =ROUND((O67+N67+M67),2) -> 0
A68: =A67+1 -> 58 | C68: Apgaismojuma iekārtu demontāža, t.sk. kabeļi | D68: kompl. | E68: 1 | F68: 0 | G68: 0 | H68: 0 | J68: 0 | K68: =ROUND((J68+I68+H68),2) -> 0 | L68: =ROUND((F68*E68),2) -> 0 | M68: =ROUND((H68*E68),2) -> 0 | N68: =ROUND((I68*E68),2) -> 0 | O68: =ROUND((J68*E68),2) -> 0 | P68: =ROUND((O68+N68+M68),2) -> 0
A69: =A68+1 -> 59 | C69: Ventilācijas un kondicionēšanas deflektoru (restu) demontāža/ montāža | D69: kompl. | E69: 1 | F69: 0 | G69: 0 | H69: 0 | I69: 0 | J69: 0 | K69: =ROUND((J69+I69+H69),2) -> 0 | L69: =ROUND((F69*E69),2) -> 0 | M69: =ROUND((H69*E69),2) -> 0 | N69: =ROUND((I69*E69),2) -> 0 | O69: =ROUND((J69*E69),2) -> 0 | P69: =ROUND((O69+N69+M69),2) -> 0
A70: =A69+1 -> 60 | C70: Būvgružu iznešana un utilizācija | D70: m3 | E70: 1 | F70: 0 | G70: 0 | H70: 0 | J70: 0 | K70: =ROUND((J70+I70+H70),2) -> 0 | L70: =ROUND((F70*E70),2) -> 0 | M70: =ROUND((H70*E70),2) -> 0 | N70: =ROUND((I70*E70),2) -> 0 | O70: =ROUND((J70*E70),2) -> 0 | P70: =ROUND((O70+N70+M70),2) -> 0
A71: =A70+1 -> 61 | C71: Jaunu gaismekļu uzstādīšana tai skaitā slēdžu un jaunas elektroinstalācijas ievilkšana. | D71: kompl. | E71: 1 | F71: 0 | G71: 0 | H71: 0 | I71: 0 | J71: 0 | K71: =ROUND((J71+I71+H71),2) -> 0 | L71: =ROUND((F71*E71),2) -> 0 | M71: =ROUND((H71*E71),2) -> 0 | N71: =ROUND((I71*E71),2) -> 0 | O71: =ROUND((J71*E71),2) -> 0 | P71: =ROUND((O71+N71+M71),2) -> 0
A72: =A71+1 -> 62 | C72: Sienu špaktelēšana un krāsošana, toņi: tumši pelēks, balts | D72: m2 | E72: =(4+1.83)*2*(3)+(4*1.83) -> 42.3 | F72: 0 | G72: 0 | H72: 0 | I72: 0 | J72: 0 | K72: =ROUND((J72+I72+H72),2) -> 0 | L72: =ROUND((F72*E72),2) -> 0 | M72: =ROUND((H72*E72),2) -> 0 | N72: =ROUND((I72*E72),2) -> 0 | O72: =ROUND((J72*E72),2) -> 0 | P72: =ROUND((O72+N72+M72),2) -> 0
A73: =A72+1 -> 63 | C73: Kabinets 03-82 | G73: 0 | H73: 0 | K73: =ROUND((J73+I73+H73),2) -> 0 | L73: =ROUND((F73*E73),2) -> 0 | M73: =ROUND((H73*E73),2) -> 0 | N73: =ROUND((I73*E73),2) -> 0 | O73: =ROUND((J73*E73),2) -> 0 | P73: =ROUND((O73+N73+M73),2) -> 0
A74: =A73+1 -> 64 | C74: Apgaismojuma iekārtu demontāža, t.sk. kabeļi | D74: kompl. | E74: 1 | F74: 0 | G74: 0 | H74: 0 | J74: 0 | K74: =ROUND((J74+I74+H74),2) -> 0 | L74: =ROUND((F74*E74),2) -> 0 | M74: =ROUND((H74*E74),2) -> 0 | N74: =ROUND((I74*E74),2) -> 0 | O74: =ROUND((J74*E74),2) -> 0 | P74: =ROUND((O74+N74+M74),2) -> 0
A75: =A74+1 -> 65 | C75: Ventilācijas un kondicionēšanas deflektoru (restu) demontāža/ montāža | D75: kompl. | E75: 1 | F75: 0 | G75: 0 | H75: 0 | I75: 0 | J75: 0 | K75: =ROUND((J75+I75+H75),2) -> 0 | L75: =ROUND((F75*E75),2) -> 0 | M75: =ROUND((H75*E75),2) -> 0 | N75: =ROUND((I75*E75),2) -> 0 | O75: =ROUND((J75*E75),2) -> 0 | P75: =ROUND((O75+N75+M75),2) -> 0
A76: =A75+1 -> 66 | C76: Būvgružu iznešana un utilizācija | D76: m3 | E76: 1 | F76: 0 | G76: 0 | H76: 0 | J76: 0 | K76: =ROUND((J76+I76+H76),2) -> 0 | L76: =ROUND((F76*E76),2) -> 0 | M76: =ROUND((H76*E76),2) -> 0 | N76: =ROUND((I76*E76),2) -> 0 | O76: =ROUND((J76*E76),2) -> 0 | P76: =ROUND((O76+N76+M76),2) -> 0
A77: =A76+1 -> 67 | C77: Jaunu gaismekļu uzstādīšana tai skaitā slēdžu un jaunas elektroinstalācijas ievilkšana. | D77: kompl. | E77: 1 | F77: 0 | G77: 0 | H77: 0 | I77: 0 | J77: 0 | K77: =ROUND((J77+I77+H77),2) -> 0 | L77: =ROUND((F77*E77),2) -> 0 | M77: =ROUND((H77*E77),2) -> 0 | N77: =ROUND((I77*E77),2) -> 0 | O77: =ROUND((J77*E77),2) -> 0 | P77: =ROUND((O77+N77+M77),2) -> 0
A78: =A77+1 -> 68 | C78: Sienu špaktelēšana un krāsošana, toņi: tumši pelēks, balts | D78: m2 | E78: =(5.1+3.65)*2*(3)+(5.1*3.65) -> 71.115 | F78: 0 | G78: 0 | H78: 0 | I78: 0 | J78: 0 | K78: =ROUND((J78+I78+H78),2) -> 0 | L78: =ROUND((F78*E78),2) -> 0 | M78: =ROUND((H78*E78),2) -> 0 | N78: =ROUND((I78*E78),2) -> 0 | O78: =ROUND((J78*E78),2) -> 0 | P78: =ROUND((O78+N78+M78),2) -> 0
A79: =A78+1 -> 69 | C79: Kabinets 03-11 | G79: 0 | H79: 0 | K79: =ROUND((J79+I79+H79),2) -> 0 | L79: =ROUND((F79*E79),2) -> 0 | M79: =ROUND((H79*E79),2) -> 0 | N79: =ROUND((I79*E79),2) -> 0 | O79: =ROUND((J79*E79),2) -> 0 | P79: =ROUND((O79+N79+M79),2) -> 0
A80: =A79+1 -> 70 | C80: Apgaismojuma iekārtu demontāža, t.sk. kabeļi | D80: kompl. | E80: 1 | F80: 0 | G80: 0 | H80: 0 | J80: 0 | K80: =ROUND((J80+I80+H80),2) -> 0 | L80: =ROUND((F80*E80),2) -> 0 | M80: =ROUND((H80*E80),2) -> 0 | N80: =ROUND((I80*E80),2) -> 0 | O80: =ROUND((J80*E80),2) -> 0 | P80: =ROUND((O80+N80+M80),2) -> 0
A81: =A80+1 -> 71 | C81: Ventilācijas un kondicionēšanas deflektoru (restu) demontāža/ montāža | D81: kompl. | E81: 1 | F81: 0 | G81: 0 | H81: 0 | I81: 0 | J81: 0 | K81: =ROUND((J81+I81+H81),2) -> 0 | L81: =ROUND((F81*E81),2) -> 0 | M81: =ROUND((H81*E81),2) -> 0 | N81: =ROUND((I81*E81),2) -> 0 | O81: =ROUND((J81*E81),2) -> 0 | P81: =ROUND((O81+N81+M81),2) -> 0
A82: =A81+1 -> 72 | C82: Būvgružu iznešana un utilizācija | D82: m3 | E82: 1 | F82: 0 | G82: 0 | H82: 0 | J82: 0 | K82: =ROUND((J82+I82+H82),2) -> 0 | L82: =ROUND((F82*E82),2) -> 0 | M82: =ROUND((H82*E82),2) -> 0 | N82: =ROUND((I82*E82),2) -> 0 | O82: =ROUND((J82*E82),2) -> 0 | P82: =ROUND((O82+N82+M82),2) -> 0
A83: =A82+1 -> 73 | C83: Jaunu gaismekļu uzstādīšana tai skaitā slēdžu un jaunas elektroinstalācijas ievilkšana. | D83: kompl. | E83: 1 | F83: 0 | G83: 0 | H83: 0 | I83: 0 | J83: 0 | K83: =ROUND((J83+I83+H83),2) -> 0 | L83: =ROUND((F83*E83),2) -> 0 | M83: =ROUND((H83*E83),2) -> 0 | N83: =ROUND((I83*E83),2) -> 0 | O83: =ROUND((J83*E83),2) -> 0 | P83: =ROUND((O83+N83+M83),2) -> 0
A84: =A83+1 -> 74 | C84: Sienu špaktelēšana un krāsošana, toņi: tumši pelēks, balts | D84: m2 | E84: =(5.1+3.8)*2*(3)+(5.1*3.8) -> 72.78 | F84: 0 | G84: 0 | H84: 0 | I84: 0 | J84: 0 | K84: =ROUND((J84+I84+H84),2) -> 0 | L84: =ROUND((F84*E84),2) -> 0 | M84: =ROUND((H84*E84),2) -> 0 | N84: =ROUND((I84*E84),2) -> 0 | O84: =ROUND((J84*E84),2) -> 0 | P84: =ROUND((O84+N84+M84),2) -> 0
A85: =A84+1 -> 75 | C85: Kabinets 03-17 | G85: 0 | H85: 0 | K85: =ROUND((J85+I85+H85),2) -> 0 | L85: =ROUND((F85*E85),2) -> 0 | M85: =ROUND((H85*E85),2) -> 0 | N85: =ROUND((I85*E85),2) -> 0 | O85: =ROUND((J85*E85),2) -> 0 | P85: =ROUND((O85+N85+M85),2) -> 0
A86: =A85+1 -> 76 | C86: Apgaismojuma iekārtu demontāža, t.sk. kabeļi | D86: kompl. | E86: 1 | F86: 0 | G86: 0 | H86: 0 | J86: 0 | K86: =ROUND((J86+I86+H86),2) -> 0 | L86: =ROUND((F86*E86),2) -> 0 | M86: =ROUND((H86*E86),2) -> 0 | N86: =ROUND((I86*E86),2) -> 0 | O86: =ROUND((J86*E86),2) -> 0 | P86: =ROUND((O86+N86+M86),2) -> 0
A87: =A86+1 -> 77 | C87: Ventilācijas un kondicionēšanas deflektoru (restu) demontāža/ montāža | D87: kompl. | E87: 1 | F87: 0 | G87: 0 | H87: 0 | I87: 0 | J87: 0 | K87: =ROUND((J87+I87+H87),2) -> 0 | L87: =ROUND((F87*E87),2) -> 0 | M87: =ROUND((H87*E87),2) -> 0 | N87: =ROUND((I87*E87),2) -> 0 | O87: =ROUND((J87*E87),2) -> 0 | P87: =ROUND((O87+N87+M87),2) -> 0
A88: =A87+1 -> 78 | C88: Būvgružu iznešana un utilizācija | D88: m3 | E88: 1 | F88: 0 | G88: 0 | H88: 0 | J88: 0 | K88: =ROUND((J88+I88+H88),2) -> 0 | L88: =ROUND((F88*E88),2) -> 0 | M88: =ROUND((H88*E88),2) -> 0 | N88: =ROUND((I88*E88),2) -> 0 | O88: =ROUND((J88*E88),2) -> 0 | P88: =ROUND((O88+N88+M88),2) -> 0
A89: =A88+1 -> 79 | C89: Jaunu gaismekļu uzstādīšana tai skaitā slēdžu un jaunas elektroinstalācijas ievilkšana. | D89: kompl. | E89: 1 | F89: 0 | G89: 0 | H89: 0 | I89: 0 | J89: 0 | K89: =ROUND((J89+I89+H89),2) -> 0 | L89: =ROUND((F89*E89),2) -> 0 | M89: =ROUND((H89*E89),2) -> 0 | N89: =ROUND((I89*E89),2) -> 0 | O89: =ROUND((J89*E89),2) -> 0 | P89: =ROUND((O89+N89+M89),2) -> 0
A90: =A89+1 -> 80 | C90: Sienu špaktelēšana un krāsošana, toņi: tumši pelēks, balts | D90: m2 | E90: =(5.1+4.5)*2*(3)+(5.1*4.5) -> 80.55 | F90: 0 | G90: 0 | H90: 0 | I90: 0 | J90: 0 | K90: =ROUND((J90+I90+H90),2) -> 0 | L90: =ROUND((F90*E90),2) -> 0 | M90: =ROUND((H90*E90),2) -> 0 | N90: =ROUND((I90*E90),2) -> 0 | O90: =ROUND((J90*E90),2) -> 0 | P90: =ROUND((O90+N90+M90),2) -> 0
A91: =A90+1 -> 81 | C91: Kabinets 03-19 | G91: 0 | H91: 0 | K91: =ROUND((J91+I91+H91),2) -> 0 | L91: =ROUND((F91*E91),2) -> 0 | M91: =ROUND((H91*E91),2) -> 0 | N91: =ROUND((I91*E91),2) -> 0 | O91: =ROUND((J91*E91),2) -> 0 | P91: =ROUND((O91+N91+M91),2) -> 0
A92: =A91+1 -> 82 | C92: Apgaismojuma iekārtu demontāža, t.sk. kabeļi | D92: kompl. | E92: 1 | F92: 0 | G92: 0 | H92: 0 | J92: 0 | K92: =ROUND((J92+I92+H92),2) -> 0 | L92: =ROUND((F92*E92),2) -> 0 | M92: =ROUND((H92*E92),2) -> 0 | N92: =ROUND((I92*E92),2) -> 0 | O92: =ROUND((J92*E92),2) -> 0 | P92: =ROUND((O92+N92+M92),2) -> 0
A93: =A92+1 -> 83 | C93: Ventilācijas un kondicionēšanas deflektoru (restu) demontāža/ montāža | D93: kompl. | E93: 1 | F93: 0 | G93: 0 | H93: 0 | I93: 0 | J93: 0 | K93: =ROUND((J93+I93+H93),2) -> 0 | L93: =ROUND((F93*E93),2) -> 0 | M93: =ROUND((H93*E93),2) -> 0 | N93: =ROUND((I93*E93),2) -> 0 | O93: =ROUND((J93*E93),2) -> 0 | P93: =ROUND((O93+N93+M93),2) -> 0
A94: =A93+1 -> 84 | C94: Būvgružu iznešana un utilizācija | D94: m3 | E94: 1 | F94: 0 | G94: 0 | H94: 0 | J94: 0 | K94: =ROUND((J94+I94+H94),2) -> 0 | L94: =ROUND((F94*E94),2) -> 0 | M94: =ROUND((H94*E94),2) -> 0 | N94: =ROUND((I94*E94),2) -> 0 | O94: =ROUND((J94*E94),2) -> 0 | P94: =ROUND((O94+N94+M94),2) -> 0
A95: =A94+1 -> 85 | C95: Jaunu gaismekļu uzstādīšana tai skaitā slēdžu un jaunas elektroinstalācijas ievilkšana. | D95: kompl. | E95: 1 | F95: 0 | G95: 0 | H95: 0 | I95: 0 | J95: 0 | K95: =ROUND((J95+I95+H95),2) -> 0 | L95: =ROUND((F95*E95),2) -> 0 | M95: =ROUND((H95*E95),2) -> 0 | N95: =ROUND((I95*E95),2) -> 0 | O95: =ROUND((J95*E95),2) -> 0 | P95: =ROUND((O95+N95+M95),2) -> 0
A96: =A95+1 -> 86 | C96: Sienu špaktelēšana un krāsošana, toņi: tumši pelēks, balts | D96: m2 | E96: =(5.1+3.05)*2*(3)+(5.1*3.05) -> 64.455 | F96: 0 | G96: 0 | H96: 0 | I96: 0 | J96: 0 | K96: =ROUND((J96+I96+H96),2) -> 0 | L96: =ROUND((F96*E96),2) -> 0 | M96: =ROUND((H96*E96),2) -> 0 | N96: =ROUND((I96*E96),2) -> 0 | O96: =ROUND((J96*E96),2) -> 0 | P96: =ROUND((O96+N96+M96),2) -> 0
A97: =A96+1 -> 87 | C97: Durvis | G97: 0 | H97: =ROUND((G97*F97),2) -> 0 | K97: =ROUND((J97+I97+H97),2) -> 0 | L97: =ROUND((F97*E97),2) -> 0 | M97: =ROUND((H97*E97),2) -> 0 | N97: =ROUND((I97*E97),2) -> 0 | O97: =ROUND((J97*E97),2) -> 0 | P97: =ROUND((O97+N97+M97),2) -> 0
A98: =A97+1 -> 88 | C98: D-1, 1000*2100 mm, finierētas,ar hpl pārklājumu ner. tērauda furnitūra (enģes 3 gab, slēdzene, rokturis, cilindrs), tai skaitā aiļu apdare | D98: gab | E98: 21 | F98: 0 | G98: 0 | H98: =ROUND((G98*F98),2) -> 0 | I98: 0 | J98: 0 | K98: =ROUND((J98+I98+H98),2) -> 0 | L98: =ROUND((F98*E98),2) -> 0 | M98: =ROUND((H98*E98),2) -> 0 | N98: =ROUND((I98*E98),2) -> 0 | O98: =ROUND((J98*E98),2) -> 0 | P98: =ROUND((O98+N98+M98),2) -> 0
A99: =A98+1 -> 89 | C99: Grīda | G99: 0 | H99: =ROUND((G99*F99),2) -> 0 | K99: =ROUND((J99+I99+H99),2) -> 0 | L99: =ROUND((F99*E99),2) -> 0 | M99: =ROUND((H99*E99),2) -> 0 | N99: =ROUND((I99*E99),2) -> 0 | O99: =ROUND((J99*E99),2) -> 0 | P99: =ROUND((O99+N99+M99),2) -> 0
A100: =A99+1 -> 90 | C100: Grīdas izlīdzināšana ar pašizlīdzināšo sastāvu | D100: m2 | E100: 97.5 | F100: 0 | G100: 0 | H100: =ROUND((G100*F100),2) -> 0 | I100: 0 | J100: 0 | K100: =ROUND((J100+I100+H100),2) -> 0 | L100: =ROUND((F100*E100),2) -> 0 | M100: =ROUND((H100*E100),2) -> 0 | N100: =ROUND((I100*E100),2) -> 0 | O100: =ROUND((J100*E100),2) -> 0 | P100: =ROUND((O100+N100+M100),2) -> 0
A101: =A100+1 -> 91 | C101: Linoleja ieklāšana ar uzlocījumu uz sienas 100 mm | D101: m2 | E101: =E100*1.15 -> 112.125 | F101: 0 | G101: 0 | H101: =ROUND((G101*F101),2) -> 0 | I101: 0 | J101: 0 | K101: =ROUND((J101+I101+H101),2) -> 0 | L101: =ROUND((F101*E101),2) -> 0 | M101: =ROUND((H101*E101),2) -> 0 | N101: =ROUND((I101*E101),2) -> 0 | O101: =ROUND((J101*E101),2) -> 0 | P101: =ROUND((O101+N101+M101),2) -> 0
A102: =A101+1 -> 92 | C102: Dažadi darbi | G102: 0 | H102: =ROUND((G102*F102),2) -> 0 | K102: =ROUND((J102+I102+H102),2) -> 0 | L102: =ROUND((F102*E102),2) -> 0 | M102: =ROUND((H102*E102),2) -> 0 | N102: =ROUND((I102*E102),2) -> 0 | O102: =ROUND((J102*E102),2) -> 0 | P102: =ROUND((O102+N102+M102),2) -> 0
...
