Workbook

Sheet Obligātās prasības
B1: 2.pielikums Atklāta konkursa “Laboratorijas aprīkojuma (t.sk. reaģentu) iegāde histoloģijas laboratorijas attīstībai un tā tehniskā apkope” BKUS 2026/48 nolikumam Tehniskā specifikācija ar 2026.gada 26.augusta grozījumiem konsolidētā versija
A2: nr. | B2: Obligātās prasības iekārtām un iesniegtajam piedāvājumam
C3: 1. pozīcija - Pusautomātiskais rotācijas mikrotoms | D3: 2. pozīcija - Ūdens vanna | E3: 3. pozīcija - Kompakta brīvi stāvoša dzesējoša plāksne | F3: 4. pozīcija - Kompakta brīvi stāvoša sildoša plāksne | G3: 5. pozīcija - Parafīna iekapsulēšanas stacija histoloģiskajām kasetēm | H3: 6. pozīcija - Automātiskais audu procesors | I3: 7. pozīcija - Ātrās sasaldēšanas iekārta audu griezumu sagatavošanai | J3: 8. pozīcija - Gaismas mikroskops ar manuāli pagriežamu objektīvu revolveri | K3: 9. pozīcija - Histoloģisko kasešu printeris | L3: 10. pozīcija - Gaismas mikroskops ar motoriski pagriežamu objektīvu revolveri
A4: Piemērs | B4: Piemērs | C4: "-"(gadījumos, ja nepiesakās uz pozīciju) | D4: "-"(gadījumos, ja nepiesakās uz pozīciju) | E4: "-"(gadījumos, ja nepiesakās uz pozīciju) | F4: "-"(gadījumos, ja nepiesakās uz pozīciju) | G4: "-"(gadījumos, ja nepiesakās uz pozīciju) | H4: "-"(gadījumos, ja nepiesakās uz pozīciju) | I4: "-"(gadījumos, ja nepiesakās uz pozīciju) | J4: "-"(gadījumos, ja nepiesakās uz pozīciju) | K4: "-"(gadījumos, ja nepiesakās uz pozīciju) | L4: "-"(gadījumos, ja nepiesakās uz pozīciju)
A5: Piedāvājumam jāpievieno:
A6: 1 | B6: Preces ražotāja izsniegta autorizācijas vēstule, kas apliecina, ka pretendents ir tiesīgs izplatīt un nodrošināt tehnisko apkalpošanu* piedāvātai Precei Latvijas Republikā. Vai arī ražotāja apliecinājums, ka autorizācija nav nepieciešama.
A7: 2 | B7: Piedāvātas Preces atbilstības deklarācijas kopija.
A8: 3 | B8: Piedāvātas Preces CE sertifikāta kopija, ja attiecināms.
A9: 4 | B9: Ja ražotājs ir paredzējis, ka periodiski veicamos darbus** un/vai remontu var veikt tikai sertificēts inženieris, piesakoties uz atbilstošo pozīciju, jāiesniedz atbilstošs inženiera sertifikāts par apmācībām, kurās norādīta atbilstība veikt konkrētā modeļa ierīču periodiskos darbus un/vai remontu vai iesniegt ražotāja apliecinājumu par Preces garantijas remonta un tehniskās apkalpošanas pasākumu, ja tādi ir nepieciešami, nodrošināšanas iespējām.
A10: 5 | B10: Ražotāja apstiprinātu periodiski veicamo darbu sarakstu, kā arī šo darbu periodiskumu (servisa rokasgrāmatas attiecīgās sadaļas ar ietvertu informāciju par veicamajām darbībām, to periodiskumu, mērāmajiem parametriem, to robežvērtībām, regulāri maināmajām rezerves daļām), ja ražotājs tādus ir paredzējis. Ja ražotājs nav paredzējis periodiski veicamos darbus, par to jāiesniedz ražotāja apliecinājums. Servisa rokasgrāmatas sadaļas var aizstāt ar ražotāja apstiprinātu dokumentu, kas ietver šajā punktā aprakstīto informāciju.
A11: 6 | B11: Piedāvājumā iesniegt iespējamās remontstundas un periodiski veicamo darbu izmaksas pēc garantijas periodā, ja ražotājs tādas ir paredzējis. | C11: Izmaksas norādīt sadaļā "Iekārtu tehniskā apkalpošana" | D11: Izmaksas norādīt sadaļā "Iekārtu tehniskā apkalpošana" | E11: Izmaksas norādīt sadaļā "Iekārtu tehniskā apkalpošana" | F11: Izmaksas norādīt sadaļā "Iekārtu tehniskā apkalpošana" | G11: Izmaksas norādīt sadaļā "Iekārtu tehniskā apkalpošana" | H11: Izmaksas norādīt sadaļā "Iekārtu tehniskā apkalpošana" | I11: Izmaksas norādīt sadaļā "Iekārtu tehniskā apkalpošana" | J11: Izmaksas norādīt sadaļā "Iekārtu tehniskā apkalpošana" | K11: Izmaksas norādīt sadaļā "Iekārtu tehniskā apkalpošana" | L11: Izmaksas norādīt sadaļā "Iekārtu tehniskā apkalpošana"
A12: Prasības precei:
A13: 7 | B13: Piedāvātā Prece ir jauna, iepriekš nelietota un nav izmantota prezentācijās; tā nesatur iepriekš lietotas vai atjaunotas sastāvdaļas vai komponentes. Tā ir ražota ne agrāk kā 12 mēnešus pirms piegādes. | C13: Piedāvājot savu preci, pretendents apstiprina preces nosacījumu izpildi. | D13: Piedāvājot savu preci, pretendents apstiprina preces nosacījumu izpildi. | E13: Piedāvājot savu preci, pretendents apstiprina preces nosacījumu izpildi. | F13: Piedāvājot savu preci, pretendents apstiprina preces nosacījumu izpildi. | G13: Piedāvājot savu preci, pretendents apstiprina preces nosacījumu izpildi. | H13: Piedāvājot savu preci, pretendents apstiprina preces nosacījumu izpildi. | I13: Piedāvājot savu preci, pretendents apstiprina preces nosacījumu izpildi. | J13: Piedāvājot savu preci, pretendents apstiprina preces nosacījumu izpildi. | K13: Piedāvājot savu preci, pretendents apstiprina preces nosacījumu izpildi. | L13: Piedāvājot savu preci, pretendents apstiprina preces nosacījumu izpildi.
A14: 8 | B14: Piedāvātajām Precēm garantijas termiņš ir vismaz 24 mēneši no pieņemšanas – nodošanas akta abpusējas parakstīšanas brīža.
A15: 9 | B15: Garantijas laikā Piegādātājs bez papildus samaksas nodrošina ierīces remontu un periodiskos darbus atbilstoši ražotāja noteiktajām prasībām, ja ražotājs tādu ir paredzējis.
A16: 10 | B16: Garantijas laikā Piegādātājs bez papildus samaksas nodrošina konsultācijas un atkārtotas apmācības par Preci, ja tādas ir nepieciešamas lietotājam.
A17: 11 | B17: Prece nedrīkst būt ražota Krievijā vai Baltkrievijā.
A18: 12 | B18: Prece tiek piegādāta ne ilgāk kā 60 dienu laikā no pasūtījuma veikšanas, lūdzam norādīt iekārtas piegādes laiku. | C18: Norādīt piegādes laiku: | D18: Norādīt piegādes laiku: | E18: Norādīt piegādes laiku: | F18: Norādīt piegādes laiku: | G18: Norādīt piegādes laiku: | H18: Norādīt piegādes laiku: | I18: Norādīt piegādes laiku: | J18: Norādīt piegādes laiku: | K18: Norādīt piegādes laiku: | L18: Norādīt piegādes laiku:
A19: Preces piegādes nosacījumi:
A20: 13 | B20: Piegādājot Preci, Piegādātājs nodod sekojošu dokumentāciju: medicīniskās ierīces lietošanas instrukcijas un citas dokumentācijas oriģinālvalodā un valsts valodā nodošanu (gan papīra, gan digitālā formātā) un vigilances sistēmas darbības izskaidrošanu lietotājam attiecībā uz konkrēto medicīnisko ierīci | C20: Piedāvājot savu preci, pretendents apstiprina preces nosacījumu izpildi. | D20: Piedāvājot savu preci, pretendents apstiprina preces nosacījumu izpildi. | E20: Piedāvājot savu preci, pretendents apstiprina preces nosacījumu izpildi. | F20: Piedāvājot savu preci, pretendents apstiprina preces nosacījumu izpildi. | G20: Piedāvājot savu preci, pretendents apstiprina preces nosacījumu izpildi. | H20: Piedāvājot savu preci, pretendents apstiprina preces nosacījumu izpildi. | I20: Piedāvājot savu preci, pretendents apstiprina preces nosacījumu izpildi. | J20: Piedāvājot savu preci, pretendents apstiprina preces nosacījumu izpildi. | K20: Piedāvājot savu preci, pretendents apstiprina preces nosacījumu izpildi. | L20: Piedāvājot savu preci, pretendents apstiprina preces nosacījumu izpildi.
A21: 14 | B21: Nododot Preci ekspluatācijā, piegādātājs nodrošina Preces uzstādīšanu, ierīces funkcionālo un elektrodrošības pārbaudi, kā arī funkciju testēšanu un ierīces kalibrēšanu(ja, uzsākot tās ekspluatāciju, tādas prasības paredzētas ierīces tehniskajā dokumentācijā), iesniedz domenentāciju par šo darbu izpildi.
A22: 15 | B22: Piegādājot preci piegādātās veic medicīniskās ierīces lietotāja apmācību un izsniedzot apliecinošu dokumentu, kurā norāda apmācīto personu, personu, kura veikusi apmācību, un apmācības veikšanas datumu; Piegādājot preci piegādātās veic medicīniskās ierīces tehniskajā dokumentācijā pieprasīto ierīces lietošanas vides raksturlielumu un garantētā elektroapgādes režīma pārbaudi un šo pierakstu nodošanu medicīniskās ierīces īpašniekam vai turētājam.
A23: Tehniskās apkalpošanas nodrošināšanas nosacījumi
A24: 16 | B24: Visu veidu tehniskā apkalpošana tiek veikta tikai pēc Pasūtītāja pieprasījuma. | C24: Piedāvājot savu preci, pretendents apstiprina tehniskās apkalpošanas nodrošināšanas nosacījumu izpildi. | D24: Piedāvājot savu preci, pretendents apstiprina tehniskās apkalpošanas nodrošināšanas nosacījumu izpildi. | E24: Piedāvājot savu preci, pretendents apstiprina tehniskās apkalpošanas nodrošināšanas nosacījumu izpildi. | F24: Piedāvājot savu preci, pretendents apstiprina tehniskās apkalpošanas nodrošināšanas nosacījumu izpildi. | G24: Piedāvājot savu preci, pretendents apstiprina tehniskās apkalpošanas nodrošināšanas nosacījumu izpildi. | H24: Piedāvājot savu preci, pretendents apstiprina tehniskās apkalpošanas nodrošināšanas nosacījumu izpildi. | I24: Piedāvājot savu preci, pretendents apstiprina tehniskās apkalpošanas nodrošināšanas nosacījumu izpildi. | J24: Piedāvājot savu preci, pretendents apstiprina tehniskās apkalpošanas nodrošināšanas nosacījumu izpildi. | K24: Piedāvājot savu preci, pretendents apstiprina tehniskās apkalpošanas nodrošināšanas nosacījumu izpildi. | L24: Piedāvājot savu preci, pretendents apstiprina tehniskās apkalpošanas nodrošināšanas nosacījumu izpildi.
A25: 17 | B25: Visu veidu tehniskā apkalpošana tikai izņēmuma gadījumos notiek ārpus Slimnīcas teritorijas, iepriekš to saskaņojot ar Pasūtītāju. Ja autorizētais pārstāvis iekārtas tehnisko apkalpošanu nenodrošina uz vietas, bet ierīce tiek sūtīta ražotājam, tad to norādīt piedāvājumā.
A26: 18 | B26: Tehniskā uzraudzība jādokumentē atbilstoši ražotāja un 2023.gada 15.augusta Ministru kabineta noteikumu nr. 461 "Medicīnisko ierīču noteikumi" punktiem 45., 56., 59., norādot visas izmantotās mēriekārtas un mērīto lielumu robežvērtības, ja attiecināms.
A27: 19 | B27: Visu veidu tehniskā apkalpošana jādokumentē un jānoslēdz ar abpusēji parakstītu pieņemšanas/nodošanas vai servisa aktu.
A28: 20 | B28: Ierīces defektācija tiek veikta trīs darba dienu laikā no pieprasījuma saņemšanas, iesniedzot rakstisku atzinumu par ierīces tehnisko stāvokli. Darbības traucējumi tiek novērsti 5 darba dienu laikā no pieprasījuma saņemšanas vai defektācijas akta apstiprināšanas brīža. Par ilgāku bojājuma novēršanas izpildes laiku jāvienojas atsevišķi.
A29: 21 | B29: Ja iekārtas darbības atjaunošanai nepieciešama rezerves daļu nomaiņa, tad tiek sastādīts defektācijas akts un rezerves daļu nomaiņa tiek veikta tikai pēc defekta akta saskaņošanas ar Pasūtītāju.
A30: 22 | B30: Garantēt veikto darbu atbilstību ierīces ražotāja noteiktajiem standartiem un Latvijas Republikā spēkā esošajiem normatīvajiem aktiem, paredzot ne mazāk kā trīs mēnešu garantiju nomainītajām rezerves daļām, materiāliem un ar to nomaiņu saistītiem remontdarbiem.
A31: 23 | B31: Garantēt, ka tehnisko apkalpošanu veic ražotājs vai ražotāja atbilstoši apmācīts un sertificēts speciālists, ja ražotājs tā paredzējis.
A32: 24 | B32: Informēt Pasūtītāju gadījumos, ja ražotājs plāno pārtraukt tehnisko pavadību un tiklīdz ražotājs ir pārtraucis iekārtas tehnisko pavadību.
A33: 25 | B33: Servisa stundas likme ietver visas izmaksas (administratīvās, transporta, inženiera stundas likmi, servisam nepieciešamo instrumentu un materiālu (salvetes, skrūvju līme u.tml.) u.c.), izņemot rezerves daļu izmaksas, kas nepieciešamas, lai nodrošinātu vienu ierīces remonta/tehniskās apkalpošanas stundu. Laika uzskaites vienības - pusstunda vai stunda.
A34: 26 | B34: Periodiski veicamo darbu cenā ir ietvertas visas elektrodrošības un funkcionālās pārbaudes izmaksas, ja ražotājs tādas pārbaudes ir paredzējis.
A35: 27 | B35: Periodisko veicamo darbu veikšanai nepieciešamo piederumu (vienreizlietojamās sistēmas, kontūri u.tml.) izmaksas jāiekļauj pakalpojuma cenā.
A36: 28 | B36: Jānorāda paredzamais periodiski veicamo darbu ilgums, kas ir nepieciešams, lai varētu plānot ierīces pieejamību. Apmaksa par darba ilgumu tiks veikta pēc pieņemšanas/nodošanas vai servisa aktā minētā laika.
A37: 29 | B37: Ja ražotājs ir paredzējis, ka periodiski veicamos darbus vai remontu var veikt nesertificēts inženieris, tad tiek pieņemts, ka tos var veikt Slimnīcas tehniskais personāls.
A38: Papildus informācija par iepirkumu un piedāvājuma aizpildīšanas prasībām:
A39: 30 | B39: Pretendents tehniskajā piedāvājumā norāda Preces ražotāju, modeli un atbilstošos parametrus.
A40: 31 | B40: Parametru atbilstību pamatot ar norādi uz tehniskajām datu lapām vai informatīviem materiāliem, norādot atsauci tehniskajā piedāvājumā uz konkrēto lapaspusi un punktu. Informatīvajā materiālā norādīt tehniskās specifikācijas punktu, uz kuru attiecināms.
...

Sheet TS 1. poz
A1: 1. pozīcija - Pusautomātiskais rotācijas mikrotoms | D1: Pretendenta piedāvājums, atsauce uz informatīvo materiālu (Informatīvā materiāla nosaukums, lpp.)
A2: Nr. | B2: Preces nosaukums, veicamās funkcijas, tehniskās prasības un komplektācija | C2: Skaits, gab.***
A3: Piemērs | B3: Piemērs | C3: Piemērs | D3: Informatīvais materiāls 2, 4.lpp
A4: 1. | B4: Nosaukums: Pusautomātiskais rotācijas mikrotoms. | C4: 4
A5: 1.1. | B5: Veicamās funkcijas:
A6: 1.1.1 | B6: Precīzai un plānai bioloģisko audu griešanai histoloģiskai izmeklēšanai.
A7: 1.2. | B7: Tehniskās prasības:
A8: 1.2.1 | B8: Griešanas biezuma diapazons vismaz 0.5 - 100 μm.
A9: 1.2.2 | B9: Griešanas biezuma iestatīšanas solis diapazonā 0.5 - 5 µm nepārsniedz 0.5 µm.
A10: 1.2.3 | B10: Griešanas biezuma iestatīšanas solis diapazonā 5 - 20 µm nepārsniedz 1 µm.
A11: 1.2.4 | B11: Griešanas biezuma iestatīšanas solis diapazonā 20 - 60 µm nepārsniedz 5 µm.
A12: 1.2.5 | B12: Griešanas biezuma iestatīšanas solis diapazonā 60 - 100 µm nepārsniedz 10 µm.
A13: 1.2.6 | B13: Apgriešanas biezuma diapazons vismaz 5 - 500 μm.
A14: 1.2.7 | B14: Apgriešanas biezuma iestatīšanas solis diapazonā 5 - 30 µm nepārsniedz 5 µm.
A15: 1.2.8 | B15: Apgriešanas biezuma iestatīšanas solis diapazonā 30 - 100 µm nepārsniedz 10 µm.
A16: 1.2.9 | B16: Apgriešanas biezuma iestatīšanas solis diapazonā 100 - 200 µm nepārsniedz 50 µm.
... A37: 1.3. | B37: Komplektācija (saderīga ar iekārtu, iekļauta iekārtas cenā, tiek piegādāta kopā ar katru iekārtu):
A38: 1.3.1 | B38: Vienreizlietojamu asmeņu komplekts (vismaz 50 gabali iepakojumā). | C38: 5
A39: 1.3.2 | B39: Parauga turētājs standarta kasetēm. | C39: 1
A40: 1.3.3 | B40: Parauga turētājs lielajiem kasetēm. | C40: 1
A41: 1.3.4 | B41: Piederumu komplekts iekārtu glabāšanai un tīrīšanai (vismaz putekļpārvalks, ota un parafīna noņēmējs). | C41: 1
A42: 1.3.5 | B42: Iekārta tiek piegādāta pilnā komplektācijā instalēšanai. | C42: 1
A43: 1.3.6 | B43: Iekārta tiek piegādāta pilnā komplektācijā pirmreizējai lietošanai. | C43: 1
A44: 1.3.7 | B44: Lielas kasetes (mega cassette). | C44: 20
A46: Saimnieciski visizdevīgākā piedāvājuma vērtēšanai norādāmā papildus informācija | D46: Saimnieciski visizdevīgākā piedāvājuma vērtēšanai norādāmā papildus informācija Pretendenta piedāvājums, atsauce uz informatīvo materiālu vai ražotāja apliecinājumu
A47: B | B47: Jānorāda Preces ražotāja noteiktais preces paredzamais lietošanas ilgums (paredzamais lietošanas ilgums) (gados)
A48: C | B48: Jānorāda Preces ražotāja noteiktais elektroenerģijas patēriņš darba režīmā (voltampēros (VA) vai vatos (W)
A50: Daļa | B50: VĒRTĒŠANAS KRITĒRIJI | C50: ĪPATSVARS
A51: A | B51: Vērtējamā summa | C51: 90
A52: B | B52: Preces paredzamais lietošanas ilgums. | C52: 5
A53: C | B53: Elektroenerģijas patēriņš darba režīmā. | C53: 5
A54: ∑ | B54: Maksimālais īpatsvars (kopējais punktu skaits) ∑=A+B+C | C54: 100
A57: Komisija katrā daļā piešķir īpatsvaru (punktu skaitu), šādā kārtībā: 1) A (Vērtējamā summa) un C (Elektroenerģijas patēriņš) daļai - viszemākajai vērtība tiek piešķirts maksimālais punktu skaits. Ja piedāvājumā nav norādīta informācija par elektroenerģijas patēriņu tiek piešķirti 0 punkti. Ja tiek norādīts elektroenerģijas patēriņa diapazons, punktu piešķiršanai tiek izmantota augstākā vērtība. 2) Nākamās vērtības A (Vērtējamā summa) un C (Elektroenerģijas patēriņš) daļai tiek aprēķinātas proporcionāli A vai C = (A vai C zemākā iesniegtā vērtība no visiem pretendentiem )/(faktiskā iesniegtā vērtība konkrētajam pretendentam) x Piešķiramais punktu skaits. 3) B (Preces ražotāja noteiktais preces maksimālais lietošanas ilgums) daļai - vislielākajai vērtības tiek piešķirts maksimālais punktu skaits. Ja piedāvājumā nav norādīta informācija par preces lietošanas ilgumu tiek pieņemts, ka lietošanas ilgums ir noteiktais garantijas laiks. Ja tiek norādīts paredzamā lietošanas ilguma diapazons, punktu piešķiršanai tiek izmantota zemākā vērtība. 4) Nākamās vērtības B (Preces ražotāja noteiktais preces maksimālais lietošanas ilgums) daļai tiek aprēķinātas proporcionāli B = (faktiskā iesniegtā vērtība konkrētajam pretendentam)/(B augstākā iesniegtā vērtība no visiem pretendentiem ) x Piešķiramais punktu skaits.

Sheet TS 2. poz
A1: 2. pozīcija - Ūdens vanna | D1: Pretendenta piedāvājums, atsauce uz informatīvo materiālu (Informatīvā materiāla nosaukums, lpp.)
A2: Nr. | B2: Preces nosaukums, veicamās funkcijas, tehniskās prasības un komplektācija | C2: Skaits, gab.***
A3: Piemērs | B3: Piemērs | C3: Piemērs | D3: Informatīvais materiāls 2, 4.lpp
A4: 2 | B4: Nosaukums: Ūdens vanna. | C4: 4
A5: 2.1. | B5: Veicamās funkcijas:
A6: 2.1.1. | B6: Histoloģisko griezumu izlīdzināšana ūdens vannā.
A7: 2.2. | B7: Tehniskās prasības:
A8: 2.2.1 | B8: Aprīkots ar noņemamo iekšējo ūdens tvertni.
A9: 2.2.2 | B9: Augstums nepārsniedz 160 mm.
A10: 2.2.3 | B10: Vēlama prasība: ūdens tvertne aprīkota ar iebūvētu LED fona apgaismojumu.
A11: 2.2.4 | B11: Ūdens tvertnes tilpums vismaz 1.8 litri.
A12: 2.2.5 | B12: Ūdens vannas tvertne ir taisnstūra formas.
A13: 2.2.6 | B13: Ūdens sildīšanas temperatūras diapazons vismaz 40 °C - 56 °C.
A14: 2.2.7 | B14: Temperatūras stabilitāte vismaz ± 2°C.
A15: 2.2.8 | B15: Apsildes laiks līdz + 40 °C ne ilgāks par 20 minūtēm.
A16: 2.2.9 | B16: Temperatūras izmaiņas solis vismaz 1°C.
... A20: 2.2.13 | B20: Iekārtas barošana: 220-240V/50-60 Hz ar Eiropas standartiem atbilstošo adapteri.
A22: Saimnieciski visizdevīgākā piedāvājuma vērtēšanai norādāmā papildus informācija | D22: Saimnieciski visizdevīgākā piedāvājuma vērtēšanai norādāmā papildus informācija Pretendenta piedāvājums, atsauce uz informatīvo materiālu vai ražotāja apliecinājumu
A23: B | B23: Jānorāda Preces ražotāja noteiktais preces paredzamais lietošanas ilgums (paredzamais lietošanas ilgums) (gados)
A24: C | B24: Jānorāda Preces ražotāja noteiktais elektroenerģijas patēriņš darba režīmā (voltampēros (VA) vai vatos (W)
A26: Daļa | B26: VĒRTĒŠANAS KRITĒRIJI | C26: ĪPATSVARS
A27: A | B27: Vērtējamā summa | C27: 90
A28: B | B28: Preces paredzamais lietošanas ilgums. | C28: 5
A29: C | B29: Elektroenerģijas patēriņš darba režīmā. | C29: 5
A30: ∑ | B30: Maksimālais īpatsvars (kopējais punktu skaits) ∑=A+B+C | C30: 100
A33: Komisija katrā daļā piešķir īpatsvaru (punktu skaitu), šādā kārtībā: 1) A (Vērtējamā summa) un C (Elektroenerģijas patēriņš) daļai - viszemākajai vērtība tiek piešķirts maksimālais punktu skaits. Ja piedāvājumā nav norādīta informācija par elektroenerģijas patēriņu tiek piešķirti 0 punkti. Ja tiek norādīts elektroenerģijas patēriņa diapazons, punktu piešķiršanai tiek izmantota augstākā vērtība. 2) Nākamās vērtības A (Vērtējamā summa) un C (Elektroenerģijas patēriņš) daļai tiek aprēķinātas proporcionāli A vai C = (A vai C zemākā iesniegtā vērtība no visiem pretendentiem )/(faktiskā iesniegtā vērtība konkrētajam pretendentam) x Piešķiramais punktu skaits. 3) B (Preces ražotāja noteiktais preces maksimālais lietošanas ilgums) daļai - vislielākajai vērtības tiek piešķirts maksimālais punktu skaits. Ja piedāvājumā nav norādīta informācija par preces lietošanas ilgumu tiek pieņemts, ka lietošanas ilgums ir noteiktais garantijas laiks. Ja tiek norādīts paredzamā lietošanas ilguma diapazons, punktu piešķiršanai tiek izmantota zemākā vērtība. 4) Nākamās vērtības B (Preces ražotāja noteiktais preces maksimālais lietošanas ilgums) daļai tiek aprēķinātas proporcionāli B = (faktiskā iesniegtā vērtība konkrētajam pretendentam)/(B augstākā iesniegtā vērtība no visiem pretendentiem ) x Piešķiramais punktu skaits.

Sheet TS 3. poz
A1: 3. pozīcija - Kompakta brīvi stāvoša dzesējoša plāksne | D1: Pretendenta piedāvājums, atsauce uz informatīvo materiālu (Informatīvā materiāla nosaukums, lpp.)
A2: Nr. | B2: Preces nosaukums, veicamās funkcijas, tehniskās prasības un komplektācija | C2: Skaits, gab.***
A3: Piemērs | B3: Piemērs | C3: Piemērs | D3: Informatīvais materiāls 2, 4.lpp
A4: 3 | B4: Nosaukums: Kompakta brīvi stāvoša dzesējoša plāksne. | C4: 4
A5: 3.1. | B5: Veicamās funkcijas:
A6: 3.1.1. | B6: Parafīna bloku īslaicīgai dzesēšanai pirms griešanas procesa ar mikrotomu.
A7: 3.2. | B7: Tehniskās prasības:
A8: 3.2.1 | B8: Darba temperatūras diapazons vismaz 0°C - (- 15)°C.
A9: 3.2.2 | B9: Maksimālais pieļaujamais gabarīta izmērs nepārsniedz (PxDxA) 340 × 260 x 280 mm.
A10: 3.2.3 | B10: Temperatūras stabilitāte vismaz ± 1°C.
A11: 3.2.4 | B11: Aprīkots ar vadības paneli (iebūvēto vai ārējo), ar displeju, kurā tiek atspoguļota reālā temperatūra.
A12: 3.2.5 | B12: Pretledus sistēma (samazina ledus veidošanos).
A13: 3.2.6 | B13: Ir iespēja ieprogrammēt darba laika sākumu un beigas.
A14: 3.2.7 | B14: Iekārta tiek piegādāta pilnā komplektācijā instalēšanai.
A15: 3.2.8 | B15: Iekārta tiek piegādāta pilnā komplektācijā pirmreizējai lietošanai.
A16: 3.2.9 | B16: Iekārtas barošana: 220-240V/50-60 Hz ar Eiropas standartiem atbilstošo adapteri.
A18: Saimnieciski visizdevīgākā piedāvājuma vērtēšanai norādāmā papildus informācija | D18: Saimnieciski visizdevīgākā piedāvājuma vērtēšanai norādāmā papildus informācija Pretendenta piedāvājums, atsauce uz informatīvo materiālu vai ražotāja apliecinājumu
A19: B | B19: Jānorāda Preces ražotāja noteiktais preces paredzamais lietošanas ilgums (paredzamais lietošanas ilgums) (gados)
A20: C | B20: Jānorāda Preces ražotāja noteiktais elektroenerģijas patēriņš darba režīmā (voltampēros (VA) vai vatos (W)
A22: Daļa | B22: VĒRTĒŠANAS KRITĒRIJI | C22: ĪPATSVARS
A23: A | B23: Vērtējamā summa | C23: 90
A24: B | B24: Preces paredzamais lietošanas ilgums. | C24: 5
A25: C | B25: Elektroenerģijas patēriņš darba režīmā. | C25: 5
A26: ∑ | B26: Maksimālais īpatsvars (kopējais punktu skaits) ∑=A+B+C | C26: 100
A29: Komisija katrā daļā piešķir īpatsvaru (punktu skaitu), šādā kārtībā: 1) A (Vērtējamā summa) un C (Elektroenerģijas patēriņš) daļai - viszemākajai vērtība tiek piešķirts maksimālais punktu skaits. Ja piedāvājumā nav norādīta informācija par elektroenerģijas patēriņu tiek piešķirti 0 punkti. Ja tiek norādīts elektroenerģijas patēriņa diapazons, punktu piešķiršanai tiek izmantota augstākā vērtība. 2) Nākamās vērtības A (Vērtējamā summa) un C (Elektroenerģijas patēriņš) daļai tiek aprēķinātas proporcionāli A vai C = (A vai C zemākā iesniegtā vērtība no visiem pretendentiem )/(faktiskā iesniegtā vērtība konkrētajam pretendentam) x Piešķiramais punktu skaits. 3) B (Preces ražotāja noteiktais preces maksimālais lietošanas ilgums) daļai - vislielākajai vērtības tiek piešķirts maksimālais punktu skaits. Ja piedāvājumā nav norādīta informācija par preces lietošanas ilgumu tiek pieņemts, ka lietošanas ilgums ir noteiktais garantijas laiks. Ja tiek norādīts paredzamā lietošanas ilguma diapazons, punktu piešķiršanai tiek izmantota zemākā vērtība. 4) Nākamās vērtības B (Preces ražotāja noteiktais preces maksimālais lietošanas ilgums) daļai tiek aprēķinātas proporcionāli B = (faktiskā iesniegtā vērtība konkrētajam pretendentam)/(B augstākā iesniegtā vērtība no visiem pretendentiem ) x Piešķiramais punktu skaits.

Sheet TS 4. poz
A1: 4. pozīcija - Kompakta brīvi stāvoša sildoša plāksne | D1: Pretendenta piedāvājums, atsauce uz informatīvo materiālu (Informatīvā materiāla nosaukums, lpp.)
A2: Nr. | B2: Preces nosaukums, veicamās funkcijas, tehniskās prasības un komplektācija | C2: Skaits, gab.***
A3: Piemērs | B3: Piemērs | C3: Piemērs | D3: Informatīvais materiāls 2, 4.lpp
A4: 4 | B4: Nosaukums: Kompakta brīvi stāvoša sildoša plāksne. | C4: 4
A5: 4.1. | B5: Veicamās funkcijas:
A6: 4.1.1. | B6: Histoloģisko stiklu īslaicīgai žāvēšanai pēc griešanas procesa ar mikrotomu.
A7: 4.2. | B7: Tehniskās prasības:
A8: 4.2.1 | B8: Darba temperatūras diapazons vismaz līdz 70°C.
A9: 4.2.2 | B9: (PxD) 250 × 200 x 80 mm.
A10: 4.2.3 | B10: Temperatūras stabilitāte vismaz ± 1°C.
A11: 4.2.4 | B11: Iekārta aprīkota ar displeju, kurā tiek atspoguļota reālā temperatūra.
A12: 4.2.5 | B12: Iekārta tiek piegādāta pilnā komplektācijā instalēšanai.
A13: 4.2.6 | B13: Iekārta tiek piegādāta pilnā komplektācijā pirmreizējai lietošanai.
A14: 4.2.7 | B14: Iekārtas barošana: 220-240V/50-60 Hz ar Eiropas standartiem atbilstošo adapteri.
A16: Saimnieciski visizdevīgākā piedāvājuma vērtēšanai norādāmā papildus informācija | D16: Saimnieciski visizdevīgākā piedāvājuma vērtēšanai norādāmā papildus informācija Pretendenta piedāvājums, atsauce uz informatīvo materiālu vai ražotāja apliecinājumu
A17: B | B17: Jānorāda Preces ražotāja noteiktais preces paredzamais lietošanas ilgums (paredzamais lietošanas ilgums) (gados)
A18: C | B18: Jānorāda Preces ražotāja noteiktais elektroenerģijas patēriņš darba režīmā (voltampēros (VA) vai vatos (W)
A20: Daļa | B20: VĒRTĒŠANAS KRITĒRIJI | C20: ĪPATSVARS
A21: A | B21: Vērtējamā summa | C21: 90
A22: B | B22: Preces paredzamais lietošanas ilgums. | C22: 5
A23: C | B23: Elektroenerģijas patēriņš darba režīmā. | C23: 5
A24: ∑ | B24: Maksimālais īpatsvars (kopējais punktu skaits) ∑=A+B+C | C24: 100
A27: Komisija katrā daļā piešķir īpatsvaru (punktu skaitu), šādā kārtībā: 1) A (Vērtējamā summa) un C (Elektroenerģijas patēriņš) daļai - viszemākajai vērtība tiek piešķirts maksimālais punktu skaits. Ja piedāvājumā nav norādīta informācija par elektroenerģijas patēriņu tiek piešķirti 0 punkti. Ja tiek norādīts elektroenerģijas patēriņa diapazons, punktu piešķiršanai tiek izmantota augstākā vērtība. 2) Nākamās vērtības A (Vērtējamā summa) un C (Elektroenerģijas patēriņš) daļai tiek aprēķinātas proporcionāli A vai C = (A vai C zemākā iesniegtā vērtība no visiem pretendentiem )/(faktiskā iesniegtā vērtība konkrētajam pretendentam) x Piešķiramais punktu skaits. 3) B (Preces ražotāja noteiktais preces maksimālais lietošanas ilgums) daļai - vislielākajai vērtības tiek piešķirts maksimālais punktu skaits. Ja piedāvājumā nav norādīta informācija par preces lietošanas ilgumu tiek pieņemts, ka lietošanas ilgums ir noteiktais garantijas laiks. Ja tiek norādīts paredzamā lietošanas ilguma diapazons, punktu piešķiršanai tiek izmantota zemākā vērtība. 4) Nākamās vērtības B (Preces ražotāja noteiktais preces maksimālais lietošanas ilgums) daļai tiek aprēķinātas proporcionāli B = (faktiskā iesniegtā vērtība konkrētajam pretendentam)/(B augstākā iesniegtā vērtība no visiem pretendentiem ) x Piešķiramais punktu skaits.

Sheet TS 5. poz
A1: 5. pozīcija - Parafīna iekapsulēšanas stacija histoloģiskajām kasetēm | D1: Pretendenta piedāvājums, atsauce uz informatīvo materiālu (Informatīvā materiāla nosaukums, lpp.)
A2: Nr. | B2: Preces nosaukums, veicamās funkcijas, tehniskās prasības un komplektācija | C2: Skaits, gab.***
A3: Piemērs | B3: Piemērs | C3: Piemērs | D3: Informatīvais materiāls 2, 4.lpp
A4: 5 | B4: Nosaukums: Parafīna iekapsulēšanas stacija histoloģiskajām kasetēm. | C4: 2
A5: 5.1. | B5: Veicamās funkcijas:
A6: 5.1.1 | B6: Parafīna iekapsulēšana histoloģiskajās kasetēs.
A7: 5.2. | B7: Apsildāma parafīna iegulšanas stacija:
A8: 5.2.1 | B8: Aprīkota ar vismaz 4 l parafīna tvertni.
A9: 5.2.2 | B9: Nodrošina kontrolējamu parafīna plūsmas ātrumu.
A10: 5.2.3 | B10: Aprīkota ar noņemamām parafīna savākšanas paplātēm.
A11: 5.2.4 | B11: Aprīkota ar darba zonas LED apgaismojumu.
A12: 5.2.5 | B12: Kasetes un iegulšanas veidņu paplātes, darba zonas un parafīna tvertnes temperatūras diapazons regulējams robežās vismaz 50 - 75 °C.
A13: 5.2.6 | B13: Aprīkota ar funkciju darba laika sākuma un beigu ieprogrammēšanai.
A14: 5.2.7 | B14: Ietilpība vismaz 150 kasetes.
A15: 5.2.8 | B15: Saderīga ar atdzesējošo staciju.
A16: 5.2.9 | B16: Pielāgojams dažāda izmēra parafīna blokiem, t.sk. lielajām kasetēm.
... A23: 5.4 | B23: Komplektācija (saderīga ar iekārtu, iekļauta iekārtas cenā, tiek piegādāta kopā ar katru iekārtu):
A24: 5.4.1 | B24: Iekārta tiek piegādāta pilnā komplektācijā instalēšanai. | C24: 1
A25: 5.4.2 | B25: Iekārta tiek piegādāta pilnā komplektācijā pirmreizējai lietošanai. | C25: 1
A27: Saimnieciski visizdevīgākā piedāvājuma vērtēšanai norādāmā papildus informācija | D27: Saimnieciski visizdevīgākā piedāvājuma vērtēšanai norādāmā papildus informācija Pretendenta piedāvājums, atsauce uz informatīvo materiālu vai ražotāja apliecinājumu
A28: B | B28: Jānorāda Preces ražotāja noteiktais preces paredzamais lietošanas ilgums (paredzamais lietošanas ilgums) (gados)
A29: C | B29: Jānorāda Preces ražotāja noteiktais elektroenerģijas patēriņš darba režīmā (voltampēros (VA) vai vatos (W)
A31: Daļa | B31: VĒRTĒŠANAS KRITĒRIJI | C31: ĪPATSVARS
A32: A | B32: Vērtējamā summa | C32: 90
A33: B | B33: Preces paredzamais lietošanas ilgums. | C33: 5
A34: C | B34: Elektroenerģijas patēriņš darba režīmā. | C34: 5
A35: ∑ | B35: Maksimālais īpatsvars (kopējais punktu skaits) ∑=A+B+C | C35: 100
A38: Komisija katrā daļā piešķir īpatsvaru (punktu skaitu), šādā kārtībā: 1) A (Vērtējamā summa) un C (Elektroenerģijas patēriņš) daļai - viszemākajai vērtība tiek piešķirts maksimālais punktu skaits. Ja piedāvājumā nav norādīta informācija par elektroenerģijas patēriņu tiek piešķirti 0 punkti. Ja tiek norādīts elektroenerģijas patēriņa diapazons, punktu piešķiršanai tiek izmantota augstākā vērtība. 2) Nākamās vērtības A (Vērtējamā summa) un C (Elektroenerģijas patēriņš) daļai tiek aprēķinātas proporcionāli A vai C = (A vai C zemākā iesniegtā vērtība no visiem pretendentiem )/(faktiskā iesniegtā vērtība konkrētajam pretendentam) x Piešķiramais punktu skaits. 3) B (Preces ražotāja noteiktais preces maksimālais lietošanas ilgums) daļai - vislielākajai vērtības tiek piešķirts maksimālais punktu skaits. Ja piedāvājumā nav norādīta informācija par preces lietošanas ilgumu tiek pieņemts, ka lietošanas ilgums ir noteiktais garantijas laiks. Ja tiek norādīts paredzamā lietošanas ilguma diapazons, punktu piešķiršanai tiek izmantota zemākā vērtība. 4) Nākamās vērtības B (Preces ražotāja noteiktais preces maksimālais lietošanas ilgums) daļai tiek aprēķinātas proporcionāli B = (faktiskā iesniegtā vērtība konkrētajam pretendentam)/(B augstākā iesniegtā vērtība no visiem pretendentiem ) x Piešķiramais punktu skaits.

Sheet TS 6. poz
A1: 6. pozīcija - Automātiskais audu procesors | D1: Pretendenta piedāvājums, atsauce uz informatīvo materiālu (Informatīvā materiāla nosaukums, lpp.)
A2: Nr. | B2: Preces nosaukums, veicamās funkcijas, tehniskās prasības un komplektācija | C2: Skaits, gab.***
A3: Piemērs | B3: Piemērs | C3: Piemērs | D3: Informatīvais materiāls 2, 4.lpp
A4: 6 | B4: Nosaukums: Automātiskais audu procesors.
A5: 6.1. | B5: Veicamās funkcijas:
A6: 6.1.1 | B6: Pilnībā automatizēts, noslēgta tipa vakuuma audu procesors, paredzēts audu dehidratācijai, attaukošanai un infiltrēšanai ar parafīnu histoloģiskām vajadzībām.
A7: 6.2. | B7: Tehniskās prasības:
A8: 6.2.1 | B8: Iekārta ir uz grīdas brīvi stāvoša sistēma. | C8: 1
A9: 6.2.2 | B9: Atvērta tipa sistēma: nodrošina iespēju izmantot dažādu ražotāju histoloģiskos reaģentus un parafīnu.
A10: 6.2.3 | B10: Iekārta ir aprīkota ar divām neatkarīgām darba kamerām, kas ļauj vienlaikus veikt paralēlu audu apstrādi atšķirīgos protokolos. Iekārta ir aprīkota ar divām neatkarīgām darba kamerām vai dobumiem, kas ļauj vienlaikus veikt paralēlu audu apstrādi atšķirīgos protokolos.
A11: 6.2.4 | B11: Katras darba kameras ietilpība – no 150 līdz 200 kasetēmvismaz 100 kasetes.
A12: 6.2.5 | B12: Iespēja manuāli ievadīt apstrādājamo paraugu (kasešu) skaitu sistēmā.
A13: 6.2.6 | B13: Uzstādītās temperatūras precizitāte: ≤ ±1°C.
A14: 6.2.7 | B14: Infiltrācijas vakuums vismaz -60 kPa. Audu apstrādes paātrināšanai iekārta izmanto vakuuma un spiediena tehnoloģiju, nodrošinot infiltrācijas vakuumu vismaz –60 kPa un infiltrācijas spiedienu vismaz +40 kPa, vai ekvivalentu risinājumu.
A15: 6.2.8 | B15: Infiltrācijas spiediens vismaz +40 kPa.
A16: 6.2.9 | B16: Parafīna vannu skaits vismaz 3 gab.
A17: 6.2.10 | B17: Katras parafīna vannas tilpums diapazonā no 3,5 līdz 5 litriem. Iekārta nodrošina parafīna kausēšanu un audu infiltrāciju ar izkausētu parafīnu.
A18: 6.2.11 | B18: Parafīna temperatūras regulēšanas diapazons vismaz no 58 °C līdz 80 °C.
A19: 6.2.12 | B19: Reaģentu pudeles tilpums diapazonā no 3.5 līdz 5 L.
A20: 6.2.13 | B20: Vismaz 10 lietotāja konfigurējami protokoli.
... A33: 6.3. | B33: Komplektācija (saderīga ar iekārtu, iekļauta iekārtas cenā, tiek piegādāta kopā ar katru iekārtu):
A34: 6.3.1 | B34: Reaģentu pudeļu/tvertņu komplekts darbam. | C34: 1
A35: 6.3.2 | B35: Paraugu grozu komplekts paredzēts standarta kasetēm. | C35: 1
A36: 6.3.3 | B36: Paraugu grozu komplekts piemēroti lielajām histoloģiskajām kasetēm. | C36: 1
A37: 6.3.4 | B37: Aktivētās ogles filtrs. | C37: 10
A38: 6.3.5 | B38: UPS modulis 230 V - 50/60 Hz; paredzēts lietošanai ar iekārtām, kas darbojas ar 230 V - 50/60 Hz elektrotīklu. | C38: 1
A39: 6.3.6 | B39: Citi palīgmateriāli, ja tādus nosaka ražotājs (norādīt katru pozīciju atsevišķi). | C39: 1
A41: Saimnieciski visizdevīgākā piedāvājuma vērtēšanai norādāmā papildus informācija | D41: Saimnieciski visizdevīgākā piedāvājuma vērtēšanai norādāmā papildus informācija Pretendenta piedāvājums, atsauce uz informatīvo materiālu vai ražotāja apliecinājumu
A42: B | B42: Jānorāda Preces ražotāja noteiktais preces paredzamais lietošanas ilgums (paredzamais lietošanas ilgums) (gados)
A43: C | B43: Jānorāda Preces ražotāja noteiktais elektroenerģijas patēriņš darba režīmā (voltampēros (VA) vai vatos (W)
A45: Daļa | B45: VĒRTĒŠANAS KRITĒRIJI | C45: ĪPATSVARS
A46: A | B46: Vērtējamā summa | C46: 90
A47: B | B47: Preces paredzamais lietošanas ilgums. | C47: 5
A48: C | B48: Elektroenerģijas patēriņš darba režīmā. | C48: 5
A49: ∑ | B49: Maksimālais īpatsvars (kopējais punktu skaits) ∑=A+B+C | C49: 100
A52: Komisija katrā daļā piešķir īpatsvaru (punktu skaitu), šādā kārtībā: 1) A (Vērtējamā summa) un C (Elektroenerģijas patēriņš) daļai - viszemākajai vērtība tiek piešķirts maksimālais punktu skaits. Ja piedāvājumā nav norādīta informācija par elektroenerģijas patēriņu tiek piešķirti 0 punkti. Ja tiek norādīts elektroenerģijas patēriņa diapazons, punktu piešķiršanai tiek izmantota augstākā vērtība. 2) Nākamās vērtības A (Vērtējamā summa) un C (Elektroenerģijas patēriņš) daļai tiek aprēķinātas proporcionāli A vai C = (A vai C zemākā iesniegtā vērtība no visiem pretendentiem )/(faktiskā iesniegtā vērtība konkrētajam pretendentam) x Piešķiramais punktu skaits. 3) B (Preces ražotāja noteiktais preces maksimālais lietošanas ilgums) daļai - vislielākajai vērtības tiek piešķirts maksimālais punktu skaits. Ja piedāvājumā nav norādīta informācija par preces lietošanas ilgumu tiek pieņemts, ka lietošanas ilgums ir noteiktais garantijas laiks. Ja tiek norādīts paredzamā lietošanas ilguma diapazons, punktu piešķiršanai tiek izmantota zemākā vērtība. 4) Nākamās vērtības B (Preces ražotāja noteiktais preces maksimālais lietošanas ilgums) daļai tiek aprēķinātas proporcionāli B = (faktiskā iesniegtā vērtība konkrētajam pretendentam)/(B augstākā iesniegtā vērtība no visiem pretendentiem ) x Piešķiramais punktu skaits.

Sheet TS 7. poz
A1: 7. pozīcija - Ātrās sasaldēšanas iekārta audu griezumu sagatavošanai | D1: Pretendenta piedāvājums, atsauce uz informatīvo materiālu (Informatīvā materiāla nosaukums, lpp.)
A2: Nr. | B2: Preces nosaukums, veicamās funkcijas, tehniskās prasības un komplektācija | C2: Skaits, gab.***
A3: Piemērs | B3: Piemērs | C3: Piemērs | D3: Informatīvais materiāls 2, 4.lpp
A4: 7 | B4: Nosaukums: Ātrās sasaldēšanas iekārta audu griezumu sagatavošanai. | C4: 1
A5: 7.1. | B5: Veicamās funkcijas:
A6: 7.1.1 | B6: Audu paraugu ātra sasaldēšana histoloģisko griezumu sagatavošanai.
A7: 7.2. | B7: Tehniskās prasības:
A8: 7.2.1 | B8: Temperatūras diapazons vismaz -24 °C - (-640) °C.
A9: 7.2.2 | B9: Sasaldēšanas laiks nepārsniedz 60 sekundes. Sasaldēšanas laiks līdz pilnīgai audu fiksācijai nepārsniedz 60 sekundes.
A10: 7.2.3 | B10: Iekārta aprīkota ar skārienvadības displeju.
A11: 7.2.4 | B11: Aprīkota vismaz ar vienu USB-A portu.
A12: 7.2.5 | B12: Iekārtas maksimālais svars nepārsniedz 35 kg.
A13: 7.2.6 | B13: Iekārta aprīkota ar noņemamām alumīnija veidnēm (vismaz 6 gab.).
A14: 7.2.7 | B14: Iekārta aprīkota ar automātiskas atkausēšanas funkciju.
A15: 7.2.8 | B15: Iekārta aprīkota ar integrētu HEPA filtru darba zonas gaisa tīrībai.
A16: 7.2.9 | B16: Iespēja izvēlēties un saglabāt vismaz 2 lietotāja programmas ar pielāgojamiem sasaldēšanas parametriem.
... A21: 7.3 | B21: Komplektācija (saderīga ar iekārtu, iekļauta iekārtas cenā, tiek piegādāta kopā ar katru iekārtu):
A22: 7.3.1 | B22: Iekārta tiek piegādāta pilnā komplektācijā instalēšanai. | C22: 1
A23: 7.3.2 | B23: Iekārta tiek piegādāta pilnā komplektācijā pirmreizējai lietošanai. | C23: 1
A24: 7.3.3 | B24: Kriolīme paraugu fiksēšanai. | C24: 3
A25: 7.3.4 | B25: HEPA filtrs. | C25: 1
A27: Saimnieciski visizdevīgākā piedāvājuma vērtēšanai norādāmā papildus informācija | D27: Saimnieciski visizdevīgākā piedāvājuma vērtēšanai norādāmā papildus informācija Pretendenta piedāvājums, atsauce uz informatīvo materiālu vai ražotāja apliecinājumu
A28: B | B28: Jānorāda Preces ražotāja noteiktais preces paredzamais lietošanas ilgums (paredzamais lietošanas ilgums) (gados)
A29: C | B29: Jānorāda Preces ražotāja noteiktais elektroenerģijas patēriņš darba režīmā (voltampēros (VA) vai vatos (W)
A31: Daļa | B31: VĒRTĒŠANAS KRITĒRIJI | C31: ĪPATSVARS
A32: A | B32: Vērtējamā summa | C32: 90
A33: B | B33: Preces paredzamais lietošanas ilgums. | C33: 5
A34: C | B34: Elektroenerģijas patēriņš darba režīmā. | C34: 5
A35: ∑ | B35: Maksimālais īpatsvars (kopējais punktu skaits) ∑=A+B+C | C35: 100
A38: Komisija katrā daļā piešķir īpatsvaru (punktu skaitu), šādā kārtībā: 1) A (Vērtējamā summa) un C (Elektroenerģijas patēriņš) daļai - viszemākajai vērtība tiek piešķirts maksimālais punktu skaits. Ja piedāvājumā nav norādīta informācija par elektroenerģijas patēriņu tiek piešķirti 0 punkti. Ja tiek norādīts elektroenerģijas patēriņa diapazons, punktu piešķiršanai tiek izmantota augstākā vērtība. 2) Nākamās vērtības A (Vērtējamā summa) un C (Elektroenerģijas patēriņš) daļai tiek aprēķinātas proporcionāli A vai C = (A vai C zemākā iesniegtā vērtība no visiem pretendentiem )/(faktiskā iesniegtā vērtība konkrētajam pretendentam) x Piešķiramais punktu skaits. 3) B (Preces ražotāja noteiktais preces maksimālais lietošanas ilgums) daļai - vislielākajai vērtības tiek piešķirts maksimālais punktu skaits. Ja piedāvājumā nav norādīta informācija par preces lietošanas ilgumu tiek pieņemts, ka lietošanas ilgums ir noteiktais garantijas laiks. Ja tiek norādīts paredzamā lietošanas ilguma diapazons, punktu piešķiršanai tiek izmantota zemākā vērtība. 4) Nākamās vērtības B (Preces ražotāja noteiktais preces maksimālais lietošanas ilgums) daļai tiek aprēķinātas proporcionāli B = (faktiskā iesniegtā vērtība konkrētajam pretendentam)/(B augstākā iesniegtā vērtība no visiem pretendentiem ) x Piešķiramais punktu skaits.

Sheet TS 8. poz
A1: 8. pozīcija - Gaismas mikroskops ar manuāli pagriežamu objektīvu revolveri | D1: Pretendenta piedāvājums, atsauce uz informatīvo materiālu (Informatīvā materiāla nosaukums, lpp.)
A2: Nr. | B2: Preces nosaukums, veicamās funkcijas, tehniskās prasības un komplektācija | C2: Skaits, gab.***
A3: Piemērs | B3: Piemērs | C3: Piemērs | D3: Informatīvais materiāls 2, 4.lpp
A4: 8 | B4: Nosaukums: Gaismas mikroskops ar manuāli pagriežamu objektīvu revolveri. | C4: 4
A5: 8.1. | B5: Veicamās funkcijas:
A6: 8.1.1. | B6: Histoloģisko un citoloģisko preparātu vizuālā novērošana.
A7: 8.2. | B7: Tehniskās prasības:
A8: 8.2.1 | B8: Optiskā sistēma: bezgalības korekcijas tipa (Infinity corrected).
A9: 8.2.2 | B9: Objektīvi:
A10: 8.2.2.1 | B10: 4×, ar apertūras skaitli (NA) ≥ 0.13, darba attālums (WD) ≥ 17 mm;
A11: 8.2.2.2 | B11: 10×, ar apertūras skaitli (NA) ≥ 0.30, darba attālums (WD) ≥ 11 mm;
A12: 8.2.2.3 | B12: 20×, ar apertūras skaitli (NA) ≥ 0.5, darba attālums (WD) ≥ 1.27 mm;
A13: 8.2.2.4 | B13: 40×, ar apertūras skaitli (NA) ≥ 0.95, darba attālums (WD) ≥ 0.21 mm;
A14: 8.2.2.5 | B14: 100× (eļļas immersija), ar apertūras skaitli (NA) ≥ 1.25, darba attālums (WD) ≥ 0.16 mm.
A15: 8.2.3 | B15: Jābūt 10× okulāriem ar redzes lauka skaitli ≥ 22 mm un dioptrijas korekcijas iespēju.
A16: 8.2.4 | B16: Iespēja integrēt digitālo kameru attēlu iegūšanai un dokumentēšanai.
... A35: 8.3 | B35: Piederumi, saderīgi ar piedāvāto iekārtu (tiek norādīta cena par katru piederumu atsevišķi, tiks pasūtīti pēc nepieciešamības, papildus norādīto piederumu cena netiek iekļauta vērtējamajā cenā):
A36: 8.3.1 | B36: Polarizācijas papildinājums: polarizātors un analizātors. | C36: 1
A37: 8.3.2 | B37: Objektīvs: no 60x līdz 63x, ar apertūras skaitli (NA) ≥ 0.80, darba attālums (WD) ≥ 0.26 mm. | C37: 1
A38: 8.3.3 | B38: Programmatūra fotodokumentēšanai ar iekļautiem vismaz pamata mērīšanas un atskaišu veidošanas rīkiem. | C38: 1
A39: 8.3.4 | B39: Dators, kas ir saderīgs ar attēlu iegūšanas programmatūru, komplektā ar lietošanai nepieciešamo aprīkojumu, piemēram, datora peli un tastatūru. | C39: 1
A40: 8.3.5 | B40: 4K monitors ar vismaz 27 collu diagonāli. | C40: 1
A41: 8.3.6 | B41: 4 k digitālā kamera ar vismaz 1 collas krāsu CMOS attēla sensoru, izšķirtspēju vismaz 4864 × 3648 pikseļi un maksimālo kadru nomaiņas ātrumu vismaz 60 kadri sekundē. Ar iekļautu kameras adapteri ar vismaz 0,55× palielinājumu, kas nodrošina plašāku redzes lauku. | C41: 1
A42: 8.3.7 | B42: Citi piederumi, kas nepieciešamas piedāvātajai ierīcei, lai nodrošinātu tehniskajā aprakstā norādīto funkcionalitāti. (rindiņas atļauts papildināt zemāk pēc nepieciešamības, vienā rindiņā ierakstīt ne vairāk kā vienu piederumu) | C42: 1
A44: Saimnieciski visizdevīgākā piedāvājuma vērtēšanai norādāmā papildus informācija | D44: Saimnieciski visizdevīgākā piedāvājuma vērtēšanai norādāmā papildus informācija Pretendenta piedāvājums, atsauce uz informatīvo materiālu vai ražotāja apliecinājumu
A45: B | B45: Jānorāda Preces ražotāja noteiktais preces paredzamais lietošanas ilgums (paredzamais lietošanas ilgums) (gados)
A46: C | B46: Jānorāda Preces ražotāja noteiktais elektroenerģijas patēriņš darba režīmā (voltampēros (VA) vai vatos (W)
A47: D | B47: Iekārta ir aprīkota ar refokusēšanas funkciju (jā/ nē)
A49: Daļa | B49: VĒRTĒŠANAS KRITĒRIJI | C49: ĪPATSVARS
A50: A | B50: Vērtējamā summa. | C50: 85
A51: B | B51: Preces paredzamais lietošanas ilgums. | C51: 5
A52: C | B52: Elektroenerģijas patēriņš darba režīmā. | C52: 5
A53: D | B53: Iekārta ir aprīkota ar refokusēšanas funkciju. | C53: 5
A54: ∑ | B54: Maksimālais īpatsvars (kopējais punktu skaits) ∑=A+B+C+D | C54: 100
A57: Komisija katrā daļā piešķir īpatsvaru (punktu skaitu), šādā kārtībā: 1) A (Vērtējamā summa) un C (Elektroenerģijas patēriņš) daļai - viszemākajai vērtība tiek piešķirts maksimālais punktu skaits. Ja piedāvājumā nav norādīta informācija par elektroenerģijas patēriņu tiek piešķirti 0 punkti. Ja tiek norādīts elektroenerģijas patēriņa diapazons, punktu piešķiršanai tiek izmantota augstākā vērtība. 2) Nākamās vērtības A (Vērtējamā summa) un C (Elektroenerģijas patēriņš) daļai tiek aprēķinātas proporcionāli A vai C = (A vai C zemākā iesniegtā vērtība no visiem pretendentiem )/(faktiskā iesniegtā vērtība konkrētajam pretendentam) x Piešķiramais punktu skaits. 3) B (Preces ražotāja noteiktais preces maksimālais lietošanas ilgums) daļai - vislielākajai vērtības tiek piešķirts maksimālais punktu skaits. Ja piedāvājumā nav norādīta informācija par preces lietošanas ilgumu tiek pieņemts, ka lietošanas ilgums ir noteiktais garantijas laiks. Ja tiek norādīts paredzamā lietošanas ilguma diapazons, punktu piešķiršanai tiek izmantota zemākā vērtība. 4) Nākamās vērtības B (Preces ražotāja noteiktais preces maksimālais lietošanas ilgums) daļai tiek aprēķinātas proporcionāli B = (faktiskā iesniegtā vērtība konkrētajam pretendentam)/(B augstākā iesniegtā vērtība no visiem pretendentiem ) x Piešķiramais punktu skaits. 5) D (Iekārta ir aprīkota ar refokusēšanas funkciju) tiek piešķirti 5 punkti par izpildi un 0 par neatbilstību prasībai.

Sheet TS 9. poz
A1: 9. pozīcija - Histoloģisko kasešu printeris | D1: Pretendenta piedāvājums, atsauce uz informatīvo materiālu (Informatīvā materiāla nosaukums, lpp.)
A2: Nr. | B2: Preces nosaukums, veicamās funkcijas, tehniskās prasības un komplektācija | C2: Skaits, gab.***
A3: Piemērs | B3: Piemērs | C3: Piemērs | D3: Informatīvais materiāls 2, 4.lpp
A4: 9 | B4: Nosaukums: Histoloģisko kasešu printeris. | C4: 1
A5: 9.1. | B5: Veicamās funkcijas:
A6: 9.1.1 | B6: Automātiska histoloģisko plastmasas kasešu marķēšana ar pastāvīgu, ķīmiski izturīgu identifikāciju, nodrošinot paraugu izsekojamību visā histoloģisko paraugu sagatavošanas procesā un uzglabāšanas periodā.
A7: 9.2. | B7: Tehniskās prasības:
A8: 9.2.1 | B8: Drukas metode: lāzerdrukas, ķīmiski aktivēta vai cita analoga bezpatēriņa materiālu tehnoloģija, kas nodrošina tiešu, pastāvīgu un ķīmiski izturīgu marķējumu uz histoloģiskajām plastmasas kasetēm.
A9: 9.2.2 | B9: Drukas izšķirtspēja vismaz 300 dpi.
A10: 9.2.3 | B10: Marķējuma veidi:
A11: 9.2.3.1 | B11: teksts;
A12: 9.2.3.2 | B12: lineārie svītrkodi;
A13: 9.2.3.3 | B13: 2D kodi (QR kods vai tam līdzvērtīgs).
A14: 9.2.4 | B14: Marķējums ir noturīgs pret izbalēšanu, nesmērējas un nav izdzēšams pēc ķīmiskās apstrādes, tostarp tīrīšanas un šķīdinātāju iedarbības.
A15: 9.2.5 | B15: Automātiska histoloģisko kasešu padeve.
A16: 9.2.6 | B16: Kasešu kapacitāte visos kasešu padevējos vienlaicīgi vismaz 200 kasetes.
... A22: 9.3. | B22: Komplektācija (saderīga ar iekārtu, iekļauta iekārtas cenā, tiek piegādāta kopā ar katru iekārtu):
A23: 9.3.1 | B23: Iekārta tiek piegādāta pilnā komplektācijā instalēšanai. | C23: 1
A24: 9.3.2 | B24: Iekārta tiek piegādāta pilnā komplektācijā pirmreizējai lietošanai. | C24: 1
A26: Saimnieciski visizdevīgākā piedāvājuma vērtēšanai norādāmā papildus informācija | D26: Saimnieciski visizdevīgākā piedāvājuma vērtēšanai norādāmā papildus informācija Pretendenta piedāvājums, atsauce uz informatīvo materiālu vai ražotāja apliecinājumu
A27: B | B27: Jānorāda Preces ražotāja noteiktais preces paredzamais lietošanas ilgums (paredzamais lietošanas ilgums) (gados)
A28: C | B28: Jānorāda Preces ražotāja noteiktais elektroenerģijas patēriņš darba režīmā (voltampēros (VA) vai vatos (W)
A30: Daļa | B30: VĒRTĒŠANAS KRITĒRIJI | C30: ĪPATSVARS
A31: A | B31: Vērtējamā summa | C31: 90
A32: B | B32: Preces paredzamais lietošanas ilgums. | C32: 5
A33: C | B33: Elektroenerģijas patēriņš darba režīmā. | C33: 5
A34: ∑ | B34: Maksimālais īpatsvars (kopējais punktu skaits) ∑=A+B+C | C34: 100
A37: Komisija katrā daļā piešķir īpatsvaru (punktu skaitu), šādā kārtībā: 1) A (Vērtējamā summa) un C (Elektroenerģijas patēriņš) daļai - viszemākajai vērtība tiek piešķirts maksimālais punktu skaits. Ja piedāvājumā nav norādīta informācija par elektroenerģijas patēriņu tiek piešķirti 0 punkti. Ja tiek norādīts elektroenerģijas patēriņa diapazons, punktu piešķiršanai tiek izmantota augstākā vērtība. 2) Nākamās vērtības A (Vērtējamā summa) un C (Elektroenerģijas patēriņš) daļai tiek aprēķinātas proporcionāli A vai C = (A vai C zemākā iesniegtā vērtība no visiem pretendentiem )/(faktiskā iesniegtā vērtība konkrētajam pretendentam) x Piešķiramais punktu skaits. 3) B (Preces ražotāja noteiktais preces maksimālais lietošanas ilgums) daļai - vislielākajai vērtības tiek piešķirts maksimālais punktu skaits. Ja piedāvājumā nav norādīta informācija par preces lietošanas ilgumu tiek pieņemts, ka lietošanas ilgums ir noteiktais garantijas laiks. Ja tiek norādīts paredzamā lietošanas ilguma diapazons, punktu piešķiršanai tiek izmantota zemākā vērtība. 4) Nākamās vērtības B (Preces ražotāja noteiktais preces maksimālais lietošanas ilgums) daļai tiek aprēķinātas proporcionāli B = (faktiskā iesniegtā vērtība konkrētajam pretendentam)/(B augstākā iesniegtā vērtība no visiem pretendentiem ) x Piešķiramais punktu skaits.

Sheet TS 10. poz
A1: 10. pozīcija - Gaismas mikroskops ar motoriski pagriežamu objektīvu revolveri | D1: Pretendenta piedāvājums, atsauce uz informatīvo materiālu (Informatīvā materiāla nosaukums, lpp.)
A2: Nr. | B2: Preces nosaukums, veicamās funkcijas, tehniskās prasības un komplektācija | C2: Skaits, gab.***
A3: Piemērs | B3: Piemērs | C3: Piemērs | D3: Informatīvais materiāls 2, 4.lpp
A4: 10 | B4: Nosaukums: Gaismas mikroskops ar motoriski pagriežamu objektīvu revolveri. | C4: 1
A5: 10.1. | B5: Veicamās funkcijas:
A6: 10.1.1. | B6: Histoloģisko un citoloģisko preparātu vizuālā novērošana.
A7: 10.2. | B7: Tehniskās prasības:
A8: 10.2.1 | B8: Optiskā sistēma: bezgalības korekcijas tipa (Infinity corrected).
A9: 10.2.2 | B9: Objektīvi:
A10: 10.2.2.1 | B10: 4×, ar apertūras skaitli (NA) ≥ 0.13, darba attālums (WD) ≥ 17 mm;
A11: 10.2.2.2 | B11: 10×, ar apertūras skaitli (NA) ≥ 0.30, darba attālums (WD) ≥ 11 mm;
A12: 10.2.2.3 | B12: 20×, ar apertūras skaitli (NA) ≥ 0.5, darba attālums (WD) ≥ 1.27 mm;
A13: 10.2.2.4 | B13: 40×, ar apertūras skaitli (NA) ≥ 0.95, darba attālums (WD) ≥ 0.21 mm;
A14: 10.2.2.5 | B14: 100× (eļļas immersija),ar apertūras skaitli (NA) ≥ 1.30, darba attālums (WD) ≥ 0.16 mm.
A15: 10.2.3 | B15: Jābūt 10× okulāriem ar redzes lauka skaitli ≥ 22 mm un dioptrijas korekcijas iespēju.
A16: 10.2.4 | B16: Iespēja integrēt digitālo kameru attēlu iegūšanai un dokumentēšanai.
... A34: 10.3 | B34: Komplektācija (iekļauta iekārtas cenā, tiek piegādāta kopā ar katru iekārtu):
A35: 10.3.1 | B35: Iekārta tiek piegādāta pilnā komplektācijā instalēšanai | C35: 1
A36: 10.3.2 | B36: Iekārta tiek piegādāta pilnā komplektācijā pirmreizējai lietošanai | C36: 1
A38: Saimnieciski visizdevīgākā piedāvājuma vērtēšanai norādāmā papildus informācija | D38: Saimnieciski visizdevīgākā piedāvājuma vērtēšanai norādāmā papildus informācija Pretendenta piedāvājums, atsauce uz informatīvo materiālu vai ražotāja apliecinājumu
A39: B | B39: Jānorāda Preces ražotāja noteiktais preces paredzamais lietošanas ilgums (paredzamais lietošanas ilgums) (gados)
A40: C | B40: Jānorāda Preces ražotāja noteiktais elektroenerģijas patēriņš darba režīmā (voltampēros (VA) vai vatos (W)
A41: D | B41: Iekārta ir aprīkota ar refokusēšanas funkciju (jā/ nē)
A43: Daļa | B43: VĒRTĒŠANAS KRITĒRIJI | C43: ĪPATSVARS
A44: A | B44: Vērtējamā summa. | C44: 85
A45: B | B45: Preces paredzamais lietošanas ilgums. | C45: 5
A46: C | B46: Elektroenerģijas patēriņš darba režīmā. | C46: 5
A47: D | B47: Iekārta ir aprīkota ar refokusēšanas funkciju. | C47: 5
A48: ∑ | B48: Maksimālais īpatsvars (kopējais punktu skaits) ∑=A+B+C+D | C48: 100
A51: Komisija katrā daļā piešķir īpatsvaru (punktu skaitu), šādā kārtībā: 1) A (Vērtējamā summa) un C (Elektroenerģijas patēriņš) daļai - viszemākajai vērtība tiek piešķirts maksimālais punktu skaits. Ja piedāvājumā nav norādīta informācija par elektroenerģijas patēriņu tiek piešķirti 0 punkti. Ja tiek norādīts elektroenerģijas patēriņa diapazons, punktu piešķiršanai tiek izmantota augstākā vērtība. 2) Nākamās vērtības A (Vērtējamā summa) un C (Elektroenerģijas patēriņš) daļai tiek aprēķinātas proporcionāli A vai C = (A vai C zemākā iesniegtā vērtība no visiem pretendentiem )/(faktiskā iesniegtā vērtība konkrētajam pretendentam) x Piešķiramais punktu skaits. 3) B (Preces ražotāja noteiktais preces maksimālais lietošanas ilgums) daļai - vislielākajai vērtības tiek piešķirts maksimālais punktu skaits. Ja piedāvājumā nav norādīta informācija par preces lietošanas ilgumu tiek pieņemts, ka lietošanas ilgums ir noteiktais garantijas laiks. Ja tiek norādīts paredzamā lietošanas ilguma diapazons, punktu piešķiršanai tiek izmantota zemākā vērtība. 4) Nākamās vērtības B (Preces ražotāja noteiktais preces maksimālais lietošanas ilgums) daļai tiek aprēķinātas proporcionāli B = (faktiskā iesniegtā vērtība konkrētajam pretendentam)/(B augstākā iesniegtā vērtība no visiem pretendentiem ) x Piešķiramais punktu skaits. 5) D (Iekārta ir aprīkota ar refokusēšanas funkciju) tiek piešķirti 5 punkti par izpildi un 0 par neatbilstību prasībai.

Sheet Iekārtu tehniskā apkalpošana
A2: Ierīcēm, kurām pēcgarantijas periodā periodiski veicamo darbu saturs mainās, Pretendents aizpilda "Iekārtu tehniskā apkalpošana" tabulu, izveidojot papildus rindu/as zem ierīces, katrā jaunā rindā norādot periodiski veicamā darba veidu, pārliecinoties, ka kopumā ir uzskaitīti visi uz ierīci attiecināmie periodiski veicamie darbi pēcgarantijas periodā
A3: Kopējās izmaksas viena periodiski veicamā darba veida veikšanai pēcgarantijas periodā tiek aprēķinātas sekojoši: 13=3*(6*(7+(8*9)) kur norādītie skaitļi ir kolonnas kārtas numurs. 14. kolonnā jānorāda summa par visiem periodiski veicamajiem darbiem visām iekārtām
A4: Iekārtu tehniskā apkalpošana
A5: Iepirkuma pozīcijas numurs | B5: Iekārtas nosaukums | C5: Iekārtu skaits *** | D5: Pēcgarantijas periods, ņemot vērā, ka garantijas periods un pēcgarantijas periods veido piecus gadus | E5: Periodiski veicamā darba veids pēcgarantijas periodā | F5: Periodiski veicamā darba skaits vienai ierīcei pēcgarantijas periodā | G5: Viena periodiski veicamā darba maināmo rezerves daļu izmaksas, ja attiecināms, EUR bez PVN | H5: Viena periodiski veicamā darba paredzamais ilgums, stundas | I5: Periodiski veicamo darbu servisa stundas likme, EUR bez PVN | J5: Remonta servisa stundas likme, EUR bez PVN | K5: Vai ražotājs ir paredzējis elektrodrošības pārbaudes periodiski veicamo darbu ietvaros? (Jā/Nē) | L5: Vai ražotājs ir paredzējis funkcionālās pārbaudes periodiski veicamo darbu ietvaros? (Jā/Nē) | M5: Summa par viena periodiski veicamā darba veidu pēcgarantijas periodā visām iekārtām, EUR bez PVN | N5: Summa par visiem periodiski veicamajiem darbiem pēcgarantijas periodā visām iekārtām, EUR bez PVN | O5: Piezīmes
A6: 1 | B6: 2 | C6: 3 | D6: 4 | E6: 5 | F6: 6 | G6: 7 | H6: 8 | I6: 9 | J6: 10 | K6: 11 | L6: 12 | M6: 13 | N6: 14 | O6: 15
A7: 1 | B7: Pusautomātiskais rotācijas mikrotoms | C7: 4 | M7: =C7*(F7*(G7+(H7*I7))) -> 0 | N7: =M7 -> 0
A8: 2 | B8: Ūdens vanna | C8: 4 | M8: =C8*(F8*(G8+(H8*I8))) -> 0 | N8: =M8 -> 0
A9: 3 | B9: Kompakta brīvi stāvoša dzesējoša plāksne | C9: 4 | M9: =C9*(F9*(G9+(H9*I9))) -> 0 | N9: =M9 -> 0
A10: 4 | B10: Kompakta brīvi stāvoša sildoša plāksne | C10: 4 | M10: =C10*(F10*(G10+(H10*I10))) -> 0 | N10: =M10 -> 0
A11: 5 | B11: Parafīna iekapsulēšanas stacija histoloģiskajām kasetēm | C11: 2 | M11: =C11*(F11*(G11+(H11*I11))) -> 0 | N11: =M11 -> 0
A12: 6 | B12: Automātiskais audu procesors | C12: 1 | M12: =C12*(F12*(G12+(H12*I12))) -> 0 | N12: =M12 -> 0
A13: 7 | B13: Ātrās sasaldēšanas iekārta audu griezumu sagatavošanai | C13: 1 | M13: =C13*(F13*(G13+(H13*I13))) -> 0 | N13: =M13 -> 0
A14: 8 | B14: Gaismas mikroskops ar manuāli pagriežamu objektīvu revolveri | C14: 4 | M14: =C14*(F14*(G14+(H14*I14))) -> 0 | N14: =M14 -> 0
A15: 9 | B15: Histoloģisko kasešu printeris | C15: 1 | M15: =C15*(F15*(G15+(H15*I15))) -> 0 | N15: =M15 -> 0
A16: 10 | B16: Gaismas mikroskops ar motoriski pagriežamu objektīvu revolveri | C16: 1 | M16: =C16*(F16*(G16+(H16*I16))) -> 0 | N16: =M16 -> 0
A17: Piemērs
A18: Iekārtu tehniskā apkalpošana
A19: Iepirkuma daļas numurs | B19: Iekārtas nosaukums | C19: Iekārtu skaits * | D19: Pēcgarantijas periods, ņemot vērā, ka garantijas periods un pēcgarantijas periods veido piecus gadus | E19: Periodiski veicamā darba veids pēcgarantijas periodā | F19: Periodiski veicamā darba skaits vienai ierīcei pēcgarantijas periodā | G19: Viena periodiski veicamā darba maināmo rezerves daļu izmaksas, ja attiecināms, EUR bez PVN | H19: Viena periodiski veicamā darba paredzamais ilgums, stundas | I19: Periodiski veicamo darbu servisa stundas likme, EUR bez PVN | J19: Remonta servisa stundas likme, EUR bez PVN | K19: Vai ražotājs ir paredzējis elektrodrošības pārbaudes periodiski veicamo darbu ietvaros? (Jā/Nē) | L19: Vai ražotājs ir paredzējis funkcionālās pārbaudes periodiski veicamo darbu ietvaros? (Jā/Nē) | M19: Summa par viena periodiski veicamā darba veidu pēcgarantijas periodā visām iekārtām, EUR bez PVN | N19: Summa par visiem periodiski veicamajiem darbiem pēcgarantijas periodā visām iekārtām, EUR bez PVN | O19: Piezīmes
A20: 1 | B20: 2 | C20: 3 | D20: 4 | E20: 5 | F20: 6 | G20: 7 | H20: 8 | I20: 9 | J20: 10 | K20: 11 | L20: 12 | M20: 13 | N20: 14 | O20: 15
A21: 1. daļa | B21: Mākslīgā plaušu ventilācijas ierīce | C21: 5 | D21: 3 | E21: 1000h apkope | F21: 2 | G21: 500 | H21: 3 | I21: 35 | J21: 35 | K21: JĀ | L21: JĀ | M21: =C21*(F21*(G21+(H21*I21))) -> 6050 | N21: =M21+M22 -> 6312.5
C22: 5 | D22: 3 | E22: 2 gadu pārbaude | F22: 1 | G22: 0 | H22: 1.5 | I22: 35 | J22: 35 | K22: JĀ | L22: JĀ | M22: =C22*(F22*(G22+(H22*I22))) -> 262.5

Sheet Finanšu piedāvājums
A1: Finanšu piedāvājums
A2: Iekārtu iegādes izmaksas
A3: Iepirkuma pozīcijas numurs | B3: Iekārtas nosaukums | C3: Iekārtu skaits *** | D3: Vienas vienības cena, EUR bez PVN | E3: Summa, EUR bez PVN | F3: PVN likme, % | G3: Summa par iekārtu tehnisko apkalpošanu (ja ražotājs tādu ir paredzējis) | H3: Vērtējamā summa | I3: Komentārs
A4: 1 | B4: Pusautomātiskais rotācijas mikrotoms | C4: 4 | E4: =D4*C4 -> 0 | G4: ='Iekārtu tehniskā apkalpošana'!N7 -> 0 | H4: =E4+G4 -> 0
A5: 2 | B5: Ūdens vanna | C5: 4 | E5: =D5*C5 -> 0 | G5: ='Iekārtu tehniskā apkalpošana'!N8 -> 0 | H5: =E5+G5 -> 0
A6: 3 | B6: Kompakta brīvi stāvoša dzesējoša plāksne | C6: 4 | E6: =D6*C6 -> 0 | G6: ='Iekārtu tehniskā apkalpošana'!N9 -> 0 | H6: =E6+G6 -> 0
A7: 4 | B7: Kompakta brīvi stāvoša sildoša plāksne | C7: 4 | E7: =D7*C7 -> 0 | G7: ='Iekārtu tehniskā apkalpošana'!N10 -> 0 | H7: =E7+G7 -> 0
A8: 5 | B8: Parafīna iekapsulēšanas stacija histoloģiskajām kasetēm | C8: 2 | E8: =D8*C8 -> 0 | G8: ='Iekārtu tehniskā apkalpošana'!N11 -> 0 | H8: =E8+G8 -> 0
A9: 6 | B9: Automātiskais audu procesors | C9: 1 | E9: =D9*C9 -> 0 | G9: ='Iekārtu tehniskā apkalpošana'!N12 -> 0 | H9: =E9+G9 -> 0
A10: 7 | B10: Ātrās sasaldēšanas iekārta audu griezumu sagatavošanai | C10: 1 | E10: =D10*C10 -> 0 | G10: ='Iekārtu tehniskā apkalpošana'!N13 -> 0 | H10: =E10+G10 -> 0
A11: 8 | B11: Gaismas mikroskops ar manuāli pagriežamu objektīvu revolveri | C11: 4 | E11: =D11*C11 -> 0 | G11: ='Iekārtu tehniskā apkalpošana'!N14 -> 0 | H11: =E11+G11+E12+E13+E14+E15+E16+E17+E18 -> 0
A12: 8.3.1 | B12: Polarizācijas papildinājums: polarizātors un analizātors. | C12: 1 | E12: =D12*C12 -> 0 | G12: Nav attiecināms
A13: 8.3.2 | B13: Objektīvs: no 60x līdz 63x, ar apertūras skaitli (NA) ≥ 0.80, darba attālums (WD) ≥ 0.26 mm. | C13: 1 | E13: =D13*C13 -> 0
A14: 8.3.3 | B14: Programmatūra fotodokumentēšanai ar iekļautiem vismaz pamata mērīšanas un atskaišu veidošanas rīkiem. | C14: 1 | E14: =D14*C14 -> 0
A15: 8.3.4 | B15: Dators, kas ir saderīgs ar attēlu iegūšanas programmatūru, komplektā ar lietošanai nepieciešamo aprīkojumu, piemēram, datora peli un tastatūru. | C15: 1 | E15: =D15*C15 -> 0
A16: 8.3.5 | B16: 4K monitors ar vismaz 27 collu diagonāli. | C16: 1 | E16: =D16*C16 -> 0
A17: 8.3.6 | B17: 4 k digitālā kamera ar vismaz 1 collas krāsu CMOS attēla sensoru, izšķirtspēju vismaz 4864 × 3648 pikseļi un maksimālo kadru nomaiņas ātrumu vismaz 60 kadri sekundē. Ar iekļautu kameras adapteri ar vismaz 0,55× palielinājumu, kas nodrošina plašāku redzes lauku. | C17: 1 | E17: =D17*C17 -> 0
A18: 8.3.7 | B18: Citi piederumi, kas nepieciešamas piedāvātajai ierīcei, lai nodrošinātu tehniskajā aprakstā norādīto funkcionalitāti. (rindiņas atļauts papildināt zemāk pēc nepieciešamības, vienā rindiņā ierakstīt ne vairāk kā vienu piederumu) | C18: 1 | E18: =D18*C18 -> 0
A19: 9 | B19: Histoloģisko kasešu printeris | C19: 1 | E19: =D19*C19 -> 0 | G19: ='Iekārtu tehniskā apkalpošana'!N15 -> 0 | H19: =E19+G19 -> 0
A20: 10 | B20: Gaismas mikroskops ar motoriski pagriežamu objektīvu revolveri | C20: 1 | E20: =D20*C20 -> 0 | G20: ='Iekārtu tehniskā apkalpošana'!N16 -> 0 | H20: =E20+G20 -> 0
