Workbook

Sheet 1. Lielvārds
C2: "Drukāto mācību līdzekļu piegāde Ādažu sākumskolai un vidusskolai"
C3: ID Nr. ĀNP 2026/108
C5: Iepirkuma 1. daļa - Lielvārds mācību literatūra
C7: Tehniskā specifikācija/Tehniskais un Finanšu piedāvājums
A9: Nr. | B9: Izdevniecība | C9: Mācību līdzekļa nosaukums | D9: Autors | E9: Drukātā mācību līdzekļa veids | F9: Izdošanas gads | G9: Skaits | H9: Cena par 1 (vienu) vienību euro bez PVN | I9: Cena par visām vienībām euro bez PVN
A10: 1 | B10: "Lielvārds" | C10: Latviešu valoda 1. klasei. Mācību burtnīca | D10: Anspoka Z. | E10: Darba burtnīca | F10: 2025 | G10: 10 | H10: 0 | I10: =H10*G10 -> 0
A11: 2 | B11: "Lielvārds" | C11: Dabaszinības 3. klasei. mācību burtnīca | D11: G. Ansone, M. Gribuste, V. Laizāns, I. Vilks | E11: Darba burtnīca | F11: 2022 | G11: 184 | H11: 0 | I11: =H11*G11 -> 0
A12: 3 | B12: "Lielvārds" | C12: Dabaszinības 4. klasei. mācību burtnīca | D12: G. Ansone, M. Gribuste, V. Laizāns, I. Vilks | E12: Darba burtnīca | F12: 2022 | G12: 240 | H12: 0 | I12: =H12*G12 -> 0
A13: 4 | B13: "Lielvārds" | C13: Sociālās zinības un vēsture 5. klasei. 1. daļa | D13: M. Lāce, I. Upeniece, I. Vaivode | E13: Darba burtnīca | F13: 2022 | G13: 255 | H13: 0 | I13: =H13*G13 -> 0
A14: 5 | B14: "Lielvārds" | C14: Sociālās zinības un vēsture 5. klasei. 2. daļa | D14: M. Lāce, I. Upeniece, I. Vaivode | E14: Darba burtnīca | F14: 2022 | G14: 255 | H14: 0 | I14: =H14*G14 -> 0
A15: 6 | B15: "Lielvārds" | C15: Sociālās zinības un vēsture 6. klasei. 1. daļa | D15: M. Lāce, I. Upeniece, I. Vaivode | E15: Darba burtnīca | F15: 2022 | G15: 245 | H15: 0 | I15: =H15*G15 -> 0
A16: 7 | B16: "Lielvārds" | C16: Sociālās zinības un vēsture 6. klasei. 2. daļa | D16: M. Lāce, I. Upeniece, I. Vaivode | E16: Darba burtnīca | F16: 2022 | G16: 245 | H16: 0 | I16: =H16*G16 -> 0
A17: 8 | B17: "Lielvārds" | C17: Dabaszinības 5. klasei. Mācību burtnīca | D17: I. Vilks, G. Ansone, M. Gribuste | E17: Darba burtnīca | F17: 2021 | G17: 240 | H17: 0 | I17: =H17*G17 -> 0
A18: 9 | B18: "Lielvārds" | C18: Dabaszinības 6. klasei. Mācību burtnīca | D18: I. Vilks, G. Ansone, M. Gribuste | E18: Darba burtnīca | F18: 2021 | G18: 240 | H18: 0 | I18: =H18*G18 -> 0
A19: 10 | B19: "Lielvārds" | C19: Latviešu valoda 1. klasei. 1.daļa | D19: Anspoka Z | E19: Grāmata | F19: 2025 | G19: 10 | H19: 0 | I19: =H19*G19 -> 0
A20: 11 | B20: "Lielvārds" | C20: Latviešu valoda 1. klasei. 2.daļa | D20: Anspoka Z | E20: Grāmata | F20: 2025 | G20: 10 | H20: 0 | I20: =H20*G20 -> 0
A21: 12 | B21: "Lielvārds" | C21: Sociālās zinības 1. klasei | D21: Upeniece I., Jansone D., Radziņa M | E21: Grāmata | F21: 2025 | G21: 253 | H21: 0 | I21: =H21*G21 -> 0
... A29: 20 | B29: "Lielvārds" | C29: Latvijas un pasaules vēsture 8. klasei | D29: O. Kaulēns, A. Kļaviņa, I. Vaivode | E29: Grāmata | F29: 2024 | G29: 30 | H29: 0 | I29: =H29*G29 -> 0
G30: Kopā euro bez PVN: | I30: =SUM(I10:I29) -> 0
G31: PVN:
G32: Kopā euro ar PVN: | I32: =I30+I31 -> 0
A34: Preču cenās ir iekļautas visas ar līguma izpildi saistītās izmaksas, tostarp, bet ne tikai – preču sagādes, piegādes, u.c. izmaksas.
A36: Tehniskās specifikācijas sagatavošanas datums: 13.05.2026

Sheet 2. Skolas Vārds
C2: "Drukāto mācību līdzekļu piegāde Ādažu sākumskolai un vidusskolai"
C3: ID Nr. ĀNP 2026/108
C5: Iepirkuma 2. daļa - Skolas vārds mācību literatūra
C7: Tehniskā specifikācija/Tehniskais un Finanšu piedāvājums
A9: Nr. | B9: Izdevniecība | C9: Mācību līdzekļa nosaukums | D9: Autors | E9: Drukātā mācību līdzekļa veids | F9: Izdošanas gads | G9: Skaits | H9: Cena par 1 (vienu) vienību euro bez PVN | I9: Cena par visām vienībām euro bez PVN
A10: 1 | B10: Skolas vārds | C10: Dabaszinības 1.klasei | D10: Liškauska L., Melne V., Vilnīte A. | E10: Grāmata | F10: 2025 | G10: 253 | H10: 0 | I10: =H10*G10 -> 0
A11: 2 | B11: Skolas vārds | C11: Dabaszinības 1. klasei | D11: Signe Ungure, Annija Vilnīte, Sanda Isačonoka-Atopkina | E11: Darba burtnīca | F11: 2023 | G11: 253 | H11: 0 | I11: =H11*G11 -> 0
A12: 3 | B12: Skolas vārds | C12: Teātra māksla. Skolēna dienasgrāmata 4.– 9. klasei | D12: Zane Bēķe, Inga Krišāne, Ligita Smildziņa | E12: Grāmata | F12: 2026 | G12: 10 | H12: 0 | I12: =H12*G12 -> 0
G13: Kopā euro bez PVN: | I13: =SUM(I10:I12) -> 0
G14: PVN:
G15: Kopā euro ar PVN: | I15: =I13+I14 -> 0
A18: Preču cenās ir iekļautas visas ar līguma izpildi saistītās izmaksas, tostarp, bet ne tikai – preču sagādes, piegādes, u.c. izmaksas.
A20: ='1. Lielvārds'!A36 -> Tehniskās specifikācijas sagatavošanas datums: 13.05.2026

Sheet 3. Krisostomus Latvija
C2: "Drukāto mācību līdzekļu piegāde Ādažu sākumskolai un vidusskolai"
C3: ID Nr. ĀNP 2026/108
C5: Iepirkuma 3. daļa - Krisostomus Latvija mācību literatūra
C7: Tehniskā specifikācija/Tehniskais un Finanšu piedāvājums
A9: Nr. | B9: Izdevniecība | C9: Mācību līdzekļa nosaukums | D9: Autors | E9: Drukātā mācību līdzekļa veids | F9: Izdošanas gads | G9: Skaits | H9: Cena par 1 (vienu) vienību euro bez PVN | I9: Cena par visām vienībām euro bez PVN
A10: 1 | B10: Krisostomus Latvija | C10: Gateway to the world A2, workbook. Macmillan Education | D10: Spencer, David. | E10: Darba burtnīca | F10: 2021 | G10: 255 | H10: 0 | I10: =H10*G10 -> 0
A11: 2 | B11: Krisostomus Latvija | C11: Gataway to the World B1. Workbook. Macmillan Education | D11: Spencer, David. | E11: Darba burtnīca | F11: 2021 | G11: 225 | H11: 0 | I11: =H11*G11 -> 0
A12: 3 | B12: Krisostomus Latvija | C12: New Close-up B1+; Workbook- National Geographic Learning. | D12: Louisa Essenhigh | E12: Darba burtnīca | F12: 2022 | G12: 175 | H12: 0 | I12: =H12*G12 -> 0
A13: 4 | B13: Krisostomus Latvija | C13: New Close-up B2 Workbook.- National Geographic Learning. | D13: Jeremy Day | E13: Darba burtnīca | F13: 2022 | G13: 50 | H13: 0 | I13: =H13*G13 -> 0
A14: 5 | B14: Krisostomus Latvija | C14: New Close-up B2+ Workbook.- National Geographic Learning. | D14: Katherine Stannett | E14: Darba burtnīca | F14: 2022 | G14: 65 | H14: 0 | I14: =H14*G14 -> 0
A15: 6 | B15: Krisostomus Latvija | C15: Perspectives Advanced Workbook .- National Geographic Learning | D15: Lewis Lansford, Daniel Barber | E15: Darba burtnīca | F15: 2018 | G15: 20 | H15: 0 | I15: =H15*G15 -> 0
A16: 7 | B16: Krisostomus Latvija | C16: Gateway to the World A2. Students book. Macmillan Education | D16: Spencer, David. | E16: Grāmata | F16: 2021 | G16: 255 | H16: 0 | I16: =H16*G16 -> 0
A17: 8 | B17: Krisostomus Latvija | C17: Gateway to the World B1. Students book. Macmillan Education | D17: Spencer, David. | E17: Grāmata | F17: 2021 | G17: 225 | H17: 0 | I17: =H17*G17 -> 0
A18: 9 | B18: Krisostomus Latvija | C18: Stannett K. New Close-up B2 +.- National Geographic Learning. | D18: Stannett K | E18: Grāmata | F18: 2021 | G18: 50 | H18: 0 | I18: =H18*G18 -> 0
G19: Kopā euro bez PVN: | I19: =SUM(I10:I18) -> 0
G20: PVN:
G21: Kopā euro ar PVN: | I21: =I19+I20 -> 0
A24: Preču cenās ir iekļautas visas ar līguma izpildi saistītās izmaksas, tostarp, bet ne tikai – preču sagādes, piegādes, u.c. izmaksas.
A26: ='2. Skolas Vārds'!A20 -> Tehniskās specifikācijas sagatavošanas datums: 13.05.2026

Sheet 4. Oxford University Pres
C2: "Drukāto mācību līdzekļu piegāde Ādažu sākumskolai un vidusskolai"
C3: ID Nr. ĀNP 2026/108
C5: Iepirkuma 4. daļa - Oxford University Press mācību literatūra
C7: Tehniskā specifikācija/Tehniskais un Finanšu piedāvājums
A9: Nr. | B9: Izdevniecība | C9: Mācību līdzekļa nosaukums | D9: Autors | E9: Drukātā mācību līdzekļa veids | F9: Izdošanas gads | G9: Skaits | H9: Cena par 1 (vienu) vienību euro bez PVN | I9: Cena par visām vienībām euro bez PVN
A10: 1 | B10: Oxford University Press | C10: Beehive 1 WorkBook - Oxford University Press | D10: Jessica Finnis | E10: Darba burtnīca | F10: 2022 | G10: 245 | H10: 0 | I10: =H10*G10 -> 0
A11: 2 | B11: Oxford University Press | C11: Bright Ideas 2. Activity Book - Oxford University Press | D11: Charrington Mary, Covill Charlotte, Thompson Tamzin | E11: Darba burtnīca | F11: 2018 | G11: 220 | H11: 0 | I11: =H11*G11 -> 0
A12: 3 | B12: Oxford University Press | C12: Beehive 3. Work Book - Oxford University Press | D12: Kathleen Kampa and Charles Vilina | E12: Darba burtnīca | F12: 2022 | G12: 225 | H12: 0 | I12: =H12*G12 -> 0
A13: 4 | B13: Oxford University Press | C13: Beehive 4. Work Book - Oxford University Press | D13: Kathleen Kampa and Charles Vilina | E13: Darba burtnīca | F13: 2022 | G13: 240 | H13: 0 | I13: =H13*G13 -> 0
A14: 5 | B14: Oxford University Press | C14: Solutions. Elementary (3rd edition) - Oxford University Press | D14: Falla T., Davies P. | E14: Darba burtnīca | F14: 2012 | G14: 15 | H14: 0 | I14: =H14*G14 -> 0
A15: 6 | B15: Oxford University Press | C15: Solutions. Pre-Intermediate (3rd edition) Workbook- Oxford University Press | D15: Falla T., Davies P. | E15: Darba burtnīca | F15: 2014 | G15: 15 | H15: 0 | I15: =H15*G15 -> 0
A16: 7 | B16: Oxford University Press | C16: Bright Ideas 2. - Oxford University Press | D16: Palin Cheryl, Philips Sarah | E16: Grāmata | F16: 2018 | G16: 10 | H16: 0 | I16: =H16*G16 -> 0
A17: 8 | B17: Oxford University Press | C17: Beehive 3 - Oxford University Press | D17: Kathleen Kampa and Charles Vilina | E17: Grāmata | F17: 2022 | G17: 225 | H17: 0 | I17: =H17*G17 -> 0
A18: 9 | B18: Oxford University Press | C18: Solutions. Pre-Intermediate (3rd edition) - Oxford University Press Globuss | D18: Falla T., Davies P. | E18: Grāmata | F18: 2018 | G18: 10 | H18: 0 | I18: =H18*G18 -> 0
G19: Kopā euro bez PVN: | I19: =SUM(I10:I18) -> 0
G20: PVN:
G21: Kopā euro ar PVN: | I21: =I19+I20 -> 0
A23: Preču cenās ir iekļautas visas ar līguma izpildi saistītās izmaksas, tostarp, bet ne tikai – preču sagādes, piegādes, u.c. izmaksas.
A26: ='5. RAKA '!A33 -> Tehniskās specifikācijas sagatavošanas datums: 13.05.2026

Sheet 5. RAKA 
C2: "Drukāto mācību līdzekļu piegāde Ādažu sākumskolai un vidusskolai"
C3: ID Nr. ĀNP 2026/108
C5: Iepirkuma 5. daļa - RaKa mācību literatūra
C7: Tehniskā specifikācija/Tehniskais un Finanšu piedāvājums
A9: Nr. | B9: Izdevniecība | C9: Mācību līdzekļa nosaukums | D9: Autors | E9: Drukātā mācību līdzekļa veids | F9: Izdošanas gads | G9: Skaits | H9: Cena par 1 (vienu) vienību euro bez PVN | I9: Cena par visām vienībām euro bez PVN
A10: 1 | B10: RaKa | C10: Lai veicas! 2. klase. Latviešu valoda 1. daļa. | D10: Irbe I., Vilciņa I | E10: Darba burtnīca | F10: 2013 | G10: 225 | H10: 0 | I10: =H10*G10 -> 0
A11: 2 | B11: RaKa | C11: Lai veicas! 2. klase. Latviešu valoda 2. daļa. | D11: Irbe I., Vilciņa I | E11: Darba burtnīca | F11: 2013 | G11: 225 | H11: 0 | I11: =H11*G11 -> 0
A12: 3 | B12: RaKa | C12: Lai veicas! 3. klase. Latviešu valoda 1. daļa. | D12: Irbe I., Vilciņa I | E12: Darba burtnīca | F12: 2014 | G12: 215 | H12: 0 | I12: =H12*G12 -> 0
A13: 4 | B13: RaKa | C13: Lai veicas! 3. klase. Latviešu valoda 2. daļa. | D13: Irbe I., Vilciņa I | E13: Darba burtnīca | F13: 2014 | G13: 215 | H13: 0 | I13: =H13*G13 -> 0
A14: 5 | B14: RaKa | C14: Sociālās zinības un vēsture 4. klasei, darba burtnīca | D14: Alhimionoks R | E14: Darba burtnīca | F14: 2018 | G14: 250 | H14: 0 | I14: =H14*G14 -> 0
A15: 6 | B15: RaKa | C15: Dabaszinības 2. klasei. Pēti un prāto! | D15: Irbe I., Zēberga D. | E15: Grāmata | F15: 2018 | G15: 225 | H15: 0 | I15: =H15*G15 -> 0
A16: 7 | B16: RaKa | C16: Sociālās zinības 2. klasei | D16: Purēns V | E16: Grāmata | F16: 2018 | G16: 10 | H16: 0 | I16: =H16*G16 -> 0
A17: 8 | B17: RaKa | C17: Lai veicas! 3. klase. Latviešu valoda 1. daļa | D17: Irbe I., Vilciņa I | E17: Grāmata | F17: 2014 | G17: 30 | H17: 0 | I17: =H17*G17 -> 0
A18: 9 | B18: RaKa | C18: Lai veicas! 3. klase. Latviešu valoda 2. daļa | D18: Irbe I., Vilciņa I | E18: Grāmata | F18: 2014 | G18: 30 | H18: 0 | I18: =H18*G18 -> 0
A19: 10 | B19: RaKa | C19: Dabaszinības 3. klasei. Pēti un prāto! | D19: Irbe I., Zēberga D. | E19: Grāmata | F19: 2022 | G19: 27 | H19: 0 | I19: =H19*G19 -> 0
A20: 11 | B20: RaKa | C20: Lai veicas! 4. klase. Latviešu valoda un literatūra 1. daļa | D20: Irbe I. Vilciņa I. | E20: Grāmata | F20: 2015 | G20: 45 | H20: 0 | I20: =H20*G20 -> 0
A21: 12 | B21: RaKa | C21: Lai veicas! 4. klase. Latviešu valoda un literatūra 2. daļa | D21: Irbe I. Vilciņa I. | E21: Grāmata | F21: 2015 | G21: 45 | H21: 0 | I21: =H21*G21 -> 0
... A25: 16 | B25: RaKa | C25: Ekonomika vidusskolām | D25: Siņicins M | E25: Grāmata | F25: 2009 | G25: 15 | H25: 0 | I25: =H25*G25 -> 0
G26: Kopā euro bez PVN: | I26: =SUM(I10:I25) -> 0
G27: PVN:
G28: Kopā euro ar PVN: | I28: =I26+I27 -> 0
A31: Preču cenās ir iekļautas visas ar līguma izpildi saistītās izmaksas, tostarp, bet ne tikai – preču sagādes, piegādes, u.c. izmaksas.
A33: ='2. Skolas Vārds'!A20 -> Tehniskās specifikācijas sagatavošanas datums: 13.05.2026

Sheet 6. Zvaigzne ABC
C2: "Drukāto mācību līdzekļu piegāde Ādažu sākumskolai un vidusskolai"
C3: ID Nr. ĀNP 2026/108
C5: Iepirkuma 6. daļa - Zvaigzne ABC mācību literatūra
C7: Tehniskā specifikācija/Tehniskais un Finanšu piedāvājums
A9: Nr. | B9: Izdevniecība | C9: Mācību līdzekļa nosaukums | D9: Autors | E9: Drukātā mācību līdzekļa veids | F9: Izdošanas gads | G9: Skaits | H9: Cena par 1 (vienu) vienību euro bez PVN | I9: Cena par visām vienībām euro bez PVN
A10: 1 | B10: Zvaigzne ABC | C10: Mūzika 1. klasei. Darba burtnīca. | D10: Andra Fenhane, Ilze Vilde, Žanete Jansone | E10: Darba burtnīca | F10: 2025 | G10: 250 | H10: 0 | I10: =H10*G10 -> 0
A11: 2 | B11: Zvaigzne ABC | C11: Mūzika 2. klasei. Burtnīca | D11: Ieva Čerpinska, Ingrīda Vilkārse | E11: Darba burtnīca | F11: 2005 | G11: 220 | H11: 0 | I11: =H11*G11 -> 0
A12: 3 | B12: Zvaigzne ABC | C12: Latviešu valoda 5. klasei. Darba lapas. | D12: Gunta Sālījuma, Vija Valtere | E12: Darba burtnīca | F12: 2021 | G12: 250 | H12: 0 | I12: =H12*G12 -> 0
A13: 4 | B13: Zvaigzne ABC | C13: Latviešu valoda 6. klasei. Darba lapas. | D13: Daina Štokmane | E13: Darba burtnīca | F13: 2024 | G13: 215 | H13: 0 | I13: =H13*G13 -> 0
A14: 5 | B14: Zvaigzne ABC | C14: Кл@ссно! Krievu valoda 6. klasei. Darba burtnīca. 2. daļa | D14: Marina Jefremova, Nonna Gživača | E14: Darba burtnīca | F14: 2024 | G14: 75 | H14: 0 | I14: =H14*G14 -> 0
A15: 6 | B15: Zvaigzne ABC | C15: Ģeogrāfija 7. klasei. Darba burtnīca. | D15: Dace Markota, Gunta Šustere | E15: Darba burtnīca | F15: 2020 | G15: 215 | H15: 0 | I15: =H15*G15 -> 0
A16: 7 | B16: Zvaigzne ABC | C16: Tekstpratības uzdevumi latviešu valodā 8.–9. klasei | D16: Evija Vaska, Inga Vīksna | E16: Darba burtnīca | F16: N/A | G16: 105 | H16: 0 | I16: =H16*G16 -> 0
A17: 8 | B17: Zvaigzne ABC | C17: Ģeogrāfija 9. klasei. Darba burtnīca. | D17: Dace Markota, Gunta Šustere | E17: Darba burtnīca | F17: 2023 | G17: 150 | H17: 0 | I17: =H17*G17 -> 0
A18: 9 | B18: Zvaigzne ABC | C18: Matemātika 4. klasei. 1. daļa. Mācību grāmata. | D18: Aira Kumerdanka, Jānis Mencis (jun.) | E18: Grāmata | F18: 2023 | G18: 10 | H18: 0 | I18: =H18*G18 -> 0
A19: 10 | B19: Zvaigzne ABC | C19: Matemātika 4. klasei. 2. daļa. Mācību grāmata. | D19: Aira Kumerdanka, Jānis Mencis (jun.) | E19: Grāmata | F19: 2023 | G19: 10 | H19: 0 | I19: =H19*G19 -> 0
A20: 11 | B20: Zvaigzne ABC | C20: Latviešu valoda 5. klasei. Mācību grāmata. | D20: Gunta Sālījuma, Vija Valtere | E20: Grāmata | F20: 2021 | G20: 15 | H20: 0 | I20: =H20*G20 -> 0
A21: 12 | B21: Zvaigzne ABC | C21: Literatūra 5. klasei, 1. Mācību grāmata. | D21: Inga Zemīte, Signe Ābola | E21: Grāmata | F21: 2021 | G21: 25 | H21: 0 | I21: =H21*G21 -> 0
A22: 13 | B22: Zvaigzne ABC | C22: Literatūra 5. klasei, 2. Mācību grāmata. | D22: Inga Zemīte, Signe Ābola | E22: Grāmata | F22: 2021 | G22: 15 | H22: 0 | I22: =H22*G22 -> 0
A23: 14 | B23: Zvaigzne ABC | C23: Latviešu valoda 6. klasei. Mācību grāmata. | D23: Daina Štokmane | E23: Grāmata | F23: 2024 | G23: 15 | H23: 0 | I23: =H23*G23 -> 0
A24: 15 | B24: Zvaigzne ABC | C24: Literatūra 6. klasei, 1. Mācību grāmata. | D24: Ingrīda Strēle, Jānis Strēlis | E24: Grāmata | F24: 2021 | G24: 40 | H24: 0 | I24: =H24*G24 -> 0
A25: 16 | B25: Zvaigzne ABC | C25: Literatūra 6. klasei, 1. Mācību grāmata. | D25: Ingrīda Strēle, Jānis Strēlis | E25: Grāmata | F25: 2021 | G25: 40 | H25: 0 | I25: =H25*G25 -> 0
A26: 17 | B26: Zvaigzne ABC | C26: Latviešu valoda 7. klasei. Mācību grāmata. | D26: Iluta Dalbiņa | E26: Grāmata | F26: 2023 | G26: 30 | H26: 0 | I26: =H26*G26 -> 0
A27: 18 | B27: Zvaigzne ABC | C27: Literatūra 7. klasei, 1. Mācību grāmata. | D27: Daina Štokmane, Iveta Vīduša | E27: Grāmata | F27: 2020 | G27: 35 | H27: 0 | I27: =H27*G27 -> 0
A28: 19 | B28: Zvaigzne ABC | C28: Literatūra 7. klasei, 1. Mācību grāmata. | D28: Daina Štokmane, Iveta Vīduša | E28: Grāmata | F28: 2020 | G28: 35 | H28: 0 | I28: =H28*G28 -> 0
... A44: 35 | B44: Zvaigzne ABC | C44: Fizika 9. klasei. Mācību grāmata. | D44: Ilgonis Vilks | E44: Grāmata | F44: 2021 | G44: 5 | H44: 0 | I44: =H44*G44 -> 0
A45: 36 | B45: Zvaigzne ABC | C45: Bioloģija vidusskolai. Shēmas un tabulas | D45: Maruta Kusiņa | E45: Grāmata | F45: N/A | G45: 25 | H45: 0 | I45: =H45*G45 -> 0
A46: 37 | B46: Zvaigzne ABC | C46: Vēsture vidusskolai I. Latvijas valstiskums starp totalitārismu un demokrātiju, 4. temats. | D46: Valdis Klišāns | E46: Grāmata | F46: 2025 | G46: 30 | H46: 0 | I46: =H46*G46 -> 0
A47: 38 | B47: Zvaigzne ABC | C47: Latvijas Republikas Satversme | D47: N/A | E47: Grāmata | F47: 1918 | G47: 95 | H47: 0 | I47: =H47*G47 -> 0
G48: Kopā euro bez PVN: | I48: =SUM(I10:I47) -> 0
G49: PVN:
G50: Kopā euro ar PVN: | I50: =I48+I49 -> 0
A53: Preču cenās ir iekļautas visas ar līguma izpildi saistītās izmaksas, tostarp, bet ne tikai – preču sagādes, piegādes, u.c. izmaksas.
A55: ='2. Skolas Vārds'!A20 -> Tehniskās specifikācijas sagatavošanas datums: 13.05.2026

Sheet 7. Jāņa sēta
C2: "Drukāto mācību līdzekļu piegāde Ādažu sākumskolai un vidusskolai"
C3: ID Nr. ĀNP 2026/108
C5: Iepirkuma 7. daļa - Jāņa sēta mācību literatūra
C7: Tehniskā specifikācija/Tehniskais un Finanšu piedāvājums
A9: Nr. | B9: Izdevniecība | C9: Mācību līdzekļa nosaukums | D9: Autors | E9: Drukātā mācību līdzekļa veids | F9: Izdošanas gads | G9: Skaits | H9: Cena par 1 (vienu) vienību euro bez PVN | I9: Cena par visām vienībām euro bez PVN
A10: 1 | B10: Jāņa sēta | C10: Jaunais pasaules ģeogrāfijas atlants | D10: N/A | E10: Grāmata | F10: 2023 | G10: 60 | H10: 0 | I10: =H10*G10 -> 0
G11: Kopā euro bez PVN: | I11: =SUM(I10:I10) -> 0
G12: PVN:
G13: Kopā euro ar PVN: | I13: =I11+I12 -> 0
A16: Preču cenās ir iekļautas visas ar līguma izpildi saistītās izmaksas, tostarp, bet ne tikai – preču sagādes, piegādes, u.c. izmaksas.
A18: ='1. Lielvārds'!A36 -> Tehniskās specifikācijas sagatavošanas datums: 13.05.2026

Sheet 8. Pearson Education
C2: "Drukāto mācību līdzekļu piegāde Ādažu sākumskolai un vidusskolai"
C3: ID Nr. ĀNP 2026/108
C5: Iepirkuma 8. daļa - Pearson Education mācību literatūra
C7: Tehniskā specifikācija/Tehniskais un Finanšu piedāvājums
A9: Nr. | B9: Izdevniecība | C9: Mācību līdzekļa nosaukums | D9: Autors | E9: Drukātā mācību līdzekļa veids | F9: Izdošanas gads | G9: Skaits | H9: Cena par 1 (vienu) vienību euro bez PVN | I9: Cena par visām vienībām euro bez PVN
A10: 1 | B10: Pearson Education | C10: CAE Practice Tests Plus NE 2018 C1 Advanced Volume 1 SBk + Key | D10: Kenny Nick, Newbrook Jacky | E10: Grāmata | F10: 2018 | G10: 2 | H10: 0 | I10: =H10*G10 -> 0
G11: Kopā euro bez PVN: | I11: =SUM(I10:I10) -> 0
G12: PVN:
G13: Kopā euro ar PVN: | I13: =I11+I12 -> 0
A16: Preču cenās ir iekļautas visas ar līguma izpildi saistītās izmaksas, tostarp, bet ne tikai – preču sagādes, piegādes, u.c. izmaksas.
A18: ='1. Lielvārds'!A36 -> Tehniskās specifikācijas sagatavošanas datums: 13.05.2026

Sheet 9. Pētergails
C2: "Drukāto mācību līdzekļu piegāde Ādažu sākumskolai un vidusskolai"
C3: ID Nr. ĀNP 2026/108
C5: Iepirkuma 9. daļa - Pētergailis mācību literatūra
C7: Tehniskā specifikācija/Tehniskais un Finanšu piedāvājums
A9: Nr. | B9: Izdevniecība | C9: Mācību līdzekļa nosaukums | D9: Autors | E9: Drukātā mācību līdzekļa veids | F9: Izdošanas gads | G9: Skaits | H9: Cena par 1 (vienu) vienību euro bez PVN | I9: Cena par visām vienībām euro bez PVN
A10: 1 | B10: Pētergailis | C10: Matemātika 5.klasei. Mācību grāmata. | D10: Lude I., Lapiņa J. | E10: Grāmata | F10: 2011 | G10: 30 | H10: 0 | I10: =H10*G10 -> 0
A11: 2 | B11: Pētergailis | C11: Gatavojamies latviešu valodas centralizētā eksāmena 1.daļai. | D11: Bušmanis M., Dzintars N. | E11: Darba burtnīca | F11: 2014 | G11: 80 | H11: 0 | I11: =H11*G11 -> 0
G12: Kopā euro bez PVN: | I12: =SUM(I10:I11) -> 0
G13: PVN:
G14: Kopā euro ar PVN: | I14: =I12+I13 -> 0
A17: Preču cenās ir iekļautas visas ar līguma izpildi saistītās izmaksas, tostarp, bet ne tikai – preču sagādes, piegādes, u.c. izmaksas.
A19: ='1. Lielvārds'!A36 -> Tehniskās specifikācijas sagatavošanas datums: 13.05.2026

Sheet 10. Hueber Verlag
C2: "Drukāto mācību līdzekļu piegāde Ādažu sākumskolai un vidusskolai"
C3: ID Nr. ĀNP 2026/108
C5: Iepirkuma 10. daļa - Hueber Verlag mācību literatūra
C7: Tehniskā specifikācija/Tehniskais un Finanšu piedāvājums
A9: Nr. | B9: Izdevniecība | C9: Mācību līdzekļa nosaukums | D9: Autors | E9: Drukātā mācību līdzekļa veids | F9: Izdošanas gads | G9: Skaits | H9: Cena par 1 (vienu) vienību euro bez PVN | I9: Cena par visām vienībām euro bez PVN
A10: 1 | B10: Hueber Verlag | C10: Beste Freunde A1.2 | D10: Georgiakaki M., Bovermann M. u.c | E10: Grāmata | F10: 2023 | G10: 250 | H10: 0 | I10: =H10*G10 -> 0
A11: 2 | B11: Hueber Verlag | C11: Beste Freunde A2.1 | D11: Georgiakaki M., Graf-Riemann E. u.c. | E11: Grāmata | F11: 2023 | G11: 135 | H11: 0 | I11: =H11*G11 -> 0
A12: 3 | B12: Hueber Verlag | C12: Beste Freunde A1.1 | D12: Georgiakaki Manuela, Bovermann Monika, Seuthe Christiane, Graf-Rieman Elisabeth | E12: Grāmata | F12: 2013 | G12: 160 | H12: 0 | I12: =H12*G12 -> 0
A13: 4 | B13: Hueber Verlag | C13: Beste Freunde A1.1 | D13: Georgiakaki Manuela, Seuthe Christiane, Schümann Anja | E13: Darba burtnīca | F13: 2023 | G13: 250 | H13: 0 | I13: =H13*G13 -> 0
A14: 5 | B14: Hueber Verlag | C14: Beste Freunde A1.2 | D14: Georgiakaki Manuela, Seuthe Christiane, Schümann Anja | E14: Darba burtnīca | F14: 2023 | G14: 250 | H14: 0 | I14: =H14*G14 -> 0
A15: 6 | B15: Hueber Verlag | C15: Beste Freunde A2.1 | D15: Georgiakaki Manuela u.c. | E15: Darba burtnīca | F15: 2023 | G15: 190 | H15: 0 | I15: =H15*G15 -> 0
A16: 7 | B16: Hueber Verlag | C16: Beste Freunde A2.2 | D16: Georgiakaki Manuela, Seuthe Christiane, Schümann Anja | E16: Darba burtnīca | F16: 2015 | G16: 30 | H16: 0 | I16: =H16*G16 -> 0
A17: 8 | B17: Hueber Verlag | C17: Schritte International NEU 1 (A1.1) Kursbuch + Arbeitsbuch + Audios online | D17: Niebich Daniela u.c. | E17: Darba burtnīca | F17: 2023 | G17: 80 | H17: 0 | I17: =H17*G17 -> 0
A18: 9 | B18: Hueber Verlag | C18: Schritte International NEU 1 (A1.2) Kursbuch + Arbeitsbuch + Audios online | D18: Niebich Daniela u.c. | E18: Darba burtnīca | F18: 2023 | G18: 80 | H18: 0 | I18: =H18*G18 -> 0
G19: Kopā euro bez PVN: | I19: =SUM(I10:I18) -> 0
G20: PVN:
G21: Kopā euro ar PVN: | I21: =I19+I20 -> 0
A24: Preču cenās ir iekļautas visas ar līguma izpildi saistītās izmaksas, tostarp, bet ne tikai – preču sagādes, piegādes, u.c. izmaksas.
A26: ='1. Lielvārds'!A36 -> Tehniskās specifikācijas sagatavošanas datums: 13.05.2026

Sheet 11. Difusion
C2: "Drukāto mācību līdzekļu piegāde Ādažu sākumskolai un vidusskolai"
C3: ID Nr. ĀNP 2026/108
C5: Iepirkuma 11. daļa - Difusion mācību literatūra
C7: Tehniskā specifikācija/Tehniskais un Finanšu piedāvājums
A9: Nr. | B9: Izdevniecība | C9: Mācību līdzekļa nosaukums | D9: Autors | E9: Drukātā mācību līdzekļa veids | F9: Izdošanas gads | G9: Skaits | H9: Cena par 1 (vienu) vienību euro bez PVN | I9: Cena par visām vienībām euro bez PVN
A10: 1 | B10: Difusion | C10: Carrousel 1 Livre de l´éleve. Éd hybride | D10: Julie Uny & Amandine Quetel | E10: Grāmata | F10: 2024 | G10: 125 | H10: 0 | I10: =H10*G10 -> 0
A11: 2 | B11: Difusion | C11: Carrousel 1 Cahier d´exercices, Globuss | D11: Lucille Lacan & Elodie Nicod | E11: Darba burtnīca | F11: 2024 | G11: 125 | H11: 0 | I11: =H11*G11 -> 0
G12: Kopā euro bez PVN: | I12: =SUM(I10:I11) -> 0
G13: PVN:
G14: Kopā euro ar PVN: | I14: =I12+I13 -> 0
A17: Preču cenās ir iekļautas visas ar līguma izpildi saistītās izmaksas, tostarp, bet ne tikai – preču sagādes, piegādes, u.c. izmaksas.
A19: ='1. Lielvārds'!A36 -> Tehniskās specifikācijas sagatavošanas datums: 13.05.2026

Sheet 12. Retorika
C2: "Drukāto mācību līdzekļu piegāde Ādažu sākumskolai un vidusskolai"
C3: ID Nr. ĀNP 2026/108
C5: Iepirkuma 12. daļa - Retorika mācību literatūra
C7: Tehniskā specifikācija/Tehniskais un Finanšu piedāvājums
A9: Nr. | B9: Izdevniecība | C9: Mācību līdzekļa nosaukums | D9: Autors | E9: Drukātā mācību līdzekļa veids | F9: Izdošanas gads | G9: Skaits | H9: Cena par 1 (vienu) vienību euro bez PVN | I9: Cena par visām vienībām euro bez PVN
A10: 1 | B10: Retorika | C10: Просто по-русски. Darba burtnīca 7. klasei. | D10: S. Brasnujeva, S. Lāce | E10: Darba burtnīca | F10: 2023 | G10: 115 | H10: 0 | I10: =H10*G10 -> 0
G11: Kopā euro bez PVN: | I11: =SUM(I10:I10) -> 0
G12: PVN:
G13: Kopā euro ar PVN: | I13: =I11+I12 -> 0
A16: Preču cenās ir iekļautas visas ar līguma izpildi saistītās izmaksas, tostarp, bet ne tikai – preču sagādes, piegādes, u.c. izmaksas.
A18: ='1. Lielvārds'!A36 -> Tehniskās specifikācijas sagatavošanas datums: 13.05.2026
