Workbook

Sheet Kopsavilkums
B2: KOPTĀME
B3: Būves nosaukums: | C3: Notekūdeņu attīrīšanas iekārtas “Krīgeri” , Bērzes pag., Dobeles nov.
B4: Objekta nosaukums: | C4: “Apvienotā projektēšana un būvdarbi dūņu blīvētāja sistēmas izbūvē un attīrīto notekūdeņu izvada atjaunošanā un pārbūvē notekūdeņu attīrīšanas iekārtās “Krīgeri” Dobeles aglomerācijā”
B5: Objekta adrese: | C5: ``Krīgeri``, Bērzes pag., Dobeles nov. | F5: Par kopējo summu: | G5: =D16 -> 0 | H5: EUR
F6: Kopējā darbietilpība: | G6: =SUM(H11:H15) -> 0 | H6: c/st.
F7: Tāme sastādīta 2026. gada | G7: ___. _________
B9: Tāmes Nr. | C9: Darba veids vai konstruktīvā elementa nosaukums | D9: Tāmes izmaksas, EUR | E9: tai skaitā | H9: Darbietilpība, c/st.
E10: Darba alga, EUR | F10: Būvizstrādājumi, EUR | G10: Mehānismi, EUR
B11: 1 | C11: Projektēšana | D11: =SUM(E11:G11) -> 0 | E11: ='Lok.tāme Nr.1'!O23 -> 0 | F11: ='Lok.tāme Nr.1'!P23 -> 0 | G11: ='Lok.tāme Nr.1'!Q23 -> 0 | H11: ='Lok.tāme Nr.1'!N23 -> 0
B12: 2 | C12: Autoruzraudzība | D12: =SUM(E12:G12) -> 0 | E12: ='Lok.tāme Nr.2'!O18 -> 0 | F12: ='Lok.tāme Nr.2'!P18 -> 0 | G12: ='Lok.tāme Nr.2'!Q18 -> 0 | H12: ='Lok.tāme Nr.2'!N18 -> 0
B13: 3 | C13: Būvdarbi | D13: =SUM(E13:G13) -> 0 | E13: =E14+E15 -> 0 | F13: =F14+F15 -> 0 | G13: =G14+G15 -> 0 | H13: =H14+H15 -> 0
B14: 3.1 | C14: Būvdarbi - Lokālā tāme Nr.3 (Dūņu blīvētājs) | D14: =SUM(E14:G14) -> 0 | E14: ='Lok.tāme Nr.3'!O42 -> 0 | F14: ='Lok.tāme Nr.3'!O42 -> 0 | G14: ='Lok.tāme Nr.3'!P42 -> 0 | H14: ='Lok.tāme Nr.3'!N42 -> 0
B15: 3.2 | C15: Būvdarbi -Lokālā tāme Nr.4 (izvada atjaunošana) | D15: =SUM(E15:G15) -> 0 | E15: ='Lok.tāme Nr.4'!O86 -> 0 | F15: ='Lok.tāme Nr.4'!O86 -> 0 | G15: ='Lok.tāme Nr.4'!P86 -> 0 | H15: ='Lok.tāme Nr.3'!R42 -> 0
B16: Kopā1: | D16: =SUM(D11:D15) -> 0 | E16: =E11+E12+E13 -> 0 | F16: =F11+F12+F13 -> 0 | G16: =G11+G12+G13 -> 0 | H16: =H11+H12+H13 -> 0
B17: PVN 21%: | D17: =ROUND(D16*21%,2) -> 0
B18: Pavisam būvniecības izmaksas ar PVN: | D18: =SUM(D16:D17) -> 0
B21: Piezīme: | C21: 1. Tāmes izmaksas Kopā, tai skaita, bet neaprobežojoties, darba devēja sociālais nodoklis, virsizdevumi un plānotā peļņa.

Sheet Lok.tāme Nr.1
A2: Lokālā tāme Nr.1 - Projektēšana
B6: Būves nosaukums: | D6: =Kopsavilkums!C3 -> Notekūdeņu attīrīšanas iekārtas “Krīgeri” , Bērzes pag., Dobeles nov.
B7: Objekta nosaukums: | D7: =Kopsavilkums!C4 -> “Apvienotā projektēšana un būvdarbi dūņu blīvētāja sistēmas izbūvē un attīrīto notekūdeņu izvada atjaunošanā un pārbūvē notekūdeņu attīrīšanas iekārtās “Krīgeri” Dobeles aglomerācijā”
B8: Objekta adrese: | D8: =Kopsavilkums!C5 -> ``Krīgeri``, Bērzes pag., Dobeles nov.
P11: Tāmes izmaksas: | Q11: =R23 -> 0 | R11: EUR
P12: Tāme sastādīta 2026. gada | Q12: ___. _________
C14: Nr.p.k. | D14: Darbu nosaukums | E14: Veids | F14: Mērvienība | G14: Daudzums | H14: Vienības izmaksas | N14: Kopā visam apjomam
H15: Laika norma, c/st. | I15: Darba samaksas likme, EUR/st. | J15: Darba alga, EUR | K15: Būvizstrādājumi, EUR | L15: Mehānismi, EUR | M15: Kopā, EUR | N15: Darbietilpība, c/st. | O15: Darba alga, EUR | P15: Būvizstrādājumi, EUR | Q15: Mehānismi, EUR | R15: Summa, EUR
C16: 1.1 | D16: Inženiertopogrāfija | E16: Pakalpojums | F16: ha | G16: 1.5 | J16: =ROUND(H16*I16,2) -> 0 | M16: =ROUND(J16+K16+L16,2) -> 0 | N16: =ROUND(H16*G16,2) -> 0 | O16: =ROUND(G16*J16,2) -> 0 | P16: =ROUND(G16*K16,2) -> 0 | Q16: =ROUND(G16*L16,2) -> 0 | R16: =SUM(O16:Q16) -> 0
C17: 1.2 | D17: TN iegūšana un būvatļaujas saņemšana | E17: Pakalpojums | F17: k-ts | G17: 1 | J17: =ROUND(H17*I17,2) -> 0 | M17: =ROUND(J17+K17+L17,2) -> 0 | N17: =ROUND(H17*G17,2) -> 0 | O17: =ROUND(G17*J17,2) -> 0 | P17: =ROUND(G17*K17,2) -> 0 | Q17: =ROUND(G17*L17,2) -> 0 | R17: =SUM(O17:Q17) -> 0
C18: 1.3 | D18: Esošo sūkņu staciju apsekošana un uzmērīšana būvprojekta izstrādes vajadzībām. (Recirkulācijas un NAI iekšējā sūkņu stacija) | E18: Pakalpojums | F18: k-ts | G18: 2 | J18: =ROUND(H18*I18,2) -> 0 | M18: =ROUND(J18+K18+L18,2) -> 0 | N18: =ROUND(H18*G18,2) -> 0 | O18: =ROUND(G18*J18,2) -> 0 | P18: =ROUND(G18*K18,2) -> 0 | Q18: =ROUND(G18*L18,2) -> 0 | R18: =SUM(O18:Q18) -> 0
C19: 1.4 | D19: Projektēšanas darbi | E19: Pakalpojums | F19: k-ts | G19: 1
C20: 1.4.1. | D20: TH daļa | E20: Pakalpojums | F20: k-ts | G20: 1 | J20: =ROUND(H20*I20,2) -> 0 | M20: =ROUND(J20+K20+L20,2) -> 0 | N20: =ROUND(H20*G20,2) -> 0 | O20: =ROUND(G20*J20,2) -> 0 | P20: =ROUND(G20*K20,2) -> 0 | Q20: =ROUND(G20*L20,2) -> 0 | R20: =SUM(O20:Q20) -> 0
C21: 1.4.2. | D21: UKT daļa | E21: Pakalpojums | F21: k-ts | G21: 1 | J21: =ROUND(H21*I21,2) -> 0 | M21: =ROUND(J21+K21+L21,2) -> 0 | N21: =ROUND(H21*G21,2) -> 0 | O21: =ROUND(G21*J21,2) -> 0 | P21: =ROUND(G21*K21,2) -> 0 | Q21: =ROUND(G21*L21,2) -> 0 | R21: =SUM(O21:Q21) -> 0
C22: 1.4.3. | D22: AR, BK,VS, ELT un automātikas, kā arī citas projekta daļas un/vai sadaļas pēc nepieciešamības | E22: Pakalpojums | F22: k-ts | G22: 1 | J22: =ROUND(H22*I22,2) -> 0 | M22: =ROUND(J22+K22+L22,2) -> 0 | N22: =ROUND(H22*G22,2) -> 0 | O22: =ROUND(G22*J22,2) -> 0 | P22: =ROUND(G22*K22,2) -> 0 | Q22: =ROUND(G22*L22,2) -> 0 | R22: =SUM(O22:Q22) -> 0
G23: Kopā: | N23: =SUM(N16:N22) -> 0 | O23: =SUM(O16:O22) -> 0 | P23: =SUM(P16:P22) -> 0 | Q23: =SUM(Q16:Q22) -> 0 | R23: =SUM(R16:R22) -> 0

Sheet Lok.tāme Nr.2
A2: Lokālā tāme Nr.2 - Autoruzraudzība
B6: Būves nosaukums: | D6: =Kopsavilkums!C3 -> Notekūdeņu attīrīšanas iekārtas “Krīgeri” , Bērzes pag., Dobeles nov.
B7: Objekta nosaukums: | D7: =Kopsavilkums!C4 -> “Apvienotā projektēšana un būvdarbi dūņu blīvētāja sistēmas izbūvē un attīrīto notekūdeņu izvada atjaunošanā un pārbūvē notekūdeņu attīrīšanas iekārtās “Krīgeri” Dobeles aglomerācijā”
B8: Objekta adrese: | D8: =Kopsavilkums!C5 -> ``Krīgeri``, Bērzes pag., Dobeles nov.
P11: Tāmes izmaksas: | Q11: =R18 -> 0 | R11: EUR
P12: Tāme sastādīta 2026. gada | Q12: ___. _________
C14: Nr.p.k. | D14: Darbu nosaukums | E14: Veids | F14: Mērvienība | G14: Daudzums | H14: Vienības izmaksas | N14: Kopā visam apjomam
H15: Laika norma, c/st. | I15: Darba samaksas likme, EUR/st. | J15: Darba alga, EUR | K15: Būvizstrādājumi, EUR | L15: Mehānismi, EUR | M15: Kopā, EUR | N15: Darbietilpība, c/st. | O15: Darba alga, EUR | P15: Būvizstrādājumi, EUR | Q15: Mehānismi, EUR | R15: Summa, EUR
C16: 1 | D16: Autoruzraudzība - Dūņu blīvētājs | E16: Pakalpojums | F16: kompl. | G16: 1 | M16: =ROUND(J16+K16+L16,2) -> 0 | N16: =ROUND(H16*G16,2) -> 0 | O16: =ROUND(G16*J16,2) -> 0 | P16: =ROUND(G16*K16,2) -> 0 | Q16: =ROUND(G16*L16,2) -> 0 | R16: =SUM(O16:Q16) -> 0
C17: 1 | D17: Autoruzraudzība - Izvada atjaunošana | E17: Pakalpojums | F17: kompl. | G17: 1 | M17: =ROUND(J17+K17+L17,2) -> 0 | N17: =ROUND(H17*G17,2) -> 0 | O17: =ROUND(G17*J17,2) -> 0 | P17: =ROUND(G17*K17,2) -> 0 | Q17: =ROUND(G17*L17,2) -> 0 | R17: =SUM(O17:Q17) -> 0
G18: Kopā: | N18: =SUM(N16:N17) -> 0 | O18: =SUM(O16:O17) -> 0 | P18: =SUM(P16:P17) -> 0 | Q18: =SUM(Q16:Q17) -> 0 | R18: =SUM(R16:R17) -> 0

Sheet Lok.tāme Nr.3
A2: Lokālā tāme Nr.3 - Būvdarbi
B3: Būves nosaukums: | D3: =Kopsavilkums!C3 -> Notekūdeņu attīrīšanas iekārtas “Krīgeri” , Bērzes pag., Dobeles nov.
B4: Objekta nosaukums: | D4: =Kopsavilkums!C4 -> “Apvienotā projektēšana un būvdarbi dūņu blīvētāja sistēmas izbūvē un attīrīto notekūdeņu izvada atjaunošanā un pārbūvē notekūdeņu attīrīšanas iekārtās “Krīgeri” Dobeles aglomerācijā”
B5: Objekta adrese: | D5: =Kopsavilkums!C5 -> ``Krīgeri``, Bērzes pag., Dobeles nov.
C7: Nr.p.k. | D7: Darbu nosaukums | E7: Veids | F7: Mērvienība | G7: Daudzums | H7: Vienības izmaksas | N7: Kopā visam apjomam
H8: Laika norma, c/st. | I8: Darba samaksas likme, EUR/st. | J8: Darba alga, EUR | K8: Būvizstrādājumi, EUR | L8: Mehānismi, EUR | M8: Kopā, EUR | N8: Darbietilpība, c/st. | O8: Darba alga, EUR | P8: Būvizstrādājumi, EUR | Q8: Mehānismi, EUR | R8: Summa, EUR
C9: 1 | D9: NAI recirkulācijas sūknētavas rekonstrukcija un pārbūve dūņu padevei uz dūņu blīvētāju | E9: Būvdarbi
C10: 1.1 | D10: Esošo sūkņu un to vadulu saudzīga demontāža un nodošana Pasūtītājam. | E10: Būvdarbi | F10: k-ts | G10: 3 | J10: =ROUND(H10*I10,2) -> 0 | M10: =ROUND(J10+K10+L10,2) -> 0 | N10: =ROUND(H10*G10,2) -> 0 | O10: =ROUND(G10*J10,2) -> 0 | P10: =ROUND(G10*K10,2) -> 0 | Q10: =ROUND(G10*L10,2) -> 0 | R10: =SUM(O10:Q10) -> 0
C11: 1.2 | D11: Jaunu kanalizācijas sūkņu un to vadulu piegāde un montāža sūkņu stacijā. | E11: Piegāde/Būvdarbi | F11: k-ts | G11: 3 | J11: =ROUND(H11*I11,2) -> 0 | M11: =ROUND(J11+K11+L11,2) -> 0 | N11: =ROUND(H11*G11,2) -> 0 | O11: =ROUND(G11*J11,2) -> 0 | P11: =ROUND(G11*K11,2) -> 0 | Q11: =ROUND(G11*L11,2) -> 0 | R11: =SUM(O11:Q11) -> 0
C12: 1.3 | D12: Esošas sūkņu stacijas apsaistes demontāžas darbi. | E12: Būvdarbi | F12: k-ts | G12: 1 | J12: =ROUND(H12*I12,2) -> 0 | M12: =ROUND(J12+K12+L12,2) -> 0 | N12: =ROUND(H12*G12,2) -> 0 | O12: =ROUND(G12*J12,2) -> 0 | P12: =ROUND(G12*K12,2) -> 0 | Q12: =ROUND(G12*L12,2) -> 0 | R12: =SUM(O12:Q12) -> 0
C13: 1.4 | D13: Jauna sūkņu stacijas apsaiste , t.sk. cauruļvadi, pretvārsti, aizbīdņi, plūsmas mērītājs plūsmai uz dūņu blīvētāju, elektroinstalācija un automātikas sistēmas. Esošo būvkonstrukciju sakārtošana un krāsošana. | E13: Būvdarbi | F13: k-ts | G13: 1 | J13: =ROUND(H13*I13,2) -> 0 | M13: =ROUND(J13+K13+L13,2) -> 0 | N13: =ROUND(H13*G13,2) -> 0 | O13: =ROUND(G13*J13,2) -> 0 | P13: =ROUND(G13*K13,2) -> 0 | Q13: =ROUND(G13*L13,2) -> 0 | R13: =SUM(O13:Q13) -> 0
C14: 1.5 | D14: Dūņu padeves sistēmas izveide uz dūņu blīvētāju 15 m3/h. (Risinājums precizējams projektēšanas gaitā vai izmantojot papildus sūkņus 2 gab. (pamatrisinājums) vai automatiski pārslēdzot plūsmu uz dūņu spiedvadu (alternatīvais risinājums), t.sk. elektromagnētiskais plūsmas mērītaja mezgls. | E14: Būvdarbi | F14: k-ts | G14: 1 | J14: =ROUND(H14*I14,2) -> 0 | M14: =ROUND(J14+K14+L14,2) -> 0 | N14: =ROUND(H14*G14,2) -> 0 | O14: =ROUND(G14*J14,2) -> 0 | P14: =ROUND(G14*K14,2) -> 0 | Q14: =ROUND(G14*L14,2) -> 0 | R14: =SUM(O14:Q14) -> 0
C15: 1.6 | D15: Sūkņu stacijas pieslēgšana pie NAI SCADA. | E15: Būvdarbi | F15: k-ts | G15: 1 | J15: =ROUND(H15*I15,2) -> 0 | M15: =ROUND(J15+K15+L15,2) -> 0 | N15: =ROUND(H15*G15,2) -> 0 | O15: =ROUND(G15*J15,2) -> 0 | P15: =ROUND(G15*K15,2) -> 0 | Q15: =ROUND(G15*L15,2) -> 0 | R15: =SUM(O15:Q15) -> 0
C16: 2 | D16: Dūņu spiedvada izbūve PE D110 | E16: Būvdarbi | F16: m | G16: 40 | J16: =ROUND(H16*I16,2) -> 0 | M16: =ROUND(J16+K16+L16,2) -> 0 | N16: =ROUND(H16*G16,2) -> 0 | O16: =ROUND(G16*J16,2) -> 0 | P16: =ROUND(G16*K16,2) -> 0 | Q16: =ROUND(G16*L16,2) -> 0 | R16: =SUM(O16:Q16) -> 0
C17: 3 | D17: Pašteces cauruļvadu izbūve D200 PP no dūņu blīvētāja līdz iekšējai kanalizācijas sūkņu stacijai (t.sk skatakas, kur nepieciešams) | E17: Būvdarbi | F17: m | G17: 40 | J17: =ROUND(H17*I17,2) -> 0 | M17: =ROUND(J17+K17+L17,2) -> 0 | N17: =ROUND(H17*G17,2) -> 0 | O17: =ROUND(G17*J17,2) -> 0 | P17: =ROUND(G17*K17,2) -> 0 | Q17: =ROUND(G17*L17,2) -> 0 | R17: =SUM(O17:Q17) -> 0
C18: 4 | D18: Jaunu zemē ieguldāmu elektroapgādes kabeļu (5x4 mm) izbūve tehnoloģisko iekārtu vajadzībām (apjoms tiks precizēts būvprojektā un būvdarbu laikā pēc fakta, ja būs tāda nepieciešamība). | E18: Būvdarbi | F18: m | G18: 40 | J18: =ROUND(H18*I18,2) -> 0 | M18: =ROUND(J18+K18+L18,2) -> 0 | N18: =ROUND(H18*G18,2) -> 0 | O18: =ROUND(G18*J18,2) -> 0 | P18: =ROUND(G18*K18,2) -> 0 | Q18: =ROUND(G18*L18,2) -> 0 | R18: =SUM(O18:Q18) -> 0
C19: 5 | D19: Dūņu blīvētāja konstrukcijas D3000 mm, H=4 m (izbūve un aprīkojums)
C20: 5.1 | D20: Dūņu blīvētāja betona konstrukcijas D3000 mm, Hd=4 m (pieļaujami arī rūpnieciski ražoti grodi), ar koniski slīpu dibenu un virszemes daļas siltināšanu (daļēji iegremdēts gruntī, t.sk, cauruļvadu pieslēguma vietām). | E20: Būvdarbi | F20: k-ts | G20: 1 | J20: =ROUND(H20*I20,2) -> 0 | M20: =ROUND(J20+K20+L20,2) -> 0 | N20: =ROUND(H20*G20,2) -> 0 | O20: =ROUND(G20*J20,2) -> 0 | P20: =ROUND(G20*K20,2) -> 0 | Q20: =ROUND(G20*L20,2) -> 0 | R20: =SUM(O20:Q20) -> 0
C21: 5.2 | D21: Dūņu blīvētāja centrālais vertikālais cauruļvads AISI 316, D300 - 350 mm, L - 3 m ar stiprinājumiem un ienākošā cauruļvada pieslēgumu. | E21: Būvdarbi | F21: k-ts | G21: 1 | J21: =ROUND(H21*I21,2) -> 0 | M21: =ROUND(J21+K21+L21,2) -> 0 | N21: =ROUND(H21*G21,2) -> 0 | O21: =ROUND(G21*J21,2) -> 0 | P21: =ROUND(G21*K21,2) -> 0 | Q21: =ROUND(G21*L21,2) -> 0 | R21: =SUM(O21:Q21) -> 0
C22: 5.3 | D22: Nerūsējošā tērauda AISI 316 tekne ar konstruktīviem stiprinājumiem ar iespēju pieregulēt vienmērīgu ūdens novadīšanu visā teknes garumā vismaz 300x200 izmēros un aprīkota ar 5 cm 90 gr. zāģveida zobiem pa dūņu blīvētāja perimetru vienmērīgai liekā ūdens un dūņu savākšanai un novadīšanai uz NAI iekšējo sūkņu staciju. | E22: Būvdarbi | F22: k-ts | G22: 1 | J22: =ROUND(H22*I22,2) -> 0 | M22: =ROUND(J22+K22+L22,2) -> 0 | N22: =ROUND(H22*G22,2) -> 0 | O22: =ROUND(G22*J22,2) -> 0 | P22: =ROUND(G22*K22,2) -> 0 | Q22: =ROUND(G22*L22,2) -> 0 | R22: =SUM(O22:Q22) -> 0
C23: 5.4 | D23: Nerūsējoša tērauda AISI 304 kāpnes nokļūšanai uz dūņu blīvētāja virsmas. | E23: Būvdarbi | F23: k-ts | G23: 1 | J23: =ROUND(H23*I23,2) -> 0 | M23: =ROUND(J23+K23+L23,2) -> 0 | N23: =ROUND(H23*G23,2) -> 0 | O23: =ROUND(G23*J23,2) -> 0 | P23: =ROUND(G23*K23,2) -> 0 | Q23: =ROUND(G23*L23,2) -> 0 | R23: =SUM(O23:Q23) -> 0
C24: 5.5 | D24: Nerūsējoša tērauda AISI 304 margas h=1.2 m dūņu blīvētāja perimetru. | E24: Būvdarbi | F24: k-ts | G24: 1 | J24: =ROUND(H24*I24,2) -> 0 | M24: =ROUND(J24+K24+L24,2) -> 0 | N24: =ROUND(H24*G24,2) -> 0 | O24: =ROUND(G24*J24,2) -> 0 | P24: =ROUND(G24*K24,2) -> 0 | Q24: =ROUND(G24*L24,2) -> 0 | R24: =SUM(O24:Q24) -> 0
C25: 5.6 | D25: Nerūsējoša tērauda režģa AISI 304 34x38/30x2 vai plastikāta režģa 38x38/30x7 apkalpošanas platformas virs dūņu blīvētāja izbūve, t.sk. konstrukcijas platformas turēšanai AISI 304. | E25: Būvdarbi | F25: m2 | G25: 7.1 | J25: =ROUND(H25*I25,2) -> 0 | M25: =ROUND(J25+K25+L25,2) -> 0 | N25: =ROUND(H25*G25,2) -> 0 | O25: =ROUND(G25*J25,2) -> 0 | P25: =ROUND(G25*K25,2) -> 0 | Q25: =ROUND(G25*L25,2) -> 0 | R25: =SUM(O25:Q25) -> 0
C26: 5.7 | D26: Tehnoloģisko cauruļvadu ievadi/izvadi dūņu blīvētājā (ienākošais, izejošais, pārplūde, tukšošana) (t.sk. aka ar aizbīdni tukšošanas cauruļvadam). | E26: Būvdarbi | F26: k-ts | G26: 1 | J26: =ROUND(H26*I26,2) -> 0 | M26: =ROUND(J26+K26+L26,2) -> 0 | N26: =ROUND(H26*G26,2) -> 0 | O26: =ROUND(G26*J26,2) -> 0 | P26: =ROUND(G26*K26,2) -> 0 | Q26: =ROUND(G26*L26,2) -> 0 | R26: =SUM(O26:Q26) -> 0
C27: 5.8 | D27: Ūdens līmeņa sensora montāža dūņu blīvētājā (sensors tiks nodrošināts no Pasūtītāja puses) un pieslēgšana no/pie NAI SCADA (jauna opcija esošajai automātikai). | E27: Būvdarbi | F27: k-ts | G27: 1 | J27: =ROUND(H27*I27,2) -> 0 | M27: =ROUND(J27+K27+L27,2) -> 0 | N27: =ROUND(H27*G27,2) -> 0 | O27: =ROUND(G27*J27,2) -> 0 | P27: =ROUND(G27*K27,2) -> 0 | Q27: =ROUND(G27*L27,2) -> 0 | R27: =SUM(O27:Q27) -> 0
C28: 6 | D28: Ievada izbūve dūņu atūdeņošanas ēkā un pieslēgšana pie dūņu sūkņiem
C29: 6.1 | D29: Nepieciešamie cauruļvadu ievadi dūņu atūdeņošanas ēkā un tehnoloģiskie cauruļvadi ēkā | E29: Būvdarbi | F29: k-ts | G29: 1 | J29: =ROUND(H29*I29,2) -> 0 | M29: =ROUND(J29+K29+L29,2) -> 0 | N29: =ROUND(H29*G29,2) -> 0 | O29: =ROUND(G29*J29,2) -> 0 | P29: =ROUND(G29*K29,2) -> 0 | Q29: =ROUND(G29*L29,2) -> 0 | R29: =SUM(O29:Q29) -> 0
C30: 6.2 | D30: Elektromagnētiskais plūsmas mērītājs DN65 dūņu padevei uz dūņu presi un polimēra sagatavošanas iekārtu. | E30: Būvdarbi | F30: gab | G30: 1 | J30: =ROUND(H30*I30,2) -> 0 | M30: =ROUND(J30+K30+L30,2) -> 0 | N30: =ROUND(H30*G30,2) -> 0 | O30: =ROUND(G30*J30,2) -> 0 | P30: =ROUND(G30*K30,2) -> 0 | Q30: =ROUND(G30*L30,2) -> 0 | R30: =SUM(O30:Q30) -> 0
C31: 6.3 | D31: Gaiss - gaiss siltumsūkņa montāža dūņu atūdeņošanas ēkā. | E31: Būvdarbi | F31: k-ts | G31: 1 | J31: =ROUND(H31*I31,2) -> 0 | M31: =ROUND(J31+K31+L31,2) -> 0 | N31: =ROUND(H31*G31,2) -> 0 | O31: =ROUND(G31*J31,2) -> 0 | P31: =ROUND(G31*K31,2) -> 0 | Q31: =ROUND(G31*L31,2) -> 0 | R31: =SUM(O31:Q31) -> 0
C32: 7 | D32: NAI iekšējās sūkņu stacijas pārbūve atbilstoši tehnoloģiskajām vajadzībām
C33: 7.1 | D33: Esošo sūkņu, to vadulu saudzīga demontāža un nodošana Pasūtītājam. | E33: Būvdarbi | F33: k-ts | G33: 2 | J33: =ROUND(H33*I33,2) -> 0 | M33: =ROUND(J33+K33+L33,2) -> 0 | N33: =ROUND(H33*G33,2) -> 0 | O33: =ROUND(G33*J33,2) -> 0 | P33: =ROUND(G33*K33,2) -> 0 | Q33: =ROUND(G33*L33,2) -> 0 | R33: =SUM(O33:Q33) -> 0
C34: 7.2 | D34: Jaunu kanalizācijas sūkņu un to vadulu piegāde un montāža sūkņu stacijā. | E34: Piegāde/Būvdarbi | F34: k-ts | G34: 2 | J34: =ROUND(H34*I34,2) -> 0 | M34: =ROUND(J34+K34+L34,2) -> 0 | N34: =ROUND(H34*G34,2) -> 0 | O34: =ROUND(G34*J34,2) -> 0 | P34: =ROUND(G34*K34,2) -> 0 | Q34: =ROUND(G34*L34,2) -> 0 | R34: =SUM(O34:Q34) -> 0
C35: 7.3 | D35: Esošas sūkņu stacijas apsaistes demontāžas darbi. | E35: Būvdarbi | F35: k-ts | G35: 1 | J35: =ROUND(H35*I35,2) -> 0 | M35: =ROUND(J35+K35+L35,2) -> 0 | N35: =ROUND(H35*G35,2) -> 0 | O35: =ROUND(G35*J35,2) -> 0 | P35: =ROUND(G35*K35,2) -> 0 | Q35: =ROUND(G35*L35,2) -> 0 | R35: =SUM(O35:Q35) -> 0
C36: 7.4 | D36: Jauna sūkņu stacijas apsaiste, t.sk. cauruļvadi, pretvārsti, aizbīdņi, plūsmas mērītāji, elektroinstalācija un automātikas sistēmas. Esošo būvkonstrukciju sakārtošana un krāsošana. | E36: Būvdarbi | F36: k-ts | G36: 1 | J36: =ROUND(H36*I36,2) -> 0 | M36: =ROUND(J36+K36+L36,2) -> 0 | N36: =ROUND(H36*G36,2) -> 0 | O36: =ROUND(G36*J36,2) -> 0 | P36: =ROUND(G36*K36,2) -> 0 | Q36: =ROUND(G36*L36,2) -> 0 | R36: =SUM(O36:Q36) -> 0
C37: 7.5 | D37: Sūkņu stacijas pieslēgšana pie NAI SCADA. | E37: Būvdarbi | F37: k-ts | G37: 1 | J37: =ROUND(H37*I37,2) -> 0 | M37: =ROUND(J37+K37+L37,2) -> 0 | N37: =ROUND(H37*G37,2) -> 0 | O37: =ROUND(G37*J37,2) -> 0 | P37: =ROUND(G37*K37,2) -> 0 | Q37: =ROUND(G37*L37,2) -> 0 | R37: =SUM(O37:Q37) -> 0
C38: 7.6 | D38: Dūņu blīvētāja pārplūdes cauruļvadu pieslēgšana pie sūkņu stacijas vai ieplūstoša pašteces kanalizācijas tīkla. | E38: Būvdarbi | F38: k-ts | G38: 1 | J38: =ROUND(H38*I38,2) -> 0 | M38: =ROUND(J38+K38+L38,2) -> 0 | N38: =ROUND(H38*G38,2) -> 0 | O38: =ROUND(G38*J38,2) -> 0 | P38: =ROUND(G38*K38,2) -> 0 | Q38: =ROUND(G38*L38,2) -> 0 | R38: =SUM(O38:Q38) -> 0
C39: 8 | D39: Cietā seguma demontāža un utilizācija, izveides un atjaunošanas darbi pēc būvdarbiem, (t.sk. salizturīgs smilšu slānis 50 cm un šķembu apakškārta (0/56) 15 cm, šķembu virskārta (0/45) 10 cm, asfalts AC22 bāze 8 cm, asfalts AC11 virskārta 6 cm biezumā | E39: Būvdarbi | F39: m2 | G39: 285 | J39: =ROUND(H39*I39,2) -> 0 | M39: =ROUND(J39+K39+L39,2) -> 0 | N39: =ROUND(H39*G39,2) -> 0 | O39: =ROUND(G39*J39,2) -> 0 | P39: =ROUND(G39*K39,2) -> 0 | Q39: =ROUND(G39*L39,2) -> 0 | R39: =SUM(O39:Q39) -> 0
C40: 9 | D40: Zālāja atjaunošanas darbi pēc veiktajiem rakšanas darbiem. Melnzemes slānis 10 cm. Zālāja iesēšana un iestrāde | E40: Būvdarbi | F40: m2 | G40: 80 | J40: =ROUND(H40*I40,2) -> 0 | M40: =ROUND(J40+K40+L40,2) -> 0 | N40: =ROUND(H40*G40,2) -> 0 | O40: =ROUND(G40*J40,2) -> 0 | P40: =ROUND(G40*K40,2) -> 0 | Q40: =ROUND(G40*L40,2) -> 0 | R40: =SUM(O40:Q40) -> 0
C41: 10 | D41: Pasākumi NAI darbības nepārtrauktības nodrošināšanai būvdarbu laikā (t.sk. šo pasākumu demontāža pēc būvdarbu pabeigšanas) | E41: Būvdarbi | F41: k-ts | G41: 1 | J41: =ROUND(H41*I41,2) -> 0 | M41: =ROUND(J41+K41+L41,2) -> 0 | N41: =ROUND(H41*G41,2) -> 0 | O41: =ROUND(G41*J41,2) -> 0 | P41: =ROUND(G41*K41,2) -> 0 | Q41: =ROUND(G41*L41,2) -> 0 | R41: =SUM(O41:Q41) -> 0
G42: Kopā: | N42: =SUM(N9:N41) -> 0 | O42: =SUM(O9:O41) -> 0 | P42: =SUM(P9:P41) -> 0 | Q42: =SUM(Q9:Q41) -> 0 | R42: =SUM(R9:R41) -> 0

Sheet Lok.tāme Nr.4
A2: Lokālā tāme Nr.4 - Būvdarbi
B3: Būves nosaukums: | D3: =[1]Koptāme!B5 -> Notekūdeņu attīrīšanas iekārtas “Krīgeri” , Bērzes pag., Dobeles nov.
B4: Objekta nosaukums: | D4: =[1]Koptāme!B6 -> Apvienotā projektēšana un būvdarbi attīrīto notekūdeņu izvada atjaunošanā un pārbūvē NAI “Krīgeri” Dobeles aglomerācijā
B5: Objekta adrese: | D5: =[1]Koptāme!B7 -> ``Krīgeri``, Bērzes pag., Dobeles nov.
B6: Pasūtījuma Nr.:
C8: Nr.p.k. | D8: Darbu nosaukums | E8: Veids | F8: Mērvienība | G8: Daudzums | H8: Vienības izmaksas | N8: Kopā visam apjomam
H9: Laika norma, c/st. | I9: Darba samaksas likme, EUR/st. | J9: Darba alga, EUR | K9: Būvizstrādājumi, EUR | L9: Mehānismi, EUR | M9: Kopā, EUR | N9: Darbietilpība, c/st. | O9: Darba alga, EUR | P9: Būvizstrādājumi, EUR | Q9: Mehānismi, EUR | R9: Summa, EUR
C10: 1 | D10: Esoša izlaides kolektora posma D500mm rekonstrukcija vai pārbūve | E10: Būvdarbi | F10: m | G10: 27 | M10: =ROUND(J10+K10+L10,2) -> 0 | N10: =ROUND(H10*G10,2) -> 0 | O10: =ROUND(G10*J10,2) -> 0 | P10: =ROUND(G10*K10,2) -> 0 | Q10: =ROUND(G10*L10,2) -> 0 | R10: =SUM(O10:Q10) -> 0
C11: 2 | D11: Ūdens ņemšanas tehnoloģiskās akas un noslēgarmatūras izbūve uz esošā izlaides kolektora D2000mm, H2m. t.sk.siltināts plastmasas (PE vai PP) vai nerūsējoša AISI 304L tērauda divdaļīgs vāks. Aizvari D500 uz aizejošajiem kolektoriem | E11: Būvdarbi | H11: - | I11: - | J11: - | K11: - | L11: - | M11: - | N11: - | O11: - | P11: - | Q11: - | R11: -
C12: 2.1 | D12: Aizvars D500 uz aizejošajiem kolektoriem | E12: Būvdarbi | F12: gab | G12: 2 | M12: =ROUND(J12+K12+L12,2) -> 0 | N12: =ROUND(H12*G12,2) -> 0 | O12: =ROUND(G12*J12,2) -> 0 | P12: =ROUND(G12*K12,2) -> 0 | Q12: =ROUND(G12*L12,2) -> 0 | R12: =SUM(O12:Q12) -> 0
C13: 2.2 | D13: Akas izbūve | E13: Būvdarbi | F13: gab | G13: 1 | M13: =ROUND(J13+K13+L13,2) -> 0 | N13: =ROUND(H13*G13,2) -> 0 | O13: =ROUND(G13*J13,2) -> 0 | P13: =ROUND(G13*K13,2) -> 0 | Q13: =ROUND(G13*L13,2) -> 0 | R13: =SUM(O13:Q13) -> 0
C14: 2.3 | D14: Avārijas pārplūdes izveide | E14: Būvdarbi | F14: gab | G14: 1 | M14: =ROUND(J14+K14+L14,2) -> 0 | N14: =ROUND(H14*G14,2) -> 0 | O14: =ROUND(G14*J14,2) -> 0 | P14: =ROUND(G14*K14,2) -> 0 | Q14: =ROUND(G14*L14,2) -> 0 | R14: =SUM(O14:Q14) -> 0
C15: 2.4 | D15: Siltināts plastmasas (PE vai PP) vai nerūsējoša AISI 304L tērauda divdaļīgs vāks | E15: Būvdarbi | F15: gab | G15: 1 | M15: =ROUND(J15+K15+L15,2) -> 0 | N15: =ROUND(H15*G15,2) -> 0 | O15: =ROUND(G15*J15,2) -> 0 | P15: =ROUND(G15*K15,2) -> 0 | Q15: =ROUND(G15*L15,2) -> 0 | R15: =SUM(O15:Q15) -> 0
C16: 2.5 | D16: Izlietotā ūdens izliešanas tehnoloģiskās akas izbūve uz izlaides kolektora D2000mm, H2m | E16: Būvdarbi | H16: - | I16: - | J16: - | K16: - | L16: - | M16: - | N16: - | O16: - | P16: - | Q16: - | R16: -
C17: 2.6 | D17: Akas ar cauruļvadu pieslēgumiem 3 gab D500, vienu D300 unvienu D160mm izbūve. | E17: Būvdarbi | F17: k-ts | G17: 1 | M17: =ROUND(J17+K17+L17,2) -> 0 | N17: =ROUND(H17*G17,2) -> 0 | O17: =ROUND(G17*J17,2) -> 0 | P17: =ROUND(G17*K17,2) -> 0 | Q17: =ROUND(G17*L17,2) -> 0 | R17: =SUM(O17:Q17) -> 0
C18: 2.7 | D18: Pretvārsts D500 uz ienākošajiem D500 kolektoriem. | E18: Iekārtas būvdarbiem | F18: k-ts | G18: 2 | M18: =ROUND(J18+K18+L18,2) -> 0 | N18: =ROUND(H18*G18,2) -> 0 | O18: =ROUND(G18*J18,2) -> 0 | P18: =ROUND(G18*K18,2) -> 0 | Q18: =ROUND(G18*L18,2) -> 0 | R18: =SUM(O18:Q18) -> 0
C19: 2.8 | D19: Siltināts plastmasas (PE vai PP) vai nerūsējoša AISI 304L tērauda divdaļīgs vāks | E19: Iekārtas būvdarbiem | F19: k-ts | G19: 1 | M19: =ROUND(J19+K19+L19,2) -> 0 | N19: =ROUND(H19*G19,2) -> 0 | O19: =ROUND(G19*J19,2) -> 0 | P19: =ROUND(G19*K19,2) -> 0 | Q19: =ROUND(G19*L19,2) -> 0 | R19: =SUM(O19:Q19) -> 0
C20: 3 | D20: Pašteces vada D315 mm izbūve ar pieslēgumiem pie dzelzbetona akām | E20: Būvdarbi | F20: m | G20: 15 | M20: =ROUND(J20+K20+L20,2) -> 0 | N20: =ROUND(H20*G20,2) -> 0 | O20: =ROUND(G20*J20,2) -> 0 | P20: =ROUND(G20*K20,2) -> 0 | Q20: =ROUND(G20*L20,2) -> 0 | R20: =SUM(O20:Q20) -> 0
C21: 4 | D21: Ūdens ņemšanas siltumapgādei akas izbūve un aprīkošana | H21: - | I21: - | J21: - | K21: - | L21: - | M21: - | N21: - | O21: - | P21: - | Q21: - | R21: -
C22: 4.1 | D22: Ūdens ņemšanas akas izbūve D2000mm H4m. t.sk.siltināts plastmasas (PE vai PP) vai nerūsējoša AISI 304L tērauda divdaļīgs vāks. | E22: Būvdarbi | F22: k-ts | G22: 1 | M22: =ROUND(J22+K22+L22,2) -> 0 | N22: =ROUND(H22*G22,2) -> 0 | O22: =ROUND(G22*J22,2) -> 0 | P22: =ROUND(G22*K22,2) -> 0 | Q22: =ROUND(G22*L22,2) -> 0 | R22: =SUM(O22:Q22) -> 0
C23: 4.2 | D23: Sūkņi ar spiedvadiem akā NAI tehnoloģisko ēku siltumapgādei ar montāžu Q=1 l/s, H =10m (precizēt projektēšanas gaitā). t.sk vadulas sūkņa montāžai. Spiedvads akā, aizbīdņi, pretvārti u.t.t. Elektroapgādes un automātikas pieslēgums. | E23: Iekārtas būvdarbiem | F23: gab | G23: 1 | M23: =ROUND(J23+K23+L23,2) -> 0 | N23: =ROUND(H23*G23,2) -> 0 | O23: =ROUND(G23*J23,2) -> 0 | P23: =ROUND(G23*K23,2) -> 0 | Q23: =ROUND(G23*L23,2) -> 0 | R23: =SUM(O23:Q23) -> 0
C24: 4.3 | D24: Sūkņi ar spiedvadiem akā NAI tehnoloģisko ēku siltumapgādei (rezerves) Q=1 l/s, H =10m (precizēt projektēšanas gaitā) | E24: Iekārtu piegāde, Sūknis | F24: gab | G24: 1 | M24: =ROUND(J24+K24+L24,2) -> 0 | N24: =ROUND(H24*G24,2) -> 0 | O24: =ROUND(G24*J24,2) -> 0 | P24: =ROUND(G24*K24,2) -> 0 | Q24: =ROUND(G24*L24,2) -> 0 | R24: =SUM(O24:Q24) -> 0
C25: 4.4 | D25: Sūkņi ar spiedvadiem akā notekūdeņu pieņemšanas ēkas siltumapgādei ar montāžu Q=2.5 l/s, H =10m (precizēt projektēšanas gaitā). t.sk vadulas sūkņa montāžai. Spiedvads akā, aizbīdņi, pretvārti u.t.t. Elektroapgādes un automātikas pieslēgums. | E25: Iekārtas būvdarbiem | F25: gab | G25: 1 | M25: =ROUND(J25+K25+L25,2) -> 0 | N25: =ROUND(H25*G25,2) -> 0 | O25: =ROUND(G25*J25,2) -> 0 | P25: =ROUND(G25*K25,2) -> 0 | Q25: =ROUND(G25*L25,2) -> 0 | R25: =SUM(O25:Q25) -> 0
C26: 4.5 | D26: Sūkņi ar spiedvadiem akā notekūdeņu pieņemšanas ēkas siltumapgādei (rezerves)Q=2.5 l/s, H =10m (precizēt projektēšanas gaitā) | E26: Iekārtu piegāde, Sūknis | F26: gab | G26: 1 | M26: =ROUND(J26+K26+L26,2) -> 0 | N26: =ROUND(H26*G26,2) -> 0 | O26: =ROUND(G26*J26,2) -> 0 | P26: =ROUND(G26*K26,2) -> 0 | Q26: =ROUND(G26*L26,2) -> 0 | R26: =SUM(O26:Q26) -> 0
C27: 4.6 | D27: Pašteces vads D500 mm izbūve | E27: Būvdarbi | F27: m | G27: 10 | M27: =ROUND(J27+K27+L27,2) -> 0 | N27: =ROUND(H27*G27,2) -> 0 | O27: =ROUND(G27*J27,2) -> 0 | P27: =ROUND(G27*K27,2) -> 0 | Q27: =ROUND(G27*L27,2) -> 0 | R27: =SUM(O27:Q27) -> 0
C28: 4.7 | D28: Pārplūdes izveide D500 mm | E28: Būvdarbi | F28: k-ts | G28: 1 | M28: =ROUND(J28+K28+L28,2) -> 0 | N28: =ROUND(H28*G28,2) -> 0 | O28: =ROUND(G28*J28,2) -> 0 | P28: =ROUND(G28*K28,2) -> 0 | Q28: =ROUND(G28*L28,2) -> 0 | R28: =SUM(O28:Q28) -> 0
C29: 4.8 | D29: Akas elektroapgādes un automātikas sadalne. | E29: Būvdarbi | F29: k-ts | G29: 1 | M29: =ROUND(J29+K29+L29,2) -> 0 | N29: =ROUND(H29*G29,2) -> 0 | O29: =ROUND(G29*J29,2) -> 0 | P29: =ROUND(G29*K29,2) -> 0 | Q29: =ROUND(G29*L29,2) -> 0 | R29: =SUM(O29:Q29) -> 0
C30: 4.9 | D30: Kabeļu izbūve lekktroapgādei | E30: Būvdarbi | F30: m | G30: 15 | M30: =ROUND(J30+K30+L30,2) -> 0 | N30: =ROUND(H30*G30,2) -> 0 | O30: =ROUND(G30*J30,2) -> 0 | P30: =ROUND(G30*K30,2) -> 0 | Q30: =ROUND(G30*L30,2) -> 0 | R30: =SUM(O30:Q30) -> 0
C31: 5 | D31: NAI operatoru un automātikas telpu pārbūve atbilstoši tehnoloģiskajām vajadzībām | E31: Būvdarbi | H31: - | I31: - | J31: - | K31: - | L31: - | M31: - | N31: - | O31: - | P31: - | Q31: - | R31: -
C32: 5.1 | D32: U siltināta spiedvada D63mm izbūve (aktīvo diametru precizēt projektēšanas laikā) | E32: Būvdarbi | F32: m | G32: 20 | M32: =ROUND(J32+K32+L32,2) -> 0 | N32: =ROUND(H32*G32,2) -> 0 | O32: =ROUND(G32*J32,2) -> 0 | P32: =ROUND(G32*K32,2) -> 0 | Q32: =ROUND(G32*L32,2) -> 0 | R32: =SUM(O32:Q32) -> 0
C33: 5.2 | D33: Pašteces vada D160 mm izbūve | E33: Būvdarbi | F33: m | G33: 15 | M33: =ROUND(J33+K33+L33,2) -> 0 | N33: =ROUND(H33*G33,2) -> 0 | O33: =ROUND(G33*J33,2) -> 0 | P33: =ROUND(G33*K33,2) -> 0 | Q33: =ROUND(G33*L33,2) -> 0 | R33: =SUM(O33:Q33) -> 0
C34: 5.3 | D34: NAI operatoru un automātikas papildus telpas (ēka) tehnoloģiskajām vajadzībām. | E34: Būvdarbi | F34: k-ts | G34: 1 | H34: - | I34: - | J34: - | K34: - | L34: - | M34: - | N34: - | O34: - | P34: - | Q34: - | R34: -
C35: 5.3.1 | D35: Pamatu plātne- Dzelzbetona | E35: Būvdarbi | F35: k-ts | G35: 1 | M35: =ROUND(J35+K35+L35,2) -> 0 | N35: =ROUND(H35*G35,2) -> 0 | O35: =ROUND(G35*J35,2) -> 0 | P35: =ROUND(G35*K35,2) -> 0 | Q35: =ROUND(G35*L35,2) -> 0 | R35: =SUM(O35:Q35) -> 0
C36: 5.3.2 | D36: Moduļu tipa (vai līdzvērtīga) ēka iekārtu izvietošanai | E36: Būvdarbi | F36: k-ts | G36: 1 | M36: =ROUND(J36+K36+L36,2) -> 0 | N36: =ROUND(H36*G36,2) -> 0 | O36: =ROUND(G36*J36,2) -> 0 | P36: =ROUND(G36*K36,2) -> 0 | Q36: =ROUND(G36*L36,2) -> 0 | R36: =SUM(O36:Q36) -> 0
C37: 5.3.3 | D37: Ēkas elektroinstalācija un automātika | E37: Būvdarbi | F37: k-ts | G37: 1 | M37: =ROUND(J37+K37+L37,2) -> 0 | N37: =ROUND(H37*G37,2) -> 0 | O37: =ROUND(G37*J37,2) -> 0 | P37: =ROUND(G37*K37,2) -> 0 | Q37: =ROUND(G37*L37,2) -> 0 | R37: =SUM(O37:Q37) -> 0
C38: 5.3.4 | D38: Ekas eleketroinstalācijas pieslēguma kabeļi | E38: Būvdarbi | F38: m | G38: 65 | M38: =ROUND(J38+K38+L38,2) -> 0 | N38: =ROUND(H38*G38,2) -> 0 | O38: =ROUND(G38*J38,2) -> 0 | P38: =ROUND(G38*K38,2) -> 0 | Q38: =ROUND(G38*L38,2) -> 0 | R38: =SUM(O38:Q38) -> 0
C39: 5.3.5 | D39: Ēkas K pieslēguma izveide pie NAI K tīkliem (caur esošo ēku vai tai apkārt) | E39: Būvdarbi | F39: k-ts | G39: 1 | M39: =ROUND(J39+K39+L39,2) -> 0 | N39: =ROUND(H39*G39,2) -> 0 | O39: =ROUND(G39*J39,2) -> 0 | P39: =ROUND(G39*K39,2) -> 0 | Q39: =ROUND(G39*L39,2) -> 0 | R39: =SUM(O39:Q39) -> 0
C40: 5.4 | D40: Siltumsūknis ūdens- ūdens 12kW | E40: Iekārtas būvdarbiem | F40: k-ts | G40: 1 | M40: =ROUND(J40+K40+L40,2) -> 0 | N40: =ROUND(H40*G40,2) -> 0 | O40: =ROUND(G40*J40,2) -> 0 | P40: =ROUND(G40*K40,2) -> 0 | Q40: =ROUND(G40*L40,2) -> 0 | R40: =SUM(O40:Q40) -> 0
C41: 5.5 | D41: Siltummainis ar filtru filtrs 15kW | E41: Iekārtas būvdarbiem | H41: - | I41: - | J41: - | K41: - | L41: - | M41: - | N41: - | O41: - | P41: - | Q41: - | R41: -
C42: 5.5.1 | D42: Siltummainis | E42: Iekārtas būvdarbiem | F42: k-ts | G42: 1 | M42: =ROUND(J42+K42+L42,2) -> 0 | N42: =ROUND(H42*G42,2) -> 0 | O42: =ROUND(G42*J42,2) -> 0 | P42: =ROUND(G42*K42,2) -> 0 | Q42: =ROUND(G42*L42,2) -> 0 | R42: =SUM(O42:Q42) -> 0
...
