Workbook

Sheet SATURS
C1: 2.pielikums Atklāta konkursa nolikumam ID. Nr. PSKUS 2026/83
A2: Reaģenti un piederumi plūsmas citometrijas un HLA genotipēšanas (RT-PCR) izmeklējumiem transplantācijā
B3: ID Nr. PSKUS 2026/83
A5: SATURS
A6: Nr.p.k. | B6: Pozīcijas nosaukums | C6: Kopā par pozīciju
A7: 1. pozīcija | B7: HLA 11 lokusu reāllaika genotipēšanas reaģentu testsistēma | C7: =SUM('1.pozīcija'!L31) -> 0
A8: 2. pozīcija | B8: HLA 11 lokusu reāllaika genotipēšanas reaģentu komplekts 96-bedrīšu platēs | C8: =SUM('2.pozicija'!L29) -> 0
A9: Reaģenti un piederumi plūsmas citometrijas izmeklējumiem transplantācijā
A10: 3.pozīcija | B10: Pronāze | C10: =SUM('3.poz. Pronāze'!L28) -> 0
A11: 4. pozīcija | B11: Dezoksiribonukleāze I | C11: =SUM('4. poz. Dezoksiribonukleāze I'!L28) -> 0
A12: 5. pozīcija | B12: Galvenie reaģenti plūsmas citometrijas crossmatch izmeklējumam | C12: =SUM('5. poz. Galvenie reaģenti'!L28:L30) -> 0
A13: 6. pozīcija | B13: Papildus šūnu marķieri plūsmas citometrijas crossmatch izmeklējuma sagatavošanā un uzraudzībā | C13: =SUM('6. poz.Papildus šūnu marķieri'!L28:L30) -> 0
A14: 7. pozīcija | B14: Šūnu dzīvīguma marķieris | C14: =SUM('7. poz.Šūnu dzīvīguma marķieris'!L28) -> 0
A15: 8. pozīcija | B15: Plates plūsmas citometrijas crossmatch sagatavošanai | C15: =SUM('8.poz.Plates PC crossmatch'!L28) -> 0
A16: 9. pozīcija | B16: Kontroles serumi | C16: =SUM('9.poz.Kontroles serumi'!L28:L29) -> 0
A17: 10. pozīcija | B17: Vienreizlietojamas šūnu skaitīšanas kameras | C17: =SUM('10.poz.Šūnu skaitīšanas kameras'!L28) -> 0
A18: 11. pozīcija | B18: Pooled human serum | C18: =SUM('11.poz.Pooled human serum'!L28) -> 0
A19: 12. pozīcija | B19: Reaģenti T un B šūnu atdalīšanai | C19: =SUM('12.poz.T un B šūnu atdalīšana'!L28:L30) -> 0
A20: 13. pozīcija | B20: Anti-Rituximab (anti-CD20) antivielas | C20: =SUM('13. poz.Anti-Rituximab'!L28) -> 0
A21: 14. pozīcija | B21: Complement Cups rezervuāri | C21: =SUM('14. poz.Complement Cups'!L28) -> 0
A22: 15. pozīcija | B22: Testēšanas mikroplates | C22: =SUM('15. poz.Testēšanas mikroplates'!L28) -> 0
A23: 16. pozīcija | B23: Magnētiskais statīvs stripiem | C23: =SUM('16.poz.Magn. statīvs stripiem'!L28) -> 0
A24: 17. pozīcija | B24: Magnētiskais statīvs | C24: =SUM('17.poz.Magnētiskais statīvs'!L28) -> 0

Sheet 1.pozīcija
A1: ← Atpakaļ uz indeksu
A2: Reaģenti un piederumi plūsmas citometrijas un HLA genotipēšanas (RT-PCR) izmeklējumiem transplantācijā
B3: ID Nr. PSKUS 2026/83
A4: Tehniskā specifikācija/ Tehniskais - finanšu piedāvājums (forma)
C6: 1.pozīcija HLA 11 lokusu reāllaika genotipēšanas reaģentu testsistēma
B7: Tehniskās specifikācijas aktualizācijas datums 08.07.2026.
A8: Vispārīgās prasības:
A9: 1 | B9: Piegādātājam ir jāinformē pasūtītājs par jebkādām izmaiņām testsistēmas veiktspējā (sensitivitātes, specifiskuma izmaiņas, laika un citu parametru izmaiņas).
B10: Reaģentu prasības:
A11: 2 | B11: Piedāvātai precei, ja uz to attiecas REACH regulas 31. pantā minētie nosacījumi, pievieno drošības datu lapu latviešu valodā.
A12: 3 | B12: Pretendentam jānodrošina Lietotāja instrukcija un visu izmantojamo metožu apraksti.
A13: 4 | B13: Attiecināmajām precēm, drošības datu lapas pieejamība ir jānodrošina vismaz 10 gadus pēc reaģenta piegādes.
A14: 5 | B14: Darba procesa nodrošināšanai, piegādātājam jānodrošina validēti reaģenti, kvalitātes kontroles materiāli, kalibratori, kā arī papildus materiāli (piem. stobriņi, plates, plēves, vāciņi) un testēšanas protokoli, atbilstoši Eiropas Savienības IVD prasībām (CE marķējumam) vai, ja precei vai iekārtai nav CE marķējuma, pretendents iesniedz LR atbildīgo insitūciju izsniegtu atbilstošu dokumentu par atļauju darbam ar preci vai iekārtu.
A15: 6 | B15: Piedāvājumam jāpievieno Preces ražotāja izsniegta autorizācijas vēstule, kas apliecina, ka pretendents tiesīgs izplatīt piedāvāto Preci Latvijas Republikā vai Eiropas Savienībā.
A16: 7 | B16: Piedāvātai Precei jāpievieno EK atbilstības deklarācijas kopija, atbilstoši direktīvas EEK 98/79 vai regulas 2017/746 prasībām.
A17: 8 | B17: Preces derīguma termiņam, piegādes brīdī, jābūt vismaz 3/4 no preces lota kopējā derīguma termiņa. Ja nav iespējams piegādāt preci ar norādīto lota derīguma termiņu, atkarībā no preces derīguma termiņa, jānodrošina atlaide vismaz 50% apmērā.
A18: 9 | B18: Ja Piegādātājs norādījis nepietiekamu, kalibratoru, kontrolmateriālu, sistēmšķīdumu daudzumu norādītajam testu skaitam, iztrūkums līdz līguma izpildes beigām tiek piegādāts bezmaksas.
A19: 10 | B19: Piedāvājumā ietverti visi darbam nepieciešamie sistēmšķīdumi, kontroles materiāli un piederumi (piemēram, ultra tīrais H2O, bez RNS/DNS, nukleāzēm) pietiekami plānotajam testu daudzumam. Darbam nepieciešamos sistēmšķīdumus un piederumus testa piegādātājs norāda attiecīgajā ailē, ja tie nav iekļauti reaģentu komplektā, bet ar tiem nepieciešams papildināt reakcijas maisījumu (piemēram, ultra tīrais H2O, bez RNS/DNS, nukleāzēm). Šo materiālu izmakasas iekļauj piedāvājuma cenā, kā arī izceno atsevišķi.
A20: 11 | B20: Piegādātājs nodrošina piegādi ne vēlāk kā 5 (piecu) kalendāro dienu laikā no pasūtījuma veikšanas.
A21: 12 | B21: Piegādātājs nodrošina sistēmas darbības uzsākšanai, personāla apmācībai un izpildījuma verificēšanai nepieciešamos reaģentus.
A22: 13 | B22: Ņemot vērā, ka neparedzamu apstākļu dēļ, norādīto preču klāsts var mainīties 10% apmērā no Līguma kopējās summas, Tehniskajā - finanšu piedāvājumā neiekļauto preču cenas tiek atsevišķi saskaņotas ar Pasūtītāju, nepārsniedzot vidējās tirgus cenas Latvijā un nemainot vispārīgās vienošanās kopējo summu.
... A24: 15 | B24: *Norādītajam plānotajam daudzumam ir informatīva nozīme un tas tiek izmantots pretendentu finanšu piedāvājumu objektīvai vērtēšanai. Līgumi tiek slēgti par vienas vienības cenu, nosakot visa iepirkuma kopējo apjomu naudas izteiksmē un nenosakot katras pozīcijas apjomu. Pasūtītājam ir tiesības neiegādāties visu tehniskajā specifikācijā uzrādīto preču daudzumu;
A25: Nr.p.k. | B25: Prece | C25: Mērvienība (testi/ gab./ ml/ g) | D25: Skaits (plānotais apjoms) 48 mēn. | E25: Mērvienību skaits komplektā | F25: Komplektu skaits | G25: Preces oriģinālais nosaukums | H25: Preces kods | I25: Preces ražotājs | J25: Komplekta cena, eur bez PVN | K25: Kopējā cena eur, bez PVN | L25: Atsauce uz informatīvo materiālu**
A26: 1 | B26: 2 | C26: 4 | D26: 5 | E26: 6 | F26: 7 | G26: 8 | H26: 9 | I26: 10 | J26: 11 | K26: 7*11=12 | L26: 13
A27: 1. HLA 11 lokusu reāllaika genotipēšanas reaģentu testsistēma (384-bedrīšu platēs)
A28: Cenā iekļauj nepieciešamos reaģentus, šķīdinātājus, materiālus, u.c. atbilstoši vispārīgo prasību 10. punktam.
A29: 1.1. | B29: HLA 11 lokusu tipēšanas reaģenti, kas vienlaicīgi nodrošina viena parauga visu 11 HLA lokusu (HLA-A, -B, -C, -DRB1, DRB3/4/5, -DQB1, -DQA1, -DPB1, -DPA1) alēļu noteikšanu zemā vai vidējā izšķirtspējā, izmantojot reāllaika PCR (qPCR) tehnoloģiju. Reaģentu testsistēma ir sagatavota 384 bedrīšu PCR platē un testsistēmas reaģentu komplekts satur visas testēšanai nepieciešamās sastāvdaļas un piedrumus (t.sk. polimerāzi, plēves plates aizvēršanai, kalibratori un citi komponenti, ja tādi nepieciešami), lai nodrošinātu testa veikšanu laboratorijā uz esošā instrumenta (LightCycler 480 II), bez papildu aprīkojuma iegādes. Piegādātājs nodrošina analīzei nepieciešamo programmatūru vismaz 5 laboratorijas datoriem. Visas piedāvājumā iekļautās komponentes ir savstarpēji saderīgas un validētas atbilstoši CE-IVD/IVDR prasībām. Testēšanas sistēma ir ražotāja validēta lietošanai uz LightCycler 480 II (Roche) iekārtas. | C29: tests | D29: 700
A30: 1.2. | B30: Reaģentu komplekts amplifikācijas produktu un genoma DNS (gDNS) kontaminācijas novērtēšanai darba telpās. Komplektam jābūt piemērotam kvalitātes kontroles nodrošināšanai darbā ar 1.1. punktā piedāvāto HLA genotipēšanas testēšanas sistēmu, tai skaitā spējīgam identificēt iespējamos amplifikācijas produktus, kas radušies šī testa veikšanas laikā. Kontaminācijas testa reaģentu komplekts satur visus nepieciešamos komponentus kontaminācijas riska novērtēšanai (t.sk. polimerāzi, kontroles, reakciju plates, vāciņus vai plēvītes). Komplekts ir saderīgs ar laboratorijā esošajām iekārtām: - LightCycler 480 II (Roche) iekārtu reāllaika PCR (qPCR) analīzēm, un/vai - Proflex PCR Systems vai līdzvērtīgu iekārtu (end-point PCR) analīzēm ar produktu vizualizāciju gēlā. Iegūtie rezultāti (qPCR) ir analizējami, izmantojot to pašu programmatūru, kas paredzēta 1.1. punktā minētajai testēšanas sistēmai. Tests nodrošina ne vien amplikonu un gDNS kontaminācijas noteikšanu, bet arī iespējamas inhibīcijas ietekmes izvērtēšanu uz amplifikācijas procesu, atbilstoši laboratorijas kvalitātes kontroles prasībām un EFI standartu principiem. Šis reaģentu komplekts nav paredzēts in vitro diagnostikai (nav nepieciešams CE-IVD marķējums). | C30: plate testi (noskalojumi - 1 noskalojums testēts gan uz kontamināciju, gan inhibīciju) | D30: 40 240
I31: Kopā par 1. pozīciju (1.1-1.2), vērtējamā cena, eur. bez PVN. | L31: =K29+K30 -> 0
A32: Norādīt 1.1 un 1.2 iekļautos nepieciešamos reaģentus, šķīdinātājus, materiālus, u.c. atbilstoši vispārīgo prasību 10. punktam.
A33: Nr.p.k. | B33: Prece | C33: Mērvienība (testi/ gab./ ml/ g) | D33: Skaits (plānotais apjoms) 48 mēn. | E33: Mērvienību skaits komplektā | F33: Komplektu skaits | G33: Preces oriģinālais nosaukums | H33: Preces kods | I33: Preces ražotājs | J33: Komplekta cena, eur bez PVN | K33: Kopējā cena eur, bez PVN | L33: Atsauce uz informatīvo materiālu**
A34: 1 | B34: 2 | C34: 4 | D34: 5 | E34: 6 | F34: 7 | G34: 8 | H34: 9 | I34: 10 | J34: 11 | K34: 7*11=12 | L34: 13
A35: 1.3.
A36: 1.4.
A37: …
A48: 1.3. Piedāvāto testēšanas reaģentu specifikācija
A49: Ražotājs (ražotājvalsts):
A50: Nosaukums:
A51: Testu apjoms vienā komplektā:
B52: Tehniskā prasība | C52: Pretendenta piedāvātie parametri | E52: Atsauce uz informatīvo materiālu
...

Sheet 2.pozicija
A1: ← Atpakaļ uz indeksu
A2: Reaģenti un piederumi plūsmas citometrijas un HLA genotipēšanas (RT-PCR) izmeklējumiem transplantācijā
B3: ID Nr. PSKUS 2026/83
A4: Tehniskā specifikācija/ Tehniskais - finanšu piedāvājums (forma)
C6: 2. pozīcija HLA 11 lokusu reāllaika genotipēšanas reaģentu komplekts 96-bedrīšu platēs
B7: Tehniskās specifikācijas aktualizācijas datums 08.07.2026.
A8: Vispārīgās prasības:
A9: 1 | B9: Piegādātājam ir jāinformē pasūtītājs par jebkādām izmaiņām testsistēmas veiktspējā (sensitivitātes, specifiskuma izmaiņas, laika un citu parametru izmaiņas).
B10: Reaģentu prasības:
A11: 2 | B11: Piedāvātai precei, ja uz to attiecas REACH regulas 31. pantā minētie nosacījumi, pievieno drošības datu lapu latviešu valodā.
A12: 3 | B12: Pretendentam jānodrošina Lietotāja instrukcija un visu izmantojamo metožu apraksti.
A13: 4 | B13: Attiecināmajām precēm, drošības datu lapas pieejamība ir jānodrošina vismaz 10 gadus pēc reaģenta piegādes.
A14: 5 | B14: Darba procesa nodrošināšanai, piegādātājam jānodrošina validēti reaģenti, kvalitātes kontroles materiāli, kalibratori, kā arī papildus materiāli (piem. stobriņi, plates, plēves, vāciņi) un testēšanas protokoli, atbilstoši Eiropas Savienības IVD prasībām (CE marķējumam) vai, ja precei vai iekārtai nav CE marķējuma, pretendents iesniedz LR atbildīgo insitūciju izsniegtu atbilstošu dokumentu par atļauju darbam ar preci vai iekārtu.
A15: 6 | B15: Piedāvājumam jāpievieno Preces ražotāja izsniegta autorizācijas vēstule, kas apliecina, ka pretendents tiesīgs izplatīt piedāvāto Preci Latvijas Republikā vai Eiropas Savienībā.
A16: 7 | B16: Piedāvātai Precei jāpievieno EK atbilstības deklarācijas kopija, atbilstoši direktīvas EEK 98/79 vai regulas 2017/746 prasībām.
A17: 8 | B17: Preces derīguma termiņam, piegādes brīdī, jābūt vismaz 3/4 no preces lota kopējā derīguma termiņa. Ja nav iespējams piegādāt preci ar norādīto lota derīguma termiņu, atkarībā no preces derīguma termiņa, jānodrošina atlaide vismaz 50% apmērā.
A18: 9 | B18: Ja Piegādātājs norādījis nepietiekamu, kalibratoru, kontrolmateriālu, sistēmšķīdumu daudzumu norādītajam testu skaitam, iztrūkums līdz līguma izpildes beigām tiek piegādāts bezmaksas.
A19: 10 | B19: Piedāvājumā ietverti visi darbam nepieciešamie sistēmšķīdumi, kontroles materiāli un piederumi (piemēram, ultra tīrais H2O, bez RNS/DNS, nukleāzēm) pietiekami plānotajam testu daudzumam. Darbam nepieciešamos sistēmšķīdumus un piederumus testa piegādātājs norāda attiecīgajā ailē, ja tie nav iekļauti reaģentu komplektā, bet ar tiem nepieciešams papildināt reakcijas maisījumu (piemēram, ultra tīrais H2O, bez RNS/DNS, nukleāzēm). Šo materiālu izmakasas iekļauj piedāvājuma cenā, kā arī izceno atsevišķi.
A20: 11 | B20: Piegādātājs nodrošina piegādi ne vēlāk kā 5 (piecu) kalendāro dienu laikā no pasūtījuma veikšanas.
A21: 12 | B21: Piegādātājs nodrošina sistēmas darbības uzsākšanai, personāla apmācībai un izpildījuma verificēšanai nepieciešamos reaģentus.
A22: 13 | B22: Ņemot vērā, ka neparedzamu apstākļu dēļ, norādīto preču klāsts var mainīties 10% apmērā no Līguma kopējās summas, Tehniskajā - finanšu piedāvājumā neiekļauto preču cenas tiek atsevišķi saskaņotas ar Pasūtītāju, nepārsniedzot vidējās tirgus cenas Latvijā un nemainot vispārīgās vienošanās kopējo summu.
... A24: 15 | B24: *Norādītajam plānotajam daudzumam ir informatīva nozīme un tas tiek izmantots pretendentu finanšu piedāvājumu objektīvai vērtēšanai. Līgumi tiek slēgti par vienas vienības cenu, nosakot visa iepirkuma kopējo apjomu naudas izteiksmē un nenosakot katras pozīcijas apjomu. Pasūtītājam ir tiesības neiegādāties visu tehniskajā specifikācijā uzrādīto preču daudzumu;
A25: Nr.p.k. | B25: Prece | C25: Mērvienība (testi/ gab./ ml/ g) | D25: Skaits (plānotais apjoms) 48 mēn. | E25: Mērvienību skaits komplektā | F25: Komplektu skaits | G25: Preces oriģinālais nosaukums | H25: Preces kods | I25: Preces ražotājs | J25: Komplekta cena, eur bez PVN | K25: Kopējā cena eur, bez PVN | L25: Atsauce uz informatīvo materiālu**
A26: 1 | B26: 2 | C26: 4 | D26: 5 | E26: 6 | F26: 7 | G26: 8 | H26: 9 | I26: 10 | J26: 11 | K26: 7*11=12 | L26: 13
A27: 2. HLA 11 lokusu reāllaika genotipēšanas reaģentu komplekts 96-bedrīšu platēs
A28: 2.1. | B28: HLA 11 lokusu tipēšanas reaģenti, kas vienlaicīgi nodrošina viena parauga vismaz 11 HLA lokusu (HLA-A, -B, -C, -DRB1, DRB3/4/5, -DQB1, -DQA1, -DPB1, -DPA1) alēļu noteikšanu zemā vai vidējā izšķirtspējā, izmantojot reāllaika PCR (qPCR) tehnoloģiju. Reaģentu testsistēma ir sagatavota 96 bedrīšu PCR platē un testsistēmas reaģentu komplekts satur visas testēšanai nepieciešamās sastāvdaļas un piedrumus (t.sk. kontroles, polimerāzi, plēves plates aizvēršanai un citi komponenti, ja tādi nepieciešami), lai nodrošinātu testa veikšanu laboratorijā uz esošā instrumenta (BioRad CFX96), bez papildu aprīkojuma iegādes. Piegādātājs nodrošina analīzei nepieciešamo programmatūru vismaz 3 laboratorijas datoriem. Visas piedāvājumā iekļautās komponentes ir savstarpēji saderīgas un validētas atbilstoši CE-IVD/IVDR prasībām. Testēšanas sistēma ir ražotāja validēta lietošanai uz BioRad CFX96 iekārtas (nav nepieciešama papildus fluorescences kalibrācija vai instrumenta modifikācija). | C28: tests | D28: 150
J29: Kopā par 2. pozīciju (2.1), eur bez PVN | L29: =K28 -> 0
A30: Norādīt 2.1 iekļautos nepieciešamos reaģentus, šķīdinātājus, materiālus, u.c. atbilstoši vispārīgo prasību 10. punktam.
A31: Nr.p.k. | B31: Prece | C31: Mērvienība (testi/ gab./ ml/ g) | D31: Skaits (plānotais apjoms) 48 mēn. | E31: Mērvienību skaits komplektā | F31: Komplektu skaits | G31: Preces oriģinālais nosaukums | H31: Preces kods | I31: Preces ražotājs | J31: Komplekta cena, eur bez PVN | K31: Kopējā cena eur, bez PVN | L31: Atsauce uz informatīvo materiālu**
A32: 1 | B32: 2 | C32: 4 | D32: 5 | E32: 6 | F32: 7 | G32: 8 | H32: 9 | I32: 10 | J32: 11 | K32: 7*11=12 | L32: 13
A33: 2.2.
A34: 2.3.
A35: …
A46: 2.2. Piedāvāto testēšanas reaģentu specifikācija
A47: Ražotājs (ražotājvalsts):
A48: Nosaukums:
A49: Testu apjoms vienā komplektā:
B50: Tehniskā prasība | C50: Pretendenta piedāvātie parametri | E50: Atsauce uz informatīvo materiālu
A51: 2.2.1 | B51: Testēšanas reaģenti paredzēti analīzes veikšanai no cilvēka genoma DNS (gDNS) un ir piemēroti klīniskajai diagnostikai transplantācijas vajadzībām, tai skaitā steidzamai donoru HLA genotipēšanai.
A52: 2.2.2 | B52: Testēšanas reaģentu komplekts nodrošina vismaz 11 HLA lokusu vienlaicīgu analīzi: HLA-A, -B, -C, DRB1, -DRB3, -DRB4, -DRB5, -DQA1, -DQB1, -DPA1, -DPB1, bez nepieciešamības veikt atsevišķas PCR reakcijas atsevišķiem lokusiem.
...

Sheet 3.daļa
A2: Reaģenti un piederumi plūsmas citometrijas un HLA genotipēšanas (RT-PCR) izmeklējumiem transplantācijā
B3: ID Nr. PSKUS 2026/83
A4: Tehniskā specifikācija/ Tehniskais - finanšu piedāvājums (forma)
D6: 3. daļa Reaģenti un piederumi plūsmas citometrijas izmeklējumiem transplantācijā
B7: Tehniskās specifikācijas aktualizācijas datums 12.05.2026.
A8: Vispārīgās prasības:
A9: 1 | B9: Piegādātājam ir jāinformē pasūtītājs par jebkādām izmaiņām testsistēmas veiktspējā (sensitivitātes, specifiskuma izmaiņas, laika un citu parametru izmaiņas).
B10: Reaģentu prasības:
A11: 2 | B11: Piedāvātai precei, ja uz to attiecas REACH regulas 31. pantā minētie nosacījumi, pievieno drošības datu lapu latviešu valodā.
A12: 3 | B12: Pretendentam jānodrošina Lietotāja instrukcija un visu izmantojamo metožu apraksti.
A13: 4 | B13: Attiecināmajām precēm, drošības datu lapas pieejamība ir jānodrošina vismaz 10 gadus pēc reaģenta piegādes.
A14: 5 | B14: Darba procesa nodrošināšanai, piegādātājam jānodrošina validēti reaģenti, kvalitātes kontroles materiāli, kalibratori, kā arī papildus materiāli (piem. stobriņi, plates, plēves, vāciņi) un testēšanas protokoli, atbilstoši Eiropas Savienības IVD prasībām (CE marķējumam) vai, ja precei vai iekārtai nav CE marķējuma, pretendents iesniedz LR atbildīgo insitūciju izsniegtu atbilstošu dokumentu par atļauju darbam ar preci vai iekārtu.
A15: 6 | B15: Piedāvājumam jāpievieno Preces ražotāja izsniegta autorizācijas vēstule, kas apliecina, ka pretendents tiesīgs izplatīt piedāvāto Preci Latvijas Republikā vai Eiropas Savienībā.
A16: 7 | B16: Piedāvātai Precei jāpievieno EK atbilstības deklarācijas kopija, atbilstoši direktīvas EEK 98/79 vai regulas 2017/746 prasībām.
A17: 8 | B17: Preces derīguma termiņam, piegādes brīdī, jābūt vismaz 3/4 no preces lota kopējā derīguma termiņa. Ja nav iespējams piegādāt preci ar norādīto lota derīguma termiņu, atkarībā no preces derīguma termiņa, jānodrošina atlaide vismaz 50% apmērā.
A18: 9 | B18: Ja Piegādātājs norādījis nepietiekamu, kalibratoru, kontrolmateriālu, sistēmšķīdumu daudzumu norādītajam testu skaitam, iztrūkums līdz līguma izpildes beigām tiek piegādāts bezmaksas.
A19: 10 | B19: Piedāvājumā ietverti visi darbam nepieciešamie sistēmšķīdumi, kontroles materiāli un piederumi (piemēram, ultra tīrais H2O, bez RNS/DNS, nukleāzēm) pietiekami plānotajam testu daudzumam. Darbam nepieciešamos sistēmšķīdumus un piederumus testa piegādātājs norāda attiecīgajā ailē, ja tie nav iekļauti reaģentu komplektā, bet ar tiem nepieciešams papildināt reakcijas maisījumu (piemēram, ultra tīrais H2O, bez RNS/DNS, nukleāzēm). Šo materiālu izmakasas iekļauj piedāvājuma cenā, kā arī izceno atsevišķi.
A20: 11 | B20: Piegādātājs nodrošina piegādi ne vēlāk kā 5 (piecu) kalendāro dienu laikā no pasūtījuma veikšanas.
A21: 12 | B21: Piegādātājs nodrošina sistēmas darbības uzsākšanai, personāla apmācībai un izpildījuma verificēšanai nepieciešamos reaģentus.
A22: 13 | B22: Ņemot vērā, ka neparedzamu apstākļu dēļ, norādīto preču klāsts var mainīties 10% apmērā no Līguma kopējās summas, Tehniskajā - finanšu piedāvājumā neiekļauto preču cenas tiek atsevišķi saskaņotas ar Pasūtītāju, nepārsniedzot vidējās tirgus cenas Latvijā un nemainot vispārīgās vienošanās kopējo summu.
... A24: 15 | B24: *Norādītajam plānotajam daudzumam ir informatīva nozīme un tas tiek izmantots pretendentu finanšu piedāvājumu objektīvai vērtēšanai. Līgumi tiek slēgti par vienas vienības cenu, nosakot visa iepirkuma kopējo apjomu naudas izteiksmē un nenosakot katras pozīcijas apjomu. Pasūtītājam ir tiesības neiegādāties visu tehniskajā specifikācijā uzrādīto preču daudzumu;
A25: Nr.p.k. | B25: Prece | C25: Specifikācija | D25: Mērvienība (testi/ gab./ ml/ g) | E25: Skaits (plānotais apjoms) 48 mēn. | F25: Mērvienību skaits komplektā | G25: Komplektu skaits | H25: Preces oriģinālais nosaukums | I25: Preces kods | J25: Preces ražotājs | K25: Komplekta cena, eur bez PVN | L25: Kopējā cena eur, bez PVN | M25: Atsauce uz informatīvo materiālu**
A26: 1 | B26: 2 | C26: 3 | D26: 4 | E26: 5 | F26: 6 | G26: 7 | H26: 8 | I26: 9 | J26: 10 | K26: 11 | L26: 7*11=12 | M26: 13
A27: 1. Pronāze
A28: 1.1. | B28: Pronāze | C28: Enzīms (proteāze no Streptomyces griseus), kas piemērots no cilvēka audiem izdalītu šūnu suspensijas (cilvēka limfocītu) apstrādei pirms plūsmas citometrijas izmeklējuma. Nodrošina kontrolētu šūnas virsmas proteīnu degradāciju bez šūnu lizēšanās. Enzīms aktīvs fizioloģiskos apstākļos (pH ~7.0–8.0, istabas temperatūrā un līdz pat 37°C). Piegādes forma - liofilizēts pulveris, 100mg. Nepieciešamā enzimātiskā aktivitāte ≥3,5 U/mg. Nesatur komponentus, kas ietekmē šūnu dzīvīgumu un plūsmas citometrijas krāsošanu. Ražotājs nodrošina analīzes sertifikātu. | D28: iepakojums | E28: 4 | F28: 100mg | G28: =IF('3.poz. Pronāze'!G28="","",'3.poz. Pronāze'!G28) | H28: =IF('3.poz. Pronāze'!H28="","",'3.poz. Pronāze'!H28) | I28: =IF('3.poz. Pronāze'!I28="","",'3.poz. Pronāze'!I28) | J28: =IF('3.poz. Pronāze'!J28="","",'3.poz. Pronāze'!J28) | K28: =IF('3.poz. Pronāze'!K28="","",'3.poz. Pronāze'!K28) | L28: =IFERROR($K28*$G28,"") | M28: =IF('3.poz. Pronāze'!M28="","",'3.poz. Pronāze'!M28)
A29: 2. Dezoksiribonukleāze I
A30: 2.1. | B30: Dezoksiribonukleāze I (Dnāze I) | C30: Enzīms (dezoksiribonukleāze I no liellopa aizkuņģa dziedzera) piemērots šūnu suspensijas apstrādei pirms plūsmas citometrijas izmeklējuma. Paredzēts ekstracellulārās DNS degradēšanai, mazina šūnu agregāciju un parauga viskozitāti. Enzīms aktīvs fizioloģiskos apstākļos (pH ~7.0–8.0, istabas temperatūrā un līdz pat 37°C). Piegādes forma - liofilizēts pulveris, 10mg. Nepieciešamā enzimātiskā aktivitāte ≥2,000 U/mg. | D30: iepakojums | E30: 4 | F30: 10mg | G30: =IF('4. poz. Dezoksiribonukleāze I'!G28="","",'4. poz. Dezoksiribonukleāze I'!G28) | H30: =IF('4. poz. Dezoksiribonukleāze I'!H28="","",'4. poz. Dezoksiribonukleāze I'!H28) | I30: =IF('4. poz. Dezoksiribonukleāze I'!I28="","",'4. poz. Dezoksiribonukleāze I'!I28) | J30: =IF('4. poz. Dezoksiribonukleāze I'!J28="","",'4. poz. Dezoksiribonukleāze I'!J28) | K30: =IF('4. poz. Dezoksiribonukleāze I'!K28="","",'4. poz. Dezoksiribonukleāze I'!K28) | L30: =IFERROR($K30*$G30,"") | M30: =IF('4. poz. Dezoksiribonukleāze I'!M28="","",'4. poz. Dezoksiribonukleāze I'!M28)
A31: 3. Galvenie reaģenti plūsmas citometrijas crossmatch izmeklējumam
A32: 3.1. | B32: CD19-PE | C32: Monoklonālas peles antivielas pret cilvēka CD19, konjugētas ar PE (PE vai ekvivalents) fluorohromu. Pielietojamas plūsmas citometrijas izmeklējumos, Iepakojumā 100 testi, CE-IVD marķējums | D32: iepakojums | E32: 10 | F32: 100 testi | G32: =IF('5. poz. Galvenie reaģenti'!G28="","",'5. poz. Galvenie reaģenti'!G28) | H32: =IF('5. poz. Galvenie reaģenti'!H28="","",'5. poz. Galvenie reaģenti'!H28) | I32: =IF('5. poz. Galvenie reaģenti'!I28="","",'5. poz. Galvenie reaģenti'!I28) | J32: =IF('5. poz. Galvenie reaģenti'!J28="","",'5. poz. Galvenie reaģenti'!J28) | K32: =IF('5. poz. Galvenie reaģenti'!K28="","",'5. poz. Galvenie reaģenti'!K28) | L32: =IFERROR($K32*$G32,"") | M32: =IF('5. poz. Galvenie reaģenti'!M28="","",'5. poz. Galvenie reaģenti'!M28)
A33: 3.2. | B33: CD3-PC7 | C33: Monoklonālas peles antivielas pret cilvēka CD3, konjugētas ar PC7 (PE/Cy7 vai ekvivalents) fluorohromu. Pielietojamas plūsmas citometrijas izmeklējumos, Iepakojumā 100 testi, CE-IVD marķējums | D33: iepakojums | E33: 10 | F33: 100 testi | G33: =IF('5. poz. Galvenie reaģenti'!G29="","",'5. poz. Galvenie reaģenti'!G29) | H33: =IF('5. poz. Galvenie reaģenti'!H29="","",'5. poz. Galvenie reaģenti'!H29) | I33: =IF('5. poz. Galvenie reaģenti'!I29="","",'5. poz. Galvenie reaģenti'!I29) | J33: =IF('5. poz. Galvenie reaģenti'!J29="","",'5. poz. Galvenie reaģenti'!J29) | K33: =IF('5. poz. Galvenie reaģenti'!K29="","",'5. poz. Galvenie reaģenti'!K29) | L33: =IFERROR($K33*$G33,"") | M33: =IF('5. poz. Galvenie reaģenti'!M29="","",'5. poz. Galvenie reaģenti'!M29)
A34: 3.3. | B34: F(ab')2 Goat anti-human IgG Fcγ - FITC | C34: Poliklonālas, pret cilvēka IgG Fcγ fragmentiem vērstas kazas F(ab')2 antivielas ar FITC fluorohromu. Piemērotas plūsmas citometrijas aplikācijām. Minimāla krustreakcija pret liellopa, zirga, peles seruma proteīniem. Iepakojums pa 100 µg | D34: iepakojums | E34: 10 | F34: 100 testi | G34: =IF('5. poz. Galvenie reaģenti'!G30="","",'5. poz. Galvenie reaģenti'!G30) | H34: =IF('5. poz. Galvenie reaģenti'!H30="","",'5. poz. Galvenie reaģenti'!H30) | I34: =IF('5. poz. Galvenie reaģenti'!I30="","",'5. poz. Galvenie reaģenti'!I30) | J34: =IF('5. poz. Galvenie reaģenti'!J30="","",'5. poz. Galvenie reaģenti'!J30) | K34: =IF('5. poz. Galvenie reaģenti'!K30="","",'5. poz. Galvenie reaģenti'!K30) | L34: =IFERROR($K34*$G34,"") | M34: =IF('5. poz. Galvenie reaģenti'!M30="","",'5. poz. Galvenie reaģenti'!M30)
A35: 4. Papildus šūnu marķieri plūsmas citometrijas crossmatch izmeklējuma sagatavošanā un uzraudzībā
A36: 4.1. | B36: CD23-FITC | C36: Monoklonālas peles antivielas pret cilvēka CD23, konjugētas ar FITC fluorohromu. Pielietojamas plūsmas citometrijas izmeklējumos, Iepakojumā 100 testi, CE-IVD marķējums nav nepieciešams | D36: iepakojums | E36: 2 | F36: 100 testi | G36: =IF('6. poz.Papildus šūnu marķieri'!G28="","",'6. poz.Papildus šūnu marķieri'!G28) | H36: =IF('6. poz.Papildus šūnu marķieri'!H28="","",'6. poz.Papildus šūnu marķieri'!H28) | I36: =IF('6. poz.Papildus šūnu marķieri'!I28="","",'6. poz.Papildus šūnu marķieri'!I28) | J36: =IF('6. poz.Papildus šūnu marķieri'!J28="","",'6. poz.Papildus šūnu marķieri'!J28) | K36: =IF('6. poz.Papildus šūnu marķieri'!K28="","",'6. poz.Papildus šūnu marķieri'!K28) | L36: =IFERROR($K36*$G36,"") | M36: =IF('6. poz.Papildus šūnu marķieri'!M28="","",'6. poz.Papildus šūnu marķieri'!M28)
A37: 4.2. | B37: CD20-FITC | C37: Monoklonālas peles antivielas pret cilvēka CD20, konjugētas ar FITC fluorohromu. Pielietojamas plūsmas citometrijas izmeklējumos, Iepakojumā 100 testi, CE-IVD marķējums nav nepieciešams | D37: iepakojums | E37: 2 | F37: 100 testi | G37: =IF('6. poz.Papildus šūnu marķieri'!G29="","",'6. poz.Papildus šūnu marķieri'!G29) | H37: =IF('6. poz.Papildus šūnu marķieri'!H29="","",'6. poz.Papildus šūnu marķieri'!H29) | I37: =IF('6. poz.Papildus šūnu marķieri'!I29="","",'6. poz.Papildus šūnu marķieri'!I29) | J37: =IF('6. poz.Papildus šūnu marķieri'!J29="","",'6. poz.Papildus šūnu marķieri'!J29) | K37: =IF('6. poz.Papildus šūnu marķieri'!K29="","",'6. poz.Papildus šūnu marķieri'!K29) | L37: =IFERROR($K37*$G37,"") | M37: =IF('6. poz.Papildus šūnu marķieri'!M29="","",'6. poz.Papildus šūnu marķieri'!M29)
A38: 4.3. | B38: CD32-FITC | C38: Monoklonālas peles antivielas pret cilvēka CD32, konjugētas ar FITC fluorohromu. Pielietojamas plūsmas citometrijas izmeklējumos, Iepakojumā 100 testi, CE-IVD marķējums nav nepieciešams | D38: iepakojums | E38: 2 | F38: 100 testi | G38: =IF('6. poz.Papildus šūnu marķieri'!G30="","",'6. poz.Papildus šūnu marķieri'!G30) | H38: =IF('6. poz.Papildus šūnu marķieri'!H30="","",'6. poz.Papildus šūnu marķieri'!H30) | I38: =IF('6. poz.Papildus šūnu marķieri'!I30="","",'6. poz.Papildus šūnu marķieri'!I30) | J38: =IF('6. poz.Papildus šūnu marķieri'!J30="","",'6. poz.Papildus šūnu marķieri'!J30) | K38: =IF('6. poz.Papildus šūnu marķieri'!K30="","",'6. poz.Papildus šūnu marķieri'!K30) | L38: =IFERROR($K38*$G38,"") | M38: =IF('6. poz.Papildus šūnu marķieri'!M30="","",'6. poz.Papildus šūnu marķieri'!M30)
A39: 5. Šūnu dzīvīguma marķieris
A40: 5.1. | B40: 7-AAD | C40: 7-AAD (7-Aminoactinomycin D) - fluorescējoša dzīvīguma krāsa, kas interkalē DNS mirušās/apoptotiskās šūnās jeb šūnas ar kompromitētu membrānu. Plūsmas citometrijā ļauj izslēgt no analīzes mirušās šūnas. Labi pielietojams kopā ar PE, FITC un PC7 fluorohromiem uz iekārtas ar 488nm lāzeri. Iepakojumā 1-3ml. CE-IVD marķējums. | D40: iepakojums | E40: 2 | F40: 3ml | G40: =IF('7. poz.Šūnu dzīvīguma marķieris'!G28="","",'7. poz.Šūnu dzīvīguma marķieris'!G28) | H40: =IF('7. poz.Šūnu dzīvīguma marķieris'!H28="","",'7. poz.Šūnu dzīvīguma marķieris'!H28) | I40: =IF('7. poz.Šūnu dzīvīguma marķieris'!I28="","",'7. poz.Šūnu dzīvīguma marķieris'!I28) | J40: =IF('7. poz.Šūnu dzīvīguma marķieris'!J28="","",'7. poz.Šūnu dzīvīguma marķieris'!J28) | K40: =IF('7. poz.Šūnu dzīvīguma marķieris'!K28="","",'7. poz.Šūnu dzīvīguma marķieris'!K28) | L40: =IFERROR($K40*$G40,"") | M40: =IF('7. poz.Šūnu dzīvīguma marķieris'!M28="","",'7. poz.Šūnu dzīvīguma marķieris'!M28)
A41: 6. Plates plūsmas citometrijas crossmatch sagatavošanai
A42: 6.1. | B42: Plates plūsmas citometrijas izmeklējumiem | C42: Neapstrādāta polistirēna 96 bedrīšu plates, kas piemērotas imunoloģijas izmeklējumiem, caurspīdīgas, neapstrādātas, bez vāka, nesterilas, necitotoksiskas. Corning™ #3797 vai ekvivalentas | D42: gb | E42: 4 | F42: 100gb | G42: =IF('8.poz.Plates PC crossmatch'!G28="","",'8.poz.Plates PC crossmatch'!G28) | H42: =IF('8.poz.Plates PC crossmatch'!H28="","",'8.poz.Plates PC crossmatch'!H28) | I42: =IF('8.poz.Plates PC crossmatch'!I28="","",'8.poz.Plates PC crossmatch'!I28) | J42: =IF('8.poz.Plates PC crossmatch'!J28="","",'8.poz.Plates PC crossmatch'!J28) | K42: =IF('8.poz.Plates PC crossmatch'!K28="","",'8.poz.Plates PC crossmatch'!K28) | L42: =IFERROR($K42*$G42,"") | M42: =IF('8.poz.Plates PC crossmatch'!M28="","",'8.poz.Plates PC crossmatch'!M28)
A43: 7. Kontroles serumi
...

Sheet 3.poz. Pronāze
A1: ← Atpakaļ uz indeksu
A2: Reaģenti un piederumi plūsmas citometrijas un HLA genotipēšanas (RT-PCR) izmeklējumiem transplantācijā
B3: ID Nr. PSKUS 2026/83
A4: Tehniskā specifikācija/ Tehniskais - finanšu piedāvājums (forma)
D6: 3. pozīcija Reaģenti un piederumi plūsmas citometrijas izmeklējumiem transplantācijā "Pronāze"
B7: Tehniskās specifikācijas aktualizācijas datums 08.07.2026.
A8: Vispārīgās prasības:
A9: 1 | B9: Piegādātājam ir jāinformē pasūtītājs par jebkādām izmaiņām testsistēmas veiktspējā (sensitivitātes, specifiskuma izmaiņas, laika un citu parametru izmaiņas).
B10: Reaģentu prasības:
A11: 2 | B11: Piedāvātai precei, ja uz to attiecas REACH regulas 31. pantā minētie nosacījumi, pievieno drošības datu lapu latviešu valodā.
A12: 3 | B12: Pretendentam jānodrošina Lietotāja instrukcija un visu izmantojamo metožu apraksti.
A13: 4 | B13: Attiecināmajām precēm, drošības datu lapas pieejamība ir jānodrošina vismaz 10 gadus pēc reaģenta piegādes.
A14: 5 | B14: Darba procesa nodrošināšanai, piegādātājam jānodrošina validēti reaģenti, kvalitātes kontroles materiāli, kalibratori, kā arī papildus materiāli (piem. stobriņi, plates, plēves, vāciņi) un testēšanas protokoli, atbilstoši Eiropas Savienības IVD prasībām (CE marķējumam) vai, ja precei vai iekārtai nav CE marķējuma, pretendents iesniedz LR atbildīgo insitūciju izsniegtu atbilstošu dokumentu par atļauju darbam ar preci vai iekārtu.
A15: 6 | B15: Piedāvājumam jāpievieno Preces ražotāja izsniegta autorizācijas vēstule, kas apliecina, ka pretendents tiesīgs izplatīt piedāvāto Preci Latvijas Republikā vai Eiropas Savienībā.
A16: 7 | B16: Piedāvātai Precei jāpievieno EK atbilstības deklarācijas kopija, atbilstoši direktīvas EEK 98/79 vai regulas 2017/746 prasībām.
A17: 8 | B17: Preces derīguma termiņam, piegādes brīdī, jābūt vismaz 3/4 no preces lota kopējā derīguma termiņa. Ja nav iespējams piegādāt preci ar norādīto lota derīguma termiņu, atkarībā no preces derīguma termiņa, jānodrošina atlaide vismaz 50% apmērā.
A18: 9 | B18: Ja Piegādātājs norādījis nepietiekamu, kalibratoru, kontrolmateriālu, sistēmšķīdumu daudzumu norādītajam testu skaitam, iztrūkums līdz līguma izpildes beigām tiek piegādāts bezmaksas.
A19: 10 | B19: Piedāvājumā ietverti visi darbam nepieciešamie sistēmšķīdumi, kontroles materiāli un piederumi (piemēram, ultra tīrais H2O, bez RNS/DNS, nukleāzēm) pietiekami plānotajam testu daudzumam. Darbam nepieciešamos sistēmšķīdumus un piederumus testa piegādātājs norāda attiecīgajā ailē, ja tie nav iekļauti reaģentu komplektā, bet ar tiem nepieciešams papildināt reakcijas maisījumu (piemēram, ultra tīrais H2O, bez RNS/DNS, nukleāzēm). Šo materiālu izmakasas iekļauj piedāvājuma cenā, kā arī izceno atsevišķi.
A20: 11 | B20: Piegādātājs nodrošina piegādi ne vēlāk kā 5 (piecu) kalendāro dienu laikā no pasūtījuma veikšanas.
A21: 12 | B21: Piegādātājs nodrošina sistēmas darbības uzsākšanai, personāla apmācībai un izpildījuma verificēšanai nepieciešamos reaģentus.
A22: 13 | B22: Ņemot vērā, ka neparedzamu apstākļu dēļ, norādīto preču klāsts var mainīties 10% apmērā no Līguma kopējās summas, Tehniskajā - finanšu piedāvājumā neiekļauto preču cenas tiek atsevišķi saskaņotas ar Pasūtītāju, nepārsniedzot vidējās tirgus cenas Latvijā un nemainot vispārīgās vienošanās kopējo summu.
... A24: 15 | B24: *Norādītajam plānotajam daudzumam ir informatīva nozīme un tas tiek izmantots pretendentu finanšu piedāvājumu objektīvai vērtēšanai. Līgumi tiek slēgti par vienas vienības cenu, nosakot visa iepirkuma kopējo apjomu naudas izteiksmē un nenosakot katras pozīcijas apjomu. Pasūtītājam ir tiesības neiegādāties visu tehniskajā specifikācijā uzrādīto preču daudzumu;
A25: Nr.p.k. | B25: Prece | C25: Specifikācija | D25: Mērvienība (testi/ gab./ ml/ g) | E25: Skaits (plānotais apjoms) 48 mēn. | F25: Mērvienību skaits komplektā | G25: Komplektu skaits | H25: Preces oriģinālais nosaukums | I25: Preces kods | J25: Preces ražotājs | K25: Komplekta cena, eur bez PVN | L25: Kopējā cena eur, bez PVN | M25: Atsauce uz informatīvo materiālu**
A26: 1 | B26: 2 | C26: 3 | D26: 4 | E26: 5 | F26: 6 | G26: 7 | H26: 8 | I26: 9 | J26: 10 | K26: 11 | L26: 7*11=12 | M26: 13
A27: 3. Pronāze
A28: 3.1. | B28: Pronāze | C28: Enzīms (proteāze no Streptomyces griseus), kas piemērots no cilvēka audiem izdalītu šūnu suspensijas (cilvēka limfocītu) apstrādei pirms plūsmas citometrijas izmeklējuma. Nodrošina kontrolētu šūnas virsmas proteīnu degradāciju bez šūnu lizēšanās. Enzīms aktīvs fizioloģiskos apstākļos (pH ~7.0–8.0, istabas temperatūrā un līdz pat 37°C). Piegādes forma - liofilizēts pulveris, 100mg. Nepieciešamā enzimātiskā aktivitāte ≥3,5 U/mg. Nesatur komponentus, kas ietekmē šūnu dzīvīgumu un plūsmas citometrijas krāsošanu. Ražotājs nodrošina analīzes sertifikātu. | D28: iepakojums | E28: 4 | F28: 100mg | L28: =K28*G28 -> 0

Sheet 4. poz. Dezoksiribonukleāze I
A1: ← Atpakaļ uz indeksu
A2: Reaģenti un piederumi plūsmas citometrijas un HLA genotipēšanas (RT-PCR) izmeklējumiem transplantācijā
B3: ID Nr. PSKUS 2026/83
A4: Tehniskā specifikācija/ Tehniskais - finanšu piedāvājums (forma)
D6: 4. pozīcija Reaģenti un piederumi plūsmas citometrijas izmeklējumiem transplantācijā "Dezoksiribonukleāze I"
B7: Tehniskās specifikācijas aktualizācijas datums 08.07.2026.
A8: Vispārīgās prasības:
A9: 1 | B9: Piegādātājam ir jāinformē pasūtītājs par jebkādām izmaiņām testsistēmas veiktspējā (sensitivitātes, specifiskuma izmaiņas, laika un citu parametru izmaiņas).
B10: Reaģentu prasības:
A11: 2 | B11: Piedāvātai precei, ja uz to attiecas REACH regulas 31. pantā minētie nosacījumi, pievieno drošības datu lapu latviešu valodā.
A12: 3 | B12: Pretendentam jānodrošina Lietotāja instrukcija un visu izmantojamo metožu apraksti.
A13: 4 | B13: Attiecināmajām precēm, drošības datu lapas pieejamība ir jānodrošina vismaz 10 gadus pēc reaģenta piegādes.
A14: 5 | B14: Darba procesa nodrošināšanai, piegādātājam jānodrošina validēti reaģenti, kvalitātes kontroles materiāli, kalibratori, kā arī papildus materiāli (piem. stobriņi, plates, plēves, vāciņi) un testēšanas protokoli, atbilstoši Eiropas Savienības IVD prasībām (CE marķējumam) vai, ja precei vai iekārtai nav CE marķējuma, pretendents iesniedz LR atbildīgo insitūciju izsniegtu atbilstošu dokumentu par atļauju darbam ar preci vai iekārtu.
A15: 6 | B15: Piedāvājumam jāpievieno Preces ražotāja izsniegta autorizācijas vēstule, kas apliecina, ka pretendents tiesīgs izplatīt piedāvāto Preci Latvijas Republikā vai Eiropas Savienībā.
A16: 7 | B16: Piedāvātai Precei jāpievieno EK atbilstības deklarācijas kopija, atbilstoši direktīvas EEK 98/79 vai regulas 2017/746 prasībām.
A17: 8 | B17: Preces derīguma termiņam, piegādes brīdī, jābūt vismaz 3/4 no preces lota kopējā derīguma termiņa. Ja nav iespējams piegādāt preci ar norādīto lota derīguma termiņu, atkarībā no preces derīguma termiņa, jānodrošina atlaide vismaz 50% apmērā.
A18: 9 | B18: Ja Piegādātājs norādījis nepietiekamu, kalibratoru, kontrolmateriālu, sistēmšķīdumu daudzumu norādītajam testu skaitam, iztrūkums līdz līguma izpildes beigām tiek piegādāts bezmaksas.
A19: 10 | B19: Piedāvājumā ietverti visi darbam nepieciešamie sistēmšķīdumi, kontroles materiāli un piederumi (piemēram, ultra tīrais H2O, bez RNS/DNS, nukleāzēm) pietiekami plānotajam testu daudzumam. Darbam nepieciešamos sistēmšķīdumus un piederumus testa piegādātājs norāda attiecīgajā ailē, ja tie nav iekļauti reaģentu komplektā, bet ar tiem nepieciešams papildināt reakcijas maisījumu (piemēram, ultra tīrais H2O, bez RNS/DNS, nukleāzēm). Šo materiālu izmakasas iekļauj piedāvājuma cenā, kā arī izceno atsevišķi.
A20: 11 | B20: Piegādātājs nodrošina piegādi ne vēlāk kā 5 (piecu) kalendāro dienu laikā no pasūtījuma veikšanas.
A21: 12 | B21: Piegādātājs nodrošina sistēmas darbības uzsākšanai, personāla apmācībai un izpildījuma verificēšanai nepieciešamos reaģentus.
A22: 13 | B22: Ņemot vērā, ka neparedzamu apstākļu dēļ, norādīto preču klāsts var mainīties 10% apmērā no Līguma kopējās summas, Tehniskajā - finanšu piedāvājumā neiekļauto preču cenas tiek atsevišķi saskaņotas ar Pasūtītāju, nepārsniedzot vidējās tirgus cenas Latvijā un nemainot vispārīgās vienošanās kopējo summu.
... A24: 15 | B24: *Norādītajam plānotajam daudzumam ir informatīva nozīme un tas tiek izmantots pretendentu finanšu piedāvājumu objektīvai vērtēšanai. Līgumi tiek slēgti par vienas vienības cenu, nosakot visa iepirkuma kopējo apjomu naudas izteiksmē un nenosakot katras pozīcijas apjomu. Pasūtītājam ir tiesības neiegādāties visu tehniskajā specifikācijā uzrādīto preču daudzumu;
A25: Nr.p.k. | B25: Prece | C25: Specifikācija | D25: Mērvienība (testi/ gab./ ml/ g) | E25: Skaits (plānotais apjoms) 48 mēn. | F25: Mērvienību skaits komplektā | G25: Komplektu skaits | H25: Preces oriģinālais nosaukums | I25: Preces kods | J25: Preces ražotājs | K25: Komplekta cena, eur bez PVN | L25: Kopējā cena eur, bez PVN | M25: Atsauce uz informatīvo materiālu**
A26: 1 | B26: 2 | C26: 3 | D26: 4 | E26: 5 | F26: 6 | G26: 7 | H26: 8 | I26: 9 | J26: 10 | K26: 11 | L26: 7*11=12 | M26: 13
A27: 4. Dezoksiribonukleāze I
A28: 4.1. | B28: Dezoksiribonukleāze I (Dnāze I) | C28: Enzīms (dezoksiribonukleāze I no liellopa aizkuņģa dziedzera) piemērots šūnu suspensijas apstrādei pirms plūsmas citometrijas izmeklējuma. Paredzēts ekstracellulārās DNS degradēšanai, mazina šūnu agregāciju un parauga viskozitāti. Enzīms aktīvs fizioloģiskos apstākļos (pH ~7.0–8.0, istabas temperatūrā un līdz pat 37°C). Piegādes forma - liofilizēts pulveris, 10mg. Nepieciešamā enzimātiskā aktivitāte ≥2,000 U/mg. | D28: iepakojums | E28: 4 | F28: 10mg | L28: =K28*G28 -> 0

Sheet 5. poz. Galvenie reaģenti
A1: ← Atpakaļ uz indeksu
A2: Reaģenti un piederumi plūsmas citometrijas un HLA genotipēšanas (RT-PCR) izmeklējumiem transplantācijā
B3: ID Nr. PSKUS 2026/83
A4: Tehniskā specifikācija/ Tehniskais - finanšu piedāvājums (forma)
D6: 5. pozīcija Reaģenti un piederumi plūsmas citometrijas izmeklējumiem transplantācijā "Galvenie reaģenti plūsmas citometrijas crossmatch izmeklējumam"
B7: Tehniskās specifikācijas aktualizācijas datums 08.07.2026.
A8: Vispārīgās prasības:
A9: 1 | B9: Piegādātājam ir jāinformē pasūtītājs par jebkādām izmaiņām testsistēmas veiktspējā (sensitivitātes, specifiskuma izmaiņas, laika un citu parametru izmaiņas).
B10: Reaģentu prasības:
A11: 2 | B11: Piedāvātai precei, ja uz to attiecas REACH regulas 31. pantā minētie nosacījumi, pievieno drošības datu lapu latviešu valodā.
A12: 3 | B12: Pretendentam jānodrošina Lietotāja instrukcija un visu izmantojamo metožu apraksti.
A13: 4 | B13: Attiecināmajām precēm, drošības datu lapas pieejamība ir jānodrošina vismaz 10 gadus pēc reaģenta piegādes.
A14: 5 | B14: Darba procesa nodrošināšanai, piegādātājam jānodrošina validēti reaģenti, kvalitātes kontroles materiāli, kalibratori, kā arī papildus materiāli (piem. stobriņi, plates, plēves, vāciņi) un testēšanas protokoli, atbilstoši Eiropas Savienības IVD prasībām (CE marķējumam) vai, ja precei vai iekārtai nav CE marķējuma, pretendents iesniedz LR atbildīgo insitūciju izsniegtu atbilstošu dokumentu par atļauju darbam ar preci vai iekārtu.
A15: 6 | B15: Piedāvājumam jāpievieno Preces ražotāja izsniegta autorizācijas vēstule, kas apliecina, ka pretendents tiesīgs izplatīt piedāvāto Preci Latvijas Republikā vai Eiropas Savienībā.
A16: 7 | B16: Piedāvātai Precei jāpievieno EK atbilstības deklarācijas kopija, atbilstoši direktīvas EEK 98/79 vai regulas 2017/746 prasībām.
A17: 8 | B17: Preces derīguma termiņam, piegādes brīdī, jābūt vismaz 3/4 no preces lota kopējā derīguma termiņa. Ja nav iespējams piegādāt preci ar norādīto lota derīguma termiņu, atkarībā no preces derīguma termiņa, jānodrošina atlaide vismaz 50% apmērā.
A18: 9 | B18: Ja Piegādātājs norādījis nepietiekamu, kalibratoru, kontrolmateriālu, sistēmšķīdumu daudzumu norādītajam testu skaitam, iztrūkums līdz līguma izpildes beigām tiek piegādāts bezmaksas.
A19: 10 | B19: Piedāvājumā ietverti visi darbam nepieciešamie sistēmšķīdumi, kontroles materiāli un piederumi (piemēram, ultra tīrais H2O, bez RNS/DNS, nukleāzēm) pietiekami plānotajam testu daudzumam. Darbam nepieciešamos sistēmšķīdumus un piederumus testa piegādātājs norāda attiecīgajā ailē, ja tie nav iekļauti reaģentu komplektā, bet ar tiem nepieciešams papildināt reakcijas maisījumu (piemēram, ultra tīrais H2O, bez RNS/DNS, nukleāzēm). Šo materiālu izmakasas iekļauj piedāvājuma cenā, kā arī izceno atsevišķi.
A20: 11 | B20: Piegādātājs nodrošina piegādi ne vēlāk kā 5 (piecu) kalendāro dienu laikā no pasūtījuma veikšanas.
A21: 12 | B21: Piegādātājs nodrošina sistēmas darbības uzsākšanai, personāla apmācībai un izpildījuma verificēšanai nepieciešamos reaģentus.
A22: 13 | B22: Ņemot vērā, ka neparedzamu apstākļu dēļ, norādīto preču klāsts var mainīties 10% apmērā no Līguma kopējās summas, Tehniskajā - finanšu piedāvājumā neiekļauto preču cenas tiek atsevišķi saskaņotas ar Pasūtītāju, nepārsniedzot vidējās tirgus cenas Latvijā un nemainot vispārīgās vienošanās kopējo summu.
... A24: 15 | B24: *Norādītajam plānotajam daudzumam ir informatīva nozīme un tas tiek izmantots pretendentu finanšu piedāvājumu objektīvai vērtēšanai. Līgumi tiek slēgti par vienas vienības cenu, nosakot visa iepirkuma kopējo apjomu naudas izteiksmē un nenosakot katras pozīcijas apjomu. Pasūtītājam ir tiesības neiegādāties visu tehniskajā specifikācijā uzrādīto preču daudzumu;
A25: Nr.p.k. | B25: Prece | C25: Specifikācija | D25: Mērvienība (testi/ gab./ ml/ g) | E25: Skaits (plānotais apjoms) 48 mēn. | F25: Mērvienību skaits komplektā | G25: Komplektu skaits | H25: Preces oriģinālais nosaukums | I25: Preces kods | J25: Preces ražotājs | K25: Komplekta cena, eur bez PVN | L25: Kopējā cena eur, bez PVN | M25: Atsauce uz informatīvo materiālu**
A26: 1 | B26: 2 | C26: 3 | D26: 4 | E26: 5 | F26: 6 | G26: 7 | H26: 8 | I26: 9 | J26: 10 | K26: 11 | L26: 7*11=12 | M26: 13
A27: 5. Galvenie reaģenti plūsmas citometrijas crossmatch izmeklējumam
A28: 5.1. | B28: CD19-PE | C28: Monoklonālas peles antivielas pret cilvēka CD19, konjugētas ar PE (PE vai ekvivalents) fluorohromu. Pielietojamas plūsmas citometrijas izmeklējumos, Iepakojumā 100 testi, CE-IVD marķējums | D28: iepakojums | E28: 10 | F28: 100 testi | L28: =K28*G28 -> 0
A29: 5.2. | B29: CD3-PC7 | C29: Monoklonālas peles antivielas pret cilvēka CD3, konjugētas ar PC7 (PE/Cy7 vai ekvivalents) fluorohromu. Pielietojamas plūsmas citometrijas izmeklējumos, Iepakojumā 100 testi, CE-IVD marķējums | D29: iepakojums | E29: 10 | F29: 100 testi | L29: =K29*G29 -> 0
A30: 5.3. | B30: F(ab')2 Goat anti-human IgG Fcγ - FITC | C30: Poliklonālas, pret cilvēka IgG Fcγ fragmentiem vērstas kazas F(ab')2 antivielas ar FITC fluorohromu. Piemērotas plūsmas citometrijas aplikācijām. Minimāla krustreakcija pret liellopa, zirga, peles seruma proteīniem. Iepakojums pa 100 µg | D30: iepakojums | E30: 10 | F30: 100 testi | L30: =K30*G30 -> 0

Sheet 6. poz.Papildus šūnu marķieri
A1: ← Atpakaļ uz indeksu
A2: Reaģenti un piederumi plūsmas citometrijas un HLA genotipēšanas (RT-PCR) izmeklējumiem transplantācijā
B3: ID Nr. PSKUS 2026/83
A4: Tehniskā specifikācija/ Tehniskais - finanšu piedāvājums (forma)
D6: 6. pozīcija Reaģenti un piederumi plūsmas citometrijas izmeklējumiem transplantācijā "Galvenie reaģenti plūsmas citometrijas crossmatch izmeklējumam"
B7: Tehniskās specifikācijas aktualizācijas datums 08.07.2026.
A8: Vispārīgās prasības:
A9: 1 | B9: Piegādātājam ir jāinformē pasūtītājs par jebkādām izmaiņām testsistēmas veiktspējā (sensitivitātes, specifiskuma izmaiņas, laika un citu parametru izmaiņas).
B10: Reaģentu prasības:
A11: 2 | B11: Piedāvātai precei, ja uz to attiecas REACH regulas 31. pantā minētie nosacījumi, pievieno drošības datu lapu latviešu valodā.
A12: 3 | B12: Pretendentam jānodrošina Lietotāja instrukcija un visu izmantojamo metožu apraksti.
A13: 4 | B13: Attiecināmajām precēm, drošības datu lapas pieejamība ir jānodrošina vismaz 10 gadus pēc reaģenta piegādes.
A14: 5 | B14: Darba procesa nodrošināšanai, piegādātājam jānodrošina validēti reaģenti, kvalitātes kontroles materiāli, kalibratori, kā arī papildus materiāli (piem. stobriņi, plates, plēves, vāciņi) un testēšanas protokoli, atbilstoši Eiropas Savienības IVD prasībām (CE marķējumam) vai, ja precei vai iekārtai nav CE marķējuma, pretendents iesniedz LR atbildīgo insitūciju izsniegtu atbilstošu dokumentu par atļauju darbam ar preci vai iekārtu.
A15: 6 | B15: Piedāvājumam jāpievieno Preces ražotāja izsniegta autorizācijas vēstule, kas apliecina, ka pretendents tiesīgs izplatīt piedāvāto Preci Latvijas Republikā vai Eiropas Savienībā.
A16: 7 | B16: Piedāvātai Precei jāpievieno EK atbilstības deklarācijas kopija, atbilstoši direktīvas EEK 98/79 vai regulas 2017/746 prasībām.
A17: 8 | B17: Preces derīguma termiņam, piegādes brīdī, jābūt vismaz 3/4 no preces lota kopējā derīguma termiņa. Ja nav iespējams piegādāt preci ar norādīto lota derīguma termiņu, atkarībā no preces derīguma termiņa, jānodrošina atlaide vismaz 50% apmērā.
A18: 9 | B18: Ja Piegādātājs norādījis nepietiekamu, kalibratoru, kontrolmateriālu, sistēmšķīdumu daudzumu norādītajam testu skaitam, iztrūkums līdz līguma izpildes beigām tiek piegādāts bezmaksas.
A19: 10 | B19: Piedāvājumā ietverti visi darbam nepieciešamie sistēmšķīdumi, kontroles materiāli un piederumi (piemēram, ultra tīrais H2O, bez RNS/DNS, nukleāzēm) pietiekami plānotajam testu daudzumam. Darbam nepieciešamos sistēmšķīdumus un piederumus testa piegādātājs norāda attiecīgajā ailē, ja tie nav iekļauti reaģentu komplektā, bet ar tiem nepieciešams papildināt reakcijas maisījumu (piemēram, ultra tīrais H2O, bez RNS/DNS, nukleāzēm). Šo materiālu izmakasas iekļauj piedāvājuma cenā, kā arī izceno atsevišķi.
A20: 11 | B20: Piegādātājs nodrošina piegādi ne vēlāk kā 5 (piecu) kalendāro dienu laikā no pasūtījuma veikšanas.
A21: 12 | B21: Piegādātājs nodrošina sistēmas darbības uzsākšanai, personāla apmācībai un izpildījuma verificēšanai nepieciešamos reaģentus.
A22: 13 | B22: Ņemot vērā, ka neparedzamu apstākļu dēļ, norādīto preču klāsts var mainīties 10% apmērā no Līguma kopējās summas, Tehniskajā - finanšu piedāvājumā neiekļauto preču cenas tiek atsevišķi saskaņotas ar Pasūtītāju, nepārsniedzot vidējās tirgus cenas Latvijā un nemainot vispārīgās vienošanās kopējo summu.
... A24: 15 | B24: *Norādītajam plānotajam daudzumam ir informatīva nozīme un tas tiek izmantots pretendentu finanšu piedāvājumu objektīvai vērtēšanai. Līgumi tiek slēgti par vienas vienības cenu, nosakot visa iepirkuma kopējo apjomu naudas izteiksmē un nenosakot katras pozīcijas apjomu. Pasūtītājam ir tiesības neiegādāties visu tehniskajā specifikācijā uzrādīto preču daudzumu;
A25: Nr.p.k. | B25: Prece | C25: Specifikācija | D25: Mērvienība (testi/ gab./ ml/ g) | E25: Skaits (plānotais apjoms) 48 mēn. | F25: Mērvienību skaits komplektā | G25: Komplektu skaits | H25: Preces oriģinālais nosaukums | I25: Preces kods | J25: Preces ražotājs | K25: Komplekta cena, eur bez PVN | L25: Kopējā cena eur, bez PVN | M25: Atsauce uz informatīvo materiālu**
A26: 1 | B26: 2 | C26: 3 | D26: 4 | E26: 5 | F26: 6 | G26: 7 | H26: 8 | I26: 9 | J26: 10 | K26: 11 | L26: 7*11=12 | M26: 13
A27: 6. Galvenie reaģenti plūsmas citometrijas crossmatch izmeklējumam
A28: 6.1. | B28: CD23-FITC | C28: Monoklonālas peles antivielas pret cilvēka CD23, konjugētas ar FITC fluorohromu. Pielietojamas plūsmas citometrijas izmeklējumos, Iepakojumā 100 testi, CE-IVD marķējums nav nepieciešams | D28: iepakojums | E28: 2 | F28: 100 testi | L28: =K28*G28 -> 0
A29: 6.2. | B29: CD20-FITC | C29: Monoklonālas peles antivielas pret cilvēka CD20, konjugētas ar FITC fluorohromu. Pielietojamas plūsmas citometrijas izmeklējumos, Iepakojumā 100 testi, CE-IVD marķējums nav nepieciešams | D29: iepakojums | E29: 2 | F29: 100 testi | L29: =K29*G29 -> 0
A30: 6.3. | B30: CD32-FITC | C30: Monoklonālas peles antivielas pret cilvēka CD32, konjugētas ar FITC fluorohromu. Pielietojamas plūsmas citometrijas izmeklējumos, Iepakojumā 100 testi, CE-IVD marķējums nav nepieciešams | D30: iepakojums | E30: 2 | F30: 100 testi | L30: =K30*G30 -> 0

Sheet 7. poz.Šūnu dzīvīguma marķieris
A1: ← Atpakaļ uz indeksu
A2: Reaģenti un piederumi plūsmas citometrijas un HLA genotipēšanas (RT-PCR) izmeklējumiem transplantācijā
B3: ID Nr. PSKUS 2026/83
A4: Tehniskā specifikācija/ Tehniskais - finanšu piedāvājums (forma)
D6: 7. pozīcija Reaģenti un piederumi plūsmas citometrijas izmeklējumiem transplantācijā "Šūnu dzīvīguma marķieris"
B7: Tehniskās specifikācijas aktualizācijas datums 08.07.2026.
A8: Vispārīgās prasības:
A9: 1 | B9: Piegādātājam ir jāinformē pasūtītājs par jebkādām izmaiņām testsistēmas veiktspējā (sensitivitātes, specifiskuma izmaiņas, laika un citu parametru izmaiņas).
B10: Reaģentu prasības:
A11: 2 | B11: Piedāvātai precei, ja uz to attiecas REACH regulas 31. pantā minētie nosacījumi, pievieno drošības datu lapu latviešu valodā.
A12: 3 | B12: Pretendentam jānodrošina Lietotāja instrukcija un visu izmantojamo metožu apraksti.
A13: 4 | B13: Attiecināmajām precēm, drošības datu lapas pieejamība ir jānodrošina vismaz 10 gadus pēc reaģenta piegādes.
A14: 5 | B14: Darba procesa nodrošināšanai, piegādātājam jānodrošina validēti reaģenti, kvalitātes kontroles materiāli, kalibratori, kā arī papildus materiāli (piem. stobriņi, plates, plēves, vāciņi) un testēšanas protokoli, atbilstoši Eiropas Savienības IVD prasībām (CE marķējumam) vai, ja precei vai iekārtai nav CE marķējuma, pretendents iesniedz LR atbildīgo insitūciju izsniegtu atbilstošu dokumentu par atļauju darbam ar preci vai iekārtu.
A15: 6 | B15: Piedāvājumam jāpievieno Preces ražotāja izsniegta autorizācijas vēstule, kas apliecina, ka pretendents tiesīgs izplatīt piedāvāto Preci Latvijas Republikā vai Eiropas Savienībā.
A16: 7 | B16: Piedāvātai Precei jāpievieno EK atbilstības deklarācijas kopija, atbilstoši direktīvas EEK 98/79 vai regulas 2017/746 prasībām.
A17: 8 | B17: Preces derīguma termiņam, piegādes brīdī, jābūt vismaz 3/4 no preces lota kopējā derīguma termiņa. Ja nav iespējams piegādāt preci ar norādīto lota derīguma termiņu, atkarībā no preces derīguma termiņa, jānodrošina atlaide vismaz 50% apmērā.
A18: 9 | B18: Ja Piegādātājs norādījis nepietiekamu, kalibratoru, kontrolmateriālu, sistēmšķīdumu daudzumu norādītajam testu skaitam, iztrūkums līdz līguma izpildes beigām tiek piegādāts bezmaksas.
A19: 10 | B19: Piedāvājumā ietverti visi darbam nepieciešamie sistēmšķīdumi, kontroles materiāli un piederumi (piemēram, ultra tīrais H2O, bez RNS/DNS, nukleāzēm) pietiekami plānotajam testu daudzumam. Darbam nepieciešamos sistēmšķīdumus un piederumus testa piegādātājs norāda attiecīgajā ailē, ja tie nav iekļauti reaģentu komplektā, bet ar tiem nepieciešams papildināt reakcijas maisījumu (piemēram, ultra tīrais H2O, bez RNS/DNS, nukleāzēm). Šo materiālu izmakasas iekļauj piedāvājuma cenā, kā arī izceno atsevišķi.
A20: 11 | B20: Piegādātājs nodrošina piegādi ne vēlāk kā 5 (piecu) kalendāro dienu laikā no pasūtījuma veikšanas.
A21: 12 | B21: Piegādātājs nodrošina sistēmas darbības uzsākšanai, personāla apmācībai un izpildījuma verificēšanai nepieciešamos reaģentus.
A22: 13 | B22: Ņemot vērā, ka neparedzamu apstākļu dēļ, norādīto preču klāsts var mainīties 10% apmērā no Līguma kopējās summas, Tehniskajā - finanšu piedāvājumā neiekļauto preču cenas tiek atsevišķi saskaņotas ar Pasūtītāju, nepārsniedzot vidējās tirgus cenas Latvijā un nemainot vispārīgās vienošanās kopējo summu.
... A24: 15 | B24: *Norādītajam plānotajam daudzumam ir informatīva nozīme un tas tiek izmantots pretendentu finanšu piedāvājumu objektīvai vērtēšanai. Līgumi tiek slēgti par vienas vienības cenu, nosakot visa iepirkuma kopējo apjomu naudas izteiksmē un nenosakot katras pozīcijas apjomu. Pasūtītājam ir tiesības neiegādāties visu tehniskajā specifikācijā uzrādīto preču daudzumu;
A25: Nr.p.k. | B25: Prece | C25: Specifikācija | D25: Mērvienība (testi/ gab./ ml/ g) | E25: Skaits (plānotais apjoms) 48 mēn. | F25: Mērvienību skaits komplektā | G25: Komplektu skaits | H25: Preces oriģinālais nosaukums | I25: Preces kods | J25: Preces ražotājs | K25: Komplekta cena, eur bez PVN | L25: Kopējā cena eur, bez PVN | M25: Atsauce uz informatīvo materiālu**
A26: 1 | B26: 2 | C26: 3 | D26: 4 | E26: 5 | F26: 6 | G26: 7 | H26: 8 | I26: 9 | J26: 10 | K26: 11 | L26: 7*11=12 | M26: 13
A27: 7. Šūnu dzīvīguma marķieris
A28: 7.1. | B28: 7-AAD | C28: 7-AAD (7-Aminoactinomycin D) - fluorescējoša dzīvīguma krāsa, kas interkalē DNS mirušās/apoptotiskās šūnās jeb šūnas ar kompromitētu membrānu. Plūsmas citometrijā ļauj izslēgt no analīzes mirušās šūnas. Labi pielietojams kopā ar PE, FITC un PC7 fluorohromiem uz iekārtas ar 488nm lāzeri. Iepakojumā 1-3ml. CE-IVD marķējums. | D28: iepakojums | E28: 2 | F28: 3ml | L28: =K28*G28 -> 0

Sheet 8.poz.Plates PC crossmatch
A1: ← Atpakaļ uz indeksu
A2: Reaģenti un piederumi plūsmas citometrijas un HLA genotipēšanas (RT-PCR) izmeklējumiem transplantācijā
B3: ID Nr. PSKUS 2026/83
A4: Tehniskā specifikācija/ Tehniskais - finanšu piedāvājums (forma)
D6: 8. pozīcija Reaģenti un piederumi plūsmas citometrijas izmeklējumiem transplantācijā "Plates plūsmas citometrijas crossmatch sagatavošanai"
B7: Tehniskās specifikācijas aktualizācijas datums 08.07.2026.
A8: Vispārīgās prasības:
A9: 1 | B9: Piegādātājam ir jāinformē pasūtītājs par jebkādām izmaiņām testsistēmas veiktspējā (sensitivitātes, specifiskuma izmaiņas, laika un citu parametru izmaiņas).
B10: Reaģentu prasības:
A11: 2 | B11: Piedāvātai precei, ja uz to attiecas REACH regulas 31. pantā minētie nosacījumi, pievieno drošības datu lapu latviešu valodā.
A12: 3 | B12: Pretendentam jānodrošina Lietotāja instrukcija un visu izmantojamo metožu apraksti.
A13: 4 | B13: Attiecināmajām precēm, drošības datu lapas pieejamība ir jānodrošina vismaz 10 gadus pēc reaģenta piegādes.
A14: 5 | B14: Darba procesa nodrošināšanai, piegādātājam jānodrošina validēti reaģenti, kvalitātes kontroles materiāli, kalibratori, kā arī papildus materiāli (piem. stobriņi, plates, plēves, vāciņi) un testēšanas protokoli, atbilstoši Eiropas Savienības IVD prasībām (CE marķējumam) vai, ja precei vai iekārtai nav CE marķējuma, pretendents iesniedz LR atbildīgo insitūciju izsniegtu atbilstošu dokumentu par atļauju darbam ar preci vai iekārtu.
A15: 6 | B15: Piedāvājumam jāpievieno Preces ražotāja izsniegta autorizācijas vēstule, kas apliecina, ka pretendents tiesīgs izplatīt piedāvāto Preci Latvijas Republikā vai Eiropas Savienībā.
A16: 7 | B16: Piedāvātai Precei jāpievieno EK atbilstības deklarācijas kopija, atbilstoši direktīvas EEK 98/79 vai regulas 2017/746 prasībām.
A17: 8 | B17: Preces derīguma termiņam, piegādes brīdī, jābūt vismaz 3/4 no preces lota kopējā derīguma termiņa. Ja nav iespējams piegādāt preci ar norādīto lota derīguma termiņu, atkarībā no preces derīguma termiņa, jānodrošina atlaide vismaz 50% apmērā.
A18: 9 | B18: Ja Piegādātājs norādījis nepietiekamu, kalibratoru, kontrolmateriālu, sistēmšķīdumu daudzumu norādītajam testu skaitam, iztrūkums līdz līguma izpildes beigām tiek piegādāts bezmaksas.
A19: 10 | B19: Piedāvājumā ietverti visi darbam nepieciešamie sistēmšķīdumi, kontroles materiāli un piederumi (piemēram, ultra tīrais H2O, bez RNS/DNS, nukleāzēm) pietiekami plānotajam testu daudzumam. Darbam nepieciešamos sistēmšķīdumus un piederumus testa piegādātājs norāda attiecīgajā ailē, ja tie nav iekļauti reaģentu komplektā, bet ar tiem nepieciešams papildināt reakcijas maisījumu (piemēram, ultra tīrais H2O, bez RNS/DNS, nukleāzēm). Šo materiālu izmakasas iekļauj piedāvājuma cenā, kā arī izceno atsevišķi.
A20: 11 | B20: Piegādātājs nodrošina piegādi ne vēlāk kā 5 (piecu) kalendāro dienu laikā no pasūtījuma veikšanas.
A21: 12 | B21: Piegādātājs nodrošina sistēmas darbības uzsākšanai, personāla apmācībai un izpildījuma verificēšanai nepieciešamos reaģentus.
A22: 13 | B22: Ņemot vērā, ka neparedzamu apstākļu dēļ, norādīto preču klāsts var mainīties 10% apmērā no Līguma kopējās summas, Tehniskajā - finanšu piedāvājumā neiekļauto preču cenas tiek atsevišķi saskaņotas ar Pasūtītāju, nepārsniedzot vidējās tirgus cenas Latvijā un nemainot vispārīgās vienošanās kopējo summu.
... A24: 15 | B24: *Norādītajam plānotajam daudzumam ir informatīva nozīme un tas tiek izmantots pretendentu finanšu piedāvājumu objektīvai vērtēšanai. Līgumi tiek slēgti par vienas vienības cenu, nosakot visa iepirkuma kopējo apjomu naudas izteiksmē un nenosakot katras pozīcijas apjomu. Pasūtītājam ir tiesības neiegādāties visu tehniskajā specifikācijā uzrādīto preču daudzumu;
A25: Nr.p.k. | B25: Prece | C25: Specifikācija | D25: Mērvienība (testi/ gab./ ml/ g) | E25: Skaits (plānotais apjoms) 48 mēn. | F25: Mērvienību skaits komplektā | G25: Komplektu skaits | H25: Preces oriģinālais nosaukums | I25: Preces kods | J25: Preces ražotājs | K25: Komplekta cena, eur bez PVN | L25: Kopējā cena eur, bez PVN | M25: Atsauce uz informatīvo materiālu**
A26: 1 | B26: 2 | C26: 3 | D26: 4 | E26: 5 | F26: 6 | G26: 7 | H26: 8 | I26: 9 | J26: 10 | K26: 11 | L26: 7*11=12 | M26: 13
A27: 8. Plates plūsmas citometrijas crossmatch sagatavošanai
A28: 8.1. | B28: Plates plūsmas citometrijas izmeklējumiem | C28: Neapstrādāta polistirēna 96 bedrīšu plates, kas piemērotas imunoloģijas izmeklējumiem, caurspīdīgas, neapstrādātas, bez vāka, nesterilas, necitotoksiskas. Corning™ #3797 vai ekvivalentas | D28: gb | E28: 4 | F28: 100gb | L28: =K28*G28 -> 0

Sheet 9.poz.Kontroles serumi
A1: ← Atpakaļ uz indeksu
A2: Reaģenti un piederumi plūsmas citometrijas un HLA genotipēšanas (RT-PCR) izmeklējumiem transplantācijā
B3: ID Nr. PSKUS 2026/83
A4: Tehniskā specifikācija/ Tehniskais - finanšu piedāvājums (forma)
D6: 9. pozīcija Reaģenti un piederumi plūsmas citometrijas izmeklējumiem transplantācijā "Kontroles serumi"
B7: Tehniskās specifikācijas aktualizācijas datums 08.07.2026.
A8: Vispārīgās prasības:
A9: 1 | B9: Piegādātājam ir jāinformē pasūtītājs par jebkādām izmaiņām testsistēmas veiktspējā (sensitivitātes, specifiskuma izmaiņas, laika un citu parametru izmaiņas).
B10: Reaģentu prasības:
