Workbook

Sheet 9.pielikums FP
B1: 9. pielikums iepirkuma “Ēku elektroinstalācijas remonta darbi” (ID Nr.SIAON 2026/19-MI) nolikumam
B3: FINANŠU PIEDĀVĀJUMS
B5: ____________________ (pretendenta nosaukums, vienotais reģistrācijas numurs) piedāvājam veikt iepirkumā “Ēku elektroinstalācijas remonta darbi”, id. Nr.SIAON 2026/19-MI, minētos darbus, saskaņā ar iepirkuma Nolikumu un tā pielikumiem, tajā noteiktajā laikā un veidā par šādu līgumcenu:
B6: Nr. p. k. | C6: Dzīvojamās mājas adrese Ogrē | D6: Darba nosaukums | E6: Pretendenta piedāvātā darbu summa, EUR bez PVN
B7: 1 | C7: AUSEKĻA PROSPEKTS 2A | D7: Beņiņu elektroinstalācijas remonts | E7: ='1.Ausekļa 2A'!L15 -> 0
B8: 2 | C8: AUSEKĻA PROSPEKTS 2A | D8: Pagraba vecās elektrosadales demontāža | E8: ='2.Auekļa 2A'!L13 -> 0
B9: 3 | C9: BĒRZU ALEJA 10 | D9: Bēniņu elektroinstalācijas remonts | E9: ='3.Bērzu 10'!L13 -> 0
B10: 4 | C10: DĀRZA IELA 12 | D10: Kāpņu telpas apgaismojuma renovācija | E10: ='4.Dārza 12'!L14 -> 0
B11: 5 | C11: DOLES | D11: Pagraba elektroinstalācijas remonts | E11: ='5.Doles'!L14 -> 0
B12: 6 | C12: DRAUDZĪBAS IELA 14 | D12: Kāpņu telpas apgaismojuma renovācija | E12: ='6.Draudzības 14'!L14 -> 0
B13: 7 | C13: GRĪVAS PROSPEKTS 13 | D13: Kāpņu telpas elektroinstalācijas remonts | E13: ='7.Grīvas 13'!L14 -> 0
B14: 8 | C14: LAPU IELA 11 | D14: Pagraba elektroinstalācijas remonts | E14: ='8.Lapu 11'!L14 -> 0
B15: 9 | C15: LAPU IELA 8 | D15: Pagraba elektroinstalācijas remonts | E15: ='9.Lapu 8'!L14 -> 0
B16: 10 | C16: LAPU IELA 8 | D16: Bēniņu elektroinstalācijas remonts | E16: ='10.Lapu 8'!L14 -> 0
B17: 11 | C17: MEDNIEKU IELA 10 | D17: Bēniņu elektroinstalācijas remonts | E17: ='11.Mednieku 10'!L14 -> 0
B18: 12 | C18: MEŽA PROSPEKTS 4A | D18: Pagraba elektroinstalācijas remonts | E18: ='12.Meža 4a'!L14 -> 0
B19: 13 | C19: PARKA IELA 8 | D19: Pagraba elektroinstalācijas remonts | E19: ='13.Parka 8'!L14 -> 0
B20: 14 | C20: TĪNŪŽU IELA 13 | D20: Galvenās sadalnes un komunālās sadalnes renovācijas darbi | E20: ='14.Tīnūžu 13'!M14 -> 0
B21: 15 | C21: TĪNŪŽU IELA 16 | D21: Pagrabā vecās elektroinstalācijas demontāža un jaunas ierīkošana ar LED gaismekļiem | E21: ='15.Tīnūžu 16'!L15 -> 0
B22: 16 | C22: TĪNŪŽU IELA 16 | D22: Bēniņu vecās elektroinstalācijas demontāža un jaunas ierīkošana ar LED gaismekļiem | E22: ='16.Tīnūžu 16'!L13 -> 0
B23: 17 | C23: TURKALNES IELA 13 | D23: Pagraba elektroinstalācijas remonts | E23: ='17.Turkalnes 13'!L14 -> 0
B24: 18 | C24: UZVARAS IELA 4 | D24: Elektrības stāvvadu remonts | E24: ='18.Uzvaras 4'!L14 -> 0
D25: KOPĀ: | E25: =SUM(E7:E24) -> 0

Sheet 1.Ausekļa 2A
A1: 8. pielikums iepirkuma “Ēku elektroinstalācijas remonta darbi” (ID Nr.SIAON 2026/19-MI) nolikumam
A3: Tehniskā specifikācija un tehniskais piedāvājums
A6: Beņiņu elektroinstalācijas remonts
A7: (Darba veids vai konstruktīvā elementa nosaukums)
B9: Būves nosaukums: | C9: Daudzdzīvokļu nams
B10: Objekta adrese: | C10: Ausekļa pr. 2A, Ogre
B11: Pasūtītājs: | C11: Sabiedrība ar ierobežotu atbildību ''Ogres Namsaimnieks''
B12: Izpildītājs:
K15: Pretendenta piedāvātā darbu summa, Eur bez PVN:
A17: Nr. p.k. | B17: Darba nosaukums | C17: Mērvienība | D17: Daudzums | E17: Vienības izmaksas | I17: Kopā uz visu apjomu
E18: Darba alga (EUR) | F18: Materiāli (EUR) | G18: Mehānismi (EUR) | H18: Kopā (EUR) | I18: Darba alga (EUR) | J18: Materiāli (EUR) | K18: Mehānismi (EUR) | L18: Summa (EUR)
A20: 1 | B20: 2 | C20: 3 | D20: 4 | E20: 5 | F20: 6 | G20: 7 | H20: 8 | I20: 9 | J20: 10 | K20: 11 | L20: 12
B21: Elektromontāžas darbi
A22: 1 | B22: Demontāžas darbi (gaismekļi, kabeļi, slēdži) | C22: koml | D22: 1
A23: 2 | B23: Gaismekļis ar LED spuldzīti | C23: gab | D23: 6
A24: 3 | B24: Slēdzis | C24: gab | D24: 2
A25: 4 | B25: Kabelis Cu 3x1,5 mm2 | C25: m | D25: 30
A26: 5 | B26: PVC caurule | C26: m | D26: 30
A27: 6 | B27: Gofrēta caurule d=20 | C27: m | D27: 5
A28: 7 | B28: Nozarkārbas 75x75x36 | C28: gab | D28: 3
A29: 8 | B29: Rozetes | C29: gab | D29: 2
A30: 9 | B30: Palīgmateriāli | C30: kmpl | D30: 1
A31: 10 | B31: Izolācija pretestības mērījumi | C31: kmpl | D31: 1
A32: 11 | B32: Cilpas "fāze-nulle" pilnās pretestības mērījums | C32: kmpl | D32: 1
A33: 12 | B33: Dokumentācija | C33: kmpl | D33: 1
A34: kopā EUR | I34: =SUM(I22:I33) -> 0 | J34: =SUM(J22:J33) -> 0 | K34: =SUM(K22:K33) -> 0 | L34: =SUM(L22:L33) -> 0

Sheet 2.Auekļa 2A
A1: 8. pielikums iepirkuma “Ēku elektroinstalācijas remonta darbi” (ID Nr.SIAON 2026/19-MI) nolikumam
A3: Tehniskā specifikācija un tehniskais piedāvājums
A5: Pagraba vecās elektrosadales demontāža
A6: (Darba veids vai konstruktīvā elementa nosaukums)
B8: Būves nosaukums: | C8: Daudzdzīvokļu nams
B9: Objekta adrese: | C9: Ausekļa 2A, Ogre
B10: Pasūtītājs: | C10: Sabiedrība ar ierobežotu atbildību ''Ogres Namsaimnieks''
B11: Izpildītājs:
K13: Pretendenta piedāvātā darbu summa, Eur bez PVN:
A15: Nr. p.k. | B15: Darba nosaukums | C15: Mērvienība | D15: Daudzums | E15: Vienības izmaksas | I15: Kopā uz visu apjomu
E16: Darba alga (EUR) | F16: Materiāli (EUR) | G16: Mehānismi (EUR) | H16: Kopā (EUR) | I16: Darba alga (EUR) | J16: Materiāli (EUR) | K16: Mehānismi (EUR) | L16: Summa (EUR)
A18: 1 | B18: 2 | C18: 3 | D18: 4 | E18: 5 | F18: 6 | G18: 7 | H18: 8 | I18: 9 | J18: 10 | K18: 11 | L18: 12
B19: Elektromontāžas darbi
A20: 1 | B20: Demontāžas darbi (gaismekļi, kabeļi, slēdži) | C20: kompl. | D20: 1
A21: kopā EUR | I21: =SUM(I20:I20) -> 0 | J21: =SUM(J20:J20) -> 0 | K21: =SUM(K20:K20) -> 0 | L21: =SUM(L20:L20) -> 0

Sheet 3.Bērzu 10
A1: 8. pielikums iepirkuma “Ēku elektroinstalācijas remonta darbi” (ID Nr.SIAON 2026/19-MI) nolikumam
A3: Tehniskā specifikācija un tehniskais piedāvājums
A5: Bēniņu elektroinstalācijas remonts
A6: (Darba veids vai konstruktīvā elementa nosaukums)
B8: Būves nosaukums: | C8: Daudzdzīvokļu nams
B9: Objekta adrese: | C9: Bērzu aleja 10, Ogre
B10: Pasūtītājs: | C10: Sabiedrība ar ierobežotu atbildību ''Ogres Namsaimnieks''
B11: Izpildītājs:
K13: Pretendenta piedāvātā darbu summa, Eur bez PVN:
A15: Nr. p.k. | B15: Darba nosaukums | C15: Mērvienība | D15: Daudzums | E15: Vienības izmaksas | I15: Kopā uz visu apjomu
E16: Darba alga (EUR) | F16: Materiāli (EUR) | G16: Mehānismi (EUR) | H16: Kopā (EUR) | I16: Darba alga (EUR) | J16: Materiāli (EUR) | K16: Mehānismi (EUR) | L16: Summa (EUR)
A18: 1 | B18: 2 | C18: 3 | D18: 4 | E18: 5 | F18: 6 | G18: 7 | H18: 8 | I18: 9 | J18: 10 | K18: 11 | L18: 12
B19: Elektromontāžas darbi
A20: 1 | B20: Demontāžas darbi (gaismekļi, kabeļi, slēdži) | C20: kompl. | D20: 1
A21: 2 | B21: Kabelis Cu 3x1,5 | C21: m | D21: 25
A22: 3 | B22: PVC caurule | C22: m | D22: 20
A23: 4 | B23: Gofrētā caurule | C23: m | D23: 5
A24: 5 | B24: Sadales kārba | C24: gb | D24: 3
A25: 6 | B25: Gaismekļis ar LED spuldzīti | C25: gb | D25: 3
A26: 7 | B26: Rozete | C26: gb | D26: 1
A27: 8 | B27: Palīgmateriāli | C27: kompl. | D27: 1
A28: 9 | B28: Izolācija pretestības mērījumi | C28: kmpl | D28: 1
A29: 10 | B29: Cilpas "fāze-nulle" pilnās pretestības mērījums | C29: kmpl | D29: 1
A30: 11 | B30: Dokumentācija | C30: kompl. | D30: 1
A31: kopā EUR | I31: =SUM(I20:I30) -> 0 | J31: =SUM(J20:J30) -> 0 | K31: =SUM(K20:K30) -> 0 | L31: =SUM(L20:L30) -> 0

Sheet 4.Dārza 12
A1: 8. pielikums iepirkuma “Ēku elektroinstalācijas remonta darbi” (ID Nr.SIAON 2026/19-MI) nolikumam
A3: Tehniskā specifikācija un tehniskais piedāvājums
A5: Kāpņu telpu apgaismojuma renovācija
A6: (Darba veids vai konstruktīvā elementa nosaukums)
B8: Būves nosaukums: | C8: Daudzdzīvokļu nams
B9: Objekta adrese: | C9: Dārza iela 12, Ogre
B10: Pasūtītājs: | C10: Sabiedrība ar ierobežotu atbildību ''Ogres Namsaimnieks''
B11: Izpildītājs:
K14: Pretendenta piedāvātā darbu summa, Eur bez PVN:
A16: Nr. p.k. | B16: Darba nosaukums | C16: Mērvienība | D16: Daudzums | E16: Vienības izmaksas | I16: Kopā uz visu apjomu
E17: Darba alga (EUR) | F17: Materiāli (EUR) | G17: Mehānismi (EUR) | H17: Kopā (EUR) | I17: Darba alga (EUR) | J17: Materiāli (EUR) | K17: Mehānismi (EUR) | L17: Summa (EUR)
A19: 1 | B19: 2 | C19: 3 | D19: 4 | E19: 5 | F19: 6 | G19: 7 | H19: 8 | I19: 9 | J19: 10 | K19: 11 | L19: 12
B20: Elektromontāžas darbi
A21: 1 | B21: Demontāžas darbi (gaismekļi, kabeļi, slēdži) | C21: kompl. | D21: 1
A22: 2 | B22: Kabelis 3x1,5 | C22: m | D22: 15
A23: 3 | B23: Kabeļu penāls | C23: m | D23: 15
A24: 4 | B24: Gaismekļis ar LED spuldzīti ar sensoru | C24: gb | D24: 3
A25: 5 | B25: Palīgmateriāli | C25: kompl. | D25: 1
A26: 6 | B26: Dokumentācija | C26: kompl. | D26: 1
A27: kopā EUR | I27: =SUM(I21:I26) -> 0 | J27: =SUM(J21:J26) -> 0 | K27: =SUM(K21:K26) -> 0 | L27: =SUM(L21:L26) -> 0

Sheet 5.Doles
A1: 8. pielikums iepirkuma “Ēku elektroinstalācijas remonta darbi” (ID Nr.SIAON 2026/19-MI) nolikumam
A3: Tehniskā specifikācija un tehniskais piedāvājums
A5: Pagraba elektroinstalācijas un gaismekļu nomaiņas
A6: (Darba veids vai konstruktīvā elementa nosaukums)
B8: Būves nosaukums: | C8: Daudzdzīvokļu nams
B9: Objekta adrese: | C9: Doles, Ogre
B10: Pasūtītājs: | C10: Sabiedrība ar ierobežotu atbildību ''Ogres Namsaimnieks''
B11: Izpildītājs:
K14: Pretendenta piedāvātā darbu summa, Eur bez PVN:
A16: Nr. p.k. | B16: Darba nosaukums | C16: Mērvienība | D16: Daudzums | E16: Vienības izmaksas | I16: Kopā uz visu apjomu
E17: Darba alga (EUR) | F17: Materiāli (EUR) | G17: Mehānismi (EUR) | H17: Kopā (EUR) | I17: Darba alga (EUR) | J17: Materiāli (EUR) | K17: Mehānismi (EUR) | L17: Summa (EUR)
A19: 1 | B19: 2 | C19: 3 | D19: 4 | E19: 5 | F19: 6 | G19: 7 | H19: 8 | I19: 9 | J19: 10 | K19: 11 | L19: 12
B20: Elektromontāžas darbi
A21: 1 | B21: Demontāžas darbi (gaismekļi, kabeļi, slēdži) | C21: kompl. | D21: 1
A22: 2 | B22: Kabelis Cu 3x1,5 | C22: m | D22: 250
A23: 3 | B23: PVC caurule | C23: m | D23: 250
A24: 4 | B24: Gofrētā caurule | C24: m | D24: 20
A25: 5 | B25: Sadales kārba | C25: gb | D25: 14
A26: 6 | B26: Gaismekļis ar LED spuldzīti | C26: gb | D26: 30
A27: 7 | B27: Rozete | C27: gb | D27: 6
A28: 8 | B28: Slēdzis | C28: gb | D28: 6
A29: 9 | B29: Palīgmateriāli | C29: kompl. | D29: 3
A30: 10 | B30: Izolācija pretestības mērījumi | C30: kmpl | D30: 1
A31: 11 | B31: Cilpas "fāze-nulle" pilnās pretestības mērījums | C31: kmpl | D31: 1
A32: 12 | B32: Dokumentācija | C32: kmpl | D32: 1
A33: kopā EUR | I33: =SUM(I21:I32) -> 0 | J33: =SUM(J21:J32) -> 0 | K33: =SUM(K21:K32) -> 0 | L33: =SUM(L21:L32) -> 0

Sheet 6.Draudzības 14
A1: 8. pielikums iepirkuma “Ēku elektroinstalācijas remonta darbi” (ID Nr.SIAON 2026/19-MI) nolikumam
A3: Tehniskā specifikācija un tehniskais piedāvājums
A5: Kāpņu telpas apgaismojuma renovācija
A6: (Darba veids vai konstruktīvā elementa nosaukums)
B8: Būves nosaukums: | C8: Daudzdzīvokļu nams
B9: Objekta adrese: | C9: Draudzības iela 14, Ogre
B10: Pasūtītājs: | C10: Sabiedrība ar ierobežotu atbildību ''Ogres Namsaimnieks''
B11: Izpildītājs:
K14: Pretendenta piedāvātā darbu summa, Eur bez PVN:
A16: Nr. p.k. | B16: Darba nosaukums | C16: Mērvienība | D16: Daudzums | E16: Vienības izmaksas | I16: Kopā uz visu apjomu
E17: Darba alga (EUR) | F17: Materiāli (EUR) | G17: Mehānismi (EUR) | H17: Kopā (EUR) | I17: Darba alga (EUR) | J17: Materiāli (EUR) | K17: Mehānismi (EUR) | L17: Summa (EUR)
A19: 1 | B19: 2 | C19: 3 | D19: 4 | E19: 5 | F19: 6 | G19: 7 | H19: 8 | I19: 9 | J19: 10 | K19: 11 | L19: 12
B20: Elektromontāžas darbi
A21: 1 | B21: Demontāžas darbi (gaismekļi, kabeļi, slēdži) | C21: kompl. | D21: 1
A22: 2 | B22: Kabelis Cu 3x1,5 | C22: m | D22: 20
A23: 3 | B23: PVC caurule | C23: m | D23: 20
A24: 4 | B24: Sadales kārba | C24: gb | D24: 3
A25: 5 | B25: Gaismekļis ar LED spuldzīti ar sensoru | C25: gb | D25: 4
A26: 6 | B26: Demontāža darbi | C26: kompl. | D26: 1
A27: 7 | B27: Palīgmateriāli | C27: kompl. | D27: 1
A28: 8 | B28: Dokumentācija | C28: kompl. | D28: 1
A29: kopā EUR | I29: =SUM(I21:I28) -> 0 | J29: =SUM(J21:J28) -> 0 | K29: =SUM(K21:K28) -> 0 | L29: =SUM(L21:L28) -> 0

Sheet 7.Grīvas 13
A1: 8. pielikums iepirkuma “Ēku elektroinstalācijas remonta darbi” (ID Nr.SIAON 2026/19-MI) nolikumam
A3: Tehniskā specifikācija un tehniskais piedāvājums
A5: Kāpņu telpas electroistalācijas remonts
A6: (Darba veids vai konstruktīvā elementa nosaukums)
B8: Būves nosaukums: | C8: Daudzdzīvokļu nams
B9: Objekta adrese: | C9: Grīvas pr. 13, Ogre
B10: Pasūtītājs: | C10: Sabiedrība ar ierobežotu atbildību ''Ogres Namsaimnieks''
B11: Izpildītājs:
K14: Pretendenta piedāvātā darbu summa, Eur bez PVN:
A16: Nr. p.k. | B16: Darba nosaukums | C16: Mērvienība | D16: Daudzums | E16: Vienības izmaksas | I16: Kopā uz visu apjomu
E17: Darba alga (EUR) | F17: Materiāli (EUR) | G17: Mehānismi (EUR) | H17: Kopā (EUR) | I17: Darba alga (EUR) | J17: Materiāli (EUR) | K17: Mehānismi (EUR) | L17: Summa (EUR)
A19: 1 | B19: 2 | C19: 3 | D19: 4 | E19: 5 | F19: 6 | G19: 7 | H19: 8 | I19: 9 | J19: 10 | K19: 11 | L19: 12
B20: Elektromontāžas darbi
A21: 1 | B21: Demontāžas darbi | C21: kompl. | D21: 1
A22: 2 | B22: Kabelis Cu 3x1,5 | C22: m | D22: 60
A23: 2 | B23: PVC caurule | C23: m | D23: 30
A24: 3 | B24: Gaismekļis ar LED spuldzīti ar sensoru | C24: gab | D24: 8
A25: 4 | B25: Palīgmateriāli | C25: kompl. | D25: 1
A26: 5 | B26: Dokumentācija | C26: kompl. | D26: 1
A27: kopā EUR | I27: =SUM(I21:I26) -> 0 | J27: =SUM(J21:J26) -> 0 | K27: =SUM(K21:K26) -> 0 | L27: =SUM(L21:L26) -> 0

Sheet 8.Lapu 11
A1: 8. pielikums iepirkuma “Ēku elektroinstalācijas remonta darbi” (ID Nr.SIAON 2026/19-MI) nolikumam
A3: Tehniskā specifikācija un tehniskais piedāvājums
A5: Pagraba elektroinstalācijas remonts
A6: (Darba veids vai konstruktīvā elementa nosaukums)
B8: Būves nosaukums: | C8: Daudzdzīvokļu nams
B9: Objekta adrese: | C9: Lapu iela 11, Ogre
B10: Pasūtītājs: | C10: Sabiedrība ar ierobežotu atbildību ''Ogres Namsaimnieks''
B11: Izpildītājs:
K14: Pretendenta piedāvātā darbu summa, Eur bez PVN:
A16: Nr. p.k. | B16: Darba nosaukums | C16: Mērvienība | D16: Daudzums | E16: Vienības izmaksas | I16: Kopā uz visu apjomu
E17: Darba alga (EUR) | F17: Materiāli (EUR) | G17: Mehānismi (EUR) | H17: Kopā (EUR) | I17: Darba alga (EUR) | J17: Materiāli (EUR) | K17: Mehānismi (EUR) | L17: Summa (EUR)
A19: 1 | B19: 2 | C19: 4 | D19: 5 | E19: 6 | F19: 7 | G19: 8 | H19: 9 | I19: 10 | J19: 11 | K19: 12 | L19: 13
B20: Elektromontāžas darbi
A21: 1 | B21: Demontāžas darbi (gaismekļi, kabeļi, slēdži) | C21: koml | D21: 1
A22: 2 | B22: Gaismekļis ar LED spuldzīti | C22: gab | D22: 40
A23: 3 | B23: Slēdzis | C23: gab | D23: 22
A24: 4 | B24: Kontaktligzdas | C24: gab | D24: 6
A25: 5 | B25: Kabelis Cu 3x1,5 mm2 | C25: m | D25: 400
A26: 6 | B26: Gofrēta caurule d=20 | C26: m | D26: 400
A27: 7 | B27: Nozarkārbas 75x75x36 | C27: gab | D27: 30
A28: 9 | B28: Palīgmateriāli | C28: kmpl | D28: 1
A29: 10 | B29: Izolācija pretestības mērījumi | C29: kmpl | D29: 1
A30: 11 | B30: Cilpas "fāze-nulle" pilnās pretestības mērījums | C30: kmpl | D30: 1
A31: 12 | B31: Termogrāfija | C31: kmpl | D31: 1
A32: 13 | B32: Dokumentācija | C32: kmpl | D32: 1
A33: kopā EUR | I33: =SUM(I21:I32) -> 0 | J33: =SUM(J21:J32) -> 0 | K33: =SUM(K21:K32) -> 0 | L33: =SUM(L21:L32) -> 0

Sheet 9.Lapu 8
A1: 8. pielikums iepirkuma “Ēku elektroinstalācijas remonta darbi” (ID Nr.SIAON 2026/19-MI) nolikumam
A3: Tehniskā specifikācija un tehniskais piedāvājums
A5: Pagraba elektroinstalācijas un gaismekļu nomaiņas
A6: (Darba veids vai konstruktīvā elementa nosaukums)
B8: Būves nosaukums: | C8: Daudzdzīvokļu nams
B9: Objekta adrese: | C9: Lapu iela 8, Ogre
B10: Pasūtītājs: | C10: Sabiedrība ar ierobežotu atbildību ''Ogres Namsaimnieks''
B11: Izpildītājs:
K14: Pretendenta piedāvātā darbu summa, Eur bez PVN:
A16: Nr. p.k. | B16: Darba nosaukums | C16: Mērvienība | D16: Daudzums | E16: Vienības izmaksas | I16: Kopā uz visu apjomu
E17: Darba alga (EUR) | F17: Materiāli (EUR) | G17: Mehānismi (EUR) | H17: Kopā (EUR) | I17: Darba alga (EUR) | J17: Materiāli (EUR) | K17: Mehānismi (EUR) | L17: Summa (EUR)
A19: 1 | B19: 2 | C19: 4 | D19: 5 | E19: 6 | F19: 7 | G19: 8 | H19: 9 | I19: 10 | J19: 11 | K19: 12 | L19: 13
B20: Elektromontāžas darbi
A21: 1 | B21: Demontāžas darbi (gaismekļi, kabeļi, slēdži) | C21: kompl. | D21: 1
A22: 2 | B22: Kabelis Cu 3x1,5 | C22: m | D22: 250
A23: 3 | B23: PVC caurule | C23: m | D23: 250
A24: 4 | B24: Gofrētā caurule | C24: m | D24: 20
A25: 5 | B25: Sadales kārba | C25: gb | D25: 14
A26: 6 | B26: Gaismekļis ar LED spuldzīti | C26: gb | D26: 30
A27: 7 | B27: Rozete | C27: gb | D27: 6
A28: 8 | B28: Slēdzis | C28: gb | D28: 8
A29: 9 | B29: Palīgmateriāli | C29: kompl. | D29: 3
A30: 10 | B30: Izolācija pretestības mērījumi | C30: kmpl | D30: 1
A31: 11 | B31: Cilpas "fāze-nulle" pilnās pretestības mērījums | C31: kmpl | D31: 1
A32: 12 | B32: Dokumentācija | C32: kmpl | D32: 1
A33: kopā EUR | I33: =SUM(I21:I32) -> 0 | J33: =SUM(J21:J32) -> 0 | K33: =SUM(K21:K32) -> 0 | L33: =SUM(L21:L32) -> 0

Sheet 10.Lapu 8
A1: 8. pielikums iepirkuma “Ēku elektroinstalācijas remonta darbi” (ID Nr.SIAON 2026/19-MI) nolikumam
A3: Tehniskā specifikācija un tehniskais piedāvājums
A5: Bēniņu elektroinstalācijas un gaismekļu nomaiņas
A6: (Darba veids vai konstruktīvā elementa nosaukums)
B8: Būves nosaukums: | C8: Daudzdzīvokļu nams
B9: Objekta adrese: | C9: Lapu iela 8, Ogre
B10: Pasūtītājs: | C10: Sabiedrība ar ierobežotu atbildību ''Ogres Namsaimnieks''
B11: Izpildītājs:
K14: Pretendenta piedāvātā darbu summa, Eur bez PVN:
A16: Nr. p.k. | B16: Darba nosaukums | C16: Mērvienība | D16: Daudzums | E16: Vienības izmaksas | I16: Kopā uz visu apjomu
E17: Darba alga (EUR) | F17: Materiāli (EUR) | G17: Mehānismi (EUR) | H17: Kopā (EUR) | I17: Darba alga (EUR) | J17: Materiāli (EUR) | K17: Mehānismi (EUR) | L17: Summa (EUR)
A19: 1 | B19: 2 | C19: 3 | D19: 4 | E19: 5 | F19: 6 | G19: 7 | H19: 8 | I19: 9 | J19: 10 | K19: 11 | L19: 12
B20: Elektromontāžas darbi
A21: 1 | B21: Demontāžas darbi (gaismekļi, kabeļi, slēdži) | C21: kompl. | D21: 1
A22: 2 | B22: Kabelis Cu 3x1,5 | C22: m | D22: 60
A23: 3 | B23: PVC caurule | C23: m | D23: 60
A24: 4 | B24: Gofrētā caurule | C24: m | D24: 10
A25: 5 | B25: Sadales kārba | C25: gb | D25: 6
A26: 6 | B26: Gaismekļis ar LED spuldzīti | C26: gb | D26: 9
A27: 7 | B27: Rozete | C27: gb | D27: 3
A28: 8 | B28: Slēdzis | C28: gb | D28: 3
A29: 9 | B29: Palīgmateriāli | C29: kompl. | D29: 3
A30: 10 | B30: Izolācija pretestības mērījumi | C30: kmpl | D30: 1
A31: 11 | B31: Cilpas "fāze-nulle" pilnās pretestības mērījums | C31: kmpl | D31: 1
A32: 12 | B32: Dokumentācija | C32: kompl. | D32: 1
A33: kopā EUR | I33: =SUM(I21:I32) -> 0 | J33: =SUM(J21:J32) -> 0 | K33: =SUM(K21:K32) -> 0 | L33: =SUM(L21:L32) -> 0

Sheet 11.Mednieku 10
A2: Tehniskā specifikācija un tehniskais piedāvājums
A3: 8. pielikums iepirkuma “Ēku elektroinstalācijas remonta darbi” (ID Nr.SIAON 2026/19-MI) nolikumam
A5: Bēniņu elektroinstalācijas un gaismekļu nomaiņas
A6: (Darba veids vai konstruktīvā elementa nosaukums)
B8: Būves nosaukums: | C8: Daudzdzīvokļu nams
B9: Objekta adrese: | C9: Mednieku iela 10, Ogre
B10: Pasūtītājs: | C10: Sabiedrība ar ierobežotu atbildību ''Ogres Namsaimnieks''
B11: Izpildītājs:
K14: Pretendenta piedāvātā darbu summa, Eur bez PVN:
A16: Nr. p.k. | B16: Darba nosaukums | C16: Mērvienība | D16: Daudzums | E16: Vienības izmaksas | I16: Kopā uz visu apjomu
E17: Darba alga (EUR) | F17: Materiāli (EUR) | G17: Mehānismi (EUR) | H17: Kopā (EUR) | I17: Darba alga (EUR) | J17: Materiāli (EUR) | K17: Mehānismi (EUR) | L17: Summa (EUR)
A19: 1 | B19: 2 | C19: 3 | D19: 4 | E19: 5 | F19: 6 | G19: 7 | H19: 8 | I19: 9 | J19: 10 | K19: 11 | L19: 12
B20: Elektromontāžas darbi
A21: 1 | B21: Demontāžas darbi (gaismekļi, kabeļi, slēdži) | C21: koml | D21: 1
A22: 2 | B22: Kabelis Cu 3x1,5 | C22: m | D22: 100
A23: 3 | B23: PVC caurule | C23: m | D23: 60
A24: 4 | B24: Gofrētā caurule | C24: m | D24: 10
A25: 5 | B25: Sadales kārba | C25: gb | D25: 6
A26: 6 | B26: Gaismekļis ar LED spuldzīti | C26: gb | D26: 9
A27: 7 | B27: Rozete | C27: gb | D27: 3
A28: 8 | B28: Slēdzis | C28: gb | D28: 3
A29: 9 | B29: Automātslēdzis B16 | C29: gb | D29: 4
A30: 10 | B30: Izolācijas pretestības mērījumi | C30: kompl. | D30: 1
A31: 11 | B31: Cilpas "fāze-nulle" pilnās pretestības mērījumi | C31: kompl. | D31: 1
A32: 12 | B32: Palīgmateriāli | C32: kompl. | D32: 3
A33: 13 | B33: Dokumentācija | C33: kompl. | D33: 1
A34: kopā EUR | I34: =SUM(I21:I33) -> 0 | J34: =SUM(J21:J33) -> 0 | K34: =SUM(K21:K33) -> 0 | L34: =SUM(L21:L33) -> 0

Sheet 12.Meža 4a
A1: 8. pielikums iepirkuma “Ēku elektroinstalācijas remonta darbi” (ID Nr.SIAON 2026/19-MI) nolikumam
A3: Tehniskā specifikācija un tehniskais piedāvājums
A5: Pagraba elektroinstalācijas un gaismekļu nomaiņas
A6: (Darba veids vai konstruktīvā elementa nosaukums)
B8: Būves nosaukums: | C8: Daudzdzīvokļu nams
B9: Objekta adrese: | C9: Meža 4a , Ogre
B10: Pasūtītājs: | C10: Sabiedrība ar ierobežotu atbildību ''Ogres Namsaimnieks''
B11: Izpildītājs:
K14: Pretendenta piedāvātā darbu summa, Eur bez PVN:
A16: Nr. p.k. | B16: Darba nosaukums | C16: Mērvienība | D16: Daudzums | E16: Vienības izmaksas | I16: Kopā uz visu apjomu
E17: Darba alga (EUR) | F17: Materiāli (EUR) | G17: Mehānismi (EUR) | H17: Kopā (EUR) | I17: Darba alga (EUR) | J17: Materiāli (EUR) | K17: Mehānismi (EUR) | L17: Summa (EUR)
A19: 1 | B19: 2 | C19: 3 | D19: 4 | E19: 5 | F19: 6 | G19: 7 | H19: 8 | I19: 9 | J19: 10 | K19: 11 | L19: 12
B20: Elektromontāžas darbi
A21: 1 | B21: Demontāžas darbi (gaismekļi, kabeļi, slēdži) | C21: koml | D21: 1
A22: 2 | B22: Kabelis Cu 3x1,5 | C22: m | D22: 200
A23: 3 | B23: PVC caurule | C23: m | D23: 200
A24: 4 | B24: Gofrētā caurule | C24: m | D24: 20
A25: 5 | B25: Sadales kārba | C25: gb | D25: 14
A26: 6 | B26: Gaismekļis ar LED spuldzīti | C26: gb | D26: 30
A27: 7 | B27: Rozete | C27: gb | D27: 6
A28: 8 | B28: Slēdzis | C28: gb | D28: 8
A29: 9 | B29: Palīgmateriāli | C29: kompl. | D29: 3
A30: 10 | B30: Izolācija pretestības mērījumi | C30: kmpl | D30: 1
A31: 11 | B31: Cilpas "fāze-nulle" pilnās pretestības mērījums | C31: kmpl | D31: 1
A32: 12 | B32: Dokumentācija | C32: kmpl | D32: 1
A33: kopā EUR | I33: =SUM(I21:I32) -> 0 | J33: =SUM(J21:J32) -> 0 | K33: =SUM(K21:K32) -> 0 | L33: =SUM(L21:L32) -> 0

Sheet 13.Parka 8
A1: 8. pielikums iepirkuma “Ēku elektroinstalācijas remonta darbi” (ID Nr.SIAON 2026/19-MI) nolikumam
A3: Tehniskā specifikācija un tehniskais piedāvājums
A5: Pagraba elektroinstalācijas remonts
A6: (Darba veids vai konstruktīvā elementa nosaukums)
B8: Būves nosaukums: | C8: Daudzdzīvokļu nams
B9: Objekta adrese: | C9: Parka iela 8, Ogre
B10: Pasūtītājs: | C10: Sabiedrība ar ierobežotu atbildību ''Ogres Namsaimnieks''
B11: Izpildītājs:
K14: Pretendenta piedāvātā darbu summa, Eur bez PVN:
A16: Nr. p.k. | B16: Darba nosaukums | C16: Mērvienība | D16: Daudzums | E16: Vienības izmaksas | I16: Kopā uz visu apjomu
E17: Darba alga (EUR) | F17: Materiāli (EUR) | G17: Mehānismi (EUR) | H17: Kopā (EUR) | I17: Darba alga (EUR) | J17: Materiāli (EUR) | K17: Mehānismi (EUR) | L17: Summa (EUR)
A19: 1 | B19: 2 | C19: 4 | D19: 5 | E19: 6 | F19: 7 | G19: 8 | H19: 9 | I19: 10 | J19: 11 | K19: 12 | L19: 13
B20: Elektromontāžas darbi
A21: 1 | B21: Demontāžas darbi (gaismekļi, kabeļi, slēdži) | C21: koml | D21: 1
A22: 2 | B22: Gaismekļis ar LED spuldzīti | C22: gab | D22: 35
A23: 3 | B23: Slēdzis | C23: gab | D23: 18
A24: 4 | B24: Kontaktligzdas | C24: gab | D24: 5
A25: 5 | B25: Kabelis Cu 3x1,5 mm2 | C25: m | D25: 350
A26: 6 | B26: Gofrēta caurule d=20 | C26: m | D26: 350
A27: 7 | B27: Nozarkārbas 75x75x36 | C27: gab | D27: 20
A28: 9 | B28: Palīgmateriāli | C28: kmpl | D28: 1
A29: 10 | B29: Izolācija pretestības mērījumi | C29: kmpl | D29: 1
A30: 11 | B30: Cilpas "fāze-nulle" pilnās pretestības mērījums | C30: kmpl | D30: 1
A31: 12 | B31: Termogrāfija | C31: kmpl | D31: 1
A32: 13 | B32: Dokumentācija | C32: kmpl | D32: 1
A33: kopā EUR | I33: =SUM(I21:I32) -> 0 | J33: =SUM(J21:J32) -> 0 | K33: =SUM(K21:K32) -> 0 | L33: =SUM(L21:L32) -> 0

Sheet 14.Tīnūžu 13
A1: 8. pielikums iepirkuma “Ēku elektroinstalācijas remonta darbi” (ID Nr.SIAON 2026/19-MI) nolikumam
A3: Tehniskā specifikācija un tehniskais piedāvājums
A5: Pagraba elektroinstalācijas remonts
A6: (Darba veids vai konstruktīvā elementa nosaukums)
B8: Būves nosaukums: | C8: Daudzdzīvokļu nams
B9: Objekta adrese: | C9: Tīnūžu iela 13, Ogre
B10: Pasūtītājs: | C10: Sabiedrība ar ierobežotu atbildību ''Ogres Namsaimnieks''
B11: Izpildītājs:
L14: Pretendenta piedāvātā darbu summa, Eur bez PVN:
A16: Nr. p.k. | B16: Darba nosaukums | C16: Tips | D16: Mērvienība | E16: Daudzums | F16: Vienības izmaksas | J16: Kopā uz visu apjomu
F17: Darba alga (EUR) | G17: Materiāli (EUR) | H17: Mehānismi (EUR) | I17: Kopā (EUR) | J17: Darba alga (EUR) | K17: Materiāli (EUR) | L17: Mehānismi (EUR) | M17: Summa (EUR)
A19: 1 | B19: 2 | C19: 3 | D19: 4 | E19: 5 | F19: 6 | G19: 7 | H19: 8 | I19: 9 | J19: 10 | K19: 11 | L19: 12 | M19: 13
B20: Elektromontāžas darbi
A21: 1 | B21: Demontāžas darbi (gaismekļi, kabeļi, slēdži) | D21: koml | E21: 1
A22: 2 | B22: Komunālās sadalne | D22: kmpl | E22: 1
A23: 3 | B23: Galvena sadalne (GS) | D23: kmpl | E23: 1
A24: 4 | B24: Palīgmateriāli | D24: kmpl | E24: 1
A25: 5 | B25: Izolācija pretestības mērījumi | D25: kmpl | E25: 1
A26: 6 | B26: Cilpas "fāze-nulle" pilnās pretestības mērījums | D26: kmpl | E26: 1
A27: 7 | B27: Termogrāfija | D27: kmpl | E27: 1
A28: 8 | B28: Dokumentācija | D28: kmpl | E28: 1
A29: kopā EUR | J29: =SUM(J21:J28) -> 0 | K29: =SUM(K21:K28) -> 0 | L29: =SUM(L21:L28) -> 0 | M29: =SUM(M21:M28) -> 0

Sheet 15.Tīnūžu 16
A2: Tehniskā specifikācija un tehniskais piedāvājums
A3: 8. pielikums iepirkuma “Ēku elektroinstalācijas remonta darbi” (ID Nr.SIAON 2026/19-MI) nolikumam
F4: Tehniskā specifikācija un tehniskais piedāvājums
A6: Pagrabā vecās elektroinstalācijas demontāža un jaunas ierīkošana ar LED gaismekļiem
A7: (Darba veids vai konstruktīvā elementa nosaukums)
B9: Būves nosaukums: | C9: Daudzdzīvokļu nams
B10: Objekta adrese: | C10: Tīnūžu iea 16, Ogre
B11: Pasūtītājs: | C11: Sabiedrība ar ierobežotu atbildību ''Ogres Namsaimnieks''
B12: Izpildītājs:
K15: Pretendenta piedāvātā darbu summa, Eur bez PVN:
A17: Nr. p.k. | B17: Darba nosaukums | C17: Mērvienība | D17: Daudzums | E17: Vienības izmaksas | I17: Kopā uz visu apjomu
E18: Darba alga (EUR) | F18: Materiāli (EUR) | G18: Mehānismi (EUR) | H18: Kopā (EUR) | I18: Darba alga (EUR) | J18: Materiāli (EUR) | K18: Mehānismi (EUR) | L18: Summa (EUR)
A20: 1 | B20: 2 | C20: 3 | D20: 4 | E20: 5 | F20: 6 | G20: 7 | H20: 8 | I20: 9 | J20: 10 | K20: 11 | L20: 12
B21: Elektromontāžas darbi
A22: 1 | B22: Demontāžas darbi (gaismekļi, kabeļi, slēdži) | C22: koml | D22: 1
A23: 2 | B23: Kabelis Cu 3x1,5 | C23: m | D23: 80
A24: 3 | B24: PVC caurule | C24: m | D24: 75
A25: 4 | B25: Gofrētā caurule | C25: m | D25: 5
A26: 5 | B26: Sadales kārba | C26: gb | D26: 12
A27: 6 | B27: Gaismekļis ar LED spuldzīti | C27: gb | D27: 28
A28: 7 | B28: Rozete | C28: gb | D28: 2
A29: 8 | B29: Slēdzis | C29: gb | D29: 5
A30: 9 | B30: Palīgmateriāli | C30: kmpl | D30: 1
A31: 10 | B31: Izolācija pretestības mērījumi | C31: kmpl | D31: 1
A32: 11 | B32: Cilpas "fāze-nulle" pilnās pretestības mērījums | C32: kmpl | D32: 1
A33: 12 | B33: Dokumentācija | C33: kmpl | D33: 1
A34: kopā EUR | I34: =SUM(I22:I33) -> 0 | J34: =SUM(J22:J33) -> 0 | K34: =SUM(K22:K33) -> 0 | L34: =SUM(L22:L33) -> 0

Sheet 16.Tīnūžu 16
A1: 8. pielikums iepirkuma “Ēku elektroinstalācijas remonta darbi” (ID Nr.SIAON 2026/19-MI) nolikumam
A3: Tehniskā specifikācija un tehniskais piedāvājums
A5: Bēniņu vecās elektroinstalācijas demontāža un jaunas ierīkošana ar LED gaismekļiem
A6: (Darba veids vai konstruktīvā elementa nosaukums)
B8: Būves nosaukums: | C8: Daudzdzīvokļu nams
B9: Objekta adrese: | C9: Tīnūžu iela 16, Ogre
B10: Pasūtītājs: | C10: Sabiedrība ar ierobežotu atbildību ''Ogres Namsaimnieks''
B11: Izpildītājs:
K13: Pretendenta piedāvātā darbu summa, Eur bez PVN:
A15: Nr. p.k. | B15: Darba nosaukums | C15: Mērvienība | D15: Daudzums | E15: Vienības izmaksas | I15: Kopā uz visu apjomu
E16: Darba alga (EUR) | F16: Materiāli (EUR) | G16: Mehānismi (EUR) | H16: Kopā (EUR) | I16: Darba alga (EUR) | J16: Materiāli (EUR) | K16: Mehānismi (EUR) | L16: Summa (EUR)
A18: 1 | B18: 2 | C18: 3 | D18: 4 | E18: 5 | F18: 6 | G18: 7 | H18: 8 | I18: 9 | J18: 10 | K18: 11 | L18: 12
B19: Elektromontāžas darbi
A20: 1 | B20: Demontāžas darbi (gaismekļi, kabeļi, slēdži) | C20: koml | D20: 1
A21: 2 | B21: Kabelis Cu 3x1,5 | C21: m | D21: 25
A22: 3 | B22: PVC caurule | C22: m | D22: 20
A23: 4 | B23: Gofrētā caurule | C23: m | D23: 5
A24: 5 | B24: Sadales kārba | C24: gb | D24: 4
A25: 6 | B25: Gaismekļis ar LED spuldzīti | C25: gb | D25: 6
A26: 7 | B26: Rozete | C26: gb | D26: 1
A27: 8 | B27: Slēdzis | C27: gb | D27: 2
A28: 9 | B28: Palīgmateriāli | C28: kmpl | D28: 1
A29: 10 | B29: Izolācija pretestības mērījumi | C29: kmpl | D29: 1
A30: 11 | B30: Cilpas "fāze-nulle" pilnās pretestības mērījums | C30: kmpl | D30: 1
A31: 12 | B31: Dokumentācija | C31: kmpl | D31: 1
A32: kopā EUR | I32: =SUM(I20:I31) -> 0 | J32: =SUM(J20:J31) -> 0 | K32: =SUM(K20:K31) -> 0 | L32: =SUM(L20:L31) -> 0

Sheet 17.Turkalnes 13
A1: 8. pielikums iepirkuma “Ēku elektroinstalācijas remonta darbi” (ID Nr.SIAON 2026/19-MI) nolikumam
A3: Tehniskā specifikācija un tehniskais piedāvājums
A5: Pagraba elektroinstalācijas maiņa
A6: (Darba veids vai konstruktīvā elementa nosaukums)
B8: Būves nosaukums: | C8: Daudzdzīvokļu nams
B9: Objekta adrese: | C9: Turkalnes iela 13, Ogre
B10: Pasūtītājs: | C10: Sabiedrība ar ierobežotu atbildību ''Ogres Namsaimnieks''
B11: Izpildītājs:
K14: Pretendenta piedāvātā darbu summa, Eur bez PVN:
A16: Nr. p.k. | B16: Darba nosaukums | C16: Mērvienība | D16: Daudzums | E16: Vienības izmaksas | I16: Kopā uz visu apjomu
E17: Darba alga (EUR) | F17: Materiāli (EUR) | G17: Mehānismi (EUR) | H17: Kopā (EUR) | I17: Darba alga (EUR) | J17: Materiāli (EUR) | K17: Mehānismi (EUR) | L17: Summa (EUR)
A19: 1 | B19: 2 | C19: 4 | D19: 5 | E19: 6 | F19: 7 | G19: 8 | H19: 9 | I19: 10 | J19: 11 | K19: 12 | L19: 13
B20: Elektromontāžas darbi
A21: 1 | B21: Demontāžas darbi (gaismekļi, kabeļi, slēdži) | C21: koml | D21: 1
A22: 2 | B22: Gaismekļis ar LED spuldzīti | C22: gab | D22: 16
A23: 3 | B23: Slēdzis | C23: gab | D23: 12
A24: 4 | B24: Kabelis Cu 3x1,5 mm2 | C24: m | D24: 200
A25: 5 | B25: PVC caurule | C25: m | D25: 200
A26: 6 | B26: Gofrēta caurule d=20 | C26: m | D26: 20
A27: 7 | B27: Nozarkārbas 75x75x36 | C27: gab | D27: 10
A28: 8 | B28: Rozetes | C28: gab | D28: 4
A29: 9 | B29: Palīgmateriāli | C29: kmpl | D29: 2
A30: 10 | B30: Izolācija pretestības mērījumi | C30: kmpl | D30: 1
A31: 11 | B31: Cilpas "fāze-nulle" pilnās pretestības mērījums | C31: kmpl | D31: 1
A32: 12 | B32: Dokumentācija | C32: kmpl | D32: 1
A33: kopā EUR | I33: =SUM(I21:I32) -> 0 | J33: =SUM(J21:J32) -> 0 | K33: =SUM(K21:K32) -> 0 | L33: =SUM(L21:L32) -> 0

Sheet 18.Uzvaras 4
A1: 8. pielikums iepirkuma “Ēku elektroinstalācijas remonta darbi” (ID Nr.SIAON 2026/19-MI) nolikumam
A3: Tehniskā specifikācija un tehniskais piedāvājums
A5: Elektrības stāvvadu remonts
A6: (Darba veids vai konstruktīvā elementa nosaukums)
B8: Būves nosaukums: | C8: Daudzdzīvokļu nams
B9: Objekta adrese: | C9: Uzvaras iela 4, Ogre
B10: Pasūtītājs: | C10: Sabiedrība ar ierobežotu atbildību ''Ogres Namsaimnieks''
B11: Izpildītājs:
K14: Pretendenta piedāvātā darbu summa, Eur bez PVN:
A16: Nr. p.k. | B16: Darba nosaukums | C16: Mērvienība | D16: Daudzums | E16: Vienības izmaksas | I16: Kopā uz visu apjomu
E17: Darba alga (EUR) | F17: Materiāli (EUR) | G17: Mehānismi (EUR) | H17: Kopā (EUR) | I17: Darba alga (EUR) | J17: Materiāli (EUR) | K17: Mehānismi (EUR) | L17: Summa (EUR)
A19: 1 | B19: 2 | C19: 3 | D19: 4 | E19: 5 | F19: 6 | G19: 7 | H19: 8 | I19: 9 | J19: 10 | K19: 11 | L19: 12
B20: Elektromontāžas darbi
A21: 1 | B21: Demontāžas darbi (gaismekļi, kabeļi, slēdži) | C21: koml | D21: 1
A22: 2 | B22: Kabelis Cu 4x10 | C22: m | D22: 40
A23: 3 | B23: Kabelis Cu 1x4 | C23: m | D23: 20
A24: 4 | B24: Stāvvadu spailes | C24: gb | D24: 22
A25: 5 | B25: Nulles pieslēguma klemmes | C25: gb | D25: 12
A26: 6 | B26: Automatslēdzis C20 | C26: gb | D26: 36
A27: 7 | B27: Montāžas sliede | C27: m | D27: 2
A28: 8 | B28: Palīgmateriāli | C28: kompl. | D28: 1
A29: 9 | B29: Izolācija pretestības mērījumi | C29: kmpl | D29: 1
A30: 10 | B30: Cilpas "fāze-nulle" pilnās pretestības mērījums | C30: kmpl | D30: 1
A31: 11 | B31: Dokumentācija | C31: kmpl | D31: 1
A32: kopā EUR | I32: =SUM(I21:I31) -> 0 | J32: =SUM(J21:J31) -> 0 | K32: =SUM(K21:K31) -> 0 | L32: =SUM(L21:L31) -> 0
